Workbook
Name COTE__DOMICILE: Listes!$C$2:$C$66
Name COTE_EXTERIEUR: Listes!$D$2:$D$66
Name COTES: Listes!$A:$A
Name ENSEMBLE: Listes!$C$2:$D$34
Name ENSENMBLE: Listes!$C$2:$D$66
Name EQUIVALENCE: Listes!$C$2:$D$66
Name FAVORIS: Listes!$C$2:$C$34
Name ODDS: Listes!$1:$1048576
Name OUTSIDE: Listes!$D$2:$D$34
Name OUTSIDER: Listes!$D$2:$D$34
Name TEAM: Listes!$A$2:$A$17

Sheet Général
A1: Parties | B1: Eq.Domicile | C1: C.Dom. | D1: S1 Dom. | E1: S2 Dom | F1: S3 Dom | G1: S4 Domi | H1: S5 Dom | J1: Parties | K1: Eq.Domicile | L1: C.Dom. | M1: S1 Dom. | N1: S2 Dom | O1: S3 Dom | P1: S4 Domi | Q1: S5 Dom | S1: Parties | T1: Eq.Domicile | U1: C.Dom. | V1: S1 Dom. | W1: S2 Dom | X1: S3 Dom | Y1: S4 Domi | Z1: S5 Dom
A2: Jours | B2: Eq.Extérieur | C2: C.Ext. | D2: S2 Ext. | E2: S2 Ext | F2: S3 Ext | G2: S4 Ext | H2: S5 Exte | J2: Jours | K2: Eq.Extérieur | L2: C.Ext. | M2: S2 Ext. | N2: S2 Ext | O2: S3 Ext | P2: S4 Ext | Q2: S5 Exte | S2: Jours | T2: Eq.Extérieur | U2: C.Ext. | V2: S2 Ext. | W2: S2 Ext | X2: S3 Ext | Y2: S4 Ext | Z2: S5 Exte
A4: 1 | B4: =IF(A5="","",VLOOKUP(INDIRECT(ADDRESS(ROW(),COLUMN()-1,2,2)),Donnéesbrutes!$A$3:$Q$101,4,FALSE)) | C4: =IF(A5="","",VLOOKUP(INDIRECT(ADDRESS(ROW(),COLUMN()-2,2,2)),Donnéesbrutes!$A$3:$Q$101,6,FALSE)) | D4: =IF(A5="","",VLOOKUP(INDIRECT(ADDRESS(ROW(),COLUMN()-3,2,2)),Donnéesbrutes!$A$3:$Q$101,8,FALSE)) | E4: =IF(A5="","",VLOOKUP(INDIRECT(ADDRESS(ROW(),COLUMN()-4,2,2)),Donnéesbrutes!$A$3:$Q$101,10,FALSE)) | F4: =IF(A5="","",VLOOKUP(INDIRECT(ADDRESS(ROW(),COLUMN()-5,2,2)),Donnéesbrutes!$A$3:$Q$101,12,FALSE)) | G4: =IF(A5="","",VLOOKUP(INDIRECT(ADDRESS(ROW(),COLUMN()-6,2,2)),Donnéesbrutes!$A$3:$Q$101,14,FALSE)) | H4: =IF(A5="","",VLOOKUP(INDIRECT(ADDRESS(ROW(),COLUMN()-7,2,2)),Donnéesbrutes!$A$3:$Q$101,16,FALSE)) | J4: 11 | K4: =IF(J5="","",VLOOKUP(INDIRECT(ADDRESS(ROW(),COLUMN()-1,2,2)),Donnéesbrutes!$A$3:$Q$101,4,FALSE)) | L4: =IF(J5="","",VLOOKUP(INDIRECT(ADDRESS(ROW(),COLUMN()-2,2,2)),Donnéesbrutes!$A$3:$Q$101,6,FALSE)) | M4: =IF(J5="","",VLOOKUP(INDIRECT(ADDRESS(ROW(),COLUMN()-3,2,2)),Donnéesbrutes!$A$3:$Q$101,8,FALSE)) | N4: =IF(J5="","",VLOOKUP(INDIRECT(ADDRESS(ROW(),COLUMN()-4,2,2)),Donnéesbrutes!$A$3:$Q$101,10,FALSE)) | O4: =IF(J5="","",VLOOKUP(INDIRECT(ADDRESS(ROW(),COLUMN()-5,2,2)),Donnéesbrutes!$A$3:$Q$101,12,FALSE)) | P4: =IF(J5="","",VLOOKUP(INDIRECT(ADDRESS(ROW(),COLUMN()-6,2,2)),Donnéesbrutes!$A$3:$Q$101,14,FALSE)) | Q4: =IF(J5="","",VLOOKUP(INDIRECT(ADDRESS(ROW(),COLUMN()-7,2,2)),Donnéesbrutes!$A$3:$Q$101,16,FALSE)) | S4: 21 | T4: =IF(S5="","",VLOOKUP(INDIRECT(ADDRESS(ROW(),COLUMN()-1,2,2)),Donnéesbrutes!$A$3:$Q$101,4,FALSE)) | U4: =IF(S5="","",VLOOKUP(INDIRECT(ADDRESS(ROW(),COLUMN()-2,2,2)),Donnéesbrutes!$A$3:$Q$101,6,FALSE)) | V4: =IF(S5="","",VLOOKUP(INDIRECT(ADDRESS(ROW(),COLUMN()-3,2,2)),Donnéesbrutes!$A$3:$Q$101,8,FALSE)) | W4: =IF(S5="","",VLOOKUP(INDIRECT(ADDRESS(ROW(),COLUMN()-4,2,2)),Donnéesbrutes!$A$3:$Q$101,10,FALSE)) | X4: =IF(S5="","",VLOOKUP(INDIRECT(ADDRESS(ROW(),COLUMN()-5,2,2)),Donnéesbrutes!$A$3:$Q$101,12,FALSE)) | Y4: =IF(S5="","",VLOOKUP(INDIRECT(ADDRESS(ROW(),COLUMN()-6,2,2)),Donnéesbrutes!$A$3:$Q$101,14,FALSE)) | Z4: =IF(S5="","",VLOOKUP(INDIRECT(ADDRESS(ROW(),COLUMN()-7,2,2)),Donnéesbrutes!$A$3:$Q$101,16,FALSE))
A5: =IF(ISNA(VLOOKUP(INDIRECT(ADDRESS(ROW()-1,COLUMN(),2,2)),Donnéesbrutes!$A$3:$Q$101,2,FALSE)),"",VLOOKUP(INDIRECT(ADDRESS(ROW()-1,1,2,2)),Donnéesbrutes!$A$3:$Q$101,2,FALSE)) | B5: =IF(A5="","",VLOOKUP(INDIRECT(ADDRESS(ROW()-1,COLUMN()-1,2,2)),Donnéesbrutes!$A$3:$Q$101,5,FALSE)) | C5: =IF(A5="","",VLOOKUP(INDIRECT(ADDRESS(ROW()-1,COLUMN()-2,2,2)),Donnéesbrutes!$A$3:$Q$101,7,FALSE)) | D5: =IF(A5="","",VLOOKUP(INDIRECT(ADDRESS(ROW()-1,COLUMN()-3,2,2)),Donnéesbrutes!$A$3:$Q$101,9,FALSE)) | E5: =IF(A5="","",VLOOKUP(INDIRECT(ADDRESS(ROW()-1,COLUMN()-4,2,2)),Donnéesbrutes!$A$3:$Q$101,11,FALSE)) | F5: =IF(A5="","",VLOOKUP(INDIRECT(ADDRESS(ROW()-1,COLUMN()-5,2,2)),Donnéesbrutes!$A$3:$Q$101,13,FALSE)) | G5: =IF(A5="","",VLOOKUP(INDIRECT(ADDRESS(ROW()-1,COLUMN()-6,2,2)),Donnéesbrutes!$A$3:$Q$101,15,FALSE)) | H5: =IF(A5="","",VLOOKUP(INDIRECT(ADDRESS(ROW()-1,COLUMN()-7,2,2)),Donnéesbrutes!$A$3:$Q$101,17,FALSE)) | J5: =IF(ISNA(VLOOKUP(INDIRECT(ADDRESS(ROW()-1,COLUMN(),2,2)),Donnéesbrutes!$A$3:$Q$101,2,FALSE)),"",VLOOKUP(INDIRECT(ADDRESS(ROW()-1,1,2,2)),Donnéesbrutes!$A$3:$Q$101,2,FALSE)) | K5: =IF(J5="","",VLOOKUP(INDIRECT(ADDRESS(ROW()-1,COLUMN()-1,2,2)),Donnéesbrutes!$A$3:$Q$101,5,FALSE)) | L5: =IF(J5="","",VLOOKUP(INDIRECT(ADDRESS(ROW()-1,COLUMN()-2,2,2)),Donnéesbrutes!$A$3:$Q$101,7,FALSE)) | M5: =IF(J5="","",VLOOKUP(INDIRECT(ADDRESS(ROW()-1,COLUMN()-3,2,2)),Donnéesbrutes!$A$3:$Q$101,9,FALSE)) | N5: =IF(J5="","",VLOOKUP(INDIRECT(ADDRESS(ROW()-1,COLUMN()-4,2,2)),Donnéesbrutes!$A$3:$Q$101,11,FALSE)) | O5: =IF(J5="","",VLOOKUP(INDIRECT(ADDRESS(ROW()-1,COLUMN()-5,2,2)),Donnéesbrutes!$A$3:$Q$101,13,FALSE)) | P5: =IF(J5="","",VLOOKUP(INDIRECT(ADDRESS(ROW()-1,COLUMN()-6,2,2)),Donnéesbrutes!$A$3:$Q$101,15,FALSE)) | Q5: =IF(J5="","",VLOOKUP(INDIRECT(ADDRESS(ROW()-1,COLUMN()-7,2,2)),Donnéesbrutes!$A$3:$Q$101,17,FALSE)) | S5: =IF(ISNA(VLOOKUP(INDIRECT(ADDRESS(ROW()-1,COLUMN(),2,2)),Donnéesbrutes!$A$3:$Q$101,2,FALSE)),"",VLOOKUP(INDIRECT(ADDRESS(ROW()-1,1,2,2)),Donnéesbrutes!$A$3:$Q$101,2,FALSE)) | T5: =IF(S5="","",VLOOKUP(INDIRECT(ADDRESS(ROW()-1,COLUMN()-1,2,2)),Donnéesbrutes!$A$3:$Q$101,5,FALSE)) | U5: =IF(S5="","",VLOOKUP(INDIRECT(ADDRESS(ROW()-1,COLUMN()-2,2,2)),Donnéesbrutes!$A$3:$Q$101,7,FALSE)) | V5: =IF(S5="","",VLOOKUP(INDIRECT(ADDRESS(ROW()-1,COLUMN()-3,2,2)),Donnéesbrutes!$A$3:$Q$101,9,FALSE)) | W5: =IF(S5="","",VLOOKUP(INDIRECT(ADDRESS(ROW()-1,COLUMN()-4,2,2)),Donnéesbrutes!$A$3:$Q$101,11,FALSE)) | X5: =IF(S5="","",VLOOKUP(INDIRECT(ADDRESS(ROW()-1,COLUMN()-5,2,2)),Donnéesbrutes!$A$3:$Q$101,13,FALSE)) | Y5: =IF(S5="","",VLOOKUP(INDIRECT(ADDRESS(ROW()-1,COLUMN()-6,2,2)),Donnéesbrutes!$A$3:$Q$101,15,FALSE)) | Z5: =IF(S5="","",VLOOKUP(INDIRECT(ADDRESS(ROW()-1,COLUMN()-7,2,2)),Donnéesbrutes!$A$3:$Q$101,17,FALSE))
A6: =A5 | B6: =IF(A5="","",VLOOKUP(INDIRECT(ADDRESS(ROW()-2,COLUMN()-1,2,2)),Donnéesbrutes!$A$3:$Q$101,3,FALSE)) | J6: =J5 | K6: =IF(J5="","",VLOOKUP(INDIRECT(ADDRESS(ROW()-2,COLUMN()-1,2,2)),Donnéesbrutes!$A$3:$Q$101,3,FALSE)) | S6: =S5 | T6: =IF(S5="","",VLOOKUP(INDIRECT(ADDRESS(ROW()-2,COLUMN()-1,2,2)),Donnéesbrutes!$A$3:$Q$101,3,FALSE))
A8: 2 | B8: =IF($A9="","",VLOOKUP(INDIRECT(ADDRESS(ROW(),1,2,2)),Donnéesbrutes!$A$3:$Q$101,4,FALSE)) | C8: =IF($A9="","",VLOOKUP(INDIRECT(ADDRESS(ROW(),1,2,2)),Donnéesbrutes!$A$3:$Q$101,6,FALSE)) | D8: =IF($A9="","",VLOOKUP(INDIRECT(ADDRESS(ROW(),1,2,2)),Donnéesbrutes!$A$3:$Q$101,8,FALSE)) | E8: =IF($A9="","",VLOOKUP(INDIRECT(ADDRESS(ROW(),1,2,2)),Donnéesbrutes!$A$3:$Q$101,10,FALSE)) | F8: =IF($A9="","",VLOOKUP(INDIRECT(ADDRESS(ROW(),1,2,2)),Donnéesbrutes!$A$3:$Q$101,12,FALSE)) | G8: =IF($A9="","",VLOOKUP(INDIRECT(ADDRESS(ROW(),1,2,2)),Donnéesbrutes!$A$3:$Q$101,14,FALSE)) | H8: =IF($A9="","",VLOOKUP(INDIRECT(ADDRESS(ROW(),1,2,2)),Donnéesbrutes!$A$3:$Q$101,16,FALSE)) | J8: 12 | K8: =IF(J9="","",VLOOKUP(INDIRECT(ADDRESS(ROW(),COLUMN()-1,2,2)),Donnéesbrutes!$A$3:$Q$101,4,FALSE)) | L8: =IF(J9="","",VLOOKUP(INDIRECT(ADDRESS(ROW(),COLUMN()-2,2,2)),Donnéesbrutes!$A$3:$Q$101,6,FALSE)) | M8: =IF(J9="","",VLOOKUP(INDIRECT(ADDRESS(ROW(),COLUMN()-3,2,2)),Donnéesbrutes!$A$3:$Q$101,8,FALSE)) | N8: =IF(J9="","",VLOOKUP(INDIRECT(ADDRESS(ROW(),COLUMN()-4,2,2)),Donnéesbrutes!$A$3:$Q$101,10,FALSE)) | O8: =IF(J9="","",VLOOKUP(INDIRECT(ADDRESS(ROW(),COLUMN()-5,2,2)),Donnéesbrutes!$A$3:$Q$101,12,FALSE)) | P8: =IF(J9="","",VLOOKUP(INDIRECT(ADDRESS(ROW(),COLUMN()-6,2,2)),Donnéesbrutes!$A$3:$Q$101,14,FALSE)) | Q8: =IF(J9="","",VLOOKUP(INDIRECT(ADDRESS(ROW(),COLUMN()-7,2,2)),Donnéesbrutes!$A$3:$Q$101,16,FALSE)) | S8: 22 | T8: =IF(S9="","",VLOOKUP(INDIRECT(ADDRESS(ROW(),COLUMN()-1,2,2)),Donnéesbrutes!$A$3:$Q$101,4,FALSE)) | U8: =IF(S9="","",VLOOKUP(INDIRECT(ADDRESS(ROW(),COLUMN()-2,2,2)),Donnéesbrutes!$A$3:$Q$101,6,FALSE)) | V8: =IF(S9="","",VLOOKUP(INDIRECT(ADDRESS(ROW(),COLUMN()-3,2,2)),Donnéesbrutes!$A$3:$Q$101,8,FALSE)) | W8: =IF(S9="","",VLOOKUP(INDIRECT(ADDRESS(ROW(),COLUMN()-4,2,2)),Donnéesbrutes!$A$3:$Q$101,10,FALSE)) | X8: =IF(S9="","",VLOOKUP(INDIRECT(ADDRESS(ROW(),COLUMN()-5,2,2)),Donnéesbrutes!$A$3:$Q$101,12,FALSE)) | Y8: =IF(S9="","",VLOOKUP(INDIRECT(ADDRESS(ROW(),COLUMN()-6,2,2)),Donnéesbrutes!$A$3:$Q$101,14,FALSE)) | Z8: =IF(S9="","",VLOOKUP(INDIRECT(ADDRESS(ROW(),COLUMN()-7,2,2)),Donnéesbrutes!$A$3:$Q$101,16,FALSE))
A9: =IF(ISNA(VLOOKUP(INDIRECT(ADDRESS(ROW()-1,1,2,2)),Donnéesbrutes!$A$3:$Q$101,2,FALSE)),"",VLOOKUP(INDIRECT(ADDRESS(ROW()-1,1,2,2)),Donnéesbrutes!$A$3:$Q$101,2,FALSE)) | B9: =IF($A9="","",VLOOKUP(INDIRECT(ADDRESS(ROW()-1,1,2,2)),Donnéesbrutes!$A$3:$Q$101,5,FALSE)) | C9: =IF($A9="","",VLOOKUP(INDIRECT(ADDRESS(ROW()-1,1,2,2)),Donnéesbrutes!$A$3:$Q$101,7,FALSE)) | D9: =IF($A9="","",VLOOKUP(INDIRECT(ADDRESS(ROW()-1,1,2,2)),Donnéesbrutes!$A$3:$Q$101,9,FALSE)) | E9: =IF($A9="","",VLOOKUP(INDIRECT(ADDRESS(ROW()-1,1,2,2)),Donnéesbrutes!$A$3:$Q$101,11,FALSE)) | F9: =IF($A9="","",VLOOKUP(INDIRECT(ADDRESS(ROW()-1,1,2,2)),Donnéesbrutes!$A$3:$Q$101,13,FALSE)) | G9: =IF($A9="","",VLOOKUP(INDIRECT(ADDRESS(ROW()-1,1,2,2)),Donnéesbrutes!$A$3:$Q$101,15,FALSE)) | H9: =IF($A9="","",VLOOKUP(INDIRECT(ADDRESS(ROW()-1,1,2,2)),Donnéesbrutes!$A$3:$Q$101,17,FALSE)) | J9: =IF(ISNA(VLOOKUP(INDIRECT(ADDRESS(ROW()-1,COLUMN(),2,2)),Donnéesbrutes!$A$3:$Q$101,2,FALSE)),"",VLOOKUP(INDIRECT(ADDRESS(ROW()-1,1,2,2)),Donnéesbrutes!$A$3:$Q$101,2,FALSE)) | K9: =IF(J9="","",VLOOKUP(INDIRECT(ADDRESS(ROW()-1,COLUMN()-1,2,2)),Donnéesbrutes!$A$3:$Q$101,5,FALSE)) | L9: =IF(J9="","",VLOOKUP(INDIRECT(ADDRESS(ROW()-1,COLUMN()-2,2,2)),Donnéesbrutes!$A$3:$Q$101,7,FALSE)) | M9: =IF(J9="","",VLOOKUP(INDIRECT(ADDRESS(ROW()-1,COLUMN()-3,2,2)),Donnéesbrutes!$A$3:$Q$101,9,FALSE)) | N9: =IF(J9="","",VLOOKUP(INDIRECT(ADDRESS(ROW()-1,COLUMN()-4,2,2)),Donnéesbrutes!$A$3:$Q$101,11,FALSE)) | O9: =IF(J9="","",VLOOKUP(INDIRECT(ADDRESS(ROW()-1,COLUMN()-5,2,2)),Donnéesbrutes!$A$3:$Q$101,13,FALSE)) | P9: =IF(J9="","",VLOOKUP(INDIRECT(ADDRESS(ROW()-1,COLUMN()-6,2,2)),Donnéesbrutes!$A$3:$Q$101,15,FALSE)) | Q9: =IF(J9="","",VLOOKUP(INDIRECT(ADDRESS(ROW()-1,COLUMN()-7,2,2)),Donnéesbrutes!$A$3:$Q$101,17,FALSE)) | S9: =IF(ISNA(VLOOKUP(INDIRECT(ADDRESS(ROW()-1,COLUMN(),2,2)),Donnéesbrutes!$A$3:$Q$101,2,FALSE)),"",VLOOKUP(INDIRECT(ADDRESS(ROW()-1,1,2,2)),Donnéesbrutes!$A$3:$Q$101,2,FALSE)) | T9: =IF(S9="","",VLOOKUP(INDIRECT(ADDRESS(ROW()-1,COLUMN()-1,2,2)),Donnéesbrutes!$A$3:$Q$101,5,FALSE)) | U9: =IF(S9="","",VLOOKUP(INDIRECT(ADDRESS(ROW()-1,COLUMN()-2,2,2)),Donnéesbrutes!$A$3:$Q$101,7,FALSE)) | V9: =IF(S9="","",VLOOKUP(INDIRECT(ADDRESS(ROW()-1,COLUMN()-3,2,2)),Donnéesbrutes!$A$3:$Q$101,9,FALSE)) | W9: =IF(S9="","",VLOOKUP(INDIRECT(ADDRESS(ROW()-1,COLUMN()-4,2,2)),Donnéesbrutes!$A$3:$Q$101,11,FALSE)) | X9: =IF(S9="","",VLOOKUP(INDIRECT(ADDRESS(ROW()-1,COLUMN()-5,2,2)),Donnéesbrutes!$A$3:$Q$101,13,FALSE)) | Y9: =IF(S9="","",VLOOKUP(INDIRECT(ADDRESS(ROW()-1,COLUMN()-6,2,2)),Donnéesbrutes!$A$3:$Q$101,15,FALSE)) | Z9: =IF(S9="","",VLOOKUP(INDIRECT(ADDRESS(ROW()-1,COLUMN()-7,2,2)),Donnéesbrutes!$A$3:$Q$101,17,FALSE))
A10: =A9 | B10: =IF(A9="","",VLOOKUP(INDIRECT(ADDRESS(ROW()-2,1,2,2)),Donnéesbrutes!$A$3:$Q$101,3,FALSE)) | J10: =J9 | K10: =IF(J9="","",VLOOKUP(INDIRECT(ADDRESS(ROW()-2,COLUMN()-1,2,2)),Donnéesbrutes!$A$3:$Q$101,3,FALSE)) | S10: =S9 | T10: =IF(S9="","",VLOOKUP(INDIRECT(ADDRESS(ROW()-2,COLUMN()-1,2,2)),Donnéesbrutes!$A$3:$Q$101,3,FALSE))
A12: 3 | B12: =IF($A13="","",VLOOKUP(INDIRECT(ADDRESS(ROW(),1,2,2)),Donnéesbrutes!$A$3:$Q$101,4,FALSE)) | C12: =IF($A13="","",VLOOKUP(INDIRECT(ADDRESS(ROW(),1,2,2)),Donnéesbrutes!$A$3:$Q$101,6,FALSE)) | D12: =IF($A13="","",VLOOKUP(INDIRECT(ADDRESS(ROW(),1,2,2)),Donnéesbrutes!$A$3:$Q$101,8,FALSE)) | E12: =IF($A13="","",VLOOKUP(INDIRECT(ADDRESS(ROW(),1,2,2)),Donnéesbrutes!$A$3:$Q$101,10,FALSE)) | F12: =IF($A13="","",VLOOKUP(INDIRECT(ADDRESS(ROW(),1,2,2)),Donnéesbrutes!$A$3:$Q$101,12,FALSE)) | G12: =IF($A13="","",VLOOKUP(INDIRECT(ADDRESS(ROW(),1,2,2)),Donnéesbrutes!$A$3:$Q$101,14,FALSE)) | H12: =IF($A13="","",VLOOKUP(INDIRECT(ADDRESS(ROW(),1,2,2)),Donnéesbrutes!$A$3:$Q$101,16,FALSE)) | J12: 13 | K12: =IF(J13="","",VLOOKUP(INDIRECT(ADDRESS(ROW(),COLUMN()-1,2,2)),Donnéesbrutes!$A$3:$Q$101,4,FALSE)) | L12: =IF(J13="","",VLOOKUP(INDIRECT(ADDRESS(ROW(),COLUMN()-2,2,2)),Donnéesbrutes!$A$3:$Q$101,6,FALSE)) | M12: =IF(J13="","",VLOOKUP(INDIRECT(ADDRESS(ROW(),COLUMN()-3,2,2)),Donnéesbrutes!$A$3:$Q$101,8,FALSE)) | N12: =IF(J13="","",VLOOKUP(INDIRECT(ADDRESS(ROW(),COLUMN()-4,2,2)),Donnéesbrutes!$A$3:$Q$101,10,FALSE)) | O12: =IF(J13="","",VLOOKUP(INDIRECT(ADDRESS(ROW(),COLUMN()-5,2,2)),Donnéesbrutes!$A$3:$Q$101,12,FALSE)) | P12: =IF(J13="","",VLOOKUP(INDIRECT(ADDRESS(ROW(),COLUMN()-6,2,2)),Donnéesbrutes!$A$3:$Q$101,14,FALSE)) | Q12: =IF(J13="","",VLOOKUP(INDIRECT(ADDRESS(ROW(),COLUMN()-7,2,2)),Donnéesbrutes!$A$3:$Q$101,16,FALSE)) | S12: 23 | T12: =IF(S13="","",VLOOKUP(INDIRECT(ADDRESS(ROW(),COLUMN()-1,2,2)),Donnéesbrutes!$A$3:$Q$101,4,FALSE)) | U12: =IF(S13="","",VLOOKUP(INDIRECT(ADDRESS(ROW(),COLUMN()-2,2,2)),Donnéesbrutes!$A$3:$Q$101,6,FALSE)) | V12: =IF(S13="","",VLOOKUP(INDIRECT(ADDRESS(ROW(),COLUMN()-3,2,2)),Donnéesbrutes!$A$3:$Q$101,8,FALSE)) | W12: =IF(S13="","",VLOOKUP(INDIRECT(ADDRESS(ROW(),COLUMN()-4,2,2)),Donnéesbrutes!$A$3:$Q$101,10,FALSE)) | X12: =IF(S13="","",VLOOKUP(INDIRECT(ADDRESS(ROW(),COLUMN()-5,2,2)),Donnéesbrutes!$A$3:$Q$101,12,FALSE)) | Y12: =IF(S13="","",VLOOKUP(INDIRECT(ADDRESS(ROW(),COLUMN()-6,2,2)),Donnéesbrutes!$A$3:$Q$101,14,FALSE)) | Z12: =IF(S13="","",VLOOKUP(INDIRECT(ADDRESS(ROW(),COLUMN()-7,2,2)),Donnéesbrutes!$A$3:$Q$101,16,FALSE))
A13: =IF(ISNA(VLOOKUP(INDIRECT(ADDRESS(ROW()-1,1,2,2)),Donnéesbrutes!$A$3:$Q$101,2,FALSE)),"",VLOOKUP(INDIRECT(ADDRESS(ROW()-1,1,2,2)),Donnéesbrutes!$A$3:$Q$101,2,FALSE)) | B13: =IF($A13="","",VLOOKUP(INDIRECT(ADDRESS(ROW()-1,1,2,2)),Donnéesbrutes!$A$3:$Q$101,5,FALSE)) | C13: =IF($A13="","",VLOOKUP(INDIRECT(ADDRESS(ROW()-1,1,2,2)),Donnéesbrutes!$A$3:$Q$101,7,FALSE)) | D13: =IF($A13="","",VLOOKUP(INDIRECT(ADDRESS(ROW()-1,1,2,2)),Donnéesbrutes!$A$3:$Q$101,9,FALSE)) | E13: =IF($A13="","",VLOOKUP(INDIRECT(ADDRESS(ROW()-1,1,2,2)),Donnéesbrutes!$A$3:$Q$101,11,FALSE)) | F13: =IF($A13="","",VLOOKUP(INDIRECT(ADDRESS(ROW()-1,1,2,2)),Donnéesbrutes!$A$3:$Q$101,13,FALSE)) | G13: =IF($A13="","",VLOOKUP(INDIRECT(ADDRESS(ROW()-1,1,2,2)),Donnéesbrutes!$A$3:$Q$101,15,FALSE)) | H13: =IF($A13="","",VLOOKUP(INDIRECT(ADDRESS(ROW()-1,1,2,2)),Donnéesbrutes!$A$3:$Q$101,17,FALSE)) | J13: =IF(ISNA(VLOOKUP(INDIRECT(ADDRESS(ROW()-1,COLUMN(),2,2)),Donnéesbrutes!$A$3:$Q$101,2,FALSE)),"",VLOOKUP(INDIRECT(ADDRESS(ROW()-1,1,2,2)),Donnéesbrutes!$A$3:$Q$101,2,FALSE)) | K13: =IF(J13="","",VLOOKUP(INDIRECT(ADDRESS(ROW()-1,COLUMN()-1,2,2)),Donnéesbrutes!$A$3:$Q$101,5,FALSE)) | L13: =IF(J13="","",VLOOKUP(INDIRECT(ADDRESS(ROW()-1,COLUMN()-2,2,2)),Donnéesbrutes!$A$3:$Q$101,7,FALSE)) | M13: =IF(J13="","",VLOOKUP(INDIRECT(ADDRESS(ROW()-1,COLUMN()-3,2,2)),Donnéesbrutes!$A$3:$Q$101,9,FALSE)) | N13: =IF(J13="","",VLOOKUP(INDIRECT(ADDRESS(ROW()-1,COLUMN()-4,2,2)),Donnéesbrutes!$A$3:$Q$101,11,FALSE)) | O13: =IF(J13="","",VLOOKUP(INDIRECT(ADDRESS(ROW()-1,COLUMN()-5,2,2)),Donnéesbrutes!$A$3:$Q$101,13,FALSE)) | P13: =IF(J13="","",VLOOKUP(INDIRECT(ADDRESS(ROW()-1,COLUMN()-6,2,2)),Donnéesbrutes!$A$3:$Q$101,15,FALSE)) | Q13: =IF(J13="","",VLOOKUP(INDIRECT(ADDRESS(ROW()-1,COLUMN()-7,2,2)),Donnéesbrutes!$A$3:$Q$101,17,FALSE)) | S13: =IF(ISNA(VLOOKUP(INDIRECT(ADDRESS(ROW()-1,COLUMN(),2,2)),Donnéesbrutes!$A$3:$Q$101,2,FALSE)),"",VLOOKUP(INDIRECT(ADDRESS(ROW()-1,1,2,2)),Donnéesbrutes!$A$3:$Q$101,2,FALSE)) | T13: =IF(S13="","",VLOOKUP(INDIRECT(ADDRESS(ROW()-1,COLUMN()-1,2,2)),Donnéesbrutes!$A$3:$Q$101,5,FALSE)) | U13: =IF(S13="","",VLOOKUP(INDIRECT(ADDRESS(ROW()-1,COLUMN()-2,2,2)),Donnéesbrutes!$A$3:$Q$101,7,FALSE)) | V13: =IF(S13="","",VLOOKUP(INDIRECT(ADDRESS(ROW()-1,COLUMN()-3,2,2)),Donnéesbrutes!$A$3:$Q$101,9,FALSE)) | W13: =IF(S13="","",VLOOKUP(INDIRECT(ADDRESS(ROW()-1,COLUMN()-4,2,2)),Donnéesbrutes!$A$3:$Q$101,11,FALSE)) | X13: =IF(S13="","",VLOOKUP(INDIRECT(ADDRESS(ROW()-1,COLUMN()-5,2,2)),Donnéesbrutes!$A$3:$Q$101,13,FALSE)) | Y13: =IF(S13="","",VLOOKUP(INDIRECT(ADDRESS(ROW()-1,COLUMN()-6,2,2)),Donnéesbrutes!$A$3:$Q$101,15,FALSE)) | Z13: =IF(S13="","",VLOOKUP(INDIRECT(ADDRESS(ROW()-1,COLUMN()-7,2,2)),Donnéesbrutes!$A$3:$Q$101,17,FALSE))
A14: =A13 | B14: =IF(A13="","",VLOOKUP(INDIRECT(ADDRESS(ROW()-2,1,2,2)),Donnéesbrutes!$A$3:$Q$101,3,FALSE)) | J14: =J13 | K14: =IF(J13="","",VLOOKUP(INDIRECT(ADDRESS(ROW()-2,COLUMN()-1,2,2)),Donnéesbrutes!$A$3:$Q$101,3,FALSE)) | S14: =S13 | T14: =IF(S13="","",VLOOKUP(INDIRECT(ADDRESS(ROW()-2,COLUMN()-1,2,2)),Donnéesbrutes!$A$3:$Q$101,3,FALSE))
A16: 4 | B16: =IF($A17="","",VLOOKUP(INDIRECT(ADDRESS(ROW(),1,2,2)),Donnéesbrutes!$A$3:$Q$101,4,FALSE)) | C16: =IF($A17="","",VLOOKUP(INDIRECT(ADDRESS(ROW(),1,2,2)),Donnéesbrutes!$A$3:$Q$101,6,FALSE)) | D16: =IF($A17="","",VLOOKUP(INDIRECT(ADDRESS(ROW(),1,2,2)),Donnéesbrutes!$A$3:$Q$101,8,FALSE)) | E16: =IF($A17="","",VLOOKUP(INDIRECT(ADDRESS(ROW(),1,2,2)),Donnéesbrutes!$A$3:$Q$101,10,FALSE)) | F16: =IF($A17="","",VLOOKUP(INDIRECT(ADDRESS(ROW(),1,2,2)),Donnéesbrutes!$A$3:$Q$101,12,FALSE)) | G16: =IF($A17="","",VLOOKUP(INDIRECT(ADDRESS(ROW(),1,2,2)),Donnéesbrutes!$A$3:$Q$101,14,FALSE)) | H16: =IF($A17="","",VLOOKUP(INDIRECT(ADDRESS(ROW(),1,2,2)),Donnéesbrutes!$A$3:$Q$101,16,FALSE)) | J16: 14 | K16: =IF(J17="","",VLOOKUP(INDIRECT(ADDRESS(ROW(),COLUMN()-1,2,2)),Donnéesbrutes!$A$3:$Q$101,4,FALSE)) | L16: =IF(J17="","",VLOOKUP(INDIRECT(ADDRESS(ROW(),COLUMN()-2,2,2)),Donnéesbrutes!$A$3:$Q$101,6,FALSE)) | M16: =IF(J17="","",VLOOKUP(INDIRECT(ADDRESS(ROW(),COLUMN()-3,2,2)),Donnéesbrutes!$A$3:$Q$101,8,FALSE)) | N16: =IF(J17="","",VLOOKUP(INDIRECT(ADDRESS(ROW(),COLUMN()-4,2,2)),Donnéesbrutes!$A$3:$Q$101,10,FALSE)) | O16: =IF(J17="","",VLOOKUP(INDIRECT(ADDRESS(ROW(),COLUMN()-5,2,2)),Donnéesbrutes!$A$3:$Q$101,12,FALSE)) | P16: =IF(J17="","",VLOOKUP(INDIRECT(ADDRESS(ROW(),COLUMN()-6,2,2)),Donnéesbrutes!$A$3:$Q$101,14,FALSE)) | Q16: =IF(J17="","",VLOOKUP(INDIRECT(ADDRESS(ROW(),COLUMN()-7,2,2)),Donnéesbrutes!$A$3:$Q$101,16,FALSE)) | S16: 24 | T16: =IF(S17="","",VLOOKUP(INDIRECT(ADDRESS(ROW(),COLUMN()-1,2,2)),Donnéesbrutes!$A$3:$Q$101,4,FALSE)) | U16: =IF(S17="","",VLOOKUP(INDIRECT(ADDRESS(ROW(),COLUMN()-2,2,2)),Donnéesbrutes!$A$3:$Q$101,6,FALSE)) | V16: =IF(S17="","",VLOOKUP(INDIRECT(ADDRESS(ROW(),COLUMN()-3,2,2)),Donnéesbrutes!$A$3:$Q$101,8,FALSE)) | W16: =IF(S17="","",VLOOKUP(INDIRECT(ADDRESS(ROW(),COLUMN()-4,2,2)),Donnéesbrutes!$A$3:$Q$101,10,FALSE)) | X16: =IF(S17="","",VLOOKUP(INDIRECT(ADDRESS(ROW(),COLUMN()-5,2,2)),Donnéesbrutes!$A$3:$Q$101,12,FALSE)) | Y16: =IF(S17="","",VLOOKUP(INDIRECT(ADDRESS(ROW(),COLUMN()-6,2,2)),Donnéesbrutes!$A$3:$Q$101,14,FALSE)) | Z16: =IF(S17="","",VLOOKUP(INDIRECT(ADDRESS(ROW(),COLUMN()-7,2,2)),Donnéesbrutes!$A$3:$Q$101,16,FALSE))
A17: =IF(ISNA(VLOOKUP(INDIRECT(ADDRESS(ROW()-1,1,2,2)),Donnéesbrutes!$A$3:$Q$101,2,FALSE)),"",VLOOKUP(INDIRECT(ADDRESS(ROW()-1,1,2,2)),Donnéesbrutes!$A$3:$Q$101,2,FALSE)) | B17: =IF($A17="","",VLOOKUP(INDIRECT(ADDRESS(ROW()-1,1,2,2)),Donnéesbrutes!$A$3:$Q$101,5,FALSE)) | C17: =IF($A17="","",VLOOKUP(INDIRECT(ADDRESS(ROW()-1,1,2,2)),Donnéesbrutes!$A$3:$Q$101,7,FALSE)) | D17: =IF($A17="","",VLOOKUP(INDIRECT(ADDRESS(ROW()-1,1,2,2)),Donnéesbrutes!$A$3:$Q$101,9,FALSE)) | E17: =IF($A17="","",VLOOKUP(INDIRECT(ADDRESS(ROW()-1,1,2,2)),Donnéesbrutes!$A$3:$Q$101,11,FALSE)) | F17: =IF($A17="","",VLOOKUP(INDIRECT(ADDRESS(ROW()-1,1,2,2)),Donnéesbrutes!$A$3:$Q$101,13,FALSE)) | G17: =IF($A17="","",VLOOKUP(INDIRECT(ADDRESS(ROW()-1,1,2,2)),Donnéesbrutes!$A$3:$Q$101,15,FALSE)) | H17: =IF($A17="","",VLOOKUP(INDIRECT(ADDRESS(ROW()-1,1,2,2)),Donnéesbrutes!$A$3:$Q$101,17,FALSE)) | J17: =IF(ISNA(VLOOKUP(INDIRECT(ADDRESS(ROW()-1,COLUMN(),2,2)),Donnéesbrutes!$A$3:$Q$101,2,FALSE)),"",VLOOKUP(INDIRECT(ADDRESS(ROW()-1,1,2,2)),Donnéesbrutes!$A$3:$Q$101,2,FALSE)) | K17: =IF(J17="","",VLOOKUP(INDIRECT(ADDRESS(ROW()-1,COLUMN()-1,2,2)),Donnéesbrutes!$A$3:$Q$101,5,FALSE)) | L17: =IF(J17="","",VLOOKUP(INDIRECT(ADDRESS(ROW()-1,COLUMN()-2,2,2)),Donnéesbrutes!$A$3:$Q$101,7,FALSE)) | M17: =IF(J17="","",VLOOKUP(INDIRECT(ADDRESS(ROW()-1,COLUMN()-3,2,2)),Donnéesbrutes!$A$3:$Q$101,9,FALSE)) | N17: =IF(J17="","",VLOOKUP(INDIRECT(ADDRESS(ROW()-1,COLUMN()-4,2,2)),Donnéesbrutes!$A$3:$Q$101,11,FALSE)) | O17: =IF(J17="","",VLOOKUP(INDIRECT(ADDRESS(ROW()-1,COLUMN()-5,2,2)),Donnéesbrutes!$A$3:$Q$101,13,FALSE)) | P17: =IF(J17="","",VLOOKUP(INDIRECT(ADDRESS(ROW()-1,COLUMN()-6,2,2)),Donnéesbrutes!$A$3:$Q$101,15,FALSE)) | Q17: =IF(J17="","",VLOOKUP(INDIRECT(ADDRESS(ROW()-1,COLUMN()-7,2,2)),Donnéesbrutes!$A$3:$Q$101,17,FALSE)) | S17: =IF(ISNA(VLOOKUP(INDIRECT(ADDRESS(ROW()-1,COLUMN(),2,2)),Donnéesbrutes!$A$3:$Q$101,2,FALSE)),"",VLOOKUP(INDIRECT(ADDRESS(ROW()-1,1,2,2)),Donnéesbrutes!$A$3:$Q$101,2,FALSE)) | T17: =IF(S17="","",VLOOKUP(INDIRECT(ADDRESS(ROW()-1,COLUMN()-1,2,2)),Donnéesbrutes!$A$3:$Q$101,5,FALSE)) | U17: =IF(S17="","",VLOOKUP(INDIRECT(ADDRESS(ROW()-1,COLUMN()-2,2,2)),Donnéesbrutes!$A$3:$Q$101,7,FALSE)) | V17: =IF(S17="","",VLOOKUP(INDIRECT(ADDRESS(ROW()-1,COLUMN()-3,2,2)),Donnéesbrutes!$A$3:$Q$101,9,FALSE)) | W17: =IF(S17="","",VLOOKUP(INDIRECT(ADDRESS(ROW()-1,COLUMN()-4,2,2)),Donnéesbrutes!$A$3:$Q$101,11,FALSE)) | X17: =IF(S17="","",VLOOKUP(INDIRECT(ADDRESS(ROW()-1,COLUMN()-5,2,2)),Donnéesbrutes!$A$3:$Q$101,13,FALSE)) | Y17: =IF(S17="","",VLOOKUP(INDIRECT(ADDRESS(ROW()-1,COLUMN()-6,2,2)),Donnéesbrutes!$A$3:$Q$101,15,FALSE)) | Z17: =IF(S17="","",VLOOKUP(INDIRECT(ADDRESS(ROW()-1,COLUMN()-7,2,2)),Donnéesbrutes!$A$3:$Q$101,17,FALSE))
A18: =A17 | B18: =IF(A17="","",VLOOKUP(INDIRECT(ADDRESS(ROW()-2,1,2,2)),Donnéesbrutes!$A$3:$Q$101,3,FALSE)) | J18: =J17 | K18: =IF(J17="","",VLOOKUP(INDIRECT(ADDRESS(ROW()-2,COLUMN()-1,2,2)),Donnéesbrutes!$A$3:$Q$101,3,FALSE)) | S18: =S17 | T18: =IF(S17="","",VLOOKUP(INDIRECT(ADDRESS(ROW()-2,COLUMN()-1,2,2)),Donnéesbrutes!$A$3:$Q$101,3,FALSE))
A20: 5 | B20: =IF($A21="","",VLOOKUP(INDIRECT(ADDRESS(ROW(),1,2,2)),Donnéesbrutes!$A$3:$Q$101,4,FALSE)) | C20: =IF($A21="","",VLOOKUP(INDIRECT(ADDRESS(ROW(),1,2,2)),Donnéesbrutes!$A$3:$Q$101,6,FALSE)) | D20: =IF($A21="","",VLOOKUP(INDIRECT(ADDRESS(ROW(),1,2,2)),Donnéesbrutes!$A$3:$Q$101,8,FALSE)) | E20: =IF($A21="","",VLOOKUP(INDIRECT(ADDRESS(ROW(),1,2,2)),Donnéesbrutes!$A$3:$Q$101,10,FALSE)) | F20: =IF($A21="","",VLOOKUP(INDIRECT(ADDRESS(ROW(),1,2,2)),Donnéesbrutes!$A$3:$Q$101,12,FALSE)) | G20: =IF($A21="","",VLOOKUP(INDIRECT(ADDRESS(ROW(),1,2,2)),Donnéesbrutes!$A$3:$Q$101,14,FALSE)) | H20: =IF($A21="","",VLOOKUP(INDIRECT(ADDRESS(ROW(),1,2,2)),Donnéesbrutes!$A$3:$Q$101,16,FALSE)) | J20: 15 | K20: =IF(J21="","",VLOOKUP(INDIRECT(ADDRESS(ROW(),COLUMN()-1,2,2)),Donnéesbrutes!$A$3:$Q$101,4,FALSE)) | L20: =IF(J21="","",VLOOKUP(INDIRECT(ADDRESS(ROW(),COLUMN()-2,2,2)),Donnéesbrutes!$A$3:$Q$101,6,FALSE)) | M20: =IF(J21="","",VLOOKUP(INDIRECT(ADDRESS(ROW(),COLUMN()-3,2,2)),Donnéesbrutes!$A$3:$Q$101,8,FALSE)) | N20: =IF(J21="","",VLOOKUP(INDIRECT(ADDRESS(ROW(),COLUMN()-4,2,2)),Donnéesbrutes!$A$3:$Q$101,10,FALSE)) | O20: =IF(J21="","",VLOOKUP(INDIRECT(ADDRESS(ROW(),COLUMN()-5,2,2)),Donnéesbrutes!$A$3:$Q$101,12,FALSE)) | P20: =IF(J21="","",VLOOKUP(INDIRECT(ADDRESS(ROW(),COLUMN()-6,2,2)),Donnéesbrutes!$A$3:$Q$101,14,FALSE)) | Q20: =IF(J21="","",VLOOKUP(INDIRECT(ADDRESS(ROW(),COLUMN()-7,2,2)),Donnéesbrutes!$A$3:$Q$101,16,FALSE)) | S20: 25 | T20: =IF(S21="","",VLOOKUP(INDIRECT(ADDRESS(ROW(),COLUMN()-1,2,2)),Donnéesbrutes!$A$3:$Q$101,4,FALSE)) | U20: =IF(S21="","",VLOOKUP(INDIRECT(ADDRESS(ROW(),COLUMN()-2,2,2)),Donnéesbrutes!$A$3:$Q$101,6,FALSE)) | V20: =IF(S21="","",VLOOKUP(INDIRECT(ADDRESS(ROW(),COLUMN()-3,2,2)),Donnéesbrutes!$A$3:$Q$101,8,FALSE)) | W20: =IF(S21="","",VLOOKUP(INDIRECT(ADDRESS(ROW(),COLUMN()-4,2,2)),Donnéesbrutes!$A$3:$Q$101,10,FALSE)) | X20: =IF(S21="","",VLOOKUP(INDIRECT(ADDRESS(ROW(),COLUMN()-5,2,2)),Donnéesbrutes!$A$3:$Q$101,12,FALSE)) | Y20: =IF(S21="","",VLOOKUP(INDIRECT(ADDRESS(ROW(),COLUMN()-6,2,2)),Donnéesbrutes!$A$3:$Q$101,14,FALSE)) | Z20: =IF(S21="","",VLOOKUP(INDIRECT(ADDRESS(ROW(),COLUMN()-7,2,2)),Donnéesbrutes!$A$3:$Q$101,16,FALSE))
A21: =IF(ISNA(VLOOKUP(INDIRECT(ADDRESS(ROW()-1,1,2,2)),Donnéesbrutes!$A$3:$Q$101,2,FALSE)),"",VLOOKUP(INDIRECT(ADDRESS(ROW()-1,1,2,2)),Donnéesbrutes!$A$3:$Q$101,2,FALSE)) | B21: =IF($A21="","",VLOOKUP(INDIRECT(ADDRESS(ROW()-1,1,2,2)),Donnéesbrutes!$A$3:$Q$101,5,FALSE)) | C21: =IF($A21="","",VLOOKUP(INDIRECT(ADDRESS(ROW()-1,1,2,2)),Donnéesbrutes!$A$3:$Q$101,7,FALSE)) | D21: =IF($A21="","",VLOOKUP(INDIRECT(ADDRESS(ROW()-1,1,2,2)),Donnéesbrutes!$A$3:$Q$101,9,FALSE)) | E21: =IF($A21="","",VLOOKUP(INDIRECT(ADDRESS(ROW()-1,1,2,2)),Donnéesbrutes!$A$3:$Q$101,11,FALSE)) | F21: =IF($A21="","",VLOOKUP(INDIRECT(ADDRESS(ROW()-1,1,2,2)),Donnéesbrutes!$A$3:$Q$101,13,FALSE)) | G21: =IF($A21="","",VLOOKUP(INDIRECT(ADDRESS(ROW()-1,1,2,2)),Donnéesbrutes!$A$3:$Q$101,15,FALSE)) | H21: =IF($A21="","",VLOOKUP(INDIRECT(ADDRESS(ROW()-1,1,2,2)),Donnéesbrutes!$A$3:$Q$101,17,FALSE)) | J21: =IF(ISNA(VLOOKUP(INDIRECT(ADDRESS(ROW()-1,COLUMN(),2,2)),Donnéesbrutes!$A$3:$Q$101,2,FALSE)),"",VLOOKUP(INDIRECT(ADDRESS(ROW()-1,1,2,2)),Donnéesbrutes!$A$3:$Q$101,2,FALSE)) | K21: =IF(J21="","",VLOOKUP(INDIRECT(ADDRESS(ROW()-1,COLUMN()-1,2,2)),Donnéesbrutes!$A$3:$Q$101,5,FALSE)) | L21: =IF(J21="","",VLOOKUP(INDIRECT(ADDRESS(ROW()-1,COLUMN()-2,2,2)),Donnéesbrutes!$A$3:$Q$101,7,FALSE)) | M21: =IF(J21="","",VLOOKUP(INDIRECT(ADDRESS(ROW()-1,COLUMN()-3,2,2)),Donnéesbrutes!$A$3:$Q$101,9,FALSE)) | N21: =IF(J21="","",VLOOKUP(INDIRECT(ADDRESS(ROW()-1,COLUMN()-4,2,2)),Donnéesbrutes!$A$3:$Q$101,11,FALSE)) | O21: =IF(J21="","",VLOOKUP(INDIRECT(ADDRESS(ROW()-1,COLUMN()-5,2,2)),Donnéesbrutes!$A$3:$Q$101,13,FALSE)) | P21: =IF(J21="","",VLOOKUP(INDIRECT(ADDRESS(ROW()-1,COLUMN()-6,2,2)),Donnéesbrutes!$A$3:$Q$101,15,FALSE)) | Q21: =IF(J21="","",VLOOKUP(INDIRECT(ADDRESS(ROW()-1,COLUMN()-7,2,2)),Donnéesbrutes!$A$3:$Q$101,17,FALSE)) | S21: =IF(ISNA(VLOOKUP(INDIRECT(ADDRESS(ROW()-1,COLUMN(),2,2)),Donnéesbrutes!$A$3:$Q$101,2,FALSE)),"",VLOOKUP(INDIRECT(ADDRESS(ROW()-1,1,2,2)),Donnéesbrutes!$A$3:$Q$101,2,FALSE)) | T21: =IF(S21="","",VLOOKUP(INDIRECT(ADDRESS(ROW()-1,COLUMN()-1,2,2)),Donnéesbrutes!$A$3:$Q$101,5,FALSE)) | U21: =IF(S21="","",VLOOKUP(INDIRECT(ADDRESS(ROW()-1,COLUMN()-2,2,2)),Donnéesbrutes!$A$3:$Q$101,7,FALSE)) | V21: =IF(S21="","",VLOOKUP(INDIRECT(ADDRESS(ROW()-1,COLUMN()-3,2,2)),Donnéesbrutes!$A$3:$Q$101,9,FALSE)) | W21: =IF(S21="","",VLOOKUP(INDIRECT(ADDRESS(ROW()-1,COLUMN()-4,2,2)),Donnéesbrutes!$A$3:$Q$101,11,FALSE)) | X21: =IF(S21="","",VLOOKUP(INDIRECT(ADDRESS(ROW()-1,COLUMN()-5,2,2)),Donnéesbrutes!$A$3:$Q$101,13,FALSE)) | Y21: =IF(S21="","",VLOOKUP(INDIRECT(ADDRESS(ROW()-1,COLUMN()-6,2,2)),Donnéesbrutes!$A$3:$Q$101,15,FALSE)) | Z21: =IF(S21="","",VLOOKUP(INDIRECT(ADDRESS(ROW()-1,COLUMN()-7,2,2)),Donnéesbrutes!$A$3:$Q$101,17,FALSE))
A22: =A21 | B22: =IF(A21="","",VLOOKUP(INDIRECT(ADDRESS(ROW()-2,1,2,2)),Donnéesbrutes!$A$3:$Q$101,3,FALSE)) | J22: =J21 | K22: =IF(J21="","",VLOOKUP(INDIRECT(ADDRESS(ROW()-2,COLUMN()-1,2,2)),Donnéesbrutes!$A$3:$Q$101,3,FALSE)) | S22: =S21 | T22: =IF(S21="","",VLOOKUP(INDIRECT(ADDRESS(ROW()-2,COLUMN()-1,2,2)),Donnéesbrutes!$A$3:$Q$101,3,FALSE))
A24: 6 | B24: =IF($A25="","",VLOOKUP(INDIRECT(ADDRESS(ROW(),1,2,2)),Donnéesbrutes!$A$3:$Q$101,4,FALSE)) | C24: =IF($A25="","",VLOOKUP(INDIRECT(ADDRESS(ROW(),1,2,2)),Donnéesbrutes!$A$3:$Q$101,6,FALSE)) | D24: =IF($A25="","",VLOOKUP(INDIRECT(ADDRESS(ROW(),1,2,2)),Donnéesbrutes!$A$3:$Q$101,8,FALSE)) | E24: =IF($A25="","",VLOOKUP(INDIRECT(ADDRESS(ROW(),1,2,2)),Donnéesbrutes!$A$3:$Q$101,10,FALSE)) | F24: =IF($A25="","",VLOOKUP(INDIRECT(ADDRESS(ROW(),1,2,2)),Donnéesbrutes!$A$3:$Q$101,12,FALSE)) | G24: =IF($A25="","",VLOOKUP(INDIRECT(ADDRESS(ROW(),1,2,2)),Donnéesbrutes!$A$3:$Q$101,14,FALSE)) | H24: =IF($A25="","",VLOOKUP(INDIRECT(ADDRESS(ROW(),1,2,2)),Donnéesbrutes!$A$3:$Q$101,16,FALSE)) | J24: 16 | K24: =IF(J25="","",VLOOKUP(INDIRECT(ADDRESS(ROW(),COLUMN()-1,2,2)),Donnéesbrutes!$A$3:$Q$101,4,FALSE)) | L24: =IF(J25="","",VLOOKUP(INDIRECT(ADDRESS(ROW(),COLUMN()-2,2,2)),Donnéesbrutes!$A$3:$Q$101,6,FALSE)) | M24: =IF(J25="","",VLOOKUP(INDIRECT(ADDRESS(ROW(),COLUMN()-3,2,2)),Donnéesbrutes!$A$3:$Q$101,8,FALSE)) | N24: =IF(J25="","",VLOOKUP(INDIRECT(ADDRESS(ROW(),COLUMN()-4,2,2)),Donnéesbrutes!$A$3:$Q$101,10,FALSE)) | O24: =IF(J25="","",VLOOKUP(INDIRECT(ADDRESS(ROW(),COLUMN()-5,2,2)),Donnéesbrutes!$A$3:$Q$101,12,FALSE)) | P24: =IF(J25="","",VLOOKUP(INDIRECT(ADDRESS(ROW(),COLUMN()-6,2,2)),Donnéesbrutes!$A$3:$Q$101,14,FALSE)) | Q24: =IF(J25="","",VLOOKUP(INDIRECT(ADDRESS(ROW(),COLUMN()-7,2,2)),Donnéesbrutes!$A$3:$Q$101,16,FALSE)) | S24: 26 | T24: =IF(S25="","",VLOOKUP(INDIRECT(ADDRESS(ROW(),COLUMN()-1,2,2)),Donnéesbrutes!$A$3:$Q$101,4,FALSE)) | U24: =IF(S25="","",VLOOKUP(INDIRECT(ADDRESS(ROW(),COLUMN()-2,2,2)),Donnéesbrutes!$A$3:$Q$101,6,FALSE)) | V24: =IF(S25="","",VLOOKUP(INDIRECT(ADDRESS(ROW(),COLUMN()-3,2,2)),Donnéesbrutes!$A$3:$Q$101,8,FALSE)) | W24: =IF(S25="","",VLOOKUP(INDIRECT(ADDRESS(ROW(),COLUMN()-4,2,2)),Donnéesbrutes!$A$3:$Q$101,10,FALSE)) | X24: =IF(S25="","",VLOOKUP(INDIRECT(ADDRESS(ROW(),COLUMN()-5,2,2)),Donnéesbrutes!$A$3:$Q$101,12,FALSE)) | Y24: =IF(S25="","",VLOOKUP(INDIRECT(ADDRESS(ROW(),COLUMN()-6,2,2)),Donnéesbrutes!$A$3:$Q$101,14,FALSE)) | Z24: =IF(S25="","",VLOOKUP(INDIRECT(ADDRESS(ROW(),COLUMN()-7,2,2)),Donnéesbrutes!$A$3:$Q$101,16,FALSE))
A25: =IF(ISNA(VLOOKUP(INDIRECT(ADDRESS(ROW()-1,1,2,2)),Donnéesbrutes!$A$3:$Q$101,2,FALSE)),"",VLOOKUP(INDIRECT(ADDRESS(ROW()-1,1,2,2)),Donnéesbrutes!$A$3:$Q$101,2,FALSE)) | B25: =IF($A25="","",VLOOKUP(INDIRECT(ADDRESS(ROW()-1,1,2,2)),Donnéesbrutes!$A$3:$Q$101,5,FALSE)) | C25: =IF($A25="","",VLOOKUP(INDIRECT(ADDRESS(ROW()-1,1,2,2)),Donnéesbrutes!$A$3:$Q$101,7,FALSE)) | D25: =IF($A25="","",VLOOKUP(INDIRECT(ADDRESS(ROW()-1,1,2,2)),Donnéesbrutes!$A$3:$Q$101,9,FALSE)) | E25: =IF($A25="","",VLOOKUP(INDIRECT(ADDRESS(ROW()-1,1,2,2)),Donnéesbrutes!$A$3:$Q$101,11,FALSE)) | F25: =IF($A25="","",VLOOKUP(INDIRECT(ADDRESS(ROW()-1,1,2,2)),Donnéesbrutes!$A$3:$Q$101,13,FALSE)) | G25: =IF($A25="","",VLOOKUP(INDIRECT(ADDRESS(ROW()-1,1,2,2)),Donnéesbrutes!$A$3:$Q$101,15,FALSE)) | H25: =IF($A25="","",VLOOKUP(INDIRECT(ADDRESS(ROW()-1,1,2,2)),Donnéesbrutes!$A$3:$Q$101,17,FALSE)) | J25: =IF(ISNA(VLOOKUP(INDIRECT(ADDRESS(ROW()-1,COLUMN(),2,2)),Donnéesbrutes!$A$3:$Q$101,2,FALSE)),"",VLOOKUP(INDIRECT(ADDRESS(ROW()-1,1,2,2)),Donnéesbrutes!$A$3:$Q$101,2,FALSE)) | K25: =IF(J25="","",VLOOKUP(INDIRECT(ADDRESS(ROW()-1,COLUMN()-1,2,2)),Donnéesbrutes!$A$3:$Q$101,5,FALSE)) | L25: =IF(J25="","",VLOOKUP(INDIRECT(ADDRESS(ROW()-1,COLUMN()-2,2,2)),Donnéesbrutes!$A$3:$Q$101,7,FALSE)) | M25: =IF(J25="","",VLOOKUP(INDIRECT(ADDRESS(ROW()-1,COLUMN()-3,2,2)),Donnéesbrutes!$A$3:$Q$101,9,FALSE)) | N25: =IF(J25="","",VLOOKUP(INDIRECT(ADDRESS(ROW()-1,COLUMN()-4,2,2)),Donnéesbrutes!$A$3:$Q$101,11,FALSE)) | O25: =IF(J25="","",VLOOKUP(INDIRECT(ADDRESS(ROW()-1,COLUMN()-5,2,2)),Donnéesbrutes!$A$3:$Q$101,13,FALSE)) | P25: =IF(J25="","",VLOOKUP(INDIRECT(ADDRESS(ROW()-1,COLUMN()-6,2,2)),Donnéesbrutes!$A$3:$Q$101,15,FALSE)) | Q25: =IF(J25="","",VLOOKUP(INDIRECT(ADDRESS(ROW()-1,COLUMN()-7,2,2)),Donnéesbrutes!$A$3:$Q$101,17,FALSE)) | S25: =IF(ISNA(VLOOKUP(INDIRECT(ADDRESS(ROW()-1,COLUMN(),2,2)),Donnéesbrutes!$A$3:$Q$101,2,FALSE)),"",VLOOKUP(INDIRECT(ADDRESS(ROW()-1,1,2,2)),Donnéesbrutes!$A$3:$Q$101,2,FALSE)) | T25: =IF(S25="","",VLOOKUP(INDIRECT(ADDRESS(ROW()-1,COLUMN()-1,2,2)),Donnéesbrutes!$A$3:$Q$101,5,FALSE)) | U25: =IF(S25="","",VLOOKUP(INDIRECT(ADDRESS(ROW()-1,COLUMN()-2,2,2)),Donnéesbrutes!$A$3:$Q$101,7,FALSE)) | V25: =IF(S25="","",VLOOKUP(INDIRECT(ADDRESS(ROW()-1,COLUMN()-3,2,2)),Donnéesbrutes!$A$3:$Q$101,9,FALSE)) | W25: =IF(S25="","",VLOOKUP(INDIRECT(ADDRESS(ROW()-1,COLUMN()-4,2,2)),Donnéesbrutes!$A$3:$Q$101,11,FALSE)) | X25: =IF(S25="","",VLOOKUP(INDIRECT(ADDRESS(ROW()-1,COLUMN()-5,2,2)),Donnéesbrutes!$A$3:$Q$101,13,FALSE)) | Y25: =IF(S25="","",VLOOKUP(INDIRECT(ADDRESS(ROW()-1,COLUMN()-6,2,2)),Donnéesbrutes!$A$3:$Q$101,15,FALSE)) | Z25: =IF(S25="","",VLOOKUP(INDIRECT(ADDRESS(ROW()-1,COLUMN()-7,2,2)),Donnéesbrutes!$A$3:$Q$101,17,FALSE))
A26: =A25 | B26: =IF(A25="","",VLOOKUP(INDIRECT(ADDRESS(ROW()-2,1,2,2)),Donnéesbrutes!$A$3:$Q$101,3,FALSE)) | J26: =J25 | K26: =IF(J25="","",VLOOKUP(INDIRECT(ADDRESS(ROW()-2,COLUMN()-1,2,2)),Donnéesbrutes!$A$3:$Q$101,3,FALSE)) | S26: =S25 | T26: =IF(S25="","",VLOOKUP(INDIRECT(ADDRESS(ROW()-2,COLUMN()-1,2,2)),Donnéesbrutes!$A$3:$Q$101,3,FALSE))
A28: 7 | B28: =IF($A29="","",VLOOKUP(INDIRECT(ADDRESS(ROW(),1,2,2)),Donnéesbrutes!$A$3:$Q$101,4,FALSE)) | C28: =IF($A29="","",VLOOKUP(INDIRECT(ADDRESS(ROW(),1,2,2)),Donnéesbrutes!$A$3:$Q$101,6,FALSE)) | D28: =IF($A29="","",VLOOKUP(INDIRECT(ADDRESS(ROW(),1,2,2)),Donnéesbrutes!$A$3:$Q$101,8,FALSE)) | E28: =IF($A29="","",VLOOKUP(INDIRECT(ADDRESS(ROW(),1,2,2)),Donnéesbrutes!$A$3:$Q$101,10,FALSE)) | F28: =IF($A29="","",VLOOKUP(INDIRECT(ADDRESS(ROW(),1,2,2)),Donnéesbrutes!$A$3:$Q$101,12,FALSE)) | G28: =IF($A29="","",VLOOKUP(INDIRECT(ADDRESS(ROW(),1,2,2)),Donnéesbrutes!$A$3:$Q$101,14,FALSE)) | H28: =IF($A29="","",VLOOKUP(INDIRECT(ADDRESS(ROW(),1,2,2)),Donnéesbrutes!$A$3:$Q$101,16,FALSE)) | J28: 17 | K28: =IF(J29="","",VLOOKUP(INDIRECT(ADDRESS(ROW(),COLUMN()-1,2,2)),Donnéesbrutes!$A$3:$Q$101,4,FALSE)) | L28: =IF(J29="","",VLOOKUP(INDIRECT(ADDRESS(ROW(),COLUMN()-2,2,2)),Donnéesbrutes!$A$3:$Q$101,6,FALSE)) | M28: =IF(J29="","",VLOOKUP(INDIRECT(ADDRESS(ROW(),COLUMN()-3,2,2)),Donnéesbrutes!$A$3:$Q$101,8,FALSE)) | N28: =IF(J29="","",VLOOKUP(INDIRECT(ADDRESS(ROW(),COLUMN()-4,2,2)),Donnéesbrutes!$A$3:$Q$101,10,FALSE)) | O28: =IF(J29="","",VLOOKUP(INDIRECT(ADDRESS(ROW(),COLUMN()-5,2,2)),Donnéesbrutes!$A$3:$Q$101,12,FALSE)) | P28: =IF(J29="","",VLOOKUP(INDIRECT(ADDRESS(ROW(),COLUMN()-6,2,2)),Donnéesbrutes!$A$3:$Q$101,14,FALSE)) | Q28: =IF(J29="","",VLOOKUP(INDIRECT(ADDRESS(ROW(),COLUMN()-7,2,2)),Donnéesbrutes!$A$3:$Q$101,16,FALSE)) | S28: 27 | T28: =IF(S29="","",VLOOKUP(INDIRECT(ADDRESS(ROW(),COLUMN()-1,2,2)),Donnéesbrutes!$A$3:$Q$101,4,FALSE)) | U28: =IF(S29="","",VLOOKUP(INDIRECT(ADDRESS(ROW(),COLUMN()-2,2,2)),Donnéesbrutes!$A$3:$Q$101,6,FALSE)) | V28: =IF(S29="","",VLOOKUP(INDIRECT(ADDRESS(ROW(),COLUMN()-3,2,2)),Donnéesbrutes!$A$3:$Q$101,8,FALSE)) | W28: =IF(S29="","",VLOOKUP(INDIRECT(ADDRESS(ROW(),COLUMN()-4,2,2)),Donnéesbrutes!$A$3:$Q$101,10,FALSE)) | X28: =IF(S29="","",VLOOKUP(INDIRECT(ADDRESS(ROW(),COLUMN()-5,2,2)),Donnéesbrutes!$A$3:$Q$101,12,FALSE)) | Y28: =IF(S29="","",VLOOKUP(INDIRECT(ADDRESS(ROW(),COLUMN()-6,2,2)),Donnéesbrutes!$A$3:$Q$101,14,FALSE)) | Z28: =IF(S29="","",VLOOKUP(INDIRECT(ADDRESS(ROW(),COLUMN()-7,2,2)),Donnéesbrutes!$A$3:$Q$101,16,FALSE))
A29: =IF(ISNA(VLOOKUP(INDIRECT(ADDRESS(ROW()-1,1,2,2)),Donnéesbrutes!$A$3:$Q$101,2,FALSE)),"",VLOOKUP(INDIRECT(ADDRESS(ROW()-1,1,2,2)),Donnéesbrutes!$A$3:$Q$101,2,FALSE)) | B29: =IF($A29="","",VLOOKUP(INDIRECT(ADDRESS(ROW()-1,1,2,2)),Donnéesbrutes!$A$3:$Q$101,5,FALSE)) | C29: =IF($A29="","",VLOOKUP(INDIRECT(ADDRESS(ROW()-1,1,2,2)),Donnéesbrutes!$A$3:$Q$101,7,FALSE)) | D29: =IF($A29="","",VLOOKUP(INDIRECT(ADDRESS(ROW()-1,1,2,2)),Donnéesbrutes!$A$3:$Q$101,9,FALSE)) | E29: =IF($A29="","",VLOOKUP(INDIRECT(ADDRESS(ROW()-1,1,2,2)),Donnéesbrutes!$A$3:$Q$101,11,FALSE)) | F29: =IF($A29="","",VLOOKUP(INDIRECT(ADDRESS(ROW()-1,1,2,2)),Donnéesbrutes!$A$3:$Q$101,13,FALSE)) | G29: =IF($A29="","",VLOOKUP(INDIRECT(ADDRESS(ROW()-1,1,2,2)),Donnéesbrutes!$A$3:$Q$101,15,FALSE)) | H29: =IF($A29="","",VLOOKUP(INDIRECT(ADDRESS(ROW()-1,1,2,2)),Donnéesbrutes!$A$3:$Q$101,17,FALSE)) | J29: =IF(ISNA(VLOOKUP(INDIRECT(ADDRESS(ROW()-1,COLUMN(),2,2)),Donnéesbrutes!$A$3:$Q$101,2,FALSE)),"",VLOOKUP(INDIRECT(ADDRESS(ROW()-1,1,2,2)),Donnéesbrutes!$A$3:$Q$101,2,FALSE)) | K29: =IF(J29="","",VLOOKUP(INDIRECT(ADDRESS(ROW()-1,COLUMN()-1,2,2)),Donnéesbrutes!$A$3:$Q$101,5,FALSE)) | L29: =IF(J29="","",VLOOKUP(INDIRECT(ADDRESS(ROW()-1,COLUMN()-2,2,2)),Donnéesbrutes!$A$3:$Q$101,7,FALSE)) | M29: =IF(J29="","",VLOOKUP(INDIRECT(ADDRESS(ROW()-1,COLUMN()-3,2,2)),Donnéesbrutes!$A$3:$Q$101,9,FALSE)) | N29: =IF(J29="","",VLOOKUP(INDIRECT(ADDRESS(ROW()-1,COLUMN()-4,2,2)),Donnéesbrutes!$A$3:$Q$101,11,FALSE)) | O29: =IF(J29="","",VLOOKUP(INDIRECT(ADDRESS(ROW()-1,COLUMN()-5,2,2)),Donnéesbrutes!$A$3:$Q$101,13,FALSE)) | P29: =IF(J29="","",VLOOKUP(INDIRECT(ADDRESS(ROW()-1,COLUMN()-6,2,2)),Donnéesbrutes!$A$3:$Q$101,15,FALSE)) | Q29: =IF(J29="","",VLOOKUP(INDIRECT(ADDRESS(ROW()-1,COLUMN()-7,2,2)),Donnéesbrutes!$A$3:$Q$101,17,FALSE)) | S29: =IF(ISNA(VLOOKUP(INDIRECT(ADDRESS(ROW()-1,COLUMN(),2,2)),Donnéesbrutes!$A$3:$Q$101,2,FALSE)),"",VLOOKUP(INDIRECT(ADDRESS(ROW()-1,1,2,2)),Donnéesbrutes!$A$3:$Q$101,2,FALSE)) | T29: =IF(S29="","",VLOOKUP(INDIRECT(ADDRESS(ROW()-1,COLUMN()-1,2,2)),Donnéesbrutes!$A$3:$Q$101,5,FALSE)) | U29: =IF(S29="","",VLOOKUP(INDIRECT(ADDRESS(ROW()-1,COLUMN()-2,2,2)),Donnéesbrutes!$A$3:$Q$101,7,FALSE)) | V29: =IF(S29="","",VLOOKUP(INDIRECT(ADDRESS(ROW()-1,COLUMN()-3,2,2)),Donnéesbrutes!$A$3:$Q$101,9,FALSE)) | W29: =IF(S29="","",VLOOKUP(INDIRECT(ADDRESS(ROW()-1,COLUMN()-4,2,2)),Donnéesbrutes!$A$3:$Q$101,11,FALSE)) | X29: =IF(S29="","",VLOOKUP(INDIRECT(ADDRESS(ROW()-1,COLUMN()-5,2,2)),Donnéesbrutes!$A$3:$Q$101,13,FALSE)) | Y29: =IF(S29="","",VLOOKUP(INDIRECT(ADDRESS(ROW()-1,COLUMN()-6,2,2)),Donnéesbrutes!$A$3:$Q$101,15,FALSE)) | Z29: =IF(S29="","",VLOOKUP(INDIRECT(ADDRESS(ROW()-1,COLUMN()-7,2,2)),Donnéesbrutes!$A$3:$Q$101,17,FALSE))
A30: =A29 | B30: =IF(A29="","",VLOOKUP(INDIRECT(ADDRESS(ROW()-2,1,2,2)),Donnéesbrutes!$A$3:$Q$101,3,FALSE)) | J30: =J29 | K30: =IF(J29="","",VLOOKUP(INDIRECT(ADDRESS(ROW()-2,COLUMN()-1,2,2)),Donnéesbrutes!$A$3:$Q$101,3,FALSE)) | S30: =S29 | T30: =IF(S29="","",VLOOKUP(INDIRECT(ADDRESS(ROW()-2,COLUMN()-1,2,2)),Donnéesbrutes!$A$3:$Q$101,3,FALSE))
A32: 8 | B32: =IF($A33="","",VLOOKUP(INDIRECT(ADDRESS(ROW(),1,2,2)),Donnéesbrutes!$A$3:$Q$101,4,FALSE)) | C32: =IF($A33="","",VLOOKUP(INDIRECT(ADDRESS(ROW(),1,2,2)),Donnéesbrutes!$A$3:$Q$101,6,FALSE)) | D32: =IF($A33="","",VLOOKUP(INDIRECT(ADDRESS(ROW(),1,2,2)),Donnéesbrutes!$A$3:$Q$101,8,FALSE)) | E32: =IF($A33="","",VLOOKUP(INDIRECT(ADDRESS(ROW(),1,2,2)),Donnéesbrutes!$A$3:$Q$101,10,FALSE)) | F32: =IF($A33="","",VLOOKUP(INDIRECT(ADDRESS(ROW(),1,2,2)),Donnéesbrutes!$A$3:$Q$101,12,FALSE)) | G32: =IF($A33="","",VLOOKUP(INDIRECT(ADDRESS(ROW(),1,2,2)),Donnéesbrutes!$A$3:$Q$101,14,FALSE)) | H32: =IF($A33="","",VLOOKUP(INDIRECT(ADDRESS(ROW(),1,2,2)),Donnéesbrutes!$A$3:$Q$101,16,FALSE)) | J32: 18 | K32: =IF(J33="","",VLOOKUP(INDIRECT(ADDRESS(ROW(),COLUMN()-1,2,2)),Donnéesbrutes!$A$3:$Q$101,4,FALSE)) | L32: =IF(J33="","",VLOOKUP(INDIRECT(ADDRESS(ROW(),COLUMN()-2,2,2)),Donnéesbrutes!$A$3:$Q$101,6,FALSE)) | M32: =IF(J33="","",VLOOKUP(INDIRECT(ADDRESS(ROW(),COLUMN()-3,2,2)),Donnéesbrutes!$A$3:$Q$101,8,FALSE)) | N32: =IF(J33="","",VLOOKUP(INDIRECT(ADDRESS(ROW(),COLUMN()-4,2,2)),Donnéesbrutes!$A$3:$Q$101,10,FALSE)) | O32: =IF(J33="","",VLOOKUP(INDIRECT(ADDRESS(ROW(),COLUMN()-5,2,2)),Donnéesbrutes!$A$3:$Q$101,12,FALSE)) | P32: =IF(J33="","",VLOOKUP(INDIRECT(ADDRESS(ROW(),COLUMN()-6,2,2)),Donnéesbrutes!$A$3:$Q$101,14,FALSE)) | Q32: =IF(J33="","",VLOOKUP(INDIRECT(ADDRESS(ROW(),COLUMN()-7,2,2)),Donnéesbrutes!$A$3:$Q$101,16,FALSE)) | S32: 28 | T32: =IF(S33="","",VLOOKUP(INDIRECT(ADDRESS(ROW(),COLUMN()-1,2,2)),Donnéesbrutes!$A$3:$Q$101,4,FALSE)) | U32: =IF(S33="","",VLOOKUP(INDIRECT(ADDRESS(ROW(),COLUMN()-2,2,2)),Donnéesbrutes!$A$3:$Q$101,6,FALSE)) | V32: =IF(S33="","",VLOOKUP(INDIRECT(ADDRESS(ROW(),COLUMN()-3,2,2)),Donnéesbrutes!$A$3:$Q$101,8,FALSE)) | W32: =IF(S33="","",VLOOKUP(INDIRECT(ADDRESS(ROW(),COLUMN()-4,2,2)),Donnéesbrutes!$A$3:$Q$101,10,FALSE)) | X32: =IF(S33="","",VLOOKUP(INDIRECT(ADDRESS(ROW(),COLUMN()-5,2,2)),Donnéesbrutes!$A$3:$Q$101,12,FALSE)) | Y32: =IF(S33="","",VLOOKUP(INDIRECT(ADDRESS(ROW(),COLUMN()-6,2,2)),Donnéesbrutes!$A$3:$Q$101,14,FALSE)) | Z32: =IF(S33="","",VLOOKUP(INDIRECT(ADDRESS(ROW(),COLUMN()-7,2,2)),Donnéesbrutes!$A$3:$Q$101,16,FALSE))
A33: =IF(ISNA(VLOOKUP(INDIRECT(ADDRESS(ROW()-1,1,2,2)),Donnéesbrutes!$A$3:$Q$101,2,FALSE)),"",VLOOKUP(INDIRECT(ADDRESS(ROW()-1,1,2,2)),Donnéesbrutes!$A$3:$Q$101,2,FALSE)) | B33: =IF($A33="","",VLOOKUP(INDIRECT(ADDRESS(ROW()-1,1,2,2)),Donnéesbrutes!$A$3:$Q$101,5,FALSE)) | C33: =IF($A33="","",VLOOKUP(INDIRECT(ADDRESS(ROW()-1,1,2,2)),Donnéesbrutes!$A$3:$Q$101,7,FALSE)) | D33: =IF($A33="","",VLOOKUP(INDIRECT(ADDRESS(ROW()-1,1,2,2)),Donnéesbrutes!$A$3:$Q$101,9,FALSE)) | E33: =IF($A33="","",VLOOKUP(INDIRECT(ADDRESS(ROW()-1,1,2,2)),Donnéesbrutes!$A$3:$Q$101,11,FALSE)) | F33: =IF($A33="","",VLOOKUP(INDIRECT(ADDRESS(ROW()-1,1,2,2)),Donnéesbrutes!$A$3:$Q$101,13,FALSE)) | G33: =IF($A33="","",VLOOKUP(INDIRECT(ADDRESS(ROW()-1,1,2,2)),Donnéesbrutes!$A$3:$Q$101,15,FALSE)) | H33: =IF($A33="","",VLOOKUP(INDIRECT(ADDRESS(ROW()-1,1,2,2)),Donnéesbrutes!$A$3:$Q$101,17,FALSE)) | J33: =IF(ISNA(VLOOKUP(INDIRECT(ADDRESS(ROW()-1,COLUMN(),2,2)),Donnéesbrutes!$A$3:$Q$101,2,FALSE)),"",VLOOKUP(INDIRECT(ADDRESS(ROW()-1,1,2,2)),Donnéesbrutes!$A$3:$Q$101,2,FALSE)) | K33: =IF(J33="","",VLOOKUP(INDIRECT(ADDRESS(ROW()-1,COLUMN()-1,2,2)),Donnéesbrutes!$A$3:$Q$101,5,FALSE)) | L33: =IF(J33="","",VLOOKUP(INDIRECT(ADDRESS(ROW()-1,COLUMN()-2,2,2)),Donnéesbrutes!$A$3:$Q$101,7,FALSE)) | M33: =IF(J33="","",VLOOKUP(INDIRECT(ADDRESS(ROW()-1,COLUMN()-3,2,2)),Donnéesbrutes!$A$3:$Q$101,9,FALSE)) | N33: =IF(J33="","",VLOOKUP(INDIRECT(ADDRESS(ROW()-1,COLUMN()-4,2,2)),Donnéesbrutes!$A$3:$Q$101,11,FALSE)) | O33: =IF(J33="","",VLOOKUP(INDIRECT(ADDRESS(ROW()-1,COLUMN()-5,2,2)),Donnéesbrutes!$A$3:$Q$101,13,FALSE)) | P33: =IF(J33="","",VLOOKUP(INDIRECT(ADDRESS(ROW()-1,COLUMN()-6,2,2)),Donnéesbrutes!$A$3:$Q$101,15,FALSE)) | Q33: =IF(J33="","",VLOOKUP(INDIRECT(ADDRESS(ROW()-1,COLUMN()-7,2,2)),Donnéesbrutes!$A$3:$Q$101,17,FALSE)) | S33: =IF(ISNA(VLOOKUP(INDIRECT(ADDRESS(ROW()-1,COLUMN(),2,2)),Donnéesbrutes!$A$3:$Q$101,2,FALSE)),"",VLOOKUP(INDIRECT(ADDRESS(ROW()-1,1,2,2)),Donnéesbrutes!$A$3:$Q$101,2,FALSE)) | T33: =IF(S33="","",VLOOKUP(INDIRECT(ADDRESS(ROW()-1,COLUMN()-1,2,2)),Donnéesbrutes!$A$3:$Q$101,5,FALSE)) | U33: =IF(S33="","",VLOOKUP(INDIRECT(ADDRESS(ROW()-1,COLUMN()-2,2,2)),Donnéesbrutes!$A$3:$Q$101,7,FALSE)) | V33: =IF(S33="","",VLOOKUP(INDIRECT(ADDRESS(ROW()-1,COLUMN()-3,2,2)),Donnéesbrutes!$A$3:$Q$101,9,FALSE)) | W33: =IF(S33="","",VLOOKUP(INDIRECT(ADDRESS(ROW()-1,COLUMN()-4,2,2)),Donnéesbrutes!$A$3:$Q$101,11,FALSE)) | X33: =IF(S33="","",VLOOKUP(INDIRECT(ADDRESS(ROW()-1,COLUMN()-5,2,2)),Donnéesbrutes!$A$3:$Q$101,13,FALSE)) | Y33: =IF(S33="","",VLOOKUP(INDIRECT(ADDRESS(ROW()-1,COLUMN()-6,2,2)),Donnéesbrutes!$A$3:$Q$101,15,FALSE)) | Z33: =IF(S33="","",VLOOKUP(INDIRECT(ADDRESS(ROW()-1,COLUMN()-7,2,2)),Donnéesbrutes!$A$3:$Q$101,17,FALSE))
A34: =A33 | B34: =IF(A33="","",VLOOKUP(INDIRECT(ADDRESS(ROW()-2,1,2,2)),Donnéesbrutes!$A$3:$Q$101,3,FALSE)) | J34: =J33 | K34: =IF(J33="","",VLOOKUP(INDIRECT(ADDRESS(ROW()-2,COLUMN()-1,2,2)),Donnéesbrutes!$A$3:$Q$101,3,FALSE)) | S34: =S33 | T34: =IF(S33="","",VLOOKUP(INDIRECT(ADDRESS(ROW()-2,COLUMN()-1,2,2)),Donnéesbrutes!$A$3:$Q$101,3,FALSE))
A36: 9 | B36: =IF($A37="","",VLOOKUP(INDIRECT(ADDRESS(ROW(),1,2,2)),Donnéesbrutes!$A$3:$Q$101,4,FALSE)) | C36: =IF($A37="","",VLOOKUP(INDIRECT(ADDRESS(ROW(),1,2,2)),Donnéesbrutes!$A$3:$Q$101,6,FALSE)) | D36: =IF($A37="","",VLOOKUP(INDIRECT(ADDRESS(ROW(),1,2,2)),Donnéesbrutes!$A$3:$Q$101,8,FALSE)) | E36: =IF($A37="","",VLOOKUP(INDIRECT(ADDRESS(ROW(),1,2,2)),Donnéesbrutes!$A$3:$Q$101,10,FALSE)) | F36: =IF($A37="","",VLOOKUP(INDIRECT(ADDRESS(ROW(),1,2,2)),Donnéesbrutes!$A$3:$Q$101,12,FALSE)) | G36: =IF($A37="","",VLOOKUP(INDIRECT(ADDRESS(ROW(),1,2,2)),Donnéesbrutes!$A$3:$Q$101,14,FALSE)) | H36: =IF($A37="","",VLOOKUP(INDIRECT(ADDRESS(ROW(),1,2,2)),Donnéesbrutes!$A$3:$Q$101,16,FALSE)) | J36: 19 | K36: =IF(J37="","",VLOOKUP(INDIRECT(ADDRESS(ROW(),COLUMN()-1,2,2)),Donnéesbrutes!$A$3:$Q$101,4,FALSE)) | L36: =IF(J37="","",VLOOKUP(INDIRECT(ADDRESS(ROW(),COLUMN()-2,2,2)),Donnéesbrutes!$A$3:$Q$101,6,FALSE)) | M36: =IF(J37="","",VLOOKUP(INDIRECT(ADDRESS(ROW(),COLUMN()-3,2,2)),Donnéesbrutes!$A$3:$Q$101,8,FALSE)) | N36: =IF(J37="","",VLOOKUP(INDIRECT(ADDRESS(ROW(),COLUMN()-4,2,2)),Donnéesbrutes!$A$3:$Q$101,10,FALSE)) | O36: =IF(J37="","",VLOOKUP(INDIRECT(ADDRESS(ROW(),COLUMN()-5,2,2)),Donnéesbrutes!$A$3:$Q$101,12,FALSE)) | P36: =IF(J37="","",VLOOKUP(INDIRECT(ADDRESS(ROW(),COLUMN()-6,2,2)),Donnéesbrutes!$A$3:$Q$101,14,FALSE)) | Q36: =IF(J37="","",VLOOKUP(INDIRECT(ADDRESS(ROW(),COLUMN()-7,2,2)),Donnéesbrutes!$A$3:$Q$101,16,FALSE)) | S36: 29 | T36: =IF(S37="","",VLOOKUP(INDIRECT(ADDRESS(ROW(),COLUMN()-1,2,2)),Donnéesbrutes!$A$3:$Q$101,4,FALSE)) | U36: =IF(S37="","",VLOOKUP(INDIRECT(ADDRESS(ROW(),COLUMN()-2,2,2)),Donnéesbrutes!$A$3:$Q$101,6,FALSE)) | V36: =IF(S37="","",VLOOKUP(INDIRECT(ADDRESS(ROW(),COLUMN()-3,2,2)),Donnéesbrutes!$A$3:$Q$101,8,FALSE)) | W36: =IF(S37="","",VLOOKUP(INDIRECT(ADDRESS(ROW(),COLUMN()-4,2,2)),Donnéesbrutes!$A$3:$Q$101,10,FALSE)) | X36: =IF(S37="","",VLOOKUP(INDIRECT(ADDRESS(ROW(),COLUMN()-5,2,2)),Donnéesbrutes!$A$3:$Q$101,12,FALSE)) | Y36: =IF(S37="","",VLOOKUP(INDIRECT(ADDRESS(ROW(),COLUMN()-6,2,2)),Donnéesbrutes!$A$3:$Q$101,14,FALSE)) | Z36: =IF(S37="","",VLOOKUP(INDIRECT(ADDRESS(ROW(),COLUMN()-7,2,2)),Donnéesbrutes!$A$3:$Q$101,16,FALSE))
A37: =IF(ISNA(VLOOKUP(INDIRECT(ADDRESS(ROW()-1,1,2,2)),Donnéesbrutes!$A$3:$Q$101,2,FALSE)),"",VLOOKUP(INDIRECT(ADDRESS(ROW()-1,1,2,2)),Donnéesbrutes!$A$3:$Q$101,2,FALSE)) | B37: =IF($A37="","",VLOOKUP(INDIRECT(ADDRESS(ROW()-1,1,2,2)),Donnéesbrutes!$A$3:$Q$101,5,FALSE)) | C37: =IF($A37="","",VLOOKUP(INDIRECT(ADDRESS(ROW()-1,1,2,2)),Donnéesbrutes!$A$3:$Q$101,7,FALSE)) | D37: =IF($A37="","",VLOOKUP(INDIRECT(ADDRESS(ROW()-1,1,2,2)),Donnéesbrutes!$A$3:$Q$101,9,FALSE)) | E37: =IF($A37="","",VLOOKUP(INDIRECT(ADDRESS(ROW()-1,1,2,2)),Donnéesbrutes!$A$3:$Q$101,11,FALSE)) | F37: =IF($A37="","",VLOOKUP(INDIRECT(ADDRESS(ROW()-1,1,2,2)),Donnéesbrutes!$A$3:$Q$101,13,FALSE)) | G37: =IF($A37="","",VLOOKUP(INDIRECT(ADDRESS(ROW()-1,1,2,2)),Donnéesbrutes!$A$3:$Q$101,15,FALSE)) | H37: =IF($A37="","",VLOOKUP(INDIRECT(ADDRESS(ROW()-1,1,2,2)),Donnéesbrutes!$A$3:$Q$101,17,FALSE)) | J37: =IF(ISNA(VLOOKUP(INDIRECT(ADDRESS(ROW()-1,COLUMN(),2,2)),Donnéesbrutes!$A$3:$Q$101,2,FALSE)),"",VLOOKUP(INDIRECT(ADDRESS(ROW()-1,1,2,2)),Donnéesbrutes!$A$3:$Q$101,2,FALSE)) | K37: =IF(J37="","",VLOOKUP(INDIRECT(ADDRESS(ROW()-1,COLUMN()-1,2,2)),Donnéesbrutes!$A$3:$Q$101,5,FALSE)) | L37: =IF(J37="","",VLOOKUP(INDIRECT(ADDRESS(ROW()-1,COLUMN()-2,2,2)),Donnéesbrutes!$A$3:$Q$101,7,FALSE)) | M37: =IF(J37="","",VLOOKUP(INDIRECT(ADDRESS(ROW()-1,COLUMN()-3,2,2)),Donnéesbrutes!$A$3:$Q$101,9,FALSE)) | N37: =IF(J37="","",VLOOKUP(INDIRECT(ADDRESS(ROW()-1,COLUMN()-4,2,2)),Donnéesbrutes!$A$3:$Q$101,11,FALSE)) | O37: =IF(J37="","",VLOOKUP(INDIRECT(ADDRESS(ROW()-1,COLUMN()-5,2,2)),Donnéesbrutes!$A$3:$Q$101,13,FALSE)) | P37: =IF(J37="","",VLOOKUP(INDIRECT(ADDRESS(ROW()-1,COLUMN()-6,2,2)),Donnéesbrutes!$A$3:$Q$101,15,FALSE)) | Q37: =IF(J37="","",VLOOKUP(INDIRECT(ADDRESS(ROW()-1,COLUMN()-7,2,2)),Donnéesbrutes!$A$3:$Q$101,17,FALSE)) | S37: =IF(ISNA(VLOOKUP(INDIRECT(ADDRESS(ROW()-1,COLUMN(),2,2)),Donnéesbrutes!$A$3:$Q$101,2,FALSE)),"",VLOOKUP(INDIRECT(ADDRESS(ROW()-1,1,2,2)),Donnéesbrutes!$A$3:$Q$101,2,FALSE)) | T37: =IF(S37="","",VLOOKUP(INDIRECT(ADDRESS(ROW()-1,COLUMN()-1,2,2)),Donnéesbrutes!$A$3:$Q$101,5,FALSE)) | U37: =IF(S37="","",VLOOKUP(INDIRECT(ADDRESS(ROW()-1,COLUMN()-2,2,2)),Donnéesbrutes!$A$3:$Q$101,7,FALSE)) | V37: =IF(S37="","",VLOOKUP(INDIRECT(ADDRESS(ROW()-1,COLUMN()-3,2,2)),Donnéesbrutes!$A$3:$Q$101,9,FALSE)) | W37: =IF(S37="","",VLOOKUP(INDIRECT(ADDRESS(ROW()-1,COLUMN()-4,2,2)),Donnéesbrutes!$A$3:$Q$101,11,FALSE)) | X37: =IF(S37="","",VLOOKUP(INDIRECT(ADDRESS(ROW()-1,COLUMN()-5,2,2)),Donnéesbrutes!$A$3:$Q$101,13,FALSE)) | Y37: =IF(S37="","",VLOOKUP(INDIRECT(ADDRESS(ROW()-1,COLUMN()-6,2,2)),Donnéesbrutes!$A$3:$Q$101,15,FALSE)) | Z37: =IF(S37="","",VLOOKUP(INDIRECT(ADDRESS(ROW()-1,COLUMN()-7,2,2)),Donnéesbrutes!$A$3:$Q$101,17,FALSE))
A38: =A37 | B38: =IF(A37="","",VLOOKUP(INDIRECT(ADDRESS(ROW()-2,1,2,2)),Donnéesbrutes!$A$3:$Q$101,3,FALSE)) | J38: =J37 | K38: =IF(J37="","",VLOOKUP(INDIRECT(ADDRESS(ROW()-2,COLUMN()-1,2,2)),Donnéesbrutes!$A$3:$Q$101,3,FALSE)) | S38: =S37 | T38: =IF(S37="","",VLOOKUP(INDIRECT(ADDRESS(ROW()-2,COLUMN()-1,2,2)),Donnéesbrutes!$A$3:$Q$101,3,FALSE))
A40: 10 | B40: =IF($A41="","",VLOOKUP(INDIRECT(ADDRESS(ROW(),1,2,2)),Donnéesbrutes!$A$3:$Q$101,4,FALSE)) | C40: =IF($A41="","",VLOOKUP(INDIRECT(ADDRESS(ROW(),1,2,2)),Donnéesbrutes!$A$3:$Q$101,6,FALSE)) | D40: =IF($A41="","",VLOOKUP(INDIRECT(ADDRESS(ROW(),1,2,2)),Donnéesbrutes!$A$3:$Q$101,8,FALSE)) | E40: =IF($A41="","",VLOOKUP(INDIRECT(ADDRESS(ROW(),1,2,2)),Donnéesbrutes!$A$3:$Q$101,10,FALSE)) | F40: =IF($A41="","",VLOOKUP(INDIRECT(ADDRESS(ROW(),1,2,2)),Donnéesbrutes!$A$3:$Q$101,12,FALSE)) | G40: =IF($A41="","",VLOOKUP(INDIRECT(ADDRESS(ROW(),1,2,2)),Donnéesbrutes!$A$3:$Q$101,14,FALSE)) | H40: =IF($A41="","",VLOOKUP(INDIRECT(ADDRESS(ROW(),1,2,2)),Donnéesbrutes!$A$3:$Q$101,16,FALSE)) | J40: 20 | K40: =IF(J41="","",VLOOKUP(INDIRECT(ADDRESS(ROW(),COLUMN()-1,2,2)),Donnéesbrutes!$A$3:$Q$101,4,FALSE)) | L40: =IF(J41="","",VLOOKUP(INDIRECT(ADDRESS(ROW(),COLUMN()-2,2,2)),Donnéesbrutes!$A$3:$Q$101,6,FALSE)) | M40: =IF(J41="","",VLOOKUP(INDIRECT(ADDRESS(ROW(),COLUMN()-3,2,2)),Donnéesbrutes!$A$3:$Q$101,8,FALSE)) | N40: =IF(J41="","",VLOOKUP(INDIRECT(ADDRESS(ROW(),COLUMN()-4,2,2)),Donnéesbrutes!$A$3:$Q$101,10,FALSE)) | O40: =IF(J41="","",VLOOKUP(INDIRECT(ADDRESS(ROW(),COLUMN()-5,2,2)),Donnéesbrutes!$A$3:$Q$101,12,FALSE)) | P40: =IF(J41="","",VLOOKUP(INDIRECT(ADDRESS(ROW(),COLUMN()-6,2,2)),Donnéesbrutes!$A$3:$Q$101,14,FALSE)) | Q40: =IF(J41="","",VLOOKUP(INDIRECT(ADDRESS(ROW(),COLUMN()-7,2,2)),Donnéesbrutes!$A$3:$Q$101,16,FALSE)) | S40: 30 | T40: =IF(S41="","",VLOOKUP(INDIRECT(ADDRESS(ROW(),COLUMN()-1,2,2)),Donnéesbrutes!$A$3:$Q$101,4,FALSE)) | U40: =IF(S41="","",VLOOKUP(INDIRECT(ADDRESS(ROW(),COLUMN()-2,2,2)),Donnéesbrutes!$A$3:$Q$101,6,FALSE)) | V40: =IF(S41="","",VLOOKUP(INDIRECT(ADDRESS(ROW(),COLUMN()-3,2,2)),Donnéesbrutes!$A$3:$Q$101,8,FALSE)) | W40: =IF(S41="","",VLOOKUP(INDIRECT(ADDRESS(ROW(),COLUMN()-4,2,2)),Donnéesbrutes!$A$3:$Q$101,10,FALSE)) | X40: =IF(S41="","",VLOOKUP(INDIRECT(ADDRESS(ROW(),COLUMN()-5,2,2)),Donnéesbrutes!$A$3:$Q$101,12,FALSE)) | Y40: =IF(S41="","",VLOOKUP(INDIRECT(ADDRESS(ROW(),COLUMN()-6,2,2)),Donnéesbrutes!$A$3:$Q$101,14,FALSE)) | Z40: =IF(S41="","",VLOOKUP(INDIRECT(ADDRESS(ROW(),COLUMN()-7,2,2)),Donnéesbrutes!$A$3:$Q$101,16,FALSE))
A41: =IF(ISNA(VLOOKUP(INDIRECT(ADDRESS(ROW()-1,1,2,2)),Donnéesbrutes!$A$3:$Q$101,2,FALSE)),"",VLOOKUP(INDIRECT(ADDRESS(ROW()-1,1,2,2)),Donnéesbrutes!$A$3:$Q$101,2,FALSE)) | B41: =IF($A41="","",VLOOKUP(INDIRECT(ADDRESS(ROW()-1,1,2,2)),Donnéesbrutes!$A$3:$Q$101,5,FALSE)) | C41: =IF($A41="","",VLOOKUP(INDIRECT(ADDRESS(ROW()-1,1,2,2)),Donnéesbrutes!$A$3:$Q$101,7,FALSE)) | D41: =IF($A41="","",VLOOKUP(INDIRECT(ADDRESS(ROW()-1,1,2,2)),Donnéesbrutes!$A$3:$Q$101,9,FALSE)) | E41: =IF($A41="","",VLOOKUP(INDIRECT(ADDRESS(ROW()-1,1,2,2)),Donnéesbrutes!$A$3:$Q$101,11,FALSE)) | F41: =IF($A41="","",VLOOKUP(INDIRECT(ADDRESS(ROW()-1,1,2,2)),Donnéesbrutes!$A$3:$Q$101,13,FALSE)) | G41: =IF($A41="","",VLOOKUP(INDIRECT(ADDRESS(ROW()-1,1,2,2)),Donnéesbrutes!$A$3:$Q$101,15,FALSE)) | H41: =IF($A41="","",VLOOKUP(INDIRECT(ADDRESS(ROW()-1,1,2,2)),Donnéesbrutes!$A$3:$Q$101,17,FALSE)) | J41: =IF(ISNA(VLOOKUP(INDIRECT(ADDRESS(ROW()-1,COLUMN(),2,2)),Donnéesbrutes!$A$3:$Q$101,2,FALSE)),"",VLOOKUP(INDIRECT(ADDRESS(ROW()-1,1,2,2)),Donnéesbrutes!$A$3:$Q$101,2,FALSE)) | K41: =IF(J41="","",VLOOKUP(INDIRECT(ADDRESS(ROW()-1,COLUMN()-1,2,2)),Donnéesbrutes!$A$3:$Q$101,5,FALSE)) | L41: =IF(J41="","",VLOOKUP(INDIRECT(ADDRESS(ROW()-1,COLUMN()-2,2,2)),Donnéesbrutes!$A$3:$Q$101,7,FALSE)) | M41: =IF(J41="","",VLOOKUP(INDIRECT(ADDRESS(ROW()-1,COLUMN()-3,2,2)),Donnéesbrutes!$A$3:$Q$101,9,FALSE)) | N41: =IF(J41="","",VLOOKUP(INDIRECT(ADDRESS(ROW()-1,COLUMN()-4,2,2)),Donnéesbrutes!$A$3:$Q$101,11,FALSE)) | O41: =IF(J41="","",VLOOKUP(INDIRECT(ADDRESS(ROW()-1,COLUMN()-5,2,2)),Donnéesbrutes!$A$3:$Q$101,13,FALSE)) | P41: =IF(J41="","",VLOOKUP(INDIRECT(ADDRESS(ROW()-1,COLUMN()-6,2,2)),Donnéesbrutes!$A$3:$Q$101,15,FALSE)) | Q41: =IF(J41="","",VLOOKUP(INDIRECT(ADDRESS(ROW()-1,COLUMN()-7,2,2)),Donnéesbrutes!$A$3:$Q$101,17,FALSE)) | S41: =IF(ISNA(VLOOKUP(INDIRECT(ADDRESS(ROW()-1,COLUMN(),2,2)),Donnéesbrutes!$A$3:$Q$101,2,FALSE)),"",VLOOKUP(INDIRECT(ADDRESS(ROW()-1,1,2,2)),Donnéesbrutes!$A$3:$Q$101,2,FALSE)) | T41: =IF(S41="","",VLOOKUP(INDIRECT(ADDRESS(ROW()-1,COLUMN()-1,2,2)),Donnéesbrutes!$A$3:$Q$101,5,FALSE)) | U41: =IF(S41="","",VLOOKUP(INDIRECT(ADDRESS(ROW()-1,COLUMN()-2,2,2)),Donnéesbrutes!$A$3:$Q$101,7,FALSE)) | V41: =IF(S41="","",VLOOKUP(INDIRECT(ADDRESS(ROW()-1,COLUMN()-3,2,2)),Donnéesbrutes!$A$3:$Q$101,9,FALSE)) | W41: =IF(S41="","",VLOOKUP(INDIRECT(ADDRESS(ROW()-1,COLUMN()-4,2,2)),Donnéesbrutes!$A$3:$Q$101,11,FALSE)) | X41: =IF(S41="","",VLOOKUP(INDIRECT(ADDRESS(ROW()-1,COLUMN()-5,2,2)),Donnéesbrutes!$A$3:$Q$101,13,FALSE)) | Y41: =IF(S41="","",VLOOKUP(INDIRECT(ADDRESS(ROW()-1,COLUMN()-6,2,2)),Donnéesbrutes!$A$3:$Q$101,15,FALSE)) | Z41: =IF(S41="","",VLOOKUP(INDIRECT(ADDRESS(ROW()-1,COLUMN()-7,2,2)),Donnéesbrutes!$A$3:$Q$101,17,FALSE))
A42: =A41 | B42: =IF(A41="","",VLOOKUP(INDIRECT(ADDRESS(ROW()-2,1,2,2)),Donnéesbrutes!$A$3:$Q$101,3,FALSE)) | J42: =J41 | K42: =IF(J41="","",VLOOKUP(INDIRECT(ADDRESS(ROW()-2,COLUMN()-1,2,2)),Donnéesbrutes!$A$3:$Q$101,3,FALSE)) | S42: =S41 | T42: =IF(S41="","",VLOOKUP(INDIRECT(ADDRESS(ROW()-2,COLUMN()-1,2,2)),Donnéesbrutes!$A$3:$Q$101,3,FALSE))
A46: Parties | B46: Eq.Domicile | C46: C.Dom. | D46: S1 Dom. | E46: S2 Dom | F46: S3 Dom | G46: S4 Domi | H46: S5 Dom
A47: Jours | B47: Eq.Extérieur | C47: C.Ext. | D47: S2 Ext. | E47: S2 Ext | F47: S3 Ext | G47: S4 Ext | H47: S5 Exte
A49: 31 | B49: =IF(A50="","",VLOOKUP(INDIRECT(ADDRESS(ROW(),COLUMN()-1,2,2)),Donnéesbrutes!$A$3:$Q$101,4,FALSE)) | C49: =IF(A50="","",VLOOKUP(INDIRECT(ADDRESS(ROW(),COLUMN()-2,2,2)),Donnéesbrutes!$A$3:$Q$101,6,FALSE)) | D49: =IF(A50="","",VLOOKUP(INDIRECT(ADDRESS(ROW(),COLUMN()-3,2,2)),Donnéesbrutes!$A$3:$Q$101,8,FALSE)) | E49: =IF(A50="","",VLOOKUP(INDIRECT(ADDRESS(ROW(),COLUMN()-4,2,2)),Donnéesbrutes!$A$3:$Q$101,10,FALSE)) | F49: =IF(A50="","",VLOOKUP(INDIRECT(ADDRESS(ROW(),COLUMN()-5,2,2)),Donnéesbrutes!$A$3:$Q$101,12,FALSE)) | G49: =IF(A50="","",VLOOKUP(INDIRECT(ADDRESS(ROW(),COLUMN()-6,2,2)),Donnéesbrutes!$A$3:$Q$101,14,FALSE)) | H49: =IF(A50="","",VLOOKUP(INDIRECT(ADDRESS(ROW(),COLUMN()-7,2,2)),Donnéesbrutes!$A$3:$Q$101,16,FALSE))
A50: =IF(ISNA(VLOOKUP(INDIRECT(ADDRESS(ROW()-1,COLUMN(),2,2)),Donnéesbrutes!$A$3:$Q$101,2,FALSE)),"",VLOOKUP(INDIRECT(ADDRESS(ROW()-1,1,2,2)),Donnéesbrutes!$A$3:$Q$101,2,FALSE)) | B50: =IF(A50="","",VLOOKUP(INDIRECT(ADDRESS(ROW()-1,COLUMN()-1,2,2)),Donnéesbrutes!$A$3:$Q$101,5,FALSE)) | C50: =IF(A50="","",VLOOKUP(INDIRECT(ADDRESS(ROW()-1,COLUMN()-2,2,2)),Donnéesbrutes!$A$3:$Q$101,7,FALSE)) | D50: =IF(A50="","",VLOOKUP(INDIRECT(ADDRESS(ROW()-1,COLUMN()-3,2,2)),Donnéesbrutes!$A$3:$Q$101,9,FALSE)) | E50: =IF(A50="","",VLOOKUP(INDIRECT(ADDRESS(ROW()-1,COLUMN()-4,2,2)),Donnéesbrutes!$A$3:$Q$101,11,FALSE)) | F50: =IF(A50="","",VLOOKUP(INDIRECT(ADDRESS(ROW()-1,COLUMN()-5,2,2)),Donnéesbrutes!$A$3:$Q$101,13,FALSE)) | G50: =IF(A50="","",VLOOKUP(INDIRECT(ADDRESS(ROW()-1,COLUMN()-6,2,2)),Donnéesbrutes!$A$3:$Q$101,15,FALSE)) | H50: =IF(A50="","",VLOOKUP(INDIRECT(ADDRESS(ROW()-1,COLUMN()-7,2,2)),Donnéesbrutes!$A$3:$Q$101,17,FALSE))
A51: =A50 | B51: =IF(A50="","",VLOOKUP(INDIRECT(ADDRESS(ROW()-2,COLUMN()-1,2,2)),Donnéesbrutes!$A$3:$Q$101,3,FALSE))
A53: 32 | B53: =IF(A54="","",VLOOKUP(INDIRECT(ADDRESS(ROW(),COLUMN()-1,2,2)),Donnéesbrutes!$A$3:$Q$101,4,FALSE)) | C53: =IF(A54="","",VLOOKUP(INDIRECT(ADDRESS(ROW(),COLUMN()-2,2,2)),Donnéesbrutes!$A$3:$Q$101,6,FALSE)) | D53: =IF(A54="","",VLOOKUP(INDIRECT(ADDRESS(ROW(),COLUMN()-3,2,2)),Donnéesbrutes!$A$3:$Q$101,8,FALSE)) | E53: =IF(A54="","",VLOOKUP(INDIRECT(ADDRESS(ROW(),COLUMN()-4,2,2)),Donnéesbrutes!$A$3:$Q$101,10,FALSE)) | F53: =IF(A54="","",VLOOKUP(INDIRECT(ADDRESS(ROW(),COLUMN()-5,2,2)),Donnéesbrutes!$A$3:$Q$101,12,FALSE)) | G53: =IF(A54="","",VLOOKUP(INDIRECT(ADDRESS(ROW(),COLUMN()-6,2,2)),Donnéesbrutes!$A$3:$Q$101,14,FALSE)) | H53: =IF(A54="","",VLOOKUP(INDIRECT(ADDRESS(ROW(),COLUMN()-7,2,2)),Donnéesbrutes!$A$3:$Q$101,16,FALSE))
A54: =IF(ISNA(VLOOKUP(INDIRECT(ADDRESS(ROW()-1,COLUMN(),2,2)),Donnéesbrutes!$A$3:$Q$101,2,FALSE)),"",VLOOKUP(INDIRECT(ADDRESS(ROW()-1,1,2,2)),Donnéesbrutes!$A$3:$Q$101,2,FALSE)) | B54: =IF(A54="","",VLOOKUP(INDIRECT(ADDRESS(ROW()-1,COLUMN()-1,2,2)),Donnéesbrutes!$A$3:$Q$101,5,FALSE)) | C54: =IF(A54="","",VLOOKUP(INDIRECT(ADDRESS(ROW()-1,COLUMN()-2,2,2)),Donnéesbrutes!$A$3:$Q$101,7,FALSE)) | D54: =IF(A54="","",VLOOKUP(INDIRECT(ADDRESS(ROW()-1,COLUMN()-3,2,2)),Donnéesbrutes!$A$3:$Q$101,9,FALSE)) | E54: =IF(A54="","",VLOOKUP(INDIRECT(ADDRESS(ROW()-1,COLUMN()-4,2,2)),Donnéesbrutes!$A$3:$Q$101,11,FALSE)) | F54: =IF(A54="","",VLOOKUP(INDIRECT(ADDRESS(ROW()-1,COLUMN()-5,2,2)),Donnéesbrutes!$A$3:$Q$101,13,FALSE)) | G54: =IF(A54="","",VLOOKUP(INDIRECT(ADDRESS(ROW()-1,COLUMN()-6,2,2)),Donnéesbrutes!$A$3:$Q$101,15,FALSE)) | H54: =IF(A54="","",VLOOKUP(INDIRECT(ADDRESS(ROW()-1,COLUMN()-7,2,2)),Donnéesbrutes!$A$3:$Q$101,17,FALSE))
A55: =A54 | B55: =IF(A54="","",VLOOKUP(INDIRECT(ADDRESS(ROW()-2,COLUMN()-1,2,2)),Donnéesbrutes!$A$3:$Q$101,3,FALSE))
A57: 33 | B57: =IF(A58="","",VLOOKUP(INDIRECT(ADDRESS(ROW(),COLUMN()-1,2,2)),Donnéesbrutes!$A$3:$Q$101,4,FALSE)) | C57: =IF(A58="","",VLOOKUP(INDIRECT(ADDRESS(ROW(),COLUMN()-2,2,2)),Donnéesbrutes!$A$3:$Q$101,6,FALSE)) | D57: =IF(A58="","",VLOOKUP(INDIRECT(ADDRESS(ROW(),COLUMN()-3,2,2)),Donnéesbrutes!$A$3:$Q$101,8,FALSE)) | E57: =IF(A58="","",VLOOKUP(INDIRECT(ADDRESS(ROW(),COLUMN()-4,2,2)),Donnéesbrutes!$A$3:$Q$101,10,FALSE)) | F57: =IF(A58="","",VLOOKUP(INDIRECT(ADDRESS(ROW(),COLUMN()-5,2,2)),Donnéesbrutes!$A$3:$Q$101,12,FALSE)) | G57: =IF(A58="","",VLOOKUP(INDIRECT(ADDRESS(ROW(),COLUMN()-6,2,2)),Donnéesbrutes!$A$3:$Q$101,14,FALSE)) | H57: =IF(A58="","",VLOOKUP(INDIRECT(ADDRESS(ROW(),COLUMN()-7,2,2)),Donnéesbrutes!$A$3:$Q$101,16,FALSE))
A58: =IF(ISNA(VLOOKUP(INDIRECT(ADDRESS(ROW()-1,COLUMN(),2,2)),Donnéesbrutes!$A$3:$Q$101,2,FALSE)),"",VLOOKUP(INDIRECT(ADDRESS(ROW()-1,1,2,2)),Donnéesbrutes!$A$3:$Q$101,2,FALSE)) | B58: =IF(A58="","",VLOOKUP(INDIRECT(ADDRESS(ROW()-1,COLUMN()-1,2,2)),Donnéesbrutes!$A$3:$Q$101,5,FALSE)) | C58: =IF(A58="","",VLOOKUP(INDIRECT(ADDRESS(ROW()-1,COLUMN()-2,2,2)),Donnéesbrutes!$A$3:$Q$101,7,FALSE)) | D58: =IF(A58="","",VLOOKUP(INDIRECT(ADDRESS(ROW()-1,COLUMN()-3,2,2)),Donnéesbrutes!$A$3:$Q$101,9,FALSE)) | E58: =IF(A58="","",VLOOKUP(INDIRECT(ADDRESS(ROW()-1,COLUMN()-4,2,2)),Donnéesbrutes!$A$3:$Q$101,11,FALSE)) | F58: =IF(A58="","",VLOOKUP(INDIRECT(ADDRESS(ROW()-1,COLUMN()-5,2,2)),Donnéesbrutes!$A$3:$Q$101,13,FALSE)) | G58: =IF(A58="","",VLOOKUP(INDIRECT(ADDRESS(ROW()-1,COLUMN()-6,2,2)),Donnéesbrutes!$A$3:$Q$101,15,FALSE)) | H58: =IF(A58="","",VLOOKUP(INDIRECT(ADDRESS(ROW()-1,COLUMN()-7,2,2)),Donnéesbrutes!$A$3:$Q$101,17,FALSE))
A59: =A58 | B59: =IF(A58="","",VLOOKUP(INDIRECT(ADDRESS(ROW()-2,COLUMN()-1,2,2)),Donnéesbrutes!$A$3:$Q$101,3,FALSE))
A61: 34 | B61: =IF(A62="","",VLOOKUP(INDIRECT(ADDRESS(ROW(),COLUMN()-1,2,2)),Donnéesbrutes!$A$3:$Q$101,4,FALSE)) | C61: =IF(A62="","",VLOOKUP(INDIRECT(ADDRESS(ROW(),COLUMN()-2,2,2)),Donnéesbrutes!$A$3:$Q$101,6,FALSE)) | D61: =IF(A62="","",VLOOKUP(INDIRECT(ADDRESS(ROW(),COLUMN()-3,2,2)),Donnéesbrutes!$A$3:$Q$101,8,FALSE)) | E61: =IF(A62="","",VLOOKUP(INDIRECT(ADDRESS(ROW(),COLUMN()-4,2,2)),Donnéesbrutes!$A$3:$Q$101,10,FALSE)) | F61: =IF(A62="","",VLOOKUP(INDIRECT(ADDRESS(ROW(),COLUMN()-5,2,2)),Donnéesbrutes!$A$3:$Q$101,12,FALSE)) | G61: =IF(A62="","",VLOOKUP(INDIRECT(ADDRESS(ROW(),COLUMN()-6,2,2)),Donnéesbrutes!$A$3:$Q$101,14,FALSE)) | H61: =IF(A62="","",VLOOKUP(INDIRECT(ADDRESS(ROW(),COLUMN()-7,2,2)),Donnéesbrutes!$A$3:$Q$101,16,FALSE))
A62: =IF(ISNA(VLOOKUP(INDIRECT(ADDRESS(ROW()-1,COLUMN(),2,2)),Donnéesbrutes!$A$3:$Q$101,2,FALSE)),"",VLOOKUP(INDIRECT(ADDRESS(ROW()-1,1,2,2)),Donnéesbrutes!$A$3:$Q$101,2,FALSE)) | B62: =IF(A62="","",VLOOKUP(INDIRECT(ADDRESS(ROW()-1,COLUMN()-1,2,2)),Donnéesbrutes!$A$3:$Q$101,5,FALSE)) | C62: =IF(A62="","",VLOOKUP(INDIRECT(ADDRESS(ROW()-1,COLUMN()-2,2,2)),Donnéesbrutes!$A$3:$Q$101,7,FALSE)) | D62: =IF(A62="","",VLOOKUP(INDIRECT(ADDRESS(ROW()-1,COLUMN()-3,2,2)),Donnéesbrutes!$A$3:$Q$101,9,FALSE)) | E62: =IF(A62="","",VLOOKUP(INDIRECT(ADDRESS(ROW()-1,COLUMN()-4,2,2)),Donnéesbrutes!$A$3:$Q$101,11,FALSE)) | F62: =IF(A62="","",VLOOKUP(INDIRECT(ADDRESS(ROW()-1,COLUMN()-5,2,2)),Donnéesbrutes!$A$3:$Q$101,13,FALSE)) | G62: =IF(A62="","",VLOOKUP(INDIRECT(ADDRESS(ROW()-1,COLUMN()-6,2,2)),Donnéesbrutes!$A$3:$Q$101,15,FALSE)) | H62: =IF(A62="","",VLOOKUP(INDIRECT(ADDRESS(ROW()-1,COLUMN()-7,2,2)),Donnéesbrutes!$A$3:$Q$101,17,FALSE))
A63: =A62 | B63: =IF(A62="","",VLOOKUP(INDIRECT(ADDRESS(ROW()-2,COLUMN()-1,2,2)),Donnéesbrutes!$A$3:$Q$101,3,FALSE))
A65: 35 | B65: =IF(A66="","",VLOOKUP(INDIRECT(ADDRESS(ROW(),COLUMN()-1,2,2)),Donnéesbrutes!$A$3:$Q$101,4,FALSE)) | C65: =IF(A66="","",VLOOKUP(INDIRECT(ADDRESS(ROW(),COLUMN()-2,2,2)),Donnéesbrutes!$A$3:$Q$101,6,FALSE)) | D65: =IF(A66="","",VLOOKUP(INDIRECT(ADDRESS(ROW(),COLUMN()-3,2,2)),Donnéesbrutes!$A$3:$Q$101,8,FALSE)) | E65: =IF(A66="","",VLOOKUP(INDIRECT(ADDRESS(ROW(),COLUMN()-4,2,2)),Donnéesbrutes!$A$3:$Q$101,10,FALSE)) | F65: =IF(A66="","",VLOOKUP(INDIRECT(ADDRESS(ROW(),COLUMN()-5,2,2)),Donnéesbrutes!$A$3:$Q$101,12,FALSE)) | G65: =IF(A66="","",VLOOKUP(INDIRECT(ADDRESS(ROW(),COLUMN()-6,2,2)),Donnéesbrutes!$A$3:$Q$101,14,FALSE)) | H65: =IF(A66="","",VLOOKUP(INDIRECT(ADDRESS(ROW(),COLUMN()-7,2,2)),Donnéesbrutes!$A$3:$Q$101,16,FALSE))
A66: =IF(ISNA(VLOOKUP(INDIRECT(ADDRESS(ROW()-1,COLUMN(),2,2)),Donnéesbrutes!$A$3:$Q$101,2,FALSE)),"",VLOOKUP(INDIRECT(ADDRESS(ROW()-1,1,2,2)),Donnéesbrutes!$A$3:$Q$101,2,FALSE)) | B66: =IF(A66="","",VLOOKUP(INDIRECT(ADDRESS(ROW()-1,COLUMN()-1,2,2)),Donnéesbrutes!$A$3:$Q$101,5,FALSE)) | C66: =IF(A66="","",VLOOKUP(INDIRECT(ADDRESS(ROW()-1,COLUMN()-2,2,2)),Donnéesbrutes!$A$3:$Q$101,7,FALSE)) | D66: =IF(A66="","",VLOOKUP(INDIRECT(ADDRESS(ROW()-1,COLUMN()-3,2,2)),Donnéesbrutes!$A$3:$Q$101,9,FALSE)) | E66: =IF(A66="","",VLOOKUP(INDIRECT(ADDRESS(ROW()-1,COLUMN()-4,2,2)),Donnéesbrutes!$A$3:$Q$101,11,FALSE)) | F66: =IF(A66="","",VLOOKUP(INDIRECT(ADDRESS(ROW()-1,COLUMN()-5,2,2)),Donnéesbrutes!$A$3:$Q$101,13,FALSE)) | G66: =IF(A66="","",VLOOKUP(INDIRECT(ADDRESS(ROW()-1,COLUMN()-6,2,2)),Donnéesbrutes!$A$3:$Q$101,15,FALSE)) | H66: =IF(A66="","",VLOOKUP(INDIRECT(ADDRESS(ROW()-1,COLUMN()-7,2,2)),Donnéesbrutes!$A$3:$Q$101,17,FALSE))
A67: =A66 | B67: =IF(A66="","",VLOOKUP(INDIRECT(ADDRESS(ROW()-2,COLUMN()-1,2,2)),Donnéesbrutes!$A$3:$Q$101,3,FALSE))
A69: 36 | B69: =IF(A70="","",VLOOKUP(INDIRECT(ADDRESS(ROW(),COLUMN()-1,2,2)),Donnéesbrutes!$A$3:$Q$101,4,FALSE)) | C69: =IF(A70="","",VLOOKUP(INDIRECT(ADDRESS(ROW(),COLUMN()-2,2,2)),Donnéesbrutes!$A$3:$Q$101,6,FALSE)) | D69: =IF(A70="","",VLOOKUP(INDIRECT(ADDRESS(ROW(),COLUMN()-3,2,2)),Donnéesbrutes!$A$3:$Q$101,8,FALSE)) | E69: =IF(A70="","",VLOOKUP(INDIRECT(ADDRESS(ROW(),COLUMN()-4,2,2)),Donnéesbrutes!$A$3:$Q$101,10,FALSE)) | F69: =IF(A70="","",VLOOKUP(INDIRECT(ADDRESS(ROW(),COLUMN()-5,2,2)),Donnéesbrutes!$A$3:$Q$101,12,FALSE)) | G69: =IF(A70="","",VLOOKUP(INDIRECT(ADDRESS(ROW(),COLUMN()-6,2,2)),Donnéesbrutes!$A$3:$Q$101,14,FALSE)) | H69: =IF(A70="","",VLOOKUP(INDIRECT(ADDRESS(ROW(),COLUMN()-7,2,2)),Donnéesbrutes!$A$3:$Q$101,16,FALSE))
A70: =IF(ISNA(VLOOKUP(INDIRECT(ADDRESS(ROW()-1,COLUMN(),2,2)),Donnéesbrutes!$A$3:$Q$101,2,FALSE)),"",VLOOKUP(INDIRECT(ADDRESS(ROW()-1,1,2,2)),Donnéesbrutes!$A$3:$Q$101,2,FALSE)) | B70: =IF(A70="","",VLOOKUP(INDIRECT(ADDRESS(ROW()-1,COLUMN()-1,2,2)),Donnéesbrutes!$A$3:$Q$101,5,FALSE)) | C70: =IF(A70="","",VLOOKUP(INDIRECT(ADDRESS(ROW()-1,COLUMN()-2,2,2)),Donnéesbrutes!$A$3:$Q$101,7,FALSE)) | D70: =IF(A70="","",VLOOKUP(INDIRECT(ADDRESS(ROW()-1,COLUMN()-3,2,2)),Donnéesbrutes!$A$3:$Q$101,9,FALSE)) | E70: =IF(A70="","",VLOOKUP(INDIRECT(ADDRESS(ROW()-1,COLUMN()-4,2,2)),Donnéesbrutes!$A$3:$Q$101,11,FALSE)) | F70: =IF(A70="","",VLOOKUP(INDIRECT(ADDRESS(ROW()-1,COLUMN()-5,2,2)),Donnéesbrutes!$A$3:$Q$101,13,FALSE)) | G70: =IF(A70="","",VLOOKUP(INDIRECT(ADDRESS(ROW()-1,COLUMN()-6,2,2)),Donnéesbrutes!$A$3:$Q$101,15,FALSE)) | H70: =IF(A70="","",VLOOKUP(INDIRECT(ADDRESS(ROW()-1,COLUMN()-7,2,2)),Donnéesbrutes!$A$3:$Q$101,17,FALSE))
A71: =A70 | B71: =IF(A70="","",VLOOKUP(INDIRECT(ADDRESS(ROW()-2,COLUMN()-1,2,2)),Donnéesbrutes!$A$3:$Q$101,3,FALSE))
A73: 37 | B73: =IF(A74="","",VLOOKUP(INDIRECT(ADDRESS(ROW(),COLUMN()-1,2,2)),Donnéesbrutes!$A$3:$Q$101,4,FALSE)) | C73: =IF(A74="","",VLOOKUP(INDIRECT(ADDRESS(ROW(),COLUMN()-2,2,2)),Donnéesbrutes!$A$3:$Q$101,6,FALSE)) | D73: =IF(A74="","",VLOOKUP(INDIRECT(ADDRESS(ROW(),COLUMN()-3,2,2)),Donnéesbrutes!$A$3:$Q$101,8,FALSE)) | E73: =IF(A74="","",VLOOKUP(INDIRECT(ADDRESS(ROW(),COLUMN()-4,2,2)),Donnéesbrutes!$A$3:$Q$101,10,FALSE)) | F73: =IF(A74="","",VLOOKUP(INDIRECT(ADDRESS(ROW(),COLUMN()-5,2,2)),Donnéesbrutes!$A$3:$Q$101,12,FALSE)) | G73: =IF(A74="","",VLOOKUP(INDIRECT(ADDRESS(ROW(),COLUMN()-6,2,2)),Donnéesbrutes!$A$3:$Q$101,14,FALSE)) | H73: =IF(A74="","",VLOOKUP(INDIRECT(ADDRESS(ROW(),COLUMN()-7,2,2)),Donnéesbrutes!$A$3:$Q$101,16,FALSE))
A74: =IF(ISNA(VLOOKUP(INDIRECT(ADDRESS(ROW()-1,COLUMN(),2,2)),Donnéesbrutes!$A$3:$Q$101,2,FALSE)),"",VLOOKUP(INDIRECT(ADDRESS(ROW()-1,1,2,2)),Donnéesbrutes!$A$3:$Q$101,2,FALSE)) | B74: =IF(A74="","",VLOOKUP(INDIRECT(ADDRESS(ROW()-1,COLUMN()-1,2,2)),Donnéesbrutes!$A$3:$Q$101,5,FALSE)) | C74: =IF(A74="","",VLOOKUP(INDIRECT(ADDRESS(ROW()-1,COLUMN()-2,2,2)),Donnéesbrutes!$A$3:$Q$101,7,FALSE)) | D74: =IF(A74="","",VLOOKUP(INDIRECT(ADDRESS(ROW()-1,COLUMN()-3,2,2)),Donnéesbrutes!$A$3:$Q$101,9,FALSE)) | E74: =IF(A74="","",VLOOKUP(INDIRECT(ADDRESS(ROW()-1,COLUMN()-4,2,2)),Donnéesbrutes!$A$3:$Q$101,11,FALSE)) | F74: =IF(A74="","",VLOOKUP(INDIRECT(ADDRESS(ROW()-1,COLUMN()-5,2,2)),Donnéesbrutes!$A$3:$Q$101,13,FALSE)) | G74: =IF(A74="","",VLOOKUP(INDIRECT(ADDRESS(ROW()-1,COLUMN()-6,2,2)),Donnéesbrutes!$A$3:$Q$101,15,FALSE)) | H74: =IF(A74="","",VLOOKUP(INDIRECT(ADDRESS(ROW()-1,COLUMN()-7,2,2)),Donnéesbrutes!$A$3:$Q$101,17,FALSE))
A75: =A74 | B75: =IF(A74="","",VLOOKUP(INDIRECT(ADDRESS(ROW()-2,COLUMN()-1,2,2)),Donnéesbrutes!$A$3:$Q$101,3,FALSE))
A77: 38 | B77: =IF(A78="","",VLOOKUP(INDIRECT(ADDRESS(ROW(),COLUMN()-1,2,2)),Donnéesbrutes!$A$3:$Q$101,4,FALSE)) | C77: =IF(A78="","",VLOOKUP(INDIRECT(ADDRESS(ROW(),COLUMN()-2,2,2)),Donnéesbrutes!$A$3:$Q$101,6,FALSE)) | D77: =IF(A78="","",VLOOKUP(INDIRECT(ADDRESS(ROW(),COLUMN()-3,2,2)),Donnéesbrutes!$A$3:$Q$101,8,FALSE)) | E77: =IF(A78="","",VLOOKUP(INDIRECT(ADDRESS(ROW(),COLUMN()-4,2,2)),Donnéesbrutes!$A$3:$Q$101,10,FALSE)) | F77: =IF(A78="","",VLOOKUP(INDIRECT(ADDRESS(ROW(),COLUMN()-5,2,2)),Donnéesbrutes!$A$3:$Q$101,12,FALSE)) | G77: =IF(A78="","",VLOOKUP(INDIRECT(ADDRESS(ROW(),COLUMN()-6,2,2)),Donnéesbrutes!$A$3:$Q$101,14,FALSE)) | H77: =IF(A78="","",VLOOKUP(INDIRECT(ADDRESS(ROW(),COLUMN()-7,2,2)),Donnéesbrutes!$A$3:$Q$101,16,FALSE))
A78: =IF(ISNA(VLOOKUP(INDIRECT(ADDRESS(ROW()-1,COLUMN(),2,2)),Donnéesbrutes!$A$3:$Q$101,2,FALSE)),"",VLOOKUP(INDIRECT(ADDRESS(ROW()-1,1,2,2)),Donnéesbrutes!$A$3:$Q$101,2,FALSE)) | B78: =IF(A78="","",VLOOKUP(INDIRECT(ADDRESS(ROW()-1,COLUMN()-1,2,2)),Donnéesbrutes!$A$3:$Q$101,5,FALSE)) | C78: =IF(A78="","",VLOOKUP(INDIRECT(ADDRESS(ROW()-1,COLUMN()-2,2,2)),Donnéesbrutes!$A$3:$Q$101,7,FALSE)) | D78: =IF(A78="","",VLOOKUP(INDIRECT(ADDRESS(ROW()-1,COLUMN()-3,2,2)),Donnéesbrutes!$A$3:$Q$101,9,FALSE)) | E78: =IF(A78="","",VLOOKUP(INDIRECT(ADDRESS(ROW()-1,COLUMN()-4,2,2)),Donnéesbrutes!$A$3:$Q$101,11,FALSE)) | F78: =IF(A78="","",VLOOKUP(INDIRECT(ADDRESS(ROW()-1,COLUMN()-5,2,2)),Donnéesbrutes!$A$3:$Q$101,13,FALSE)) | G78: =IF(A78="","",VLOOKUP(INDIRECT(ADDRESS(ROW()-1,COLUMN()-6,2,2)),Donnéesbrutes!$A$3:$Q$101,15,FALSE)) | H78: =IF(A78="","",VLOOKUP(INDIRECT(ADDRESS(ROW()-1,COLUMN()-7,2,2)),Donnéesbrutes!$A$3:$Q$101,17,FALSE))
A79: =A78 | B79: =IF(A78="","",VLOOKUP(INDIRECT(ADDRESS(ROW()-2,COLUMN()-1,2,2)),Donnéesbrutes!$A$3:$Q$101,3,FALSE))
A81: 39 | B81: =IF(A82="","",VLOOKUP(INDIRECT(ADDRESS(ROW(),COLUMN()-1,2,2)),Donnéesbrutes!$A$3:$Q$101,4,FALSE)) | C81: =IF(A82="","",VLOOKUP(INDIRECT(ADDRESS(ROW(),COLUMN()-2,2,2)),Donnéesbrutes!$A$3:$Q$101,6,FALSE)) | D81: =IF(A82="","",VLOOKUP(INDIRECT(ADDRESS(ROW(),COLUMN()-3,2,2)),Donnéesbrutes!$A$3:$Q$101,8,FALSE)) | E81: =IF(A82="","",VLOOKUP(INDIRECT(ADDRESS(ROW(),COLUMN()-4,2,2)),Donnéesbrutes!$A$3:$Q$101,10,FALSE)) | F81: =IF(A82="","",VLOOKUP(INDIRECT(ADDRESS(ROW(),COLUMN()-5,2,2)),Donnéesbrutes!$A$3:$Q$101,12,FALSE)) | G81: =IF(A82="","",VLOOKUP(INDIRECT(ADDRESS(ROW(),COLUMN()-6,2,2)),Donnéesbrutes!$A$3:$Q$101,14,FALSE)) | H81: =IF(A82="","",VLOOKUP(INDIRECT(ADDRESS(ROW(),COLUMN()-7,2,2)),Donnéesbrutes!$A$3:$Q$101,16,FALSE))
A82: =IF(ISNA(VLOOKUP(INDIRECT(ADDRESS(ROW()-1,COLUMN(),2,2)),Donnéesbrutes!$A$3:$Q$101,2,FALSE)),"",VLOOKUP(INDIRECT(ADDRESS(ROW()-1,1,2,2)),Donnéesbrutes!$A$3:$Q$101,2,FALSE)) | B82: =IF(A82="","",VLOOKUP(INDIRECT(ADDRESS(ROW()-1,COLUMN()-1,2,2)),Donnéesbrutes!$A$3:$Q$101,5,FALSE)) | C82: =IF(A82="","",VLOOKUP(INDIRECT(ADDRESS(ROW()-1,COLUMN()-2,2,2)),Donnéesbrutes!$A$3:$Q$101,7,FALSE)) | D82: =IF(A82="","",VLOOKUP(INDIRECT(ADDRESS(ROW()-1,COLUMN()-3,2,2)),Donnéesbrutes!$A$3:$Q$101,9,FALSE)) | E82: =IF(A82="","",VLOOKUP(INDIRECT(ADDRESS(ROW()-1,COLUMN()-4,2,2)),Donnéesbrutes!$A$3:$Q$101,11,FALSE)) | F82: =IF(A82="","",VLOOKUP(INDIRECT(ADDRESS(ROW()-1,COLUMN()-5,2,2)),Donnéesbrutes!$A$3:$Q$101,13,FALSE)) | G82: =IF(A82="","",VLOOKUP(INDIRECT(ADDRESS(ROW()-1,COLUMN()-6,2,2)),Donnéesbrutes!$A$3:$Q$101,15,FALSE)) | H82: =IF(A82="","",VLOOKUP(INDIRECT(ADDRESS(ROW()-1,COLUMN()-7,2,2)),Donnéesbrutes!$A$3:$Q$101,17,FALSE))
A83: =A82 | B83: =IF(A82="","",VLOOKUP(INDIRECT(ADDRESS(ROW()-2,COLUMN()-1,2,2)),Donnéesbrutes!$A$3:$Q$101,3,FALSE))
A85: 40 | B85: =IF(A86="","",VLOOKUP(INDIRECT(ADDRESS(ROW(),COLUMN()-1,2,2)),Donnéesbrutes!$A$3:$Q$101,4,FALSE)) | C85: =IF(A86="","",VLOOKUP(INDIRECT(ADDRESS(ROW(),COLUMN()-2,2,2)),Donnéesbrutes!$A$3:$Q$101,6,FALSE)) | D85: =IF(A86="","",VLOOKUP(INDIRECT(ADDRESS(ROW(),COLUMN()-3,2,2)),Donnéesbrutes!$A$3:$Q$101,8,FALSE)) | E85: =IF(A86="","",VLOOKUP(INDIRECT(ADDRESS(ROW(),COLUMN()-4,2,2)),Donnéesbrutes!$A$3:$Q$101,10,FALSE)) | F85: =IF(A86="","",VLOOKUP(INDIRECT(ADDRESS(ROW(),COLUMN()-5,2,2)),Donnéesbrutes!$A$3:$Q$101,12,FALSE)) | G85: =IF(A86="","",VLOOKUP(INDIRECT(ADDRESS(ROW(),COLUMN()-6,2,2)),Donnéesbrutes!$A$3:$Q$101,14,FALSE)) | H85: =IF(A86="","",VLOOKUP(INDIRECT(ADDRESS(ROW(),COLUMN()-7,2,2)),Donnéesbrutes!$A$3:$Q$101,16,FALSE))
A86: =IF(ISNA(VLOOKUP(INDIRECT(ADDRESS(ROW()-1,COLUMN(),2,2)),Donnéesbrutes!$A$3:$Q$101,2,FALSE)),"",VLOOKUP(INDIRECT(ADDRESS(ROW()-1,1,2,2)),Donnéesbrutes!$A$3:$Q$101,2,FALSE)) | B86: =IF(A86="","",VLOOKUP(INDIRECT(ADDRESS(ROW()-1,COLUMN()-1,2,2)),Donnéesbrutes!$A$3:$Q$101,5,FALSE)) | C86: =IF(A86="","",VLOOKUP(INDIRECT(ADDRESS(ROW()-1,COLUMN()-2,2,2)),Donnéesbrutes!$A$3:$Q$101,7,FALSE)) | D86: =IF(A86="","",VLOOKUP(INDIRECT(ADDRESS(ROW()-1,COLUMN()-3,2,2)),Donnéesbrutes!$A$3:$Q$101,9,FALSE)) | E86: =IF(A86="","",VLOOKUP(INDIRECT(ADDRESS(ROW()-1,COLUMN()-4,2,2)),Donnéesbrutes!$A$3:$Q$101,11,FALSE)) | F86: =IF(A86="","",VLOOKUP(INDIRECT(ADDRESS(ROW()-1,COLUMN()-5,2,2)),Donnéesbrutes!$A$3:$Q$101,13,FALSE)) | G86: =IF(A86="","",VLOOKUP(INDIRECT(ADDRESS(ROW()-1,COLUMN()-6,2,2)),Donnéesbrutes!$A$3:$Q$101,15,FALSE)) | H86: =IF(A86="","",VLOOKUP(INDIRECT(ADDRESS(ROW()-1,COLUMN()-7,2,2)),Donnéesbrutes!$A$3:$Q$101,17,FALSE))
A87: =A86 | B87: =IF(A86="","",VLOOKUP(INDIRECT(ADDRESS(ROW()-2,COLUMN()-1,2,2)),Donnéesbrutes!$A$3:$Q$101,3,FALSE))

Sheet Listes
A1: EQUIPES | C1: COTE DOM | D1: COTE EXT | G1: COMBINAISON DES SCORES
A2: EQUIPE A | C2: 1 | D2: 26 | G2: 0 | H2: 25
A3: EQUIPE B | C3: 1 | D3: 21 | G3: 1 | H3: 25
A4: EQUIPE C | C4: 1 | D4: 17 | G4: 2 | H4: 25
A5: EQUIPE D | C5: 1.01 | D5: 15 | G5: 3 | H5: 25
A6: EQUIPE E | C6: 1.02 | D6: 11 | G6: 4 | H6: 25
A7: EQUIPE F | C7: 1.03 | D7: 10 | G7: 5 | H7: 25
A8: EQUIPE G | C8: 1.04 | D8: 9 | G8: 6 | H8: 25
A9: EQUIPE H | C9: 1.05 | D9: 8.5 | G9: 7 | H9: 25
A10: EQUIPE I | C10: 1.06 | D10: 8 | G10: 8 | H10: 25
A11: EQUIPE J | C11: 1.07 | D11: 7.5 | G11: 9 | H11: 25
A12: EQUIPE K | C12: 1.08 | D12: 7 | G12: 10 | H12: 25
A13: EQUIPE L | C13: 1.1 | D13: 6.5 | G13: 11 | H13: 25
A14: EQUIPE M | C14: 1.11 | D14: 6 | G14: 12 | H14: 25
A15: EQUIPE N | C15: 1.12 | D15: 5.5 | G15: 13 | H15: 25
A16: EQUIPE O | C16: 1.14 | D16: 5 | G16: 14 | H16: 25
A17: EQUIPE P | C17: 1.16 | D17: 4.5 | G17: 15 | H17: 25
C18: 1.2 | D18: 4.33 | G18: 16 | H18: 25
C19: 1.22 | D19: 4 | G19: 17 | H19: 25
C20: 1.25 | D20: 3.75 | G20: 18 | H20: 25
C21: 1.28 | D21: 3.5 | G21: 19 | H21: 25
C22: 1.3 | D22: 3.4 | G22: 20 | H22: 25
C23: 1.33 | D23: 3.25 | G23: 21 | H23: 25
C24: 1.36 | D24: 3 | G24: 22 | H24: 25
C25: 1.4 | D25: 2.75 | G25: 23 | H25: 25
C26: 1.44 | D26: 2.62 | G26: 24 | H26: 26
C27: 1.5 | D27: 2.5 | G27: 25 | H27: 27
C28: 1.53 | D28: 2.37 | G28: 26 | H28: 28
C29: 1.57 | D29: 2.25 | G29: 27 | H29: 29
C30: 1.61 | D30: 2.2 | G30: 28 | H30: 30
C31: 1.66 | D31: 2.1 | G31: 29 | H31: 31
C32: 1.72 | D32: 2 | G32: 30 | H32: 32
C33: 1.8 | D33: 1.9 | G33: 31 | H33: 33
C34: 1.83 | D34: 1.83 | G34: 32 | H34: 34
C35: 1.9 | D35: 1.8 | G35: 33 | H35: 35
... C66: 26 | D66: 1 | G66: 64 | H66: 66
G67: 65 | H67: 67
G68: 66 | H68: 68
G69: 67 | H69: 69
G70: 68 | H70: 70
G71: 69 | H71: 71
G72: 70 | H72: 72

Sheet Donnéesbrutes
D1: EQUIPES | F1: COTE | H1: R.SET1 | J1: R.SET2 | L1: R.SET3 | N1: R.SET4 | P1: R.SET5
A2: P. | B2: DATE | C2: HEURE | D2: EQU.DOM. | E2: EQU.EXT. | F2: C.DOM. | G2: C.EXT. | H2: S1-DOM. | I2: S1-EXT. | J2: S2-DOM. | K2: S2-EXT. | L2: S3-DOM. | M2: S3-EXT. | N2: S4-DOM. | O2: S4-EXT. | P2: S5-DOM. | Q2: S5-EXT.
F3: 1.0011 | G3: =VLOOKUP(F3,ENSENMBLE,2) -> 17 | H3: =IF(ISBLANK(I3),"",IF(I3=24,26,IF(I3<23,25,IF(I3>25,0)))) | I3: =IF(ISBLANK(H3),"",IF(H3<23,25,IF(H3=24,26,IF(H3>25,"")))) -> 0
F4: 1.0011 | G4: =VLOOKUP(F4,ENSENMBLE,2) -> 17 | H4: =IF(ISBLANK(I4),"",IF(I4=24,26,IF(I4<23,25,IF(I4>25,0)))) -> 26 | I4: 24
F5: 1.0011 | G5: =VLOOKUP(F5,ENSENMBLE,2) -> 17 | H5: =IF(ISBLANK(I5),"",IF(I5=24,26,IF(I5<23,25,IF(I5>25,0)))) -> 25 | I5: 18
F6: 1.0011 | G6: =VLOOKUP(F6,ENSENMBLE,2) -> 17 | H6: =IF(ISBLANK(I6),"",IF(I6=24,26,IF(I6<23,25,IF(I6>25,0)))) | I6: =IF(ISBLANK(H6),"",IF(H6<23,25,IF(H6=24,26,IF(H6>25,"")))) -> 0
F7: 1.0011 | G7: =VLOOKUP(F7,ENSENMBLE,2) -> 17 | H7: =IF(ISBLANK(I7),"",IF(I7=24,26,IF(I7<23,25,IF(I7>25,0)))) | I7: =IF(ISBLANK(H7),"",IF(H7<23,25,IF(H7=24,26,IF(H7>25,"")))) -> 0
F8: 1.0011 | G8: =VLOOKUP(F8,ENSENMBLE,2) -> 17 | H8: =IF(ISBLANK(I8),"",IF(I8=24,26,IF(I8<23,25,IF(I8>25,0)))) | I8: =IF(ISBLANK(H8),"",IF(H8<23,25,IF(H8=24,26,IF(H8>25,"")))) -> 0
F9: 1.0011 | G9: =VLOOKUP(F9,ENSENMBLE,2) -> 17 | H9: =IF(ISBLANK(I9),"",IF(I9=24,26,IF(I9<23,25,IF(I9>25,0)))) | I9: =IF(ISBLANK(H9),"",IF(H9<23,25,IF(H9=24,26,IF(H9>25,"")))) -> 0
F10: 1.0011 | G10: =VLOOKUP(F10,ENSENMBLE,2) -> 17 | H10: =IF(ISBLANK(I10),"",IF(I10=24,26,IF(I10<23,25,IF(I10>25,0)))) | I10: =IF(ISBLANK(H10),"",IF(H10<23,25,IF(H10=24,26,IF(H10>25,"")))) -> 0
F11: 1.0011 | G11: =VLOOKUP(F11,ENSENMBLE,2) -> 17 | H11: =IF(ISBLANK(I11),"",IF(I11=24,26,IF(I11<23,25,IF(I11>25,0)))) | I11: =IF(ISBLANK(H11),"",IF(H11<23,25,IF(H11=24,26,IF(H11>25,"")))) -> 0
F12: 1.0011 | G12: =VLOOKUP(F12,ENSENMBLE,2) -> 17 | H12: =IF(ISBLANK(I12),"",IF(I12=24,26,IF(I12<23,25,IF(I12>25,0)))) | I12: =IF(ISBLANK(H12),"",IF(H12<23,25,IF(H12=24,26,IF(H12>25,"")))) -> 0
F13: 1.0011 | G13: =VLOOKUP(F13,ENSENMBLE,2) -> 17 | H13: =IF(ISBLANK(I13),"",IF(I13=24,26,IF(I13<23,25,IF(I13>25,0)))) | I13: =IF(ISBLANK(H13),"",IF(H13<23,25,IF(H13=24,26,IF(H13>25,"")))) -> 0
F14: 1.0011 | G14: =VLOOKUP(F14,ENSENMBLE,2) -> 17 | H14: =IF(ISBLANK(I14),"",IF(I14=24,26,IF(I14<23,25,IF(I14>25,0)))) | I14: =IF(ISBLANK(H14),"",IF(H14<23,25,IF(H14=24,26,IF(H14>25,"")))) -> 0
F15: 1.0011 | G15: =VLOOKUP(F15,ENSENMBLE,2) -> 17 | H15: =IF(ISBLANK(I15),"",IF(I15=24,26,IF(I15<23,25,IF(I15>25,0)))) | I15: =IF(ISBLANK(H15),"",IF(H15<23,25,IF(H15=24,26,IF(H15>25,"")))) -> 0
F16: 1.0011 | G16: =VLOOKUP(F16,ENSENMBLE,2) -> 17 | H16: =IF(ISBLANK(I16),"",IF(I16=24,26,IF(I16<23,25,IF(I16>25,0)))) | I16: =IF(ISBLANK(H16),"",IF(H16<23,25,IF(H16=24,26,IF(H16>25,"")))) -> 0
F17: 1.0011 | G17: =VLOOKUP(F17,ENSENMBLE,2) -> 17 | H17: =IF(ISBLANK(I17),"",IF(I17=24,26,IF(I17<23,25,IF(I17>25,0)))) | I17: =IF(ISBLANK(H17),"",IF(H17<23,25,IF(H17=24,26,IF(H17>25,"")))) -> 0
... F101: 1.0011 | G101: =VLOOKUP(F101,ENSENMBLE,2) -> 17 | H101: =IF(ISBLANK(I101),"",IF(I101=24,26,IF(I101<23,25,IF(I101>25,0)))) | I101: =IF(ISBLANK(H101),"",IF(H101<23,25,IF(H101=24,26,IF(H101>25,"")))) -> 0
I102: =IF(ISBLANK(H102),"",IF(H102<23,25,IF(H102=24,26,IF(H102>25,""))))

Sheet Feuil1
D1: EQUIPES | F1: COTE | H1: R.SET1 | J1: R.SET2 | L1: R.SET3 | N1: R.SET4 | P1: R.SET5
A2: P. | B2: DATE | C2: HEURE | D2: EQU.DOM. | E2: EQU.EXT. | F2: C.DOM. | G2: C.EXT. | H2: S1-DOM. | I2: S1-EXT. | J2: S2-DOM. | K2: S2-EXT. | L2: S3-DOM. | M2: S3-EXT. | N2: S4-DOM. | O2: S4-EXT. | P2: S5-DOM. | Q2: S5-EXT.
A3: 1 | B3: 42315 | C3: 0.58333333 | D3: Orenburg | E3: Novosibirsk | F3: 8.5 | G3: 1.05 | H3: 18 | I3: 25 | J3: 18 | K3: 25 | L3: 24 | M3: 26
A4: 2 | B4: 42319 | C4: 0.625 | D4: Surgut | E4: Orenburg | F4: 1.07 | G4: 7.5 | H4: 25 | I4: 18 | J4: 23 | K4: 25 | L4: 25 | M4: 19 | N4: 26 | O4: 24
A5: 3 | B5: 42322 | C5: 0.58333333 | D5: Urengoy | E5: Orenburg | F5: 1.06 | G5: 8 | H5: 25 | I5: 15 | J5: 27 | K5: 29 | L5: 25 | M5: 14 | N5: 25 | O5: 13
A6: 4 | B6: 42330 | C6: 0.58333333 | D6: Orenburg | E6: Novgorod | F6: 1.57 | G6: 2.25 | H6: 25 | I6: 20 | J6: 26 | K6: 24 | L6: 23 | M6: 25 | N6: 25 | O6: 23
A7: 5 | B7: 42343 | C7: 0.5 | D7: Kemerovo | E7: Orenburg | F7: 1.07 | G7: 7.5 | H7: 25 | I7: 18 | J7: 25 | K7: 22 | L7: 23 | M7: 25 | N7: 25 | O7: 20
A8: 6 | B8: 42347 | C8: 0.58333333 | D8: Orenburg | E8: Krasnoda | F8: 1.66 | G8: 2.1 | H8: 25 | I8: 16 | J8: 25 | K8: 20 | L8: 23 | M8: 25 | N8: 25 | O8: 15
A9: 7 | B9: 42358 | C9: 0.54166667 | D9: Nizhne | E9: Orenburg | F9: 1.33 | G9: 3.25 | H9: 25 | I9: 16 | J9: 25 | K9: 17 | L9: 25 | M9: 17
A10: 8 | B10: 42382 | C10: 0.54166667 | D10: Kra | E10: Orenburg | F10: 1.16 | G10: 4.5 | H10: 25 | I10: 23 | J10: 25 | K10: 18 | L10: 25 | M10: 23
F11: 1 | G11: =VLOOKUP(F11,ENSENMBLE,2) -> 17
F12: 1 | G12: =VLOOKUP(F12,ENSENMBLE,2) -> 17
A13: 9 | F13: 1 | G13: =VLOOKUP(F13,ENSENMBLE,2) -> 17
F14: 1.05 | G14: =VLOOKUP(F14,ENSENMBLE,2) -> 8.5
F15: 1 | G15: =VLOOKUP(F15,ENSENMBLE,2) -> 17
