Workbook
Name DateDebut: Planning!$B$2
Name DateFin: Planning!$B$3
Name JoursFerie: 'Jours Fériés'!$A$3:$A$15
Name lstSalarié: 'Jours Fériés'!$D$2:$D$11
Name MaPlage: Planning!$H$10:$NH$19
Name ouinon: [1]Table!$D$1:$D$2
Name semaine: [1]Table!$A$1:$B$7

Sheet Synthèse
B6: ="Situation du : "&TEXT(DateDebut,"JJJJ jj mmmm aaaa")&" au "&TEXT(TODAY(),"jjjj jj mmmm aaaa") -> Situation du : vendredi 01 janvier 2016 au dimanche 29 mai 2016
B8: Liste des salariés | C8: CP | F8: RTT | I8: AT | J8: REC | K8: FO | L8: Jours Travaillés
C10: Base | D10: Pris | E10: Reliquat | F10: Base | G10: Pris | H10: Reliquat
B11: =Planning!A10 -> S1 | C11: 25 | D11: =Planning!B10 -> 1 | E11: =C11-D11 -> 24 | F11: 11 | G11: =Planning!C10 -> 3 | H11: =F11-G11 -> 8 | I11: =Planning!D10 -> 0 | J11: =Planning!E10 -> 0 | K11: =Planning!F10 -> 0 | L11: =Planning!G10 -> 249
B12: =Planning!A11 -> S2 | C12: 25 | D12: =Planning!B11 -> 0 | E12: =C12-D12 -> 25 | F12: 11 | G12: =Planning!C11 -> 0 | H12: =F12-G12 -> 11 | I12: =Planning!D11 -> 0 | J12: =Planning!E11 -> 0 | K12: =Planning!F11 -> 0 | L12: =Planning!G11 -> 253
B13: =Planning!A12 -> S3 | C13: 25 | D13: =Planning!B12 -> 0 | E13: =C13-D13 -> 25 | F13: 11 | G13: =Planning!C12 -> 0 | H13: =F13-G13 -> 11 | I13: =Planning!D12 -> 0 | J13: =Planning!E12 -> 0 | K13: =Planning!F12 -> 0 | L13: =Planning!G12 -> 253
B14: =Planning!A13 -> S4 | C14: 25 | D14: =Planning!B13 -> 10 | E14: =C14-D14 -> 15 | F14: 11 | G14: =Planning!C13 -> 0 | H14: =F14-G14 -> 11 | I14: =Planning!D13 -> 5 | J14: =Planning!E13 -> 0 | K14: =Planning!F13 -> 0 | L14: =Planning!G13 -> 238
B15: =Planning!A14 -> S5 | C15: 25 | D15: =Planning!B14 -> 0 | E15: =C15-D15 -> 25 | F15: 11 | G15: =Planning!C14 -> 0 | H15: =F15-G15 -> 11 | I15: =Planning!D14 -> 0 | J15: =Planning!E14 -> 5 | K15: =Planning!F14 -> 0 | L15: =Planning!G14 -> 248
B16: =Planning!A15 -> S6 | C16: 25 | D16: =Planning!B15 -> 5 | E16: =C16-D16 -> 20 | F16: 11 | G16: =Planning!C15 -> 0 | H16: =F16-G16 -> 11 | I16: =Planning!D15 -> 0 | J16: =Planning!E15 -> 0 | K16: =Planning!F15 -> 0 | L16: =Planning!G15 -> 248
B17: =Planning!A16 -> S7 | C17: 25 | D17: =Planning!B16 -> 5 | E17: =C17-D17 -> 20 | F17: 11 | G17: =Planning!C16 -> 0 | H17: =F17-G17 -> 11 | I17: =Planning!D16 -> 0 | J17: =Planning!E16 -> 0 | K17: =Planning!F16 -> 0 | L17: =Planning!G16 -> 248
B18: =Planning!A17 -> S8 | C18: 25 | D18: =Planning!B17 -> 5 | E18: =C18-D18 -> 20 | F18: 11 | G18: =Planning!C17 -> 0 | H18: =F18-G18 -> 11 | I18: =Planning!D17 -> 0 | J18: =Planning!E17 -> 0 | K18: =Planning!F17 -> 0 | L18: =Planning!G17 -> 248
B19: =Planning!A18 -> S9 | C19: 25 | D19: =Planning!B18 -> 5 | E19: =C19-D19 -> 20 | F19: 11 | G19: =Planning!C18 -> 0 | H19: =F19-G19 -> 11 | I19: =Planning!D18 -> 0 | J19: =Planning!E18 -> 0 | K19: =Planning!F18 -> 0 | L19: =Planning!G18 -> 248
B20: =Planning!A19 -> S10 | C20: 25 | D20: =Planning!B19 -> 5 | E20: =C20-D20 -> 20 | F20: 11 | G20: =Planning!C19 -> 0 | H20: =F20-G20 -> 11 | I20: =Planning!D19 -> 0 | J20: =Planning!E19 -> 0 | K20: =Planning!F19 -> 0 | L20: =Planning!G19 -> 248
B21: =Planning!A20 -> S11 | C21: 25 | D21: =Planning!B20 -> 5 | E21: =C21-D21 -> 20 | F21: 11 | G21: =Planning!C20 -> 0 | H21: =F21-G21 -> 11 | I21: =Planning!D20 -> 0 | J21: =Planning!E20 -> 0 | K21: =Planning!F20 -> 0 | L21: =Planning!G20 -> 248
B22: =Planning!A21 -> S12 | C22: 25 | D22: =Planning!B21 -> 5 | E22: =C22-D22 -> 20 | F22: 11 | G22: =Planning!C21 -> 0 | H22: =F22-G22 -> 11 | I22: =Planning!D21 -> 0 | J22: =Planning!E21 -> 0 | K22: =Planning!F21 -> 0 | L22: =Planning!G21 -> 248
... B36: =Planning!A35 -> S26 | C36: 25 | D36: =Planning!B35 -> 0 | E36: =C36-D36 -> 25 | F36: 11 | G36: =Planning!C35 -> 0 | H36: =F36-G36 -> 11 | I36: =Planning!D35 -> 0 | J36: =Planning!E35 -> 0 | K36: =Planning!F35 -> 0 | L36: =Planning!G35 -> 253

Sheet Planning
A1: Gestion des congés service TL
A2: Date début : | B2: 42370
A3: Date fin : | B3: =DateDebut+364 -> 42734
A4: Date du jour : | B4: =TODAY() -> 42519
A5: Chef duService
H6: =DateDebut -> 42370 | I6: =H6+1 -> 42371 | J6: =I6+1 -> 42372 | K6: =J6+1 -> 42373 | L6: =K6+1 -> 42374 | M6: =L6+1 -> 42375 | N6: =M6+1 -> 42376 | O6: =N6+1 -> 42377 | P6: =O6+1 -> 42378 | ... NH6: =NG6+1 -> 42734
H7: =INT((H6-LOOKUP(H6,DATE(YEAR(H6)+{-1;0;1},1,3)-WEEKDAY(DATE(YEAR(H6)+{-1;0;1},1,3))+2))/7)+1 -> 53 | I7: =INT((I6-LOOKUP(I6,DATE(YEAR(I6)+{-1;0;1},1,3)-WEEKDAY(DATE(YEAR(I6)+{-1;0;1},1,3))+2))/7)+1 -> 53 | J7: =INT((J6-LOOKUP(J6,DATE(YEAR(J6)+{-1;0;1},1,3)-WEEKDAY(DATE(YEAR(J6)+{-1;0;1},1,3))+2))/7)+1 -> 53 | K7: =INT((K6-LOOKUP(K6,DATE(YEAR(K6)+{-1;0;1},1,3)-WEEKDAY(DATE(YEAR(K6)+{-1;0;1},1,3))+2))/7)+1 -> 1 | L7: =INT((L6-LOOKUP(L6,DATE(YEAR(L6)+{-1;0;1},1,3)-WEEKDAY(DATE(YEAR(L6)+{-1;0;1},1,3))+2))/7)+1 -> 1 | M7: =INT((M6-LOOKUP(M6,DATE(YEAR(M6)+{-1;0;1},1,3)-WEEKDAY(DATE(YEAR(M6)+{-1;0;1},1,3))+2))/7)+1 -> 1 | N7: =INT((N6-LOOKUP(N6,DATE(YEAR(N6)+{-1;0;1},1,3)-WEEKDAY(DATE(YEAR(N6)+{-1;0;1},1,3))+2))/7)+1 -> 1 | O7: =INT((O6-LOOKUP(O6,DATE(YEAR(O6)+{-1;0;1},1,3)-WEEKDAY(DATE(YEAR(O6)+{-1;0;1},1,3))+2))/7)+1 -> 1 | ... NH7: =INT((NH6-LOOKUP(NH6,DATE(YEAR(NH6)+{-1;0;1},1,3)-WEEKDAY(DATE(YEAR(NH6)+{-1;0;1},1,3))+2))/7)+1 -> 52
A8: Liste des salariés | B8: Cumul | H8: =DAY(H6) -> 1 | I8: =DAY(I6) -> 2 | J8: =DAY(J6) -> 3 | K8: =DAY(K6) -> 4 | L8: =DAY(L6) -> 5 | M8: =DAY(M6) -> 6 | N8: =DAY(N6) -> 7 | O8: =DAY(O6) -> 8 | ... NH8: =DAY(NH6) -> 30
B9: CP | C9: RTT | D9: AT | E9: REC | F9: FO | G9: JT | H9: =CHOOSE(WEEKDAY(H6),"D","L","M","M","J","V","S") -> V | I9: =CHOOSE(WEEKDAY(I6),"D","L","M","M","J","V","S") -> S | J9: =CHOOSE(WEEKDAY(J6),"D","L","M","M","J","V","S") -> D | K9: =CHOOSE(WEEKDAY(K6),"D","L","M","M","J","V","S") -> L | L9: =CHOOSE(WEEKDAY(L6),"D","L","M","M","J","V","S") -> M | M9: =CHOOSE(WEEKDAY(M6),"D","L","M","M","J","V","S") -> M | N9: =CHOOSE(WEEKDAY(N6),"D","L","M","M","J","V","S") -> J | O9: =CHOOSE(WEEKDAY(O6),"D","L","M","M","J","V","S") -> V | ... NH9: =CHOOSE(WEEKDAY(NH6),"D","L","M","M","J","V","S") -> V
A10: S1 | B10: =COUNTIF(H10:NC10,$B$9) -> 1 | C10: =COUNTIF(H10:NC10,$C$9) -> 3 | D10: =COUNTIF(H10:NC10,$D$9) -> 0 | E10: =COUNTIF(H10:NC10,$E$9) -> 0 | F10: =COUNTIF(I10:ND10,$F$9) -> 0 | G10: =NETWORKDAYS(DateDebut,DateFin,JoursFerie)-(B10+C10+D10+E10) -> 249 | K10: RTT | L10: RTT | M10: RTT | N10: M | O10: M | R10: AP | S10: AP | T10: AP | U10: AP | V10: AP | Y10: cp | Z10: M | AA10: M | AB10: M | AC10: M
A11: S2 | B11: =COUNTIF(H11:NC11,$B$9) -> 0 | C11: =COUNTIF(H11:NC11,$C$9) -> 0 | D11: =COUNTIF(H11:NC11,$D$9) -> 0 | E11: =COUNTIF(H11:NC11,$E$9) -> 0 | F11: =COUNTIF(I11:ND11,$F$9) -> 0 | G11: =NETWORKDAYS(DateDebut,DateFin,JoursFerie)-(B11+C11+D11+E11) -> 253 | K11: AP | L11: AP | M11: AP | N11: AP | O11: AP | R11: M | S11: M | T11: M | U11: M | V11: M
A12: S3 | B12: =COUNTIF(H12:NC12,$B$9) -> 0 | C12: =COUNTIF(H12:NC12,$C$9) -> 0 | D12: =COUNTIF(H12:NC12,$D$9) -> 0 | E12: =COUNTIF(H12:NC12,$E$9) -> 0 | F12: =COUNTIF(I12:ND12,$F$9) -> 0 | G12: =NETWORKDAYS(DateDebut,DateFin,JoursFerie)-(B12+C12+D12+E12) -> 253 | K12: N | L12: N | M12: N | N12: N | O12: N | R12: N | S12: N | T12: N | U12: N | V12: N
A13: S4 | B13: =COUNTIF(H13:NC13,$B$9) -> 10 | C13: =COUNTIF(H13:NC13,$C$9) -> 0 | D13: =COUNTIF(H13:NC13,$D$9) -> 5 | E13: =COUNTIF(H13:NC13,$E$9) -> 0 | F13: =COUNTIF(I13:ND13,$F$9) -> 0 | G13: =NETWORKDAYS(DateDebut,DateFin,JoursFerie)-(B13+C13+D13+E13) -> 238 | K13: CP | L13: CP | M13: CP | N13: CP | O13: CP | R13: AT | S13: AT | T13: AT | U13: AT | V13: AT | Y13: cp | Z13: cp | AA13: cp | AB13: cp | AC13: cp
A14: S5 | B14: =COUNTIF(H14:NC14,$B$9) -> 0 | C14: =COUNTIF(H14:NC14,$C$9) -> 0 | D14: =COUNTIF(H14:NC14,$D$9) -> 0 | E14: =COUNTIF(H14:NC14,$E$9) -> 5 | F14: =COUNTIF(I14:ND14,$F$9) -> 0 | G14: =NETWORKDAYS(DateDebut,DateFin,JoursFerie)-(B14+C14+D14+E14) -> 248 | K14: REC | L14: REC | M14: REC | N14: REC | O14: REC | R14: MA | S14: MA | T14: MA | U14: MA | V14: MA
A15: S6 | B15: =COUNTIF(H15:NC15,$B$9) -> 5 | C15: =COUNTIF(H15:NC15,$C$9) -> 0 | D15: =COUNTIF(H15:NC15,$D$9) -> 0 | E15: =COUNTIF(H15:NC15,$E$9) -> 0 | F15: =COUNTIF(I15:ND15,$F$9) -> 0 | G15: =NETWORKDAYS(DateDebut,DateFin,JoursFerie)-(B15+C15+D15+E15) -> 248 | K15: CP | L15: CP | M15: CP | N15: CP | O15: CP
A16: S7 | B16: =COUNTIF(H16:NC16,$B$9) -> 5 | C16: =COUNTIF(H16:NC16,$C$9) -> 0 | D16: =COUNTIF(H16:NC16,$D$9) -> 0 | E16: =COUNTIF(H16:NC16,$E$9) -> 0 | F16: =COUNTIF(I16:ND16,$F$9) -> 0 | G16: =NETWORKDAYS(DateDebut,DateFin,JoursFerie)-(B16+C16+D16+E16) -> 248 | K16: CP | L16: CP | M16: CP | N16: CP | O16: CP
A17: S8 | B17: =COUNTIF(H17:NC17,$B$9) -> 5 | C17: =COUNTIF(H17:NC17,$C$9) -> 0 | D17: =COUNTIF(H17:NC17,$D$9) -> 0 | E17: =COUNTIF(H17:NC17,$E$9) -> 0 | F17: =COUNTIF(I17:ND17,$F$9) -> 0 | G17: =NETWORKDAYS(DateDebut,DateFin,JoursFerie)-(B17+C17+D17+E17) -> 248 | K17: CP | L17: CP | M17: CP | N17: CP | O17: CP
A18: S9 | B18: =COUNTIF(H18:NC18,$B$9) -> 5 | C18: =COUNTIF(H18:NC18,$C$9) -> 0 | D18: =COUNTIF(H18:NC18,$D$9) -> 0 | E18: =COUNTIF(H18:NC18,$E$9) -> 0 | F18: =COUNTIF(I18:ND18,$F$9) -> 0 | G18: =NETWORKDAYS(DateDebut,DateFin,JoursFerie)-(B18+C18+D18+E18) -> 248 | K18: CP | L18: CP | M18: CP | N18: CP | O18: CP
A19: S10 | B19: =COUNTIF(H19:NC19,$B$9) -> 5 | C19: =COUNTIF(H19:NC19,$C$9) -> 0 | D19: =COUNTIF(H19:NC19,$D$9) -> 0 | E19: =COUNTIF(H19:NC19,$E$9) -> 0 | F19: =COUNTIF(I19:ND19,$F$9) -> 0 | G19: =NETWORKDAYS(DateDebut,DateFin,JoursFerie)-(B19+C19+D19+E19) -> 248 | K19: CP | L19: CP | M19: CP | N19: CP | O19: CP
A20: S11 | B20: =COUNTIF(H20:NC20,$B$9) -> 5 | C20: =COUNTIF(H20:NC20,$C$9) -> 0 | D20: =COUNTIF(H20:NC20,$D$9) -> 0 | E20: =COUNTIF(H20:NC20,$E$9) -> 0 | F20: =COUNTIF(I20:ND20,$F$9) -> 0 | G20: =NETWORKDAYS(DateDebut,DateFin,JoursFerie)-(B20+C20+D20+E20) -> 248 | K20: CP | L20: CP | M20: CP | N20: CP | O20: CP
A21: S12 | B21: =COUNTIF(H21:NC21,$B$9) -> 5 | C21: =COUNTIF(H21:NC21,$C$9) -> 0 | D21: =COUNTIF(H21:NC21,$D$9) -> 0 | E21: =COUNTIF(H21:NC21,$E$9) -> 0 | F21: =COUNTIF(I21:ND21,$F$9) -> 0 | G21: =NETWORKDAYS(DateDebut,DateFin,JoursFerie)-(B21+C21+D21+E21) -> 248 | K21: CP | L21: CP | M21: CP | N21: CP | O21: CP
A22: S13 | B22: =COUNTIF(H22:NC22,$B$9) -> 5 | C22: =COUNTIF(H22:NC22,$C$9) -> 0 | D22: =COUNTIF(H22:NC22,$D$9) -> 0 | E22: =COUNTIF(H22:NC22,$E$9) -> 0 | F22: =COUNTIF(I22:ND22,$F$9) -> 0 | G22: =NETWORKDAYS(DateDebut,DateFin,JoursFerie)-(B22+C22+D22+E22) -> 248 | K22: CP | L22: CP | M22: CP | N22: CP | O22: CP
A23: S14 | B23: =COUNTIF(H23:NC23,$B$9) -> 5 | C23: =COUNTIF(H23:NC23,$C$9) -> 0 | D23: =COUNTIF(H23:NC23,$D$9) -> 0 | E23: =COUNTIF(H23:NC23,$E$9) -> 0 | F23: =COUNTIF(I23:ND23,$F$9) -> 0 | G23: =NETWORKDAYS(DateDebut,DateFin,JoursFerie)-(B23+C23+D23+E23) -> 248 | K23: CP | L23: CP | M23: CP | N23: CP | O23: CP
A24: S15 | B24: =COUNTIF(H24:NC24,$B$9) -> 5 | C24: =COUNTIF(H24:NC24,$C$9) -> 0 | D24: =COUNTIF(H24:NC24,$D$9) -> 0 | E24: =COUNTIF(H24:NC24,$E$9) -> 0 | F24: =COUNTIF(I24:ND24,$F$9) -> 0 | G24: =NETWORKDAYS(DateDebut,DateFin,JoursFerie)-(B24+C24+D24+E24) -> 248 | K24: CP | L24: CP | M24: CP | N24: CP | O24: CP
A25: S16 | B25: =COUNTIF(H25:NC25,$B$9) -> 5 | C25: =COUNTIF(H25:NC25,$C$9) -> 0 | D25: =COUNTIF(H25:NC25,$D$9) -> 0 | E25: =COUNTIF(H25:NC25,$E$9) -> 0 | F25: =COUNTIF(I25:ND25,$F$9) -> 0 | G25: =NETWORKDAYS(DateDebut,DateFin,JoursFerie)-(B25+C25+D25+E25) -> 248 | K25: CP | L25: CP | M25: CP | N25: CP | O25: CP
A26: S17 | B26: =COUNTIF(H26:NC26,$B$9) -> 0 | C26: =COUNTIF(H26:NC26,$C$9) -> 0 | D26: =COUNTIF(H26:NC26,$D$9) -> 0 | E26: =COUNTIF(H26:NC26,$E$9) -> 0 | F26: =COUNTIF(I26:ND26,$F$9) -> 0 | G26: =NETWORKDAYS(DateDebut,DateFin,JoursFerie)-(B26+C26+D26+E26) -> 253
A27: S18 | B27: =COUNTIF(H27:NC27,$B$9) -> 0 | C27: =COUNTIF(H27:NC27,$C$9) -> 0 | D27: =COUNTIF(H27:NC27,$D$9) -> 0 | E27: =COUNTIF(H27:NC27,$E$9) -> 0 | F27: =COUNTIF(I27:ND27,$F$9) -> 0 | G27: =NETWORKDAYS(DateDebut,DateFin,JoursFerie)-(B27+C27+D27+E27) -> 253
A28: S19 | B28: =COUNTIF(H28:NC28,$B$9) -> 0 | C28: =COUNTIF(H28:NC28,$C$9) -> 0 | D28: =COUNTIF(H28:NC28,$D$9) -> 0 | E28: =COUNTIF(H28:NC28,$E$9) -> 0 | F28: =COUNTIF(I28:ND28,$F$9) -> 0 | G28: =NETWORKDAYS(DateDebut,DateFin,JoursFerie)-(B28+C28+D28+E28) -> 253
A29: S20 | B29: =COUNTIF(H29:NC29,$B$9) -> 0 | C29: =COUNTIF(H29:NC29,$C$9) -> 0 | D29: =COUNTIF(H29:NC29,$D$9) -> 0 | E29: =COUNTIF(H29:NC29,$E$9) -> 0 | F29: =COUNTIF(I29:ND29,$F$9) -> 0 | G29: =NETWORKDAYS(DateDebut,DateFin,JoursFerie)-(B29+C29+D29+E29) -> 253
A30: S21 | B30: =COUNTIF(H30:NC30,$B$9) -> 0 | C30: =COUNTIF(H30:NC30,$C$9) -> 0 | D30: =COUNTIF(H30:NC30,$D$9) -> 0 | E30: =COUNTIF(H30:NC30,$E$9) -> 0 | F30: =COUNTIF(I30:ND30,$F$9) -> 0 | G30: =NETWORKDAYS(DateDebut,DateFin,JoursFerie)-(B30+C30+D30+E30) -> 253
A31: S22 | B31: =COUNTIF(H31:NC31,$B$9) -> 0 | C31: =COUNTIF(H31:NC31,$C$9) -> 0 | D31: =COUNTIF(H31:NC31,$D$9) -> 0 | E31: =COUNTIF(H31:NC31,$E$9) -> 0 | F31: =COUNTIF(I31:ND31,$F$9) -> 0 | G31: =NETWORKDAYS(DateDebut,DateFin,JoursFerie)-(B31+C31+D31+E31) -> 253
A32: S23 | B32: =COUNTIF(H32:NC32,$B$9) -> 0 | C32: =COUNTIF(H32:NC32,$C$9) -> 0 | D32: =COUNTIF(H32:NC32,$D$9) -> 0 | E32: =COUNTIF(H32:NC32,$E$9) -> 0 | F32: =COUNTIF(I32:ND32,$F$9) -> 0 | G32: =NETWORKDAYS(DateDebut,DateFin,JoursFerie)-(B32+C32+D32+E32) -> 253
A33: S24 | B33: =COUNTIF(H33:NC33,$B$9) -> 0 | C33: =COUNTIF(H33:NC33,$C$9) -> 0 | D33: =COUNTIF(H33:NC33,$D$9) -> 0 | E33: =COUNTIF(H33:NC33,$E$9) -> 0 | F33: =COUNTIF(I33:ND33,$F$9) -> 0 | G33: =NETWORKDAYS(DateDebut,DateFin,JoursFerie)-(B33+C33+D33+E33) -> 253
A34: S25 | B34: =COUNTIF(H34:NC34,$B$9) -> 0 | C34: =COUNTIF(H34:NC34,$C$9) -> 0 | D34: =COUNTIF(H34:NC34,$D$9) -> 0 | E34: =COUNTIF(H34:NC34,$E$9) -> 0 | F34: =COUNTIF(I34:ND34,$F$9) -> 0 | G34: =NETWORKDAYS(DateDebut,DateFin,JoursFerie)-(B34+C34+D34+E34) -> 253
A35: S26 | B35: =COUNTIF(H35:NC35,$B$9) -> 0 | C35: =COUNTIF(H35:NC35,$C$9) -> 0 | D35: =COUNTIF(H35:NC35,$D$9) -> 0 | E35: =COUNTIF(H35:NC35,$E$9) -> 0 | F35: =COUNTIF(I35:ND35,$F$9) -> 0 | G35: =NETWORKDAYS(DateDebut,DateFin,JoursFerie)-(B35+C35+D35+E35) -> 253
A36: CP | H36: =COUNTIFS(Planning!H10:H35,$A36) -> 0 | I36: =COUNTIFS(Planning!I10:I35,$A36) -> 0 | J36: =COUNTIFS(Planning!J10:J35,$A36) -> 0 | K36: =COUNTIFS(Planning!K10:K35,$A36) -> 12 | L36: =COUNTIFS(Planning!L10:L35,$A36) -> 12 | M36: =COUNTIFS(Planning!M10:M35,$A36) -> 12 | N36: =COUNTIFS(Planning!N10:N35,$A36) -> 12 | O36: =COUNTIFS(Planning!O10:O35,$A36) -> 12 | ... NC36: =COUNTIFS(Planning!NC10:NC35,$A36) -> 0
A37: RTT | H37: =COUNTIFS(Planning!H11:H36,$A37) -> 0 | I37: =COUNTIFS(Planning!I11:I36,$A37) -> 0 | J37: =COUNTIFS(Planning!J11:J36,$A37) -> 0 | K37: =COUNTIFS(Planning!K11:K36,$A37) -> 0 | L37: =COUNTIFS(Planning!L11:L36,$A37) -> 0 | M37: =COUNTIFS(Planning!M11:M36,$A37) -> 0 | N37: =COUNTIFS(Planning!N11:N36,$A37) -> 0 | O37: =COUNTIFS(Planning!O11:O36,$A37) -> 0 | ... NC37: =COUNTIFS(Planning!NC11:NC36,$A37) -> 0
A38: AT | H38: =COUNTIFS(Planning!H12:H37,$A38) -> 0 | I38: =COUNTIFS(Planning!I12:I37,$A38) -> 0 | J38: =COUNTIFS(Planning!J12:J37,$A38) -> 0 | K38: =COUNTIFS(Planning!K12:K37,$A38) -> 0 | L38: =COUNTIFS(Planning!L12:L37,$A38) -> 0 | M38: =COUNTIFS(Planning!M12:M37,$A38) -> 0 | N38: =COUNTIFS(Planning!N12:N37,$A38) -> 0 | O38: =COUNTIFS(Planning!O12:O37,$A38) -> 0 | ... NC38: =COUNTIFS(Planning!NC12:NC37,$A38) -> 0
A39: REC | H39: =COUNTIFS(Planning!H13:H38,$A39) -> 0 | I39: =COUNTIFS(Planning!I13:I38,$A39) -> 0 | J39: =COUNTIFS(Planning!J13:J38,$A39) -> 0 | K39: =COUNTIFS(Planning!K13:K38,$A39) -> 1 | L39: =COUNTIFS(Planning!L13:L38,$A39) -> 1 | M39: =COUNTIFS(Planning!M13:M38,$A39) -> 1 | N39: =COUNTIFS(Planning!N13:N38,$A39) -> 1 | O39: =COUNTIFS(Planning!O13:O38,$A39) -> 1 | ... NC39: =COUNTIFS(Planning!NC13:NC38,$A39) -> 0
A40: FO | H40: =COUNTIFS(Planning!H13:H38,$A40) -> 0 | I40: =COUNTIFS(Planning!I13:I38,$A40) -> 0 | J40: =COUNTIFS(Planning!J13:J38,$A40) -> 0 | K40: =COUNTIFS(Planning!K13:K38,$A40) -> 0 | L40: =COUNTIFS(Planning!L13:L38,$A40) -> 0 | M40: =COUNTIFS(Planning!M13:M38,$A40) -> 0 | N40: =COUNTIFS(Planning!N13:N38,$A40) -> 0 | O40: =COUNTIFS(Planning!O13:O38,$A40) -> 0 | ... NC40: =COUNTIFS(Planning!NC13:NC38,$A40) -> 0
...

Sheet Jours Fériés
A1: =TEXT(Planning!B2,"AAAA") -> 2016 | D1: nom | F1: CODE
D2: S1 | F2: M
A3: =DATE(A1,1,1) -> 42370 | B3: Premier de l'An | D3: S2 | F3: AP
A4: =DATE(A1,3,29.56+0.979*MOD(204-11*MOD(A1,19),30)-WEEKDAY(DATE(A1,3,28.56+0.979*MOD(204-11*MOD(A1,19),30)))) -> 42456 | B4: Pâques | D4: S3 | F4: N
A5: =A4+1 -> 42457 | B5: Lundi de Pâques | D5: S4 | F5: J
A6: =DATE(A1,5,1) -> 42491 | B6: Fête du Travail | D6: S5 | F6: CP
A7: =DATE(A1,5,8) -> 42498 | B7: Victoire 1945 | D7: S6 | F7: RTT
A8: =A4+39 -> 42495 | B8: Ascension | D8: S7 | F8: AT
A9: =A4+49 -> 42505 | B9: Pentecôte | D9: S8 | F9: REC
A10: =A4+50 -> 42506 | B10: Lundi de Pentecôte | D10: S9 | F10: FO
A11: =DATE(A1,7,14) -> 42565 | B11: Fête Nationale | D11: S10
A12: =DATE(A1,8,15) -> 42597 | B12: Assomption | D12: S11
A13: =DATE(A1,11,1) -> 42675 | B13: Toussaint | D13: S12
A14: =DATE(A1,11,11) -> 42685 | B14: Armistice | D14: S13
A15: =DATE(A1,12,25) -> 42729 | B15: Noël | D15: S14
D16: S15
D17: S16
D18: S17
D19: S18
D20: S19
D21: S20
D22: S21
D23: S22
D24: S23
D25: S24
D26: S25
D27: S26

Sheet Recap
B2: RECAP ANNUEL
B4: Nom Salarié | C4: M | D4: A | E4: N | F4: fo
B5: S1 | C5: =IF($B5="","",COUNTIFS(Planning!$K10:$O10,Recap!C$4)) -> 2 | D5: =IF($B5="","",COUNTIFS(Planning!$K10:$O10,Recap!D$4)) -> 0 | E5: =IF($B5="","",COUNTIFS(Planning!$K10:$O10,Recap!E$4)) -> 0 | F5: =IF($B5="","",COUNTIFS(Planning!$K10:$O10,Recap!F$4)) -> 0
B6: S2 | C6: =IF($B6="","",COUNTIFS(Planning!$K11:$O11,Recap!C$4)) -> 0 | D6: =IF($B6="","",COUNTIFS(Planning!$K11:$O11,Recap!D$4)) -> 0 | E6: =IF($B6="","",COUNTIFS(Planning!$K11:$O11,Recap!E$4)) -> 0 | F6: =IF($B6="","",COUNTIFS(Planning!$K11:$O11,Recap!F$4)) -> 0
B7: S3 | C7: =IF($B7="","",COUNTIFS(Planning!$K12:$O12,Recap!C$4)) -> 0 | D7: =IF($B7="","",COUNTIFS(Planning!$K12:$O12,Recap!D$4)) -> 0 | E7: =IF($B7="","",COUNTIFS(Planning!$K12:$O12,Recap!E$4)) -> 5 | F7: =IF($B7="","",COUNTIFS(Planning!$K12:$O12,Recap!F$4)) -> 0
B8: S4 | C8: =IF($B8="","",COUNTIFS(Planning!$K13:$O13,Recap!C$4)) -> 0 | D8: =IF($B8="","",COUNTIFS(Planning!$K13:$O13,Recap!D$4)) -> 0 | E8: =IF($B8="","",COUNTIFS(Planning!$K13:$O13,Recap!E$4)) -> 0 | F8: =IF($B8="","",COUNTIFS(Planning!$K13:$O13,Recap!F$4)) -> 0
B9: S5 | C9: =IF($B9="","",COUNTIFS(Planning!$K14:$O14,Recap!C$4)) -> 0 | D9: =IF($B9="","",COUNTIFS(Planning!$K14:$O14,Recap!D$4)) -> 0 | E9: =IF($B9="","",COUNTIFS(Planning!$K14:$O14,Recap!E$4)) -> 0 | F9: =IF($B9="","",COUNTIFS(Planning!$K14:$O14,Recap!F$4)) -> 0
B10: S6 | C10: =IF($B10="","",COUNTIFS(Planning!$K15:$O15,Recap!C$4)) -> 0 | D10: =IF($B10="","",COUNTIFS(Planning!$K15:$O15,Recap!D$4)) -> 0 | E10: =IF($B10="","",COUNTIFS(Planning!$K15:$O15,Recap!E$4)) -> 0 | F10: =IF($B10="","",COUNTIFS(Planning!$K15:$O15,Recap!F$4)) -> 0
B11: S7 | C11: =IF($B11="","",COUNTIFS(Planning!$K16:$O16,Recap!C$4)) -> 0 | D11: =IF($B11="","",COUNTIFS(Planning!$K16:$O16,Recap!D$4)) -> 0 | E11: =IF($B11="","",COUNTIFS(Planning!$K16:$O16,Recap!E$4)) -> 0 | F11: =IF($B11="","",COUNTIFS(Planning!$K16:$O16,Recap!F$4)) -> 0
B12: S8 | C12: =IF($B12="","",COUNTIFS(Planning!$K17:$O17,Recap!C$4)) -> 0 | D12: =IF($B12="","",COUNTIFS(Planning!$K17:$O17,Recap!D$4)) -> 0 | E12: =IF($B12="","",COUNTIFS(Planning!$K17:$O17,Recap!E$4)) -> 0 | F12: =IF($B12="","",COUNTIFS(Planning!$K17:$O17,Recap!F$4)) -> 0
B13: S9 | C13: =IF($B13="","",COUNTIFS(Planning!$K18:$O18,Recap!C$4)) -> 0 | D13: =IF($B13="","",COUNTIFS(Planning!$K18:$O18,Recap!D$4)) -> 0 | E13: =IF($B13="","",COUNTIFS(Planning!$K18:$O18,Recap!E$4)) -> 0 | F13: =IF($B13="","",COUNTIFS(Planning!$K18:$O18,Recap!F$4)) -> 0
B14: S10 | C14: =IF($B14="","",COUNTIFS(Planning!$K19:$O19,Recap!C$4)) -> 0 | D14: =IF($B14="","",COUNTIFS(Planning!$K19:$O19,Recap!D$4)) -> 0 | E14: =IF($B14="","",COUNTIFS(Planning!$K19:$O19,Recap!E$4)) -> 0 | F14: =IF($B14="","",COUNTIFS(Planning!$K19:$O19,Recap!F$4)) -> 0
B15: S11 | C15: =IF($B15="","",COUNTIFS(Planning!$K20:$O20,Recap!C$4)) -> 0 | D15: =IF($B15="","",COUNTIFS(Planning!$K20:$O20,Recap!D$4)) -> 0 | E15: =IF($B15="","",COUNTIFS(Planning!$K20:$O20,Recap!E$4)) -> 0 | F15: =IF($B15="","",COUNTIFS(Planning!$K20:$O20,Recap!F$4)) -> 0
B16: S12 | C16: =IF($B16="","",COUNTIFS(Planning!$K21:$O21,Recap!C$4)) -> 0 | D16: =IF($B16="","",COUNTIFS(Planning!$K21:$O21,Recap!D$4)) -> 0 | E16: =IF($B16="","",COUNTIFS(Planning!$K21:$O21,Recap!E$4)) -> 0 | F16: =IF($B16="","",COUNTIFS(Planning!$K21:$O21,Recap!F$4)) -> 0
... B23: S19 | C23: =IF($B23="","",COUNTIFS(Planning!$K28:$O28,Recap!C$4)) -> 0 | D23: =IF($B23="","",COUNTIFS(Planning!$K28:$O28,Recap!D$4)) -> 0 | E23: =IF($B23="","",COUNTIFS(Planning!$K28:$O28,Recap!E$4)) -> 0 | F23: =IF($B23="","",COUNTIFS(Planning!$K28:$O28,Recap!F$4)) -> 0
