Workbook

Sheet tableau 1
C9: N° fiche Riblon | D9: ligne | E9: Date | F9: Mois | G9: Emetteur | H9: Zone d'imputation | I9: référence | J9: Désignation | K9: Qté de pièces | L9: Coût unitaire | M9: Coût total | N9: Motif
C10: 2016/001 | D10: 1 | E10: 42376 | F10: 1 | G10: cricco | H10: a | I10: 23230007 | J10: accouplement | K10: 25 | L10: 35.75 | M10: 200 | N10: cassé au serrage | P10: COUTS TOTAL DES RIBLONS
C11: 2016/001 | D11: 2 | E11: 42402 | F11: 2 | G11: cricco | H11: b | I11: 166p3529 | J11: capot | K11: 20 | L11: 20.7 | M11: =+L11*K11 -> 414 | N11: tordu
C12: 2016/001 | D12: 3 | E12: 42432 | F12: 3 | G12: cricco | H12: c | I12: 155558 | J12: axe | K12: 1 | L12: 10.71 | M12: =+L12*K12 -> 10.71 | N12: abimé montage | Q12: =SUM(M10:M3153) -> 308618.15
C13: 2016/001 | D13: 4 | E13: 42464 | F13: 4 | G13: cricco | H13: b | I13: 150c13 | J13: axe | K13: 22 | L13: 11.26 | M13: =+L13*K13 -> 247.72 | N13: abimé montage
C14: 2016/001 | D14: 5 | E14: 42495 | F14: 5 | G14: cricco | H14: c | I14: 150c13 | J14: axe | K14: 13 | L14: 27.23 | M14: =+L14*K14 -> 353.99 | N14: abimé montage
C15: 2016/001 | D15: 6 | E15: 42527 | F15: 6 | G15: cricco | H15: b | I15: 2901012 | J15: collecteur | K15: 11 | L15: 306.25 | M15: =+L15*K15 -> 3368.75 | N15: fil coupé
C16: 2016/001 | D16: 7 | E16: 42685 | F16: 11 | G16: cricco | H16: z | I16: 4000 | J16: faisceau | K16: 111 | L16: 29.87 | M16: =+L16*K16 -> 3315.57 | N16: fil coupé
C17: 2016/001 | D17: 8 | E17: 42558 | F17: 7 | G17: cricco | H17: z | I17: 150P2 | J17: verin | K17: 1111 | L17: 202.95 | M17: =+L17*K17 -> 225477.45 | N17: coup sur tige retour
C18: 2016/002 | D18: 1 | E18: 42589 | F18: 8 | G18: cricco | H18: c | I18: 2901 | J18: batterie | K18: 1111 | L18: 50 | M18: =+L18*K18 -> 55550 | N18: dechargée
C19: 2016/002 | D19: 2 | E19: 42622 | F19: 9 | G19: cricco | H19: z | I19: 400035 | J19: bloc | K19: 44 | L19: 112.5 | M19: =+L19*K19 -> 4950 | N19: pollué
C20: 2016/002 | D20: 3 | E20: 42653 | F20: 10 | G20: cricco | H20: r | I20: 400020 | J20: pivot | K20: 77 | L20: 128 | M20: =+L20*K20 -> 9856 | N20: plan à modifier
C21: 2016/003 | D21: 1 | E21: 42685 | F21: 11 | G21: cricco | H21: z | I21: 158B16 | J21: came | K21: 55 | L21: 1.44 | M21: =+L21*K21 -> 79.2 | N21: abimé dans boite
C22: 2016/003 | D22: 2 | E22: 42376 | F22: 1 | G22: cricco | H22: z | I22: 157p30 | J22: goulotte | K22: 66 | L22: 70.73 | M22: 200 | N22: tordu
C23: 2016/003 | D23: 3 | E23: 42716 | F23: 12 | G23: cricco | H23: z | I23: 158p338 | J23: tole | K23: 201 | L23: 22.76 | M23: =+L23*K23 -> 4574.76 | N23: tombé picking
E24: 42402 | F24: 2 | H24: z | M24: 20

Sheet tableau 2
B9: imputation | D9: JANVIER | E9: FÉVRIER | F9: MARS | G9: AVRIL | H9: MAI | I9: JUIN | J9: JUILLET | K9: AOÛT | L9: SEPTEMBRE | M9: OCTOBRE | N9: NOVEMBRE | O9: DÉCEMBRE | P9: TOTAL
B10: A | D10: =SUMIFS('tableau 1'!M10:M31,'tableau 1'!F10:F31,1,'tableau 1'!H10:H31,'tableau 2'!B10) -> 200 | E10: =SUMIFS('tableau 1'!M10:M31,'tableau 1'!F10:F31,2,'tableau 1'!H10:H31,'tableau 2'!B10) -> 0 | F10: =SUMIFS('tableau 1'!M10:M31,'tableau 1'!F10:F31,3,'tableau 1'!H10:H31,'tableau 2'!B10) -> 0 | G10: =SUMIFS('tableau 1'!M10:M31,'tableau 1'!F10:F31,4,'tableau 1'!H10:H31,'tableau 2'!B10) -> 0 | H10: =SUMIFS('tableau 1'!M10:M31,'tableau 1'!F10:F31,5,'tableau 1'!H10:H31,'tableau 2'!B10) -> 0 | I10: =SUMIFS('tableau 1'!M10:M31,'tableau 1'!F10:F31,6,'tableau 1'!H10:H31,'tableau 2'!B10) -> 0 | J10: =SUMIFS('tableau 1'!M10:M31,'tableau 1'!F10:F31,7,'tableau 1'!H10:H31,'tableau 2'!B10) -> 0 | K10: =SUMIFS('tableau 1'!M10:M31,'tableau 1'!F10:F31,8,'tableau 1'!H10:H31,'tableau 2'!B10) -> 0 | L10: =SUMIFS('tableau 1'!M10:M31,'tableau 1'!F10:F31,9,'tableau 1'!H10:H31,'tableau 2'!B10) -> 0 | M10: =SUMIFS('tableau 1'!M10:M31,'tableau 1'!F10:F31,10,'tableau 1'!H10:H31,'tableau 2'!B10) -> 0 | N10: =SUMIFS('tableau 1'!M10:M31,'tableau 1'!F10:F31,11,'tableau 1'!H10:H31,'tableau 2'!B10) -> 0 | O10: =SUMIFS('tableau 1'!M10:M31,'tableau 1'!F10:F31,12,'tableau 1'!H10:H31,'tableau 2'!B10) -> 0
B11: B | D11: =SUMIFS('tableau 1'!M11:M32,'tableau 1'!F11:F32,1,'tableau 1'!H11:H32,'tableau 2'!B11) -> 0 | E11: =SUMIFS('tableau 1'!M11:M32,'tableau 1'!F11:F32,2,'tableau 1'!H11:H32,'tableau 2'!B11) -> 414 | F11: =SUMIFS('tableau 1'!M11:M32,'tableau 1'!F11:F32,3,'tableau 1'!H11:H32,'tableau 2'!B11) -> 0 | G11: =SUMIFS('tableau 1'!M11:M32,'tableau 1'!F11:F32,4,'tableau 1'!H11:H32,'tableau 2'!B11) -> 247.72 | H11: =SUMIFS('tableau 1'!M11:M32,'tableau 1'!F11:F32,5,'tableau 1'!H11:H32,'tableau 2'!B11) -> 0 | I11: =SUMIFS('tableau 1'!M11:M32,'tableau 1'!F11:F32,6,'tableau 1'!H11:H32,'tableau 2'!B11) -> 3368.75 | J11: =SUMIFS('tableau 1'!M11:M32,'tableau 1'!F11:F32,7,'tableau 1'!H11:H32,'tableau 2'!B11) -> 0 | K11: =SUMIFS('tableau 1'!M11:M32,'tableau 1'!F11:F32,8,'tableau 1'!H11:H32,'tableau 2'!B11) -> 0 | L11: =SUMIFS('tableau 1'!M11:M32,'tableau 1'!F11:F32,9,'tableau 1'!H11:H32,'tableau 2'!B11) -> 0 | M11: =SUMIFS('tableau 1'!M11:M32,'tableau 1'!F11:F32,10,'tableau 1'!H11:H32,'tableau 2'!B11) -> 0 | N11: =SUMIFS('tableau 1'!M11:M32,'tableau 1'!F11:F32,11,'tableau 1'!H11:H32,'tableau 2'!B11) -> 0 | O11: =SUMIFS('tableau 1'!M11:M32,'tableau 1'!F11:F32,12,'tableau 1'!H11:H32,'tableau 2'!B11) -> 0
B12: C | D12: =SUMIFS('tableau 1'!M12:M33,'tableau 1'!F12:F33,1,'tableau 1'!H12:H33,'tableau 2'!B12) -> 0 | E12: =SUMIFS('tableau 1'!M12:M33,'tableau 1'!F12:F33,2,'tableau 1'!H12:H33,'tableau 2'!B12) -> 0 | F12: =SUMIFS('tableau 1'!M12:M33,'tableau 1'!F12:F33,3,'tableau 1'!H12:H33,'tableau 2'!B12) -> 10.71 | G12: =SUMIFS('tableau 1'!M12:M33,'tableau 1'!F12:F33,4,'tableau 1'!H12:H33,'tableau 2'!B12) -> 0 | H12: =SUMIFS('tableau 1'!M12:M33,'tableau 1'!F12:F33,5,'tableau 1'!H12:H33,'tableau 2'!B12) -> 353.99 | I12: =SUMIFS('tableau 1'!M12:M33,'tableau 1'!F12:F33,6,'tableau 1'!H12:H33,'tableau 2'!B12) -> 0 | J12: =SUMIFS('tableau 1'!M12:M33,'tableau 1'!F12:F33,7,'tableau 1'!H12:H33,'tableau 2'!B12) -> 0 | K12: =SUMIFS('tableau 1'!M12:M33,'tableau 1'!F12:F33,8,'tableau 1'!H12:H33,'tableau 2'!B12) -> 55550 | L12: =SUMIFS('tableau 1'!M12:M33,'tableau 1'!F12:F33,9,'tableau 1'!H12:H33,'tableau 2'!B12) -> 0 | M12: =SUMIFS('tableau 1'!M12:M33,'tableau 1'!F12:F33,10,'tableau 1'!H12:H33,'tableau 2'!B12) -> 0 | N12: =SUMIFS('tableau 1'!M12:M33,'tableau 1'!F12:F33,11,'tableau 1'!H12:H33,'tableau 2'!B12) -> 0 | O12: =SUMIFS('tableau 1'!M12:M33,'tableau 1'!F12:F33,12,'tableau 1'!H12:H33,'tableau 2'!B12) -> 0
B13: F | D13: =SUMIFS('tableau 1'!M13:M34,'tableau 1'!F13:F34,1,'tableau 1'!H13:H34,'tableau 2'!B13) -> 0 | E13: =SUMIFS('tableau 1'!M13:M34,'tableau 1'!F13:F34,2,'tableau 1'!H13:H34,'tableau 2'!B13) -> 0 | F13: =SUMIFS('tableau 1'!M13:M34,'tableau 1'!F13:F34,3,'tableau 1'!H13:H34,'tableau 2'!B13) -> 0 | G13: =SUMIFS('tableau 1'!M13:M34,'tableau 1'!F13:F34,4,'tableau 1'!H13:H34,'tableau 2'!B13) -> 0 | H13: =SUMIFS('tableau 1'!M13:M34,'tableau 1'!F13:F34,5,'tableau 1'!H13:H34,'tableau 2'!B13) -> 0 | I13: =SUMIFS('tableau 1'!M13:M34,'tableau 1'!F13:F34,6,'tableau 1'!H13:H34,'tableau 2'!B13) -> 0 | J13: =SUMIFS('tableau 1'!M13:M34,'tableau 1'!F13:F34,7,'tableau 1'!H13:H34,'tableau 2'!B13) -> 0 | K13: =SUMIFS('tableau 1'!M13:M34,'tableau 1'!F13:F34,8,'tableau 1'!H13:H34,'tableau 2'!B13) -> 0 | L13: =SUMIFS('tableau 1'!M13:M34,'tableau 1'!F13:F34,9,'tableau 1'!H13:H34,'tableau 2'!B13) -> 0 | M13: =SUMIFS('tableau 1'!M13:M34,'tableau 1'!F13:F34,10,'tableau 1'!H13:H34,'tableau 2'!B13) -> 0 | N13: =SUMIFS('tableau 1'!M13:M34,'tableau 1'!F13:F34,11,'tableau 1'!H13:H34,'tableau 2'!B13) -> 0 | O13: =SUMIFS('tableau 1'!M13:M34,'tableau 1'!F13:F34,12,'tableau 1'!H13:H34,'tableau 2'!B13) -> 0
B14: i | D14: =SUMIFS('tableau 1'!M14:M35,'tableau 1'!F14:F35,1,'tableau 1'!H14:H35,'tableau 2'!B14) -> 0 | E14: =SUMIFS('tableau 1'!M14:M35,'tableau 1'!F14:F35,2,'tableau 1'!H14:H35,'tableau 2'!B14) -> 0 | F14: =SUMIFS('tableau 1'!M14:M35,'tableau 1'!F14:F35,3,'tableau 1'!H14:H35,'tableau 2'!B14) -> 0 | G14: =SUMIFS('tableau 1'!M14:M35,'tableau 1'!F14:F35,4,'tableau 1'!H14:H35,'tableau 2'!B14) -> 0 | H14: =SUMIFS('tableau 1'!M14:M35,'tableau 1'!F14:F35,5,'tableau 1'!H14:H35,'tableau 2'!B14) -> 0 | I14: =SUMIFS('tableau 1'!M14:M35,'tableau 1'!F14:F35,6,'tableau 1'!H14:H35,'tableau 2'!B14) -> 0 | J14: =SUMIFS('tableau 1'!M14:M35,'tableau 1'!F14:F35,7,'tableau 1'!H14:H35,'tableau 2'!B14) -> 0 | K14: =SUMIFS('tableau 1'!M14:M35,'tableau 1'!F14:F35,8,'tableau 1'!H14:H35,'tableau 2'!B14) -> 0 | L14: =SUMIFS('tableau 1'!M14:M35,'tableau 1'!F14:F35,9,'tableau 1'!H14:H35,'tableau 2'!B14) -> 0 | M14: =SUMIFS('tableau 1'!M14:M35,'tableau 1'!F14:F35,10,'tableau 1'!H14:H35,'tableau 2'!B14) -> 0 | N14: =SUMIFS('tableau 1'!M14:M35,'tableau 1'!F14:F35,11,'tableau 1'!H14:H35,'tableau 2'!B14) -> 0 | O14: =SUMIFS('tableau 1'!M14:M35,'tableau 1'!F14:F35,12,'tableau 1'!H14:H35,'tableau 2'!B14) -> 0
B15: L | D15: =SUMIFS('tableau 1'!M15:M36,'tableau 1'!F15:F36,1,'tableau 1'!H15:H36,'tableau 2'!B15) -> 0 | E15: =SUMIFS('tableau 1'!M15:M36,'tableau 1'!F15:F36,2,'tableau 1'!H15:H36,'tableau 2'!B15) -> 0 | F15: =SUMIFS('tableau 1'!M15:M36,'tableau 1'!F15:F36,3,'tableau 1'!H15:H36,'tableau 2'!B15) -> 0 | G15: =SUMIFS('tableau 1'!M15:M36,'tableau 1'!F15:F36,4,'tableau 1'!H15:H36,'tableau 2'!B15) -> 0 | H15: =SUMIFS('tableau 1'!M15:M36,'tableau 1'!F15:F36,5,'tableau 1'!H15:H36,'tableau 2'!B15) -> 0 | I15: =SUMIFS('tableau 1'!M15:M36,'tableau 1'!F15:F36,6,'tableau 1'!H15:H36,'tableau 2'!B15) -> 0 | J15: =SUMIFS('tableau 1'!M15:M36,'tableau 1'!F15:F36,7,'tableau 1'!H15:H36,'tableau 2'!B15) -> 0 | K15: =SUMIFS('tableau 1'!M15:M36,'tableau 1'!F15:F36,8,'tableau 1'!H15:H36,'tableau 2'!B15) -> 0 | L15: =SUMIFS('tableau 1'!M15:M36,'tableau 1'!F15:F36,9,'tableau 1'!H15:H36,'tableau 2'!B15) -> 0 | M15: =SUMIFS('tableau 1'!M15:M36,'tableau 1'!F15:F36,10,'tableau 1'!H15:H36,'tableau 2'!B15) -> 0 | N15: =SUMIFS('tableau 1'!M15:M36,'tableau 1'!F15:F36,11,'tableau 1'!H15:H36,'tableau 2'!B15) -> 0 | O15: =SUMIFS('tableau 1'!M15:M36,'tableau 1'!F15:F36,12,'tableau 1'!H15:H36,'tableau 2'!B15) -> 0
B16: M | D16: =SUMIFS('tableau 1'!M16:M37,'tableau 1'!F16:F37,1,'tableau 1'!H16:H37,'tableau 2'!B16) -> 0 | E16: =SUMIFS('tableau 1'!M16:M37,'tableau 1'!F16:F37,2,'tableau 1'!H16:H37,'tableau 2'!B16) -> 0 | F16: =SUMIFS('tableau 1'!M16:M37,'tableau 1'!F16:F37,3,'tableau 1'!H16:H37,'tableau 2'!B16) -> 0 | G16: =SUMIFS('tableau 1'!M16:M37,'tableau 1'!F16:F37,4,'tableau 1'!H16:H37,'tableau 2'!B16) -> 0 | H16: =SUMIFS('tableau 1'!M16:M37,'tableau 1'!F16:F37,5,'tableau 1'!H16:H37,'tableau 2'!B16) -> 0 | I16: =SUMIFS('tableau 1'!M16:M37,'tableau 1'!F16:F37,6,'tableau 1'!H16:H37,'tableau 2'!B16) -> 0 | J16: =SUMIFS('tableau 1'!M16:M37,'tableau 1'!F16:F37,7,'tableau 1'!H16:H37,'tableau 2'!B16) -> 0 | K16: =SUMIFS('tableau 1'!M16:M37,'tableau 1'!F16:F37,8,'tableau 1'!H16:H37,'tableau 2'!B16) -> 0 | L16: =SUMIFS('tableau 1'!M16:M37,'tableau 1'!F16:F37,9,'tableau 1'!H16:H37,'tableau 2'!B16) -> 0 | M16: =SUMIFS('tableau 1'!M16:M37,'tableau 1'!F16:F37,10,'tableau 1'!H16:H37,'tableau 2'!B16) -> 0 | N16: =SUMIFS('tableau 1'!M16:M37,'tableau 1'!F16:F37,11,'tableau 1'!H16:H37,'tableau 2'!B16) -> 0 | O16: =SUMIFS('tableau 1'!M16:M37,'tableau 1'!F16:F37,12,'tableau 1'!H16:H37,'tableau 2'!B16) -> 0
B17: O | D17: =SUMIFS('tableau 1'!M17:M38,'tableau 1'!F17:F38,1,'tableau 1'!H17:H38,'tableau 2'!B17) -> 0 | E17: =SUMIFS('tableau 1'!M17:M38,'tableau 1'!F17:F38,2,'tableau 1'!H17:H38,'tableau 2'!B17) -> 0 | F17: =SUMIFS('tableau 1'!M17:M38,'tableau 1'!F17:F38,3,'tableau 1'!H17:H38,'tableau 2'!B17) -> 0 | G17: =SUMIFS('tableau 1'!M17:M38,'tableau 1'!F17:F38,4,'tableau 1'!H17:H38,'tableau 2'!B17) -> 0 | H17: =SUMIFS('tableau 1'!M17:M38,'tableau 1'!F17:F38,5,'tableau 1'!H17:H38,'tableau 2'!B17) -> 0 | I17: =SUMIFS('tableau 1'!M17:M38,'tableau 1'!F17:F38,6,'tableau 1'!H17:H38,'tableau 2'!B17) -> 0 | J17: =SUMIFS('tableau 1'!M17:M38,'tableau 1'!F17:F38,7,'tableau 1'!H17:H38,'tableau 2'!B17) -> 0 | K17: =SUMIFS('tableau 1'!M17:M38,'tableau 1'!F17:F38,8,'tableau 1'!H17:H38,'tableau 2'!B17) -> 0 | L17: =SUMIFS('tableau 1'!M17:M38,'tableau 1'!F17:F38,9,'tableau 1'!H17:H38,'tableau 2'!B17) -> 0 | M17: =SUMIFS('tableau 1'!M17:M38,'tableau 1'!F17:F38,10,'tableau 1'!H17:H38,'tableau 2'!B17) -> 0 | N17: =SUMIFS('tableau 1'!M17:M38,'tableau 1'!F17:F38,11,'tableau 1'!H17:H38,'tableau 2'!B17) -> 0 | O17: =SUMIFS('tableau 1'!M17:M38,'tableau 1'!F17:F38,12,'tableau 1'!H17:H38,'tableau 2'!B17) -> 0
B18: P | D18: =SUMIFS('tableau 1'!M18:M39,'tableau 1'!F18:F39,1,'tableau 1'!H18:H39,'tableau 2'!B18) -> 0 | E18: =SUMIFS('tableau 1'!M18:M39,'tableau 1'!F18:F39,2,'tableau 1'!H18:H39,'tableau 2'!B18) -> 0 | F18: =SUMIFS('tableau 1'!M18:M39,'tableau 1'!F18:F39,3,'tableau 1'!H18:H39,'tableau 2'!B18) -> 0 | G18: =SUMIFS('tableau 1'!M18:M39,'tableau 1'!F18:F39,4,'tableau 1'!H18:H39,'tableau 2'!B18) -> 0 | H18: =SUMIFS('tableau 1'!M18:M39,'tableau 1'!F18:F39,5,'tableau 1'!H18:H39,'tableau 2'!B18) -> 0 | I18: =SUMIFS('tableau 1'!M18:M39,'tableau 1'!F18:F39,6,'tableau 1'!H18:H39,'tableau 2'!B18) -> 0 | J18: =SUMIFS('tableau 1'!M18:M39,'tableau 1'!F18:F39,7,'tableau 1'!H18:H39,'tableau 2'!B18) -> 0 | K18: =SUMIFS('tableau 1'!M18:M39,'tableau 1'!F18:F39,8,'tableau 1'!H18:H39,'tableau 2'!B18) -> 0 | L18: =SUMIFS('tableau 1'!M18:M39,'tableau 1'!F18:F39,9,'tableau 1'!H18:H39,'tableau 2'!B18) -> 0 | M18: =SUMIFS('tableau 1'!M18:M39,'tableau 1'!F18:F39,10,'tableau 1'!H18:H39,'tableau 2'!B18) -> 0 | N18: =SUMIFS('tableau 1'!M18:M39,'tableau 1'!F18:F39,11,'tableau 1'!H18:H39,'tableau 2'!B18) -> 0 | O18: =SUMIFS('tableau 1'!M18:M39,'tableau 1'!F18:F39,12,'tableau 1'!H18:H39,'tableau 2'!B18) -> 0
B19: R | D19: =SUMIFS('tableau 1'!M19:M40,'tableau 1'!F19:F40,1,'tableau 1'!H19:H40,'tableau 2'!B19) -> 0 | E19: =SUMIFS('tableau 1'!M19:M40,'tableau 1'!F19:F40,2,'tableau 1'!H19:H40,'tableau 2'!B19) -> 0 | F19: =SUMIFS('tableau 1'!M19:M40,'tableau 1'!F19:F40,3,'tableau 1'!H19:H40,'tableau 2'!B19) -> 0 | G19: =SUMIFS('tableau 1'!M19:M40,'tableau 1'!F19:F40,4,'tableau 1'!H19:H40,'tableau 2'!B19) -> 0 | H19: =SUMIFS('tableau 1'!M19:M40,'tableau 1'!F19:F40,5,'tableau 1'!H19:H40,'tableau 2'!B19) -> 0 | I19: =SUMIFS('tableau 1'!M19:M40,'tableau 1'!F19:F40,6,'tableau 1'!H19:H40,'tableau 2'!B19) -> 0 | J19: =SUMIFS('tableau 1'!M19:M40,'tableau 1'!F19:F40,7,'tableau 1'!H19:H40,'tableau 2'!B19) -> 0 | K19: =SUMIFS('tableau 1'!M19:M40,'tableau 1'!F19:F40,8,'tableau 1'!H19:H40,'tableau 2'!B19) -> 0 | L19: =SUMIFS('tableau 1'!M19:M40,'tableau 1'!F19:F40,9,'tableau 1'!H19:H40,'tableau 2'!B19) -> 0 | M19: =SUMIFS('tableau 1'!M19:M40,'tableau 1'!F19:F40,10,'tableau 1'!H19:H40,'tableau 2'!B19) -> 9856 | N19: =SUMIFS('tableau 1'!M19:M40,'tableau 1'!F19:F40,11,'tableau 1'!H19:H40,'tableau 2'!B19) -> 0 | O19: =SUMIFS('tableau 1'!M19:M40,'tableau 1'!F19:F40,12,'tableau 1'!H19:H40,'tableau 2'!B19) -> 0
B20: S | D20: =SUMIFS('tableau 1'!M20:M41,'tableau 1'!F20:F41,1,'tableau 1'!H20:H41,'tableau 2'!B20) -> 0 | E20: =SUMIFS('tableau 1'!M20:M41,'tableau 1'!F20:F41,2,'tableau 1'!H20:H41,'tableau 2'!B20) -> 0 | F20: =SUMIFS('tableau 1'!M20:M41,'tableau 1'!F20:F41,3,'tableau 1'!H20:H41,'tableau 2'!B20) -> 0 | G20: =SUMIFS('tableau 1'!M20:M41,'tableau 1'!F20:F41,4,'tableau 1'!H20:H41,'tableau 2'!B20) -> 0 | H20: =SUMIFS('tableau 1'!M20:M41,'tableau 1'!F20:F41,5,'tableau 1'!H20:H41,'tableau 2'!B20) -> 0 | I20: =SUMIFS('tableau 1'!M20:M41,'tableau 1'!F20:F41,6,'tableau 1'!H20:H41,'tableau 2'!B20) -> 0 | J20: =SUMIFS('tableau 1'!M20:M41,'tableau 1'!F20:F41,7,'tableau 1'!H20:H41,'tableau 2'!B20) -> 0 | K20: =SUMIFS('tableau 1'!M20:M41,'tableau 1'!F20:F41,8,'tableau 1'!H20:H41,'tableau 2'!B20) -> 0 | L20: =SUMIFS('tableau 1'!M20:M41,'tableau 1'!F20:F41,9,'tableau 1'!H20:H41,'tableau 2'!B20) -> 0 | M20: =SUMIFS('tableau 1'!M20:M41,'tableau 1'!F20:F41,10,'tableau 1'!H20:H41,'tableau 2'!B20) -> 0 | N20: =SUMIFS('tableau 1'!M20:M41,'tableau 1'!F20:F41,11,'tableau 1'!H20:H41,'tableau 2'!B20) -> 0 | O20: =SUMIFS('tableau 1'!M20:M41,'tableau 1'!F20:F41,12,'tableau 1'!H20:H41,'tableau 2'!B20) -> 0
B21: V | D21: =SUMIFS('tableau 1'!M21:M42,'tableau 1'!F21:F42,1,'tableau 1'!H21:H42,'tableau 2'!B21) -> 0 | E21: =SUMIFS('tableau 1'!M21:M42,'tableau 1'!F21:F42,2,'tableau 1'!H21:H42,'tableau 2'!B21) -> 0 | F21: =SUMIFS('tableau 1'!M21:M42,'tableau 1'!F21:F42,3,'tableau 1'!H21:H42,'tableau 2'!B21) -> 0 | G21: =SUMIFS('tableau 1'!M21:M42,'tableau 1'!F21:F42,4,'tableau 1'!H21:H42,'tableau 2'!B21) -> 0 | H21: =SUMIFS('tableau 1'!M21:M42,'tableau 1'!F21:F42,5,'tableau 1'!H21:H42,'tableau 2'!B21) -> 0 | I21: =SUMIFS('tableau 1'!M21:M42,'tableau 1'!F21:F42,6,'tableau 1'!H21:H42,'tableau 2'!B21) -> 0 | J21: =SUMIFS('tableau 1'!M21:M42,'tableau 1'!F21:F42,7,'tableau 1'!H21:H42,'tableau 2'!B21) -> 0 | K21: =SUMIFS('tableau 1'!M21:M42,'tableau 1'!F21:F42,8,'tableau 1'!H21:H42,'tableau 2'!B21) -> 0 | L21: =SUMIFS('tableau 1'!M21:M42,'tableau 1'!F21:F42,9,'tableau 1'!H21:H42,'tableau 2'!B21) -> 0 | M21: =SUMIFS('tableau 1'!M21:M42,'tableau 1'!F21:F42,10,'tableau 1'!H21:H42,'tableau 2'!B21) -> 0 | N21: =SUMIFS('tableau 1'!M21:M42,'tableau 1'!F21:F42,11,'tableau 1'!H21:H42,'tableau 2'!B21) -> 0 | O21: =SUMIFS('tableau 1'!M21:M42,'tableau 1'!F21:F42,12,'tableau 1'!H21:H42,'tableau 2'!B21) -> 0
B22: Z | D22: =SUMIFS('tableau 1'!M22:M43,'tableau 1'!F22:F43,1,'tableau 1'!H22:H43,'tableau 2'!B22) -> 200 | E22: =SUMIFS('tableau 1'!M22:M43,'tableau 1'!F22:F43,2,'tableau 1'!H22:H43,'tableau 2'!B22) -> 20 | F22: =SUMIFS('tableau 1'!M22:M43,'tableau 1'!F22:F43,3,'tableau 1'!H22:H43,'tableau 2'!B22) -> 0 | G22: =SUMIFS('tableau 1'!M22:M43,'tableau 1'!F22:F43,4,'tableau 1'!H22:H43,'tableau 2'!B22) -> 0 | H22: =SUMIFS('tableau 1'!M22:M43,'tableau 1'!F22:F43,5,'tableau 1'!H22:H43,'tableau 2'!B22) -> 0 | I22: =SUMIFS('tableau 1'!M22:M43,'tableau 1'!F22:F43,6,'tableau 1'!H22:H43,'tableau 2'!B22) -> 0 | J22: =SUMIFS('tableau 1'!M22:M43,'tableau 1'!F22:F43,7,'tableau 1'!H22:H43,'tableau 2'!B22) -> 0 | K22: =SUMIFS('tableau 1'!M22:M43,'tableau 1'!F22:F43,8,'tableau 1'!H22:H43,'tableau 2'!B22) -> 0 | L22: =SUMIFS('tableau 1'!M22:M43,'tableau 1'!F22:F43,9,'tableau 1'!H22:H43,'tableau 2'!B22) -> 0 | M22: =SUMIFS('tableau 1'!M22:M43,'tableau 1'!F22:F43,10,'tableau 1'!H22:H43,'tableau 2'!B22) -> 0 | N22: =SUMIFS('tableau 1'!M22:M43,'tableau 1'!F22:F43,11,'tableau 1'!H22:H43,'tableau 2'!B22) -> 0 | O22: =SUMIFS('tableau 1'!M22:M43,'tableau 1'!F22:F43,12,'tableau 1'!H22:H43,'tableau 2'!B22) -> 4574.76
B23: COUTS TOTALS

Sheet Feuil3
