Workbook

Sheet General
A1: Adherent | B1: telephone | C1: mail | D1: Date d'adhesion | E1: expo | F1: atelier | G1: stage | H1: services
K2: =IF(E:E=1,L2=3) -> FALSE
A3: Daniel Pezeril | B3: 644081800 | D3: 42770 | E3: 1 | F3: 1 | G3: 1 | H3: 1
A4: Costa Ledormeur | D4: 42770 | F4: 1 | G4: 1 | H4: 1
A5: Adrien Testas | B5: 789200542 | C5: adrien.testas@live.fr | D5: 42770 | E5: 1 | F5: 1 | G5: 1 | H5: 1
A6: NEJ | B6: 11111 | C6: 1111 | G6: 1 | H6: 1
A7: MODRI | B7: 22222 | C7: 22222 | H7: 1
A8: ROMAIN | B8: 22222 | C8: 2222 | F8: 1 | H8: 1

Sheet Expo
A1: INTERESSE POUR EXPO : | C1: NOM | E1: MAIL | G1: TELEPHONE
C3: =IF(General!E3,General!A3," ") -> Daniel Pezeril | E3: =IF(General!E3,General!C3," ") -> 0 | G3: =IF(General!E3,General!B3," ") -> 644081800
C4: =IF(General!E4,General!A4," ") | E4: =IF(General!E4,General!C4," ") | G4: =IF(General!E4,General!B4," ")
C5: =IF(General!E5,General!A5," ") -> Adrien Testas | E5: =IF(General!E5,General!C5," ") -> adrien.testas@live.fr | G5: =IF(General!E5,General!B5," ") -> 789200542
C6: =IF(General!E6,General!A6," ") | E6: =IF(General!E6,General!C6," ") | G6: =IF(General!E6,General!B6," ")
C7: =IF(General!E7,General!A7," ") | E7: =IF(General!E7,General!C7," ") | G7: =IF(General!E7,General!B7," ")
C8: =IF(General!E8,General!A8," ") | E8: =IF(General!E8,General!C8," ") | G8: =IF(General!E8,General!B8," ")
C9: =IF(General!E9,General!A9," ") | E9: =IF(General!E9,General!C9," ") | G9: =IF(General!E9,General!B9," ")
C10: =IF(General!E10,General!A10," ") | E10: =IF(General!E10,General!C10," ") | G10: =IF(General!E10,General!B10," ")
C11: =IF(General!E11,General!A11," ") | G11: =IF(General!E11,General!B11," ")
C12: =IF(General!E12,General!A12," ") | E12: =IF(General!E12,General!C12," ") | G12: =IF(General!E12,General!B12," ")
C13: =IF(General!E13,General!A13," ") | E13: =IF(General!E13,General!C13," ") | G13: =IF(General!E13,General!B13," ")
C14: =IF(General!E14,General!A14," ") | E14: =IF(General!E14,General!C14," ") | G14: =IF(General!E14,General!B14," ")
C15: =IF(General!E15,General!A15," ") | E15: =IF(General!E15,General!C15," ") | G15: =IF(General!E15,General!B15," ")
C16: =IF(General!E16,General!A16," ") | E16: =IF(General!E16,General!C16," ") | G16: =IF(General!E16,General!B16," ")
C17: =IF(General!E17,General!A17," ") | E17: =IF(General!E17,General!C17," ") | G17: =IF(General!E17,General!B17," ")
C18: =IF(General!E18,General!A18," ") | E18: =IF(General!E18,General!C18," ") | G18: =IF(General!E18,General!B18," ")
C19: =IF(General!E19,General!A19," ") | E19: =IF(General!E19,General!C19," ") | G19: =IF(General!E19,General!B19," ")
C20: =IF(General!E20,General!A20," ") | E20: =IF(General!E20,General!C20," ") | G20: =IF(General!E20,General!B20," ")
C21: =IF(General!E21,General!A21," ") | E21: =IF(General!E21,General!C21," ") | G21: =IF(General!E21,General!B21," ")
C22: =IF(General!E22,General!A22," ") | E22: =IF(General!E22,General!C22," ") | G22: =IF(General!E22,General!B22," ")
C23: =IF(General!E23,General!A23," ") | E23: =IF(General!E23,General!C23," ") | G23: =IF(General!E23,General!B23," ")
... C103: =IF(General!E103,General!A103," ") | E103: =IF(General!E103,General!C103," ") | G103: =IF(General!E103,General!B103," ")

Sheet ATELIER
A1: INTERESSE POUR ATELIER | C1: NOM | E1: MAIL | G1: TELEPHONE
C3: =IF(General!F3,General!A3," ") -> Daniel Pezeril | E3: =IF(General!F3,General!C3," ") -> 0 | G3: =IF(General!F3,General!B3," ") -> 644081800
C4: =IF(General!F4,General!A4," ") -> Costa Ledormeur | E4: =IF(General!F4,General!C4," ") -> 0 | G4: =IF(General!F4,General!B4," ") -> 0
C5: =IF(General!F5,General!A5," ") -> Adrien Testas | E5: =IF(General!F5,General!C5," ") -> adrien.testas@live.fr | G5: =IF(General!F5,General!B5," ") -> 789200542
C6: =IF(General!F6,General!A6," ") | E6: =IF(General!F6,General!C6," ") | G6: =IF(General!F6,General!B6," ")
C7: =IF(General!F7,General!A7," ") | E7: =IF(General!F7,General!C7," ") | G7: =IF(General!F7,General!B7," ")
C8: =IF(General!F8,General!A8," ") -> ROMAIN | E8: =IF(General!F8,General!C8," ") -> 2222 | G8: =IF(General!F8,General!B8," ") -> 22222
C9: =IF(General!F9,General!A9," ") | E9: =IF(General!F9,General!C9," ") | G9: =IF(General!F9,General!B9," ")
C10: =IF(General!F10,General!A10," ") | E10: =IF(General!F10,General!C10," ") | G10: =IF(General!F10,General!B10," ")
C11: =IF(General!F11,General!A11," ") | E11: =IF(General!F11,General!C11," ") | G11: =IF(General!F11,General!B11," ")
C12: =IF(General!F12,General!A12," ") | E12: =IF(General!F12,General!C12," ") | G12: =IF(General!F12,General!B12," ")
C13: =IF(General!F13,General!A13," ") | E13: =IF(General!F13,General!C13," ") | G13: =IF(General!F13,General!B13," ")
C14: =IF(General!F14,General!A14," ") | E14: =IF(General!F14,General!C14," ") | G14: =IF(General!F14,General!B14," ")
... C103: =IF(General!F103,General!A103," ") | E103: =IF(General!F103,General!C103," ") | G103: =IF(General!F103,General!B103," ")

Sheet Sheet4
A1: INTERESSE POUR EXPO : | C1: NOM | E1: MAIL | G1: TELEPHONE
C3: =IF(General!G3,General!A3," ") -> Daniel Pezeril | E3: =IF(General!G3,General!C3," ") -> 0 | G3: =IF(General!G3,General!B3," ") -> 644081800
C4: =IF(General!G4,General!A4," ") -> Costa Ledormeur | E4: =IF(General!G4,General!C4," ") -> 0 | G4: =IF(General!G4,General!B4," ") -> 0
C5: =IF(General!G5,General!A5," ") -> Adrien Testas | E5: =IF(General!G5,General!C5," ") -> adrien.testas@live.fr | G5: =IF(General!G5,General!B5," ") -> 789200542
C6: =IF(General!G6,General!A6," ") -> NEJ | E6: =IF(General!G6,General!C6," ") -> 1111 | G6: =IF(General!G6,General!B6," ") -> 11111
C7: =IF(General!G7,General!A7," ") | E7: =IF(General!G7,General!C7," ") | G7: =IF(General!G7,General!B7," ")
C8: =IF(General!G8,General!A8," ") | E8: =IF(General!G8,General!C8," ") | G8: =IF(General!G8,General!B8," ")
C9: =IF(General!G9,General!A9," ") | E9: =IF(General!G9,General!C9," ") | G9: =IF(General!G9,General!B9," ")
C10: =IF(General!G10,General!A10," ") | E10: =IF(General!G10,General!C10," ") | G10: =IF(General!G10,General!B10," ")
C11: =IF(General!G11,General!A11," ") | E11: =IF(General!G11,General!C11," ") | G11: =IF(General!G11,General!B11," ")
C12: =IF(General!G12,General!A12," ") | E12: =IF(General!G12,General!C12," ") | G12: =IF(General!G12,General!B12," ")
C13: =IF(General!G13,General!A13," ") | E13: =IF(General!G13,General!C13," ") | G13: =IF(General!G13,General!B13," ")
C14: =IF(General!G14,General!A14," ") | E14: =IF(General!G14,General!C14," ") | G14: =IF(General!G14,General!B14," ")
... C103: =IF(General!G103,General!A103," ") | E103: =IF(General!G103,General!C103," ") | G103: =IF(General!G103,General!B103," ")

Sheet test
A1: INTERESSE POUR EXPO : | C1: NOM | E1: MAIL | G1: TELEPHONE
C3: =test!A -> #NAME?
A4: =IF(General!E3,C:C=General!A3) -> FALSE
C6: =IF(General!E6,General!A6," ") | E6: =IF(General!E6,General!C6," ") | G6: =IF(General!E6,General!B6," ")
C7: =IF(General!E7,General!A7," ") | E7: =IF(General!E7,General!C7," ") | G7: =IF(General!E7,General!B7," ")
C8: =IF(General!E8,General!A8," ") | E8: =IF(General!E8,General!C8," ") | G8: =IF(General!E8,General!B8," ")
C9: =IF(General!E9,General!A9," ") | E9: =IF(General!E9,General!C9," ") | G9: =IF(General!E9,General!B9," ")
C10: =IF(General!E10,General!A10," ") | E10: =IF(General!E10,General!C10," ") | G10: =IF(General!E10,General!B10," ")
C11: =IF(General!E11,General!A11," ") | G11: =IF(General!E11,General!B11," ")
C12: =IF(General!E12,General!A12," ") | E12: =IF(General!E12,General!C12," ") | G12: =IF(General!E12,General!B12," ")
C13: =IF(General!E13,General!A13," ") | E13: =IF(General!E13,General!C13," ") | G13: =IF(General!E13,General!B13," ")
C14: =IF(General!E14,General!A14," ") | E14: =IF(General!E14,General!C14," ") | G14: =IF(General!E14,General!B14," ")
C15: =IF(General!E15,General!A15," ") | E15: =IF(General!E15,General!C15," ") | G15: =IF(General!E15,General!B15," ")
C16: =IF(General!E16,General!A16," ") | E16: =IF(General!E16,General!C16," ") | G16: =IF(General!E16,General!B16," ")
C17: =IF(General!E17,General!A17," ") | E17: =IF(General!E17,General!C17," ") | G17: =IF(General!E17,General!B17," ")
C18: =IF(General!E18,General!A18," ") | E18: =IF(General!E18,General!C18," ") | G18: =IF(General!E18,General!B18," ")
C19: =IF(General!E19,General!A19," ") | E19: =IF(General!E19,General!C19," ") | G19: =IF(General!E19,General!B19," ")
C20: =IF(General!E20,General!A20," ") | E20: =IF(General!E20,General!C20," ") | G20: =IF(General!E20,General!B20," ")
C21: =IF(General!E21,General!A21," ") | E21: =IF(General!E21,General!C21," ") | G21: =IF(General!E21,General!B21," ")
C22: =IF(General!E22,General!A22," ") | E22: =IF(General!E22,General!C22," ") | G22: =IF(General!E22,General!B22," ")
C23: =IF(General!E23,General!A23," ") | E23: =IF(General!E23,General!C23," ") | G23: =IF(General!E23,General!B23," ")
... C103: =IF(General!E103,General!A103," ") | E103: =IF(General!E103,General!C103," ") | G103: =IF(General!E103,General!B103," ")
