Workbook
Name listenico: 'Base de donnée régie 2016'!#REF!

Sheet Sortie régie trad
A1: Sortie Régie TRAD
A4: ville | B4: date
A6: Chef de tir :
A7: Type de véhicule :
A8: Date de départ :
A10: Désignation | B10: N° | D10: Sortie | F10: Désignation | G10: N° | I10: Sortie
A12: Régie 110 lignes ( fly JCO ) | B12: N° | C12: =D12*5 -> 0 | E12: =D12*0.125 -> 0 | F12: câble 28 P ( bornier / eclaté ) 25 m Gris | G12: N° | H12: =I12*5 -> 0 | J12: =I12*0.125 -> 0
A13: Régie 60 lignes ( fly JCO ) | B13: N° | C13: =D13*5 -> 0 | E13: =D13*0.125 -> 0 | F13: câble 28 P ( bornier / eclaté ) 50 m Gris | G13: N° | H13: =I13*5 -> 0 | J13: =I13*0.125 -> 0
A14: Régie 55 lignes ( fly JCO ) | B14: N° | C14: =D14*5 -> 0 | E14: =D14*0.125 -> 0 | F14: câble 28 P ( bornier / eclaté ) 100 m Gris | G14: N° | H14: =I14*5 -> 0 | J14: =I14*0.125 -> 0
A15: Régie 40 lignes ( valise en bois ) | B15: N° | C15: =D15*5 -> 0 | E15: =D15*0.125 -> 0 | F15: câble 28 P ( bornier / eclaté ) 150 m Gris | G15: N° | H15: =I15*5 -> 0 | J15: =I15*0.125 -> 0
A16: Régie 30 lignes ( valise alu ) | B16: N° | C16: =D16*5 -> 0 | E16: =D16*0.125 -> 0 | F16: câble 28 P ( bornier / eclaté ) 200 m Gris | G16: N° | H16: =I16*5 -> 0 | J16: =I16*0.125 -> 0
A18: Pile 45 volts secours + cordon | B18: N° | C18: =D18*5 -> 0 | E18: =D18*0.125 -> 0 | F18: câble 28 P ( bornier / eclaté ) 25 m Noire | G18: N° | H18: =I18*5 -> 0 | J18: =I18*0.125 -> 0
A19: chrono | B19: N° | C19: =D19*5 -> 0 | E19: =D19*0.125 -> 0 | F19: câble 28 P ( bornier / eclaté ) 50 m Noire | G19: N° | H19: =I19*5 -> 0 | J19: =I19*0.125 -> 0
A20: valise bijoute | B20: N° | C20: =D20*5 -> 0 | E20: =D20*0.125 -> 0 | F20: câble 28 P ( bornier / eclaté ) 100 m Noire | G20: N° | H20: =I20*5 -> 0 | J20: =I20*0.125 -> 0
A21: Testeur | B21: N° | C21: =D21*5 -> 0 | E21: =D21*0.125 -> 0 | F21: câble 28 P ( bornier / eclaté ) 150 m Noire | G21: N° | H21: =I21*5 -> 0 | J21: =I21*0.125 -> 0
B22: N° | C22: =D22*5 -> 0 | E22: =D22*0.125 -> 0 | F22: câble 28 P ( bornier / eclaté ) 200 m Noire | G22: N° | H22: =I22*5 -> 0 | J22: =I22*0.125 -> 0
A24: câble régie 54 P ( bornier / prise ) 2 m | B24: N° | C24: =D24*5 -> 0 | E24: =D24*0.125 -> 0 | F24: câble15 P ( éclaté / éclaté ) 25 m | G24: N° | H24: =I24*5 -> 0 | J24: =I24*0.125 -> 0
A25: câble régie 54 P ( bornier / prise ) 50 m | B25: N° | C25: =D25*5 -> 0 | E25: =D25*0.125 -> 0 | F25: câble15 P ( éclaté / éclaté ) 50 m | G25: N° | H25: =I25*5 -> 0 | J25: =I25*0.125 -> 0
A26: câble 54 P ( bornier / eclaté ) 100 m | B26: N° | C26: =D26*5 -> 0 | E26: =D26*0.125 -> 0 | F26: câble15 P ( éclaté / éclaté ) 100 m | G26: N° | H26: =I26*5 -> 0 | J26: =I26*0.125 -> 0
A27: câble 54 P ( bornier / eclaté ) 50 m | B27: N° | C27: =D27*5 -> 0 | E27: =D27*0.125 -> 0 | G27: N° | H27: =I27*5 -> 0 | J27: =I27*0.125 -> 0
A28: câble 54 P ( prise / prise ) 50 m | B28: N° | C28: =D28*5 -> 0 | E28: =D28*0.125 -> 0 | G28: N° | H28: =I28*5 -> 0 | J28: =I28*0.125 -> 0
A29: câble 54 P ( prise / prise ) 100 m | B29: N° | C29: =D29*5 -> 0 | E29: =D29*0.125 -> 0 | G29: N° | H29: =I29*5 -> 0 | J29: =I29*0.125 -> 0
A30: câble 54 P ( prise / prise ) 200 m | B30: N° | C30: =D30*5 -> 0 | E30: =D30*0.125 -> 0 | G30: N° | H30: =I30*5 -> 0 | J30: =I30*0.125 -> 0
A31: doublette 54 P ( 1 entrée / 2 sorties ) | B31: N° | C31: =D31*5 -> 0 | E31: =D31*0.125 -> 0 | G31: N° | H31: =I31*5 -> 0 | J31: =I31*0.125 -> 0
A32: triplette 54 P ( 1 entrée / 3 sorties ) | B32: N° | C32: =D32*5 -> 0 | E32: =D32*0.125 -> 0 | G32: N° | H32: =I32*5 -> 0 | J32: =I32*0.125 -> 0

Sheet Etat des stocks régie 2016
B2: Etat des stocks Régie
B6: Article | C6: Ref | D6: Stock initial | E6: Sorties | F6: Stock Final
B7: =IF('Base de donnée régie 2016'!B8="","",'Base de donnée régie 2016'!B8) -> Article 68 | C7: =IF('Base de donnée régie 2016'!C8="","",'Base de donnée régie 2016'!C8) -> Régie 110 lignes ( fly JCO ) | D7: 100 | E7: =IF(C7="","",SUMIFS('Sortie régie trad'!D$12:D$425,'Sortie régie trad'!A$12:A$425,C7)+SUMIFS('Sortie régie trad'!I$12:I$425,'Sortie régie trad'!F$12:F$425,C7)) -> 0 | F7: =D7-E7 -> 100
B8: =IF('Base de donnée régie 2016'!B9="","",'Base de donnée régie 2016'!B9) -> Article 69 | C8: =IF('Base de donnée régie 2016'!C9="","",'Base de donnée régie 2016'!C9) -> Régie 60 lignes ( fly JCO ) | D8: 100 | E8: =IF(C8="","",SUMIFS('Sortie régie trad'!D$12:D$425,'Sortie régie trad'!A$12:A$425,C8)+SUMIFS('Sortie régie trad'!I$12:I$425,'Sortie régie trad'!F$12:F$425,C8)) -> 0 | F8: =D8-E8 -> 100
B9: =IF('Base de donnée régie 2016'!B10="","",'Base de donnée régie 2016'!B10) -> Article 70 | C9: =IF('Base de donnée régie 2016'!C10="","",'Base de donnée régie 2016'!C10) -> Régie 55 lignes ( fly JCO ) | D9: 100 | E9: =IF(C9="","",SUMIFS('Sortie régie trad'!D$12:D$425,'Sortie régie trad'!A$12:A$425,C9)+SUMIFS('Sortie régie trad'!I$12:I$425,'Sortie régie trad'!F$12:F$425,C9)) -> 0 | F9: =D9-E9 -> 100
B10: =IF('Base de donnée régie 2016'!B11="","",'Base de donnée régie 2016'!B11) -> Article 71 | C10: =IF('Base de donnée régie 2016'!C11="","",'Base de donnée régie 2016'!C11) -> Régie 40 lignes ( valise en bois ) | D10: 100 | E10: =IF(C10="","",SUMIFS('Sortie régie trad'!D$12:D$425,'Sortie régie trad'!A$12:A$425,C10)+SUMIFS('Sortie régie trad'!I$12:I$425,'Sortie régie trad'!F$12:F$425,C10)) -> 0 | F10: =D10-E10 -> 100
B11: =IF('Base de donnée régie 2016'!B12="","",'Base de donnée régie 2016'!B12) -> Article 72 | C11: =IF('Base de donnée régie 2016'!C12="","",'Base de donnée régie 2016'!C12) -> Régie 30 lignes ( valise alu ) | D11: 100 | E11: =IF(C11="","",SUMIFS('Sortie régie trad'!D$12:D$425,'Sortie régie trad'!A$12:A$425,C11)+SUMIFS('Sortie régie trad'!I$12:I$425,'Sortie régie trad'!F$12:F$425,C11)) -> 0 | F11: =D11-E11 -> 100
B12: =IF('Base de donnée régie 2016'!B13="","",'Base de donnée régie 2016'!B13) -> Article 73 | C12: =IF('Base de donnée régie 2016'!C13="","",'Base de donnée régie 2016'!C13) -> pile 45 volts secours + cordon | D12: 100 | E12: =IF(C12="","",SUMIFS('Sortie régie trad'!D$12:D$425,'Sortie régie trad'!A$12:A$425,C12)+SUMIFS('Sortie régie trad'!I$12:I$425,'Sortie régie trad'!F$12:F$425,C12)) -> 0 | F12: =D12-E12 -> 100
B13: =IF('Base de donnée régie 2016'!B14="","",'Base de donnée régie 2016'!B14) -> Article 74 | C13: =IF('Base de donnée régie 2016'!C14="","",'Base de donnée régie 2016'!C14) -> valise bijoute | D13: 100 | E13: =IF(C13="","",SUMIFS('Sortie régie trad'!D$12:D$425,'Sortie régie trad'!A$12:A$425,C13)+SUMIFS('Sortie régie trad'!I$12:I$425,'Sortie régie trad'!F$12:F$425,C13)) -> 0 | F13: =D13-E13 -> 100
B14: =IF('Base de donnée régie 2016'!B15="","",'Base de donnée régie 2016'!B15) -> Article 75 | C14: =IF('Base de donnée régie 2016'!C15="","",'Base de donnée régie 2016'!C15) -> Testeur | D14: 100 | E14: =IF(C14="","",SUMIFS('Sortie régie trad'!D$12:D$425,'Sortie régie trad'!A$12:A$425,C14)+SUMIFS('Sortie régie trad'!I$12:I$425,'Sortie régie trad'!F$12:F$425,C14)) -> 0 | F14: =D14-E14 -> 100
B15: =IF('Base de donnée régie 2016'!B16="","",'Base de donnée régie 2016'!B16) -> Article 76 | C15: =IF('Base de donnée régie 2016'!C16="","",'Base de donnée régie 2016'!C16) -> câble régie 54 P ( bornier / prise ) 2 m | D15: 100 | E15: =IF(C15="","",SUMIFS('Sortie régie trad'!D$12:D$425,'Sortie régie trad'!A$12:A$425,C15)+SUMIFS('Sortie régie trad'!I$12:I$425,'Sortie régie trad'!F$12:F$425,C15)) -> 0 | F15: =D15-E15 -> 100
B16: =IF('Base de donnée régie 2016'!B17="","",'Base de donnée régie 2016'!B17) -> Article 77 | C16: =IF('Base de donnée régie 2016'!C17="","",'Base de donnée régie 2016'!C17) -> câble régie 54 P ( bornier / prise ) 50 m | D16: 100 | E16: =IF(C16="","",SUMIFS('Sortie régie trad'!D$12:D$425,'Sortie régie trad'!A$12:A$425,C16)+SUMIFS('Sortie régie trad'!I$12:I$425,'Sortie régie trad'!F$12:F$425,C16)) -> 0 | F16: =D16-E16 -> 100
B17: =IF('Base de donnée régie 2016'!B18="","",'Base de donnée régie 2016'!B18) -> Article 78 | C17: =IF('Base de donnée régie 2016'!C18="","",'Base de donnée régie 2016'!C18) -> câble 54 P ( bornier / eclaté ) 100 m | D17: 100 | E17: =IF(C17="","",SUMIFS('Sortie régie trad'!D$12:D$425,'Sortie régie trad'!A$12:A$425,C17)+SUMIFS('Sortie régie trad'!I$12:I$425,'Sortie régie trad'!F$12:F$425,C17)) -> 0 | F17: =D17-E17 -> 100
B18: =IF('Base de donnée régie 2016'!B19="","",'Base de donnée régie 2016'!B19) -> Article 79 | C18: =IF('Base de donnée régie 2016'!C19="","",'Base de donnée régie 2016'!C19) -> câble 54 P ( bornier / eclaté ) 50 m | D18: 100 | E18: =IF(C18="","",SUMIFS('Sortie régie trad'!D$12:D$425,'Sortie régie trad'!A$12:A$425,C18)+SUMIFS('Sortie régie trad'!I$12:I$425,'Sortie régie trad'!F$12:F$425,C18)) -> 0 | F18: =D18-E18 -> 100
... B36: =IF('Base de donnée régie 2016'!B37="","",'Base de donnée régie 2016'!B37) -> Article 97 | C36: =IF('Base de donnée régie 2016'!C37="","",'Base de donnée régie 2016'!C37) -> câble15 P ( éclaté / éclaté ) 100 m | D36: 100 | E36: =IF(C36="","",SUMIFS('Sortie régie trad'!D$12:D$425,'Sortie régie trad'!A$12:A$425,C36)+SUMIFS('Sortie régie trad'!I$12:I$425,'Sortie régie trad'!F$12:F$425,C36)) -> 0 | F36: =D36-E36 -> 100
B37: =IF('Base de donnée régie 2016'!B38="","",'Base de donnée régie 2016'!B38) | C37: =IF('Base de donnée régie 2016'!C38="","",'Base de donnée régie 2016'!C38) | E37: =IF(C37="","",SUMIFS('Sortie régie trad'!D$12:D$425,'Sortie régie trad'!A$12:A$425,C37)) | F37: =IF(C37="","",D37+#REF!-E37)
B38: =IF('Base de donnée régie 2016'!B39="","",'Base de donnée régie 2016'!B39) | C38: =IF('Base de donnée régie 2016'!C39="","",'Base de donnée régie 2016'!C39) | E38: =IF(C38="","",SUMIFS('Sortie régie trad'!D$12:D$425,'Sortie régie trad'!A$12:A$425,C38)) | F38: =IF(C38="","",D38+#REF!-E38)
B39: =IF('Base de donnée régie 2016'!B40="","",'Base de donnée régie 2016'!B40) | C39: =IF('Base de donnée régie 2016'!C40="","",'Base de donnée régie 2016'!C40) | E39: =IF(C39="","",SUMIFS('Sortie régie trad'!D$12:D$425,'Sortie régie trad'!A$12:A$425,C39)) | F39: =IF(C39="","",D39+#REF!-E39)
B40: =IF('Base de donnée régie 2016'!B41="","",'Base de donnée régie 2016'!B41) | C40: =IF('Base de donnée régie 2016'!C41="","",'Base de donnée régie 2016'!C41) | E40: =IF(C40="","",SUMIFS('Sortie régie trad'!D$12:D$425,'Sortie régie trad'!A$12:A$425,C40)) | F40: =IF(C40="","",D40+#REF!-E40)
B41: =IF('Base de donnée régie 2016'!B42="","",'Base de donnée régie 2016'!B42) | C41: =IF('Base de donnée régie 2016'!C42="","",'Base de donnée régie 2016'!C42) | E41: =IF(C41="","",SUMIFS('Sortie régie trad'!D$12:D$425,'Sortie régie trad'!A$12:A$425,C41)) | F41: =IF(C41="","",D41+#REF!-E41)
B42: =IF('Base de donnée régie 2016'!B43="","",'Base de donnée régie 2016'!B43) | C42: =IF('Base de donnée régie 2016'!C43="","",'Base de donnée régie 2016'!C43) | E42: =IF(C42="","",SUMIFS('Sortie régie trad'!D$12:D$425,'Sortie régie trad'!A$12:A$425,C42)) | F42: =IF(C42="","",D42+#REF!-E42)
B43: =IF('Base de donnée régie 2016'!B44="","",'Base de donnée régie 2016'!B44) | C43: =IF('Base de donnée régie 2016'!C44="","",'Base de donnée régie 2016'!C44) | E43: =IF(C43="","",SUMIFS('Sortie régie trad'!D$12:D$425,'Sortie régie trad'!A$12:A$425,C43)) | F43: =IF(C43="","",D43+#REF!-E43)
B44: =IF('Base de donnée régie 2016'!B45="","",'Base de donnée régie 2016'!B45) | C44: =IF('Base de donnée régie 2016'!C45="","",'Base de donnée régie 2016'!C45) | E44: =IF(C44="","",SUMIFS('Sortie régie trad'!D$12:D$425,'Sortie régie trad'!A$12:A$425,C44)) | F44: =IF(C44="","",D44+#REF!-E44)
B45: =IF('Base de donnée régie 2016'!B46="","",'Base de donnée régie 2016'!B46) | C45: =IF('Base de donnée régie 2016'!C46="","",'Base de donnée régie 2016'!C46) | E45: =IF(C45="","",SUMIFS('Sortie régie trad'!D$12:D$425,'Sortie régie trad'!A$12:A$425,C45)) | F45: =IF(C45="","",D45+#REF!-E45)
B46: =IF('Base de donnée régie 2016'!B47="","",'Base de donnée régie 2016'!B47) | C46: =IF('Base de donnée régie 2016'!C47="","",'Base de donnée régie 2016'!C47) | E46: =IF(C46="","",SUMIFS('Sortie régie trad'!D$12:D$425,'Sortie régie trad'!A$12:A$425,C46)) | F46: =IF(C46="","",D46+#REF!-E46)
B47: =IF('Base de donnée régie 2016'!B48="","",'Base de donnée régie 2016'!B48) | C47: =IF('Base de donnée régie 2016'!C48="","",'Base de donnée régie 2016'!C48) | E47: =IF(C47="","",SUMIFS('Sortie régie trad'!D$12:D$425,'Sortie régie trad'!A$12:A$425,C47)) | F47: =IF(C47="","",D47+#REF!-E47)
B48: =IF('Base de donnée régie 2016'!B49="","",'Base de donnée régie 2016'!B49) | C48: =IF('Base de donnée régie 2016'!C49="","",'Base de donnée régie 2016'!C49) | E48: =IF(C48="","",SUMIFS('Sortie régie trad'!D$12:D$425,'Sortie régie trad'!A$12:A$425,C48)) | F48: =IF(C48="","",D48+#REF!-E48)
... B79: =IF('Base de donnée régie 2016'!B80="","",'Base de donnée régie 2016'!B80) | C79: =IF('Base de donnée régie 2016'!C80="","",'Base de donnée régie 2016'!C80) | E79: =IF(C79="","",SUMIFS('Sortie régie trad'!D$12:D$425,'Sortie régie trad'!A$12:A$425,C79)) | F79: =IF(C79="","",D79+#REF!-E79)
C80: =IF('Base de donnée régie 2016'!C81="","",'Base de donnée régie 2016'!C81) | E80: =IF(C80="","",SUMIFS('Sortie régie trad'!D$12:D$425,'Sortie régie trad'!A$12:A$425,C80)) | F80: =IF(C80="","",D80+#REF!-E80)
C81: =IF('Base de donnée régie 2016'!C82="","",'Base de donnée régie 2016'!C82) | E81: =IF(C81="","",SUMIFS('Sortie régie trad'!D$12:D$425,'Sortie régie trad'!A$12:A$425,C81)) | F81: =IF(C81="","",D81+#REF!-E81)
C82: =IF('Base de donnée régie 2016'!C83="","",'Base de donnée régie 2016'!C83) | E82: =IF(C82="","",SUMIFS('Sortie régie trad'!D$12:D$425,'Sortie régie trad'!A$12:A$425,C82)) | F82: =IF(C82="","",D82+#REF!-E82)
C83: =IF('Base de donnée régie 2016'!C84="","",'Base de donnée régie 2016'!C84) | E83: =IF(C83="","",SUMIFS('Sortie régie trad'!D$12:D$425,'Sortie régie trad'!A$12:A$425,C83)) | F83: =IF(C83="","",D83+#REF!-E83)
C84: =IF('Base de donnée régie 2016'!C85="","",'Base de donnée régie 2016'!C85) | E84: =IF(C84="","",SUMIFS('Sortie régie trad'!D$12:D$425,'Sortie régie trad'!A$12:A$425,C84)) | F84: =IF(C84="","",D84+#REF!-E84)
C85: =IF('Base de donnée régie 2016'!C86="","",'Base de donnée régie 2016'!C86) | E85: =IF(C85="","",SUMIFS('Sortie régie trad'!D$12:D$425,'Sortie régie trad'!A$12:A$425,C85)) | F85: =IF(C85="","",D85+#REF!-E85)
C86: =IF('Base de donnée régie 2016'!C87="","",'Base de donnée régie 2016'!C87) | E86: =IF(C86="","",SUMIFS('Sortie régie trad'!D$12:D$425,'Sortie régie trad'!A$12:A$425,C86)) | F86: =IF(C86="","",D86+#REF!-E86)
C87: =IF('Base de donnée régie 2016'!C88="","",'Base de donnée régie 2016'!C88) | E87: =IF(C87="","",SUMIFS('Sortie régie trad'!D$12:D$425,'Sortie régie trad'!A$12:A$425,C87)) | F87: =IF(C87="","",D87+#REF!-E87)
C88: =IF('Base de donnée régie 2016'!C89="","",'Base de donnée régie 2016'!C89) | E88: =IF(C88="","",SUMIFS('Sortie régie trad'!D$12:D$425,'Sortie régie trad'!A$12:A$425,C88)) | F88: =IF(C88="","",D88+#REF!-E88)
C89: =IF('Base de donnée régie 2016'!C90="","",'Base de donnée régie 2016'!C90) | E89: =IF(C89="","",SUMIFS('Sortie régie trad'!D$12:D$425,'Sortie régie trad'!A$12:A$425,C89)) | F89: =IF(C89="","",D89+#REF!-E89)
C90: =IF('Base de donnée régie 2016'!C91="","",'Base de donnée régie 2016'!C91) | E90: =IF(C90="","",SUMIFS('Sortie régie trad'!D$12:D$425,'Sortie régie trad'!A$12:A$425,C90)) | F90: =IF(C90="","",D90+#REF!-E90)
C91: =IF('Base de donnée régie 2016'!C92="","",'Base de donnée régie 2016'!C92) | E91: =IF(C91="","",SUMIFS('Sortie régie trad'!D$12:D$425,'Sortie régie trad'!A$12:A$425,C91)) | F91: =IF(C91="","",D91+#REF!-E91)
... C341: =IF('Base de donnée régie 2016'!C342="","",'Base de donnée régie 2016'!C342) | E341: =IF(C341="","",SUMIFS('Sortie régie trad'!D$12:D$425,'Sortie régie trad'!A$12:A$425,C341)) | F341: =IF(C341="","",D341+#REF!-E341)
C342: =IF('Base de donnée régie 2016'!C343="","",'Base de donnée régie 2016'!C343) | E342: =IF(C342="","",SUMIFS('Sortie régie trad'!D$12:D$425,'Sortie régie trad'!A$12:A$425,C342))
C343: =IF('Base de donnée régie 2016'!C344="","",'Base de donnée régie 2016'!C344) | E343: =IF(C343="","",SUMIFS('Sortie régie trad'!D$12:D$425,'Sortie régie trad'!A$12:A$425,C343))
C344: =IF('Base de donnée régie 2016'!C345="","",'Base de donnée régie 2016'!C345) | E344: =IF(C344="","",SUMIFS('Sortie régie trad'!D$12:D$425,'Sortie régie trad'!A$12:A$425,C344))
C345: =IF('Base de donnée régie 2016'!C346="","",'Base de donnée régie 2016'!C346) | E345: =IF(C345="","",SUMIFS('Sortie régie trad'!D$12:D$425,'Sortie régie trad'!A$12:A$425,C345))
E346: =IF(C346="","",SUMIFS('Sortie régie trad'!D$12:D$425,'Sortie régie trad'!A$12:A$425,C346))

Sheet Base de donnée régie 2016
B7: Article | C7: Ref
B8: Article 68 | C8: Régie 110 lignes ( fly JCO )
B9: Article 69 | C9: Régie 60 lignes ( fly JCO )
B10: Article 70 | C10: Régie 55 lignes ( fly JCO )
B11: Article 71 | C11: Régie 40 lignes ( valise en bois )
B12: Article 72 | C12: Régie 30 lignes ( valise alu )
B13: Article 73 | C13: pile 45 volts secours + cordon
B14: Article 74 | C14: valise bijoute
B15: Article 75 | C15: Testeur
B16: Article 76 | C16: câble régie 54 P ( bornier / prise ) 2 m
B17: Article 77 | C17: câble régie 54 P ( bornier / prise ) 50 m
B18: Article 78 | C18: câble 54 P ( bornier / eclaté ) 100 m
... B37: Article 97 | C37: câble15 P ( éclaté / éclaté ) 100 m
