Workbook
Name BOIS: tableaux!$D$5:$D$66
Name cola: OFFSET('objets mouvements'!$A$13,,,MATCH("z^z",'objets mouvements'!$K:$K)-12)
Name colb: OFFSET('objets mouvements'!$B$13,,,MATCH("z^z",'objets mouvements'!$K:$K)-12)
Name colc: OFFSET('objets mouvements'!$C$13,,,MATCH("z^z",'objets mouvements'!$K:$K)-12)
Name cold: OFFSET('objets mouvements'!$D$13,,,MATCH("z^z",'objets mouvements'!$K:$K)-12)
Name cole: OFFSET('objets mouvements'!$E$13,,,MATCH("z^z",'objets mouvements'!$K:$K)-12)
Name colf: OFFSET('objets mouvements'!$F$13,,,MATCH("z^z",'objets mouvements'!$K:$K)-12)
Name colg: OFFSET('objets mouvements'!$G$13,,,MATCH("z^z",'objets mouvements'!$K:$K)-12)
Name colh: OFFSET('objets mouvements'!$H$13,,,MATCH("z^z",'objets mouvements'!$K:$K)-12)
Name coli: OFFSET('objets mouvements'!$I$13,,,MATCH("z^z",'objets mouvements'!$K:$K)-12)
Name colj: OFFSET('objets mouvements'!$J$13,,,MATCH("z^z",'objets mouvements'!$K:$K)-12)
Name colk: OFFSET('objets mouvements'!$K$13,,,MATCH("z^z",'objets mouvements'!$K:$K)-12)
Name coll: OFFSET('objets mouvements'!$L$13,,,MATCH("z^z",'objets mouvements'!$K:$K)-12)
Name colm: OFFSET('objets mouvements'!$M$13,,,MATCH("z^z",'objets mouvements'!$K:$K)-12)
Name coln: OFFSET('objets mouvements'!$N$13,,,MATCH("z^z",'objets mouvements'!$K:$K)-12)
Name DEPOTS: tableaux!$G$5:$G$15
Name OBJET: tableaux!$A$5:$A$112

Sheet tableaux
A3: OBJET | D3: BOIS | G3: DEPOTS
A5: assiette gm | B5: 20 | D5: aca | E5: acacia afr | G5: ahun
A6: assiette mm | B6: 15 | D6: ama | E6: amarante | G6: bénévent
A7: assiette pm | B7: 10 | D7: amo | E7: amourette | G7: courtille
A8: assiette pm salière | B8: 5 | D8: au | E8: aubépine | G8: gie
A9: baguenaudier 5 | B9: 25 | D9: b de r | E9: bois de rose | G9: la bourboule
A10: baguenaudier 6 | B10: 40 | D10: b de s | E10: bois de santal | G10: particulier
A11: bilboquet grand | B11: 40 | D11: b de v | E11: bois de violette | G11: prébenoit
A12: bilboquet moyen | B12: 30 | D12: b ex | E12: bois exotique | G12: saint benoit
A13: boite à aiguilles pm | B13: 15 | D13: b s | E13: bois serpent | G13: ste feyre
A14: boite à piques | B14: 45 | D14: bub | E14: budinga
A15: boite bois exotique | B15: 40 | D15: bui | E15: buis
A16: boite dble couvercle | B16: 30 | D16: ca | E16: camphre
A17: boite et plateau | D17: ce | E17: cèdre
A18: boite gm | B18: 40 | D18: cer | E18: cerisier
A19: boite mm | B19: 30 | D19: cha | E19: chataignIer
A20: boite nostépine | B20: 20 | D20: che | E20: chêne
A21: boite pm | B21: 20 | D21: coc | E21: cocobolo
A22: boite simple | B22: 15 | D22: coi | E22: coing
A23: boite spéciale | B23: 60 | D23: div | E23: divers
A24: bol à laine gm | B24: 50 | D24: eb m | E24: ébène de macassar
A25: bol à laine mm | B25: 30 | D25: eb n | E25: ébène noir
A26: bol à laine pm | B26: 25 | D26: eg | E26: églantine(épine blanche)
A27: bol gm | B27: 40 | D27: er | E27: erable
A28: bol mm | B28: 30 | D28: fre | E28: frêne
A29: bol pm | B29: 25 | D29: fru | E29: fruitier sauvage
... A65: lampe tripode | B65: 200 | D65: z | E65: zébrano
A66: mortier et pilon mm | B66: 30
A67: mortier et pilon pm | B67: 25
A68: nostépine | B68: 20
A69: œuf gm | B69: 20
A70: œuf pm | B70: 10
A71: pique à cheveux | B71: 5
A72: plat casse noix gm | B72: 50
A73: plat casse noix mm | B73: 40
A74: plat gm | B74: 40
A75: plat mm | B75: 30
A76: plat pm | B76: 20
A77: plat tgm | B77: 60
... A84: pot pm | B84: 10
A85: puzzles <50
A86: puzzles 50-100
A87: salière | B87: 15
A88: salière et poivrière | B88: 25
A89: soucoupe
A90: table gigogne gm | B90: 50
A91: table gigogne mm | B91: 40
A92: table gigogne pm | B92: 30
A93: tabouret mm | B93: 50
A94: tabouret pm | B94: 40
A95: timbale mm | B95: 20
A96: timbale pm | B96: 10
A97: tire bouchon escam | B97: 15
A98: tire bouchons | B98: 8
A99: toupie simple | B99: 10
A100: toupie à manche | B100: 30
A101: toupie à manche pm | B101: 25
... A112: vide poche mm | B112: 30

Sheet objets mouvements
E2: MOUVEMENTS DES OBJETS
F9: objets restants | L9: recettes gie | M9: recettes autres
G10: =SUBTOTAL(9,G13:G1497) -> 9 | L10: =SUBTOTAL(9,L13:L1497) -> 0 | M10: =SUBTOTAL(9,M13:M1497) -> 20
K11: 1.45
A12: DATE DEPOT | B12: OBJET | C12: BOIS | D12: VARIETE | E12: REMARQUE | F12: N° | G12: Q | H12: PRIX unité | I12: DATE VENTE | J12: STATUT | K12: DEPOT | L12: =IF(AND(G12="",K12="gie"),H12/$L$12,"") | M12: REC AUTRE | N12: N°libre
A13: 42013 | B13: enrouleur pm | C13: che | D13: =IF(C13="","",VLOOKUP(C13,tableaux!$D$5:E$65,2,FALSE)) -> chêne | F13: sans n° | H13: =IF(B13="","",VLOOKUP(B13,tableaux!$A$5:$B$511,2,FALSE)) -> 20 | I13: 42106 | J13: =IF(AND(K13="",H13<>"",G13<>""),"dispo","") | K13: prébenoit | L13: =IF(AND(G13="",K13="gie"),H13/$K$11,"") | M13: =IF(AND(G13="",K13<>"gie"),H13,"") -> 20 | N13: =IF(AND(B13<>"",G13=""),"à renouveler","") -> à renouveler
A14: dec15 | B14: pot à crayons mm | C14: or | D14: =IF(C14="","",VLOOKUP(C14,tableaux!$D$5:E$65,2,FALSE)) -> orme | E14: gigogne /4 | F14: 15028-31 | H14: =IF(B14="","",VLOOKUP(B14,tableaux!$A$5:$B$511,2,FALSE)) -> 25 | I14: dec 15 | J14: =IF(AND(K14="",H14<>"",G14<>""),"dispo","") | K14: particulier | L14: =IF(AND(G14="",K14="gie"),H14/$K$11,"") | M14: jeantho | N14: =IF(AND(B14<>"",G14=""),"à renouveler","") -> à renouveler
A15: dec15 | B15: vase gm | C15: if | D15: =IF(C15="","",VLOOKUP(C15,tableaux!$D$5:E$65,2,FALSE)) -> if | E15: bouton moutouchi | F15: 15085 | H15: =IF(B15="","",VLOOKUP(B15,tableaux!$A$5:$B$511,2,FALSE)) -> 60 | I15: dec 15 | J15: =IF(AND(K15="",H15<>"",G15<>""),"dispo","") | K15: particulier | L15: =IF(AND(G15="",K15="gie"),H15/$K$11,"") | M15: michèle | N15: =IF(AND(B15<>"",G15=""),"à renouveler","") -> à renouveler
A16: dec15 | B16: boite gm | C16: no | D16: =IF(C16="","",VLOOKUP(C16,tableaux!$D$5:E$65,2,FALSE)) -> noyer | E16: bois coti-moutouchi | F16: 15084 | H16: =IF(B16="","",VLOOKUP(B16,tableaux!$A$5:$B$511,2,FALSE)) -> 40 | I16: dec 15 | J16: =IF(AND(K16="",H16<>"",G16<>""),"dispo","") | K16: particulier | L16: =IF(AND(G16="",K16="gie"),H16/$K$11,"") | M16: anna | N16: =IF(AND(B16<>"",G16=""),"à renouveler","") -> à renouveler
B17: mortier et pilon mm | C17: poi | D17: =IF(C17="","",VLOOKUP(C17,tableaux!$D$5:E$65,2,FALSE)) -> poirier | E17: pilon buis | F17: 15083 | G17: 1 | H17: =IF(B17="","",VLOOKUP(B17,tableaux!$A$5:$B$511,2,FALSE)) -> 30 | J17: =IF(AND(K17="",H17<>"",G17<>""),"dispo","") | K17: la bourboule | L17: =IF(AND(G17="",K17="gie"),H17/$K$11,"") | M17: =IF(AND(G17="",K17<>"gie"),H17,"") | N17: =IF(AND(B17<>"",G17=""),"à renouveler","")
B18: coupe pm | C18: poi | D18: =IF(C18="","",VLOOKUP(C18,tableaux!$D$5:E$65,2,FALSE)) -> poirier | F18: 15082 | G18: 1 | H18: =IF(B18="","",VLOOKUP(B18,tableaux!$A$5:$B$511,2,FALSE)) -> 30 | J18: =IF(AND(K18="",H18<>"",G18<>""),"dispo","") | K18: la bourboule | L18: =IF(AND(G18="",K18="gie"),H18/$K$11,"") | M18: =IF(AND(G18="",K18<>"gie"),H18,"") | N18: =IF(AND(B18<>"",G18=""),"à renouveler","")
B19: coupe pm | C19: poi | D19: =IF(C19="","",VLOOKUP(C19,tableaux!$D$5:E$65,2,FALSE)) -> poirier | F19: 15081 | G19: 1 | H19: =IF(B19="","",VLOOKUP(B19,tableaux!$A$5:$B$511,2,FALSE)) -> 30 | J19: =IF(AND(K19="",H19<>"",G19<>""),"dispo","") -> dispo | L19: =IF(AND(G19="",K19="gie"),H19/$K$11,"") | M19: =IF(AND(G19="",K19<>"gie"),H19,"") | N19: =IF(AND(B19<>"",G19=""),"à renouveler","")
A20: 42354 | B20: assiette gm | C20: wa | D20: =IF(C20="","",VLOOKUP(C20,tableaux!$D$5:E$65,2,FALSE)) -> wacapou | E20: excentrée motif | F20: 15080 | G20: 1 | H20: =IF(B20="","",VLOOKUP(B20,tableaux!$A$5:$B$511,2,FALSE)) -> 20 | J20: =IF(AND(K20="",H20<>"",G20<>""),"dispo","") | K20: gie | L20: =IF(AND(G20="",K20="gie"),H20/$K$11,"") | M20: =IF(AND(G20="",K20<>"gie"),H20,"") | N20: =IF(AND(B20<>"",G20=""),"à renouveler","")
B21: assiette gm | C21: wa | D21: =IF(C21="","",VLOOKUP(C21,tableaux!$D$5:E$65,2,FALSE)) -> wacapou | E21: excentrée | F21: 15079 | G21: 1 | H21: =IF(B21="","",VLOOKUP(B21,tableaux!$A$5:$B$511,2,FALSE)) -> 20 | J21: =IF(AND(K21="",H21<>"",G21<>""),"dispo","") | K21: la bourboule | L21: =IF(AND(G21="",K21="gie"),H21/$K$11,"") | M21: =IF(AND(G21="",K21<>"gie"),H21,"") | N21: =IF(AND(B21<>"",G21=""),"à renouveler","")
B22: vase gm | C22: aca | D22: =IF(C22="","",VLOOKUP(C22,tableaux!$D$5:E$65,2,FALSE)) -> acacia afr | F22: 15078 | G22: 1 | H22: =IF(B22="","",VLOOKUP(B22,tableaux!$A$5:$B$511,2,FALSE)) -> 60 | J22: =IF(AND(K22="",H22<>"",G22<>""),"dispo","") -> dispo | L22: =IF(AND(G22="",K22="gie"),H22/$K$11,"") | M22: =IF(AND(G22="",K22<>"gie"),H22,"") | N22: =IF(AND(B22<>"",G22=""),"à renouveler","")
A23: 42354 | B23: assiette mm | C23: che | D23: =IF(C23="","",VLOOKUP(C23,tableaux!$D$5:E$65,2,FALSE)) -> chêne | E23: excentrée | F23: 15077 | G23: 1 | H23: =IF(B23="","",VLOOKUP(B23,tableaux!$A$5:$B$511,2,FALSE)) -> 15 | J23: =IF(AND(K23="",H23<>"",G23<>""),"dispo","") | K23: gie | L23: =IF(AND(G23="",K23="gie"),H23/$K$11,"") | M23: =IF(AND(G23="",K23<>"gie"),H23,"") | N23: =IF(AND(B23<>"",G23=""),"à renouveler","")
B24: assiette gm | C24: or | D24: =IF(C24="","",VLOOKUP(C24,tableaux!$D$5:E$65,2,FALSE)) -> orme | E24: excentrée | F24: 15076 | G24: 1 | H24: =IF(B24="","",VLOOKUP(B24,tableaux!$A$5:$B$511,2,FALSE)) -> 20 | J24: =IF(AND(K24="",H24<>"",G24<>""),"dispo","") -> dispo | L24: =IF(AND(G24="",K24="gie"),H24/$K$11,"") | M24: =IF(AND(G24="",K24<>"gie"),H24,"") | N24: =IF(AND(B24<>"",G24=""),"à renouveler","")
B25: boite spéciale | C25: amo | D25: =IF(C25="","",VLOOKUP(C25,tableaux!$D$5:E$65,2,FALSE)) -> amourette | E25: cabochon ébène | F25: 15075 | G25: 1 | H25: =IF(B25="","",VLOOKUP(B25,tableaux!$A$5:$B$511,2,FALSE)) -> 60 | J25: =IF(AND(K25="",H25<>"",G25<>""),"dispo","") -> dispo | L25: =IF(AND(G25="",K25="gie"),H25/$K$11,"") | M25: =IF(AND(G25="",K25<>"gie"),H25,"") | N25: =IF(AND(B25<>"",G25=""),"à renouveler","")
D26: =IF(C26="","",VLOOKUP(C26,tableaux!$D$5:E$65,2,FALSE)) | H26: =IF(B26="","",VLOOKUP(B26,tableaux!$A$5:$B$511,2,FALSE)) | J26: =IF(AND(K26="",H26<>"",G26<>""),"dispo","") | L26: =IF(AND(G26="",K26="gie"),H26/$K$11,"") | M26: =IF(AND(G26="",K26<>"gie"),H26,"") | N26: =IF(AND(B26<>"",G26=""),"à renouveler","")
D27: =IF(C27="","",VLOOKUP(C27,tableaux!$D$5:E$65,2,FALSE)) | H27: =IF(B27="","",VLOOKUP(B27,tableaux!$A$5:$B$511,2,FALSE)) | J27: =IF(AND(K27="",H27<>"",G27<>""),"dispo","") | L27: =IF(AND(G27="",K27="gie"),H27/$K$11,"") | M27: =IF(AND(G27="",K27<>"gie"),H27,"") | N27: =IF(AND(B27<>"",G27=""),"à renouveler","")
H28: =IF(B28="","",VLOOKUP(B28,tableaux!$A$5:$B$511,2,FALSE)) | J28: =IF(AND(K28="",H28<>"",G28<>""),"dispo","") | L28: =IF(AND(G28="",K28="gie"),H28/$K$11,"") | N28: =IF(AND(B28<>"",G28=""),"à renouveler","")
H29: =IF(B29="","",VLOOKUP(B29,tableaux!$A$5:$B$511,2,FALSE)) | J29: =IF(AND(K29="",H29<>"",G29<>""),"dispo","") | L29: =IF(AND(G29="",K29="gie"),H29/$K$11,"") | N29: =IF(AND(B29<>"",G29=""),"à renouveler","")
H30: =IF(B30="","",VLOOKUP(B30,tableaux!$A$5:$B$511,2,FALSE)) | J30: =IF(AND(K30="",H30<>"",G30<>""),"dispo","") | L30: =IF(AND(G30="",K30="gie"),H30/$K$11,"") | N30: =IF(AND(B30<>"",G30=""),"à renouveler","")
H31: =IF(B31="","",VLOOKUP(B31,tableaux!$A$5:$B$511,2,FALSE)) | J31: =IF(AND(K31="",H31<>"",G31<>""),"dispo","") | L31: =IF(AND(G31="",K31="gie"),H31/$K$11,"") | N31: =IF(AND(B31<>"",G31=""),"à renouveler","")
H32: =IF(B32="","",VLOOKUP(B32,[1]tableaux!$A$5:$B$511,2,FALSE)) | J32: =IF(AND(K32="",H32<>"",G32<>""),"dispo","") | L32: =IF(AND(G32="",K32="gie"),H32/$K$11,"") | N32: =IF(AND(B32<>"",G32=""),"à renouveler","")
H33: =IF(B33="","",VLOOKUP(B33,[1]tableaux!$A$5:$B$511,2,FALSE)) | J33: =IF(AND(K33="",H33<>"",G33<>""),"dispo","") | L33: =IF(AND(G33="",K33="gie"),H33/$K$11,"") | N33: =IF(AND(B33<>"",G33=""),"à renouveler","")
H34: =IF(B34="","",VLOOKUP(B34,[1]tableaux!$A$5:$B$511,2,FALSE)) | J34: =IF(AND(K34="",H34<>"",G34<>""),"dispo","") | L34: =IF(AND(G34="",K34="gie"),H34/$K$11,"") | N34: =IF(AND(B34<>"",G34=""),"à renouveler","")
H35: =IF(B35="","",VLOOKUP(B35,[1]tableaux!$A$5:$B$511,2,FALSE)) | J35: =IF(AND(K35="",H35<>"",G35<>""),"dispo","") | L35: =IF(AND(G35="",K35="gie"),H35/$K$11,"") | N35: =IF(AND(B35<>"",G35=""),"à renouveler","")
H36: =IF(B36="","",VLOOKUP(B36,[1]tableaux!$A$5:$B$511,2,FALSE)) | J36: =IF(AND(K36="",H36<>"",G36<>""),"dispo","") | L36: =IF(AND(G36="",K36="gie"),H36/$K$11,"") | N36: =IF(AND(B36<>"",G36=""),"à renouveler","")
H37: =IF(B37="","",VLOOKUP(B37,[1]tableaux!$A$5:$B$511,2,FALSE)) | J37: =IF(AND(K37="",H37<>"",G37<>""),"dispo","") | L37: =IF(AND(G37="",K37="gie"),H37/$K$11,"") | N37: =IF(AND(B37<>"",G37=""),"à renouveler","")
H38: =IF(B38="","",VLOOKUP(B38,[1]tableaux!$A$5:$B$511,2,FALSE)) | J38: =IF(AND(M38="",H38<>"",G38<>""),"dispo","") | L38: =IF(AND(G38="",M38="gie"),H38/$K$11,"") | N38: =IF(AND(B38<>"",G38=""),"à renouveler","")
H39: =IF(B39="","",VLOOKUP(B39,[1]tableaux!$A$5:$B$511,2,FALSE)) | J39: =IF(AND(K39="",H39<>"",G39<>""),"dispo","") | L39: =IF(AND(G39="",K39="gie"),H39/$K$11,"") | N39: =IF(AND(B39<>"",G39=""),"à renouveler","")
H40: =IF(B40="","",VLOOKUP(B40,[1]tableaux!$A$5:$B$511,2,FALSE)) | J40: =IF(AND(K40="",H40<>"",G40<>""),"dispo","") | L40: =IF(AND(G40="",K40="gie"),H40/$K$11,"") | N40: =IF(AND(B40<>"",G40=""),"à renouveler","")
H41: =IF(B41="","",VLOOKUP(B41,[1]tableaux!$A$5:$B$511,2,FALSE)) | J41: =IF(AND(K41="",H41<>"",G41<>""),"dispo","") | L41: =IF(AND(G41="",K41="gie"),H41/$K$11,"") | N41: =IF(AND(B41<>"",G41=""),"à renouveler","")
H42: =IF(B42="","",VLOOKUP(B42,[1]tableaux!$A$5:$B$511,2,FALSE)) | J42: =IF(AND(K42="",H42<>"",G42<>""),"dispo","") | L42: =IF(AND(G42="",K42="gie"),H42/$K$11,"") | N42: =IF(AND(B42<>"",G42=""),"à renouveler","")
H43: =IF(B43="","",VLOOKUP(B43,[1]tableaux!$A$5:$B$511,2,FALSE)) | J43: =IF(AND(K43="",H43<>"",G43<>""),"dispo","") | L43: =IF(AND(G43="",K43="gie"),H43/$K$11,"") | N43: =IF(AND(B43<>"",G43=""),"à renouveler","")
H44: =IF(B44="","",VLOOKUP(B44,[1]tableaux!$A$5:$B$511,2,FALSE)) | J44: =IF(AND(K44="",H44<>"",G44<>""),"dispo","") | L44: =IF(AND(G44="",K44="gie"),H44/$K$11,"") | N44: =IF(AND(B44<>"",G44=""),"à renouveler","")
H45: =IF(B45="","",VLOOKUP(B45,[1]tableaux!$A$5:$B$511,2,FALSE)) | J45: =IF(AND(K45="",H45<>"",G45<>""),"dispo","") | L45: =IF(AND(G45="",K45="gie"),H45/$K$11,"") | N45: =IF(AND(B45<>"",G45=""),"à renouveler","")
H46: =IF(B46="","",VLOOKUP(B46,[1]tableaux!$A$5:$B$511,2,FALSE)) | J46: =IF(AND(K46="",H46<>"",G46<>""),"dispo","") | L46: =IF(AND(G46="",K46="gie"),H46/$K$11,"") | N46: =IF(AND(B46<>"",G46=""),"à renouveler","")
H47: =IF(B47="","",VLOOKUP(B47,[1]tableaux!$A$5:$B$511,2,FALSE)) | J47: =IF(AND(K47="",H47<>"",G47<>""),"dispo","") | L47: =IF(AND(G47="",K47="gie"),H47/$K$11,"") | N47: =IF(AND(B47<>"",G47=""),"à renouveler","")
H48: =IF(B48="","",VLOOKUP(B48,[1]tableaux!$A$5:$B$511,2,FALSE)) | J48: =IF(AND(K48="",H48<>"",G48<>""),"dispo","") | L48: =IF(AND(G48="",K48="gie"),H48/$K$11,"") | N48: =IF(AND(B48<>"",G48=""),"à renouveler","")
H49: =IF(B49="","",VLOOKUP(B49,[1]tableaux!$A$5:$B$511,2,FALSE)) | J49: =IF(AND(K49="",H49<>"",G49<>""),"dispo","") | L49: =IF(AND(G49="",K49="gie"),H49/$K$11,"") | N49: =IF(AND(B49<>"",G49=""),"à renouveler","")
H50: =IF(B50="","",VLOOKUP(B50,[1]tableaux!$A$5:$B$511,2,FALSE)) | J50: =IF(AND(K50="",H50<>"",G50<>""),"dispo","") | L50: =IF(AND(G50="",K50="gie"),H50/$K$11,"") | N50: =IF(AND(B50<>"",G50=""),"à renouveler","")
... H67: =IF(B67="","",VLOOKUP(B67,[1]tableaux!$A$5:$B$511,2,FALSE)) | J67: =IF(AND(K67="",H67<>"",G67<>""),"dispo","") | L67: =IF(AND(G67="",K67="gie"),H67/$K$11,"") | N67: =IF(AND(B67<>"",G67=""),"à renouveler","")
H68: =IF(B68="","",VLOOKUP(B68,[1]tableaux!$A$5:$B$511,2,FALSE)) | J68: =IF(AND(M68="",H68<>"",G68<>""),"dispo","") | L68: =IF(AND(G68="",M68="gie"),H68/$K$11,"") | N68: =IF(AND(B68<>"",G68=""),"à renouveler","")
H69: =IF(B69="","",VLOOKUP(B69,[1]tableaux!$A$5:$B$511,2,FALSE)) | J69: =IF(AND(K69="",H69<>"",G69<>""),"dispo","") | L69: =IF(AND(G69="",K69="gie"),H69/$K$11,"") | N69: =IF(AND(B69<>"",G69=""),"à renouveler","")
H70: =IF(B70="","",VLOOKUP(B70,[1]tableaux!$A$5:$B$511,2,FALSE)) | J70: =IF(AND(K70="",H70<>"",G70<>""),"dispo","") | L70: =IF(AND(G70="",K70="gie"),H70/$K$11,"") | N70: =IF(AND(B70<>"",G70=""),"à renouveler","")
H71: =IF(B71="","",VLOOKUP(B71,[1]tableaux!$A$5:$B$511,2,FALSE)) | J71: =IF(AND(K71="",H71<>"",G71<>""),"dispo","") | L71: =IF(AND(G71="",K71="gie"),H71/$K$11,"") | N71: =IF(AND(B71<>"",G71=""),"à renouveler","")
H72: =IF(B72="","",VLOOKUP(B72,[1]tableaux!$A$5:$B$511,2,FALSE)) | J72: =IF(AND(K72="",H72<>"",G72<>""),"dispo","") | L72: =IF(AND(G72="",K72="gie"),H72/$K$11,"") | N72: =IF(AND(B72<>"",G72=""),"à renouveler","")
H73: =IF(B73="","",VLOOKUP(B73,[1]tableaux!$A$5:$B$511,2,FALSE)) | J73: =IF(AND(K73="",H73<>"",G73<>""),"dispo","") | L73: =IF(AND(G73="",K73="gie"),H73/$K$11,"") | N73: =IF(AND(B73<>"",G73=""),"à renouveler","")
H74: =IF(B74="","",VLOOKUP(B74,[1]tableaux!$A$5:$B$511,2,FALSE)) | J74: =IF(AND(K74="",H74<>"",G74<>""),"dispo","") | L74: =IF(AND(G74="",K74="gie"),H74/$K$11,"") | N74: =IF(AND(B74<>"",G74=""),"à renouveler","")
H75: =IF(B75="","",VLOOKUP(B75,[1]tableaux!$A$5:$B$511,2,FALSE)) | J75: =IF(AND(K75="",H75<>"",G75<>""),"dispo","") | L75: =IF(AND(G75="",K75="gie"),H75/$K$11,"") | N75: =IF(AND(B75<>"",G75=""),"à renouveler","")
H76: =IF(B76="","",VLOOKUP(B76,[1]tableaux!$A$5:$B$511,2,FALSE)) | J76: =IF(AND(K76="",H76<>"",G76<>""),"dispo","") | L76: =IF(AND(G76="",K76="gie"),H76/$K$11,"") | N76: =IF(AND(B76<>"",G76=""),"à renouveler","")
H77: =IF(B77="","",VLOOKUP(B77,[1]tableaux!$A$5:$B$511,2,FALSE)) | J77: =IF(AND(K77="",H77<>"",G77<>""),"dispo","") | L77: =IF(AND(G77="",K77="gie"),H77/$K$11,"") | N77: =IF(AND(B77<>"",G77=""),"à renouveler","")
H78: =IF(B78="","",VLOOKUP(B78,[1]tableaux!$A$5:$B$511,2,FALSE)) | J78: =IF(AND(K78="",H78<>"",G78<>""),"dispo","") | L78: =IF(AND(G78="",K78="gie"),H78/$K$11,"") | N78: =IF(AND(B78<>"",G78=""),"à renouveler","")
H79: =IF(B79="","",VLOOKUP(B79,[1]tableaux!$A$5:$B$511,2,FALSE)) | J79: =IF(AND(K79="",H79<>"",G79<>""),"dispo","") | L79: =IF(AND(G79="",K79="gie"),H79/$K$11,"") | N79: =IF(AND(B79<>"",G79=""),"à renouveler","")
H80: =IF(B80="","",VLOOKUP(B80,[1]tableaux!$A$5:$B$511,2,FALSE)) | J80: =IF(AND(K80="",H80<>"",G80<>""),"dispo","") | L80: =IF(AND(G80="",K80="gie"),H80/$K$11,"") | N80: =IF(AND(B80<>"",G80=""),"à renouveler","")
... H101: =IF(B101="","",VLOOKUP(B101,[1]tableaux!$A$5:$B$511,2,FALSE)) | J101: =IF(AND(K101="",H101<>"",G101<>""),"dispo","") | L101: =IF(AND(G101="",K101="gie"),H101/$K$11,"") | N101: =IF(AND(B101<>"",G101=""),"à renouveler","")
H102: =IF(B102="","",VLOOKUP(B102,[1]tableaux!$A$5:$B$529,2,FALSE)) | J102: =IF(AND(K102="",H102<>"",G102<>""),"dispo","") | L102: =IF(AND(G102="",K102="gie"),H102/$K$11,"") | N102: =IF(AND(B102<>"",G102=""),"à renouveler","")
H103: =IF(B103="","",VLOOKUP(B103,[1]tableaux!$A$5:$B$529,2,FALSE)) | J103: =IF(AND(K103="",H103<>"",G103<>""),"dispo","") | L103: =IF(AND(G103="",K103="gie"),H103/$K$11,"") | N103: =IF(AND(B103<>"",G103=""),"à renouveler","")
H104: =IF(B104="","",VLOOKUP(B104,[1]tableaux!$A$5:$B$529,2,FALSE)) | J104: =IF(AND(K104="",H104<>"",G104<>""),"dispo","") | L104: =IF(AND(G104="",K104="gie"),H104/$K$11,"") | N104: =IF(AND(B104<>"",G104=""),"à renouveler","")
H105: =IF(B105="","",VLOOKUP(B105,[1]tableaux!$A$5:$B$529,2,FALSE)) | J105: =IF(AND(K105="",H105<>"",G105<>""),"dispo","") | L105: =IF(AND(G105="",K105="gie"),H105/$K$11,"") | N105: =IF(AND(B105<>"",G105=""),"à renouveler","")
H106: =IF(B106="","",VLOOKUP(B106,[1]tableaux!$A$5:$B$529,2,FALSE)) | J106: =IF(AND(K106="",H106<>"",G106<>""),"dispo","") | L106: =IF(AND(G106="",K106="gie"),H106/$K$11,"") | N106: =IF(AND(B106<>"",G106=""),"à renouveler","")
H107: =IF(B107="","",VLOOKUP(B107,[1]tableaux!$A$5:$B$529,2,FALSE)) | J107: =IF(AND(K107="",H107<>"",G107<>""),"dispo","") | L107: =IF(AND(G107="",K107="gie"),H107/$K$11,"") | N107: =IF(AND(B107<>"",G107=""),"à renouveler","")
H108: =IF(B108="","",VLOOKUP(B108,[1]tableaux!$A$5:$B$529,2,FALSE)) | J108: =IF(AND(K108="",H108<>"",G108<>""),"dispo","") | L108: =IF(AND(G108="",K108="gie"),H108/$K$11,"") | N108: =IF(AND(B108<>"",G108=""),"à renouveler","")
H109: =IF(B109="","",VLOOKUP(B109,[1]tableaux!$A$5:$B$529,2,FALSE)) | J109: =IF(AND(K109="",H109<>"",G109<>""),"dispo","") | L109: =IF(AND(G109="",K109="gie"),H109/$K$11,"") | N109: =IF(AND(B109<>"",G109=""),"à renouveler","")
H110: =IF(B110="","",VLOOKUP(B110,[1]tableaux!$A$5:$B$511,2,FALSE)) | J110: =IF(AND(K110="",H110<>"",G110<>""),"dispo","") | L110: =IF(AND(G110="",K110="gie"),H110/$K$11,"") | N110: =IF(AND(B110<>"",G110=""),"à renouveler","")
H111: =IF(B111="","",VLOOKUP(B111,[1]tableaux!$A$5:$B$511,2,FALSE)) | J111: =IF(AND(K111="",H111<>"",G111<>""),"dispo","") | L111: =IF(AND(G111="",K111="gie"),H111/$K$11,"") | N111: =IF(AND(B111<>"",G111=""),"à renouveler","")
H112: =IF(B112="","",VLOOKUP(B112,[1]tableaux!$A$5:$B$511,2,FALSE)) | J112: =IF(AND(K112="",H112<>"",G112<>""),"dispo","") | L112: =IF(AND(G112="",K112="gie"),H112/$K$11,"") | N112: =IF(AND(B112<>"",G112=""),"à renouveler","")
H113: =IF(B113="","",VLOOKUP(B113,[1]tableaux!$A$5:$B$511,2,FALSE)) | J113: =IF(AND(K113="",H113<>"",G113<>""),"dispo","") | L113: =IF(AND(G113="",K113="gie"),H113/$K$11,"") | N113: =IF(AND(B113<>"",G113=""),"à renouveler","")
H114: =IF(B114="","",VLOOKUP(B114,[1]tableaux!$A$5:$B$511,2,FALSE)) | J114: =IF(AND(K114="",H114<>"",G114<>""),"dispo","") | L114: =IF(AND(G114="",K114="gie"),H114/$K$11,"") | N114: =IF(AND(B114<>"",G114=""),"à renouveler","")
H115: =IF(B115="","",VLOOKUP(B115,[1]tableaux!$A$5:$B$511,2,FALSE)) | J115: =IF(AND(K115="",H115<>"",G115<>""),"dispo","") | L115: =IF(AND(G115="",K115="gie"),H115/$K$11,"") | N115: =IF(AND(B115<>"",G115=""),"à renouveler","")
H116: =IF(B116="","",VLOOKUP(B116,[1]tableaux!$A$5:$B$511,2,FALSE)) | J116: =IF(AND(K116="",H116<>"",G116<>""),"dispo","") | L116: =IF(AND(G116="",K116="gie"),H116/$K$11,"") | N116: =IF(AND(B116<>"",G116=""),"à renouveler","")
H117: =IF(B117="","",VLOOKUP(B117,[1]tableaux!$A$5:$B$511,2,FALSE)) | J117: =IF(AND(K117="",H117<>"",G117<>""),"dispo","") | L117: =IF(AND(G117="",K117="gie"),H117/$K$11,"") | N117: =IF(AND(B117<>"",G117=""),"à renouveler","")
H118: =IF(B118="","",VLOOKUP(B118,[1]tableaux!$A$5:$B$511,2,FALSE)) | J118: =IF(AND(K118="",H118<>"",G118<>""),"dispo","") | L118: =IF(AND(G118="",K118="gie"),H118/$K$11,"") | N118: =IF(AND(B118<>"",G118=""),"à renouveler","")
H119: =IF(B119="","",VLOOKUP(B119,[1]tableaux!$A$5:$B$511,2,FALSE)) | J119: =IF(AND(K119="",H119<>"",G119<>""),"dispo","") | L119: =IF(AND(G119="",K119="gie"),H119/$K$11,"") | N119: =IF(AND(B119<>"",G119=""),"à renouveler","")
H120: =IF(B120="","",VLOOKUP(B120,[1]tableaux!$A$5:$B$511,2,FALSE)) | J120: =IF(AND(K120="",H120<>"",G120<>""),"dispo","") | L120: =IF(AND(G120="",K120="gie"),H120/$K$11,"") | N120: =IF(AND(B120<>"",G120=""),"à renouveler","")
H121: =IF(B121="","",VLOOKUP(B121,[1]tableaux!$A$5:$B$511,2,FALSE)) | J121: =IF(AND(K121="",H121<>"",G121<>""),"dispo","") | L121: =IF(AND(G121="",K121="gie"),H121/$K$11,"") | N121: =IF(AND(B121<>"",G121=""),"à renouveler","")
... H127: =IF(B127="","",VLOOKUP(B127,[1]tableaux!$A$5:$B$511,2,FALSE)) | J127: =IF(AND(K127="",H127<>"",G127<>""),"dispo","") | L127: =IF(AND(G127="",K127="gie"),H127/$K$11,"") | N127: =IF(AND(B127<>"",G127=""),"à renouveler","")
H128: =IF(B128="","",VLOOKUP(B128,[1]tableaux!$A$5:$B$511,2,FALSE)) | J128: =IF(AND(M128="",H128<>"",G128<>""),"dispo","") | L128: =IF(AND(G128="",M128="gie"),H128/$K$11,"") | N128: =IF(AND(B128<>"",G128=""),"à renouveler","")
H129: =IF(B129="","",VLOOKUP(B129,[1]tableaux!$A$5:$B$511,2,FALSE)) | J129: =IF(AND(K129="",H129<>"",G129<>""),"dispo","") | L129: =IF(AND(G129="",K129="gie"),H129/$K$11,"") | N129: =IF(AND(B129<>"",G129=""),"à renouveler","")
H130: =IF(B130="","",VLOOKUP(B130,[1]tableaux!$A$5:$B$511,2,FALSE)) | J130: =IF(AND(K130="",H130<>"",G130<>""),"dispo","") | L130: =IF(AND(G130="",K130="gie"),H130/$K$11,"") | N130: =IF(AND(B130<>"",G130=""),"à renouveler","")
H131: =IF(B131="","",VLOOKUP(B131,[1]tableaux!$A$5:$B$511,2,FALSE)) | J131: =IF(AND(K131="",H131<>"",G131<>""),"dispo","") | L131: =IF(AND(G131="",K131="gie"),H131/$K$11,"") | N131: =IF(AND(B131<>"",G131=""),"à renouveler","")
H132: =IF(B132="","",VLOOKUP(B132,[1]tableaux!$A$5:$B$511,2,FALSE)) | J132: =IF(AND(K132="",H132<>"",G132<>""),"dispo","") | L132: =IF(AND(G132="",K132="gie"),H132/$K$11,"") | N132: =IF(AND(B132<>"",G132=""),"à renouveler","")
H133: =IF(B133="","",VLOOKUP(B133,[1]tableaux!$A$5:$B$511,2,FALSE)) | J133: =IF(AND(K133="",H133<>"",G133<>""),"dispo","") | L133: =IF(AND(G133="",K133="gie"),H133/$K$11,"") | N133: =IF(AND(B133<>"",G133=""),"à renouveler","")
H134: =IF(B134="","",VLOOKUP(B134,[1]tableaux!$A$5:$B$511,2,FALSE)) | J134: =IF(AND(K134="",H134<>"",G134<>""),"dispo","") | L134: =IF(AND(G134="",K134="gie"),H134/$K$11,"") | N134: =IF(AND(B134<>"",G134=""),"à renouveler","")
H135: =IF(B135="","",VLOOKUP(B135,[1]tableaux!$A$5:$B$511,2,FALSE)) | J135: =IF(AND(K135="",H135<>"",G135<>""),"dispo","") | L135: =IF(AND(G135="",K135="gie"),H135/$K$11,"") | N135: =IF(AND(B135<>"",G135=""),"à renouveler","")
H136: =IF(B136="","",VLOOKUP(B136,[1]tableaux!$A$5:$B$511,2,FALSE)) | J136: =IF(AND(K136="",H136<>"",G136<>""),"dispo","") | L136: =IF(AND(G136="",K136="gie"),H136/$K$11,"") | N136: =IF(AND(B136<>"",G136=""),"à renouveler","")
H137: =IF(B137="","",VLOOKUP(B137,[1]tableaux!$A$5:$B$511,2,FALSE)) | J137: =IF(AND(K137="",H137<>"",G137<>""),"dispo","") | L137: =IF(AND(G137="",K137="gie"),H137/$K$11,"") | N137: =IF(AND(B137<>"",G137=""),"à renouveler","")
H138: =IF(B138="","",VLOOKUP(B138,[1]tableaux!$A$5:$B$511,2,FALSE)) | J138: =IF(AND(K138="",H138<>"",G138<>""),"dispo","") | L138: =IF(AND(G138="",K138="gie"),H138/$K$11,"") | N138: =IF(AND(B138<>"",G138=""),"à renouveler","")
H139: =IF(B139="","",VLOOKUP(B139,[1]tableaux!$A$5:$B$511,2,FALSE)) | J139: =IF(AND(K139="",H139<>"",G139<>""),"dispo","") | L139: =IF(AND(G139="",K139="gie"),H139/$K$11,"") | N139: =IF(AND(B139<>"",G139=""),"à renouveler","")
H140: =IF(B140="","",VLOOKUP(B140,[1]tableaux!$A$5:$B$511,2,FALSE)) | J140: =IF(AND(K140="",H140<>"",G140<>""),"dispo","") | L140: =IF(AND(G140="",K140="gie"),H140/$K$11,"") | N140: =IF(AND(B140<>"",G140=""),"à renouveler","")
... H144: =IF(B144="","",VLOOKUP(B144,[1]tableaux!$A$5:$B$511,2,FALSE)) | J144: =IF(AND(K144="",H144<>"",G144<>""),"dispo","") | L144: =IF(AND(G144="",K144="gie"),H144/$K$11,"") | N144: =IF(AND(B144<>"",G144=""),"à renouveler","")
H145: =IF(B145="","",VLOOKUP(B145,[1]tableaux!$A$5:$B$511,2,FALSE)) | J145: =IF(AND(M145="",H145<>"",G145<>""),"dispo","") | L145: =IF(AND(G145="",M145="gie"),H145/$K$11,"") | N145: =IF(AND(B145<>"",G145=""),"à renouveler","")
H146: =IF(B146="","",VLOOKUP(B146,[1]tableaux!$A$5:$B$511,2,FALSE)) | J146: =IF(AND(K146="",H146<>"",G146<>""),"dispo","") | L146: =IF(AND(G146="",K146="gie"),H146/$K$11,"") | N146: =IF(AND(B146<>"",G146=""),"à renouveler","")
H147: =IF(B147="","",VLOOKUP(B147,[1]tableaux!$A$5:$B$511,2,FALSE)) | J147: =IF(AND(K147="",H147<>"",G147<>""),"dispo","") | L147: =IF(AND(G147="",K147="gie"),H147/$K$11,"") | N147: =IF(AND(B147<>"",G147=""),"à renouveler","")
H148: =IF(B148="","",VLOOKUP(B148,[1]tableaux!$A$5:$B$511,2,FALSE)) | J148: =IF(AND(K148="",H148<>"",G148<>""),"dispo","") | L148: =IF(AND(G148="",K148="gie"),H148/$K$11,"") | N148: =IF(AND(B148<>"",G148=""),"à renouveler","")
H149: =IF(B149="","",VLOOKUP(B149,[1]tableaux!$A$5:$B$511,2,FALSE)) | J149: =IF(AND(K149="",H149<>"",G149<>""),"dispo","") | L149: =IF(AND(G149="",K149="gie"),H149/$K$11,"") | N149: =IF(AND(B149<>"",G149=""),"à renouveler","")
H150: =IF(B150="","",VLOOKUP(B150,[1]tableaux!$A$5:$B$511,2,FALSE)) | J150: =IF(AND(K150="",H150<>"",G150<>""),"dispo","") | L150: =IF(AND(G150="",K150="gie"),H150/$K$11,"") | N150: =IF(AND(B150<>"",G150=""),"à renouveler","")
H151: =IF(B151="","",VLOOKUP(B151,[1]tableaux!$A$5:$B$511,2,FALSE)) | J151: =IF(AND(K151="",H151<>"",G151<>""),"dispo","") | L151: =IF(AND(G151="",K151="gie"),H151/$K$11,"") | N151: =IF(AND(B151<>"",G151=""),"à renouveler","")
...

Sheet gie
M2: gie
G6: objets
G7: restants | H7: vendus | K7: recette
G8: =COUNT(G13:G500,1) -> 3 | H8: =COUNTIF($L$13:$L$250,"à renouveler") -> 0 | K8: =SUM(K13:K500) -> 0
A12: DATE DEPOT | B12: OBJET | C12: BOIS | D12: VARIETE | E12: REMARQUE | F12: N° | G12: Q | H12: PRIX unité | I12: DATE VENTE | J12: DEPOT | K12: REC GIE | L12: N°libre
A13: =IF(ROW(A1)>COUNTIF(colk,$M$2),"",INDEX(cola,SUMPRODUCT(LARGE((colk=$M$2)*ROW(colk)-12,ROW($A1))))) -> 42354 | B13: =IF(ROW(B1)>COUNTIF(colk,$M$2),"",INDEX(colb,SUMPRODUCT(LARGE((colk=$M$2)*ROW(colk)-12,ROW($A1))))) -> assiette mm | C13: =IF(ROW(C1)>COUNTIF(colk,$M$2),"",INDEX(colc,SUMPRODUCT(LARGE((colk=$M$2)*ROW(colk)-12,ROW($A1))))) -> che | D13: =IF(ROW(D1)>COUNTIF(colk,$M$2),"",INDEX(cold,SUMPRODUCT(LARGE((colk=$M$2)*ROW(colk)-12,ROW($A1))))) -> chêne | E13: =IF(ROW(E1)>COUNTIF(colk,$M$2),"",INDEX(cole,SUMPRODUCT(LARGE((colk=$M$2)*ROW(colk)-12,ROW($A1))))) -> excentrée | F13: =IF(ROW(F1)>COUNTIF(colk,$M$2),"",INDEX(colf,SUMPRODUCT(LARGE((colk=$M$2)*ROW(colk)-12,ROW($A1))))) -> 15077 | G13: 1 | H13: =IF(ROW(H1)>COUNTIF(colk,$M$2),"",INDEX(colh,SUMPRODUCT(LARGE((colk=$M$2)*ROW(colk)-12,ROW($A1))))) -> 15 | J13: =IF(ROW(J1)>COUNTIF(colk,$M$2),"",INDEX(colk,SUMPRODUCT(LARGE((colk=$M$2)*ROW(colk)-12,ROW($A1))))) -> gie | K13: =IF(ROW(K1)>COUNTIF(colk,$M$2),"",INDEX(coll,SUMPRODUCT(LARGE((colk=$M$2)*ROW(colk)-12,ROW($A1))))) | L13: =IF(ROW(L1)>COUNTIF(colk,$M$2),"",INDEX(coln,SUMPRODUCT(LARGE((colk=$M$2)*ROW(colk)-12,ROW($A1)))))
A14: =IF(ROW(A2)>COUNTIF(colk,$M$2),"",INDEX(cola,SUMPRODUCT(LARGE((colk=$M$2)*ROW(colk)-12,ROW($A2))))) -> 42354 | B14: =IF(ROW(B2)>COUNTIF(colk,$M$2),"",INDEX(colb,SUMPRODUCT(LARGE((colk=$M$2)*ROW(colk)-12,ROW($A2))))) -> assiette gm | C14: =IF(ROW(C2)>COUNTIF(colk,$M$2),"",INDEX(colc,SUMPRODUCT(LARGE((colk=$M$2)*ROW(colk)-12,ROW($A2))))) -> wa | D14: =IF(ROW(D2)>COUNTIF(colk,$M$2),"",INDEX(cold,SUMPRODUCT(LARGE((colk=$M$2)*ROW(colk)-12,ROW($A2))))) -> wacapou | E14: =IF(ROW(E2)>COUNTIF(colk,$M$2),"",INDEX(cole,SUMPRODUCT(LARGE((colk=$M$2)*ROW(colk)-12,ROW($A2))))) -> excentrée motif | F14: =IF(ROW(F2)>COUNTIF(colk,$M$2),"",INDEX(colf,SUMPRODUCT(LARGE((colk=$M$2)*ROW(colk)-12,ROW($A2))))) -> 15080 | G14: =IF(ROW(G2)>COUNTIF(colk,$M$2),"",INDEX(colg,SUMPRODUCT(LARGE((colk=$M$2)*ROW(colk)-12,ROW($A2))))) -> 1 | H14: =IF(ROW(H2)>COUNTIF(colk,$M$2),"",INDEX(colh,SUMPRODUCT(LARGE((colk=$M$2)*ROW(colk)-12,ROW($A2))))) -> 20 | J14: =IF(ROW(J2)>COUNTIF(colk,$M$2),"",INDEX(colk,SUMPRODUCT(LARGE((colk=$M$2)*ROW(colk)-12,ROW($A2))))) -> gie | K14: =IF(ROW(K2)>COUNTIF(colk,$M$2),"",INDEX(coll,SUMPRODUCT(LARGE((colk=$M$2)*ROW(colk)-12,ROW($A2))))) | L14: =IF(ROW(L2)>COUNTIF(colk,$M$2),"",INDEX(coln,SUMPRODUCT(LARGE((colk=$M$2)*ROW(colk)-12,ROW($A2)))))
B15: =IF(ROW(B3)>COUNTIF(colk,$M$2),"",INDEX(colb,SUMPRODUCT(LARGE((colk=$M$2)*ROW(colk)-12,ROW($A3))))) | C15: =IF(ROW(C3)>COUNTIF(colk,$M$2),"",INDEX(colc,SUMPRODUCT(LARGE((colk=$M$2)*ROW(colk)-12,ROW($A3))))) | D15: =IF(ROW(D3)>COUNTIF(colk,$M$2),"",INDEX(cold,SUMPRODUCT(LARGE((colk=$M$2)*ROW(colk)-12,ROW($A3))))) | E15: =IF(ROW(E3)>COUNTIF(colk,$M$2),"",INDEX(cole,SUMPRODUCT(LARGE((colk=$M$2)*ROW(colk)-12,ROW($A3))))) | F15: =IF(ROW(F3)>COUNTIF(colk,$M$2),"",INDEX(colf,SUMPRODUCT(LARGE((colk=$M$2)*ROW(colk)-12,ROW($A3))))) | G15: =IF(ROW(G3)>COUNTIF(colk,$M$2),"",INDEX(colg,SUMPRODUCT(LARGE((colk=$M$2)*ROW(colk)-12,ROW($A3))))) | H15: =IF(ROW(H3)>COUNTIF(colk,$M$2),"",INDEX(colh,SUMPRODUCT(LARGE((colk=$M$2)*ROW(colk)-12,ROW($A3))))) | J15: =IF(ROW(J3)>COUNTIF(colk,$M$2),"",INDEX(colk,SUMPRODUCT(LARGE((colk=$M$2)*ROW(colk)-12,ROW($A3))))) | K15: =IF(ROW(K3)>COUNTIF(colk,$M$2),"",INDEX(coll,SUMPRODUCT(LARGE((colk=$M$2)*ROW(colk)-12,ROW($A3))))) | L15: =IF(ROW(L3)>COUNTIF(colk,$M$2),"",INDEX(coln,SUMPRODUCT(LARGE((colk=$M$2)*ROW(colk)-12,ROW($A3)))))
B16: =IF(ROW(B4)>COUNTIF(colk,$M$2),"",INDEX(colb,SUMPRODUCT(LARGE((colk=$M$2)*ROW(colk)-12,ROW($A4))))) | C16: =IF(ROW(C4)>COUNTIF(colk,$M$2),"",INDEX(colc,SUMPRODUCT(LARGE((colk=$M$2)*ROW(colk)-12,ROW($A4))))) | D16: =IF(ROW(D4)>COUNTIF(colk,$M$2),"",INDEX(cold,SUMPRODUCT(LARGE((colk=$M$2)*ROW(colk)-12,ROW($A4))))) | E16: =IF(ROW(E4)>COUNTIF(colk,$M$2),"",INDEX(cole,SUMPRODUCT(LARGE((colk=$M$2)*ROW(colk)-12,ROW($A4))))) | F16: =IF(ROW(F4)>COUNTIF(colk,$M$2),"",INDEX(colf,SUMPRODUCT(LARGE((colk=$M$2)*ROW(colk)-12,ROW($A4))))) | G16: =IF(ROW(G4)>COUNTIF(colk,$M$2),"",INDEX(colg,SUMPRODUCT(LARGE((colk=$M$2)*ROW(colk)-12,ROW($A4))))) | H16: =IF(ROW(H4)>COUNTIF(colk,$M$2),"",INDEX(colh,SUMPRODUCT(LARGE((colk=$M$2)*ROW(colk)-12,ROW($A4))))) | J16: =IF(ROW(J4)>COUNTIF(colk,$M$2),"",INDEX(colk,SUMPRODUCT(LARGE((colk=$M$2)*ROW(colk)-12,ROW($A4))))) | K16: =IF(ROW(K4)>COUNTIF(colk,$M$2),"",INDEX(coll,SUMPRODUCT(LARGE((colk=$M$2)*ROW(colk)-12,ROW($A4))))) | L16: =IF(ROW(L4)>COUNTIF(colk,$M$2),"",INDEX(coln,SUMPRODUCT(LARGE((colk=$M$2)*ROW(colk)-12,ROW($A4)))))
B17: =IF(ROW(B5)>COUNTIF(colk,$M$2),"",INDEX(colb,SUMPRODUCT(LARGE((colk=$M$2)*ROW(colk)-12,ROW($A5))))) | C17: =IF(ROW(C5)>COUNTIF(colk,$M$2),"",INDEX(colc,SUMPRODUCT(LARGE((colk=$M$2)*ROW(colk)-12,ROW($A5))))) | D17: =IF(ROW(D5)>COUNTIF(colk,$M$2),"",INDEX(cold,SUMPRODUCT(LARGE((colk=$M$2)*ROW(colk)-12,ROW($A5))))) | E17: =IF(ROW(E5)>COUNTIF(colk,$M$2),"",INDEX(cole,SUMPRODUCT(LARGE((colk=$M$2)*ROW(colk)-12,ROW($A5))))) | F17: =IF(ROW(F5)>COUNTIF(colk,$M$2),"",INDEX(colf,SUMPRODUCT(LARGE((colk=$M$2)*ROW(colk)-12,ROW($A5))))) | G17: =IF(ROW(G5)>COUNTIF(colk,$M$2),"",INDEX(colg,SUMPRODUCT(LARGE((colk=$M$2)*ROW(colk)-12,ROW($A5))))) | H17: =IF(ROW(H5)>COUNTIF(colk,$M$2),"",INDEX(colh,SUMPRODUCT(LARGE((colk=$M$2)*ROW(colk)-12,ROW($A5))))) | J17: =IF(ROW(J5)>COUNTIF(colk,$M$2),"",INDEX(colk,SUMPRODUCT(LARGE((colk=$M$2)*ROW(colk)-12,ROW($A5))))) | K17: =IF(ROW(K5)>COUNTIF(colk,$M$2),"",INDEX(coll,SUMPRODUCT(LARGE((colk=$M$2)*ROW(colk)-12,ROW($A5))))) | L17: =IF(ROW(L5)>COUNTIF(colk,$M$2),"",INDEX(coln,SUMPRODUCT(LARGE((colk=$M$2)*ROW(colk)-12,ROW($A5)))))
B18: =IF(ROW(B6)>COUNTIF(colk,$M$2),"",INDEX(colb,SUMPRODUCT(LARGE((colk=$M$2)*ROW(colk)-12,ROW($A6))))) | C18: =IF(ROW(C6)>COUNTIF(colk,$M$2),"",INDEX(colc,SUMPRODUCT(LARGE((colk=$M$2)*ROW(colk)-12,ROW($A6))))) | D18: =IF(ROW(D6)>COUNTIF(colk,$M$2),"",INDEX(cold,SUMPRODUCT(LARGE((colk=$M$2)*ROW(colk)-12,ROW($A6))))) | E18: =IF(ROW(E6)>COUNTIF(colk,$M$2),"",INDEX(cole,SUMPRODUCT(LARGE((colk=$M$2)*ROW(colk)-12,ROW($A6))))) | F18: =IF(ROW(F6)>COUNTIF(colk,$M$2),"",INDEX(colf,SUMPRODUCT(LARGE((colk=$M$2)*ROW(colk)-12,ROW($A6))))) | G18: =IF(ROW(G6)>COUNTIF(colk,$M$2),"",INDEX(colg,SUMPRODUCT(LARGE((colk=$M$2)*ROW(colk)-12,ROW($A6))))) | H18: =IF(ROW(H6)>COUNTIF(colk,$M$2),"",INDEX(colh,SUMPRODUCT(LARGE((colk=$M$2)*ROW(colk)-12,ROW($A6))))) | J18: =IF(ROW(J6)>COUNTIF(colk,$M$2),"",INDEX(colk,SUMPRODUCT(LARGE((colk=$M$2)*ROW(colk)-12,ROW($A6))))) | K18: =IF(ROW(K6)>COUNTIF(colk,$M$2),"",INDEX(coll,SUMPRODUCT(LARGE((colk=$M$2)*ROW(colk)-12,ROW($A6))))) | L18: =IF(ROW(L6)>COUNTIF(colk,$M$2),"",INDEX(coln,SUMPRODUCT(LARGE((colk=$M$2)*ROW(colk)-12,ROW($A6)))))
B19: =IF(ROW(B7)>COUNTIF(colk,$M$2),"",INDEX(colb,SUMPRODUCT(LARGE((colk=$M$2)*ROW(colk)-12,ROW($A7))))) | C19: =IF(ROW(C7)>COUNTIF(colk,$M$2),"",INDEX(colc,SUMPRODUCT(LARGE((colk=$M$2)*ROW(colk)-12,ROW($A7))))) | D19: =IF(ROW(D7)>COUNTIF(colk,$M$2),"",INDEX(cold,SUMPRODUCT(LARGE((colk=$M$2)*ROW(colk)-12,ROW($A7))))) | E19: =IF(ROW(E7)>COUNTIF(colk,$M$2),"",INDEX(cole,SUMPRODUCT(LARGE((colk=$M$2)*ROW(colk)-12,ROW($A7))))) | F19: =IF(ROW(F7)>COUNTIF(colk,$M$2),"",INDEX(colf,SUMPRODUCT(LARGE((colk=$M$2)*ROW(colk)-12,ROW($A7))))) | G19: =IF(ROW(G7)>COUNTIF(colk,$M$2),"",INDEX(colg,SUMPRODUCT(LARGE((colk=$M$2)*ROW(colk)-12,ROW($A7))))) | H19: =IF(ROW(H7)>COUNTIF(colk,$M$2),"",INDEX(colh,SUMPRODUCT(LARGE((colk=$M$2)*ROW(colk)-12,ROW($A7))))) | J19: =IF(ROW(J7)>COUNTIF(colk,$M$2),"",INDEX(colk,SUMPRODUCT(LARGE((colk=$M$2)*ROW(colk)-12,ROW($A7))))) | K19: =IF(ROW(K7)>COUNTIF(colk,$M$2),"",INDEX(coll,SUMPRODUCT(LARGE((colk=$M$2)*ROW(colk)-12,ROW($A7))))) | L19: =IF(ROW(L7)>COUNTIF(colk,$M$2),"",INDEX(coln,SUMPRODUCT(LARGE((colk=$M$2)*ROW(colk)-12,ROW($A7)))))
B20: =IF(ROW(B8)>COUNTIF(colk,$M$2),"",INDEX(colb,SUMPRODUCT(LARGE((colk=$M$2)*ROW(colk)-12,ROW($A8))))) | C20: =IF(ROW(C8)>COUNTIF(colk,$M$2),"",INDEX(colc,SUMPRODUCT(LARGE((colk=$M$2)*ROW(colk)-12,ROW($A8))))) | D20: =IF(ROW(D8)>COUNTIF(colk,$M$2),"",INDEX(cold,SUMPRODUCT(LARGE((colk=$M$2)*ROW(colk)-12,ROW($A8))))) | E20: =IF(ROW(E8)>COUNTIF(colk,$M$2),"",INDEX(cole,SUMPRODUCT(LARGE((colk=$M$2)*ROW(colk)-12,ROW($A8))))) | F20: =IF(ROW(F8)>COUNTIF(colk,$M$2),"",INDEX(colf,SUMPRODUCT(LARGE((colk=$M$2)*ROW(colk)-12,ROW($A8))))) | G20: =IF(ROW(G8)>COUNTIF(colk,$M$2),"",INDEX(colg,SUMPRODUCT(LARGE((colk=$M$2)*ROW(colk)-12,ROW($A8))))) | H20: =IF(ROW(H8)>COUNTIF(colk,$M$2),"",INDEX(colh,SUMPRODUCT(LARGE((colk=$M$2)*ROW(colk)-12,ROW($A8))))) | J20: =IF(ROW(J8)>COUNTIF(colk,$M$2),"",INDEX(colk,SUMPRODUCT(LARGE((colk=$M$2)*ROW(colk)-12,ROW($A8))))) | K20: =IF(ROW(K8)>COUNTIF(colk,$M$2),"",INDEX(coll,SUMPRODUCT(LARGE((colk=$M$2)*ROW(colk)-12,ROW($A8))))) | L20: =IF(ROW(L8)>COUNTIF(colk,$M$2),"",INDEX(coln,SUMPRODUCT(LARGE((colk=$M$2)*ROW(colk)-12,ROW($A8)))))
B21: =IF(ROW(B9)>COUNTIF(colk,$M$2),"",INDEX(colb,SUMPRODUCT(LARGE((colk=$M$2)*ROW(colk)-12,ROW($A9))))) | C21: =IF(ROW(C9)>COUNTIF(colk,$M$2),"",INDEX(colc,SUMPRODUCT(LARGE((colk=$M$2)*ROW(colk)-12,ROW($A9))))) | D21: =IF(ROW(D9)>COUNTIF(colk,$M$2),"",INDEX(cold,SUMPRODUCT(LARGE((colk=$M$2)*ROW(colk)-12,ROW($A9))))) | E21: =IF(ROW(E9)>COUNTIF(colk,$M$2),"",INDEX(cole,SUMPRODUCT(LARGE((colk=$M$2)*ROW(colk)-12,ROW($A9))))) | F21: =IF(ROW(F9)>COUNTIF(colk,$M$2),"",INDEX(colf,SUMPRODUCT(LARGE((colk=$M$2)*ROW(colk)-12,ROW($A9))))) | G21: =IF(ROW(G9)>COUNTIF(colk,$M$2),"",INDEX(colg,SUMPRODUCT(LARGE((colk=$M$2)*ROW(colk)-12,ROW($A9))))) | H21: =IF(ROW(H9)>COUNTIF(colk,$M$2),"",INDEX(colh,SUMPRODUCT(LARGE((colk=$M$2)*ROW(colk)-12,ROW($A9))))) | J21: =IF(ROW(J9)>COUNTIF(colk,$M$2),"",INDEX(colk,SUMPRODUCT(LARGE((colk=$M$2)*ROW(colk)-12,ROW($A9))))) | K21: =IF(ROW(K9)>COUNTIF(colk,$M$2),"",INDEX(coll,SUMPRODUCT(LARGE((colk=$M$2)*ROW(colk)-12,ROW($A9))))) | L21: =IF(ROW(L9)>COUNTIF(colk,$M$2),"",INDEX(coln,SUMPRODUCT(LARGE((colk=$M$2)*ROW(colk)-12,ROW($A9)))))
B22: =IF(ROW(B10)>COUNTIF(colk,$M$2),"",INDEX(colb,SUMPRODUCT(LARGE((colk=$M$2)*ROW(colk)-12,ROW($A10))))) | C22: =IF(ROW(C10)>COUNTIF(colk,$M$2),"",INDEX(colc,SUMPRODUCT(LARGE((colk=$M$2)*ROW(colk)-12,ROW($A10))))) | D22: =IF(ROW(D10)>COUNTIF(colk,$M$2),"",INDEX(cold,SUMPRODUCT(LARGE((colk=$M$2)*ROW(colk)-12,ROW($A10))))) | E22: =IF(ROW(E10)>COUNTIF(colk,$M$2),"",INDEX(cole,SUMPRODUCT(LARGE((colk=$M$2)*ROW(colk)-12,ROW($A10))))) | F22: =IF(ROW(F10)>COUNTIF(colk,$M$2),"",INDEX(colf,SUMPRODUCT(LARGE((colk=$M$2)*ROW(colk)-12,ROW($A10))))) | G22: =IF(ROW(G10)>COUNTIF(colk,$M$2),"",INDEX(colg,SUMPRODUCT(LARGE((colk=$M$2)*ROW(colk)-12,ROW($A10))))) | H22: =IF(ROW(H10)>COUNTIF(colk,$M$2),"",INDEX(colh,SUMPRODUCT(LARGE((colk=$M$2)*ROW(colk)-12,ROW($A10))))) | J22: =IF(ROW(J10)>COUNTIF(colk,$M$2),"",INDEX(colk,SUMPRODUCT(LARGE((colk=$M$2)*ROW(colk)-12,ROW($A10))))) | K22: =IF(ROW(K10)>COUNTIF(colk,$M$2),"",INDEX(coll,SUMPRODUCT(LARGE((colk=$M$2)*ROW(colk)-12,ROW($A10))))) | L22: =IF(ROW(L10)>COUNTIF(colk,$M$2),"",INDEX(coln,SUMPRODUCT(LARGE((colk=$M$2)*ROW(colk)-12,ROW($A10)))))
A23: =IF(ROW(A11)>COUNTIF(colk,$M$2),"",INDEX(cola,SUMPRODUCT(LARGE((colk=$M$2)*ROW(colk)-12,ROW($A11))))) | B23: =IF(ROW(B11)>COUNTIF(colk,$M$2),"",INDEX(colb,SUMPRODUCT(LARGE((colk=$M$2)*ROW(colk)-12,ROW($A11))))) | C23: =IF(ROW(C11)>COUNTIF(colk,$M$2),"",INDEX(colc,SUMPRODUCT(LARGE((colk=$M$2)*ROW(colk)-12,ROW($A11))))) | D23: =IF(ROW(D11)>COUNTIF(colk,$M$2),"",INDEX(cold,SUMPRODUCT(LARGE((colk=$M$2)*ROW(colk)-12,ROW($A11))))) | E23: =IF(ROW(E11)>COUNTIF(colk,$M$2),"",INDEX(cole,SUMPRODUCT(LARGE((colk=$M$2)*ROW(colk)-12,ROW($A11))))) | F23: =IF(ROW(F11)>COUNTIF(colk,$M$2),"",INDEX(colf,SUMPRODUCT(LARGE((colk=$M$2)*ROW(colk)-12,ROW($A11))))) | G23: =IF(ROW(G11)>COUNTIF(colk,$M$2),"",INDEX(colg,SUMPRODUCT(LARGE((colk=$M$2)*ROW(colk)-12,ROW($A11))))) | H23: =IF(ROW(H11)>COUNTIF(colk,$M$2),"",INDEX(colh,SUMPRODUCT(LARGE((colk=$M$2)*ROW(colk)-12,ROW($A11))))) | J23: =IF(ROW(J11)>COUNTIF(colk,$M$2),"",INDEX(colk,SUMPRODUCT(LARGE((colk=$M$2)*ROW(colk)-12,ROW($A11))))) | K23: =IF(ROW(K11)>COUNTIF(colk,$M$2),"",INDEX(coll,SUMPRODUCT(LARGE((colk=$M$2)*ROW(colk)-12,ROW($A11))))) | L23: =IF(ROW(L11)>COUNTIF(colk,$M$2),"",INDEX(coln,SUMPRODUCT(LARGE((colk=$M$2)*ROW(colk)-12,ROW($A11)))))
B24: =IF(ROW(B12)>COUNTIF(colk,$M$2),"",INDEX(colb,SUMPRODUCT(LARGE((colk=$M$2)*ROW(colk)-12,ROW($A12))))) | C24: =IF(ROW(C12)>COUNTIF(colk,$M$2),"",INDEX(colc,SUMPRODUCT(LARGE((colk=$M$2)*ROW(colk)-12,ROW($A12))))) | D24: =IF(ROW(D12)>COUNTIF(colk,$M$2),"",INDEX(cold,SUMPRODUCT(LARGE((colk=$M$2)*ROW(colk)-12,ROW($A12))))) | E24: =IF(ROW(E12)>COUNTIF(colk,$M$2),"",INDEX(cole,SUMPRODUCT(LARGE((colk=$M$2)*ROW(colk)-12,ROW($A12))))) | F24: =IF(ROW(F12)>COUNTIF(colk,$M$2),"",INDEX(colf,SUMPRODUCT(LARGE((colk=$M$2)*ROW(colk)-12,ROW($A12))))) | G24: =IF(ROW(G12)>COUNTIF(colk,$M$2),"",INDEX(colg,SUMPRODUCT(LARGE((colk=$M$2)*ROW(colk)-12,ROW($A12))))) | H24: =IF(ROW(H12)>COUNTIF(colk,$M$2),"",INDEX(colh,SUMPRODUCT(LARGE((colk=$M$2)*ROW(colk)-12,ROW($A12))))) | J24: =IF(ROW(J12)>COUNTIF(colk,$M$2),"",INDEX(colk,SUMPRODUCT(LARGE((colk=$M$2)*ROW(colk)-12,ROW($A12))))) | K24: =IF(ROW(K12)>COUNTIF(colk,$M$2),"",INDEX(coll,SUMPRODUCT(LARGE((colk=$M$2)*ROW(colk)-12,ROW($A12))))) | L24: =IF(ROW(L12)>COUNTIF(colk,$M$2),"",INDEX(coln,SUMPRODUCT(LARGE((colk=$M$2)*ROW(colk)-12,ROW($A12)))))
A25: =IF(ROW(A13)>COUNTIF(colk,$M$2),"",INDEX(cola,SUMPRODUCT(LARGE((colk=$M$2)*ROW(colk)-12,ROW($A13))))) | B25: =IF(ROW(B13)>COUNTIF(colk,$M$2),"",INDEX(colb,SUMPRODUCT(LARGE((colk=$M$2)*ROW(colk)-12,ROW($A13))))) | C25: =IF(ROW(C13)>COUNTIF(colk,$M$2),"",INDEX(colc,SUMPRODUCT(LARGE((colk=$M$2)*ROW(colk)-12,ROW($A13))))) | D25: =IF(ROW(D13)>COUNTIF(colk,$M$2),"",INDEX(cold,SUMPRODUCT(LARGE((colk=$M$2)*ROW(colk)-12,ROW($A13))))) | E25: =IF(ROW(E13)>COUNTIF(colk,$M$2),"",INDEX(cole,SUMPRODUCT(LARGE((colk=$M$2)*ROW(colk)-12,ROW($A13))))) | F25: =IF(ROW(F13)>COUNTIF(colk,$M$2),"",INDEX(colf,SUMPRODUCT(LARGE((colk=$M$2)*ROW(colk)-12,ROW($A13))))) | G25: =IF(ROW(G13)>COUNTIF(colk,$M$2),"",INDEX(colg,SUMPRODUCT(LARGE((colk=$M$2)*ROW(colk)-12,ROW($A13))))) | H25: =IF(ROW(H13)>COUNTIF(colk,$M$2),"",INDEX(colh,SUMPRODUCT(LARGE((colk=$M$2)*ROW(colk)-12,ROW($A13))))) | J25: =IF(ROW(J13)>COUNTIF(colk,$M$2),"",INDEX(colk,SUMPRODUCT(LARGE((colk=$M$2)*ROW(colk)-12,ROW($A13))))) | K25: =IF(ROW(K13)>COUNTIF(colk,$M$2),"",INDEX(coll,SUMPRODUCT(LARGE((colk=$M$2)*ROW(colk)-12,ROW($A13))))) | L25: =IF(ROW(L13)>COUNTIF(colk,$M$2),"",INDEX(coln,SUMPRODUCT(LARGE((colk=$M$2)*ROW(colk)-12,ROW($A13)))))
A26: =IF(ROW(A14)>COUNTIF(colk,$M$2),"",INDEX(cola,SUMPRODUCT(LARGE((colk=$M$2)*ROW(colk)-12,ROW($A14))))) | B26: =IF(ROW(B14)>COUNTIF(colk,$M$2),"",INDEX(colb,SUMPRODUCT(LARGE((colk=$M$2)*ROW(colk)-12,ROW($A14))))) | C26: =IF(ROW(C14)>COUNTIF(colk,$M$2),"",INDEX(colc,SUMPRODUCT(LARGE((colk=$M$2)*ROW(colk)-12,ROW($A14))))) | D26: =IF(ROW(D14)>COUNTIF(colk,$M$2),"",INDEX(cold,SUMPRODUCT(LARGE((colk=$M$2)*ROW(colk)-12,ROW($A14))))) | E26: =IF(ROW(E14)>COUNTIF(colk,$M$2),"",INDEX(cole,SUMPRODUCT(LARGE((colk=$M$2)*ROW(colk)-12,ROW($A14))))) | F26: =IF(ROW(F14)>COUNTIF(colk,$M$2),"",INDEX(colf,SUMPRODUCT(LARGE((colk=$M$2)*ROW(colk)-12,ROW($A14))))) | G26: =IF(ROW(G14)>COUNTIF(colk,$M$2),"",INDEX(colg,SUMPRODUCT(LARGE((colk=$M$2)*ROW(colk)-12,ROW($A14))))) | H26: =IF(ROW(H14)>COUNTIF(colk,$M$2),"",INDEX(colh,SUMPRODUCT(LARGE((colk=$M$2)*ROW(colk)-12,ROW($A14))))) | J26: =IF(ROW(J14)>COUNTIF(colk,$M$2),"",INDEX(colk,SUMPRODUCT(LARGE((colk=$M$2)*ROW(colk)-12,ROW($A14))))) | K26: =IF(ROW(K14)>COUNTIF(colk,$M$2),"",INDEX(coll,SUMPRODUCT(LARGE((colk=$M$2)*ROW(colk)-12,ROW($A14))))) | L26: =IF(ROW(L14)>COUNTIF(colk,$M$2),"",INDEX(coln,SUMPRODUCT(LARGE((colk=$M$2)*ROW(colk)-12,ROW($A14)))))
A27: =IF(ROW(A15)>COUNTIF(colk,$M$2),"",INDEX(cola,SUMPRODUCT(LARGE((colk=$M$2)*ROW(colk)-12,ROW($A15))))) | B27: =IF(ROW(B15)>COUNTIF(colk,$M$2),"",INDEX(colb,SUMPRODUCT(LARGE((colk=$M$2)*ROW(colk)-12,ROW($A15))))) | C27: =IF(ROW(C15)>COUNTIF(colk,$M$2),"",INDEX(colc,SUMPRODUCT(LARGE((colk=$M$2)*ROW(colk)-12,ROW($A15))))) | D27: =IF(ROW(D15)>COUNTIF(colk,$M$2),"",INDEX(cold,SUMPRODUCT(LARGE((colk=$M$2)*ROW(colk)-12,ROW($A15))))) | E27: =IF(ROW(E15)>COUNTIF(colk,$M$2),"",INDEX(cole,SUMPRODUCT(LARGE((colk=$M$2)*ROW(colk)-12,ROW($A15))))) | F27: =IF(ROW(F15)>COUNTIF(colk,$M$2),"",INDEX(colf,SUMPRODUCT(LARGE((colk=$M$2)*ROW(colk)-12,ROW($A15))))) | G27: =IF(ROW(G15)>COUNTIF(colk,$M$2),"",INDEX(colg,SUMPRODUCT(LARGE((colk=$M$2)*ROW(colk)-12,ROW($A15))))) | H27: =IF(ROW(H15)>COUNTIF(colk,$M$2),"",INDEX(colh,SUMPRODUCT(LARGE((colk=$M$2)*ROW(colk)-12,ROW($A15))))) | J27: =IF(ROW(J15)>COUNTIF(colk,$M$2),"",INDEX(colk,SUMPRODUCT(LARGE((colk=$M$2)*ROW(colk)-12,ROW($A15))))) | K27: =IF(ROW(K15)>COUNTIF(colk,$M$2),"",INDEX(coll,SUMPRODUCT(LARGE((colk=$M$2)*ROW(colk)-12,ROW($A15))))) | L27: =IF(ROW(L15)>COUNTIF(colk,$M$2),"",INDEX(coln,SUMPRODUCT(LARGE((colk=$M$2)*ROW(colk)-12,ROW($A15)))))
B28: =IF(ROW(B16)>COUNTIF(colk,$M$2),"",INDEX(colb,SUMPRODUCT(LARGE((colk=$M$2)*ROW(colk)-12,ROW($A16))))) | C28: =IF(ROW(C16)>COUNTIF(colk,$M$2),"",INDEX(colc,SUMPRODUCT(LARGE((colk=$M$2)*ROW(colk)-12,ROW($A16))))) | D28: =IF(ROW(D16)>COUNTIF(colk,$M$2),"",INDEX(cold,SUMPRODUCT(LARGE((colk=$M$2)*ROW(colk)-12,ROW($A16))))) | E28: =IF(ROW(E16)>COUNTIF(colk,$M$2),"",INDEX(cole,SUMPRODUCT(LARGE((colk=$M$2)*ROW(colk)-12,ROW($A16))))) | F28: =IF(ROW(F16)>COUNTIF(colk,$M$2),"",INDEX(colf,SUMPRODUCT(LARGE((colk=$M$2)*ROW(colk)-12,ROW($A16))))) | G28: =IF(ROW(G16)>COUNTIF(colk,$M$2),"",INDEX(colg,SUMPRODUCT(LARGE((colk=$M$2)*ROW(colk)-12,ROW($A16))))) | H28: =IF(ROW(H16)>COUNTIF(colk,$M$2),"",INDEX(colh,SUMPRODUCT(LARGE((colk=$M$2)*ROW(colk)-12,ROW($A16))))) | J28: =IF(ROW(J16)>COUNTIF(colk,$M$2),"",INDEX(colk,SUMPRODUCT(LARGE((colk=$M$2)*ROW(colk)-12,ROW($A16))))) | K28: =IF(ROW(K16)>COUNTIF(colk,$M$2),"",INDEX(coll,SUMPRODUCT(LARGE((colk=$M$2)*ROW(colk)-12,ROW($A16))))) | L28: =IF(ROW(L16)>COUNTIF(colk,$M$2),"",INDEX(coln,SUMPRODUCT(LARGE((colk=$M$2)*ROW(colk)-12,ROW($A16)))))
B29: =IF(ROW(B17)>COUNTIF(colk,$M$2),"",INDEX(colb,SUMPRODUCT(LARGE((colk=$M$2)*ROW(colk)-12,ROW($A17))))) | C29: =IF(ROW(C17)>COUNTIF(colk,$M$2),"",INDEX(colc,SUMPRODUCT(LARGE((colk=$M$2)*ROW(colk)-12,ROW($A17))))) | D29: =IF(ROW(D17)>COUNTIF(colk,$M$2),"",INDEX(cold,SUMPRODUCT(LARGE((colk=$M$2)*ROW(colk)-12,ROW($A17))))) | E29: =IF(ROW(E17)>COUNTIF(colk,$M$2),"",INDEX(cole,SUMPRODUCT(LARGE((colk=$M$2)*ROW(colk)-12,ROW($A17))))) | F29: =IF(ROW(F17)>COUNTIF(colk,$M$2),"",INDEX(colf,SUMPRODUCT(LARGE((colk=$M$2)*ROW(colk)-12,ROW($A17))))) | G29: =IF(ROW(G17)>COUNTIF(colk,$M$2),"",INDEX(colg,SUMPRODUCT(LARGE((colk=$M$2)*ROW(colk)-12,ROW($A17))))) | H29: =IF(ROW(H17)>COUNTIF(colk,$M$2),"",INDEX(colh,SUMPRODUCT(LARGE((colk=$M$2)*ROW(colk)-12,ROW($A17))))) | J29: =IF(ROW(J17)>COUNTIF(colk,$M$2),"",INDEX(colk,SUMPRODUCT(LARGE((colk=$M$2)*ROW(colk)-12,ROW($A17))))) | K29: =IF(ROW(K17)>COUNTIF(colk,$M$2),"",INDEX(coll,SUMPRODUCT(LARGE((colk=$M$2)*ROW(colk)-12,ROW($A17))))) | L29: =IF(ROW(L17)>COUNTIF(colk,$M$2),"",INDEX(coln,SUMPRODUCT(LARGE((colk=$M$2)*ROW(colk)-12,ROW($A17)))))
B30: =IF(ROW(B18)>COUNTIF(colk,$M$2),"",INDEX(colb,SUMPRODUCT(LARGE((colk=$M$2)*ROW(colk)-12,ROW($A18))))) | C30: =IF(ROW(C18)>COUNTIF(colk,$M$2),"",INDEX(colc,SUMPRODUCT(LARGE((colk=$M$2)*ROW(colk)-12,ROW($A18))))) | D30: =IF(ROW(D18)>COUNTIF(colk,$M$2),"",INDEX(cold,SUMPRODUCT(LARGE((colk=$M$2)*ROW(colk)-12,ROW($A18))))) | E30: =IF(ROW(E18)>COUNTIF(colk,$M$2),"",INDEX(cole,SUMPRODUCT(LARGE((colk=$M$2)*ROW(colk)-12,ROW($A18))))) | F30: =IF(ROW(F18)>COUNTIF(colk,$M$2),"",INDEX(colf,SUMPRODUCT(LARGE((colk=$M$2)*ROW(colk)-12,ROW($A18))))) | G30: =IF(ROW(G18)>COUNTIF(colk,$M$2),"",INDEX(colg,SUMPRODUCT(LARGE((colk=$M$2)*ROW(colk)-12,ROW($A18))))) | H30: =IF(ROW(H18)>COUNTIF(colk,$M$2),"",INDEX(colh,SUMPRODUCT(LARGE((colk=$M$2)*ROW(colk)-12,ROW($A18))))) | I30: =IF(ROW(I18)>COUNTIF(colk,$M$2),"",INDEX(coli,SUMPRODUCT(LARGE((colk=$M$2)*ROW(colk)-12,ROW($A18))))) | J30: =IF(ROW(J18)>COUNTIF(colk,$M$2),"",INDEX(colk,SUMPRODUCT(LARGE((colk=$M$2)*ROW(colk)-12,ROW($A18))))) | K30: =IF(ROW(K18)>COUNTIF(colk,$M$2),"",INDEX(coll,SUMPRODUCT(LARGE((colk=$M$2)*ROW(colk)-12,ROW($A18))))) | L30: =IF(ROW(L18)>COUNTIF(colk,$M$2),"",INDEX(coln,SUMPRODUCT(LARGE((colk=$M$2)*ROW(colk)-12,ROW($A18)))))
B31: =IF(ROW(B19)>COUNTIF(colk,$M$2),"",INDEX(colb,SUMPRODUCT(LARGE((colk=$M$2)*ROW(colk)-12,ROW($A19))))) | C31: =IF(ROW(C19)>COUNTIF(colk,$M$2),"",INDEX(colc,SUMPRODUCT(LARGE((colk=$M$2)*ROW(colk)-12,ROW($A19))))) | D31: =IF(ROW(D19)>COUNTIF(colk,$M$2),"",INDEX(cold,SUMPRODUCT(LARGE((colk=$M$2)*ROW(colk)-12,ROW($A19))))) | E31: =IF(ROW(E19)>COUNTIF(colk,$M$2),"",INDEX(cole,SUMPRODUCT(LARGE((colk=$M$2)*ROW(colk)-12,ROW($A19))))) | F31: =IF(ROW(F19)>COUNTIF(colk,$M$2),"",INDEX(colf,SUMPRODUCT(LARGE((colk=$M$2)*ROW(colk)-12,ROW($A19))))) | G31: =IF(ROW(G19)>COUNTIF(colk,$M$2),"",INDEX(colg,SUMPRODUCT(LARGE((colk=$M$2)*ROW(colk)-12,ROW($A19))))) | H31: =IF(ROW(H19)>COUNTIF(colk,$M$2),"",INDEX(colh,SUMPRODUCT(LARGE((colk=$M$2)*ROW(colk)-12,ROW($A19))))) | J31: =IF(ROW(J19)>COUNTIF(colk,$M$2),"",INDEX(colk,SUMPRODUCT(LARGE((colk=$M$2)*ROW(colk)-12,ROW($A19))))) | K31: =IF(ROW(K19)>COUNTIF(colk,$M$2),"",INDEX(coll,SUMPRODUCT(LARGE((colk=$M$2)*ROW(colk)-12,ROW($A19))))) | L31: =IF(ROW(L19)>COUNTIF(colk,$M$2),"",INDEX(coln,SUMPRODUCT(LARGE((colk=$M$2)*ROW(colk)-12,ROW($A19)))))
B32: =IF(ROW(B20)>COUNTIF(colk,$M$2),"",INDEX(colb,SUMPRODUCT(LARGE((colk=$M$2)*ROW(colk)-12,ROW($A20))))) | C32: =IF(ROW(C20)>COUNTIF(colk,$M$2),"",INDEX(colc,SUMPRODUCT(LARGE((colk=$M$2)*ROW(colk)-12,ROW($A20))))) | D32: =IF(ROW(D20)>COUNTIF(colk,$M$2),"",INDEX(cold,SUMPRODUCT(LARGE((colk=$M$2)*ROW(colk)-12,ROW($A20))))) | E32: =IF(ROW(E20)>COUNTIF(colk,$M$2),"",INDEX(cole,SUMPRODUCT(LARGE((colk=$M$2)*ROW(colk)-12,ROW($A20))))) | F32: =IF(ROW(F20)>COUNTIF(colk,$M$2),"",INDEX(colf,SUMPRODUCT(LARGE((colk=$M$2)*ROW(colk)-12,ROW($A20))))) | G32: =IF(ROW(G20)>COUNTIF(colk,$M$2),"",INDEX(colg,SUMPRODUCT(LARGE((colk=$M$2)*ROW(colk)-12,ROW($A20))))) | H32: =IF(ROW(H20)>COUNTIF(colk,$M$2),"",INDEX(colh,SUMPRODUCT(LARGE((colk=$M$2)*ROW(colk)-12,ROW($A20))))) | J32: =IF(ROW(J20)>COUNTIF(colk,$M$2),"",INDEX(colk,SUMPRODUCT(LARGE((colk=$M$2)*ROW(colk)-12,ROW($A20))))) | K32: =IF(ROW(K20)>COUNTIF(colk,$M$2),"",INDEX(coll,SUMPRODUCT(LARGE((colk=$M$2)*ROW(colk)-12,ROW($A20))))) | L32: =IF(ROW(L20)>COUNTIF(colk,$M$2),"",INDEX(coln,SUMPRODUCT(LARGE((colk=$M$2)*ROW(colk)-12,ROW($A20)))))
B33: =IF(ROW(B21)>COUNTIF(colk,$M$2),"",INDEX(colb,SUMPRODUCT(LARGE((colk=$M$2)*ROW(colk)-12,ROW($A21))))) | C33: =IF(ROW(C21)>COUNTIF(colk,$M$2),"",INDEX(colc,SUMPRODUCT(LARGE((colk=$M$2)*ROW(colk)-12,ROW($A21))))) | D33: =IF(ROW(D21)>COUNTIF(colk,$M$2),"",INDEX(cold,SUMPRODUCT(LARGE((colk=$M$2)*ROW(colk)-12,ROW($A21))))) | E33: =IF(ROW(E21)>COUNTIF(colk,$M$2),"",INDEX(cole,SUMPRODUCT(LARGE((colk=$M$2)*ROW(colk)-12,ROW($A21))))) | F33: =IF(ROW(F21)>COUNTIF(colk,$M$2),"",INDEX(colf,SUMPRODUCT(LARGE((colk=$M$2)*ROW(colk)-12,ROW($A21))))) | G33: =IF(ROW(G21)>COUNTIF(colk,$M$2),"",INDEX(colg,SUMPRODUCT(LARGE((colk=$M$2)*ROW(colk)-12,ROW($A21))))) | H33: =IF(ROW(H21)>COUNTIF(colk,$M$2),"",INDEX(colh,SUMPRODUCT(LARGE((colk=$M$2)*ROW(colk)-12,ROW($A21))))) | J33: =IF(ROW(J21)>COUNTIF(colk,$M$2),"",INDEX(colk,SUMPRODUCT(LARGE((colk=$M$2)*ROW(colk)-12,ROW($A21))))) | K33: =IF(ROW(K21)>COUNTIF(colk,$M$2),"",INDEX(coll,SUMPRODUCT(LARGE((colk=$M$2)*ROW(colk)-12,ROW($A21))))) | L33: =IF(ROW(L21)>COUNTIF(colk,$M$2),"",INDEX(coln,SUMPRODUCT(LARGE((colk=$M$2)*ROW(colk)-12,ROW($A21)))))
B34: =IF(ROW(B22)>COUNTIF(colk,$M$2),"",INDEX(colb,SUMPRODUCT(LARGE((colk=$M$2)*ROW(colk)-12,ROW($A22))))) | C34: =IF(ROW(C22)>COUNTIF(colk,$M$2),"",INDEX(colc,SUMPRODUCT(LARGE((colk=$M$2)*ROW(colk)-12,ROW($A22))))) | D34: =IF(ROW(D22)>COUNTIF(colk,$M$2),"",INDEX(cold,SUMPRODUCT(LARGE((colk=$M$2)*ROW(colk)-12,ROW($A22))))) | E34: =IF(ROW(E22)>COUNTIF(colk,$M$2),"",INDEX(cole,SUMPRODUCT(LARGE((colk=$M$2)*ROW(colk)-12,ROW($A22))))) | F34: =IF(ROW(F22)>COUNTIF(colk,$M$2),"",INDEX(colf,SUMPRODUCT(LARGE((colk=$M$2)*ROW(colk)-12,ROW($A22))))) | G34: =IF(ROW(G22)>COUNTIF(colk,$M$2),"",INDEX(colg,SUMPRODUCT(LARGE((colk=$M$2)*ROW(colk)-12,ROW($A22))))) | H34: =IF(ROW(H22)>COUNTIF(colk,$M$2),"",INDEX(colh,SUMPRODUCT(LARGE((colk=$M$2)*ROW(colk)-12,ROW($A22))))) | J34: =IF(ROW(J22)>COUNTIF(colk,$M$2),"",INDEX(colk,SUMPRODUCT(LARGE((colk=$M$2)*ROW(colk)-12,ROW($A22))))) | K34: =IF(ROW(K22)>COUNTIF(colk,$M$2),"",INDEX(coll,SUMPRODUCT(LARGE((colk=$M$2)*ROW(colk)-12,ROW($A22))))) | L34: =IF(ROW(L22)>COUNTIF(colk,$M$2),"",INDEX(coln,SUMPRODUCT(LARGE((colk=$M$2)*ROW(colk)-12,ROW($A22)))))
B35: =IF(ROW(B23)>COUNTIF(colk,$M$2),"",INDEX(colb,SUMPRODUCT(LARGE((colk=$M$2)*ROW(colk)-12,ROW($A23))))) | C35: =IF(ROW(C23)>COUNTIF(colk,$M$2),"",INDEX(colc,SUMPRODUCT(LARGE((colk=$M$2)*ROW(colk)-12,ROW($A23))))) | D35: =IF(ROW(D23)>COUNTIF(colk,$M$2),"",INDEX(cold,SUMPRODUCT(LARGE((colk=$M$2)*ROW(colk)-12,ROW($A23))))) | E35: =IF(ROW(E23)>COUNTIF(colk,$M$2),"",INDEX(cole,SUMPRODUCT(LARGE((colk=$M$2)*ROW(colk)-12,ROW($A23))))) | F35: =IF(ROW(F23)>COUNTIF(colk,$M$2),"",INDEX(colf,SUMPRODUCT(LARGE((colk=$M$2)*ROW(colk)-12,ROW($A23))))) | G35: =IF(ROW(G23)>COUNTIF(colk,$M$2),"",INDEX(colg,SUMPRODUCT(LARGE((colk=$M$2)*ROW(colk)-12,ROW($A23))))) | H35: =IF(ROW(H23)>COUNTIF(colk,$M$2),"",INDEX(colh,SUMPRODUCT(LARGE((colk=$M$2)*ROW(colk)-12,ROW($A23))))) | I35: =IF(ROW(I23)>COUNTIF(colk,$M$2),"",INDEX(coli,SUMPRODUCT(LARGE((colk=$M$2)*ROW(colk)-12,ROW($A23))))) | J35: =IF(ROW(J23)>COUNTIF(colk,$M$2),"",INDEX(colk,SUMPRODUCT(LARGE((colk=$M$2)*ROW(colk)-12,ROW($A23))))) | K35: =IF(ROW(K23)>COUNTIF(colk,$M$2),"",INDEX(coll,SUMPRODUCT(LARGE((colk=$M$2)*ROW(colk)-12,ROW($A23))))) | L35: =IF(ROW(L23)>COUNTIF(colk,$M$2),"",INDEX(coln,SUMPRODUCT(LARGE((colk=$M$2)*ROW(colk)-12,ROW($A23)))))
B36: =IF(ROW(B24)>COUNTIF(colk,$M$2),"",INDEX(colb,SUMPRODUCT(LARGE((colk=$M$2)*ROW(colk)-12,ROW($A24))))) | C36: =IF(ROW(C24)>COUNTIF(colk,$M$2),"",INDEX(colc,SUMPRODUCT(LARGE((colk=$M$2)*ROW(colk)-12,ROW($A24))))) | D36: =IF(ROW(D24)>COUNTIF(colk,$M$2),"",INDEX(cold,SUMPRODUCT(LARGE((colk=$M$2)*ROW(colk)-12,ROW($A24))))) | E36: =IF(ROW(E24)>COUNTIF(colk,$M$2),"",INDEX(cole,SUMPRODUCT(LARGE((colk=$M$2)*ROW(colk)-12,ROW($A24))))) | F36: =IF(ROW(F24)>COUNTIF(colk,$M$2),"",INDEX(colf,SUMPRODUCT(LARGE((colk=$M$2)*ROW(colk)-12,ROW($A24))))) | G36: =IF(ROW(G24)>COUNTIF(colk,$M$2),"",INDEX(colg,SUMPRODUCT(LARGE((colk=$M$2)*ROW(colk)-12,ROW($A24))))) | H36: =IF(ROW(H24)>COUNTIF(colk,$M$2),"",INDEX(colh,SUMPRODUCT(LARGE((colk=$M$2)*ROW(colk)-12,ROW($A24))))) | J36: =IF(ROW(J24)>COUNTIF(colk,$M$2),"",INDEX(colk,SUMPRODUCT(LARGE((colk=$M$2)*ROW(colk)-12,ROW($A24))))) | K36: =IF(ROW(K24)>COUNTIF(colk,$M$2),"",INDEX(coll,SUMPRODUCT(LARGE((colk=$M$2)*ROW(colk)-12,ROW($A24))))) | L36: =IF(ROW(L24)>COUNTIF(colk,$M$2),"",INDEX(coln,SUMPRODUCT(LARGE((colk=$M$2)*ROW(colk)-12,ROW($A24)))))
B37: =IF(ROW(B25)>COUNTIF(colk,$M$2),"",INDEX(colb,SUMPRODUCT(LARGE((colk=$M$2)*ROW(colk)-12,ROW($A25))))) | C37: =IF(ROW(C25)>COUNTIF(colk,$M$2),"",INDEX(colc,SUMPRODUCT(LARGE((colk=$M$2)*ROW(colk)-12,ROW($A25))))) | D37: =IF(ROW(D25)>COUNTIF(colk,$M$2),"",INDEX(cold,SUMPRODUCT(LARGE((colk=$M$2)*ROW(colk)-12,ROW($A25))))) | E37: =IF(ROW(E25)>COUNTIF(colk,$M$2),"",INDEX(cole,SUMPRODUCT(LARGE((colk=$M$2)*ROW(colk)-12,ROW($A25))))) | F37: =IF(ROW(F25)>COUNTIF(colk,$M$2),"",INDEX(colf,SUMPRODUCT(LARGE((colk=$M$2)*ROW(colk)-12,ROW($A25))))) | G37: =IF(ROW(G25)>COUNTIF(colk,$M$2),"",INDEX(colg,SUMPRODUCT(LARGE((colk=$M$2)*ROW(colk)-12,ROW($A25))))) | H37: =IF(ROW(H25)>COUNTIF(colk,$M$2),"",INDEX(colh,SUMPRODUCT(LARGE((colk=$M$2)*ROW(colk)-12,ROW($A25))))) | J37: =IF(ROW(J25)>COUNTIF(colk,$M$2),"",INDEX(colk,SUMPRODUCT(LARGE((colk=$M$2)*ROW(colk)-12,ROW($A25))))) | K37: =IF(ROW(K25)>COUNTIF(colk,$M$2),"",INDEX(coll,SUMPRODUCT(LARGE((colk=$M$2)*ROW(colk)-12,ROW($A25))))) | L37: =IF(ROW(L25)>COUNTIF(colk,$M$2),"",INDEX(coln,SUMPRODUCT(LARGE((colk=$M$2)*ROW(colk)-12,ROW($A25)))))
B38: =IF(ROW(B26)>COUNTIF(colk,$M$2),"",INDEX(colb,SUMPRODUCT(LARGE((colk=$M$2)*ROW(colk)-12,ROW($A26))))) | C38: =IF(ROW(C26)>COUNTIF(colk,$M$2),"",INDEX(colc,SUMPRODUCT(LARGE((colk=$M$2)*ROW(colk)-12,ROW($A26))))) | D38: =IF(ROW(D26)>COUNTIF(colk,$M$2),"",INDEX(cold,SUMPRODUCT(LARGE((colk=$M$2)*ROW(colk)-12,ROW($A26))))) | E38: =IF(ROW(E26)>COUNTIF(colk,$M$2),"",INDEX(cole,SUMPRODUCT(LARGE((colk=$M$2)*ROW(colk)-12,ROW($A26))))) | F38: =IF(ROW(F26)>COUNTIF(colk,$M$2),"",INDEX(colf,SUMPRODUCT(LARGE((colk=$M$2)*ROW(colk)-12,ROW($A26))))) | G38: =IF(ROW(G26)>COUNTIF(colk,$M$2),"",INDEX(colg,SUMPRODUCT(LARGE((colk=$M$2)*ROW(colk)-12,ROW($A26))))) | H38: =IF(ROW(H26)>COUNTIF(colk,$M$2),"",INDEX(colh,SUMPRODUCT(LARGE((colk=$M$2)*ROW(colk)-12,ROW($A26))))) | J38: =IF(ROW(J26)>COUNTIF(colk,$M$2),"",INDEX(colk,SUMPRODUCT(LARGE((colk=$M$2)*ROW(colk)-12,ROW($A26))))) | K38: =IF(ROW(K26)>COUNTIF(colk,$M$2),"",INDEX(coll,SUMPRODUCT(LARGE((colk=$M$2)*ROW(colk)-12,ROW($A26))))) | L38: =IF(ROW(L26)>COUNTIF(colk,$M$2),"",INDEX(coln,SUMPRODUCT(LARGE((colk=$M$2)*ROW(colk)-12,ROW($A26)))))
B39: =IF(ROW(B27)>COUNTIF(colk,$M$2),"",INDEX(colb,SUMPRODUCT(LARGE((colk=$M$2)*ROW(colk)-12,ROW($A27))))) | C39: =IF(ROW(C27)>COUNTIF(colk,$M$2),"",INDEX(colc,SUMPRODUCT(LARGE((colk=$M$2)*ROW(colk)-12,ROW($A27))))) | D39: =IF(ROW(D27)>COUNTIF(colk,$M$2),"",INDEX(cold,SUMPRODUCT(LARGE((colk=$M$2)*ROW(colk)-12,ROW($A27))))) | E39: =IF(ROW(E27)>COUNTIF(colk,$M$2),"",INDEX(cole,SUMPRODUCT(LARGE((colk=$M$2)*ROW(colk)-12,ROW($A27))))) | F39: =IF(ROW(F27)>COUNTIF(colk,$M$2),"",INDEX(colf,SUMPRODUCT(LARGE((colk=$M$2)*ROW(colk)-12,ROW($A27))))) | G39: =IF(ROW(G27)>COUNTIF(colk,$M$2),"",INDEX(colg,SUMPRODUCT(LARGE((colk=$M$2)*ROW(colk)-12,ROW($A27))))) | H39: =IF(ROW(H27)>COUNTIF(colk,$M$2),"",INDEX(colh,SUMPRODUCT(LARGE((colk=$M$2)*ROW(colk)-12,ROW($A27))))) | I39: =IF(ROW(I27)>COUNTIF(colk,$M$2),"",INDEX(coli,SUMPRODUCT(LARGE((colk=$M$2)*ROW(colk)-12,ROW($A27))))) | J39: =IF(ROW(J27)>COUNTIF(colk,$M$2),"",INDEX(colk,SUMPRODUCT(LARGE((colk=$M$2)*ROW(colk)-12,ROW($A27))))) | K39: =IF(ROW(K27)>COUNTIF(colk,$M$2),"",INDEX(coll,SUMPRODUCT(LARGE((colk=$M$2)*ROW(colk)-12,ROW($A27))))) | L39: =IF(ROW(L27)>COUNTIF(colk,$M$2),"",INDEX(coln,SUMPRODUCT(LARGE((colk=$M$2)*ROW(colk)-12,ROW($A27)))))
B40: =IF(ROW(B28)>COUNTIF(colk,$M$2),"",INDEX(colb,SUMPRODUCT(LARGE((colk=$M$2)*ROW(colk)-12,ROW($A28))))) | C40: =IF(ROW(C28)>COUNTIF(colk,$M$2),"",INDEX(colc,SUMPRODUCT(LARGE((colk=$M$2)*ROW(colk)-12,ROW($A28))))) | D40: =IF(ROW(D28)>COUNTIF(colk,$M$2),"",INDEX(cold,SUMPRODUCT(LARGE((colk=$M$2)*ROW(colk)-12,ROW($A28))))) | E40: =IF(ROW(E28)>COUNTIF(colk,$M$2),"",INDEX(cole,SUMPRODUCT(LARGE((colk=$M$2)*ROW(colk)-12,ROW($A28))))) | F40: =IF(ROW(F28)>COUNTIF(colk,$M$2),"",INDEX(colf,SUMPRODUCT(LARGE((colk=$M$2)*ROW(colk)-12,ROW($A28))))) | G40: =IF(ROW(G28)>COUNTIF(colk,$M$2),"",INDEX(colg,SUMPRODUCT(LARGE((colk=$M$2)*ROW(colk)-12,ROW($A28))))) | H40: =IF(ROW(H28)>COUNTIF(colk,$M$2),"",INDEX(colh,SUMPRODUCT(LARGE((colk=$M$2)*ROW(colk)-12,ROW($A28))))) | J40: =IF(ROW(J28)>COUNTIF(colk,$M$2),"",INDEX(colk,SUMPRODUCT(LARGE((colk=$M$2)*ROW(colk)-12,ROW($A28))))) | K40: =IF(ROW(K28)>COUNTIF(colk,$M$2),"",INDEX(coll,SUMPRODUCT(LARGE((colk=$M$2)*ROW(colk)-12,ROW($A28))))) | L40: =IF(ROW(L28)>COUNTIF(colk,$M$2),"",INDEX(coln,SUMPRODUCT(LARGE((colk=$M$2)*ROW(colk)-12,ROW($A28)))))
B41: =IF(ROW(B29)>COUNTIF(colk,$M$2),"",INDEX(colb,SUMPRODUCT(LARGE((colk=$M$2)*ROW(colk)-12,ROW($A29))))) | C41: =IF(ROW(C29)>COUNTIF(colk,$M$2),"",INDEX(colc,SUMPRODUCT(LARGE((colk=$M$2)*ROW(colk)-12,ROW($A29))))) | D41: =IF(ROW(D29)>COUNTIF(colk,$M$2),"",INDEX(cold,SUMPRODUCT(LARGE((colk=$M$2)*ROW(colk)-12,ROW($A29))))) | E41: =IF(ROW(E29)>COUNTIF(colk,$M$2),"",INDEX(cole,SUMPRODUCT(LARGE((colk=$M$2)*ROW(colk)-12,ROW($A29))))) | F41: =IF(ROW(F29)>COUNTIF(colk,$M$2),"",INDEX(colf,SUMPRODUCT(LARGE((colk=$M$2)*ROW(colk)-12,ROW($A29))))) | G41: =IF(ROW(G29)>COUNTIF(colk,$M$2),"",INDEX(colg,SUMPRODUCT(LARGE((colk=$M$2)*ROW(colk)-12,ROW($A29))))) | H41: =IF(ROW(H29)>COUNTIF(colk,$M$2),"",INDEX(colh,SUMPRODUCT(LARGE((colk=$M$2)*ROW(colk)-12,ROW($A29))))) | I41: =IF(ROW(I29)>COUNTIF(colk,$M$2),"",INDEX(coli,SUMPRODUCT(LARGE((colk=$M$2)*ROW(colk)-12,ROW($A29))))) | J41: =IF(ROW(J29)>COUNTIF(colk,$M$2),"",INDEX(colk,SUMPRODUCT(LARGE((colk=$M$2)*ROW(colk)-12,ROW($A29))))) | K41: =IF(ROW(K29)>COUNTIF(colk,$M$2),"",INDEX(coll,SUMPRODUCT(LARGE((colk=$M$2)*ROW(colk)-12,ROW($A29))))) | L41: =IF(ROW(L29)>COUNTIF(colk,$M$2),"",INDEX(coln,SUMPRODUCT(LARGE((colk=$M$2)*ROW(colk)-12,ROW($A29)))))
B42: =IF(ROW(B30)>COUNTIF(colk,$M$2),"",INDEX(colb,SUMPRODUCT(LARGE((colk=$M$2)*ROW(colk)-12,ROW($A30))))) | C42: =IF(ROW(C30)>COUNTIF(colk,$M$2),"",INDEX(colc,SUMPRODUCT(LARGE((colk=$M$2)*ROW(colk)-12,ROW($A30))))) | D42: =IF(ROW(D30)>COUNTIF(colk,$M$2),"",INDEX(cold,SUMPRODUCT(LARGE((colk=$M$2)*ROW(colk)-12,ROW($A30))))) | E42: =IF(ROW(E30)>COUNTIF(colk,$M$2),"",INDEX(cole,SUMPRODUCT(LARGE((colk=$M$2)*ROW(colk)-12,ROW($A30))))) | F42: =IF(ROW(F30)>COUNTIF(colk,$M$2),"",INDEX(colf,SUMPRODUCT(LARGE((colk=$M$2)*ROW(colk)-12,ROW($A30))))) | G42: =IF(ROW(G30)>COUNTIF(colk,$M$2),"",INDEX(colg,SUMPRODUCT(LARGE((colk=$M$2)*ROW(colk)-12,ROW($A30))))) | H42: =IF(ROW(H30)>COUNTIF(colk,$M$2),"",INDEX(colh,SUMPRODUCT(LARGE((colk=$M$2)*ROW(colk)-12,ROW($A30))))) | J42: =IF(ROW(J30)>COUNTIF(colk,$M$2),"",INDEX(colk,SUMPRODUCT(LARGE((colk=$M$2)*ROW(colk)-12,ROW($A30))))) | K42: =IF(ROW(K30)>COUNTIF(colk,$M$2),"",INDEX(coll,SUMPRODUCT(LARGE((colk=$M$2)*ROW(colk)-12,ROW($A30))))) | L42: =IF(ROW(L30)>COUNTIF(colk,$M$2),"",INDEX(coln,SUMPRODUCT(LARGE((colk=$M$2)*ROW(colk)-12,ROW($A30)))))
B43: =IF(ROW(B31)>COUNTIF(colk,$M$2),"",INDEX(colb,SUMPRODUCT(LARGE((colk=$M$2)*ROW(colk)-12,ROW($A31))))) | C43: =IF(ROW(C31)>COUNTIF(colk,$M$2),"",INDEX(colc,SUMPRODUCT(LARGE((colk=$M$2)*ROW(colk)-12,ROW($A31))))) | D43: =IF(ROW(D31)>COUNTIF(colk,$M$2),"",INDEX(cold,SUMPRODUCT(LARGE((colk=$M$2)*ROW(colk)-12,ROW($A31))))) | E43: =IF(ROW(E31)>COUNTIF(colk,$M$2),"",INDEX(cole,SUMPRODUCT(LARGE((colk=$M$2)*ROW(colk)-12,ROW($A31))))) | F43: =IF(ROW(F31)>COUNTIF(colk,$M$2),"",INDEX(colf,SUMPRODUCT(LARGE((colk=$M$2)*ROW(colk)-12,ROW($A31))))) | G43: =IF(ROW(G31)>COUNTIF(colk,$M$2),"",INDEX(colg,SUMPRODUCT(LARGE((colk=$M$2)*ROW(colk)-12,ROW($A31))))) | H43: =IF(ROW(H31)>COUNTIF(colk,$M$2),"",INDEX(colh,SUMPRODUCT(LARGE((colk=$M$2)*ROW(colk)-12,ROW($A31))))) | J43: =IF(ROW(J31)>COUNTIF(colk,$M$2),"",INDEX(colk,SUMPRODUCT(LARGE((colk=$M$2)*ROW(colk)-12,ROW($A31))))) | K43: =IF(ROW(K31)>COUNTIF(colk,$M$2),"",INDEX(coll,SUMPRODUCT(LARGE((colk=$M$2)*ROW(colk)-12,ROW($A31))))) | L43: =IF(ROW(L31)>COUNTIF(colk,$M$2),"",INDEX(coln,SUMPRODUCT(LARGE((colk=$M$2)*ROW(colk)-12,ROW($A31)))))
B44: =IF(ROW(B32)>COUNTIF(colk,$M$2),"",INDEX(colb,SUMPRODUCT(LARGE((colk=$M$2)*ROW(colk)-12,ROW($A32))))) | C44: =IF(ROW(C32)>COUNTIF(colk,$M$2),"",INDEX(colc,SUMPRODUCT(LARGE((colk=$M$2)*ROW(colk)-12,ROW($A32))))) | D44: =IF(ROW(D32)>COUNTIF(colk,$M$2),"",INDEX(cold,SUMPRODUCT(LARGE((colk=$M$2)*ROW(colk)-12,ROW($A32))))) | E44: =IF(ROW(E32)>COUNTIF(colk,$M$2),"",INDEX(cole,SUMPRODUCT(LARGE((colk=$M$2)*ROW(colk)-12,ROW($A32))))) | F44: =IF(ROW(F32)>COUNTIF(colk,$M$2),"",INDEX(colf,SUMPRODUCT(LARGE((colk=$M$2)*ROW(colk)-12,ROW($A32))))) | G44: =IF(ROW(G32)>COUNTIF(colk,$M$2),"",INDEX(colg,SUMPRODUCT(LARGE((colk=$M$2)*ROW(colk)-12,ROW($A32))))) | H44: =IF(ROW(H32)>COUNTIF(colk,$M$2),"",INDEX(colh,SUMPRODUCT(LARGE((colk=$M$2)*ROW(colk)-12,ROW($A32))))) | J44: =IF(ROW(J32)>COUNTIF(colk,$M$2),"",INDEX(colk,SUMPRODUCT(LARGE((colk=$M$2)*ROW(colk)-12,ROW($A32))))) | K44: =IF(ROW(K32)>COUNTIF(colk,$M$2),"",INDEX(coll,SUMPRODUCT(LARGE((colk=$M$2)*ROW(colk)-12,ROW($A32))))) | L44: =IF(ROW(L32)>COUNTIF(colk,$M$2),"",INDEX(coln,SUMPRODUCT(LARGE((colk=$M$2)*ROW(colk)-12,ROW($A32)))))
B45: =IF(ROW(B33)>COUNTIF(colk,$M$2),"",INDEX(colb,SUMPRODUCT(LARGE((colk=$M$2)*ROW(colk)-12,ROW($A33))))) | C45: =IF(ROW(C33)>COUNTIF(colk,$M$2),"",INDEX(colc,SUMPRODUCT(LARGE((colk=$M$2)*ROW(colk)-12,ROW($A33))))) | D45: =IF(ROW(D33)>COUNTIF(colk,$M$2),"",INDEX(cold,SUMPRODUCT(LARGE((colk=$M$2)*ROW(colk)-12,ROW($A33))))) | E45: =IF(ROW(E33)>COUNTIF(colk,$M$2),"",INDEX(cole,SUMPRODUCT(LARGE((colk=$M$2)*ROW(colk)-12,ROW($A33))))) | F45: =IF(ROW(F33)>COUNTIF(colk,$M$2),"",INDEX(colf,SUMPRODUCT(LARGE((colk=$M$2)*ROW(colk)-12,ROW($A33))))) | G45: =IF(ROW(G33)>COUNTIF(colk,$M$2),"",INDEX(colg,SUMPRODUCT(LARGE((colk=$M$2)*ROW(colk)-12,ROW($A33))))) | H45: =IF(ROW(H33)>COUNTIF(colk,$M$2),"",INDEX(colh,SUMPRODUCT(LARGE((colk=$M$2)*ROW(colk)-12,ROW($A33))))) | J45: =IF(ROW(J33)>COUNTIF(colk,$M$2),"",INDEX(colk,SUMPRODUCT(LARGE((colk=$M$2)*ROW(colk)-12,ROW($A33))))) | K45: =IF(ROW(K33)>COUNTIF(colk,$M$2),"",INDEX(coll,SUMPRODUCT(LARGE((colk=$M$2)*ROW(colk)-12,ROW($A33))))) | L45: =IF(ROW(L33)>COUNTIF(colk,$M$2),"",INDEX(coln,SUMPRODUCT(LARGE((colk=$M$2)*ROW(colk)-12,ROW($A33)))))
B46: =IF(ROW(B34)>COUNTIF(colk,$M$2),"",INDEX(colb,SUMPRODUCT(LARGE((colk=$M$2)*ROW(colk)-12,ROW($A34))))) | C46: =IF(ROW(C34)>COUNTIF(colk,$M$2),"",INDEX(colc,SUMPRODUCT(LARGE((colk=$M$2)*ROW(colk)-12,ROW($A34))))) | D46: =IF(ROW(D34)>COUNTIF(colk,$M$2),"",INDEX(cold,SUMPRODUCT(LARGE((colk=$M$2)*ROW(colk)-12,ROW($A34))))) | E46: =IF(ROW(E34)>COUNTIF(colk,$M$2),"",INDEX(cole,SUMPRODUCT(LARGE((colk=$M$2)*ROW(colk)-12,ROW($A34))))) | F46: =IF(ROW(F34)>COUNTIF(colk,$M$2),"",INDEX(colf,SUMPRODUCT(LARGE((colk=$M$2)*ROW(colk)-12,ROW($A34))))) | G46: =IF(ROW(G34)>COUNTIF(colk,$M$2),"",INDEX(colg,SUMPRODUCT(LARGE((colk=$M$2)*ROW(colk)-12,ROW($A34))))) | H46: =IF(ROW(H34)>COUNTIF(colk,$M$2),"",INDEX(colh,SUMPRODUCT(LARGE((colk=$M$2)*ROW(colk)-12,ROW($A34))))) | I46: =IF(ROW(I34)>COUNTIF(colk,$M$2),"",INDEX(coli,SUMPRODUCT(LARGE((colk=$M$2)*ROW(colk)-12,ROW($A34))))) | J46: =IF(ROW(J34)>COUNTIF(colk,$M$2),"",INDEX(colk,SUMPRODUCT(LARGE((colk=$M$2)*ROW(colk)-12,ROW($A34))))) | K46: =IF(ROW(K34)>COUNTIF(colk,$M$2),"",INDEX(coll,SUMPRODUCT(LARGE((colk=$M$2)*ROW(colk)-12,ROW($A34))))) | L46: =IF(ROW(L34)>COUNTIF(colk,$M$2),"",INDEX(coln,SUMPRODUCT(LARGE((colk=$M$2)*ROW(colk)-12,ROW($A34)))))
B47: =IF(ROW(B35)>COUNTIF(colk,$M$2),"",INDEX(colb,SUMPRODUCT(LARGE((colk=$M$2)*ROW(colk)-12,ROW($A35))))) | C47: =IF(ROW(C35)>COUNTIF(colk,$M$2),"",INDEX(colc,SUMPRODUCT(LARGE((colk=$M$2)*ROW(colk)-12,ROW($A35))))) | D47: =IF(ROW(D35)>COUNTIF(colk,$M$2),"",INDEX(cold,SUMPRODUCT(LARGE((colk=$M$2)*ROW(colk)-12,ROW($A35))))) | E47: =IF(ROW(E35)>COUNTIF(colk,$M$2),"",INDEX(cole,SUMPRODUCT(LARGE((colk=$M$2)*ROW(colk)-12,ROW($A35))))) | F47: =IF(ROW(F35)>COUNTIF(colk,$M$2),"",INDEX(colf,SUMPRODUCT(LARGE((colk=$M$2)*ROW(colk)-12,ROW($A35))))) | G47: =IF(ROW(G35)>COUNTIF(colk,$M$2),"",INDEX(colg,SUMPRODUCT(LARGE((colk=$M$2)*ROW(colk)-12,ROW($A35))))) | H47: =IF(ROW(H35)>COUNTIF(colk,$M$2),"",INDEX(colh,SUMPRODUCT(LARGE((colk=$M$2)*ROW(colk)-12,ROW($A35))))) | I47: =IF(ROW(I35)>COUNTIF(colk,$M$2),"",INDEX(coli,SUMPRODUCT(LARGE((colk=$M$2)*ROW(colk)-12,ROW($A35))))) | J47: =IF(ROW(J35)>COUNTIF(colk,$M$2),"",INDEX(colk,SUMPRODUCT(LARGE((colk=$M$2)*ROW(colk)-12,ROW($A35))))) | K47: =IF(ROW(K35)>COUNTIF(colk,$M$2),"",INDEX(coll,SUMPRODUCT(LARGE((colk=$M$2)*ROW(colk)-12,ROW($A35))))) | L47: =IF(ROW(L35)>COUNTIF(colk,$M$2),"",INDEX(coln,SUMPRODUCT(LARGE((colk=$M$2)*ROW(colk)-12,ROW($A35)))))
B48: =IF(ROW(B36)>COUNTIF(colk,$M$2),"",INDEX(colb,SUMPRODUCT(LARGE((colk=$M$2)*ROW(colk)-12,ROW($A36))))) | C48: =IF(ROW(C36)>COUNTIF(colk,$M$2),"",INDEX(colc,SUMPRODUCT(LARGE((colk=$M$2)*ROW(colk)-12,ROW($A36))))) | D48: =IF(ROW(D36)>COUNTIF(colk,$M$2),"",INDEX(cold,SUMPRODUCT(LARGE((colk=$M$2)*ROW(colk)-12,ROW($A36))))) | E48: =IF(ROW(E36)>COUNTIF(colk,$M$2),"",INDEX(cole,SUMPRODUCT(LARGE((colk=$M$2)*ROW(colk)-12,ROW($A36))))) | F48: =IF(ROW(F36)>COUNTIF(colk,$M$2),"",INDEX(colf,SUMPRODUCT(LARGE((colk=$M$2)*ROW(colk)-12,ROW($A36))))) | G48: =IF(ROW(G36)>COUNTIF(colk,$M$2),"",INDEX(colg,SUMPRODUCT(LARGE((colk=$M$2)*ROW(colk)-12,ROW($A36))))) | H48: =IF(ROW(H36)>COUNTIF(colk,$M$2),"",INDEX(colh,SUMPRODUCT(LARGE((colk=$M$2)*ROW(colk)-12,ROW($A36))))) | J48: =IF(ROW(J36)>COUNTIF(colk,$M$2),"",INDEX(colk,SUMPRODUCT(LARGE((colk=$M$2)*ROW(colk)-12,ROW($A36))))) | K48: =IF(ROW(K36)>COUNTIF(colk,$M$2),"",INDEX(coll,SUMPRODUCT(LARGE((colk=$M$2)*ROW(colk)-12,ROW($A36))))) | L48: =IF(ROW(L36)>COUNTIF(colk,$M$2),"",INDEX(coln,SUMPRODUCT(LARGE((colk=$M$2)*ROW(colk)-12,ROW($A36)))))
B49: =IF(ROW(B37)>COUNTIF(colk,$M$2),"",INDEX(colb,SUMPRODUCT(LARGE((colk=$M$2)*ROW(colk)-12,ROW($A37))))) | C49: =IF(ROW(C37)>COUNTIF(colk,$M$2),"",INDEX(colc,SUMPRODUCT(LARGE((colk=$M$2)*ROW(colk)-12,ROW($A37))))) | D49: =IF(ROW(D37)>COUNTIF(colk,$M$2),"",INDEX(cold,SUMPRODUCT(LARGE((colk=$M$2)*ROW(colk)-12,ROW($A37))))) | E49: =IF(ROW(E37)>COUNTIF(colk,$M$2),"",INDEX(cole,SUMPRODUCT(LARGE((colk=$M$2)*ROW(colk)-12,ROW($A37))))) | F49: =IF(ROW(F37)>COUNTIF(colk,$M$2),"",INDEX(colf,SUMPRODUCT(LARGE((colk=$M$2)*ROW(colk)-12,ROW($A37))))) | G49: =IF(ROW(G37)>COUNTIF(colk,$M$2),"",INDEX(colg,SUMPRODUCT(LARGE((colk=$M$2)*ROW(colk)-12,ROW($A37))))) | H49: =IF(ROW(H37)>COUNTIF(colk,$M$2),"",INDEX(colh,SUMPRODUCT(LARGE((colk=$M$2)*ROW(colk)-12,ROW($A37))))) | J49: =IF(ROW(J37)>COUNTIF(colk,$M$2),"",INDEX(colk,SUMPRODUCT(LARGE((colk=$M$2)*ROW(colk)-12,ROW($A37))))) | K49: =IF(ROW(K37)>COUNTIF(colk,$M$2),"",INDEX(coll,SUMPRODUCT(LARGE((colk=$M$2)*ROW(colk)-12,ROW($A37))))) | L49: =IF(ROW(L37)>COUNTIF(colk,$M$2),"",INDEX(coln,SUMPRODUCT(LARGE((colk=$M$2)*ROW(colk)-12,ROW($A37)))))
A50: =IF(ROW(A38)>COUNTIF(colk,$M$2),"",INDEX(cola,SUMPRODUCT(LARGE((colk=$M$2)*ROW(colk)-12,ROW($A38))))) | B50: =IF(ROW(B38)>COUNTIF(colk,$M$2),"",INDEX(colb,SUMPRODUCT(LARGE((colk=$M$2)*ROW(colk)-12,ROW($A38))))) | C50: =IF(ROW(C38)>COUNTIF(colk,$M$2),"",INDEX(colc,SUMPRODUCT(LARGE((colk=$M$2)*ROW(colk)-12,ROW($A38))))) | D50: =IF(ROW(D38)>COUNTIF(colk,$M$2),"",INDEX(cold,SUMPRODUCT(LARGE((colk=$M$2)*ROW(colk)-12,ROW($A38))))) | E50: =IF(ROW(E38)>COUNTIF(colk,$M$2),"",INDEX(cole,SUMPRODUCT(LARGE((colk=$M$2)*ROW(colk)-12,ROW($A38))))) | F50: =IF(ROW(F38)>COUNTIF(colk,$M$2),"",INDEX(colf,SUMPRODUCT(LARGE((colk=$M$2)*ROW(colk)-12,ROW($A38))))) | G50: =IF(ROW(G38)>COUNTIF(colk,$M$2),"",INDEX(colg,SUMPRODUCT(LARGE((colk=$M$2)*ROW(colk)-12,ROW($A38))))) | H50: =IF(ROW(H38)>COUNTIF(colk,$M$2),"",INDEX(colh,SUMPRODUCT(LARGE((colk=$M$2)*ROW(colk)-12,ROW($A38))))) | J50: =IF(ROW(J38)>COUNTIF(colk,$M$2),"",INDEX(colk,SUMPRODUCT(LARGE((colk=$M$2)*ROW(colk)-12,ROW($A38))))) | K50: =IF(ROW(K38)>COUNTIF(colk,$M$2),"",INDEX(coll,SUMPRODUCT(LARGE((colk=$M$2)*ROW(colk)-12,ROW($A38))))) | L50: =IF(ROW(L38)>COUNTIF(colk,$M$2),"",INDEX(coln,SUMPRODUCT(LARGE((colk=$M$2)*ROW(colk)-12,ROW($A38)))))
B51: =IF(ROW(B39)>COUNTIF(colk,$M$2),"",INDEX(colb,SUMPRODUCT(LARGE((colk=$M$2)*ROW(colk)-12,ROW($A39))))) | C51: =IF(ROW(C39)>COUNTIF(colk,$M$2),"",INDEX(colc,SUMPRODUCT(LARGE((colk=$M$2)*ROW(colk)-12,ROW($A39))))) | D51: =IF(ROW(D39)>COUNTIF(colk,$M$2),"",INDEX(cold,SUMPRODUCT(LARGE((colk=$M$2)*ROW(colk)-12,ROW($A39))))) | E51: =IF(ROW(E39)>COUNTIF(colk,$M$2),"",INDEX(cole,SUMPRODUCT(LARGE((colk=$M$2)*ROW(colk)-12,ROW($A39))))) | F51: =IF(ROW(F39)>COUNTIF(colk,$M$2),"",INDEX(colf,SUMPRODUCT(LARGE((colk=$M$2)*ROW(colk)-12,ROW($A39))))) | G51: =IF(ROW(G39)>COUNTIF(colk,$M$2),"",INDEX(colg,SUMPRODUCT(LARGE((colk=$M$2)*ROW(colk)-12,ROW($A39))))) | H51: =IF(ROW(H39)>COUNTIF(colk,$M$2),"",INDEX(colh,SUMPRODUCT(LARGE((colk=$M$2)*ROW(colk)-12,ROW($A39))))) | J51: =IF(ROW(J39)>COUNTIF(colk,$M$2),"",INDEX(colk,SUMPRODUCT(LARGE((colk=$M$2)*ROW(colk)-12,ROW($A39))))) | K51: =IF(ROW(K39)>COUNTIF(colk,$M$2),"",INDEX(coll,SUMPRODUCT(LARGE((colk=$M$2)*ROW(colk)-12,ROW($A39))))) | L51: =IF(ROW(L39)>COUNTIF(colk,$M$2),"",INDEX(coln,SUMPRODUCT(LARGE((colk=$M$2)*ROW(colk)-12,ROW($A39)))))
B52: =IF(ROW(B40)>COUNTIF(colk,$M$2),"",INDEX(colb,SUMPRODUCT(LARGE((colk=$M$2)*ROW(colk)-12,ROW($A40))))) | C52: =IF(ROW(C40)>COUNTIF(colk,$M$2),"",INDEX(colc,SUMPRODUCT(LARGE((colk=$M$2)*ROW(colk)-12,ROW($A40))))) | D52: =IF(ROW(D40)>COUNTIF(colk,$M$2),"",INDEX(cold,SUMPRODUCT(LARGE((colk=$M$2)*ROW(colk)-12,ROW($A40))))) | E52: =IF(ROW(E40)>COUNTIF(colk,$M$2),"",INDEX(cole,SUMPRODUCT(LARGE((colk=$M$2)*ROW(colk)-12,ROW($A40))))) | F52: =IF(ROW(F40)>COUNTIF(colk,$M$2),"",INDEX(colf,SUMPRODUCT(LARGE((colk=$M$2)*ROW(colk)-12,ROW($A40))))) | G52: =IF(ROW(G40)>COUNTIF(colk,$M$2),"",INDEX(colg,SUMPRODUCT(LARGE((colk=$M$2)*ROW(colk)-12,ROW($A40))))) | H52: =IF(ROW(H40)>COUNTIF(colk,$M$2),"",INDEX(colh,SUMPRODUCT(LARGE((colk=$M$2)*ROW(colk)-12,ROW($A40))))) | J52: =IF(ROW(J40)>COUNTIF(colk,$M$2),"",INDEX(colk,SUMPRODUCT(LARGE((colk=$M$2)*ROW(colk)-12,ROW($A40))))) | K52: =IF(ROW(K40)>COUNTIF(colk,$M$2),"",INDEX(coll,SUMPRODUCT(LARGE((colk=$M$2)*ROW(colk)-12,ROW($A40))))) | L52: =IF(ROW(L40)>COUNTIF(colk,$M$2),"",INDEX(coln,SUMPRODUCT(LARGE((colk=$M$2)*ROW(colk)-12,ROW($A40)))))
B53: =IF(ROW(B41)>COUNTIF(colk,$M$2),"",INDEX(colb,SUMPRODUCT(LARGE((colk=$M$2)*ROW(colk)-12,ROW($A41))))) | C53: =IF(ROW(C41)>COUNTIF(colk,$M$2),"",INDEX(colc,SUMPRODUCT(LARGE((colk=$M$2)*ROW(colk)-12,ROW($A41))))) | D53: =IF(ROW(D41)>COUNTIF(colk,$M$2),"",INDEX(cold,SUMPRODUCT(LARGE((colk=$M$2)*ROW(colk)-12,ROW($A41))))) | E53: =IF(ROW(E41)>COUNTIF(colk,$M$2),"",INDEX(cole,SUMPRODUCT(LARGE((colk=$M$2)*ROW(colk)-12,ROW($A41))))) | F53: =IF(ROW(F41)>COUNTIF(colk,$M$2),"",INDEX(colf,SUMPRODUCT(LARGE((colk=$M$2)*ROW(colk)-12,ROW($A41))))) | G53: =IF(ROW(G41)>COUNTIF(colk,$M$2),"",INDEX(colg,SUMPRODUCT(LARGE((colk=$M$2)*ROW(colk)-12,ROW($A41))))) | H53: =IF(ROW(H41)>COUNTIF(colk,$M$2),"",INDEX(colh,SUMPRODUCT(LARGE((colk=$M$2)*ROW(colk)-12,ROW($A41))))) | I53: =IF(ROW(I41)>COUNTIF(colk,$M$2),"",INDEX(coli,SUMPRODUCT(LARGE((colk=$M$2)*ROW(colk)-12,ROW($A41))))) | J53: particulier | K53: =IF(ROW(K41)>COUNTIF(colk,$M$2),"",INDEX(coll,SUMPRODUCT(LARGE((colk=$M$2)*ROW(colk)-12,ROW($A41))))) | L53: =IF(ROW(L41)>COUNTIF(colk,$M$2),"",INDEX(coln,SUMPRODUCT(LARGE((colk=$M$2)*ROW(colk)-12,ROW($A41)))))
B54: =IF(ROW(B42)>COUNTIF(colk,$M$2),"",INDEX(colb,SUMPRODUCT(LARGE((colk=$M$2)*ROW(colk)-12,ROW($A42))))) | C54: =IF(ROW(C42)>COUNTIF(colk,$M$2),"",INDEX(colc,SUMPRODUCT(LARGE((colk=$M$2)*ROW(colk)-12,ROW($A42))))) | D54: =IF(ROW(D42)>COUNTIF(colk,$M$2),"",INDEX(cold,SUMPRODUCT(LARGE((colk=$M$2)*ROW(colk)-12,ROW($A42))))) | E54: =IF(ROW(E42)>COUNTIF(colk,$M$2),"",INDEX(cole,SUMPRODUCT(LARGE((colk=$M$2)*ROW(colk)-12,ROW($A42))))) | F54: =IF(ROW(F42)>COUNTIF(colk,$M$2),"",INDEX(colf,SUMPRODUCT(LARGE((colk=$M$2)*ROW(colk)-12,ROW($A42))))) | G54: =IF(ROW(G42)>COUNTIF(colk,$M$2),"",INDEX(colg,SUMPRODUCT(LARGE((colk=$M$2)*ROW(colk)-12,ROW($A42))))) | H54: =IF(ROW(H42)>COUNTIF(colk,$M$2),"",INDEX(colh,SUMPRODUCT(LARGE((colk=$M$2)*ROW(colk)-12,ROW($A42))))) | I54: =IF(ROW(I42)>COUNTIF(colk,$M$2),"",INDEX(coli,SUMPRODUCT(LARGE((colk=$M$2)*ROW(colk)-12,ROW($A42))))) | J54: =IF(ROW(J42)>COUNTIF(colk,$M$2),"",INDEX(colk,SUMPRODUCT(LARGE((colk=$M$2)*ROW(colk)-12,ROW($A42))))) | K54: =IF(ROW(K42)>COUNTIF(colk,$M$2),"",INDEX(coll,SUMPRODUCT(LARGE((colk=$M$2)*ROW(colk)-12,ROW($A42))))) | L54: =IF(ROW(L42)>COUNTIF(colk,$M$2),"",INDEX(coln,SUMPRODUCT(LARGE((colk=$M$2)*ROW(colk)-12,ROW($A42)))))
A55: =IF(ROW(A43)>COUNTIF(colk,$M$2),"",INDEX(cola,SUMPRODUCT(LARGE((colk=$M$2)*ROW(colk)-12,ROW($A43))))) | B55: =IF(ROW(B43)>COUNTIF(colk,$M$2),"",INDEX(colb,SUMPRODUCT(LARGE((colk=$M$2)*ROW(colk)-12,ROW($A43))))) | C55: =IF(ROW(C43)>COUNTIF(colk,$M$2),"",INDEX(colc,SUMPRODUCT(LARGE((colk=$M$2)*ROW(colk)-12,ROW($A43))))) | D55: =IF(ROW(D43)>COUNTIF(colk,$M$2),"",INDEX(cold,SUMPRODUCT(LARGE((colk=$M$2)*ROW(colk)-12,ROW($A43))))) | E55: =IF(ROW(E43)>COUNTIF(colk,$M$2),"",INDEX(cole,SUMPRODUCT(LARGE((colk=$M$2)*ROW(colk)-12,ROW($A43))))) | F55: =IF(ROW(F43)>COUNTIF(colk,$M$2),"",INDEX(colf,SUMPRODUCT(LARGE((colk=$M$2)*ROW(colk)-12,ROW($A43))))) | G55: =IF(ROW(G43)>COUNTIF(colk,$M$2),"",INDEX(colg,SUMPRODUCT(LARGE((colk=$M$2)*ROW(colk)-12,ROW($A43))))) | H55: =IF(ROW(H43)>COUNTIF(colk,$M$2),"",INDEX(colh,SUMPRODUCT(LARGE((colk=$M$2)*ROW(colk)-12,ROW($A43))))) | J55: =IF(ROW(J43)>COUNTIF(colk,$M$2),"",INDEX(colk,SUMPRODUCT(LARGE((colk=$M$2)*ROW(colk)-12,ROW($A43))))) | K55: =IF(ROW(K43)>COUNTIF(colk,$M$2),"",INDEX(coll,SUMPRODUCT(LARGE((colk=$M$2)*ROW(colk)-12,ROW($A43))))) | L55: =IF(ROW(L43)>COUNTIF(colk,$M$2),"",INDEX(coln,SUMPRODUCT(LARGE((colk=$M$2)*ROW(colk)-12,ROW($A43)))))
B56: =IF(ROW(B44)>COUNTIF(colk,$M$2),"",INDEX(colb,SUMPRODUCT(LARGE((colk=$M$2)*ROW(colk)-12,ROW($A44))))) | C56: =IF(ROW(C44)>COUNTIF(colk,$M$2),"",INDEX(colc,SUMPRODUCT(LARGE((colk=$M$2)*ROW(colk)-12,ROW($A44))))) | D56: =IF(ROW(D44)>COUNTIF(colk,$M$2),"",INDEX(cold,SUMPRODUCT(LARGE((colk=$M$2)*ROW(colk)-12,ROW($A44))))) | E56: =IF(ROW(E44)>COUNTIF(colk,$M$2),"",INDEX(cole,SUMPRODUCT(LARGE((colk=$M$2)*ROW(colk)-12,ROW($A44))))) | F56: =IF(ROW(F44)>COUNTIF(colk,$M$2),"",INDEX(colf,SUMPRODUCT(LARGE((colk=$M$2)*ROW(colk)-12,ROW($A44))))) | G56: =IF(ROW(G44)>COUNTIF(colk,$M$2),"",INDEX(colg,SUMPRODUCT(LARGE((colk=$M$2)*ROW(colk)-12,ROW($A44))))) | H56: =IF(ROW(H44)>COUNTIF(colk,$M$2),"",INDEX(colh,SUMPRODUCT(LARGE((colk=$M$2)*ROW(colk)-12,ROW($A44))))) | I56: =IF(ROW(I44)>COUNTIF(colk,$M$2),"",INDEX(coli,SUMPRODUCT(LARGE((colk=$M$2)*ROW(colk)-12,ROW($A44))))) | J56: =IF(ROW(J44)>COUNTIF(colk,$M$2),"",INDEX(colk,SUMPRODUCT(LARGE((colk=$M$2)*ROW(colk)-12,ROW($A44))))) | K56: =IF(ROW(K44)>COUNTIF(colk,$M$2),"",INDEX(coll,SUMPRODUCT(LARGE((colk=$M$2)*ROW(colk)-12,ROW($A44))))) | L56: =IF(ROW(L44)>COUNTIF(colk,$M$2),"",INDEX(coln,SUMPRODUCT(LARGE((colk=$M$2)*ROW(colk)-12,ROW($A44)))))
A57: =IF(ROW(A45)>COUNTIF(colk,$M$2),"",INDEX(cola,SUMPRODUCT(LARGE((colk=$M$2)*ROW(colk)-12,ROW($A45))))) | B57: =IF(ROW(B45)>COUNTIF(colk,$M$2),"",INDEX(colb,SUMPRODUCT(LARGE((colk=$M$2)*ROW(colk)-12,ROW($A45))))) | C57: =IF(ROW(C45)>COUNTIF(colk,$M$2),"",INDEX(colc,SUMPRODUCT(LARGE((colk=$M$2)*ROW(colk)-12,ROW($A45))))) | D57: =IF(ROW(D45)>COUNTIF(colk,$M$2),"",INDEX(cold,SUMPRODUCT(LARGE((colk=$M$2)*ROW(colk)-12,ROW($A45))))) | E57: =IF(ROW(E45)>COUNTIF(colk,$M$2),"",INDEX(cole,SUMPRODUCT(LARGE((colk=$M$2)*ROW(colk)-12,ROW($A45))))) | F57: =IF(ROW(F45)>COUNTIF(colk,$M$2),"",INDEX(colf,SUMPRODUCT(LARGE((colk=$M$2)*ROW(colk)-12,ROW($A45))))) | G57: =IF(ROW(G45)>COUNTIF(colk,$M$2),"",INDEX(colg,SUMPRODUCT(LARGE((colk=$M$2)*ROW(colk)-12,ROW($A45))))) | H57: =IF(ROW(H45)>COUNTIF(colk,$M$2),"",INDEX(colh,SUMPRODUCT(LARGE((colk=$M$2)*ROW(colk)-12,ROW($A45))))) | I57: =IF(ROW(I45)>COUNTIF(colk,$M$2),"",INDEX(coli,SUMPRODUCT(LARGE((colk=$M$2)*ROW(colk)-12,ROW($A45))))) | J57: =IF(ROW(J45)>COUNTIF(colk,$M$2),"",INDEX(colk,SUMPRODUCT(LARGE((colk=$M$2)*ROW(colk)-12,ROW($A45))))) | K57: =IF(ROW(K45)>COUNTIF(colk,$M$2),"",INDEX(coll,SUMPRODUCT(LARGE((colk=$M$2)*ROW(colk)-12,ROW($A45))))) | L57: =IF(ROW(L45)>COUNTIF(colk,$M$2),"",INDEX(coln,SUMPRODUCT(LARGE((colk=$M$2)*ROW(colk)-12,ROW($A45)))))
A58: =IF(ROW(A46)>COUNTIF(colk,$M$2),"",INDEX(cola,SUMPRODUCT(LARGE((colk=$M$2)*ROW(colk)-12,ROW($A46))))) | B58: =IF(ROW(B46)>COUNTIF(colk,$M$2),"",INDEX(colb,SUMPRODUCT(LARGE((colk=$M$2)*ROW(colk)-12,ROW($A46))))) | C58: =IF(ROW(C46)>COUNTIF(colk,$M$2),"",INDEX(colc,SUMPRODUCT(LARGE((colk=$M$2)*ROW(colk)-12,ROW($A46))))) | D58: =IF(ROW(D46)>COUNTIF(colk,$M$2),"",INDEX(cold,SUMPRODUCT(LARGE((colk=$M$2)*ROW(colk)-12,ROW($A46))))) | E58: =IF(ROW(E46)>COUNTIF(colk,$M$2),"",INDEX(cole,SUMPRODUCT(LARGE((colk=$M$2)*ROW(colk)-12,ROW($A46))))) | F58: =IF(ROW(F46)>COUNTIF(colk,$M$2),"",INDEX(colf,SUMPRODUCT(LARGE((colk=$M$2)*ROW(colk)-12,ROW($A46))))) | G58: =IF(ROW(G46)>COUNTIF(colk,$M$2),"",INDEX(colg,SUMPRODUCT(LARGE((colk=$M$2)*ROW(colk)-12,ROW($A46))))) | H58: =IF(ROW(H46)>COUNTIF(colk,$M$2),"",INDEX(colh,SUMPRODUCT(LARGE((colk=$M$2)*ROW(colk)-12,ROW($A46))))) | I58: =IF(ROW(I46)>COUNTIF(colk,$M$2),"",INDEX(coli,SUMPRODUCT(LARGE((colk=$M$2)*ROW(colk)-12,ROW($A46))))) | J58: =IF(ROW(J46)>COUNTIF(colk,$M$2),"",INDEX(colk,SUMPRODUCT(LARGE((colk=$M$2)*ROW(colk)-12,ROW($A46))))) | K58: =IF(ROW(K46)>COUNTIF(colk,$M$2),"",INDEX(coll,SUMPRODUCT(LARGE((colk=$M$2)*ROW(colk)-12,ROW($A46))))) | L58: =IF(ROW(L46)>COUNTIF(colk,$M$2),"",INDEX(coln,SUMPRODUCT(LARGE((colk=$M$2)*ROW(colk)-12,ROW($A46)))))
A59: =IF(ROW(A47)>COUNTIF(colk,$M$2),"",INDEX(cola,SUMPRODUCT(LARGE((colk=$M$2)*ROW(colk)-12,ROW($A47))))) | B59: =IF(ROW(B47)>COUNTIF(colk,$M$2),"",INDEX(colb,SUMPRODUCT(LARGE((colk=$M$2)*ROW(colk)-12,ROW($A47))))) | C59: =IF(ROW(C47)>COUNTIF(colk,$M$2),"",INDEX(colc,SUMPRODUCT(LARGE((colk=$M$2)*ROW(colk)-12,ROW($A47))))) | D59: =IF(ROW(D47)>COUNTIF(colk,$M$2),"",INDEX(cold,SUMPRODUCT(LARGE((colk=$M$2)*ROW(colk)-12,ROW($A47))))) | E59: =IF(ROW(E47)>COUNTIF(colk,$M$2),"",INDEX(cole,SUMPRODUCT(LARGE((colk=$M$2)*ROW(colk)-12,ROW($A47))))) | F59: =IF(ROW(F47)>COUNTIF(colk,$M$2),"",INDEX(colf,SUMPRODUCT(LARGE((colk=$M$2)*ROW(colk)-12,ROW($A47))))) | G59: =IF(ROW(G47)>COUNTIF(colk,$M$2),"",INDEX(colg,SUMPRODUCT(LARGE((colk=$M$2)*ROW(colk)-12,ROW($A47))))) | H59: =IF(ROW(H47)>COUNTIF(colk,$M$2),"",INDEX(colh,SUMPRODUCT(LARGE((colk=$M$2)*ROW(colk)-12,ROW($A47))))) | I59: =IF(ROW(I47)>COUNTIF(colk,$M$2),"",INDEX(coli,SUMPRODUCT(LARGE((colk=$M$2)*ROW(colk)-12,ROW($A47))))) | J59: =IF(ROW(J47)>COUNTIF(colk,$M$2),"",INDEX(colk,SUMPRODUCT(LARGE((colk=$M$2)*ROW(colk)-12,ROW($A47))))) | K59: =IF(ROW(K47)>COUNTIF(colk,$M$2),"",INDEX(coll,SUMPRODUCT(LARGE((colk=$M$2)*ROW(colk)-12,ROW($A47))))) | L59: =IF(ROW(L47)>COUNTIF(colk,$M$2),"",INDEX(coln,SUMPRODUCT(LARGE((colk=$M$2)*ROW(colk)-12,ROW($A47)))))
A60: =IF(ROW(A48)>COUNTIF(colk,$M$2),"",INDEX(cola,SUMPRODUCT(LARGE((colk=$M$2)*ROW(colk)-12,ROW($A48))))) | B60: =IF(ROW(B48)>COUNTIF(colk,$M$2),"",INDEX(colb,SUMPRODUCT(LARGE((colk=$M$2)*ROW(colk)-12,ROW($A48))))) | C60: =IF(ROW(C48)>COUNTIF(colk,$M$2),"",INDEX(colc,SUMPRODUCT(LARGE((colk=$M$2)*ROW(colk)-12,ROW($A48))))) | D60: =IF(ROW(D48)>COUNTIF(colk,$M$2),"",INDEX(cold,SUMPRODUCT(LARGE((colk=$M$2)*ROW(colk)-12,ROW($A48))))) | E60: =IF(ROW(E48)>COUNTIF(colk,$M$2),"",INDEX(cole,SUMPRODUCT(LARGE((colk=$M$2)*ROW(colk)-12,ROW($A48))))) | F60: =IF(ROW(F48)>COUNTIF(colk,$M$2),"",INDEX(colf,SUMPRODUCT(LARGE((colk=$M$2)*ROW(colk)-12,ROW($A48))))) | G60: =IF(ROW(G48)>COUNTIF(colk,$M$2),"",INDEX(colg,SUMPRODUCT(LARGE((colk=$M$2)*ROW(colk)-12,ROW($A48))))) | H60: =IF(ROW(H48)>COUNTIF(colk,$M$2),"",INDEX(colh,SUMPRODUCT(LARGE((colk=$M$2)*ROW(colk)-12,ROW($A48))))) | I60: =IF(ROW(I48)>COUNTIF(colk,$M$2),"",INDEX(coli,SUMPRODUCT(LARGE((colk=$M$2)*ROW(colk)-12,ROW($A48))))) | J60: =IF(ROW(J48)>COUNTIF(colk,$M$2),"",INDEX(colk,SUMPRODUCT(LARGE((colk=$M$2)*ROW(colk)-12,ROW($A48))))) | K60: =IF(ROW(K48)>COUNTIF(colk,$M$2),"",INDEX(coll,SUMPRODUCT(LARGE((colk=$M$2)*ROW(colk)-12,ROW($A48))))) | L60: =IF(ROW(L48)>COUNTIF(colk,$M$2),"",INDEX(coln,SUMPRODUCT(LARGE((colk=$M$2)*ROW(colk)-12,ROW($A48)))))
A61: =IF(ROW(A49)>COUNTIF(colk,$M$2),"",INDEX(cola,SUMPRODUCT(LARGE((colk=$M$2)*ROW(colk)-12,ROW($A49))))) | B61: =IF(ROW(B49)>COUNTIF(colk,$M$2),"",INDEX(colb,SUMPRODUCT(LARGE((colk=$M$2)*ROW(colk)-12,ROW($A49))))) | C61: =IF(ROW(C49)>COUNTIF(colk,$M$2),"",INDEX(colc,SUMPRODUCT(LARGE((colk=$M$2)*ROW(colk)-12,ROW($A49))))) | D61: =IF(ROW(D49)>COUNTIF(colk,$M$2),"",INDEX(cold,SUMPRODUCT(LARGE((colk=$M$2)*ROW(colk)-12,ROW($A49))))) | E61: =IF(ROW(E49)>COUNTIF(colk,$M$2),"",INDEX(cole,SUMPRODUCT(LARGE((colk=$M$2)*ROW(colk)-12,ROW($A49))))) | F61: =IF(ROW(F49)>COUNTIF(colk,$M$2),"",INDEX(colf,SUMPRODUCT(LARGE((colk=$M$2)*ROW(colk)-12,ROW($A49))))) | G61: =IF(ROW(G49)>COUNTIF(colk,$M$2),"",INDEX(colg,SUMPRODUCT(LARGE((colk=$M$2)*ROW(colk)-12,ROW($A49))))) | H61: =IF(ROW(H49)>COUNTIF(colk,$M$2),"",INDEX(colh,SUMPRODUCT(LARGE((colk=$M$2)*ROW(colk)-12,ROW($A49))))) | I61: =IF(ROW(I49)>COUNTIF(colk,$M$2),"",INDEX(coli,SUMPRODUCT(LARGE((colk=$M$2)*ROW(colk)-12,ROW($A49))))) | J61: =IF(ROW(J49)>COUNTIF(colk,$M$2),"",INDEX(colk,SUMPRODUCT(LARGE((colk=$M$2)*ROW(colk)-12,ROW($A49))))) | K61: =IF(ROW(K49)>COUNTIF(colk,$M$2),"",INDEX(coll,SUMPRODUCT(LARGE((colk=$M$2)*ROW(colk)-12,ROW($A49))))) | L61: =IF(ROW(L49)>COUNTIF(colk,$M$2),"",INDEX(coln,SUMPRODUCT(LARGE((colk=$M$2)*ROW(colk)-12,ROW($A49)))))
A62: =IF(ROW(A50)>COUNTIF(colk,$M$2),"",INDEX(cola,SUMPRODUCT(LARGE((colk=$M$2)*ROW(colk)-12,ROW($A50))))) | B62: =IF(ROW(B50)>COUNTIF(colk,$M$2),"",INDEX(colb,SUMPRODUCT(LARGE((colk=$M$2)*ROW(colk)-12,ROW($A50))))) | C62: =IF(ROW(C50)>COUNTIF(colk,$M$2),"",INDEX(colc,SUMPRODUCT(LARGE((colk=$M$2)*ROW(colk)-12,ROW($A50))))) | D62: =IF(ROW(D50)>COUNTIF(colk,$M$2),"",INDEX(cold,SUMPRODUCT(LARGE((colk=$M$2)*ROW(colk)-12,ROW($A50))))) | E62: =IF(ROW(E50)>COUNTIF(colk,$M$2),"",INDEX(cole,SUMPRODUCT(LARGE((colk=$M$2)*ROW(colk)-12,ROW($A50))))) | F62: =IF(ROW(F50)>COUNTIF(colk,$M$2),"",INDEX(colf,SUMPRODUCT(LARGE((colk=$M$2)*ROW(colk)-12,ROW($A50))))) | G62: =IF(ROW(G50)>COUNTIF(colk,$M$2),"",INDEX(colg,SUMPRODUCT(LARGE((colk=$M$2)*ROW(colk)-12,ROW($A50))))) | H62: =IF(ROW(H50)>COUNTIF(colk,$M$2),"",INDEX(colh,SUMPRODUCT(LARGE((colk=$M$2)*ROW(colk)-12,ROW($A50))))) | I62: =IF(ROW(I50)>COUNTIF(colk,$M$2),"",INDEX(coli,SUMPRODUCT(LARGE((colk=$M$2)*ROW(colk)-12,ROW($A50))))) | J62: =IF(ROW(J50)>COUNTIF(colk,$M$2),"",INDEX(colk,SUMPRODUCT(LARGE((colk=$M$2)*ROW(colk)-12,ROW($A50))))) | K62: =IF(ROW(K50)>COUNTIF(colk,$M$2),"",INDEX(coll,SUMPRODUCT(LARGE((colk=$M$2)*ROW(colk)-12,ROW($A50))))) | L62: =IF(ROW(L50)>COUNTIF(colk,$M$2),"",INDEX(coln,SUMPRODUCT(LARGE((colk=$M$2)*ROW(colk)-12,ROW($A50)))))
A63: =IF(ROW(A51)>COUNTIF(colk,$M$2),"",INDEX(cola,SUMPRODUCT(LARGE((colk=$M$2)*ROW(colk)-12,ROW($A51))))) | B63: =IF(ROW(B51)>COUNTIF(colk,$M$2),"",INDEX(colb,SUMPRODUCT(LARGE((colk=$M$2)*ROW(colk)-12,ROW($A51))))) | C63: =IF(ROW(C51)>COUNTIF(colk,$M$2),"",INDEX(colc,SUMPRODUCT(LARGE((colk=$M$2)*ROW(colk)-12,ROW($A51))))) | D63: =IF(ROW(D51)>COUNTIF(colk,$M$2),"",INDEX(cold,SUMPRODUCT(LARGE((colk=$M$2)*ROW(colk)-12,ROW($A51))))) | E63: =IF(ROW(E51)>COUNTIF(colk,$M$2),"",INDEX(cole,SUMPRODUCT(LARGE((colk=$M$2)*ROW(colk)-12,ROW($A51))))) | F63: =IF(ROW(F51)>COUNTIF(colk,$M$2),"",INDEX(colf,SUMPRODUCT(LARGE((colk=$M$2)*ROW(colk)-12,ROW($A51))))) | G63: =IF(ROW(G51)>COUNTIF(colk,$M$2),"",INDEX(colg,SUMPRODUCT(LARGE((colk=$M$2)*ROW(colk)-12,ROW($A51))))) | H63: =IF(ROW(H51)>COUNTIF(colk,$M$2),"",INDEX(colh,SUMPRODUCT(LARGE((colk=$M$2)*ROW(colk)-12,ROW($A51))))) | I63: =IF(ROW(I51)>COUNTIF(colk,$M$2),"",INDEX(coli,SUMPRODUCT(LARGE((colk=$M$2)*ROW(colk)-12,ROW($A51))))) | J63: =IF(ROW(J51)>COUNTIF(colk,$M$2),"",INDEX(colk,SUMPRODUCT(LARGE((colk=$M$2)*ROW(colk)-12,ROW($A51))))) | K63: =IF(ROW(K51)>COUNTIF(colk,$M$2),"",INDEX(coll,SUMPRODUCT(LARGE((colk=$M$2)*ROW(colk)-12,ROW($A51))))) | L63: =IF(ROW(L51)>COUNTIF(colk,$M$2),"",INDEX(coln,SUMPRODUCT(LARGE((colk=$M$2)*ROW(colk)-12,ROW($A51)))))
A64: =IF(ROW(A52)>COUNTIF(colk,$M$2),"",INDEX(cola,SUMPRODUCT(LARGE((colk=$M$2)*ROW(colk)-12,ROW($A52))))) | B64: =IF(ROW(B52)>COUNTIF(colk,$M$2),"",INDEX(colb,SUMPRODUCT(LARGE((colk=$M$2)*ROW(colk)-12,ROW($A52))))) | C64: =IF(ROW(C52)>COUNTIF(colk,$M$2),"",INDEX(colc,SUMPRODUCT(LARGE((colk=$M$2)*ROW(colk)-12,ROW($A52))))) | D64: =IF(ROW(D52)>COUNTIF(colk,$M$2),"",INDEX(cold,SUMPRODUCT(LARGE((colk=$M$2)*ROW(colk)-12,ROW($A52))))) | E64: =IF(ROW(E52)>COUNTIF(colk,$M$2),"",INDEX(cole,SUMPRODUCT(LARGE((colk=$M$2)*ROW(colk)-12,ROW($A52))))) | F64: =IF(ROW(F52)>COUNTIF(colk,$M$2),"",INDEX(colf,SUMPRODUCT(LARGE((colk=$M$2)*ROW(colk)-12,ROW($A52))))) | G64: =IF(ROW(G52)>COUNTIF(colk,$M$2),"",INDEX(colg,SUMPRODUCT(LARGE((colk=$M$2)*ROW(colk)-12,ROW($A52))))) | H64: =IF(ROW(H52)>COUNTIF(colk,$M$2),"",INDEX(colh,SUMPRODUCT(LARGE((colk=$M$2)*ROW(colk)-12,ROW($A52))))) | I64: =IF(ROW(I52)>COUNTIF(colk,$M$2),"",INDEX(coli,SUMPRODUCT(LARGE((colk=$M$2)*ROW(colk)-12,ROW($A52))))) | J64: =IF(ROW(J52)>COUNTIF(colk,$M$2),"",INDEX(colk,SUMPRODUCT(LARGE((colk=$M$2)*ROW(colk)-12,ROW($A52))))) | K64: =IF(ROW(K52)>COUNTIF(colk,$M$2),"",INDEX(coll,SUMPRODUCT(LARGE((colk=$M$2)*ROW(colk)-12,ROW($A52))))) | L64: =IF(ROW(L52)>COUNTIF(colk,$M$2),"",INDEX(coln,SUMPRODUCT(LARGE((colk=$M$2)*ROW(colk)-12,ROW($A52)))))
A65: =IF(ROW(A53)>COUNTIF(colk,$M$2),"",INDEX(cola,SUMPRODUCT(LARGE((colk=$M$2)*ROW(colk)-12,ROW($A53))))) | B65: =IF(ROW(B53)>COUNTIF(colk,$M$2),"",INDEX(colb,SUMPRODUCT(LARGE((colk=$M$2)*ROW(colk)-12,ROW($A53))))) | C65: =IF(ROW(C53)>COUNTIF(colk,$M$2),"",INDEX(colc,SUMPRODUCT(LARGE((colk=$M$2)*ROW(colk)-12,ROW($A53))))) | D65: =IF(ROW(D53)>COUNTIF(colk,$M$2),"",INDEX(cold,SUMPRODUCT(LARGE((colk=$M$2)*ROW(colk)-12,ROW($A53))))) | E65: =IF(ROW(E53)>COUNTIF(colk,$M$2),"",INDEX(cole,SUMPRODUCT(LARGE((colk=$M$2)*ROW(colk)-12,ROW($A53))))) | F65: =IF(ROW(F53)>COUNTIF(colk,$M$2),"",INDEX(colf,SUMPRODUCT(LARGE((colk=$M$2)*ROW(colk)-12,ROW($A53))))) | G65: =IF(ROW(G53)>COUNTIF(colk,$M$2),"",INDEX(colg,SUMPRODUCT(LARGE((colk=$M$2)*ROW(colk)-12,ROW($A53))))) | H65: =IF(ROW(H53)>COUNTIF(colk,$M$2),"",INDEX(colh,SUMPRODUCT(LARGE((colk=$M$2)*ROW(colk)-12,ROW($A53))))) | I65: =IF(ROW(I53)>COUNTIF(colk,$M$2),"",INDEX(coli,SUMPRODUCT(LARGE((colk=$M$2)*ROW(colk)-12,ROW($A53))))) | J65: =IF(ROW(J53)>COUNTIF(colk,$M$2),"",INDEX(colk,SUMPRODUCT(LARGE((colk=$M$2)*ROW(colk)-12,ROW($A53))))) | K65: =IF(ROW(K53)>COUNTIF(colk,$M$2),"",INDEX(coll,SUMPRODUCT(LARGE((colk=$M$2)*ROW(colk)-12,ROW($A53))))) | L65: =IF(ROW(L53)>COUNTIF(colk,$M$2),"",INDEX(coln,SUMPRODUCT(LARGE((colk=$M$2)*ROW(colk)-12,ROW($A53)))))
A66: =IF(ROW(A54)>COUNTIF(colk,$M$2),"",INDEX(cola,SUMPRODUCT(LARGE((colk=$M$2)*ROW(colk)-12,ROW($A54))))) | B66: =IF(ROW(B54)>COUNTIF(colk,$M$2),"",INDEX(colb,SUMPRODUCT(LARGE((colk=$M$2)*ROW(colk)-12,ROW($A54))))) | C66: =IF(ROW(C54)>COUNTIF(colk,$M$2),"",INDEX(colc,SUMPRODUCT(LARGE((colk=$M$2)*ROW(colk)-12,ROW($A54))))) | D66: =IF(ROW(D54)>COUNTIF(colk,$M$2),"",INDEX(cold,SUMPRODUCT(LARGE((colk=$M$2)*ROW(colk)-12,ROW($A54))))) | E66: =IF(ROW(E54)>COUNTIF(colk,$M$2),"",INDEX(cole,SUMPRODUCT(LARGE((colk=$M$2)*ROW(colk)-12,ROW($A54))))) | F66: =IF(ROW(F54)>COUNTIF(colk,$M$2),"",INDEX(colf,SUMPRODUCT(LARGE((colk=$M$2)*ROW(colk)-12,ROW($A54))))) | G66: =IF(ROW(G54)>COUNTIF(colk,$M$2),"",INDEX(colg,SUMPRODUCT(LARGE((colk=$M$2)*ROW(colk)-12,ROW($A54))))) | H66: =IF(ROW(H54)>COUNTIF(colk,$M$2),"",INDEX(colh,SUMPRODUCT(LARGE((colk=$M$2)*ROW(colk)-12,ROW($A54))))) | I66: =IF(ROW(I54)>COUNTIF(colk,$M$2),"",INDEX(coli,SUMPRODUCT(LARGE((colk=$M$2)*ROW(colk)-12,ROW($A54))))) | J66: =IF(ROW(J54)>COUNTIF(colk,$M$2),"",INDEX(colk,SUMPRODUCT(LARGE((colk=$M$2)*ROW(colk)-12,ROW($A54))))) | K66: =IF(ROW(K54)>COUNTIF(colk,$M$2),"",INDEX(coll,SUMPRODUCT(LARGE((colk=$M$2)*ROW(colk)-12,ROW($A54))))) | L66: =IF(ROW(L54)>COUNTIF(colk,$M$2),"",INDEX(coln,SUMPRODUCT(LARGE((colk=$M$2)*ROW(colk)-12,ROW($A54)))))
A67: =IF(ROW(A55)>COUNTIF(colk,$M$2),"",INDEX(cola,SUMPRODUCT(LARGE((colk=$M$2)*ROW(colk)-12,ROW($A55))))) | B67: =IF(ROW(B55)>COUNTIF(colk,$M$2),"",INDEX(colb,SUMPRODUCT(LARGE((colk=$M$2)*ROW(colk)-12,ROW($A55))))) | C67: =IF(ROW(C55)>COUNTIF(colk,$M$2),"",INDEX(colc,SUMPRODUCT(LARGE((colk=$M$2)*ROW(colk)-12,ROW($A55))))) | D67: =IF(ROW(D55)>COUNTIF(colk,$M$2),"",INDEX(cold,SUMPRODUCT(LARGE((colk=$M$2)*ROW(colk)-12,ROW($A55))))) | E67: =IF(ROW(E55)>COUNTIF(colk,$M$2),"",INDEX(cole,SUMPRODUCT(LARGE((colk=$M$2)*ROW(colk)-12,ROW($A55))))) | F67: =IF(ROW(F55)>COUNTIF(colk,$M$2),"",INDEX(colf,SUMPRODUCT(LARGE((colk=$M$2)*ROW(colk)-12,ROW($A55))))) | G67: =IF(ROW(G55)>COUNTIF(colk,$M$2),"",INDEX(colg,SUMPRODUCT(LARGE((colk=$M$2)*ROW(colk)-12,ROW($A55))))) | H67: =IF(ROW(H55)>COUNTIF(colk,$M$2),"",INDEX(colh,SUMPRODUCT(LARGE((colk=$M$2)*ROW(colk)-12,ROW($A55))))) | I67: =IF(ROW(I55)>COUNTIF(colk,$M$2),"",INDEX(coli,SUMPRODUCT(LARGE((colk=$M$2)*ROW(colk)-12,ROW($A55))))) | J67: =IF(ROW(J55)>COUNTIF(colk,$M$2),"",INDEX(colk,SUMPRODUCT(LARGE((colk=$M$2)*ROW(colk)-12,ROW($A55))))) | K67: =IF(ROW(K55)>COUNTIF(colk,$M$2),"",INDEX(coll,SUMPRODUCT(LARGE((colk=$M$2)*ROW(colk)-12,ROW($A55))))) | L67: =IF(ROW(L55)>COUNTIF(colk,$M$2),"",INDEX(coln,SUMPRODUCT(LARGE((colk=$M$2)*ROW(colk)-12,ROW($A55)))))
A68: =IF(ROW(A56)>COUNTIF(colk,$M$2),"",INDEX(cola,SUMPRODUCT(LARGE((colk=$M$2)*ROW(colk)-12,ROW($A56))))) | B68: =IF(ROW(B56)>COUNTIF(colk,$M$2),"",INDEX(colb,SUMPRODUCT(LARGE((colk=$M$2)*ROW(colk)-12,ROW($A56))))) | C68: =IF(ROW(C56)>COUNTIF(colk,$M$2),"",INDEX(colc,SUMPRODUCT(LARGE((colk=$M$2)*ROW(colk)-12,ROW($A56))))) | D68: =IF(ROW(D56)>COUNTIF(colk,$M$2),"",INDEX(cold,SUMPRODUCT(LARGE((colk=$M$2)*ROW(colk)-12,ROW($A56))))) | E68: =IF(ROW(E56)>COUNTIF(colk,$M$2),"",INDEX(cole,SUMPRODUCT(LARGE((colk=$M$2)*ROW(colk)-12,ROW($A56))))) | F68: =IF(ROW(F56)>COUNTIF(colk,$M$2),"",INDEX(colf,SUMPRODUCT(LARGE((colk=$M$2)*ROW(colk)-12,ROW($A56))))) | G68: =IF(ROW(G56)>COUNTIF(colk,$M$2),"",INDEX(colg,SUMPRODUCT(LARGE((colk=$M$2)*ROW(colk)-12,ROW($A56))))) | H68: =IF(ROW(H56)>COUNTIF(colk,$M$2),"",INDEX(colh,SUMPRODUCT(LARGE((colk=$M$2)*ROW(colk)-12,ROW($A56))))) | I68: =IF(ROW(I56)>COUNTIF(colk,$M$2),"",INDEX(coli,SUMPRODUCT(LARGE((colk=$M$2)*ROW(colk)-12,ROW($A56))))) | J68: =IF(ROW(J56)>COUNTIF(colk,$M$2),"",INDEX(colk,SUMPRODUCT(LARGE((colk=$M$2)*ROW(colk)-12,ROW($A56))))) | K68: =IF(ROW(K56)>COUNTIF(colk,$M$2),"",INDEX(coll,SUMPRODUCT(LARGE((colk=$M$2)*ROW(colk)-12,ROW($A56))))) | L68: =IF(ROW(L56)>COUNTIF(colk,$M$2),"",INDEX(coln,SUMPRODUCT(LARGE((colk=$M$2)*ROW(colk)-12,ROW($A56)))))
... A500: =IF(ROW(A488)>COUNTIF(colk,$M$2),"",INDEX(cola,SUMPRODUCT(LARGE((colk=$M$2)*ROW(colk)-12,ROW($A488))))) | B500: =IF(ROW(B488)>COUNTIF(colk,$M$2),"",INDEX(colb,SUMPRODUCT(LARGE((colk=$M$2)*ROW(colk)-12,ROW($A488))))) | C500: =IF(ROW(C488)>COUNTIF(colk,$M$2),"",INDEX(colc,SUMPRODUCT(LARGE((colk=$M$2)*ROW(colk)-12,ROW($A488))))) | D500: =IF(ROW(D488)>COUNTIF(colk,$M$2),"",INDEX(cold,SUMPRODUCT(LARGE((colk=$M$2)*ROW(colk)-12,ROW($A488))))) | E500: =IF(ROW(E488)>COUNTIF(colk,$M$2),"",INDEX(cole,SUMPRODUCT(LARGE((colk=$M$2)*ROW(colk)-12,ROW($A488))))) | F500: =IF(ROW(F488)>COUNTIF(colk,$M$2),"",INDEX(colf,SUMPRODUCT(LARGE((colk=$M$2)*ROW(colk)-12,ROW($A488))))) | G500: =IF(ROW(G488)>COUNTIF(colk,$M$2),"",INDEX(colg,SUMPRODUCT(LARGE((colk=$M$2)*ROW(colk)-12,ROW($A488))))) | H500: =IF(ROW(H488)>COUNTIF(colk,$M$2),"",INDEX(colh,SUMPRODUCT(LARGE((colk=$M$2)*ROW(colk)-12,ROW($A488))))) | I500: =IF(ROW(I488)>COUNTIF(colk,$M$2),"",INDEX(coli,SUMPRODUCT(LARGE((colk=$M$2)*ROW(colk)-12,ROW($A488))))) | J500: =IF(ROW(J488)>COUNTIF(colk,$M$2),"",INDEX(colk,SUMPRODUCT(LARGE((colk=$M$2)*ROW(colk)-12,ROW($A488))))) | K500: =IF(ROW(K488)>COUNTIF(colk,$M$2),"",INDEX(coll,SUMPRODUCT(LARGE((colk=$M$2)*ROW(colk)-12,ROW($A488))))) | L500: =IF(ROW(L488)>COUNTIF(colk,$M$2),"",INDEX(coln,SUMPRODUCT(LARGE((colk=$M$2)*ROW(colk)-12,ROW($A488)))))

Sheet bénévent
M2: bénévent
G8: objets restants | K8: recette
G9: =COUNTIF(G12:G240,1) -> 0 | K9: =SUM(K13:K501) -> 0
A12: DATE DEPOT | B12: OBJET | C12: BOIS | D12: VARIETE | E12: REMARQUE | F12: N° | G12: Q | H12: PRIX unité | I12: DATE VENTE | J12: DEPOT | K12: REC AUTRE | L12: N°libre
A13: =IF(ROW(A1)>COUNTIF(colk,$M$2),"",INDEX(cola,SUMPRODUCT(LARGE((colk=$M$2)*ROW(colk)-12,ROW($A1))))) | B13: =IF(ROW(B1)>COUNTIF(colk,$M$2),"",INDEX(colb,SUMPRODUCT(LARGE((colk=$M$2)*ROW(colk)-12,ROW($A1))))) | C13: =IF(ROW(C1)>COUNTIF(colk,$M$2),"",INDEX(colc,SUMPRODUCT(LARGE((colk=$M$2)*ROW(colk)-12,ROW($A1))))) | D13: =IF(ROW(D1)>COUNTIF(colk,$M$2),"",INDEX(cold,SUMPRODUCT(LARGE((colk=$M$2)*ROW(colk)-12,ROW($A1))))) | E13: =IF(ROW(E1)>COUNTIF(colk,$M$2),"",INDEX(cole,SUMPRODUCT(LARGE((colk=$M$2)*ROW(colk)-12,ROW($A1))))) | F13: =IF(ROW(F1)>COUNTIF(colk,$M$2),"",INDEX(colf,SUMPRODUCT(LARGE((colk=$M$2)*ROW(colk)-12,ROW($A1))))) | G13: =IF(ROW(G1)>COUNTIF(colk,$M$2),"",INDEX(colg,SUMPRODUCT(LARGE((colk=$M$2)*ROW(colk)-12,ROW($A1))))) | H13: =IF(ROW(H1)>COUNTIF(colk,$M$2),"",INDEX(colh,SUMPRODUCT(LARGE((colk=$M$2)*ROW(colk)-12,ROW($A1))))) | J13: =IF(ROW(J1)>COUNTIF(colk,$M$2),"",INDEX(colk,SUMPRODUCT(LARGE((colk=$M$2)*ROW(colk)-12,ROW($A1))))) | K13: =IF(ROW(K1)>COUNTIF(colk,$M$2),"",INDEX(colm,SUMPRODUCT(LARGE((colk=$M$2)*ROW(colk)-12,ROW($A1))))) | L13: =IF(ROW(L1)>COUNTIF(colk,$M$2),"",INDEX(coln,SUMPRODUCT(LARGE((colk=$M$2)*ROW(colk)-12,ROW($A1)))))
A14: =IF(ROW(A2)>COUNTIF(colk,$M$2),"",INDEX(cola,SUMPRODUCT(LARGE((colk=$M$2)*ROW(colk)-12,ROW($A2))))) | B14: =IF(ROW(B2)>COUNTIF(colk,$M$2),"",INDEX(colb,SUMPRODUCT(LARGE((colk=$M$2)*ROW(colk)-12,ROW($A2))))) | C14: =IF(ROW(C2)>COUNTIF(colk,$M$2),"",INDEX(colc,SUMPRODUCT(LARGE((colk=$M$2)*ROW(colk)-12,ROW($A2))))) | D14: =IF(ROW(D2)>COUNTIF(colk,$M$2),"",INDEX(cold,SUMPRODUCT(LARGE((colk=$M$2)*ROW(colk)-12,ROW($A2))))) | E14: =IF(ROW(E2)>COUNTIF(colk,$M$2),"",INDEX(cole,SUMPRODUCT(LARGE((colk=$M$2)*ROW(colk)-12,ROW($A2))))) | F14: =IF(ROW(F2)>COUNTIF(colk,$M$2),"",INDEX(colf,SUMPRODUCT(LARGE((colk=$M$2)*ROW(colk)-12,ROW($A2))))) | G14: =IF(ROW(G2)>COUNTIF(colk,$M$2),"",INDEX(colg,SUMPRODUCT(LARGE((colk=$M$2)*ROW(colk)-12,ROW($A2))))) | H14: =IF(ROW(H2)>COUNTIF(colk,$M$2),"",INDEX(colh,SUMPRODUCT(LARGE((colk=$M$2)*ROW(colk)-12,ROW($A2))))) | J14: =IF(ROW(J2)>COUNTIF(colk,$M$2),"",INDEX(colk,SUMPRODUCT(LARGE((colk=$M$2)*ROW(colk)-12,ROW($A2))))) | K14: =IF(ROW(K2)>COUNTIF(colk,$M$2),"",INDEX(colm,SUMPRODUCT(LARGE((colk=$M$2)*ROW(colk)-12,ROW($A2))))) | L14: =IF(ROW(L2)>COUNTIF(colk,$M$2),"",INDEX(coln,SUMPRODUCT(LARGE((colk=$M$2)*ROW(colk)-12,ROW($A2)))))
A15: =IF(ROW(A3)>COUNTIF(colk,$M$2),"",INDEX(cola,SUMPRODUCT(LARGE((colk=$M$2)*ROW(colk)-12,ROW($A3))))) | B15: =IF(ROW(B3)>COUNTIF(colk,$M$2),"",INDEX(colb,SUMPRODUCT(LARGE((colk=$M$2)*ROW(colk)-12,ROW($A3))))) | C15: =IF(ROW(C3)>COUNTIF(colk,$M$2),"",INDEX(colc,SUMPRODUCT(LARGE((colk=$M$2)*ROW(colk)-12,ROW($A3))))) | D15: =IF(ROW(D3)>COUNTIF(colk,$M$2),"",INDEX(cold,SUMPRODUCT(LARGE((colk=$M$2)*ROW(colk)-12,ROW($A3))))) | E15: =IF(ROW(E3)>COUNTIF(colk,$M$2),"",INDEX(cole,SUMPRODUCT(LARGE((colk=$M$2)*ROW(colk)-12,ROW($A3))))) | F15: =IF(ROW(F3)>COUNTIF(colk,$M$2),"",INDEX(colf,SUMPRODUCT(LARGE((colk=$M$2)*ROW(colk)-12,ROW($A3))))) | G15: =IF(ROW(G3)>COUNTIF(colk,$M$2),"",INDEX(colg,SUMPRODUCT(LARGE((colk=$M$2)*ROW(colk)-12,ROW($A3))))) | H15: =IF(ROW(H3)>COUNTIF(colk,$M$2),"",INDEX(colh,SUMPRODUCT(LARGE((colk=$M$2)*ROW(colk)-12,ROW($A3))))) | J15: =IF(ROW(J3)>COUNTIF(colk,$M$2),"",INDEX(colk,SUMPRODUCT(LARGE((colk=$M$2)*ROW(colk)-12,ROW($A3))))) | K15: =IF(ROW(K3)>COUNTIF(colk,$M$2),"",INDEX(colm,SUMPRODUCT(LARGE((colk=$M$2)*ROW(colk)-12,ROW($A3))))) | L15: =IF(ROW(L3)>COUNTIF(colk,$M$2),"",INDEX(coln,SUMPRODUCT(LARGE((colk=$M$2)*ROW(colk)-12,ROW($A3)))))
A16: =IF(ROW(A4)>COUNTIF(colk,$M$2),"",INDEX(cola,SUMPRODUCT(LARGE((colk=$M$2)*ROW(colk)-12,ROW($A4))))) | B16: =IF(ROW(B4)>COUNTIF(colk,$M$2),"",INDEX(colb,SUMPRODUCT(LARGE((colk=$M$2)*ROW(colk)-12,ROW($A4))))) | C16: =IF(ROW(C4)>COUNTIF(colk,$M$2),"",INDEX(colc,SUMPRODUCT(LARGE((colk=$M$2)*ROW(colk)-12,ROW($A4))))) | D16: =IF(ROW(D4)>COUNTIF(colk,$M$2),"",INDEX(cold,SUMPRODUCT(LARGE((colk=$M$2)*ROW(colk)-12,ROW($A4))))) | E16: =IF(ROW(E4)>COUNTIF(colk,$M$2),"",INDEX(cole,SUMPRODUCT(LARGE((colk=$M$2)*ROW(colk)-12,ROW($A4))))) | F16: =IF(ROW(F4)>COUNTIF(colk,$M$2),"",INDEX(colf,SUMPRODUCT(LARGE((colk=$M$2)*ROW(colk)-12,ROW($A4))))) | G16: =IF(ROW(G4)>COUNTIF(colk,$M$2),"",INDEX(colg,SUMPRODUCT(LARGE((colk=$M$2)*ROW(colk)-12,ROW($A4))))) | H16: =IF(ROW(H4)>COUNTIF(colk,$M$2),"",INDEX(colh,SUMPRODUCT(LARGE((colk=$M$2)*ROW(colk)-12,ROW($A4))))) | J16: =IF(ROW(J4)>COUNTIF(colk,$M$2),"",INDEX(colk,SUMPRODUCT(LARGE((colk=$M$2)*ROW(colk)-12,ROW($A4))))) | K16: =IF(ROW(K4)>COUNTIF(colk,$M$2),"",INDEX(colm,SUMPRODUCT(LARGE((colk=$M$2)*ROW(colk)-12,ROW($A4))))) | L16: =IF(ROW(L4)>COUNTIF(colk,$M$2),"",INDEX(coln,SUMPRODUCT(LARGE((colk=$M$2)*ROW(colk)-12,ROW($A4)))))
A17: =IF(ROW(A5)>COUNTIF(colk,$M$2),"",INDEX(cola,SUMPRODUCT(LARGE((colk=$M$2)*ROW(colk)-12,ROW($A5))))) | B17: =IF(ROW(B5)>COUNTIF(colk,$M$2),"",INDEX(colb,SUMPRODUCT(LARGE((colk=$M$2)*ROW(colk)-12,ROW($A5))))) | C17: =IF(ROW(C5)>COUNTIF(colk,$M$2),"",INDEX(colc,SUMPRODUCT(LARGE((colk=$M$2)*ROW(colk)-12,ROW($A5))))) | D17: =IF(ROW(D5)>COUNTIF(colk,$M$2),"",INDEX(cold,SUMPRODUCT(LARGE((colk=$M$2)*ROW(colk)-12,ROW($A5))))) | E17: =IF(ROW(E5)>COUNTIF(colk,$M$2),"",INDEX(cole,SUMPRODUCT(LARGE((colk=$M$2)*ROW(colk)-12,ROW($A5))))) | F17: =IF(ROW(F5)>COUNTIF(colk,$M$2),"",INDEX(colf,SUMPRODUCT(LARGE((colk=$M$2)*ROW(colk)-12,ROW($A5))))) | G17: =IF(ROW(G5)>COUNTIF(colk,$M$2),"",INDEX(colg,SUMPRODUCT(LARGE((colk=$M$2)*ROW(colk)-12,ROW($A5))))) | H17: =IF(ROW(H5)>COUNTIF(colk,$M$2),"",INDEX(colh,SUMPRODUCT(LARGE((colk=$M$2)*ROW(colk)-12,ROW($A5))))) | J17: =IF(ROW(J5)>COUNTIF(colk,$M$2),"",INDEX(colk,SUMPRODUCT(LARGE((colk=$M$2)*ROW(colk)-12,ROW($A5))))) | K17: =IF(ROW(K5)>COUNTIF(colk,$M$2),"",INDEX(colm,SUMPRODUCT(LARGE((colk=$M$2)*ROW(colk)-12,ROW($A5))))) | L17: =IF(ROW(L5)>COUNTIF(colk,$M$2),"",INDEX(coln,SUMPRODUCT(LARGE((colk=$M$2)*ROW(colk)-12,ROW($A5)))))
A18: =IF(ROW(A6)>COUNTIF(colk,$M$2),"",INDEX(cola,SUMPRODUCT(LARGE((colk=$M$2)*ROW(colk)-12,ROW($A6))))) | B18: =IF(ROW(B6)>COUNTIF(colk,$M$2),"",INDEX(colb,SUMPRODUCT(LARGE((colk=$M$2)*ROW(colk)-12,ROW($A6))))) | C18: =IF(ROW(C6)>COUNTIF(colk,$M$2),"",INDEX(colc,SUMPRODUCT(LARGE((colk=$M$2)*ROW(colk)-12,ROW($A6))))) | D18: =IF(ROW(D6)>COUNTIF(colk,$M$2),"",INDEX(cold,SUMPRODUCT(LARGE((colk=$M$2)*ROW(colk)-12,ROW($A6))))) | E18: =IF(ROW(E6)>COUNTIF(colk,$M$2),"",INDEX(cole,SUMPRODUCT(LARGE((colk=$M$2)*ROW(colk)-12,ROW($A6))))) | F18: =IF(ROW(F6)>COUNTIF(colk,$M$2),"",INDEX(colf,SUMPRODUCT(LARGE((colk=$M$2)*ROW(colk)-12,ROW($A6))))) | G18: =IF(ROW(G6)>COUNTIF(colk,$M$2),"",INDEX(colg,SUMPRODUCT(LARGE((colk=$M$2)*ROW(colk)-12,ROW($A6))))) | H18: =IF(ROW(H6)>COUNTIF(colk,$M$2),"",INDEX(colh,SUMPRODUCT(LARGE((colk=$M$2)*ROW(colk)-12,ROW($A6))))) | J18: =IF(ROW(J6)>COUNTIF(colk,$M$2),"",INDEX(colk,SUMPRODUCT(LARGE((colk=$M$2)*ROW(colk)-12,ROW($A6))))) | K18: =IF(ROW(K6)>COUNTIF(colk,$M$2),"",INDEX(colm,SUMPRODUCT(LARGE((colk=$M$2)*ROW(colk)-12,ROW($A6))))) | L18: =IF(ROW(L6)>COUNTIF(colk,$M$2),"",INDEX(coln,SUMPRODUCT(LARGE((colk=$M$2)*ROW(colk)-12,ROW($A6)))))
A19: =IF(ROW(A7)>COUNTIF(colk,$M$2),"",INDEX(cola,SUMPRODUCT(LARGE((colk=$M$2)*ROW(colk)-12,ROW($A7))))) | B19: =IF(ROW(B7)>COUNTIF(colk,$M$2),"",INDEX(colb,SUMPRODUCT(LARGE((colk=$M$2)*ROW(colk)-12,ROW($A7))))) | C19: =IF(ROW(C7)>COUNTIF(colk,$M$2),"",INDEX(colc,SUMPRODUCT(LARGE((colk=$M$2)*ROW(colk)-12,ROW($A7))))) | D19: =IF(ROW(D7)>COUNTIF(colk,$M$2),"",INDEX(cold,SUMPRODUCT(LARGE((colk=$M$2)*ROW(colk)-12,ROW($A7))))) | E19: =IF(ROW(E7)>COUNTIF(colk,$M$2),"",INDEX(cole,SUMPRODUCT(LARGE((colk=$M$2)*ROW(colk)-12,ROW($A7))))) | F19: =IF(ROW(F7)>COUNTIF(colk,$M$2),"",INDEX(colf,SUMPRODUCT(LARGE((colk=$M$2)*ROW(colk)-12,ROW($A7))))) | G19: =IF(ROW(G7)>COUNTIF(colk,$M$2),"",INDEX(colg,SUMPRODUCT(LARGE((colk=$M$2)*ROW(colk)-12,ROW($A7))))) | H19: =IF(ROW(H7)>COUNTIF(colk,$M$2),"",INDEX(colh,SUMPRODUCT(LARGE((colk=$M$2)*ROW(colk)-12,ROW($A7))))) | J19: =IF(ROW(J7)>COUNTIF(colk,$M$2),"",INDEX(colk,SUMPRODUCT(LARGE((colk=$M$2)*ROW(colk)-12,ROW($A7))))) | K19: =IF(ROW(K7)>COUNTIF(colk,$M$2),"",INDEX(colm,SUMPRODUCT(LARGE((colk=$M$2)*ROW(colk)-12,ROW($A7))))) | L19: =IF(ROW(L7)>COUNTIF(colk,$M$2),"",INDEX(coln,SUMPRODUCT(LARGE((colk=$M$2)*ROW(colk)-12,ROW($A7)))))
A20: =IF(ROW(A8)>COUNTIF(colk,$M$2),"",INDEX(cola,SUMPRODUCT(LARGE((colk=$M$2)*ROW(colk)-12,ROW($A8))))) | B20: =IF(ROW(B8)>COUNTIF(colk,$M$2),"",INDEX(colb,SUMPRODUCT(LARGE((colk=$M$2)*ROW(colk)-12,ROW($A8))))) | C20: =IF(ROW(C8)>COUNTIF(colk,$M$2),"",INDEX(colc,SUMPRODUCT(LARGE((colk=$M$2)*ROW(colk)-12,ROW($A8))))) | D20: =IF(ROW(D8)>COUNTIF(colk,$M$2),"",INDEX(cold,SUMPRODUCT(LARGE((colk=$M$2)*ROW(colk)-12,ROW($A8))))) | E20: =IF(ROW(E8)>COUNTIF(colk,$M$2),"",INDEX(cole,SUMPRODUCT(LARGE((colk=$M$2)*ROW(colk)-12,ROW($A8))))) | F20: =IF(ROW(F8)>COUNTIF(colk,$M$2),"",INDEX(colf,SUMPRODUCT(LARGE((colk=$M$2)*ROW(colk)-12,ROW($A8))))) | G20: =IF(ROW(G8)>COUNTIF(colk,$M$2),"",INDEX(colg,SUMPRODUCT(LARGE((colk=$M$2)*ROW(colk)-12,ROW($A8))))) | H20: =IF(ROW(H8)>COUNTIF(colk,$M$2),"",INDEX(colh,SUMPRODUCT(LARGE((colk=$M$2)*ROW(colk)-12,ROW($A8))))) | J20: =IF(ROW(J8)>COUNTIF(colk,$M$2),"",INDEX(colk,SUMPRODUCT(LARGE((colk=$M$2)*ROW(colk)-12,ROW($A8))))) | K20: =IF(ROW(K8)>COUNTIF(colk,$M$2),"",INDEX(colm,SUMPRODUCT(LARGE((colk=$M$2)*ROW(colk)-12,ROW($A8))))) | L20: =IF(ROW(L8)>COUNTIF(colk,$M$2),"",INDEX(coln,SUMPRODUCT(LARGE((colk=$M$2)*ROW(colk)-12,ROW($A8)))))
A21: =IF(ROW(A9)>COUNTIF(colk,$M$2),"",INDEX(cola,SUMPRODUCT(LARGE((colk=$M$2)*ROW(colk)-12,ROW($A9))))) | B21: =IF(ROW(B9)>COUNTIF(colk,$M$2),"",INDEX(colb,SUMPRODUCT(LARGE((colk=$M$2)*ROW(colk)-12,ROW($A9))))) | C21: =IF(ROW(C9)>COUNTIF(colk,$M$2),"",INDEX(colc,SUMPRODUCT(LARGE((colk=$M$2)*ROW(colk)-12,ROW($A9))))) | D21: =IF(ROW(D9)>COUNTIF(colk,$M$2),"",INDEX(cold,SUMPRODUCT(LARGE((colk=$M$2)*ROW(colk)-12,ROW($A9))))) | E21: =IF(ROW(E9)>COUNTIF(colk,$M$2),"",INDEX(cole,SUMPRODUCT(LARGE((colk=$M$2)*ROW(colk)-12,ROW($A9))))) | F21: =IF(ROW(F9)>COUNTIF(colk,$M$2),"",INDEX(colf,SUMPRODUCT(LARGE((colk=$M$2)*ROW(colk)-12,ROW($A9))))) | G21: =IF(ROW(G9)>COUNTIF(colk,$M$2),"",INDEX(colg,SUMPRODUCT(LARGE((colk=$M$2)*ROW(colk)-12,ROW($A9))))) | H21: =IF(ROW(H9)>COUNTIF(colk,$M$2),"",INDEX(colh,SUMPRODUCT(LARGE((colk=$M$2)*ROW(colk)-12,ROW($A9))))) | J21: =IF(ROW(J9)>COUNTIF(colk,$M$2),"",INDEX(colk,SUMPRODUCT(LARGE((colk=$M$2)*ROW(colk)-12,ROW($A9))))) | K21: =IF(ROW(K9)>COUNTIF(colk,$M$2),"",INDEX(colm,SUMPRODUCT(LARGE((colk=$M$2)*ROW(colk)-12,ROW($A9))))) | L21: =IF(ROW(L9)>COUNTIF(colk,$M$2),"",INDEX(coln,SUMPRODUCT(LARGE((colk=$M$2)*ROW(colk)-12,ROW($A9)))))
A22: =IF(ROW(A10)>COUNTIF(colk,$M$2),"",INDEX(cola,SUMPRODUCT(LARGE((colk=$M$2)*ROW(colk)-12,ROW($A10))))) | B22: =IF(ROW(B10)>COUNTIF(colk,$M$2),"",INDEX(colb,SUMPRODUCT(LARGE((colk=$M$2)*ROW(colk)-12,ROW($A10))))) | C22: =IF(ROW(C10)>COUNTIF(colk,$M$2),"",INDEX(colc,SUMPRODUCT(LARGE((colk=$M$2)*ROW(colk)-12,ROW($A10))))) | D22: =IF(ROW(D10)>COUNTIF(colk,$M$2),"",INDEX(cold,SUMPRODUCT(LARGE((colk=$M$2)*ROW(colk)-12,ROW($A10))))) | E22: =IF(ROW(E10)>COUNTIF(colk,$M$2),"",INDEX(cole,SUMPRODUCT(LARGE((colk=$M$2)*ROW(colk)-12,ROW($A10))))) | F22: =IF(ROW(F10)>COUNTIF(colk,$M$2),"",INDEX(colf,SUMPRODUCT(LARGE((colk=$M$2)*ROW(colk)-12,ROW($A10))))) | G22: =IF(ROW(G10)>COUNTIF(colk,$M$2),"",INDEX(colg,SUMPRODUCT(LARGE((colk=$M$2)*ROW(colk)-12,ROW($A10))))) | H22: =IF(ROW(H10)>COUNTIF(colk,$M$2),"",INDEX(colh,SUMPRODUCT(LARGE((colk=$M$2)*ROW(colk)-12,ROW($A10))))) | J22: =IF(ROW(J10)>COUNTIF(colk,$M$2),"",INDEX(colk,SUMPRODUCT(LARGE((colk=$M$2)*ROW(colk)-12,ROW($A10))))) | K22: =IF(ROW(K10)>COUNTIF(colk,$M$2),"",INDEX(colm,SUMPRODUCT(LARGE((colk=$M$2)*ROW(colk)-12,ROW($A10))))) | L22: =IF(ROW(L10)>COUNTIF(colk,$M$2),"",INDEX(coln,SUMPRODUCT(LARGE((colk=$M$2)*ROW(colk)-12,ROW($A10)))))
A23: =IF(ROW(A11)>COUNTIF(colk,$M$2),"",INDEX(cola,SUMPRODUCT(LARGE((colk=$M$2)*ROW(colk)-12,ROW($A11))))) | B23: =IF(ROW(B11)>COUNTIF(colk,$M$2),"",INDEX(colb,SUMPRODUCT(LARGE((colk=$M$2)*ROW(colk)-12,ROW($A11))))) | C23: =IF(ROW(C11)>COUNTIF(colk,$M$2),"",INDEX(colc,SUMPRODUCT(LARGE((colk=$M$2)*ROW(colk)-12,ROW($A11))))) | D23: =IF(ROW(D11)>COUNTIF(colk,$M$2),"",INDEX(cold,SUMPRODUCT(LARGE((colk=$M$2)*ROW(colk)-12,ROW($A11))))) | E23: =IF(ROW(E11)>COUNTIF(colk,$M$2),"",INDEX(cole,SUMPRODUCT(LARGE((colk=$M$2)*ROW(colk)-12,ROW($A11))))) | F23: =IF(ROW(F11)>COUNTIF(colk,$M$2),"",INDEX(colf,SUMPRODUCT(LARGE((colk=$M$2)*ROW(colk)-12,ROW($A11))))) | G23: =IF(ROW(G11)>COUNTIF(colk,$M$2),"",INDEX(colg,SUMPRODUCT(LARGE((colk=$M$2)*ROW(colk)-12,ROW($A11))))) | H23: =IF(ROW(H11)>COUNTIF(colk,$M$2),"",INDEX(colh,SUMPRODUCT(LARGE((colk=$M$2)*ROW(colk)-12,ROW($A11))))) | J23: =IF(ROW(J11)>COUNTIF(colk,$M$2),"",INDEX(colk,SUMPRODUCT(LARGE((colk=$M$2)*ROW(colk)-12,ROW($A11))))) | K23: =IF(ROW(K11)>COUNTIF(colk,$M$2),"",INDEX(colm,SUMPRODUCT(LARGE((colk=$M$2)*ROW(colk)-12,ROW($A11))))) | L23: =IF(ROW(L11)>COUNTIF(colk,$M$2),"",INDEX(coln,SUMPRODUCT(LARGE((colk=$M$2)*ROW(colk)-12,ROW($A11)))))
A24: =IF(ROW(A12)>COUNTIF(colk,$M$2),"",INDEX(cola,SUMPRODUCT(LARGE((colk=$M$2)*ROW(colk)-12,ROW($A12))))) | B24: =IF(ROW(B12)>COUNTIF(colk,$M$2),"",INDEX(colb,SUMPRODUCT(LARGE((colk=$M$2)*ROW(colk)-12,ROW($A12))))) | C24: =IF(ROW(C12)>COUNTIF(colk,$M$2),"",INDEX(colc,SUMPRODUCT(LARGE((colk=$M$2)*ROW(colk)-12,ROW($A12))))) | D24: =IF(ROW(D12)>COUNTIF(colk,$M$2),"",INDEX(cold,SUMPRODUCT(LARGE((colk=$M$2)*ROW(colk)-12,ROW($A12))))) | E24: =IF(ROW(E12)>COUNTIF(colk,$M$2),"",INDEX(cole,SUMPRODUCT(LARGE((colk=$M$2)*ROW(colk)-12,ROW($A12))))) | F24: =IF(ROW(F12)>COUNTIF(colk,$M$2),"",INDEX(colf,SUMPRODUCT(LARGE((colk=$M$2)*ROW(colk)-12,ROW($A12))))) | G24: =IF(ROW(G12)>COUNTIF(colk,$M$2),"",INDEX(colg,SUMPRODUCT(LARGE((colk=$M$2)*ROW(colk)-12,ROW($A12))))) | H24: =IF(ROW(H12)>COUNTIF(colk,$M$2),"",INDEX(colh,SUMPRODUCT(LARGE((colk=$M$2)*ROW(colk)-12,ROW($A12))))) | J24: =IF(ROW(J12)>COUNTIF(colk,$M$2),"",INDEX(colk,SUMPRODUCT(LARGE((colk=$M$2)*ROW(colk)-12,ROW($A12))))) | K24: =IF(ROW(K12)>COUNTIF(colk,$M$2),"",INDEX(colm,SUMPRODUCT(LARGE((colk=$M$2)*ROW(colk)-12,ROW($A12))))) | L24: =IF(ROW(L12)>COUNTIF(colk,$M$2),"",INDEX(coln,SUMPRODUCT(LARGE((colk=$M$2)*ROW(colk)-12,ROW($A12)))))
... A35: =IF(ROW(A23)>COUNTIF(colk,$M$2),"",INDEX(cola,SUMPRODUCT(LARGE((colk=$M$2)*ROW(colk)-12,ROW($A23))))) | B35: =IF(ROW(B23)>COUNTIF(colk,$M$2),"",INDEX(colb,SUMPRODUCT(LARGE((colk=$M$2)*ROW(colk)-12,ROW($A23))))) | C35: =IF(ROW(C23)>COUNTIF(colk,$M$2),"",INDEX(colc,SUMPRODUCT(LARGE((colk=$M$2)*ROW(colk)-12,ROW($A23))))) | D35: =IF(ROW(D23)>COUNTIF(colk,$M$2),"",INDEX(cold,SUMPRODUCT(LARGE((colk=$M$2)*ROW(colk)-12,ROW($A23))))) | E35: =IF(ROW(E23)>COUNTIF(colk,$M$2),"",INDEX(cole,SUMPRODUCT(LARGE((colk=$M$2)*ROW(colk)-12,ROW($A23))))) | F35: =IF(ROW(F23)>COUNTIF(colk,$M$2),"",INDEX(colf,SUMPRODUCT(LARGE((colk=$M$2)*ROW(colk)-12,ROW($A23))))) | G35: =IF(ROW(G23)>COUNTIF(colk,$M$2),"",INDEX(colg,SUMPRODUCT(LARGE((colk=$M$2)*ROW(colk)-12,ROW($A23))))) | H35: =IF(ROW(H23)>COUNTIF(colk,$M$2),"",INDEX(colh,SUMPRODUCT(LARGE((colk=$M$2)*ROW(colk)-12,ROW($A23))))) | J35: =IF(ROW(J23)>COUNTIF(colk,$M$2),"",INDEX(colk,SUMPRODUCT(LARGE((colk=$M$2)*ROW(colk)-12,ROW($A23))))) | K35: =IF(ROW(K23)>COUNTIF(colk,$M$2),"",INDEX(colm,SUMPRODUCT(LARGE((colk=$M$2)*ROW(colk)-12,ROW($A23))))) | L35: =IF(ROW(L23)>COUNTIF(colk,$M$2),"",INDEX(coln,SUMPRODUCT(LARGE((colk=$M$2)*ROW(colk)-12,ROW($A23)))))

Sheet prébenoit
M2: prébenoit
G8: objets restants | K8: recette
G9: =COUNTIF(G12:G240,1) -> 0 | K9: =SUM(K13:K501) -> 20
A12: DATE DEPOT | B12: OBJET | C12: BOIS | D12: VARIETE | E12: REMARQUE | F12: N° | G12: Q | H12: PRIX unité | I12: DATE VENTE | J12: DEPOT | K12: REC AUTRE | L12: N°libre
A13: =IF(ROW(A1)>COUNTIF(colk,$M$2),"",INDEX(cola,SUMPRODUCT(LARGE((colk=$M$2)*ROW(colk)-12,ROW($A1))))) -> 42013 | B13: =IF(ROW(B1)>COUNTIF(colk,$M$2),"",INDEX(colb,SUMPRODUCT(LARGE((colk=$M$2)*ROW(colk)-12,ROW($A1))))) -> enrouleur pm | C13: =IF(ROW(C1)>COUNTIF(colk,$M$2),"",INDEX(colc,SUMPRODUCT(LARGE((colk=$M$2)*ROW(colk)-12,ROW($A1))))) -> che | D13: =IF(ROW(D1)>COUNTIF(colk,$M$2),"",INDEX(cold,SUMPRODUCT(LARGE((colk=$M$2)*ROW(colk)-12,ROW($A1))))) -> chêne | E13: =IF(ROW(E1)>COUNTIF(colk,$M$2),"",INDEX(cole,SUMPRODUCT(LARGE((colk=$M$2)*ROW(colk)-12,ROW($A1))))) -> 0 | F13: =IF(ROW(F1)>COUNTIF(colk,$M$2),"",INDEX(colf,SUMPRODUCT(LARGE((colk=$M$2)*ROW(colk)-12,ROW($A1))))) -> sans n° | G13: =IF(ROW(G1)>COUNTIF(colk,$M$2),"",INDEX(colg,SUMPRODUCT(LARGE((colk=$M$2)*ROW(colk)-12,ROW($A1))))) -> 0 | H13: =IF(ROW(H1)>COUNTIF(colk,$M$2),"",INDEX(colh,SUMPRODUCT(LARGE((colk=$M$2)*ROW(colk)-12,ROW($A1))))) -> 20 | I13: =IF(ROW(I1)>COUNTIF(colk,$M$2),"",INDEX(coli,SUMPRODUCT(LARGE((colk=$M$2)*ROW(colk)-12,ROW($A1))))) -> 42106 | J13: =IF(ROW(J1)>COUNTIF(colk,$M$2),"",INDEX(colk,SUMPRODUCT(LARGE((colk=$M$2)*ROW(colk)-12,ROW($A1))))) -> prébenoit | K13: =IF(ROW(K1)>COUNTIF(colk,$M$2),"",INDEX(colm,SUMPRODUCT(LARGE((colk=$M$2)*ROW(colk)-12,ROW($A1))))) -> 20 | L13: =IF(ROW(L1)>COUNTIF(colk,$M$2),"",INDEX(coln,SUMPRODUCT(LARGE((colk=$M$2)*ROW(colk)-12,ROW($A1))))) -> à renouveler
A14: =IF(ROW(A2)>COUNTIF(colk,$M$2),"",INDEX(cola,SUMPRODUCT(LARGE((colk=$M$2)*ROW(colk)-12,ROW($A2))))) | B14: =IF(ROW(B2)>COUNTIF(colk,$M$2),"",INDEX(colb,SUMPRODUCT(LARGE((colk=$M$2)*ROW(colk)-12,ROW($A2))))) | C14: =IF(ROW(C2)>COUNTIF(colk,$M$2),"",INDEX(colc,SUMPRODUCT(LARGE((colk=$M$2)*ROW(colk)-12,ROW($A2))))) | D14: =IF(ROW(D2)>COUNTIF(colk,$M$2),"",INDEX(cold,SUMPRODUCT(LARGE((colk=$M$2)*ROW(colk)-12,ROW($A2))))) | E14: =IF(ROW(E2)>COUNTIF(colk,$M$2),"",INDEX(cole,SUMPRODUCT(LARGE((colk=$M$2)*ROW(colk)-12,ROW($A2))))) | F14: =IF(ROW(F2)>COUNTIF(colk,$M$2),"",INDEX(colf,SUMPRODUCT(LARGE((colk=$M$2)*ROW(colk)-12,ROW($A2))))) | G14: =IF(ROW(G2)>COUNTIF(colk,$M$2),"",INDEX(colg,SUMPRODUCT(LARGE((colk=$M$2)*ROW(colk)-12,ROW($A2))))) | H14: =IF(ROW(H2)>COUNTIF(colk,$M$2),"",INDEX(colh,SUMPRODUCT(LARGE((colk=$M$2)*ROW(colk)-12,ROW($A2))))) | I14: =IF(ROW(I2)>COUNTIF(colk,$M$2),"",INDEX(coli,SUMPRODUCT(LARGE((colk=$M$2)*ROW(colk)-12,ROW($A2))))) | J14: =IF(ROW(J2)>COUNTIF(colk,$M$2),"",INDEX(colk,SUMPRODUCT(LARGE((colk=$M$2)*ROW(colk)-12,ROW($A2))))) | K14: =IF(ROW(K2)>COUNTIF(colk,$M$2),"",INDEX(colm,SUMPRODUCT(LARGE((colk=$M$2)*ROW(colk)-12,ROW($A2))))) | L14: =IF(ROW(L2)>COUNTIF(colk,$M$2),"",INDEX(coln,SUMPRODUCT(LARGE((colk=$M$2)*ROW(colk)-12,ROW($A2)))))
A15: =IF(ROW(A3)>COUNTIF(colk,$M$2),"",INDEX(cola,SUMPRODUCT(LARGE((colk=$M$2)*ROW(colk)-12,ROW($A3))))) | B15: =IF(ROW(B3)>COUNTIF(colk,$M$2),"",INDEX(colb,SUMPRODUCT(LARGE((colk=$M$2)*ROW(colk)-12,ROW($A3))))) | C15: =IF(ROW(C3)>COUNTIF(colk,$M$2),"",INDEX(colc,SUMPRODUCT(LARGE((colk=$M$2)*ROW(colk)-12,ROW($A3))))) | D15: =IF(ROW(D3)>COUNTIF(colk,$M$2),"",INDEX(cold,SUMPRODUCT(LARGE((colk=$M$2)*ROW(colk)-12,ROW($A3))))) | E15: =IF(ROW(E3)>COUNTIF(colk,$M$2),"",INDEX(cole,SUMPRODUCT(LARGE((colk=$M$2)*ROW(colk)-12,ROW($A3))))) | F15: =IF(ROW(F3)>COUNTIF(colk,$M$2),"",INDEX(colf,SUMPRODUCT(LARGE((colk=$M$2)*ROW(colk)-12,ROW($A3))))) | G15: =IF(ROW(G3)>COUNTIF(colk,$M$2),"",INDEX(colg,SUMPRODUCT(LARGE((colk=$M$2)*ROW(colk)-12,ROW($A3))))) | H15: =IF(ROW(H3)>COUNTIF(colk,$M$2),"",INDEX(colh,SUMPRODUCT(LARGE((colk=$M$2)*ROW(colk)-12,ROW($A3))))) | I15: =IF(ROW(I3)>COUNTIF(colk,$M$2),"",INDEX(coli,SUMPRODUCT(LARGE((colk=$M$2)*ROW(colk)-12,ROW($A3))))) | J15: =IF(ROW(J3)>COUNTIF(colk,$M$2),"",INDEX(colk,SUMPRODUCT(LARGE((colk=$M$2)*ROW(colk)-12,ROW($A3))))) | K15: =IF(ROW(K3)>COUNTIF(colk,$M$2),"",INDEX(colm,SUMPRODUCT(LARGE((colk=$M$2)*ROW(colk)-12,ROW($A3))))) | L15: =IF(ROW(L3)>COUNTIF(colk,$M$2),"",INDEX(coln,SUMPRODUCT(LARGE((colk=$M$2)*ROW(colk)-12,ROW($A3)))))
A16: =IF(ROW(A4)>COUNTIF(colk,$M$2),"",INDEX(cola,SUMPRODUCT(LARGE((colk=$M$2)*ROW(colk)-12,ROW($A4))))) | B16: =IF(ROW(B4)>COUNTIF(colk,$M$2),"",INDEX(colb,SUMPRODUCT(LARGE((colk=$M$2)*ROW(colk)-12,ROW($A4))))) | C16: =IF(ROW(C4)>COUNTIF(colk,$M$2),"",INDEX(colc,SUMPRODUCT(LARGE((colk=$M$2)*ROW(colk)-12,ROW($A4))))) | D16: =IF(ROW(D4)>COUNTIF(colk,$M$2),"",INDEX(cold,SUMPRODUCT(LARGE((colk=$M$2)*ROW(colk)-12,ROW($A4))))) | E16: =IF(ROW(E4)>COUNTIF(colk,$M$2),"",INDEX(cole,SUMPRODUCT(LARGE((colk=$M$2)*ROW(colk)-12,ROW($A4))))) | F16: =IF(ROW(F4)>COUNTIF(colk,$M$2),"",INDEX(colf,SUMPRODUCT(LARGE((colk=$M$2)*ROW(colk)-12,ROW($A4))))) | G16: =IF(ROW(G4)>COUNTIF(colk,$M$2),"",INDEX(colg,SUMPRODUCT(LARGE((colk=$M$2)*ROW(colk)-12,ROW($A4))))) | H16: =IF(ROW(H4)>COUNTIF(colk,$M$2),"",INDEX(colh,SUMPRODUCT(LARGE((colk=$M$2)*ROW(colk)-12,ROW($A4))))) | I16: =IF(ROW(I4)>COUNTIF(colk,$M$2),"",INDEX(coli,SUMPRODUCT(LARGE((colk=$M$2)*ROW(colk)-12,ROW($A4))))) | J16: =IF(ROW(J4)>COUNTIF(colk,$M$2),"",INDEX(colk,SUMPRODUCT(LARGE((colk=$M$2)*ROW(colk)-12,ROW($A4))))) | K16: =IF(ROW(K4)>COUNTIF(colk,$M$2),"",INDEX(colm,SUMPRODUCT(LARGE((colk=$M$2)*ROW(colk)-12,ROW($A4))))) | L16: =IF(ROW(L4)>COUNTIF(colk,$M$2),"",INDEX(coln,SUMPRODUCT(LARGE((colk=$M$2)*ROW(colk)-12,ROW($A4)))))
A17: =IF(ROW(A5)>COUNTIF(colk,$M$2),"",INDEX(cola,SUMPRODUCT(LARGE((colk=$M$2)*ROW(colk)-12,ROW($A5))))) | B17: =IF(ROW(B5)>COUNTIF(colk,$M$2),"",INDEX(colb,SUMPRODUCT(LARGE((colk=$M$2)*ROW(colk)-12,ROW($A5))))) | C17: =IF(ROW(C5)>COUNTIF(colk,$M$2),"",INDEX(colc,SUMPRODUCT(LARGE((colk=$M$2)*ROW(colk)-12,ROW($A5))))) | D17: =IF(ROW(D5)>COUNTIF(colk,$M$2),"",INDEX(cold,SUMPRODUCT(LARGE((colk=$M$2)*ROW(colk)-12,ROW($A5))))) | E17: =IF(ROW(E5)>COUNTIF(colk,$M$2),"",INDEX(cole,SUMPRODUCT(LARGE((colk=$M$2)*ROW(colk)-12,ROW($A5))))) | F17: =IF(ROW(F5)>COUNTIF(colk,$M$2),"",INDEX(colf,SUMPRODUCT(LARGE((colk=$M$2)*ROW(colk)-12,ROW($A5))))) | G17: =IF(ROW(G5)>COUNTIF(colk,$M$2),"",INDEX(colg,SUMPRODUCT(LARGE((colk=$M$2)*ROW(colk)-12,ROW($A5))))) | H17: =IF(ROW(H5)>COUNTIF(colk,$M$2),"",INDEX(colh,SUMPRODUCT(LARGE((colk=$M$2)*ROW(colk)-12,ROW($A5))))) | I17: =IF(ROW(I5)>COUNTIF(colk,$M$2),"",INDEX(coli,SUMPRODUCT(LARGE((colk=$M$2)*ROW(colk)-12,ROW($A5))))) | J17: =IF(ROW(J5)>COUNTIF(colk,$M$2),"",INDEX(colk,SUMPRODUCT(LARGE((colk=$M$2)*ROW(colk)-12,ROW($A5))))) | K17: =IF(ROW(K5)>COUNTIF(colk,$M$2),"",INDEX(colm,SUMPRODUCT(LARGE((colk=$M$2)*ROW(colk)-12,ROW($A5))))) | L17: =IF(ROW(L5)>COUNTIF(colk,$M$2),"",INDEX(coln,SUMPRODUCT(LARGE((colk=$M$2)*ROW(colk)-12,ROW($A5)))))
A18: =IF(ROW(A6)>COUNTIF(colk,$M$2),"",INDEX(cola,SUMPRODUCT(LARGE((colk=$M$2)*ROW(colk)-12,ROW($A6))))) | B18: =IF(ROW(B6)>COUNTIF(colk,$M$2),"",INDEX(colb,SUMPRODUCT(LARGE((colk=$M$2)*ROW(colk)-12,ROW($A6))))) | C18: =IF(ROW(C6)>COUNTIF(colk,$M$2),"",INDEX(colc,SUMPRODUCT(LARGE((colk=$M$2)*ROW(colk)-12,ROW($A6))))) | D18: =IF(ROW(D6)>COUNTIF(colk,$M$2),"",INDEX(cold,SUMPRODUCT(LARGE((colk=$M$2)*ROW(colk)-12,ROW($A6))))) | E18: =IF(ROW(E6)>COUNTIF(colk,$M$2),"",INDEX(cole,SUMPRODUCT(LARGE((colk=$M$2)*ROW(colk)-12,ROW($A6))))) | F18: =IF(ROW(F6)>COUNTIF(colk,$M$2),"",INDEX(colf,SUMPRODUCT(LARGE((colk=$M$2)*ROW(colk)-12,ROW($A6))))) | G18: =IF(ROW(G6)>COUNTIF(colk,$M$2),"",INDEX(colg,SUMPRODUCT(LARGE((colk=$M$2)*ROW(colk)-12,ROW($A6))))) | H18: =IF(ROW(H6)>COUNTIF(colk,$M$2),"",INDEX(colh,SUMPRODUCT(LARGE((colk=$M$2)*ROW(colk)-12,ROW($A6))))) | I18: =IF(ROW(I6)>COUNTIF(colk,$M$2),"",INDEX(coli,SUMPRODUCT(LARGE((colk=$M$2)*ROW(colk)-12,ROW($A6))))) | J18: =IF(ROW(J6)>COUNTIF(colk,$M$2),"",INDEX(colk,SUMPRODUCT(LARGE((colk=$M$2)*ROW(colk)-12,ROW($A6))))) | K18: =IF(ROW(K6)>COUNTIF(colk,$M$2),"",INDEX(colm,SUMPRODUCT(LARGE((colk=$M$2)*ROW(colk)-12,ROW($A6))))) | L18: =IF(ROW(L6)>COUNTIF(colk,$M$2),"",INDEX(coln,SUMPRODUCT(LARGE((colk=$M$2)*ROW(colk)-12,ROW($A6)))))
A19: =IF(ROW(A7)>COUNTIF(colk,$M$2),"",INDEX(cola,SUMPRODUCT(LARGE((colk=$M$2)*ROW(colk)-12,ROW($A7))))) | B19: =IF(ROW(B7)>COUNTIF(colk,$M$2),"",INDEX(colb,SUMPRODUCT(LARGE((colk=$M$2)*ROW(colk)-12,ROW($A7))))) | C19: =IF(ROW(C7)>COUNTIF(colk,$M$2),"",INDEX(colc,SUMPRODUCT(LARGE((colk=$M$2)*ROW(colk)-12,ROW($A7))))) | D19: =IF(ROW(D7)>COUNTIF(colk,$M$2),"",INDEX(cold,SUMPRODUCT(LARGE((colk=$M$2)*ROW(colk)-12,ROW($A7))))) | E19: =IF(ROW(E7)>COUNTIF(colk,$M$2),"",INDEX(cole,SUMPRODUCT(LARGE((colk=$M$2)*ROW(colk)-12,ROW($A7))))) | F19: =IF(ROW(F7)>COUNTIF(colk,$M$2),"",INDEX(colf,SUMPRODUCT(LARGE((colk=$M$2)*ROW(colk)-12,ROW($A7))))) | G19: =IF(ROW(G7)>COUNTIF(colk,$M$2),"",INDEX(colg,SUMPRODUCT(LARGE((colk=$M$2)*ROW(colk)-12,ROW($A7))))) | H19: =IF(ROW(H7)>COUNTIF(colk,$M$2),"",INDEX(colh,SUMPRODUCT(LARGE((colk=$M$2)*ROW(colk)-12,ROW($A7))))) | I19: =IF(ROW(I7)>COUNTIF(colk,$M$2),"",INDEX(coli,SUMPRODUCT(LARGE((colk=$M$2)*ROW(colk)-12,ROW($A7))))) | J19: =IF(ROW(J7)>COUNTIF(colk,$M$2),"",INDEX(colk,SUMPRODUCT(LARGE((colk=$M$2)*ROW(colk)-12,ROW($A7))))) | K19: =IF(ROW(K7)>COUNTIF(colk,$M$2),"",INDEX(colm,SUMPRODUCT(LARGE((colk=$M$2)*ROW(colk)-12,ROW($A7))))) | L19: =IF(ROW(L7)>COUNTIF(colk,$M$2),"",INDEX(coln,SUMPRODUCT(LARGE((colk=$M$2)*ROW(colk)-12,ROW($A7)))))
A20: =IF(ROW(A8)>COUNTIF(colk,$M$2),"",INDEX(cola,SUMPRODUCT(LARGE((colk=$M$2)*ROW(colk)-12,ROW($A8))))) | B20: =IF(ROW(B8)>COUNTIF(colk,$M$2),"",INDEX(colb,SUMPRODUCT(LARGE((colk=$M$2)*ROW(colk)-12,ROW($A8))))) | C20: =IF(ROW(C8)>COUNTIF(colk,$M$2),"",INDEX(colc,SUMPRODUCT(LARGE((colk=$M$2)*ROW(colk)-12,ROW($A8))))) | D20: =IF(ROW(D8)>COUNTIF(colk,$M$2),"",INDEX(cold,SUMPRODUCT(LARGE((colk=$M$2)*ROW(colk)-12,ROW($A8))))) | E20: =IF(ROW(E8)>COUNTIF(colk,$M$2),"",INDEX(cole,SUMPRODUCT(LARGE((colk=$M$2)*ROW(colk)-12,ROW($A8))))) | F20: =IF(ROW(F8)>COUNTIF(colk,$M$2),"",INDEX(colf,SUMPRODUCT(LARGE((colk=$M$2)*ROW(colk)-12,ROW($A8))))) | G20: =IF(ROW(G8)>COUNTIF(colk,$M$2),"",INDEX(colg,SUMPRODUCT(LARGE((colk=$M$2)*ROW(colk)-12,ROW($A8))))) | H20: =IF(ROW(H8)>COUNTIF(colk,$M$2),"",INDEX(colh,SUMPRODUCT(LARGE((colk=$M$2)*ROW(colk)-12,ROW($A8))))) | I20: =IF(ROW(I8)>COUNTIF(colk,$M$2),"",INDEX(coli,SUMPRODUCT(LARGE((colk=$M$2)*ROW(colk)-12,ROW($A8))))) | J20: =IF(ROW(J8)>COUNTIF(colk,$M$2),"",INDEX(colk,SUMPRODUCT(LARGE((colk=$M$2)*ROW(colk)-12,ROW($A8))))) | K20: =IF(ROW(K8)>COUNTIF(colk,$M$2),"",INDEX(colm,SUMPRODUCT(LARGE((colk=$M$2)*ROW(colk)-12,ROW($A8))))) | L20: =IF(ROW(L8)>COUNTIF(colk,$M$2),"",INDEX(coln,SUMPRODUCT(LARGE((colk=$M$2)*ROW(colk)-12,ROW($A8)))))
A21: =IF(ROW(A9)>COUNTIF(colk,$M$2),"",INDEX(cola,SUMPRODUCT(LARGE((colk=$M$2)*ROW(colk)-12,ROW($A9))))) | B21: =IF(ROW(B9)>COUNTIF(colk,$M$2),"",INDEX(colb,SUMPRODUCT(LARGE((colk=$M$2)*ROW(colk)-12,ROW($A9))))) | C21: =IF(ROW(C9)>COUNTIF(colk,$M$2),"",INDEX(colc,SUMPRODUCT(LARGE((colk=$M$2)*ROW(colk)-12,ROW($A9))))) | D21: =IF(ROW(D9)>COUNTIF(colk,$M$2),"",INDEX(cold,SUMPRODUCT(LARGE((colk=$M$2)*ROW(colk)-12,ROW($A9))))) | E21: =IF(ROW(E9)>COUNTIF(colk,$M$2),"",INDEX(cole,SUMPRODUCT(LARGE((colk=$M$2)*ROW(colk)-12,ROW($A9))))) | F21: =IF(ROW(F9)>COUNTIF(colk,$M$2),"",INDEX(colf,SUMPRODUCT(LARGE((colk=$M$2)*ROW(colk)-12,ROW($A9))))) | G21: =IF(ROW(G9)>COUNTIF(colk,$M$2),"",INDEX(colg,SUMPRODUCT(LARGE((colk=$M$2)*ROW(colk)-12,ROW($A9))))) | H21: =IF(ROW(H9)>COUNTIF(colk,$M$2),"",INDEX(colh,SUMPRODUCT(LARGE((colk=$M$2)*ROW(colk)-12,ROW($A9))))) | I21: =IF(ROW(I9)>COUNTIF(colk,$M$2),"",INDEX(coli,SUMPRODUCT(LARGE((colk=$M$2)*ROW(colk)-12,ROW($A9))))) | J21: =IF(ROW(J9)>COUNTIF(colk,$M$2),"",INDEX(colk,SUMPRODUCT(LARGE((colk=$M$2)*ROW(colk)-12,ROW($A9))))) | K21: =IF(ROW(K9)>COUNTIF(colk,$M$2),"",INDEX(colm,SUMPRODUCT(LARGE((colk=$M$2)*ROW(colk)-12,ROW($A9))))) | L21: =IF(ROW(L9)>COUNTIF(colk,$M$2),"",INDEX(coln,SUMPRODUCT(LARGE((colk=$M$2)*ROW(colk)-12,ROW($A9)))))
A22: =IF(ROW(A10)>COUNTIF(colk,$M$2),"",INDEX(cola,SUMPRODUCT(LARGE((colk=$M$2)*ROW(colk)-12,ROW($A10))))) | B22: =IF(ROW(B10)>COUNTIF(colk,$M$2),"",INDEX(colb,SUMPRODUCT(LARGE((colk=$M$2)*ROW(colk)-12,ROW($A10))))) | C22: =IF(ROW(C10)>COUNTIF(colk,$M$2),"",INDEX(colc,SUMPRODUCT(LARGE((colk=$M$2)*ROW(colk)-12,ROW($A10))))) | D22: =IF(ROW(D10)>COUNTIF(colk,$M$2),"",INDEX(cold,SUMPRODUCT(LARGE((colk=$M$2)*ROW(colk)-12,ROW($A10))))) | E22: =IF(ROW(E10)>COUNTIF(colk,$M$2),"",INDEX(cole,SUMPRODUCT(LARGE((colk=$M$2)*ROW(colk)-12,ROW($A10))))) | F22: =IF(ROW(F10)>COUNTIF(colk,$M$2),"",INDEX(colf,SUMPRODUCT(LARGE((colk=$M$2)*ROW(colk)-12,ROW($A10))))) | G22: =IF(ROW(G10)>COUNTIF(colk,$M$2),"",INDEX(colg,SUMPRODUCT(LARGE((colk=$M$2)*ROW(colk)-12,ROW($A10))))) | H22: =IF(ROW(H10)>COUNTIF(colk,$M$2),"",INDEX(colh,SUMPRODUCT(LARGE((colk=$M$2)*ROW(colk)-12,ROW($A10))))) | I22: =IF(ROW(I10)>COUNTIF(colk,$M$2),"",INDEX(coli,SUMPRODUCT(LARGE((colk=$M$2)*ROW(colk)-12,ROW($A10))))) | J22: =IF(ROW(J10)>COUNTIF(colk,$M$2),"",INDEX(colk,SUMPRODUCT(LARGE((colk=$M$2)*ROW(colk)-12,ROW($A10))))) | K22: =IF(ROW(K10)>COUNTIF(colk,$M$2),"",INDEX(colm,SUMPRODUCT(LARGE((colk=$M$2)*ROW(colk)-12,ROW($A10))))) | L22: =IF(ROW(L10)>COUNTIF(colk,$M$2),"",INDEX(coln,SUMPRODUCT(LARGE((colk=$M$2)*ROW(colk)-12,ROW($A10)))))
A23: =IF(ROW(A11)>COUNTIF(colk,$M$2),"",INDEX(cola,SUMPRODUCT(LARGE((colk=$M$2)*ROW(colk)-12,ROW($A11))))) | B23: =IF(ROW(B11)>COUNTIF(colk,$M$2),"",INDEX(colb,SUMPRODUCT(LARGE((colk=$M$2)*ROW(colk)-12,ROW($A11))))) | C23: =IF(ROW(C11)>COUNTIF(colk,$M$2),"",INDEX(colc,SUMPRODUCT(LARGE((colk=$M$2)*ROW(colk)-12,ROW($A11))))) | D23: =IF(ROW(D11)>COUNTIF(colk,$M$2),"",INDEX(cold,SUMPRODUCT(LARGE((colk=$M$2)*ROW(colk)-12,ROW($A11))))) | E23: =IF(ROW(E11)>COUNTIF(colk,$M$2),"",INDEX(cole,SUMPRODUCT(LARGE((colk=$M$2)*ROW(colk)-12,ROW($A11))))) | F23: =IF(ROW(F11)>COUNTIF(colk,$M$2),"",INDEX(colf,SUMPRODUCT(LARGE((colk=$M$2)*ROW(colk)-12,ROW($A11))))) | G23: =IF(ROW(G11)>COUNTIF(colk,$M$2),"",INDEX(colg,SUMPRODUCT(LARGE((colk=$M$2)*ROW(colk)-12,ROW($A11))))) | H23: =IF(ROW(H11)>COUNTIF(colk,$M$2),"",INDEX(colh,SUMPRODUCT(LARGE((colk=$M$2)*ROW(colk)-12,ROW($A11))))) | I23: =IF(ROW(I11)>COUNTIF(colk,$M$2),"",INDEX(coli,SUMPRODUCT(LARGE((colk=$M$2)*ROW(colk)-12,ROW($A11))))) | J23: =IF(ROW(J11)>COUNTIF(colk,$M$2),"",INDEX(colk,SUMPRODUCT(LARGE((colk=$M$2)*ROW(colk)-12,ROW($A11))))) | K23: =IF(ROW(K11)>COUNTIF(colk,$M$2),"",INDEX(colm,SUMPRODUCT(LARGE((colk=$M$2)*ROW(colk)-12,ROW($A11))))) | L23: =IF(ROW(L11)>COUNTIF(colk,$M$2),"",INDEX(coln,SUMPRODUCT(LARGE((colk=$M$2)*ROW(colk)-12,ROW($A11)))))
A24: =IF(ROW(A12)>COUNTIF(colk,$M$2),"",INDEX(cola,SUMPRODUCT(LARGE((colk=$M$2)*ROW(colk)-12,ROW($A12))))) | B24: =IF(ROW(B12)>COUNTIF(colk,$M$2),"",INDEX(colb,SUMPRODUCT(LARGE((colk=$M$2)*ROW(colk)-12,ROW($A12))))) | C24: =IF(ROW(C12)>COUNTIF(colk,$M$2),"",INDEX(colc,SUMPRODUCT(LARGE((colk=$M$2)*ROW(colk)-12,ROW($A12))))) | D24: =IF(ROW(D12)>COUNTIF(colk,$M$2),"",INDEX(cold,SUMPRODUCT(LARGE((colk=$M$2)*ROW(colk)-12,ROW($A12))))) | E24: =IF(ROW(E12)>COUNTIF(colk,$M$2),"",INDEX(cole,SUMPRODUCT(LARGE((colk=$M$2)*ROW(colk)-12,ROW($A12))))) | F24: =IF(ROW(F12)>COUNTIF(colk,$M$2),"",INDEX(colf,SUMPRODUCT(LARGE((colk=$M$2)*ROW(colk)-12,ROW($A12))))) | G24: =IF(ROW(G12)>COUNTIF(colk,$M$2),"",INDEX(colg,SUMPRODUCT(LARGE((colk=$M$2)*ROW(colk)-12,ROW($A12))))) | H24: =IF(ROW(H12)>COUNTIF(colk,$M$2),"",INDEX(colh,SUMPRODUCT(LARGE((colk=$M$2)*ROW(colk)-12,ROW($A12))))) | I24: =IF(ROW(I12)>COUNTIF(colk,$M$2),"",INDEX(coli,SUMPRODUCT(LARGE((colk=$M$2)*ROW(colk)-12,ROW($A12))))) | J24: =IF(ROW(J12)>COUNTIF(colk,$M$2),"",INDEX(colk,SUMPRODUCT(LARGE((colk=$M$2)*ROW(colk)-12,ROW($A12))))) | K24: =IF(ROW(K12)>COUNTIF(colk,$M$2),"",INDEX(colm,SUMPRODUCT(LARGE((colk=$M$2)*ROW(colk)-12,ROW($A12))))) | L24: =IF(ROW(L12)>COUNTIF(colk,$M$2),"",INDEX(coln,SUMPRODUCT(LARGE((colk=$M$2)*ROW(colk)-12,ROW($A12)))))
... A38: =IF(ROW(A26)>COUNTIF(colk,$M$2),"",INDEX(cola,SUMPRODUCT(LARGE((colk=$M$2)*ROW(colk)-12,ROW($A26))))) | B38: =IF(ROW(B26)>COUNTIF(colk,$M$2),"",INDEX(colb,SUMPRODUCT(LARGE((colk=$M$2)*ROW(colk)-12,ROW($A26))))) | C38: =IF(ROW(C26)>COUNTIF(colk,$M$2),"",INDEX(colc,SUMPRODUCT(LARGE((colk=$M$2)*ROW(colk)-12,ROW($A26))))) | D38: =IF(ROW(D26)>COUNTIF(colk,$M$2),"",INDEX(cold,SUMPRODUCT(LARGE((colk=$M$2)*ROW(colk)-12,ROW($A26))))) | E38: =IF(ROW(E26)>COUNTIF(colk,$M$2),"",INDEX(cole,SUMPRODUCT(LARGE((colk=$M$2)*ROW(colk)-12,ROW($A26))))) | F38: =IF(ROW(F26)>COUNTIF(colk,$M$2),"",INDEX(colf,SUMPRODUCT(LARGE((colk=$M$2)*ROW(colk)-12,ROW($A26))))) | G38: =IF(ROW(G26)>COUNTIF(colk,$M$2),"",INDEX(colg,SUMPRODUCT(LARGE((colk=$M$2)*ROW(colk)-12,ROW($A26))))) | H38: =IF(ROW(H26)>COUNTIF(colk,$M$2),"",INDEX(colh,SUMPRODUCT(LARGE((colk=$M$2)*ROW(colk)-12,ROW($A26))))) | I38: =IF(ROW(I26)>COUNTIF(colk,$M$2),"",INDEX(coli,SUMPRODUCT(LARGE((colk=$M$2)*ROW(colk)-12,ROW($A26))))) | J38: =IF(ROW(J26)>COUNTIF(colk,$M$2),"",INDEX(colk,SUMPRODUCT(LARGE((colk=$M$2)*ROW(colk)-12,ROW($A26))))) | K38: =IF(ROW(K26)>COUNTIF(colk,$M$2),"",INDEX(colm,SUMPRODUCT(LARGE((colk=$M$2)*ROW(colk)-12,ROW($A26))))) | L38: =IF(ROW(L26)>COUNTIF(colk,$M$2),"",INDEX(coln,SUMPRODUCT(LARGE((colk=$M$2)*ROW(colk)-12,ROW($A26)))))

Sheet la bourboule
M2: la bourboule
G5: objets
G6: restants | H6: vendus | K6: recettes
G7: =COUNTIF(G13:G150,1) -> 4 | H7: =COUNTIF($L$13:$L$500,"à renouveler") -> 0 | K7: =SUBTOTAL(9,K13:K500) -> 0
A12: DATE DEPOT | B12: OBJET | C12: BOIS | D12: VARIETE | E12: REMARQUE | F12: N° | G12: Q | H12: PRIX unité | I12: DATE VENTE | J12: DEPOT | K12: REC AUTRE | L12: N°libre
A13: =IF(ROW(A1)>COUNTIF(colk,$M$2),"",INDEX(cola,SUMPRODUCT(LARGE((colk=$M$2)*ROW(colk)-12,ROW($A1))))) -> 0 | B13: =IF(ROW(B1)>COUNTIF(colk,$M$2),"",INDEX(colb,SUMPRODUCT(LARGE((colk=$M$2)*ROW(colk)-12,ROW($A1))))) -> assiette gm | C13: =IF(ROW(C1)>COUNTIF(colk,$M$2),"",INDEX(colc,SUMPRODUCT(LARGE((colk=$M$2)*ROW(colk)-12,ROW($A1))))) -> wa | D13: =IF(ROW(D1)>COUNTIF(colk,$M$2),"",INDEX(cold,SUMPRODUCT(LARGE((colk=$M$2)*ROW(colk)-12,ROW($A1))))) -> wacapou | E13: =IF(ROW(E1)>COUNTIF(colk,$M$2),"",INDEX(cole,SUMPRODUCT(LARGE((colk=$M$2)*ROW(colk)-12,ROW($A1))))) -> excentrée | F13: =IF(ROW(F1)>COUNTIF(colk,$M$2),"",INDEX(colf,SUMPRODUCT(LARGE((colk=$M$2)*ROW(colk)-12,ROW($A1))))) -> 15079 | G13: =IF(ROW(G1)>COUNTIF(colk,$M$2),"",INDEX(colg,SUMPRODUCT(LARGE((colk=$M$2)*ROW(colk)-12,ROW($A1))))) -> 1 | H13: =IF(ROW(H1)>COUNTIF(colk,$M$2),"",INDEX(colh,SUMPRODUCT(LARGE((colk=$M$2)*ROW(colk)-12,ROW($A1))))) -> 20 | I13: =IF(ROW(I1)>COUNTIF(colk,$M$2),"",INDEX(coli,SUMPRODUCT(LARGE((colk=$M$2)*ROW(colk)-12,ROW($A1))))) -> 0 | J13: =IF(ROW(J1)>COUNTIF(colk,$M$2),"",INDEX(colk,SUMPRODUCT(LARGE((colk=$M$2)*ROW(colk)-12,ROW($A1))))) -> la bourboule | K13: =IF(ROW(K1)>COUNTIF(colk,$M$2),"",INDEX(colm,SUMPRODUCT(LARGE((colk=$M$2)*ROW(colk)-12,ROW($A1))))) | L13: =IF(ROW(L1)>COUNTIF(colk,$M$2),"",INDEX(coln,SUMPRODUCT(LARGE((colk=$M$2)*ROW(colk)-12,ROW($A1)))))
A14: =IF(ROW(A2)>COUNTIF(colk,$M$2),"",INDEX(cola,SUMPRODUCT(LARGE((colk=$M$2)*ROW(colk)-12,ROW($A2))))) -> 0 | B14: =IF(ROW(B2)>COUNTIF(colk,$M$2),"",INDEX(colb,SUMPRODUCT(LARGE((colk=$M$2)*ROW(colk)-12,ROW($A2))))) -> coupe pm | C14: =IF(ROW(C2)>COUNTIF(colk,$M$2),"",INDEX(colc,SUMPRODUCT(LARGE((colk=$M$2)*ROW(colk)-12,ROW($A2))))) -> poi | D14: =IF(ROW(D2)>COUNTIF(colk,$M$2),"",INDEX(cold,SUMPRODUCT(LARGE((colk=$M$2)*ROW(colk)-12,ROW($A2))))) -> poirier | E14: =IF(ROW(E2)>COUNTIF(colk,$M$2),"",INDEX(cole,SUMPRODUCT(LARGE((colk=$M$2)*ROW(colk)-12,ROW($A2))))) -> 0 | F14: =IF(ROW(F2)>COUNTIF(colk,$M$2),"",INDEX(colf,SUMPRODUCT(LARGE((colk=$M$2)*ROW(colk)-12,ROW($A2))))) -> 15082 | G14: =IF(ROW(G2)>COUNTIF(colk,$M$2),"",INDEX(colg,SUMPRODUCT(LARGE((colk=$M$2)*ROW(colk)-12,ROW($A2))))) -> 1 | H14: =IF(ROW(H2)>COUNTIF(colk,$M$2),"",INDEX(colh,SUMPRODUCT(LARGE((colk=$M$2)*ROW(colk)-12,ROW($A2))))) -> 30 | I14: =IF(ROW(I2)>COUNTIF(colk,$M$2),"",INDEX(coli,SUMPRODUCT(LARGE((colk=$M$2)*ROW(colk)-12,ROW($A2))))) -> 0 | J14: =IF(ROW(J2)>COUNTIF(colk,$M$2),"",INDEX(colk,SUMPRODUCT(LARGE((colk=$M$2)*ROW(colk)-12,ROW($A2))))) -> la bourboule | K14: =IF(ROW(K2)>COUNTIF(colk,$M$2),"",INDEX(colm,SUMPRODUCT(LARGE((colk=$M$2)*ROW(colk)-12,ROW($A2))))) | L14: =IF(ROW(L2)>COUNTIF(colk,$M$2),"",INDEX(coln,SUMPRODUCT(LARGE((colk=$M$2)*ROW(colk)-12,ROW($A2)))))
A15: =IF(ROW(A3)>COUNTIF(colk,$M$2),"",INDEX(cola,SUMPRODUCT(LARGE((colk=$M$2)*ROW(colk)-12,ROW($A3))))) -> 0 | B15: =IF(ROW(B3)>COUNTIF(colk,$M$2),"",INDEX(colb,SUMPRODUCT(LARGE((colk=$M$2)*ROW(colk)-12,ROW($A3))))) -> mortier et pilon mm | C15: =IF(ROW(C3)>COUNTIF(colk,$M$2),"",INDEX(colc,SUMPRODUCT(LARGE((colk=$M$2)*ROW(colk)-12,ROW($A3))))) -> poi | D15: =IF(ROW(D3)>COUNTIF(colk,$M$2),"",INDEX(cold,SUMPRODUCT(LARGE((colk=$M$2)*ROW(colk)-12,ROW($A3))))) -> poirier | E15: =IF(ROW(E3)>COUNTIF(colk,$M$2),"",INDEX(cole,SUMPRODUCT(LARGE((colk=$M$2)*ROW(colk)-12,ROW($A3))))) -> pilon buis | F15: =IF(ROW(F3)>COUNTIF(colk,$M$2),"",INDEX(colf,SUMPRODUCT(LARGE((colk=$M$2)*ROW(colk)-12,ROW($A3))))) -> 15083 | G15: =IF(ROW(G3)>COUNTIF(colk,$M$2),"",INDEX(colg,SUMPRODUCT(LARGE((colk=$M$2)*ROW(colk)-12,ROW($A3))))) -> 1 | H15: =IF(ROW(H3)>COUNTIF(colk,$M$2),"",INDEX(colh,SUMPRODUCT(LARGE((colk=$M$2)*ROW(colk)-12,ROW($A3))))) -> 30 | I15: =IF(ROW(I3)>COUNTIF(colk,$M$2),"",INDEX(coli,SUMPRODUCT(LARGE((colk=$M$2)*ROW(colk)-12,ROW($A3))))) -> 0 | J15: =IF(ROW(J3)>COUNTIF(colk,$M$2),"",INDEX(colk,SUMPRODUCT(LARGE((colk=$M$2)*ROW(colk)-12,ROW($A3))))) -> la bourboule | K15: =IF(ROW(K3)>COUNTIF(colk,$M$2),"",INDEX(colm,SUMPRODUCT(LARGE((colk=$M$2)*ROW(colk)-12,ROW($A3))))) | L15: =IF(ROW(L3)>COUNTIF(colk,$M$2),"",INDEX(coln,SUMPRODUCT(LARGE((colk=$M$2)*ROW(colk)-12,ROW($A3)))))
A16: =IF(ROW(A4)>COUNTIF(colk,$M$2),"",INDEX(cola,SUMPRODUCT(LARGE((colk=$M$2)*ROW(colk)-12,ROW($A4))))) | B16: =IF(ROW(B4)>COUNTIF(colk,$M$2),"",INDEX(colb,SUMPRODUCT(LARGE((colk=$M$2)*ROW(colk)-12,ROW($A4))))) | C16: =IF(ROW(C4)>COUNTIF(colk,$M$2),"",INDEX(colc,SUMPRODUCT(LARGE((colk=$M$2)*ROW(colk)-12,ROW($A4))))) | D16: =IF(ROW(D4)>COUNTIF(colk,$M$2),"",INDEX(cold,SUMPRODUCT(LARGE((colk=$M$2)*ROW(colk)-12,ROW($A4))))) | E16: =IF(ROW(E4)>COUNTIF(colk,$M$2),"",INDEX(cole,SUMPRODUCT(LARGE((colk=$M$2)*ROW(colk)-12,ROW($A4))))) | F16: =IF(ROW(F4)>COUNTIF(colk,$M$2),"",INDEX(colf,SUMPRODUCT(LARGE((colk=$M$2)*ROW(colk)-12,ROW($A4))))) | G16: =IF(ROW(G4)>COUNTIF(colk,$M$2),"",INDEX(colg,SUMPRODUCT(LARGE((colk=$M$2)*ROW(colk)-12,ROW($A4))))) | H16: =IF(ROW(H4)>COUNTIF(colk,$M$2),"",INDEX(colh,SUMPRODUCT(LARGE((colk=$M$2)*ROW(colk)-12,ROW($A4))))) | I16: =IF(ROW(I4)>COUNTIF(colk,$M$2),"",INDEX(coli,SUMPRODUCT(LARGE((colk=$M$2)*ROW(colk)-12,ROW($A4))))) | J16: =IF(ROW(J4)>COUNTIF(colk,$M$2),"",INDEX(colk,SUMPRODUCT(LARGE((colk=$M$2)*ROW(colk)-12,ROW($A4))))) | K16: =IF(ROW(K4)>COUNTIF(colk,$M$2),"",INDEX(colm,SUMPRODUCT(LARGE((colk=$M$2)*ROW(colk)-12,ROW($A4))))) | L16: =IF(ROW(L4)>COUNTIF(colk,$M$2),"",INDEX(coln,SUMPRODUCT(LARGE((colk=$M$2)*ROW(colk)-12,ROW($A4)))))
A17: =IF(ROW(A5)>COUNTIF(colk,$M$2),"",INDEX(cola,SUMPRODUCT(LARGE((colk=$M$2)*ROW(colk)-12,ROW($A5))))) | B17: =IF(ROW(B5)>COUNTIF(colk,$M$2),"",INDEX(colb,SUMPRODUCT(LARGE((colk=$M$2)*ROW(colk)-12,ROW($A5))))) | C17: =IF(ROW(C5)>COUNTIF(colk,$M$2),"",INDEX(colc,SUMPRODUCT(LARGE((colk=$M$2)*ROW(colk)-12,ROW($A5))))) | D17: =IF(ROW(D5)>COUNTIF(colk,$M$2),"",INDEX(cold,SUMPRODUCT(LARGE((colk=$M$2)*ROW(colk)-12,ROW($A5))))) | E17: =IF(ROW(E5)>COUNTIF(colk,$M$2),"",INDEX(cole,SUMPRODUCT(LARGE((colk=$M$2)*ROW(colk)-12,ROW($A5))))) | F17: =IF(ROW(F5)>COUNTIF(colk,$M$2),"",INDEX(colf,SUMPRODUCT(LARGE((colk=$M$2)*ROW(colk)-12,ROW($A5))))) | G17: =IF(ROW(G5)>COUNTIF(colk,$M$2),"",INDEX(colg,SUMPRODUCT(LARGE((colk=$M$2)*ROW(colk)-12,ROW($A5))))) | H17: =IF(ROW(H5)>COUNTIF(colk,$M$2),"",INDEX(colh,SUMPRODUCT(LARGE((colk=$M$2)*ROW(colk)-12,ROW($A5))))) | I17: =IF(ROW(I5)>COUNTIF(colk,$M$2),"",INDEX(coli,SUMPRODUCT(LARGE((colk=$M$2)*ROW(colk)-12,ROW($A5))))) | J17: =IF(ROW(J5)>COUNTIF(colk,$M$2),"",INDEX(colk,SUMPRODUCT(LARGE((colk=$M$2)*ROW(colk)-12,ROW($A5))))) | K17: =IF(ROW(K5)>COUNTIF(colk,$M$2),"",INDEX(colm,SUMPRODUCT(LARGE((colk=$M$2)*ROW(colk)-12,ROW($A5))))) | L17: =IF(ROW(L5)>COUNTIF(colk,$M$2),"",INDEX(coln,SUMPRODUCT(LARGE((colk=$M$2)*ROW(colk)-12,ROW($A5)))))
A18: =IF(ROW(A6)>COUNTIF(colk,$M$2),"",INDEX(cola,SUMPRODUCT(LARGE((colk=$M$2)*ROW(colk)-12,ROW($A6))))) | B18: =IF(ROW(B6)>COUNTIF(colk,$M$2),"",INDEX(colb,SUMPRODUCT(LARGE((colk=$M$2)*ROW(colk)-12,ROW($A6))))) | C18: =IF(ROW(C6)>COUNTIF(colk,$M$2),"",INDEX(colc,SUMPRODUCT(LARGE((colk=$M$2)*ROW(colk)-12,ROW($A6))))) | D18: =IF(ROW(D6)>COUNTIF(colk,$M$2),"",INDEX(cold,SUMPRODUCT(LARGE((colk=$M$2)*ROW(colk)-12,ROW($A6))))) | E18: =IF(ROW(E6)>COUNTIF(colk,$M$2),"",INDEX(cole,SUMPRODUCT(LARGE((colk=$M$2)*ROW(colk)-12,ROW($A6))))) | F18: =IF(ROW(F6)>COUNTIF(colk,$M$2),"",INDEX(colf,SUMPRODUCT(LARGE((colk=$M$2)*ROW(colk)-12,ROW($A6))))) | G18: =IF(ROW(G5)>COUNTIF(colk,$M$2),"",INDEX(colg,SUMPRODUCT(LARGE((colk=$M$2)*ROW(colk)-12,ROW($A6))))) | H18: =IF(ROW(H6)>COUNTIF(colk,$M$2),"",INDEX(colh,SUMPRODUCT(LARGE((colk=$M$2)*ROW(colk)-12,ROW($A6))))) | I18: =IF(ROW(I6)>COUNTIF(colk,$M$2),"",INDEX(coli,SUMPRODUCT(LARGE((colk=$M$2)*ROW(colk)-12,ROW($A6))))) | J18: =IF(ROW(J6)>COUNTIF(colk,$M$2),"",INDEX(colk,SUMPRODUCT(LARGE((colk=$M$2)*ROW(colk)-12,ROW($A6))))) | K18: =IF(ROW(K6)>COUNTIF(colk,$M$2),"",INDEX(colm,SUMPRODUCT(LARGE((colk=$M$2)*ROW(colk)-12,ROW($A6))))) | L18: =IF(ROW(L6)>COUNTIF(colk,$M$2),"",INDEX(coln,SUMPRODUCT(LARGE((colk=$M$2)*ROW(colk)-12,ROW($A6)))))
A19: =IF(ROW(A7)>COUNTIF(colk,$M$2),"",INDEX(cola,SUMPRODUCT(LARGE((colk=$M$2)*ROW(colk)-12,ROW($A7))))) | B19: =IF(ROW(B7)>COUNTIF(colk,$M$2),"",INDEX(colb,SUMPRODUCT(LARGE((colk=$M$2)*ROW(colk)-12,ROW($A7))))) | C19: =IF(ROW(C7)>COUNTIF(colk,$M$2),"",INDEX(colc,SUMPRODUCT(LARGE((colk=$M$2)*ROW(colk)-12,ROW($A7))))) | D19: =IF(ROW(D7)>COUNTIF(colk,$M$2),"",INDEX(cold,SUMPRODUCT(LARGE((colk=$M$2)*ROW(colk)-12,ROW($A7))))) | E19: =IF(ROW(E7)>COUNTIF(colk,$M$2),"",INDEX(cole,SUMPRODUCT(LARGE((colk=$M$2)*ROW(colk)-12,ROW($A7))))) | F19: =IF(ROW(F7)>COUNTIF(colk,$M$2),"",INDEX(colf,SUMPRODUCT(LARGE((colk=$M$2)*ROW(colk)-12,ROW($A7))))) | G19: =IF(ROW(G7)>COUNTIF(colk,$M$2),"",INDEX(colg,SUMPRODUCT(LARGE((colk=$M$2)*ROW(colk)-12,ROW($A7))))) | H19: =IF(ROW(H7)>COUNTIF(colk,$M$2),"",INDEX(colh,SUMPRODUCT(LARGE((colk=$M$2)*ROW(colk)-12,ROW($A7))))) | I19: =IF(ROW(I7)>COUNTIF(colk,$M$2),"",INDEX(coli,SUMPRODUCT(LARGE((colk=$M$2)*ROW(colk)-12,ROW($A7))))) | J19: =IF(ROW(J7)>COUNTIF(colk,$M$2),"",INDEX(colk,SUMPRODUCT(LARGE((colk=$M$2)*ROW(colk)-12,ROW($A7))))) | K19: =IF(ROW(K7)>COUNTIF(colk,$M$2),"",INDEX(colm,SUMPRODUCT(LARGE((colk=$M$2)*ROW(colk)-12,ROW($A7))))) | L19: =IF(ROW(L7)>COUNTIF(colk,$M$2),"",INDEX(coln,SUMPRODUCT(LARGE((colk=$M$2)*ROW(colk)-12,ROW($A7)))))
A20: =IF(ROW(A8)>COUNTIF(colk,$M$2),"",INDEX(cola,SUMPRODUCT(LARGE((colk=$M$2)*ROW(colk)-12,ROW($A8))))) | B20: =IF(ROW(B8)>COUNTIF(colk,$M$2),"",INDEX(colb,SUMPRODUCT(LARGE((colk=$M$2)*ROW(colk)-12,ROW($A8))))) | C20: =IF(ROW(C8)>COUNTIF(colk,$M$2),"",INDEX(colc,SUMPRODUCT(LARGE((colk=$M$2)*ROW(colk)-12,ROW($A8))))) | D20: =IF(ROW(D8)>COUNTIF(colk,$M$2),"",INDEX(cold,SUMPRODUCT(LARGE((colk=$M$2)*ROW(colk)-12,ROW($A8))))) | E20: =IF(ROW(E8)>COUNTIF(colk,$M$2),"",INDEX(cole,SUMPRODUCT(LARGE((colk=$M$2)*ROW(colk)-12,ROW($A8))))) | F20: =IF(ROW(F8)>COUNTIF(colk,$M$2),"",INDEX(colf,SUMPRODUCT(LARGE((colk=$M$2)*ROW(colk)-12,ROW($A8))))) | G20: =IF(ROW(G8)>COUNTIF(colk,$M$2),"",INDEX(colg,SUMPRODUCT(LARGE((colk=$M$2)*ROW(colk)-12,ROW($A8))))) | H20: =IF(ROW(H8)>COUNTIF(colk,$M$2),"",INDEX(colh,SUMPRODUCT(LARGE((colk=$M$2)*ROW(colk)-12,ROW($A8))))) | I20: =IF(ROW(I8)>COUNTIF(colk,$M$2),"",INDEX(coli,SUMPRODUCT(LARGE((colk=$M$2)*ROW(colk)-12,ROW($A8))))) | J20: =IF(ROW(J8)>COUNTIF(colk,$M$2),"",INDEX(colk,SUMPRODUCT(LARGE((colk=$M$2)*ROW(colk)-12,ROW($A8))))) | K20: =IF(ROW(K8)>COUNTIF(colk,$M$2),"",INDEX(colm,SUMPRODUCT(LARGE((colk=$M$2)*ROW(colk)-12,ROW($A8))))) | L20: =IF(ROW(L8)>COUNTIF(colk,$M$2),"",INDEX(coln,SUMPRODUCT(LARGE((colk=$M$2)*ROW(colk)-12,ROW($A8)))))
A21: =IF(ROW(A9)>COUNTIF(colk,$M$2),"",INDEX(cola,SUMPRODUCT(LARGE((colk=$M$2)*ROW(colk)-12,ROW($A9))))) | B21: =IF(ROW(B9)>COUNTIF(colk,$M$2),"",INDEX(colb,SUMPRODUCT(LARGE((colk=$M$2)*ROW(colk)-12,ROW($A9))))) | C21: =IF(ROW(C9)>COUNTIF(colk,$M$2),"",INDEX(colc,SUMPRODUCT(LARGE((colk=$M$2)*ROW(colk)-12,ROW($A9))))) | D21: =IF(ROW(D9)>COUNTIF(colk,$M$2),"",INDEX(cold,SUMPRODUCT(LARGE((colk=$M$2)*ROW(colk)-12,ROW($A9))))) | E21: =IF(ROW(E9)>COUNTIF(colk,$M$2),"",INDEX(cole,SUMPRODUCT(LARGE((colk=$M$2)*ROW(colk)-12,ROW($A9))))) | F21: =IF(ROW(F9)>COUNTIF(colk,$M$2),"",INDEX(colf,SUMPRODUCT(LARGE((colk=$M$2)*ROW(colk)-12,ROW($A9))))) | G21: =IF(ROW(G9)>COUNTIF(colk,$M$2),"",INDEX(colg,SUMPRODUCT(LARGE((colk=$M$2)*ROW(colk)-12,ROW($A9))))) | H21: =IF(ROW(H9)>COUNTIF(colk,$M$2),"",INDEX(colh,SUMPRODUCT(LARGE((colk=$M$2)*ROW(colk)-12,ROW($A9))))) | I21: =IF(ROW(I9)>COUNTIF(colk,$M$2),"",INDEX(coli,SUMPRODUCT(LARGE((colk=$M$2)*ROW(colk)-12,ROW($A9))))) | J21: =IF(ROW(J9)>COUNTIF(colk,$M$2),"",INDEX(colk,SUMPRODUCT(LARGE((colk=$M$2)*ROW(colk)-12,ROW($A9))))) | K21: =IF(ROW(K9)>COUNTIF(colk,$M$2),"",INDEX(colm,SUMPRODUCT(LARGE((colk=$M$2)*ROW(colk)-12,ROW($A9))))) | L21: =IF(ROW(L9)>COUNTIF(colk,$M$2),"",INDEX(coln,SUMPRODUCT(LARGE((colk=$M$2)*ROW(colk)-12,ROW($A9)))))
A22: =IF(ROW(A10)>COUNTIF(colk,$M$2),"",INDEX(cola,SUMPRODUCT(LARGE((colk=$M$2)*ROW(colk)-12,ROW($A10))))) | B22: =IF(ROW(B10)>COUNTIF(colk,$M$2),"",INDEX(colb,SUMPRODUCT(LARGE((colk=$M$2)*ROW(colk)-12,ROW($A10))))) | C22: =IF(ROW(C10)>COUNTIF(colk,$M$2),"",INDEX(colc,SUMPRODUCT(LARGE((colk=$M$2)*ROW(colk)-12,ROW($A10))))) | D22: =IF(ROW(D10)>COUNTIF(colk,$M$2),"",INDEX(cold,SUMPRODUCT(LARGE((colk=$M$2)*ROW(colk)-12,ROW($A10))))) | E22: =IF(ROW(E10)>COUNTIF(colk,$M$2),"",INDEX(cole,SUMPRODUCT(LARGE((colk=$M$2)*ROW(colk)-12,ROW($A10))))) | F22: =IF(ROW(F10)>COUNTIF(colk,$M$2),"",INDEX(colf,SUMPRODUCT(LARGE((colk=$M$2)*ROW(colk)-12,ROW($A10))))) | G22: =IF(ROW(G10)>COUNTIF(colk,$M$2),"",INDEX(colg,SUMPRODUCT(LARGE((colk=$M$2)*ROW(colk)-12,ROW($A10))))) | H22: =IF(ROW(H10)>COUNTIF(colk,$M$2),"",INDEX(colh,SUMPRODUCT(LARGE((colk=$M$2)*ROW(colk)-12,ROW($A10))))) | I22: =IF(ROW(I10)>COUNTIF(colk,$M$2),"",INDEX(coli,SUMPRODUCT(LARGE((colk=$M$2)*ROW(colk)-12,ROW($A10))))) | J22: =IF(ROW(J10)>COUNTIF(colk,$M$2),"",INDEX(colk,SUMPRODUCT(LARGE((colk=$M$2)*ROW(colk)-12,ROW($A10))))) | K22: =IF(ROW(K10)>COUNTIF(colk,$M$2),"",INDEX(colm,SUMPRODUCT(LARGE((colk=$M$2)*ROW(colk)-12,ROW($A10))))) | L22: =IF(ROW(L10)>COUNTIF(colk,$M$2),"",INDEX(coln,SUMPRODUCT(LARGE((colk=$M$2)*ROW(colk)-12,ROW($A10)))))
A23: =IF(ROW(A11)>COUNTIF(colk,$M$2),"",INDEX(cola,SUMPRODUCT(LARGE((colk=$M$2)*ROW(colk)-12,ROW($A11))))) | B23: =IF(ROW(B11)>COUNTIF(colk,$M$2),"",INDEX(colb,SUMPRODUCT(LARGE((colk=$M$2)*ROW(colk)-12,ROW($A11))))) | C23: =IF(ROW(C11)>COUNTIF(colk,$M$2),"",INDEX(colc,SUMPRODUCT(LARGE((colk=$M$2)*ROW(colk)-12,ROW($A11))))) | D23: =IF(ROW(D11)>COUNTIF(colk,$M$2),"",INDEX(cold,SUMPRODUCT(LARGE((colk=$M$2)*ROW(colk)-12,ROW($A11))))) | E23: =IF(ROW(E11)>COUNTIF(colk,$M$2),"",INDEX(cole,SUMPRODUCT(LARGE((colk=$M$2)*ROW(colk)-12,ROW($A11))))) | F23: =IF(ROW(F11)>COUNTIF(colk,$M$2),"",INDEX(colf,SUMPRODUCT(LARGE((colk=$M$2)*ROW(colk)-12,ROW($A11))))) | G23: =IF(ROW(G11)>COUNTIF(colk,$M$2),"",INDEX(colg,SUMPRODUCT(LARGE((colk=$M$2)*ROW(colk)-12,ROW($A11))))) | H23: =IF(ROW(H11)>COUNTIF(colk,$M$2),"",INDEX(colh,SUMPRODUCT(LARGE((colk=$M$2)*ROW(colk)-12,ROW($A11))))) | I23: =IF(ROW(I11)>COUNTIF(colk,$M$2),"",INDEX(coli,SUMPRODUCT(LARGE((colk=$M$2)*ROW(colk)-12,ROW($A11))))) | J23: =IF(ROW(J11)>COUNTIF(colk,$M$2),"",INDEX(colk,SUMPRODUCT(LARGE((colk=$M$2)*ROW(colk)-12,ROW($A11))))) | K23: =IF(ROW(K11)>COUNTIF(colk,$M$2),"",INDEX(colm,SUMPRODUCT(LARGE((colk=$M$2)*ROW(colk)-12,ROW($A11))))) | L23: =IF(ROW(L11)>COUNTIF(colk,$M$2),"",INDEX(coln,SUMPRODUCT(LARGE((colk=$M$2)*ROW(colk)-12,ROW($A11)))))
A24: =IF(ROW(A12)>COUNTIF(colk,$M$2),"",INDEX(cola,SUMPRODUCT(LARGE((colk=$M$2)*ROW(colk)-12,ROW($A12))))) | B24: =IF(ROW(B12)>COUNTIF(colk,$M$2),"",INDEX(colb,SUMPRODUCT(LARGE((colk=$M$2)*ROW(colk)-12,ROW($A12))))) | C24: =IF(ROW(C12)>COUNTIF(colk,$M$2),"",INDEX(colc,SUMPRODUCT(LARGE((colk=$M$2)*ROW(colk)-12,ROW($A12))))) | D24: =IF(ROW(D12)>COUNTIF(colk,$M$2),"",INDEX(cold,SUMPRODUCT(LARGE((colk=$M$2)*ROW(colk)-12,ROW($A12))))) | E24: =IF(ROW(E12)>COUNTIF(colk,$M$2),"",INDEX(cole,SUMPRODUCT(LARGE((colk=$M$2)*ROW(colk)-12,ROW($A12))))) | F24: =IF(ROW(F12)>COUNTIF(colk,$M$2),"",INDEX(colf,SUMPRODUCT(LARGE((colk=$M$2)*ROW(colk)-12,ROW($A12))))) | G24: 1 | H24: =IF(ROW(H12)>COUNTIF(colk,$M$2),"",INDEX(colh,SUMPRODUCT(LARGE((colk=$M$2)*ROW(colk)-12,ROW($A12))))) | I24: =IF(ROW(I12)>COUNTIF(colk,$M$2),"",INDEX(coli,SUMPRODUCT(LARGE((colk=$M$2)*ROW(colk)-12,ROW($A12))))) | J24: =IF(ROW(J12)>COUNTIF(colk,$M$2),"",INDEX(colk,SUMPRODUCT(LARGE((colk=$M$2)*ROW(colk)-12,ROW($A12))))) | K24: =IF(ROW(K12)>COUNTIF(colk,$M$2),"",INDEX(colm,SUMPRODUCT(LARGE((colk=$M$2)*ROW(colk)-12,ROW($A12))))) | L24: =IF(ROW(L12)>COUNTIF(colk,$M$2),"",INDEX(coln,SUMPRODUCT(LARGE((colk=$M$2)*ROW(colk)-12,ROW($A12)))))
A25: =IF(ROW(A13)>COUNTIF(colk,$M$2),"",INDEX(cola,SUMPRODUCT(LARGE((colk=$M$2)*ROW(colk)-12,ROW($A13))))) | B25: =IF(ROW(B13)>COUNTIF(colk,$M$2),"",INDEX(colb,SUMPRODUCT(LARGE((colk=$M$2)*ROW(colk)-12,ROW($A13))))) | C25: =IF(ROW(C13)>COUNTIF(colk,$M$2),"",INDEX(colc,SUMPRODUCT(LARGE((colk=$M$2)*ROW(colk)-12,ROW($A13))))) | D25: =IF(ROW(D13)>COUNTIF(colk,$M$2),"",INDEX(cold,SUMPRODUCT(LARGE((colk=$M$2)*ROW(colk)-12,ROW($A13))))) | E25: =IF(ROW(E13)>COUNTIF(colk,$M$2),"",INDEX(cole,SUMPRODUCT(LARGE((colk=$M$2)*ROW(colk)-12,ROW($A13))))) | F25: =IF(ROW(F13)>COUNTIF(colk,$M$2),"",INDEX(colf,SUMPRODUCT(LARGE((colk=$M$2)*ROW(colk)-12,ROW($A13))))) | G25: =IF(ROW(G13)>COUNTIF(colk,$M$2),"",INDEX(colg,SUMPRODUCT(LARGE((colk=$M$2)*ROW(colk)-12,ROW($A13))))) | H25: =IF(ROW(H13)>COUNTIF(colk,$M$2),"",INDEX(colh,SUMPRODUCT(LARGE((colk=$M$2)*ROW(colk)-12,ROW($A13))))) | I25: =IF(ROW(I13)>COUNTIF(colk,$M$2),"",INDEX(coli,SUMPRODUCT(LARGE((colk=$M$2)*ROW(colk)-12,ROW($A13))))) | J25: =IF(ROW(J13)>COUNTIF(colk,$M$2),"",INDEX(colk,SUMPRODUCT(LARGE((colk=$M$2)*ROW(colk)-12,ROW($A13))))) | K25: =IF(ROW(K13)>COUNTIF(colk,$M$2),"",INDEX(colm,SUMPRODUCT(LARGE((colk=$M$2)*ROW(colk)-12,ROW($A13))))) | L25: =IF(ROW(L13)>COUNTIF(colk,$M$2),"",INDEX(coln,SUMPRODUCT(LARGE((colk=$M$2)*ROW(colk)-12,ROW($A13)))))
A26: =IF(ROW(A14)>COUNTIF(colk,$M$2),"",INDEX(cola,SUMPRODUCT(LARGE((colk=$M$2)*ROW(colk)-12,ROW($A14))))) | B26: =IF(ROW(B14)>COUNTIF(colk,$M$2),"",INDEX(colb,SUMPRODUCT(LARGE((colk=$M$2)*ROW(colk)-12,ROW($A14))))) | C26: =IF(ROW(C14)>COUNTIF(colk,$M$2),"",INDEX(colc,SUMPRODUCT(LARGE((colk=$M$2)*ROW(colk)-12,ROW($A14))))) | D26: =IF(ROW(D14)>COUNTIF(colk,$M$2),"",INDEX(cold,SUMPRODUCT(LARGE((colk=$M$2)*ROW(colk)-12,ROW($A14))))) | E26: =IF(ROW(E14)>COUNTIF(colk,$M$2),"",INDEX(cole,SUMPRODUCT(LARGE((colk=$M$2)*ROW(colk)-12,ROW($A14))))) | F26: =IF(ROW(F14)>COUNTIF(colk,$M$2),"",INDEX(colf,SUMPRODUCT(LARGE((colk=$M$2)*ROW(colk)-12,ROW($A14))))) | G26: =IF(ROW(G14)>COUNTIF(colk,$M$2),"",INDEX(colg,SUMPRODUCT(LARGE((colk=$M$2)*ROW(colk)-12,ROW($A14))))) | H26: =IF(ROW(H14)>COUNTIF(colk,$M$2),"",INDEX(colh,SUMPRODUCT(LARGE((colk=$M$2)*ROW(colk)-12,ROW($A14))))) | I26: =IF(ROW(I14)>COUNTIF(colk,$M$2),"",INDEX(coli,SUMPRODUCT(LARGE((colk=$M$2)*ROW(colk)-12,ROW($A14))))) | J26: =IF(ROW(J14)>COUNTIF(colk,$M$2),"",INDEX(colk,SUMPRODUCT(LARGE((colk=$M$2)*ROW(colk)-12,ROW($A14))))) | K26: =IF(ROW(K14)>COUNTIF(colk,$M$2),"",INDEX(colm,SUMPRODUCT(LARGE((colk=$M$2)*ROW(colk)-12,ROW($A14))))) | L26: =IF(ROW(L14)>COUNTIF(colk,$M$2),"",INDEX(coln,SUMPRODUCT(LARGE((colk=$M$2)*ROW(colk)-12,ROW($A14)))))
A27: =IF(ROW(A15)>COUNTIF(colk,$M$2),"",INDEX(cola,SUMPRODUCT(LARGE((colk=$M$2)*ROW(colk)-12,ROW($A15))))) | B27: =IF(ROW(B15)>COUNTIF(colk,$M$2),"",INDEX(colb,SUMPRODUCT(LARGE((colk=$M$2)*ROW(colk)-12,ROW($A15))))) | C27: =IF(ROW(C15)>COUNTIF(colk,$M$2),"",INDEX(colc,SUMPRODUCT(LARGE((colk=$M$2)*ROW(colk)-12,ROW($A15))))) | D27: =IF(ROW(D15)>COUNTIF(colk,$M$2),"",INDEX(cold,SUMPRODUCT(LARGE((colk=$M$2)*ROW(colk)-12,ROW($A15))))) | E27: =IF(ROW(E15)>COUNTIF(colk,$M$2),"",INDEX(cole,SUMPRODUCT(LARGE((colk=$M$2)*ROW(colk)-12,ROW($A15))))) | F27: =IF(ROW(F15)>COUNTIF(colk,$M$2),"",INDEX(colf,SUMPRODUCT(LARGE((colk=$M$2)*ROW(colk)-12,ROW($A15))))) | G27: =IF(ROW(G15)>COUNTIF(colk,$M$2),"",INDEX(colg,SUMPRODUCT(LARGE((colk=$M$2)*ROW(colk)-12,ROW($A15))))) | H27: =IF(ROW(H15)>COUNTIF(colk,$M$2),"",INDEX(colh,SUMPRODUCT(LARGE((colk=$M$2)*ROW(colk)-12,ROW($A15))))) | I27: =IF(ROW(I15)>COUNTIF(colk,$M$2),"",INDEX(coli,SUMPRODUCT(LARGE((colk=$M$2)*ROW(colk)-12,ROW($A15))))) | J27: =IF(ROW(J15)>COUNTIF(colk,$M$2),"",INDEX(colk,SUMPRODUCT(LARGE((colk=$M$2)*ROW(colk)-12,ROW($A15))))) | K27: =IF(ROW(K15)>COUNTIF(colk,$M$2),"",INDEX(colm,SUMPRODUCT(LARGE((colk=$M$2)*ROW(colk)-12,ROW($A15))))) | L27: =IF(ROW(L15)>COUNTIF(colk,$M$2),"",INDEX(coln,SUMPRODUCT(LARGE((colk=$M$2)*ROW(colk)-12,ROW($A15)))))
A28: =IF(ROW(A16)>COUNTIF(colk,$M$2),"",INDEX(cola,SUMPRODUCT(LARGE((colk=$M$2)*ROW(colk)-12,ROW($A16))))) | B28: =IF(ROW(B16)>COUNTIF(colk,$M$2),"",INDEX(colb,SUMPRODUCT(LARGE((colk=$M$2)*ROW(colk)-12,ROW($A16))))) | C28: =IF(ROW(C16)>COUNTIF(colk,$M$2),"",INDEX(colc,SUMPRODUCT(LARGE((colk=$M$2)*ROW(colk)-12,ROW($A16))))) | D28: =IF(ROW(D16)>COUNTIF(colk,$M$2),"",INDEX(cold,SUMPRODUCT(LARGE((colk=$M$2)*ROW(colk)-12,ROW($A16))))) | E28: =IF(ROW(E16)>COUNTIF(colk,$M$2),"",INDEX(cole,SUMPRODUCT(LARGE((colk=$M$2)*ROW(colk)-12,ROW($A16))))) | F28: =IF(ROW(F16)>COUNTIF(colk,$M$2),"",INDEX(colf,SUMPRODUCT(LARGE((colk=$M$2)*ROW(colk)-12,ROW($A16))))) | G28: =IF(ROW(G16)>COUNTIF(colk,$M$2),"",INDEX(colg,SUMPRODUCT(LARGE((colk=$M$2)*ROW(colk)-12,ROW($A16))))) | H28: =IF(ROW(H16)>COUNTIF(colk,$M$2),"",INDEX(colh,SUMPRODUCT(LARGE((colk=$M$2)*ROW(colk)-12,ROW($A16))))) | I28: =IF(ROW(I16)>COUNTIF(colk,$M$2),"",INDEX(coli,SUMPRODUCT(LARGE((colk=$M$2)*ROW(colk)-12,ROW($A16))))) | J28: =IF(ROW(J16)>COUNTIF(colk,$M$2),"",INDEX(colk,SUMPRODUCT(LARGE((colk=$M$2)*ROW(colk)-12,ROW($A16))))) | K28: =IF(ROW(K16)>COUNTIF(colk,$M$2),"",INDEX(colm,SUMPRODUCT(LARGE((colk=$M$2)*ROW(colk)-12,ROW($A16))))) | L28: =IF(ROW(L16)>COUNTIF(colk,$M$2),"",INDEX(coln,SUMPRODUCT(LARGE((colk=$M$2)*ROW(colk)-12,ROW($A16)))))
A29: =IF(ROW(A17)>COUNTIF(colk,$M$2),"",INDEX(cola,SUMPRODUCT(LARGE((colk=$M$2)*ROW(colk)-12,ROW($A17))))) | B29: =IF(ROW(B17)>COUNTIF(colk,$M$2),"",INDEX(colb,SUMPRODUCT(LARGE((colk=$M$2)*ROW(colk)-12,ROW($A17))))) | C29: =IF(ROW(C17)>COUNTIF(colk,$M$2),"",INDEX(colc,SUMPRODUCT(LARGE((colk=$M$2)*ROW(colk)-12,ROW($A17))))) | D29: =IF(ROW(D17)>COUNTIF(colk,$M$2),"",INDEX(cold,SUMPRODUCT(LARGE((colk=$M$2)*ROW(colk)-12,ROW($A17))))) | E29: =IF(ROW(E17)>COUNTIF(colk,$M$2),"",INDEX(cole,SUMPRODUCT(LARGE((colk=$M$2)*ROW(colk)-12,ROW($A17))))) | F29: =IF(ROW(F17)>COUNTIF(colk,$M$2),"",INDEX(colf,SUMPRODUCT(LARGE((colk=$M$2)*ROW(colk)-12,ROW($A17))))) | G29: =IF(ROW(G17)>COUNTIF(colk,$M$2),"",INDEX(colg,SUMPRODUCT(LARGE((colk=$M$2)*ROW(colk)-12,ROW($A17))))) | H29: =IF(ROW(H17)>COUNTIF(colk,$M$2),"",INDEX(colh,SUMPRODUCT(LARGE((colk=$M$2)*ROW(colk)-12,ROW($A17))))) | I29: =IF(ROW(I17)>COUNTIF(colk,$M$2),"",INDEX(coli,SUMPRODUCT(LARGE((colk=$M$2)*ROW(colk)-12,ROW($A17))))) | J29: =IF(ROW(J17)>COUNTIF(colk,$M$2),"",INDEX(colk,SUMPRODUCT(LARGE((colk=$M$2)*ROW(colk)-12,ROW($A17))))) | K29: =IF(ROW(K17)>COUNTIF(colk,$M$2),"",INDEX(colm,SUMPRODUCT(LARGE((colk=$M$2)*ROW(colk)-12,ROW($A17))))) | L29: =IF(ROW(L17)>COUNTIF(colk,$M$2),"",INDEX(coln,SUMPRODUCT(LARGE((colk=$M$2)*ROW(colk)-12,ROW($A17)))))
A30: =IF(ROW(A18)>COUNTIF(colk,$M$2),"",INDEX(cola,SUMPRODUCT(LARGE((colk=$M$2)*ROW(colk)-12,ROW($A18))))) | B30: =IF(ROW(B18)>COUNTIF(colk,$M$2),"",INDEX(colb,SUMPRODUCT(LARGE((colk=$M$2)*ROW(colk)-12,ROW($A18))))) | C30: =IF(ROW(C18)>COUNTIF(colk,$M$2),"",INDEX(colc,SUMPRODUCT(LARGE((colk=$M$2)*ROW(colk)-12,ROW($A18))))) | D30: =IF(ROW(D18)>COUNTIF(colk,$M$2),"",INDEX(cold,SUMPRODUCT(LARGE((colk=$M$2)*ROW(colk)-12,ROW($A18))))) | E30: =IF(ROW(E18)>COUNTIF(colk,$M$2),"",INDEX(cole,SUMPRODUCT(LARGE((colk=$M$2)*ROW(colk)-12,ROW($A18))))) | F30: =IF(ROW(F18)>COUNTIF(colk,$M$2),"",INDEX(colf,SUMPRODUCT(LARGE((colk=$M$2)*ROW(colk)-12,ROW($A18))))) | G30: =IF(ROW(G18)>COUNTIF(colk,$M$2),"",INDEX(colg,SUMPRODUCT(LARGE((colk=$M$2)*ROW(colk)-12,ROW($A18))))) | H30: =IF(ROW(H18)>COUNTIF(colk,$M$2),"",INDEX(colh,SUMPRODUCT(LARGE((colk=$M$2)*ROW(colk)-12,ROW($A18))))) | I30: =IF(ROW(I18)>COUNTIF(colk,$M$2),"",INDEX(coli,SUMPRODUCT(LARGE((colk=$M$2)*ROW(colk)-12,ROW($A18))))) | J30: =IF(ROW(J18)>COUNTIF(colk,$M$2),"",INDEX(colk,SUMPRODUCT(LARGE((colk=$M$2)*ROW(colk)-12,ROW($A18))))) | K30: =IF(ROW(K18)>COUNTIF(colk,$M$2),"",INDEX(colm,SUMPRODUCT(LARGE((colk=$M$2)*ROW(colk)-12,ROW($A18))))) | L30: =IF(ROW(L18)>COUNTIF(colk,$M$2),"",INDEX(coln,SUMPRODUCT(LARGE((colk=$M$2)*ROW(colk)-12,ROW($A18)))))
A31: =IF(ROW(A19)>COUNTIF(colk,$M$2),"",INDEX(cola,SUMPRODUCT(LARGE((colk=$M$2)*ROW(colk)-12,ROW($A19))))) | B31: =IF(ROW(B19)>COUNTIF(colk,$M$2),"",INDEX(colb,SUMPRODUCT(LARGE((colk=$M$2)*ROW(colk)-12,ROW($A19))))) | C31: =IF(ROW(C19)>COUNTIF(colk,$M$2),"",INDEX(colc,SUMPRODUCT(LARGE((colk=$M$2)*ROW(colk)-12,ROW($A19))))) | D31: =IF(ROW(D19)>COUNTIF(colk,$M$2),"",INDEX(cold,SUMPRODUCT(LARGE((colk=$M$2)*ROW(colk)-12,ROW($A19))))) | E31: =IF(ROW(E19)>COUNTIF(colk,$M$2),"",INDEX(cole,SUMPRODUCT(LARGE((colk=$M$2)*ROW(colk)-12,ROW($A19))))) | F31: =IF(ROW(F19)>COUNTIF(colk,$M$2),"",INDEX(colf,SUMPRODUCT(LARGE((colk=$M$2)*ROW(colk)-12,ROW($A19))))) | G31: =IF(ROW(G19)>COUNTIF(colk,$M$2),"",INDEX(colg,SUMPRODUCT(LARGE((colk=$M$2)*ROW(colk)-12,ROW($A19))))) | H31: =IF(ROW(H19)>COUNTIF(colk,$M$2),"",INDEX(colh,SUMPRODUCT(LARGE((colk=$M$2)*ROW(colk)-12,ROW($A19))))) | I31: =IF(ROW(I19)>COUNTIF(colk,$M$2),"",INDEX(coli,SUMPRODUCT(LARGE((colk=$M$2)*ROW(colk)-12,ROW($A19))))) | J31: =IF(ROW(J19)>COUNTIF(colk,$M$2),"",INDEX(colk,SUMPRODUCT(LARGE((colk=$M$2)*ROW(colk)-12,ROW($A19))))) | K31: =IF(ROW(K19)>COUNTIF(colk,$M$2),"",INDEX(colm,SUMPRODUCT(LARGE((colk=$M$2)*ROW(colk)-12,ROW($A19))))) | L31: =IF(ROW(L19)>COUNTIF(colk,$M$2),"",INDEX(coln,SUMPRODUCT(LARGE((colk=$M$2)*ROW(colk)-12,ROW($A19)))))
A32: =IF(ROW(A20)>COUNTIF(colk,$M$2),"",INDEX(cola,SUMPRODUCT(LARGE((colk=$M$2)*ROW(colk)-12,ROW($A20))))) | B32: =IF(ROW(B20)>COUNTIF(colk,$M$2),"",INDEX(colb,SUMPRODUCT(LARGE((colk=$M$2)*ROW(colk)-12,ROW($A20))))) | C32: =IF(ROW(C20)>COUNTIF(colk,$M$2),"",INDEX(colc,SUMPRODUCT(LARGE((colk=$M$2)*ROW(colk)-12,ROW($A20))))) | D32: =IF(ROW(D20)>COUNTIF(colk,$M$2),"",INDEX(cold,SUMPRODUCT(LARGE((colk=$M$2)*ROW(colk)-12,ROW($A20))))) | E32: =IF(ROW(E20)>COUNTIF(colk,$M$2),"",INDEX(cole,SUMPRODUCT(LARGE((colk=$M$2)*ROW(colk)-12,ROW($A20))))) | F32: =IF(ROW(F20)>COUNTIF(colk,$M$2),"",INDEX(colf,SUMPRODUCT(LARGE((colk=$M$2)*ROW(colk)-12,ROW($A20))))) | G32: =IF(ROW(G20)>COUNTIF(colk,$M$2),"",INDEX(colg,SUMPRODUCT(LARGE((colk=$M$2)*ROW(colk)-12,ROW($A20))))) | H32: =IF(ROW(H20)>COUNTIF(colk,$M$2),"",INDEX(colh,SUMPRODUCT(LARGE((colk=$M$2)*ROW(colk)-12,ROW($A20))))) | I32: =IF(ROW(I20)>COUNTIF(colk,$M$2),"",INDEX(coli,SUMPRODUCT(LARGE((colk=$M$2)*ROW(colk)-12,ROW($A20))))) | J32: =IF(ROW(J20)>COUNTIF(colk,$M$2),"",INDEX(colk,SUMPRODUCT(LARGE((colk=$M$2)*ROW(colk)-12,ROW($A20))))) | K32: =IF(ROW(K20)>COUNTIF(colk,$M$2),"",INDEX(colm,SUMPRODUCT(LARGE((colk=$M$2)*ROW(colk)-12,ROW($A20))))) | L32: =IF(ROW(L20)>COUNTIF(colk,$M$2),"",INDEX(coln,SUMPRODUCT(LARGE((colk=$M$2)*ROW(colk)-12,ROW($A20)))))
A33: =IF(ROW(A21)>COUNTIF(colk,$M$2),"",INDEX(cola,SUMPRODUCT(LARGE((colk=$M$2)*ROW(colk)-12,ROW($A21))))) | B33: =IF(ROW(B21)>COUNTIF(colk,$M$2),"",INDEX(colb,SUMPRODUCT(LARGE((colk=$M$2)*ROW(colk)-12,ROW($A21))))) | C33: =IF(ROW(C21)>COUNTIF(colk,$M$2),"",INDEX(colc,SUMPRODUCT(LARGE((colk=$M$2)*ROW(colk)-12,ROW($A21))))) | D33: =IF(ROW(D21)>COUNTIF(colk,$M$2),"",INDEX(cold,SUMPRODUCT(LARGE((colk=$M$2)*ROW(colk)-12,ROW($A21))))) | E33: =IF(ROW(E21)>COUNTIF(colk,$M$2),"",INDEX(cole,SUMPRODUCT(LARGE((colk=$M$2)*ROW(colk)-12,ROW($A21))))) | F33: =IF(ROW(F21)>COUNTIF(colk,$M$2),"",INDEX(colf,SUMPRODUCT(LARGE((colk=$M$2)*ROW(colk)-12,ROW($A21))))) | G33: =IF(ROW(G21)>COUNTIF(colk,$M$2),"",INDEX(colg,SUMPRODUCT(LARGE((colk=$M$2)*ROW(colk)-12,ROW($A21))))) | H33: =IF(ROW(H21)>COUNTIF(colk,$M$2),"",INDEX(colh,SUMPRODUCT(LARGE((colk=$M$2)*ROW(colk)-12,ROW($A21))))) | I33: =IF(ROW(I21)>COUNTIF(colk,$M$2),"",INDEX(coli,SUMPRODUCT(LARGE((colk=$M$2)*ROW(colk)-12,ROW($A21))))) | J33: =IF(ROW(J21)>COUNTIF(colk,$M$2),"",INDEX(colk,SUMPRODUCT(LARGE((colk=$M$2)*ROW(colk)-12,ROW($A21))))) | K33: =IF(ROW(K21)>COUNTIF(colk,$M$2),"",INDEX(colm,SUMPRODUCT(LARGE((colk=$M$2)*ROW(colk)-12,ROW($A21))))) | L33: =IF(ROW(L21)>COUNTIF(colk,$M$2),"",INDEX(coln,SUMPRODUCT(LARGE((colk=$M$2)*ROW(colk)-12,ROW($A21)))))
A34: =IF(ROW(A22)>COUNTIF(colk,$M$2),"",INDEX(cola,SUMPRODUCT(LARGE((colk=$M$2)*ROW(colk)-12,ROW($A22))))) | B34: =IF(ROW(B22)>COUNTIF(colk,$M$2),"",INDEX(colb,SUMPRODUCT(LARGE((colk=$M$2)*ROW(colk)-12,ROW($A22))))) | C34: =IF(ROW(C22)>COUNTIF(colk,$M$2),"",INDEX(colc,SUMPRODUCT(LARGE((colk=$M$2)*ROW(colk)-12,ROW($A22))))) | D34: =IF(ROW(D22)>COUNTIF(colk,$M$2),"",INDEX(cold,SUMPRODUCT(LARGE((colk=$M$2)*ROW(colk)-12,ROW($A22))))) | E34: =IF(ROW(E22)>COUNTIF(colk,$M$2),"",INDEX(cole,SUMPRODUCT(LARGE((colk=$M$2)*ROW(colk)-12,ROW($A22))))) | F34: =IF(ROW(F22)>COUNTIF(colk,$M$2),"",INDEX(colf,SUMPRODUCT(LARGE((colk=$M$2)*ROW(colk)-12,ROW($A22))))) | G34: =IF(ROW(G22)>COUNTIF(colk,$M$2),"",INDEX(colg,SUMPRODUCT(LARGE((colk=$M$2)*ROW(colk)-12,ROW($A22))))) | H34: =IF(ROW(H22)>COUNTIF(colk,$M$2),"",INDEX(colh,SUMPRODUCT(LARGE((colk=$M$2)*ROW(colk)-12,ROW($A22))))) | I34: =IF(ROW(I22)>COUNTIF(colk,$M$2),"",INDEX(coli,SUMPRODUCT(LARGE((colk=$M$2)*ROW(colk)-12,ROW($A22))))) | J34: =IF(ROW(J22)>COUNTIF(colk,$M$2),"",INDEX(colk,SUMPRODUCT(LARGE((colk=$M$2)*ROW(colk)-12,ROW($A22))))) | K34: =IF(ROW(K22)>COUNTIF(colk,$M$2),"",INDEX(colm,SUMPRODUCT(LARGE((colk=$M$2)*ROW(colk)-12,ROW($A22))))) | L34: =IF(ROW(L22)>COUNTIF(colk,$M$2),"",INDEX(coln,SUMPRODUCT(LARGE((colk=$M$2)*ROW(colk)-12,ROW($A22)))))
A35: =IF(ROW(A23)>COUNTIF(colk,$M$2),"",INDEX(cola,SUMPRODUCT(LARGE((colk=$M$2)*ROW(colk)-12,ROW($A23))))) | B35: =IF(ROW(B23)>COUNTIF(colk,$M$2),"",INDEX(colb,SUMPRODUCT(LARGE((colk=$M$2)*ROW(colk)-12,ROW($A23))))) | C35: =IF(ROW(C23)>COUNTIF(colk,$M$2),"",INDEX(colc,SUMPRODUCT(LARGE((colk=$M$2)*ROW(colk)-12,ROW($A23))))) | D35: =IF(ROW(D23)>COUNTIF(colk,$M$2),"",INDEX(cold,SUMPRODUCT(LARGE((colk=$M$2)*ROW(colk)-12,ROW($A23))))) | E35: =IF(ROW(E23)>COUNTIF(colk,$M$2),"",INDEX(cole,SUMPRODUCT(LARGE((colk=$M$2)*ROW(colk)-12,ROW($A23))))) | F35: =IF(ROW(F23)>COUNTIF(colk,$M$2),"",INDEX(colf,SUMPRODUCT(LARGE((colk=$M$2)*ROW(colk)-12,ROW($A23))))) | G35: =IF(ROW(G23)>COUNTIF(colk,$M$2),"",INDEX(colg,SUMPRODUCT(LARGE((colk=$M$2)*ROW(colk)-12,ROW($A23))))) | H35: =IF(ROW(H23)>COUNTIF(colk,$M$2),"",INDEX(colh,SUMPRODUCT(LARGE((colk=$M$2)*ROW(colk)-12,ROW($A23))))) | I35: =IF(ROW(I23)>COUNTIF(colk,$M$2),"",INDEX(coli,SUMPRODUCT(LARGE((colk=$M$2)*ROW(colk)-12,ROW($A23))))) | J35: =IF(ROW(J23)>COUNTIF(colk,$M$2),"",INDEX(colk,SUMPRODUCT(LARGE((colk=$M$2)*ROW(colk)-12,ROW($A23))))) | K35: =IF(ROW(K23)>COUNTIF(colk,$M$2),"",INDEX(colm,SUMPRODUCT(LARGE((colk=$M$2)*ROW(colk)-12,ROW($A23))))) | L35: =IF(ROW(L23)>COUNTIF(colk,$M$2),"",INDEX(coln,SUMPRODUCT(LARGE((colk=$M$2)*ROW(colk)-12,ROW($A23)))))
A36: =IF(ROW(A24)>COUNTIF(colk,$M$2),"",INDEX(cola,SUMPRODUCT(LARGE((colk=$M$2)*ROW(colk)-12,ROW($A24))))) | B36: =IF(ROW(B24)>COUNTIF(colk,$M$2),"",INDEX(colb,SUMPRODUCT(LARGE((colk=$M$2)*ROW(colk)-12,ROW($A24))))) | C36: =IF(ROW(C24)>COUNTIF(colk,$M$2),"",INDEX(colc,SUMPRODUCT(LARGE((colk=$M$2)*ROW(colk)-12,ROW($A24))))) | D36: =IF(ROW(D24)>COUNTIF(colk,$M$2),"",INDEX(cold,SUMPRODUCT(LARGE((colk=$M$2)*ROW(colk)-12,ROW($A24))))) | E36: =IF(ROW(E24)>COUNTIF(colk,$M$2),"",INDEX(cole,SUMPRODUCT(LARGE((colk=$M$2)*ROW(colk)-12,ROW($A24))))) | F36: =IF(ROW(F24)>COUNTIF(colk,$M$2),"",INDEX(colf,SUMPRODUCT(LARGE((colk=$M$2)*ROW(colk)-12,ROW($A24))))) | G36: =IF(ROW(G24)>COUNTIF(colk,$M$2),"",INDEX(colg,SUMPRODUCT(LARGE((colk=$M$2)*ROW(colk)-12,ROW($A24))))) | H36: =IF(ROW(H24)>COUNTIF(colk,$M$2),"",INDEX(colh,SUMPRODUCT(LARGE((colk=$M$2)*ROW(colk)-12,ROW($A24))))) | I36: =IF(ROW(I24)>COUNTIF(colk,$M$2),"",INDEX(coli,SUMPRODUCT(LARGE((colk=$M$2)*ROW(colk)-12,ROW($A24))))) | J36: =IF(ROW(J24)>COUNTIF(colk,$M$2),"",INDEX(colk,SUMPRODUCT(LARGE((colk=$M$2)*ROW(colk)-12,ROW($A24))))) | K36: =IF(ROW(K24)>COUNTIF(colk,$M$2),"",INDEX(colm,SUMPRODUCT(LARGE((colk=$M$2)*ROW(colk)-12,ROW($A24))))) | L36: =IF(ROW(L24)>COUNTIF(colk,$M$2),"",INDEX(coln,SUMPRODUCT(LARGE((colk=$M$2)*ROW(colk)-12,ROW($A24)))))
... A150: =IF(ROW(A138)>COUNTIF(colk,$M$2),"",INDEX(cola,SUMPRODUCT(LARGE((colk=$M$2)*ROW(colk)-12,ROW($A138))))) | B150: =IF(ROW(B138)>COUNTIF(colk,$M$2),"",INDEX(colb,SUMPRODUCT(LARGE((colk=$M$2)*ROW(colk)-12,ROW($A138))))) | C150: =IF(ROW(C138)>COUNTIF(colk,$M$2),"",INDEX(colc,SUMPRODUCT(LARGE((colk=$M$2)*ROW(colk)-12,ROW($A138))))) | D150: =IF(ROW(D138)>COUNTIF(colk,$M$2),"",INDEX(cold,SUMPRODUCT(LARGE((colk=$M$2)*ROW(colk)-12,ROW($A138))))) | E150: =IF(ROW(E138)>COUNTIF(colk,$M$2),"",INDEX(cole,SUMPRODUCT(LARGE((colk=$M$2)*ROW(colk)-12,ROW($A138))))) | F150: =IF(ROW(F138)>COUNTIF(colk,$M$2),"",INDEX(colf,SUMPRODUCT(LARGE((colk=$M$2)*ROW(colk)-12,ROW($A138))))) | G150: =IF(ROW(G138)>COUNTIF(colk,$M$2),"",INDEX(colg,SUMPRODUCT(LARGE((colk=$M$2)*ROW(colk)-12,ROW($A138))))) | H150: =IF(ROW(H138)>COUNTIF(colk,$M$2),"",INDEX(colh,SUMPRODUCT(LARGE((colk=$M$2)*ROW(colk)-12,ROW($A138))))) | I150: =IF(ROW(I138)>COUNTIF(colk,$M$2),"",INDEX(coli,SUMPRODUCT(LARGE((colk=$M$2)*ROW(colk)-12,ROW($A138))))) | J150: =IF(ROW(J138)>COUNTIF(colk,$M$2),"",INDEX(colk,SUMPRODUCT(LARGE((colk=$M$2)*ROW(colk)-12,ROW($A138))))) | K150: =IF(ROW(K138)>COUNTIF(colk,$M$2),"",INDEX(colm,SUMPRODUCT(LARGE((colk=$M$2)*ROW(colk)-12,ROW($A138))))) | L150: =IF(ROW(L138)>COUNTIF(colk,$M$2),"",INDEX(coln,SUMPRODUCT(LARGE((colk=$M$2)*ROW(colk)-12,ROW($A138)))))
D151: =IF(C151="","",VLOOKUP(C151,[2]tableaux!$D$5:E$65,2,FALSE)) | H151: =IF(B151="","",VLOOKUP(B151,[2]tableaux!$A$4:$B$511,2,FALSE)) | K151: =IF(AND(G151="",J151<>"gie"),H151,"") | L151: =IF(G151="",F151,"") -> 0
D152: =IF(C152="","",VLOOKUP(C152,[2]tableaux!$D$5:E$65,2,FALSE)) | H152: =IF(B152="","",VLOOKUP(B152,[2]tableaux!$A$4:$B$511,2,FALSE)) | K152: =IF(AND(G152="",J152<>"gie"),H152,"") | L152: =IF(G152="",F152,"") -> 0
D153: =IF(C153="","",VLOOKUP(C153,[2]tableaux!$D$5:E$65,2,FALSE)) | H153: =IF(B153="","",VLOOKUP(B153,[2]tableaux!$A$4:$B$511,2,FALSE)) | K153: =IF(AND(G153="",J153<>"gie"),H153,"") | L153: =IF(G153="",F153,"") -> 0
D154: =IF(C154="","",VLOOKUP(C154,[2]tableaux!$D$5:E$65,2,FALSE)) | H154: =IF(B154="","",VLOOKUP(B154,[2]tableaux!$A$4:$B$511,2,FALSE)) | K154: =IF(AND(G154="",J154<>"gie"),H154,"") | L154: =IF(G154="",F154,"") -> 0
D155: =IF(C155="","",VLOOKUP(C155,[2]tableaux!$D$5:E$65,2,FALSE)) | H155: =IF(B155="","",VLOOKUP(B155,[2]tableaux!$A$4:$B$511,2,FALSE)) | K155: =IF(AND(G155="",J155<>"gie"),H155,"") | L155: =IF(G155="",F155,"") -> 0
D156: =IF(C156="","",VLOOKUP(C156,[2]tableaux!$D$5:E$65,2,FALSE)) | H156: =IF(B156="","",VLOOKUP(B156,[2]tableaux!$A$4:$B$511,2,FALSE)) | K156: =IF(AND(G156="",J156<>"gie"),H156,"") | L156: =IF(G156="",F156,"") -> 0
D157: =IF(C157="","",VLOOKUP(C157,[2]tableaux!$D$5:E$65,2,FALSE)) | H157: =IF(B157="","",VLOOKUP(B157,[2]tableaux!$A$4:$B$511,2,FALSE)) | K157: =IF(AND(G157="",J157<>"gie"),H157,"") | L157: =IF(G157="",F157,"") -> 0
D158: =IF(C158="","",VLOOKUP(C158,[2]tableaux!$D$5:E$65,2,FALSE)) | H158: =IF(B158="","",VLOOKUP(B158,[2]tableaux!$A$4:$B$511,2,FALSE)) | K158: =IF(AND(G158="",J158<>"gie"),H158,"") | L158: =IF(G158="",F158,"") -> 0
D159: =IF(C159="","",VLOOKUP(C159,[2]tableaux!$D$5:E$65,2,FALSE)) | H159: =IF(B159="","",VLOOKUP(B159,[2]tableaux!$A$4:$B$511,2,FALSE)) | K159: =IF(AND(G159="",J159<>"gie"),H159,"") | L159: =IF(G159="",F159,"") -> 0
D160: =IF(C160="","",VLOOKUP(C160,[2]tableaux!$D$5:E$65,2,FALSE)) | H160: =IF(B160="","",VLOOKUP(B160,[2]tableaux!$A$4:$B$511,2,FALSE)) | K160: =IF(AND(G160="",J160<>"gie"),H160,"") | L160: =IF(G160="",F160,"") -> 0
D161: =IF(C161="","",VLOOKUP(C161,[2]tableaux!$D$5:E$65,2,FALSE)) | H161: =IF(B161="","",VLOOKUP(B161,[2]tableaux!$A$4:$B$511,2,FALSE)) | K161: =IF(AND(G161="",J161<>"gie"),H161,"") | L161: =IF(G161="",F161,"") -> 0
D162: =IF(C162="","",VLOOKUP(C162,[2]tableaux!$D$5:E$65,2,FALSE)) | H162: =IF(B162="","",VLOOKUP(B162,[2]tableaux!$A$4:$B$511,2,FALSE)) | K162: =IF(AND(G162="",J162<>"gie"),H162,"") | L162: =IF(G162="",F162,"") -> 0
... D500: =IF(C500="","",VLOOKUP(C500,[2]tableaux!$D$5:E$65,2,FALSE)) | H500: =IF(B500="","",VLOOKUP(B500,[2]tableaux!$A$4:$B$511,2,FALSE)) | K500: =IF(AND(G500="",J500<>"gie"),H500,"") | L500: =IF(G500="",F500,"") -> 0

Sheet ahun
O2: ahun
G5: objets
G6: restants | H6: vendus | M6: recette
G7: =COUNTIF(G13:G150,1) -> 0 | H7: =COUNTIF($N$9:$N$216,"à renouveler") -> 0 | M7: =SUBTOTAL(9,M13:M150) -> 0
A12: DATE DEPOT | B12: OBJET | C12: BOIS | D12: VARIETE | E12: REMARQUE | F12: N° | G12: Q | H12: PRIX unité | I12: DATE VENTE | J12: STATUT | K12: DEPOT | L12: REC GIE | M12: REC AUTRE | N12: N°libre
A13: =IF(ROW(A1)>COUNTIF(colk,$O$2),"",INDEX(cola,SUMPRODUCT(LARGE((colk=$O$2)*ROW(colk)-12,ROW($A1))))) | B13: =IF(ROW(B1)>COUNTIF(colk,$O$2),"",INDEX(colb,SUMPRODUCT(LARGE((colk=$O$2)*ROW(colk)-12,ROW($A1))))) | C13: =IF(ROW(C1)>COUNTIF(colk,$O$2),"",INDEX(colc,SUMPRODUCT(LARGE((colk=$O$2)*ROW(colk)-12,ROW($A1))))) | D13: =IF(ROW(D1)>COUNTIF(colk,$O$2),"",INDEX(cold,SUMPRODUCT(LARGE((colk=$O$2)*ROW(colk)-12,ROW($A1))))) | E13: =IF(ROW(E1)>COUNTIF(colk,$O$2),"",INDEX(cole,SUMPRODUCT(LARGE((colk=$O$2)*ROW(colk)-12,ROW($A1))))) | F13: =IF(ROW(F1)>COUNTIF(colk,$O$2),"",INDEX(colf,SUMPRODUCT(LARGE((colk=$O$2)*ROW(colk)-12,ROW($A1))))) | G13: =IF(ROW(G1)>COUNTIF(colk,$O$2),"",INDEX(colg,SUMPRODUCT(LARGE((colk=$O$2)*ROW(colk)-12,ROW($A1))))) | H13: =IF(ROW(H1)>COUNTIF(colk,$O$2),"",INDEX(colh,SUMPRODUCT(LARGE((colk=$O$2)*ROW(colk)-12,ROW($A1))))) | I13: =IF(ROW(I1)>COUNTIF(colk,$O$2),"",INDEX(coli,SUMPRODUCT(LARGE((colk=$O$2)*ROW(colk)-12,ROW($A1))))) | J13: =IF(ROW(J1)>COUNTIF(colk,$O$2),"",INDEX(colj,SUMPRODUCT(LARGE((colk=$O$2)*ROW(colk)-12,ROW($A1))))) | K13: =IF(ROW(K1)>COUNTIF(colk,$O$2),"",INDEX(colk,SUMPRODUCT(LARGE((colk=$O$2)*ROW(colk)-12,ROW($A1))))) | L13: =IF(ROW(L1)>COUNTIF(colk,$O$2),"",INDEX(coll,SUMPRODUCT(LARGE((colk=$O$2)*ROW(colk)-12,ROW($A1))))) | M13: =IF(ROW(M1)>COUNTIF(colk,$O$2),"",INDEX(colm,SUMPRODUCT(LARGE((colk=$O$2)*ROW(colk)-12,ROW($A1))))) | N13: =IF(ROW(N1)>COUNTIF(colk,$O$2),"",INDEX(coln,SUMPRODUCT(LARGE((colk=$O$2)*ROW(colk)-12,ROW($A1)))))
A14: =IF(ROW(A2)>COUNTIF(colk,$O$2),"",INDEX(cola,SUMPRODUCT(LARGE((colk=$O$2)*ROW(colk)-12,ROW($A2))))) | B14: =IF(ROW(B2)>COUNTIF(colk,$O$2),"",INDEX(colb,SUMPRODUCT(LARGE((colk=$O$2)*ROW(colk)-12,ROW($A2))))) | C14: =IF(ROW(C2)>COUNTIF(colk,$O$2),"",INDEX(colc,SUMPRODUCT(LARGE((colk=$O$2)*ROW(colk)-12,ROW($A2))))) | D14: =IF(ROW(D2)>COUNTIF(colk,$O$2),"",INDEX(cold,SUMPRODUCT(LARGE((colk=$O$2)*ROW(colk)-12,ROW($A2))))) | E14: =IF(ROW(E2)>COUNTIF(colk,$O$2),"",INDEX(cole,SUMPRODUCT(LARGE((colk=$O$2)*ROW(colk)-12,ROW($A2))))) | F14: =IF(ROW(F2)>COUNTIF(colk,$O$2),"",INDEX(colf,SUMPRODUCT(LARGE((colk=$O$2)*ROW(colk)-12,ROW($A2))))) | G14: =IF(ROW(G2)>COUNTIF(colk,$O$2),"",INDEX(colg,SUMPRODUCT(LARGE((colk=$O$2)*ROW(colk)-12,ROW($A2))))) | H14: =IF(ROW(H2)>COUNTIF(colk,$O$2),"",INDEX(colh,SUMPRODUCT(LARGE((colk=$O$2)*ROW(colk)-12,ROW($A2))))) | I14: =IF(ROW(I2)>COUNTIF(colk,$O$2),"",INDEX(coli,SUMPRODUCT(LARGE((colk=$O$2)*ROW(colk)-12,ROW($A2))))) | J14: =IF(ROW(J2)>COUNTIF(colk,$O$2),"",INDEX(colj,SUMPRODUCT(LARGE((colk=$O$2)*ROW(colk)-12,ROW($A2))))) | K14: =IF(ROW(K2)>COUNTIF(colk,$O$2),"",INDEX(colk,SUMPRODUCT(LARGE((colk=$O$2)*ROW(colk)-12,ROW($A2))))) | L14: =IF(ROW(L2)>COUNTIF(colk,$O$2),"",INDEX(coll,SUMPRODUCT(LARGE((colk=$O$2)*ROW(colk)-12,ROW($A2))))) | M14: =IF(ROW(M2)>COUNTIF(colk,$O$2),"",INDEX(colm,SUMPRODUCT(LARGE((colk=$O$2)*ROW(colk)-12,ROW($A2))))) | N14: =IF(ROW(N2)>COUNTIF(colk,$O$2),"",INDEX(coln,SUMPRODUCT(LARGE((colk=$O$2)*ROW(colk)-12,ROW($A2)))))
A15: =IF(ROW(A3)>COUNTIF(colk,$O$2),"",INDEX(cola,SUMPRODUCT(LARGE((colk=$O$2)*ROW(colk)-12,ROW($A3))))) | B15: =IF(ROW(B3)>COUNTIF(colk,$O$2),"",INDEX(colb,SUMPRODUCT(LARGE((colk=$O$2)*ROW(colk)-12,ROW($A3))))) | C15: =IF(ROW(C3)>COUNTIF(colk,$O$2),"",INDEX(colc,SUMPRODUCT(LARGE((colk=$O$2)*ROW(colk)-12,ROW($A3))))) | D15: =IF(ROW(D3)>COUNTIF(colk,$O$2),"",INDEX(cold,SUMPRODUCT(LARGE((colk=$O$2)*ROW(colk)-12,ROW($A3))))) | E15: =IF(ROW(E3)>COUNTIF(colk,$O$2),"",INDEX(cole,SUMPRODUCT(LARGE((colk=$O$2)*ROW(colk)-12,ROW($A3))))) | F15: =IF(ROW(F3)>COUNTIF(colk,$O$2),"",INDEX(colf,SUMPRODUCT(LARGE((colk=$O$2)*ROW(colk)-12,ROW($A3))))) | G15: =IF(ROW(G3)>COUNTIF(colk,$O$2),"",INDEX(colg,SUMPRODUCT(LARGE((colk=$O$2)*ROW(colk)-12,ROW($A3))))) | H15: =IF(ROW(H3)>COUNTIF(colk,$O$2),"",INDEX(colh,SUMPRODUCT(LARGE((colk=$O$2)*ROW(colk)-12,ROW($A3))))) | I15: =IF(ROW(I3)>COUNTIF(colk,$O$2),"",INDEX(coli,SUMPRODUCT(LARGE((colk=$O$2)*ROW(colk)-12,ROW($A3))))) | J15: =IF(ROW(J3)>COUNTIF(colk,$O$2),"",INDEX(colj,SUMPRODUCT(LARGE((colk=$O$2)*ROW(colk)-12,ROW($A3))))) | K15: =IF(ROW(K3)>COUNTIF(colk,$O$2),"",INDEX(colk,SUMPRODUCT(LARGE((colk=$O$2)*ROW(colk)-12,ROW($A3))))) | L15: =IF(ROW(L3)>COUNTIF(colk,$O$2),"",INDEX(coll,SUMPRODUCT(LARGE((colk=$O$2)*ROW(colk)-12,ROW($A3))))) | M15: =IF(ROW(M3)>COUNTIF(colk,$O$2),"",INDEX(colm,SUMPRODUCT(LARGE((colk=$O$2)*ROW(colk)-12,ROW($A3))))) | N15: =IF(ROW(N3)>COUNTIF(colk,$O$2),"",INDEX(coln,SUMPRODUCT(LARGE((colk=$O$2)*ROW(colk)-12,ROW($A3)))))
A16: =IF(ROW(A4)>COUNTIF(colk,$O$2),"",INDEX(cola,SUMPRODUCT(LARGE((colk=$O$2)*ROW(colk)-12,ROW($A4))))) | B16: =IF(ROW(B4)>COUNTIF(colk,$O$2),"",INDEX(colb,SUMPRODUCT(LARGE((colk=$O$2)*ROW(colk)-12,ROW($A4))))) | C16: =IF(ROW(C4)>COUNTIF(colk,$O$2),"",INDEX(colc,SUMPRODUCT(LARGE((colk=$O$2)*ROW(colk)-12,ROW($A4))))) | D16: =IF(ROW(D4)>COUNTIF(colk,$O$2),"",INDEX(cold,SUMPRODUCT(LARGE((colk=$O$2)*ROW(colk)-12,ROW($A4))))) | E16: =IF(ROW(E4)>COUNTIF(colk,$O$2),"",INDEX(cole,SUMPRODUCT(LARGE((colk=$O$2)*ROW(colk)-12,ROW($A4))))) | F16: =IF(ROW(F4)>COUNTIF(colk,$O$2),"",INDEX(colf,SUMPRODUCT(LARGE((colk=$O$2)*ROW(colk)-12,ROW($A4))))) | G16: =IF(ROW(G4)>COUNTIF(colk,$O$2),"",INDEX(colg,SUMPRODUCT(LARGE((colk=$O$2)*ROW(colk)-12,ROW($A4))))) | H16: =IF(ROW(H4)>COUNTIF(colk,$O$2),"",INDEX(colh,SUMPRODUCT(LARGE((colk=$O$2)*ROW(colk)-12,ROW($A4))))) | I16: =IF(ROW(I4)>COUNTIF(colk,$O$2),"",INDEX(coli,SUMPRODUCT(LARGE((colk=$O$2)*ROW(colk)-12,ROW($A4))))) | J16: =IF(ROW(J4)>COUNTIF(colk,$O$2),"",INDEX(colj,SUMPRODUCT(LARGE((colk=$O$2)*ROW(colk)-12,ROW($A4))))) | K16: =IF(ROW(K4)>COUNTIF(colk,$O$2),"",INDEX(colk,SUMPRODUCT(LARGE((colk=$O$2)*ROW(colk)-12,ROW($A4))))) | L16: =IF(ROW(L4)>COUNTIF(colk,$O$2),"",INDEX(coll,SUMPRODUCT(LARGE((colk=$O$2)*ROW(colk)-12,ROW($A4))))) | M16: =IF(ROW(M4)>COUNTIF(colk,$O$2),"",INDEX(colm,SUMPRODUCT(LARGE((colk=$O$2)*ROW(colk)-12,ROW($A4))))) | N16: =IF(ROW(N4)>COUNTIF(colk,$O$2),"",INDEX(coln,SUMPRODUCT(LARGE((colk=$O$2)*ROW(colk)-12,ROW($A4)))))
A17: =IF(ROW(A5)>COUNTIF(colk,$O$2),"",INDEX(cola,SUMPRODUCT(LARGE((colk=$O$2)*ROW(colk)-12,ROW($A5))))) | B17: =IF(ROW(B5)>COUNTIF(colk,$O$2),"",INDEX(colb,SUMPRODUCT(LARGE((colk=$O$2)*ROW(colk)-12,ROW($A5))))) | C17: =IF(ROW(C5)>COUNTIF(colk,$O$2),"",INDEX(colc,SUMPRODUCT(LARGE((colk=$O$2)*ROW(colk)-12,ROW($A5))))) | D17: =IF(ROW(D5)>COUNTIF(colk,$O$2),"",INDEX(cold,SUMPRODUCT(LARGE((colk=$O$2)*ROW(colk)-12,ROW($A5))))) | E17: =IF(ROW(E5)>COUNTIF(colk,$O$2),"",INDEX(cole,SUMPRODUCT(LARGE((colk=$O$2)*ROW(colk)-12,ROW($A5))))) | F17: =IF(ROW(F5)>COUNTIF(colk,$O$2),"",INDEX(colf,SUMPRODUCT(LARGE((colk=$O$2)*ROW(colk)-12,ROW($A5))))) | G17: =IF(ROW(G5)>COUNTIF(colk,$O$2),"",INDEX(colg,SUMPRODUCT(LARGE((colk=$O$2)*ROW(colk)-12,ROW($A5))))) | H17: =IF(ROW(H5)>COUNTIF(colk,$O$2),"",INDEX(colh,SUMPRODUCT(LARGE((colk=$O$2)*ROW(colk)-12,ROW($A5))))) | I17: =IF(ROW(I5)>COUNTIF(colk,$O$2),"",INDEX(coli,SUMPRODUCT(LARGE((colk=$O$2)*ROW(colk)-12,ROW($A5))))) | J17: =IF(ROW(J5)>COUNTIF(colk,$O$2),"",INDEX(colj,SUMPRODUCT(LARGE((colk=$O$2)*ROW(colk)-12,ROW($A5))))) | K17: =IF(ROW(K5)>COUNTIF(colk,$O$2),"",INDEX(colk,SUMPRODUCT(LARGE((colk=$O$2)*ROW(colk)-12,ROW($A5))))) | L17: =IF(ROW(L5)>COUNTIF(colk,$O$2),"",INDEX(coll,SUMPRODUCT(LARGE((colk=$O$2)*ROW(colk)-12,ROW($A5))))) | M17: =IF(ROW(M5)>COUNTIF(colk,$O$2),"",INDEX(colm,SUMPRODUCT(LARGE((colk=$O$2)*ROW(colk)-12,ROW($A5))))) | N17: =IF(ROW(N5)>COUNTIF(colk,$O$2),"",INDEX(coln,SUMPRODUCT(LARGE((colk=$O$2)*ROW(colk)-12,ROW($A5)))))
A18: =IF(ROW(A6)>COUNTIF(colk,$O$2),"",INDEX(cola,SUMPRODUCT(LARGE((colk=$O$2)*ROW(colk)-12,ROW($A6))))) | B18: =IF(ROW(B6)>COUNTIF(colk,$O$2),"",INDEX(colb,SUMPRODUCT(LARGE((colk=$O$2)*ROW(colk)-12,ROW($A6))))) | C18: =IF(ROW(C6)>COUNTIF(colk,$O$2),"",INDEX(colc,SUMPRODUCT(LARGE((colk=$O$2)*ROW(colk)-12,ROW($A6))))) | D18: =IF(ROW(D6)>COUNTIF(colk,$O$2),"",INDEX(cold,SUMPRODUCT(LARGE((colk=$O$2)*ROW(colk)-12,ROW($A6))))) | E18: =IF(ROW(E6)>COUNTIF(colk,$O$2),"",INDEX(cole,SUMPRODUCT(LARGE((colk=$O$2)*ROW(colk)-12,ROW($A6))))) | F18: =IF(ROW(F6)>COUNTIF(colk,$O$2),"",INDEX(colf,SUMPRODUCT(LARGE((colk=$O$2)*ROW(colk)-12,ROW($A6))))) | G18: =IF(ROW(G6)>COUNTIF(colk,$O$2),"",INDEX(colg,SUMPRODUCT(LARGE((colk=$O$2)*ROW(colk)-12,ROW($A6))))) | H18: =IF(ROW(H6)>COUNTIF(colk,$O$2),"",INDEX(colh,SUMPRODUCT(LARGE((colk=$O$2)*ROW(colk)-12,ROW($A6))))) | I18: =IF(ROW(I6)>COUNTIF(colk,$O$2),"",INDEX(coli,SUMPRODUCT(LARGE((colk=$O$2)*ROW(colk)-12,ROW($A6))))) | J18: =IF(ROW(J6)>COUNTIF(colk,$O$2),"",INDEX(colj,SUMPRODUCT(LARGE((colk=$O$2)*ROW(colk)-12,ROW($A6))))) | K18: =IF(ROW(K6)>COUNTIF(colk,$O$2),"",INDEX(colk,SUMPRODUCT(LARGE((colk=$O$2)*ROW(colk)-12,ROW($A6))))) | L18: =IF(ROW(L6)>COUNTIF(colk,$O$2),"",INDEX(coll,SUMPRODUCT(LARGE((colk=$O$2)*ROW(colk)-12,ROW($A6))))) | M18: =IF(ROW(M6)>COUNTIF(colk,$O$2),"",INDEX(colm,SUMPRODUCT(LARGE((colk=$O$2)*ROW(colk)-12,ROW($A6))))) | N18: =IF(ROW(N6)>COUNTIF(colk,$O$2),"",INDEX(coln,SUMPRODUCT(LARGE((colk=$O$2)*ROW(colk)-12,ROW($A6)))))
A19: =IF(ROW(A7)>COUNTIF(colk,$O$2),"",INDEX(cola,SUMPRODUCT(LARGE((colk=$O$2)*ROW(colk)-12,ROW($A7))))) | B19: =IF(ROW(B7)>COUNTIF(colk,$O$2),"",INDEX(colb,SUMPRODUCT(LARGE((colk=$O$2)*ROW(colk)-12,ROW($A7))))) | C19: =IF(ROW(C7)>COUNTIF(colk,$O$2),"",INDEX(colc,SUMPRODUCT(LARGE((colk=$O$2)*ROW(colk)-12,ROW($A7))))) | D19: =IF(ROW(D7)>COUNTIF(colk,$O$2),"",INDEX(cold,SUMPRODUCT(LARGE((colk=$O$2)*ROW(colk)-12,ROW($A7))))) | E19: =IF(ROW(E7)>COUNTIF(colk,$O$2),"",INDEX(cole,SUMPRODUCT(LARGE((colk=$O$2)*ROW(colk)-12,ROW($A7))))) | F19: =IF(ROW(F7)>COUNTIF(colk,$O$2),"",INDEX(colf,SUMPRODUCT(LARGE((colk=$O$2)*ROW(colk)-12,ROW($A7))))) | G19: =IF(ROW(G7)>COUNTIF(colk,$O$2),"",INDEX(colg,SUMPRODUCT(LARGE((colk=$O$2)*ROW(colk)-12,ROW($A7))))) | H19: =IF(ROW(H7)>COUNTIF(colk,$O$2),"",INDEX(colh,SUMPRODUCT(LARGE((colk=$O$2)*ROW(colk)-12,ROW($A7))))) | I19: =IF(ROW(I7)>COUNTIF(colk,$O$2),"",INDEX(coli,SUMPRODUCT(LARGE((colk=$O$2)*ROW(colk)-12,ROW($A7))))) | J19: =IF(ROW(J7)>COUNTIF(colk,$O$2),"",INDEX(colj,SUMPRODUCT(LARGE((colk=$O$2)*ROW(colk)-12,ROW($A7))))) | K19: =IF(ROW(K7)>COUNTIF(colk,$O$2),"",INDEX(colk,SUMPRODUCT(LARGE((colk=$O$2)*ROW(colk)-12,ROW($A7))))) | L19: =IF(ROW(L7)>COUNTIF(colk,$O$2),"",INDEX(coll,SUMPRODUCT(LARGE((colk=$O$2)*ROW(colk)-12,ROW($A7))))) | M19: =IF(ROW(M7)>COUNTIF(colk,$O$2),"",INDEX(colm,SUMPRODUCT(LARGE((colk=$O$2)*ROW(colk)-12,ROW($A7))))) | N19: =IF(ROW(N7)>COUNTIF(colk,$O$2),"",INDEX(coln,SUMPRODUCT(LARGE((colk=$O$2)*ROW(colk)-12,ROW($A7)))))
A20: =IF(ROW(A8)>COUNTIF(colk,$O$2),"",INDEX(cola,SUMPRODUCT(LARGE((colk=$O$2)*ROW(colk)-12,ROW($A8))))) | B20: =IF(ROW(B8)>COUNTIF(colk,$O$2),"",INDEX(colb,SUMPRODUCT(LARGE((colk=$O$2)*ROW(colk)-12,ROW($A8))))) | C20: =IF(ROW(C8)>COUNTIF(colk,$O$2),"",INDEX(colc,SUMPRODUCT(LARGE((colk=$O$2)*ROW(colk)-12,ROW($A8))))) | D20: =IF(ROW(D8)>COUNTIF(colk,$O$2),"",INDEX(cold,SUMPRODUCT(LARGE((colk=$O$2)*ROW(colk)-12,ROW($A8))))) | E20: =IF(ROW(E8)>COUNTIF(colk,$O$2),"",INDEX(cole,SUMPRODUCT(LARGE((colk=$O$2)*ROW(colk)-12,ROW($A8))))) | F20: =IF(ROW(F8)>COUNTIF(colk,$O$2),"",INDEX(colf,SUMPRODUCT(LARGE((colk=$O$2)*ROW(colk)-12,ROW($A8))))) | G20: =IF(ROW(G8)>COUNTIF(colk,$O$2),"",INDEX(colg,SUMPRODUCT(LARGE((colk=$O$2)*ROW(colk)-12,ROW($A8))))) | H20: =IF(ROW(H8)>COUNTIF(colk,$O$2),"",INDEX(colh,SUMPRODUCT(LARGE((colk=$O$2)*ROW(colk)-12,ROW($A8))))) | I20: =IF(ROW(I8)>COUNTIF(colk,$O$2),"",INDEX(coli,SUMPRODUCT(LARGE((colk=$O$2)*ROW(colk)-12,ROW($A8))))) | J20: =IF(ROW(J8)>COUNTIF(colk,$O$2),"",INDEX(colj,SUMPRODUCT(LARGE((colk=$O$2)*ROW(colk)-12,ROW($A8))))) | K20: =IF(ROW(K8)>COUNTIF(colk,$O$2),"",INDEX(colk,SUMPRODUCT(LARGE((colk=$O$2)*ROW(colk)-12,ROW($A8))))) | L20: =IF(ROW(L8)>COUNTIF(colk,$O$2),"",INDEX(coll,SUMPRODUCT(LARGE((colk=$O$2)*ROW(colk)-12,ROW($A8))))) | M20: =IF(ROW(M8)>COUNTIF(colk,$O$2),"",INDEX(colm,SUMPRODUCT(LARGE((colk=$O$2)*ROW(colk)-12,ROW($A8))))) | N20: =IF(ROW(N8)>COUNTIF(colk,$O$2),"",INDEX(coln,SUMPRODUCT(LARGE((colk=$O$2)*ROW(colk)-12,ROW($A8)))))
A21: =IF(ROW(A9)>COUNTIF(colk,$O$2),"",INDEX(cola,SUMPRODUCT(LARGE((colk=$O$2)*ROW(colk)-12,ROW($A9))))) | B21: =IF(ROW(B9)>COUNTIF(colk,$O$2),"",INDEX(colb,SUMPRODUCT(LARGE((colk=$O$2)*ROW(colk)-12,ROW($A9))))) | C21: =IF(ROW(C9)>COUNTIF(colk,$O$2),"",INDEX(colc,SUMPRODUCT(LARGE((colk=$O$2)*ROW(colk)-12,ROW($A9))))) | D21: =IF(ROW(D9)>COUNTIF(colk,$O$2),"",INDEX(cold,SUMPRODUCT(LARGE((colk=$O$2)*ROW(colk)-12,ROW($A9))))) | E21: =IF(ROW(E9)>COUNTIF(colk,$O$2),"",INDEX(cole,SUMPRODUCT(LARGE((colk=$O$2)*ROW(colk)-12,ROW($A9))))) | F21: =IF(ROW(F9)>COUNTIF(colk,$O$2),"",INDEX(colf,SUMPRODUCT(LARGE((colk=$O$2)*ROW(colk)-12,ROW($A9))))) | G21: =IF(ROW(G9)>COUNTIF(colk,$O$2),"",INDEX(colg,SUMPRODUCT(LARGE((colk=$O$2)*ROW(colk)-12,ROW($A9))))) | H21: =IF(ROW(H9)>COUNTIF(colk,$O$2),"",INDEX(colh,SUMPRODUCT(LARGE((colk=$O$2)*ROW(colk)-12,ROW($A9))))) | I21: =IF(ROW(I9)>COUNTIF(colk,$O$2),"",INDEX(coli,SUMPRODUCT(LARGE((colk=$O$2)*ROW(colk)-12,ROW($A9))))) | J21: =IF(ROW(J9)>COUNTIF(colk,$O$2),"",INDEX(colj,SUMPRODUCT(LARGE((colk=$O$2)*ROW(colk)-12,ROW($A9))))) | K21: =IF(ROW(K9)>COUNTIF(colk,$O$2),"",INDEX(colk,SUMPRODUCT(LARGE((colk=$O$2)*ROW(colk)-12,ROW($A9))))) | L21: =IF(ROW(L9)>COUNTIF(colk,$O$2),"",INDEX(coll,SUMPRODUCT(LARGE((colk=$O$2)*ROW(colk)-12,ROW($A9))))) | M21: =IF(ROW(M9)>COUNTIF(colk,$O$2),"",INDEX(colm,SUMPRODUCT(LARGE((colk=$O$2)*ROW(colk)-12,ROW($A9))))) | N21: =IF(ROW(N9)>COUNTIF(colk,$O$2),"",INDEX(coln,SUMPRODUCT(LARGE((colk=$O$2)*ROW(colk)-12,ROW($A9)))))
A22: =IF(ROW(A10)>COUNTIF(colk,$O$2),"",INDEX(cola,SUMPRODUCT(LARGE((colk=$O$2)*ROW(colk)-12,ROW($A10))))) | B22: =IF(ROW(B10)>COUNTIF(colk,$O$2),"",INDEX(colb,SUMPRODUCT(LARGE((colk=$O$2)*ROW(colk)-12,ROW($A10))))) | C22: =IF(ROW(C10)>COUNTIF(colk,$O$2),"",INDEX(colc,SUMPRODUCT(LARGE((colk=$O$2)*ROW(colk)-12,ROW($A10))))) | D22: =IF(ROW(D10)>COUNTIF(colk,$O$2),"",INDEX(cold,SUMPRODUCT(LARGE((colk=$O$2)*ROW(colk)-12,ROW($A10))))) | E22: =IF(ROW(E10)>COUNTIF(colk,$O$2),"",INDEX(cole,SUMPRODUCT(LARGE((colk=$O$2)*ROW(colk)-12,ROW($A10))))) | F22: =IF(ROW(F10)>COUNTIF(colk,$O$2),"",INDEX(colf,SUMPRODUCT(LARGE((colk=$O$2)*ROW(colk)-12,ROW($A10))))) | G22: =IF(ROW(G10)>COUNTIF(colk,$O$2),"",INDEX(colg,SUMPRODUCT(LARGE((colk=$O$2)*ROW(colk)-12,ROW($A10))))) | H22: =IF(ROW(H10)>COUNTIF(colk,$O$2),"",INDEX(colh,SUMPRODUCT(LARGE((colk=$O$2)*ROW(colk)-12,ROW($A10))))) | I22: =IF(ROW(I10)>COUNTIF(colk,$O$2),"",INDEX(coli,SUMPRODUCT(LARGE((colk=$O$2)*ROW(colk)-12,ROW($A10))))) | J22: =IF(ROW(J10)>COUNTIF(colk,$O$2),"",INDEX(colj,SUMPRODUCT(LARGE((colk=$O$2)*ROW(colk)-12,ROW($A10))))) | K22: =IF(ROW(K10)>COUNTIF(colk,$O$2),"",INDEX(colk,SUMPRODUCT(LARGE((colk=$O$2)*ROW(colk)-12,ROW($A10))))) | L22: =IF(ROW(L10)>COUNTIF(colk,$O$2),"",INDEX(coll,SUMPRODUCT(LARGE((colk=$O$2)*ROW(colk)-12,ROW($A10))))) | M22: =IF(ROW(M10)>COUNTIF(colk,$O$2),"",INDEX(colm,SUMPRODUCT(LARGE((colk=$O$2)*ROW(colk)-12,ROW($A10))))) | N22: =IF(ROW(N10)>COUNTIF(colk,$O$2),"",INDEX(coln,SUMPRODUCT(LARGE((colk=$O$2)*ROW(colk)-12,ROW($A10)))))
A23: =IF(ROW(A11)>COUNTIF(colk,$O$2),"",INDEX(cola,SUMPRODUCT(LARGE((colk=$O$2)*ROW(colk)-12,ROW($A11))))) | B23: =IF(ROW(B11)>COUNTIF(colk,$O$2),"",INDEX(colb,SUMPRODUCT(LARGE((colk=$O$2)*ROW(colk)-12,ROW($A11))))) | C23: =IF(ROW(C11)>COUNTIF(colk,$O$2),"",INDEX(colc,SUMPRODUCT(LARGE((colk=$O$2)*ROW(colk)-12,ROW($A11))))) | D23: =IF(ROW(D11)>COUNTIF(colk,$O$2),"",INDEX(cold,SUMPRODUCT(LARGE((colk=$O$2)*ROW(colk)-12,ROW($A11))))) | E23: =IF(ROW(E11)>COUNTIF(colk,$O$2),"",INDEX(cole,SUMPRODUCT(LARGE((colk=$O$2)*ROW(colk)-12,ROW($A11))))) | F23: =IF(ROW(F11)>COUNTIF(colk,$O$2),"",INDEX(colf,SUMPRODUCT(LARGE((colk=$O$2)*ROW(colk)-12,ROW($A11))))) | G23: =IF(ROW(G11)>COUNTIF(colk,$O$2),"",INDEX(colg,SUMPRODUCT(LARGE((colk=$O$2)*ROW(colk)-12,ROW($A11))))) | H23: =IF(ROW(H11)>COUNTIF(colk,$O$2),"",INDEX(colh,SUMPRODUCT(LARGE((colk=$O$2)*ROW(colk)-12,ROW($A11))))) | I23: =IF(ROW(I11)>COUNTIF(colk,$O$2),"",INDEX(coli,SUMPRODUCT(LARGE((colk=$O$2)*ROW(colk)-12,ROW($A11))))) | J23: =IF(ROW(J11)>COUNTIF(colk,$O$2),"",INDEX(colj,SUMPRODUCT(LARGE((colk=$O$2)*ROW(colk)-12,ROW($A11))))) | K23: =IF(ROW(K11)>COUNTIF(colk,$O$2),"",INDEX(colk,SUMPRODUCT(LARGE((colk=$O$2)*ROW(colk)-12,ROW($A11))))) | L23: =IF(ROW(L11)>COUNTIF(colk,$O$2),"",INDEX(coll,SUMPRODUCT(LARGE((colk=$O$2)*ROW(colk)-12,ROW($A11))))) | M23: =IF(ROW(M11)>COUNTIF(colk,$O$2),"",INDEX(colm,SUMPRODUCT(LARGE((colk=$O$2)*ROW(colk)-12,ROW($A11))))) | N23: =IF(ROW(N11)>COUNTIF(colk,$O$2),"",INDEX(coln,SUMPRODUCT(LARGE((colk=$O$2)*ROW(colk)-12,ROW($A11)))))
A24: =IF(ROW(A12)>COUNTIF(colk,$O$2),"",INDEX(cola,SUMPRODUCT(LARGE((colk=$O$2)*ROW(colk)-12,ROW($A12))))) | B24: =IF(ROW(B12)>COUNTIF(colk,$O$2),"",INDEX(colb,SUMPRODUCT(LARGE((colk=$O$2)*ROW(colk)-12,ROW($A12))))) | C24: =IF(ROW(C12)>COUNTIF(colk,$O$2),"",INDEX(colc,SUMPRODUCT(LARGE((colk=$O$2)*ROW(colk)-12,ROW($A12))))) | D24: =IF(ROW(D12)>COUNTIF(colk,$O$2),"",INDEX(cold,SUMPRODUCT(LARGE((colk=$O$2)*ROW(colk)-12,ROW($A12))))) | E24: =IF(ROW(E12)>COUNTIF(colk,$O$2),"",INDEX(cole,SUMPRODUCT(LARGE((colk=$O$2)*ROW(colk)-12,ROW($A12))))) | F24: =IF(ROW(F12)>COUNTIF(colk,$O$2),"",INDEX(colf,SUMPRODUCT(LARGE((colk=$O$2)*ROW(colk)-12,ROW($A12))))) | G24: =IF(ROW(G12)>COUNTIF(colk,$O$2),"",INDEX(colg,SUMPRODUCT(LARGE((colk=$O$2)*ROW(colk)-12,ROW($A12))))) | H24: =IF(ROW(H12)>COUNTIF(colk,$O$2),"",INDEX(colh,SUMPRODUCT(LARGE((colk=$O$2)*ROW(colk)-12,ROW($A12))))) | I24: =IF(ROW(I12)>COUNTIF(colk,$O$2),"",INDEX(coli,SUMPRODUCT(LARGE((colk=$O$2)*ROW(colk)-12,ROW($A12))))) | J24: =IF(ROW(J12)>COUNTIF(colk,$O$2),"",INDEX(colj,SUMPRODUCT(LARGE((colk=$O$2)*ROW(colk)-12,ROW($A12))))) | K24: =IF(ROW(K12)>COUNTIF(colk,$O$2),"",INDEX(colk,SUMPRODUCT(LARGE((colk=$O$2)*ROW(colk)-12,ROW($A12))))) | L24: =IF(ROW(L12)>COUNTIF(colk,$O$2),"",INDEX(coll,SUMPRODUCT(LARGE((colk=$O$2)*ROW(colk)-12,ROW($A12))))) | M24: =IF(ROW(M12)>COUNTIF(colk,$O$2),"",INDEX(colm,SUMPRODUCT(LARGE((colk=$O$2)*ROW(colk)-12,ROW($A12))))) | N24: =IF(ROW(N12)>COUNTIF(colk,$O$2),"",INDEX(coln,SUMPRODUCT(LARGE((colk=$O$2)*ROW(colk)-12,ROW($A12)))))
... A150: =IF(ROW(A138)>COUNTIF(colk,$O$2),"",INDEX(cola,SUMPRODUCT(LARGE((colk=$O$2)*ROW(colk)-12,ROW($A138))))) | B150: =IF(ROW(B138)>COUNTIF(colk,$O$2),"",INDEX(colb,SUMPRODUCT(LARGE((colk=$O$2)*ROW(colk)-12,ROW($A138))))) | C150: =IF(ROW(C138)>COUNTIF(colk,$O$2),"",INDEX(colc,SUMPRODUCT(LARGE((colk=$O$2)*ROW(colk)-12,ROW($A138))))) | D150: =IF(ROW(D138)>COUNTIF(colk,$O$2),"",INDEX(cold,SUMPRODUCT(LARGE((colk=$O$2)*ROW(colk)-12,ROW($A138))))) | E150: =IF(ROW(E138)>COUNTIF(colk,$O$2),"",INDEX(cole,SUMPRODUCT(LARGE((colk=$O$2)*ROW(colk)-12,ROW($A138))))) | F150: =IF(ROW(F138)>COUNTIF(colk,$O$2),"",INDEX(colf,SUMPRODUCT(LARGE((colk=$O$2)*ROW(colk)-12,ROW($A138))))) | G150: =IF(ROW(G138)>COUNTIF(colk,$O$2),"",INDEX(colg,SUMPRODUCT(LARGE((colk=$O$2)*ROW(colk)-12,ROW($A138))))) | H150: =IF(ROW(H138)>COUNTIF(colk,$O$2),"",INDEX(colh,SUMPRODUCT(LARGE((colk=$O$2)*ROW(colk)-12,ROW($A138))))) | I150: =IF(ROW(I138)>COUNTIF(colk,$O$2),"",INDEX(coli,SUMPRODUCT(LARGE((colk=$O$2)*ROW(colk)-12,ROW($A138))))) | J150: =IF(ROW(J138)>COUNTIF(colk,$O$2),"",INDEX(colj,SUMPRODUCT(LARGE((colk=$O$2)*ROW(colk)-12,ROW($A138))))) | K150: =IF(ROW(K138)>COUNTIF(colk,$O$2),"",INDEX(colk,SUMPRODUCT(LARGE((colk=$O$2)*ROW(colk)-12,ROW($A138))))) | L150: =IF(ROW(L138)>COUNTIF(colk,$O$2),"",INDEX(coll,SUMPRODUCT(LARGE((colk=$O$2)*ROW(colk)-12,ROW($A138))))) | M150: =IF(ROW(M138)>COUNTIF(colk,$O$2),"",INDEX(colm,SUMPRODUCT(LARGE((colk=$O$2)*ROW(colk)-12,ROW($A138))))) | N150: =IF(ROW(N138)>COUNTIF(colk,$O$2),"",INDEX(coln,SUMPRODUCT(LARGE((colk=$O$2)*ROW(colk)-12,ROW($A138)))))

Sheet particulier
M2: particulier
G5: objets
H6: donnés
G7: =COUNTIF(G13:G150,1) -> 0 | H7: =COUNTIF($L$13:$L$200,"à renouveler") -> 3
A12: DATE DEPOT | B12: OBJET | C12: BOIS | D12: VARIETE | E12: REMARQUE | F12: N° | G12: Q | H12: PRIX unité | I12: DATE VENTE | J12: DEPOT | K12: REC AUTRE | L12: N°libre
A13: =IF(ROW(A1)>COUNTIF(colk,$M$2),"",INDEX(cola,SUMPRODUCT(LARGE((colk=$M$2)*ROW(colk)-12,ROW($A1))))) -> dec15 | B13: =IF(ROW(B1)>COUNTIF(colk,$M$2),"",INDEX(colb,SUMPRODUCT(LARGE((colk=$M$2)*ROW(colk)-12,ROW($A1))))) -> boite gm | C13: =IF(ROW(C1)>COUNTIF(colk,$M$2),"",INDEX(colc,SUMPRODUCT(LARGE((colk=$M$2)*ROW(colk)-12,ROW($A1))))) -> no | D13: =IF(ROW(D1)>COUNTIF(colk,$M$2),"",INDEX(cold,SUMPRODUCT(LARGE((colk=$M$2)*ROW(colk)-12,ROW($A1))))) -> noyer | E13: =IF(ROW(E1)>COUNTIF(colk,$M$2),"",INDEX(cole,SUMPRODUCT(LARGE((colk=$M$2)*ROW(colk)-12,ROW($A1))))) -> bois coti-moutouchi | F13: =IF(ROW(F1)>COUNTIF(colk,$M$2),"",INDEX(colf,SUMPRODUCT(LARGE((colk=$M$2)*ROW(colk)-12,ROW($A1))))) -> 15084 | G13: =IF(ROW(G1)>COUNTIF(colk,$M$2),"",INDEX(colg,SUMPRODUCT(LARGE((colk=$M$2)*ROW(colk)-12,ROW($A1))))) -> 0 | H13: =IF(ROW(H1)>COUNTIF(colk,$M$2),"",INDEX(colh,SUMPRODUCT(LARGE((colk=$M$2)*ROW(colk)-12,ROW($A1))))) -> 40 | I13: =IF(ROW(I1)>COUNTIF(colk,$M$2),"",INDEX(coli,SUMPRODUCT(LARGE((colk=$M$2)*ROW(colk)-12,ROW($A1))))) -> dec 15 | J13: =IF(ROW(J1)>COUNTIF(colk,$M$2),"",INDEX(colk,SUMPRODUCT(LARGE((colk=$M$2)*ROW(colk)-12,ROW($A1))))) -> particulier | K13: =IF(ROW(K1)>COUNTIF(colk,$M$2),"",INDEX(colm,SUMPRODUCT(LARGE((colk=$M$2)*ROW(colk)-12,ROW($A1))))) -> anna | L13: =IF(ROW(L1)>COUNTIF(colk,$M$2),"",INDEX(coln,SUMPRODUCT(LARGE((colk=$M$2)*ROW(colk)-12,ROW($A1))))) -> à renouveler
A14: =IF(ROW(A2)>COUNTIF(colk,$M$2),"",INDEX(cola,SUMPRODUCT(LARGE((colk=$M$2)*ROW(colk)-12,ROW($A2))))) -> dec15 | B14: =IF(ROW(B2)>COUNTIF(colk,$M$2),"",INDEX(colb,SUMPRODUCT(LARGE((colk=$M$2)*ROW(colk)-12,ROW($A2))))) -> vase gm | C14: =IF(ROW(C2)>COUNTIF(colk,$M$2),"",INDEX(colc,SUMPRODUCT(LARGE((colk=$M$2)*ROW(colk)-12,ROW($A2))))) -> if | D14: =IF(ROW(D2)>COUNTIF(colk,$M$2),"",INDEX(cold,SUMPRODUCT(LARGE((colk=$M$2)*ROW(colk)-12,ROW($A2))))) -> if | E14: =IF(ROW(E2)>COUNTIF(colk,$M$2),"",INDEX(cole,SUMPRODUCT(LARGE((colk=$M$2)*ROW(colk)-12,ROW($A2))))) -> bouton moutouchi | F14: =IF(ROW(F2)>COUNTIF(colk,$M$2),"",INDEX(colf,SUMPRODUCT(LARGE((colk=$M$2)*ROW(colk)-12,ROW($A2))))) -> 15085 | G14: =IF(ROW(G2)>COUNTIF(colk,$M$2),"",INDEX(colg,SUMPRODUCT(LARGE((colk=$M$2)*ROW(colk)-12,ROW($A2))))) -> 0 | H14: =IF(ROW(H2)>COUNTIF(colk,$M$2),"",INDEX(colh,SUMPRODUCT(LARGE((colk=$M$2)*ROW(colk)-12,ROW($A2))))) -> 60 | I14: =IF(ROW(I2)>COUNTIF(colk,$M$2),"",INDEX(coli,SUMPRODUCT(LARGE((colk=$M$2)*ROW(colk)-12,ROW($A2))))) -> dec 15 | J14: =IF(ROW(J2)>COUNTIF(colk,$M$2),"",INDEX(colk,SUMPRODUCT(LARGE((colk=$M$2)*ROW(colk)-12,ROW($A2))))) -> particulier | K14: =IF(ROW(K2)>COUNTIF(colk,$M$2),"",INDEX(colm,SUMPRODUCT(LARGE((colk=$M$2)*ROW(colk)-12,ROW($A2))))) -> michèle | L14: =IF(ROW(L2)>COUNTIF(colk,$M$2),"",INDEX(coln,SUMPRODUCT(LARGE((colk=$M$2)*ROW(colk)-12,ROW($A2))))) -> à renouveler
A15: =IF(ROW(A3)>COUNTIF(colk,$M$2),"",INDEX(cola,SUMPRODUCT(LARGE((colk=$M$2)*ROW(colk)-12,ROW($A3))))) -> dec15 | B15: =IF(ROW(B3)>COUNTIF(colk,$M$2),"",INDEX(colb,SUMPRODUCT(LARGE((colk=$M$2)*ROW(colk)-12,ROW($A3))))) -> pot à crayons mm | C15: =IF(ROW(C3)>COUNTIF(colk,$M$2),"",INDEX(colc,SUMPRODUCT(LARGE((colk=$M$2)*ROW(colk)-12,ROW($A3))))) -> or | D15: =IF(ROW(D3)>COUNTIF(colk,$M$2),"",INDEX(cold,SUMPRODUCT(LARGE((colk=$M$2)*ROW(colk)-12,ROW($A3))))) -> orme | E15: =IF(ROW(E3)>COUNTIF(colk,$M$2),"",INDEX(cole,SUMPRODUCT(LARGE((colk=$M$2)*ROW(colk)-12,ROW($A3))))) -> gigogne /4 | F15: =IF(ROW(F3)>COUNTIF(colk,$M$2),"",INDEX(colf,SUMPRODUCT(LARGE((colk=$M$2)*ROW(colk)-12,ROW($A3))))) -> 15028-31 | G15: =IF(ROW(G3)>COUNTIF(colk,$M$2),"",INDEX(colg,SUMPRODUCT(LARGE((colk=$M$2)*ROW(colk)-12,ROW($A3))))) -> 0 | H15: =IF(ROW(H3)>COUNTIF(colk,$M$2),"",INDEX(colh,SUMPRODUCT(LARGE((colk=$M$2)*ROW(colk)-12,ROW($A3))))) -> 25 | I15: =IF(ROW(I3)>COUNTIF(colk,$M$2),"",INDEX(coli,SUMPRODUCT(LARGE((colk=$M$2)*ROW(colk)-12,ROW($A3))))) -> dec 15 | J15: =IF(ROW(J3)>COUNTIF(colk,$M$2),"",INDEX(colk,SUMPRODUCT(LARGE((colk=$M$2)*ROW(colk)-12,ROW($A3))))) -> particulier | K15: =IF(ROW(K3)>COUNTIF(colk,$M$2),"",INDEX(colm,SUMPRODUCT(LARGE((colk=$M$2)*ROW(colk)-12,ROW($A3))))) -> jeantho | L15: =IF(ROW(L3)>COUNTIF(colk,$M$2),"",INDEX(coln,SUMPRODUCT(LARGE((colk=$M$2)*ROW(colk)-12,ROW($A3))))) -> à renouveler
A16: =IF(ROW(A4)>COUNTIF(colk,$M$2),"",INDEX(cola,SUMPRODUCT(LARGE((colk=$M$2)*ROW(colk)-12,ROW($A4))))) | B16: =IF(ROW(B4)>COUNTIF(colk,$M$2),"",INDEX(colb,SUMPRODUCT(LARGE((colk=$M$2)*ROW(colk)-12,ROW($A4))))) | C16: =IF(ROW(C4)>COUNTIF(colk,$M$2),"",INDEX(colc,SUMPRODUCT(LARGE((colk=$M$2)*ROW(colk)-12,ROW($A4))))) | D16: =IF(ROW(D4)>COUNTIF(colk,$M$2),"",INDEX(cold,SUMPRODUCT(LARGE((colk=$M$2)*ROW(colk)-12,ROW($A4))))) | E16: =IF(ROW(E4)>COUNTIF(colk,$M$2),"",INDEX(cole,SUMPRODUCT(LARGE((colk=$M$2)*ROW(colk)-12,ROW($A4))))) | F16: =IF(ROW(F4)>COUNTIF(colk,$M$2),"",INDEX(colf,SUMPRODUCT(LARGE((colk=$M$2)*ROW(colk)-12,ROW($A4))))) | G16: =IF(ROW(G4)>COUNTIF(colk,$M$2),"",INDEX(colg,SUMPRODUCT(LARGE((colk=$M$2)*ROW(colk)-12,ROW($A4))))) | H16: =IF(ROW(H4)>COUNTIF(colk,$M$2),"",INDEX(colh,SUMPRODUCT(LARGE((colk=$M$2)*ROW(colk)-12,ROW($A4))))) | I16: =IF(ROW(I4)>COUNTIF(colk,$M$2),"",INDEX(coli,SUMPRODUCT(LARGE((colk=$M$2)*ROW(colk)-12,ROW($A4))))) | J16: =IF(ROW(J4)>COUNTIF(colk,$M$2),"",INDEX(colk,SUMPRODUCT(LARGE((colk=$M$2)*ROW(colk)-12,ROW($A4))))) | K16: =IF(ROW(K4)>COUNTIF(colk,$M$2),"",INDEX(colm,SUMPRODUCT(LARGE((colk=$M$2)*ROW(colk)-12,ROW($A4))))) | L16: =IF(ROW(L4)>COUNTIF(colk,$M$2),"",INDEX(coln,SUMPRODUCT(LARGE((colk=$M$2)*ROW(colk)-12,ROW($A4)))))
A17: =IF(ROW(A5)>COUNTIF(colk,$M$2),"",INDEX(cola,SUMPRODUCT(LARGE((colk=$M$2)*ROW(colk)-12,ROW($A5))))) | B17: =IF(ROW(B5)>COUNTIF(colk,$M$2),"",INDEX(colb,SUMPRODUCT(LARGE((colk=$M$2)*ROW(colk)-12,ROW($A5))))) | C17: =IF(ROW(C5)>COUNTIF(colk,$M$2),"",INDEX(colc,SUMPRODUCT(LARGE((colk=$M$2)*ROW(colk)-12,ROW($A5))))) | D17: =IF(ROW(D5)>COUNTIF(colk,$M$2),"",INDEX(cold,SUMPRODUCT(LARGE((colk=$M$2)*ROW(colk)-12,ROW($A5))))) | E17: =IF(ROW(E5)>COUNTIF(colk,$M$2),"",INDEX(cole,SUMPRODUCT(LARGE((colk=$M$2)*ROW(colk)-12,ROW($A5))))) | F17: =IF(ROW(F5)>COUNTIF(colk,$M$2),"",INDEX(colf,SUMPRODUCT(LARGE((colk=$M$2)*ROW(colk)-12,ROW($A5))))) | G17: =IF(ROW(G5)>COUNTIF(colk,$M$2),"",INDEX(colg,SUMPRODUCT(LARGE((colk=$M$2)*ROW(colk)-12,ROW($A5))))) | H17: =IF(ROW(H5)>COUNTIF(colk,$M$2),"",INDEX(colh,SUMPRODUCT(LARGE((colk=$M$2)*ROW(colk)-12,ROW($A5))))) | I17: =IF(ROW(I5)>COUNTIF(colk,$M$2),"",INDEX(coli,SUMPRODUCT(LARGE((colk=$M$2)*ROW(colk)-12,ROW($A5))))) | J17: =IF(ROW(J5)>COUNTIF(colk,$M$2),"",INDEX(colk,SUMPRODUCT(LARGE((colk=$M$2)*ROW(colk)-12,ROW($A5))))) | K17: =IF(ROW(K5)>COUNTIF(colk,$M$2),"",INDEX(colm,SUMPRODUCT(LARGE((colk=$M$2)*ROW(colk)-12,ROW($A5))))) | L17: =IF(ROW(L5)>COUNTIF(colk,$M$2),"",INDEX(coln,SUMPRODUCT(LARGE((colk=$M$2)*ROW(colk)-12,ROW($A5)))))
A18: =IF(ROW(A6)>COUNTIF(colk,$M$2),"",INDEX(cola,SUMPRODUCT(LARGE((colk=$M$2)*ROW(colk)-12,ROW($A6))))) | B18: =IF(ROW(B6)>COUNTIF(colk,$M$2),"",INDEX(colb,SUMPRODUCT(LARGE((colk=$M$2)*ROW(colk)-12,ROW($A6))))) | C18: =IF(ROW(C6)>COUNTIF(colk,$M$2),"",INDEX(colc,SUMPRODUCT(LARGE((colk=$M$2)*ROW(colk)-12,ROW($A6))))) | D18: =IF(ROW(D6)>COUNTIF(colk,$M$2),"",INDEX(cold,SUMPRODUCT(LARGE((colk=$M$2)*ROW(colk)-12,ROW($A6))))) | E18: =IF(ROW(E6)>COUNTIF(colk,$M$2),"",INDEX(cole,SUMPRODUCT(LARGE((colk=$M$2)*ROW(colk)-12,ROW($A6))))) | F18: =IF(ROW(F6)>COUNTIF(colk,$M$2),"",INDEX(colf,SUMPRODUCT(LARGE((colk=$M$2)*ROW(colk)-12,ROW($A6))))) | G18: =IF(ROW(G5)>COUNTIF(colk,$M$2),"",INDEX(colg,SUMPRODUCT(LARGE((colk=$M$2)*ROW(colk)-12,ROW($A6))))) | H18: =IF(ROW(H6)>COUNTIF(colk,$M$2),"",INDEX(colh,SUMPRODUCT(LARGE((colk=$M$2)*ROW(colk)-12,ROW($A6))))) | I18: =IF(ROW(I6)>COUNTIF(colk,$M$2),"",INDEX(coli,SUMPRODUCT(LARGE((colk=$M$2)*ROW(colk)-12,ROW($A6))))) | J18: =IF(ROW(J6)>COUNTIF(colk,$M$2),"",INDEX(colk,SUMPRODUCT(LARGE((colk=$M$2)*ROW(colk)-12,ROW($A6))))) | K18: =IF(ROW(K6)>COUNTIF(colk,$M$2),"",INDEX(colm,SUMPRODUCT(LARGE((colk=$M$2)*ROW(colk)-12,ROW($A6))))) | L18: =IF(ROW(L6)>COUNTIF(colk,$M$2),"",INDEX(coln,SUMPRODUCT(LARGE((colk=$M$2)*ROW(colk)-12,ROW($A6)))))
A19: =IF(ROW(A7)>COUNTIF(colk,$M$2),"",INDEX(cola,SUMPRODUCT(LARGE((colk=$M$2)*ROW(colk)-12,ROW($A7))))) | B19: =IF(ROW(B7)>COUNTIF(colk,$M$2),"",INDEX(colb,SUMPRODUCT(LARGE((colk=$M$2)*ROW(colk)-12,ROW($A7))))) | C19: =IF(ROW(C7)>COUNTIF(colk,$M$2),"",INDEX(colc,SUMPRODUCT(LARGE((colk=$M$2)*ROW(colk)-12,ROW($A7))))) | D19: =IF(ROW(D7)>COUNTIF(colk,$M$2),"",INDEX(cold,SUMPRODUCT(LARGE((colk=$M$2)*ROW(colk)-12,ROW($A7))))) | E19: =IF(ROW(E7)>COUNTIF(colk,$M$2),"",INDEX(cole,SUMPRODUCT(LARGE((colk=$M$2)*ROW(colk)-12,ROW($A7))))) | F19: =IF(ROW(F7)>COUNTIF(colk,$M$2),"",INDEX(colf,SUMPRODUCT(LARGE((colk=$M$2)*ROW(colk)-12,ROW($A7))))) | G19: =IF(ROW(G7)>COUNTIF(colk,$M$2),"",INDEX(colg,SUMPRODUCT(LARGE((colk=$M$2)*ROW(colk)-12,ROW($A7))))) | H19: =IF(ROW(H7)>COUNTIF(colk,$M$2),"",INDEX(colh,SUMPRODUCT(LARGE((colk=$M$2)*ROW(colk)-12,ROW($A7))))) | I19: =IF(ROW(I7)>COUNTIF(colk,$M$2),"",INDEX(coli,SUMPRODUCT(LARGE((colk=$M$2)*ROW(colk)-12,ROW($A7))))) | J19: =IF(ROW(J7)>COUNTIF(colk,$M$2),"",INDEX(colk,SUMPRODUCT(LARGE((colk=$M$2)*ROW(colk)-12,ROW($A7))))) | K19: =IF(ROW(K7)>COUNTIF(colk,$M$2),"",INDEX(colm,SUMPRODUCT(LARGE((colk=$M$2)*ROW(colk)-12,ROW($A7))))) | L19: =IF(ROW(L7)>COUNTIF(colk,$M$2),"",INDEX(coln,SUMPRODUCT(LARGE((colk=$M$2)*ROW(colk)-12,ROW($A7)))))
A20: =IF(ROW(A8)>COUNTIF(colk,$M$2),"",INDEX(cola,SUMPRODUCT(LARGE((colk=$M$2)*ROW(colk)-12,ROW($A8))))) | B20: =IF(ROW(B8)>COUNTIF(colk,$M$2),"",INDEX(colb,SUMPRODUCT(LARGE((colk=$M$2)*ROW(colk)-12,ROW($A8))))) | C20: =IF(ROW(C8)>COUNTIF(colk,$M$2),"",INDEX(colc,SUMPRODUCT(LARGE((colk=$M$2)*ROW(colk)-12,ROW($A8))))) | D20: =IF(ROW(D8)>COUNTIF(colk,$M$2),"",INDEX(cold,SUMPRODUCT(LARGE((colk=$M$2)*ROW(colk)-12,ROW($A8))))) | E20: =IF(ROW(E8)>COUNTIF(colk,$M$2),"",INDEX(cole,SUMPRODUCT(LARGE((colk=$M$2)*ROW(colk)-12,ROW($A8))))) | F20: =IF(ROW(F8)>COUNTIF(colk,$M$2),"",INDEX(colf,SUMPRODUCT(LARGE((colk=$M$2)*ROW(colk)-12,ROW($A8))))) | G20: =IF(ROW(G8)>COUNTIF(colk,$M$2),"",INDEX(colg,SUMPRODUCT(LARGE((colk=$M$2)*ROW(colk)-12,ROW($A8))))) | H20: =IF(ROW(H8)>COUNTIF(colk,$M$2),"",INDEX(colh,SUMPRODUCT(LARGE((colk=$M$2)*ROW(colk)-12,ROW($A8))))) | I20: =IF(ROW(I8)>COUNTIF(colk,$M$2),"",INDEX(coli,SUMPRODUCT(LARGE((colk=$M$2)*ROW(colk)-12,ROW($A8))))) | J20: =IF(ROW(J8)>COUNTIF(colk,$M$2),"",INDEX(colk,SUMPRODUCT(LARGE((colk=$M$2)*ROW(colk)-12,ROW($A8))))) | K20: =IF(ROW(K8)>COUNTIF(colk,$M$2),"",INDEX(colm,SUMPRODUCT(LARGE((colk=$M$2)*ROW(colk)-12,ROW($A8))))) | L20: =IF(ROW(L8)>COUNTIF(colk,$M$2),"",INDEX(coln,SUMPRODUCT(LARGE((colk=$M$2)*ROW(colk)-12,ROW($A8)))))
A21: =IF(ROW(A9)>COUNTIF(colk,$M$2),"",INDEX(cola,SUMPRODUCT(LARGE((colk=$M$2)*ROW(colk)-12,ROW($A9))))) | B21: =IF(ROW(B9)>COUNTIF(colk,$M$2),"",INDEX(colb,SUMPRODUCT(LARGE((colk=$M$2)*ROW(colk)-12,ROW($A9))))) | C21: =IF(ROW(C9)>COUNTIF(colk,$M$2),"",INDEX(colc,SUMPRODUCT(LARGE((colk=$M$2)*ROW(colk)-12,ROW($A9))))) | D21: =IF(ROW(D9)>COUNTIF(colk,$M$2),"",INDEX(cold,SUMPRODUCT(LARGE((colk=$M$2)*ROW(colk)-12,ROW($A9))))) | E21: =IF(ROW(E9)>COUNTIF(colk,$M$2),"",INDEX(cole,SUMPRODUCT(LARGE((colk=$M$2)*ROW(colk)-12,ROW($A9))))) | F21: =IF(ROW(F9)>COUNTIF(colk,$M$2),"",INDEX(colf,SUMPRODUCT(LARGE((colk=$M$2)*ROW(colk)-12,ROW($A9))))) | G21: =IF(ROW(G9)>COUNTIF(colk,$M$2),"",INDEX(colg,SUMPRODUCT(LARGE((colk=$M$2)*ROW(colk)-12,ROW($A9))))) | H21: =IF(ROW(H9)>COUNTIF(colk,$M$2),"",INDEX(colh,SUMPRODUCT(LARGE((colk=$M$2)*ROW(colk)-12,ROW($A9))))) | I21: =IF(ROW(I9)>COUNTIF(colk,$M$2),"",INDEX(coli,SUMPRODUCT(LARGE((colk=$M$2)*ROW(colk)-12,ROW($A9))))) | J21: =IF(ROW(J9)>COUNTIF(colk,$M$2),"",INDEX(colk,SUMPRODUCT(LARGE((colk=$M$2)*ROW(colk)-12,ROW($A9))))) | K21: =IF(ROW(K9)>COUNTIF(colk,$M$2),"",INDEX(colm,SUMPRODUCT(LARGE((colk=$M$2)*ROW(colk)-12,ROW($A9))))) | L21: =IF(ROW(L9)>COUNTIF(colk,$M$2),"",INDEX(coln,SUMPRODUCT(LARGE((colk=$M$2)*ROW(colk)-12,ROW($A9)))))
A22: =IF(ROW(A10)>COUNTIF(colk,$M$2),"",INDEX(cola,SUMPRODUCT(LARGE((colk=$M$2)*ROW(colk)-12,ROW($A10))))) | B22: =IF(ROW(B10)>COUNTIF(colk,$M$2),"",INDEX(colb,SUMPRODUCT(LARGE((colk=$M$2)*ROW(colk)-12,ROW($A10))))) | C22: =IF(ROW(C10)>COUNTIF(colk,$M$2),"",INDEX(colc,SUMPRODUCT(LARGE((colk=$M$2)*ROW(colk)-12,ROW($A10))))) | D22: =IF(ROW(D10)>COUNTIF(colk,$M$2),"",INDEX(cold,SUMPRODUCT(LARGE((colk=$M$2)*ROW(colk)-12,ROW($A10))))) | E22: =IF(ROW(E10)>COUNTIF(colk,$M$2),"",INDEX(cole,SUMPRODUCT(LARGE((colk=$M$2)*ROW(colk)-12,ROW($A10))))) | F22: =IF(ROW(F10)>COUNTIF(colk,$M$2),"",INDEX(colf,SUMPRODUCT(LARGE((colk=$M$2)*ROW(colk)-12,ROW($A10))))) | G22: =IF(ROW(G10)>COUNTIF(colk,$M$2),"",INDEX(colg,SUMPRODUCT(LARGE((colk=$M$2)*ROW(colk)-12,ROW($A10))))) | H22: =IF(ROW(H10)>COUNTIF(colk,$M$2),"",INDEX(colh,SUMPRODUCT(LARGE((colk=$M$2)*ROW(colk)-12,ROW($A10))))) | I22: =IF(ROW(I10)>COUNTIF(colk,$M$2),"",INDEX(coli,SUMPRODUCT(LARGE((colk=$M$2)*ROW(colk)-12,ROW($A10))))) | J22: =IF(ROW(J10)>COUNTIF(colk,$M$2),"",INDEX(colk,SUMPRODUCT(LARGE((colk=$M$2)*ROW(colk)-12,ROW($A10))))) | K22: =IF(ROW(K10)>COUNTIF(colk,$M$2),"",INDEX(colm,SUMPRODUCT(LARGE((colk=$M$2)*ROW(colk)-12,ROW($A10))))) | L22: =IF(ROW(L10)>COUNTIF(colk,$M$2),"",INDEX(coln,SUMPRODUCT(LARGE((colk=$M$2)*ROW(colk)-12,ROW($A10)))))
A23: =IF(ROW(A11)>COUNTIF(colk,$M$2),"",INDEX(cola,SUMPRODUCT(LARGE((colk=$M$2)*ROW(colk)-12,ROW($A11))))) | B23: =IF(ROW(B11)>COUNTIF(colk,$M$2),"",INDEX(colb,SUMPRODUCT(LARGE((colk=$M$2)*ROW(colk)-12,ROW($A11))))) | C23: =IF(ROW(C11)>COUNTIF(colk,$M$2),"",INDEX(colc,SUMPRODUCT(LARGE((colk=$M$2)*ROW(colk)-12,ROW($A11))))) | D23: =IF(ROW(D11)>COUNTIF(colk,$M$2),"",INDEX(cold,SUMPRODUCT(LARGE((colk=$M$2)*ROW(colk)-12,ROW($A11))))) | E23: =IF(ROW(E11)>COUNTIF(colk,$M$2),"",INDEX(cole,SUMPRODUCT(LARGE((colk=$M$2)*ROW(colk)-12,ROW($A11))))) | F23: =IF(ROW(F11)>COUNTIF(colk,$M$2),"",INDEX(colf,SUMPRODUCT(LARGE((colk=$M$2)*ROW(colk)-12,ROW($A11))))) | G23: =IF(ROW(G11)>COUNTIF(colk,$M$2),"",INDEX(colg,SUMPRODUCT(LARGE((colk=$M$2)*ROW(colk)-12,ROW($A11))))) | H23: =IF(ROW(H11)>COUNTIF(colk,$M$2),"",INDEX(colh,SUMPRODUCT(LARGE((colk=$M$2)*ROW(colk)-12,ROW($A11))))) | I23: =IF(ROW(I11)>COUNTIF(colk,$M$2),"",INDEX(coli,SUMPRODUCT(LARGE((colk=$M$2)*ROW(colk)-12,ROW($A11))))) | J23: =IF(ROW(J11)>COUNTIF(colk,$M$2),"",INDEX(colk,SUMPRODUCT(LARGE((colk=$M$2)*ROW(colk)-12,ROW($A11))))) | K23: =IF(ROW(K11)>COUNTIF(colk,$M$2),"",INDEX(colm,SUMPRODUCT(LARGE((colk=$M$2)*ROW(colk)-12,ROW($A11))))) | L23: =IF(ROW(L11)>COUNTIF(colk,$M$2),"",INDEX(coln,SUMPRODUCT(LARGE((colk=$M$2)*ROW(colk)-12,ROW($A11)))))
A24: =IF(ROW(A12)>COUNTIF(colk,$M$2),"",INDEX(cola,SUMPRODUCT(LARGE((colk=$M$2)*ROW(colk)-12,ROW($A12))))) | B24: =IF(ROW(B12)>COUNTIF(colk,$M$2),"",INDEX(colb,SUMPRODUCT(LARGE((colk=$M$2)*ROW(colk)-12,ROW($A12))))) | C24: =IF(ROW(C12)>COUNTIF(colk,$M$2),"",INDEX(colc,SUMPRODUCT(LARGE((colk=$M$2)*ROW(colk)-12,ROW($A12))))) | D24: =IF(ROW(D12)>COUNTIF(colk,$M$2),"",INDEX(cold,SUMPRODUCT(LARGE((colk=$M$2)*ROW(colk)-12,ROW($A12))))) | E24: =IF(ROW(E12)>COUNTIF(colk,$M$2),"",INDEX(cole,SUMPRODUCT(LARGE((colk=$M$2)*ROW(colk)-12,ROW($A12))))) | F24: =IF(ROW(F12)>COUNTIF(colk,$M$2),"",INDEX(colf,SUMPRODUCT(LARGE((colk=$M$2)*ROW(colk)-12,ROW($A12))))) | G24: =IF(ROW(G12)>COUNTIF(colk,$M$2),"",INDEX(colg,SUMPRODUCT(LARGE((colk=$M$2)*ROW(colk)-12,ROW($A12))))) | H24: =IF(ROW(H12)>COUNTIF(colk,$M$2),"",INDEX(colh,SUMPRODUCT(LARGE((colk=$M$2)*ROW(colk)-12,ROW($A12))))) | I24: =IF(ROW(I12)>COUNTIF(colk,$M$2),"",INDEX(coli,SUMPRODUCT(LARGE((colk=$M$2)*ROW(colk)-12,ROW($A12))))) | J24: =IF(ROW(J12)>COUNTIF(colk,$M$2),"",INDEX(colk,SUMPRODUCT(LARGE((colk=$M$2)*ROW(colk)-12,ROW($A12))))) | K24: =IF(ROW(K12)>COUNTIF(colk,$M$2),"",INDEX(colm,SUMPRODUCT(LARGE((colk=$M$2)*ROW(colk)-12,ROW($A12))))) | L24: =IF(ROW(L12)>COUNTIF(colk,$M$2),"",INDEX(coln,SUMPRODUCT(LARGE((colk=$M$2)*ROW(colk)-12,ROW($A12)))))
