Workbook
Name BOIS: tableaux!$D$5:$D$66
Name cola: OFFSET('objets mouvements'!$A$13,,,MATCH("z^z",'objets mouvements'!$K:$K)-12)
Name colb: OFFSET('objets mouvements'!$B$13,,,MATCH("z^z",'objets mouvements'!$K:$K)-12)
Name colc: OFFSET('objets mouvements'!$C$13,,,MATCH("z^z",'objets mouvements'!$K:$K)-12)
Name cold: OFFSET('objets mouvements'!$D$13,,,MATCH("z^z",'objets mouvements'!$K:$K)-12)
Name cole: OFFSET('objets mouvements'!$E$13,,,MATCH("z^z",'objets mouvements'!$K:$K)-12)
Name colf: OFFSET('objets mouvements'!$F$13,,,MATCH("z^z",'objets mouvements'!$K:$K)-12)
Name colg: OFFSET('objets mouvements'!$G$13,,,MATCH("z^z",'objets mouvements'!$K:$K)-12)
Name colh: OFFSET('objets mouvements'!$H$13,,,MATCH("z^z",'objets mouvements'!$K:$K)-12)
Name coli: OFFSET('objets mouvements'!$I$13,,,MATCH("z^z",'objets mouvements'!$K:$K)-12)
Name colj: OFFSET('objets mouvements'!$J$13,,,MATCH("z^z",'objets mouvements'!$K:$K)-12)
Name colk: OFFSET('objets mouvements'!$K$13,,,MATCH("z^z",'objets mouvements'!$K:$K)-12)
Name coll: OFFSET('objets mouvements'!$L$13,,,MATCH("z^z",'objets mouvements'!$K:$K)-12)
Name colm: OFFSET('objets mouvements'!$M$13,,,MATCH("z^z",'objets mouvements'!$K:$K)-12)
Name coln: OFFSET('objets mouvements'!$N$13,,,MATCH("z^z",'objets mouvements'!$K:$K)-12)
Name DEPOTS: tableaux!$G$5:$G$15
Name OBJET: tableaux!$A$5:$A$112

Sheet tableaux
A3: OBJET | D3: BOIS | G3: DEPOTS
A5: assiette gm | B5: 20 | D5: aca | E5: acacia afr | G5: ahun
A6: assiette mm | B6: 15 | D6: ama | E6: amarante | G6: bénévent
A7: assiette pm | B7: 10 | D7: amo | E7: amourette | G7: courtille
A8: assiette pm salière | B8: 5 | D8: au | E8: aubépine | G8: gie
A9: baguenaudier 5 | B9: 25 | D9: b de r | E9: bois de rose | G9: la bourboule
A10: baguenaudier 6 | B10: 40 | D10: b de s | E10: bois de santal | G10: particulier
A11: bilboquet grand | B11: 40 | D11: b de v | E11: bois de violette | G11: prébenoit
A12: bilboquet moyen | B12: 30 | D12: b ex | E12: bois exotique | G12: saint benoit
A13: boite à aiguilles pm | B13: 15 | D13: b s | E13: bois serpent | G13: ste feyre
A14: boite à piques | B14: 45 | D14: bub | E14: budinga
A15: boite bois exotique | B15: 40 | D15: bui | E15: buis
A16: boite dble couvercle | B16: 30 | D16: ca | E16: camphre
A17: boite et plateau | D17: ce | E17: cèdre
A18: boite gm | B18: 40 | D18: cer | E18: cerisier
A19: boite mm | B19: 30 | D19: cha | E19: chataignIer
A20: boite nostépine | B20: 20 | D20: che | E20: chêne
A21: boite pm | B21: 20 | D21: coc | E21: cocobolo
A22: boite simple | B22: 15 | D22: coi | E22: coing
A23: boite spéciale | B23: 60 | D23: div | E23: divers
A24: bol à laine gm | B24: 50 | D24: eb m | E24: ébène de macassar
A25: bol à laine mm | B25: 30 | D25: eb n | E25: ébène noir
A26: bol à laine pm | B26: 25 | D26: eg | E26: églantine(épine blanche)
A27: bol gm | B27: 40 | D27: er | E27: erable
A28: bol mm | B28: 30 | D28: fre | E28: frêne
A29: bol pm | B29: 25 | D29: fru | E29: fruitier sauvage
... A65: lampe tripode | B65: 200 | D65: z | E65: zébrano
A66: mortier et pilon mm | B66: 30
A67: mortier et pilon pm | B67: 25
A68: nostépine | B68: 20
A69: œuf gm | B69: 20
A70: œuf pm | B70: 10
A71: pique à cheveux | B71: 5
A72: plat casse noix gm | B72: 50
A73: plat casse noix mm | B73: 40
A74: plat gm | B74: 40
A75: plat mm | B75: 30
A76: plat pm | B76: 20
A77: plat tgm | B77: 60
... A84: pot pm | B84: 10
...

Sheet objets mouvements
E2: MOUVEMENTS DES OBJETS
F9: objets restants | L9: recettes gie | M9: recettes autres
G10: =SUBTOTAL(9,G13:G1497) -> 9 | L10: =SUBTOTAL(9,L13:L1497) -> 0 | M10: =SUBTOTAL(9,M13:M1497) -> 20
K11: 1.45
A12: DATE DEPOT | B12: OBJET | C12: BOIS | D12: VARIETE | E12: REMARQUE | F12: N° | G12: Q | H12: PRIX unité | I12: DATE VENTE | J12: STATUT | K12: DEPOT | L12: =IF(AND(G12="",K12="gie"),H12/$L$12,"") | M12: REC AUTRE | N12: N°libre
A13: 42013 | B13: enrouleur pm | C13: che | D13: =IF(C13="","",VLOOKUP(C13,tableaux!$D$5:E$65,2,FALSE)) -> chêne | F13: sans n° | H13: =IF(B13="","",VLOOKUP(B13,tableaux!$A$5:$B$511,2,FALSE)) -> 20 | I13: 42106 | J13: =IF(AND(K13="",H13<>"",G13<>""),"dispo","") | K13: prébenoit | L13: =IF(AND(G13="",K13="gie"),H13/$K$11,"") | M13: =IF(AND(G13="",K13<>"gie"),H13,"") -> 20 | N13: =IF(AND(B13<>"",G13=""),"à renouveler","") -> à renouveler
A14: dec15 | B14: pot à crayons mm | C14: or | D14: =IF(C14="","",VLOOKUP(C14,tableaux!$D$5:E$65,2,FALSE)) -> orme | E14: gigogne /4 | F14: 15028-31 | H14: =IF(B14="","",VLOOKUP(B14,tableaux!$A$5:$B$511,2,FALSE)) -> 25 | I14: dec 15 | J14: =IF(AND(K14="",H14<>"",G14<>""),"dispo","") | K14: particulier | L14: =IF(AND(G14="",K14="gie"),H14/$K$11,"") | M14: jeantho | N14: =IF(AND(B14<>"",G14=""),"à renouveler","") -> à renouveler
A15: dec15 | B15: vase gm | C15: if | D15: =IF(C15="","",VLOOKUP(C15,tableaux!$D$5:E$65,2,FALSE)) -> if | E15: bouton moutouchi | F15: 15085 | H15: =IF(B15="","",VLOOKUP(B15,tableaux!$A$5:$B$511,2,FALSE)) -> 60 | I15: dec 15 | J15: =IF(AND(K15="",H15<>"",G15<>""),"dispo","") | K15: particulier | L15: =IF(AND(G15="",K15="gie"),H15/$K$11,"") | M15: michèle | N15: =IF(AND(B15<>"",G15=""),"à renouveler","") -> à renouveler
A16: dec15 | B16: boite gm | C16: no | D16: =IF(C16="","",VLOOKUP(C16,tableaux!$D$5:E$65,2,FALSE)) -> noyer | E16: bois coti-moutouchi | F16: 15084 | H16: =IF(B16="","",VLOOKUP(B16,tableaux!$A$5:$B$511,2,FALSE)) -> 40 | I16: dec 15 | J16: =IF(AND(K16="",H16<>"",G16<>""),"dispo","") | K16: particulier | L16: =IF(AND(G16="",K16="gie"),H16/$K$11,"") | M16: anna | N16: =IF(AND(B16<>"",G16=""),"à renouveler","") -> à renouveler
B17: mortier et pilon mm | C17: poi | D17: =IF(C17="","",VLOOKUP(C17,tableaux!$D$5:E$65,2,FALSE)) -> poirier | E17: pilon buis | F17: 15083 | G17: 1 | H17: =IF(B17="","",VLOOKUP(B17,tableaux!$A$5:$B$511,2,FALSE)) -> 30 | J17: =IF(AND(K17="",H17<>"",G17<>""),"dispo","") | K17: la bourboule | L17: =IF(AND(G17="",K17="gie"),H17/$K$11,"") | M17: =IF(AND(G17="",K17<>"gie"),H17,"") | N17: =IF(AND(B17<>"",G17=""),"à renouveler","")
B18: coupe pm | C18: poi | D18: =IF(C18="","",VLOOKUP(C18,tableaux!$D$5:E$65,2,FALSE)) -> poirier | F18: 15082 | G18: 1 | H18: =IF(B18="","",VLOOKUP(B18,tableaux!$A$5:$B$511,2,FALSE)) -> 30 | J18: =IF(AND(K18="",H18<>"",G18<>""),"dispo","") | K18: la bourboule | L18: =IF(AND(G18="",K18="gie"),H18/$K$11,"") | M18: =IF(AND(G18="",K18<>"gie"),H18,"") | N18: =IF(AND(B18<>"",G18=""),"à renouveler","")
B19: coupe pm | C19: poi | D19: =IF(C19="","",VLOOKUP(C19,tableaux!$D$5:E$65,2,FALSE)) -> poirier | F19: 15081 | G19: 1 | H19: =IF(B19="","",VLOOKUP(B19,tableaux!$A$5:$B$511,2,FALSE)) -> 30 | J19: =IF(AND(K19="",H19<>"",G19<>""),"dispo","") -> dispo | L19: =IF(AND(G19="",K19="gie"),H19/$K$11,"") | M19: =IF(AND(G19="",K19<>"gie"),H19,"") | N19: =IF(AND(B19<>"",G19=""),"à renouveler","")
A20: 42354 | B20: assiette gm | C20: wa | D20: =IF(C20="","",VLOOKUP(C20,tableaux!$D$5:E$65,2,FALSE)) -> wacapou | E20: excentrée motif | F20: 15080 | G20: 1 | H20: =IF(B20="","",VLOOKUP(B20,tableaux!$A$5:$B$511,2,FALSE)) -> 20 | J20: =IF(AND(K20="",H20<>"",G20<>""),"dispo","") | K20: gie | L20: =IF(AND(G20="",K20="gie"),H20/$K$11,"") | M20: =IF(AND(G20="",K20<>"gie"),H20,"") | N20: =IF(AND(B20<>"",G20=""),"à renouveler","")
B21: assiette gm | C21: wa | D21: =IF(C21="","",VLOOKUP(C21,tableaux!$D$5:E$65,2,FALSE)) -> wacapou | E21: excentrée | F21: 15079 | G21: 1 | H21: =IF(B21="","",VLOOKUP(B21,tableaux!$A$5:$B$511,2,FALSE)) -> 20 | J21: =IF(AND(K21="",H21<>"",G21<>""),"dispo","") | K21: la bourboule | L21: =IF(AND(G21="",K21="gie"),H21/$K$11,"") | M21: =IF(AND(G21="",K21<>"gie"),H21,"") | N21: =IF(AND(B21<>"",G21=""),"à renouveler","")
B22: vase gm | C22: aca | D22: =IF(C22="","",VLOOKUP(C22,tableaux!$D$5:E$65,2,FALSE)) -> acacia afr | F22: 15078 | G22: 1 | H22: =IF(B22="","",VLOOKUP(B22,tableaux!$A$5:$B$511,2,FALSE)) -> 60 | J22: =IF(AND(K22="",H22<>"",G22<>""),"dispo","") -> dispo | L22: =IF(AND(G22="",K22="gie"),H22/$K$11,"") | M22: =IF(AND(G22="",K22<>"gie"),H22,"") | N22: =IF(AND(B22<>"",G22=""),"à renouveler","")
A23: 42354 | B23: assiette mm | C23: che | D23: =IF(C23="","",VLOOKUP(C23,tableaux!$D$5:E$65,2,FALSE)) -> chêne | E23: excentrée | F23: 15077 | G23: 1 | H23: =IF(B23="","",VLOOKUP(B23,tableaux!$A$5:$B$511,2,FALSE)) -> 15 | J23: =IF(AND(K23="",H23<>"",G23<>""),"dispo","") | K23: gie | L23: =IF(AND(G23="",K23="gie"),H23/$K$11,"") | M23: =IF(AND(G23="",K23<>"gie"),H23,"") | N23: =IF(AND(B23<>"",G23=""),"à renouveler","")
B24: assiette gm | C24: or | D24: =IF(C24="","",VLOOKUP(C24,tableaux!$D$5:E$65,2,FALSE)) -> orme | E24: excentrée | F24: 15076 | G24: 1 | H24: =IF(B24="","",VLOOKUP(B24,tableaux!$A$5:$B$511,2,FALSE)) -> 20 | J24: =IF(AND(K24="",H24<>"",G24<>""),"dispo","") -> dispo | L24: =IF(AND(G24="",K24="gie"),H24/$K$11,"") | M24: =IF(AND(G24="",K24<>"gie"),H24,"") | N24: =IF(AND(B24<>"",G24=""),"à renouveler","")
B25: boite spéciale | C25: amo | D25: =IF(C25="","",VLOOKUP(C25,tableaux!$D$5:E$65,2,FALSE)) -> amourette | E25: cabochon ébène | F25: 15075 | G25: 1 | H25: =IF(B25="","",VLOOKUP(B25,tableaux!$A$5:$B$511,2,FALSE)) -> 60 | J25: =IF(AND(K25="",H25<>"",G25<>""),"dispo","") -> dispo | L25: =IF(AND(G25="",K25="gie"),H25/$K$11,"") | M25: =IF(AND(G25="",K25<>"gie"),H25,"") | N25: =IF(AND(B25<>"",G25=""),"à renouveler","")
D26: =IF(C26="","",VLOOKUP(C26,tableaux!$D$5:E$65,2,FALSE)) | H26: =IF(B26="","",VLOOKUP(B26,tableaux!$A$5:$B$511,2,FALSE)) | J26: =IF(AND(K26="",H26<>"",G26<>""),"dispo","") | L26: =IF(AND(G26="",K26="gie"),H26/$K$11,"") | M26: =IF(AND(G26="",K26<>"gie"),H26,"") | N26: =IF(AND(B26<>"",G26=""),"à renouveler","")
D27: =IF(C27="","",VLOOKUP(C27,tableaux!$D$5:E$65,2,FALSE)) | H27: =IF(B27="","",VLOOKUP(B27,tableaux!$A$5:$B$511,2,FALSE)) | J27: =IF(AND(K27="",H27<>"",G27<>""),"dispo","") | L27: =IF(AND(G27="",K27="gie"),H27/$K$11,"") | M27: =IF(AND(G27="",K27<>"gie"),H27,"") | N27: =IF(AND(B27<>"",G27=""),"à renouveler","")
H28: =IF(B28="","",VLOOKUP(B28,tableaux!$A$5:$B$511,2,FALSE)) | J28: =IF(AND(K28="",H28<>"",G28<>""),"dispo","") | L28: =IF(AND(G28="",K28="gie"),H28/$K$11,"") | N28: =IF(AND(B28<>"",G28=""),"à renouveler","")
H29: =IF(B29="","",VLOOKUP(B29,tableaux!$A$5:$B$511,2,FALSE)) | J29: =IF(AND(K29="",H29<>"",G29<>""),"dispo","") | L29: =IF(AND(G29="",K29="gie"),H29/$K$11,"") | N29: =IF(AND(B29<>"",G29=""),"à renouveler","")
H30: =IF(B30="","",VLOOKUP(B30,tableaux!$A$5:$B$511,2,FALSE)) | J30: =IF(AND(K30="",H30<>"",G30<>""),"dispo","") | L30: =IF(AND(G30="",K30="gie"),H30/$K$11,"") | N30: =IF(AND(B30<>"",G30=""),"à renouveler","")
H31: =IF(B31="","",VLOOKUP(B31,tableaux!$A$5:$B$511,2,FALSE)) | J31: =IF(AND(K31="",H31<>"",G31<>""),"dispo","") | L31: =IF(AND(G31="",K31="gie"),H31/$K$11,"") | N31: =IF(AND(B31<>"",G31=""),"à renouveler","")
H32: =IF(B32="","",VLOOKUP(B32,[1]tableaux!$A$5:$B$511,2,FALSE)) | J32: =IF(AND(K32="",H32<>"",G32<>""),"dispo","") | L32: =IF(AND(G32="",K32="gie"),H32/$K$11,"") | N32: =IF(AND(B32<>"",G32=""),"à renouveler","")
H33: =IF(B33="","",VLOOKUP(B33,[1]tableaux!$A$5:$B$511,2,FALSE)) | J33: =IF(AND(K33="",H33<>"",G33<>""),"dispo","") | L33: =IF(AND(G33="",K33="gie"),H33/$K$11,"") | N33: =IF(AND(B33<>"",G33=""),"à renouveler","")
H34: =IF(B34="","",VLOOKUP(B34,[1]tableaux!$A$5:$B$511,2,FALSE)) | J34: =IF(AND(K34="",H34<>"",G34<>""),"dispo","") | L34: =IF(AND(G34="",K34="gie"),H34/$K$11,"") | N34: =IF(AND(B34<>"",G34=""),"à renouveler","")
H35: =IF(B35="","",VLOOKUP(B35,[1]tableaux!$A$5:$B$511,2,FALSE)) | J35: =IF(AND(K35="",H35<>"",G35<>""),"dispo","") | L35: =IF(AND(G35="",K35="gie"),H35/$K$11,"") | N35: =IF(AND(B35<>"",G35=""),"à renouveler","")
H36: =IF(B36="","",VLOOKUP(B36,[1]tableaux!$A$5:$B$511,2,FALSE)) | J36: =IF(AND(K36="",H36<>"",G36<>""),"dispo","") | L36: =IF(AND(G36="",K36="gie"),H36/$K$11,"") | N36: =IF(AND(B36<>"",G36=""),"à renouveler","")
H37: =IF(B37="","",VLOOKUP(B37,[1]tableaux!$A$5:$B$511,2,FALSE)) | J37: =IF(AND(K37="",H37<>"",G37<>""),"dispo","") | L37: =IF(AND(G37="",K37="gie"),H37/$K$11,"") | N37: =IF(AND(B37<>"",G37=""),"à renouveler","")
H38: =IF(B38="","",VLOOKUP(B38,[1]tableaux!$A$5:$B$511,2,FALSE)) | J38: =IF(AND(M38="",H38<>"",G38<>""),"dispo","") | L38: =IF(AND(G38="",M38="gie"),H38/$K$11,"") | N38: =IF(AND(B38<>"",G38=""),"à renouveler","")
H39: =IF(B39="","",VLOOKUP(B39,[1]tableaux!$A$5:$B$511,2,FALSE)) | J39: =IF(AND(K39="",H39<>"",G39<>""),"dispo","") | L39: =IF(AND(G39="",K39="gie"),H39/$K$11,"") | N39: =IF(AND(B39<>"",G39=""),"à renouveler","")
H40: =IF(B40="","",VLOOKUP(B40,[1]tableaux!$A$5:$B$511,2,FALSE)) | J40: =IF(AND(K40="",H40<>"",G40<>""),"dispo","") | L40: =IF(AND(G40="",K40="gie"),H40/$K$11,"") | N40: =IF(AND(B40<>"",G40=""),"à renouveler","")
H41: =IF(B41="","",VLOOKUP(B41,[1]tableaux!$A$5:$B$511,2,FALSE)) | J41: =IF(AND(K41="",H41<>"",G41<>""),"dispo","") | L41: =IF(AND(G41="",K41="gie"),H41/$K$11,"") | N41: =IF(AND(B41<>"",G41=""),"à renouveler","")
H42: =IF(B42="","",VLOOKUP(B42,[1]tableaux!$A$5:$B$511,2,FALSE)) | J42: =IF(AND(K42="",H42<>"",G42<>""),"dispo","") | L42: =IF(AND(G42="",K42="gie"),H42/$K$11,"") | N42: =IF(AND(B42<>"",G42=""),"à renouveler","")
H43: =IF(B43="","",VLOOKUP(B43,[1]tableaux!$A$5:$B$511,2,FALSE)) | J43: =IF(AND(K43="",H43<>"",G43<>""),"dispo","") | L43: =IF(AND(G43="",K43="gie"),H43/$K$11,"") | N43: =IF(AND(B43<>"",G43=""),"à renouveler","")
H44: =IF(B44="","",VLOOKUP(B44,[1]tableaux!$A$5:$B$511,2,FALSE)) | J44: =IF(AND(K44="",H44<>"",G44<>""),"dispo","") | L44: =IF(AND(G44="",K44="gie"),H44/$K$11,"") | N44: =IF(AND(B44<>"",G44=""),"à renouveler","")
H45: =IF(B45="","",VLOOKUP(B45,[1]tableaux!$A$5:$B$511,2,FALSE)) | J45: =IF(AND(K45="",H45<>"",G45<>""),"dispo","") | L45: =IF(AND(G45="",K45="gie"),H45/$K$11,"") | N45: =IF(AND(B45<>"",G45=""),"à renouveler","")
H46: =IF(B46="","",VLOOKUP(B46,[1]tableaux!$A$5:$B$511,2,FALSE)) | J46: =IF(AND(K46="",H46<>"",G46<>""),"dispo","") | L46: =IF(AND(G46="",K46="gie"),H46/$K$11,"") | N46: =IF(AND(B46<>"",G46=""),"à renouveler","")
H47: =IF(B47="","",VLOOKUP(B47,[1]tableaux!$A$5:$B$511,2,FALSE)) | J47: =IF(AND(K47="",H47<>"",G47<>""),"dispo","") | L47: =IF(AND(G47="",K47="gie"),H47/$K$11,"") | N47: =IF(AND(B47<>"",G47=""),"à renouveler","")
...

Sheet gie
M2: gie
G6: objets
G7: restants | H7: vendus | K7: recette
G8: =COUNT(G13:G500,1) -> 3 | H8: =COUNTIF($L$13:$L$250,"à renouveler") -> 0 | K8: =SUM(K13:K500) -> 0
A12: DATE DEPOT | B12: OBJET | C12: BOIS | D12: VARIETE | E12: REMARQUE | F12: N° | G12: Q | H12: PRIX unité | I12: DATE VENTE | J12: DEPOT | K12: REC GIE | L12: N°libre
A13: =IF(ROW(A1)>COUNTIF(colk,$M$2),"",INDEX(cola,SUMPRODUCT(LARGE((colk=$M$2)*ROW(colk)-12,ROW($A1))))) -> 42354 | B13: =IF(ROW(B1)>COUNTIF(colk,$M$2),"",INDEX(colb,SUMPRODUCT(LARGE((colk=$M$2)*ROW(colk)-12,ROW($A1))))) -> assiette mm | C13: =IF(ROW(C1)>COUNTIF(colk,$M$2),"",INDEX(colc,SUMPRODUCT(LARGE((colk=$M$2)*ROW(colk)-12,ROW($A1))))) -> che | D13: =IF(ROW(D1)>COUNTIF(colk,$M$2),"",INDEX(cold,SUMPRODUCT(LARGE((colk=$M$2)*ROW(colk)-12,ROW($A1))))) -> chêne | E13: =IF(ROW(E1)>COUNTIF(colk,$M$2),"",INDEX(cole,SUMPRODUCT(LARGE((colk=$M$2)*ROW(colk)-12,ROW($A1))))) -> excentrée | F13: =IF(ROW(F1)>COUNTIF(colk,$M$2),"",INDEX(colf,SUMPRODUCT(LARGE((colk=$M$2)*ROW(colk)-12,ROW($A1))))) -> 15077 | G13: 1 | H13: =IF(ROW(H1)>COUNTIF(colk,$M$2),"",INDEX(colh,SUMPRODUCT(LARGE((colk=$M$2)*ROW(colk)-12,ROW($A1))))) -> 15 | J13: =IF(ROW(J1)>COUNTIF(colk,$M$2),"",INDEX(colk,SUMPRODUCT(LARGE((colk=$M$2)*ROW(colk)-12,ROW($A1))))) -> gie | K13: =IF(ROW(K1)>COUNTIF(colk,$M$2),"",INDEX(coll,SUMPRODUCT(LARGE((colk=$M$2)*ROW(colk)-12,ROW($A1))))) | L13: =IF(ROW(L1)>COUNTIF(colk,$M$2),"",INDEX(coln,SUMPRODUCT(LARGE((colk=$M$2)*ROW(colk)-12,ROW($A1)))))
A14: =IF(ROW(A2)>COUNTIF(colk,$M$2),"",INDEX(cola,SUMPRODUCT(LARGE((colk=$M$2)*ROW(colk)-12,ROW($A2))))) -> 42354 | B14: =IF(ROW(B2)>COUNTIF(colk,$M$2),"",INDEX(colb,SUMPRODUCT(LARGE((colk=$M$2)*ROW(colk)-12,ROW($A2))))) -> assiette gm | C14: =IF(ROW(C2)>COUNTIF(colk,$M$2),"",INDEX(colc,SUMPRODUCT(LARGE((colk=$M$2)*ROW(colk)-12,ROW($A2))))) -> wa | D14: =IF(ROW(D2)>COUNTIF(colk,$M$2),"",INDEX(cold,SUMPRODUCT(LARGE((colk=$M$2)*ROW(colk)-12,ROW($A2))))) -> wacapou | E14: =IF(ROW(E2)>COUNTIF(colk,$M$2),"",INDEX(cole,SUMPRODUCT(LARGE((colk=$M$2)*ROW(colk)-12,ROW($A2))))) -> excentrée motif | F14: =IF(ROW(F2)>COUNTIF(colk,$M$2),"",INDEX(colf,SUMPRODUCT(LARGE((colk=$M$2)*ROW(colk)-12,ROW($A2))))) -> 15080 | G14: =IF(ROW(G2)>COUNTIF(colk,$M$2),"",INDEX(colg,SUMPRODUCT(LARGE((colk=$M$2)*ROW(colk)-12,ROW($A2))))) -> 1 | H14: =IF(ROW(H2)>COUNTIF(colk,$M$2),"",INDEX(colh,SUMPRODUCT(LARGE((colk=$M$2)*ROW(colk)-12,ROW($A2))))) -> 20 | J14: =IF(ROW(J2)>COUNTIF(colk,$M$2),"",INDEX(colk,SUMPRODUCT(LARGE((colk=$M$2)*ROW(colk)-12,ROW($A2))))) -> gie | K14: =IF(ROW(K2)>COUNTIF(colk,$M$2),"",INDEX(coll,SUMPRODUCT(LARGE((colk=$M$2)*ROW(colk)-12,ROW($A2))))) | L14: =IF(ROW(L2)>COUNTIF(colk,$M$2),"",INDEX(coln,SUMPRODUCT(LARGE((colk=$M$2)*ROW(colk)-12,ROW($A2)))))
B15: =IF(ROW(B3)>COUNTIF(colk,$M$2),"",INDEX(colb,SUMPRODUCT(LARGE((colk=$M$2)*ROW(colk)-12,ROW($A3))))) | C15: =IF(ROW(C3)>COUNTIF(colk,$M$2),"",INDEX(colc,SUMPRODUCT(LARGE((colk=$M$2)*ROW(colk)-12,ROW($A3))))) | D15: =IF(ROW(D3)>COUNTIF(colk,$M$2),"",INDEX(cold,SUMPRODUCT(LARGE((colk=$M$2)*ROW(colk)-12,ROW($A3))))) | E15: =IF(ROW(E3)>COUNTIF(colk,$M$2),"",INDEX(cole,SUMPRODUCT(LARGE((colk=$M$2)*ROW(colk)-12,ROW($A3))))) | F15: =IF(ROW(F3)>COUNTIF(colk,$M$2),"",INDEX(colf,SUMPRODUCT(LARGE((colk=$M$2)*ROW(colk)-12,ROW($A3))))) | G15: =IF(ROW(G3)>COUNTIF(colk,$M$2),"",INDEX(colg,SUMPRODUCT(LARGE((colk=$M$2)*ROW(colk)-12,ROW($A3))))) | H15: =IF(ROW(H3)>COUNTIF(colk,$M$2),"",INDEX(colh,SUMPRODUCT(LARGE((colk=$M$2)*ROW(colk)-12,ROW($A3))))) | J15: =IF(ROW(J3)>COUNTIF(colk,$M$2),"",INDEX(colk,SUMPRODUCT(LARGE((colk=$M$2)*ROW(colk)-12,ROW($A3))))) | K15: =IF(ROW(K3)>COUNTIF(colk,$M$2),"",INDEX(coll,SUMPRODUCT(LARGE((colk=$M$2)*ROW(colk)-12,ROW($A3))))) | L15: =IF(ROW(L3)>COUNTIF(colk,$M$2),"",INDEX(coln,SUMPRODUCT(LARGE((colk=$M$2)*ROW(colk)-12,ROW($A3)))))
B16: =IF(ROW(B4)>COUNTIF(colk,$M$2),"",INDEX(colb,SUMPRODUCT(LARGE((colk=$M$2)*ROW(colk)-12,ROW($A4))))) | C16: =IF(ROW(C4)>COUNTIF(colk,$M$2),"",INDEX(colc,SUMPRODUCT(LARGE((colk=$M$2)*ROW(colk)-12,ROW($A4))))) | D16: =IF(ROW(D4)>COUNTIF(colk,$M$2),"",INDEX(cold,SUMPRODUCT(LARGE((colk=$M$2)*ROW(colk)-12,ROW($A4))))) | E16: =IF(ROW(E4)>COUNTIF(colk,$M$2),"",INDEX(cole,SUMPRODUCT(LARGE((colk=$M$2)*ROW(colk)-12,ROW($A4))))) | F16: =IF(ROW(F4)>COUNTIF(colk,$M$2),"",INDEX(colf,SUMPRODUCT(LARGE((colk=$M$2)*ROW(colk)-12,ROW($A4))))) | G16: =IF(ROW(G4)>COUNTIF(colk,$M$2),"",INDEX(colg,SUMPRODUCT(LARGE((colk=$M$2)*ROW(colk)-12,ROW($A4))))) | H16: =IF(ROW(H4)>COUNTIF(colk,$M$2),"",INDEX(colh,SUMPRODUCT(LARGE((colk=$M$2)*ROW(colk)-12,ROW($A4))))) | J16: =IF(ROW(J4)>COUNTIF(colk,$M$2),"",INDEX(colk,SUMPRODUCT(LARGE((colk=$M$2)*ROW(colk)-12,ROW($A4))))) | K16: =IF(ROW(K4)>COUNTIF(colk,$M$2),"",INDEX(coll,SUMPRODUCT(LARGE((colk=$M$2)*ROW(colk)-12,ROW($A4))))) | L16: =IF(ROW(L4)>COUNTIF(colk,$M$2),"",INDEX(coln,SUMPRODUCT(LARGE((colk=$M$2)*ROW(colk)-12,ROW($A4)))))
B17: =IF(ROW(B5)>COUNTIF(colk,$M$2),"",INDEX(colb,SUMPRODUCT(LARGE((colk=$M$2)*ROW(colk)-12,ROW($A5))))) | C17: =IF(ROW(C5)>COUNTIF(colk,$M$2),"",INDEX(colc,SUMPRODUCT(LARGE((colk=$M$2)*ROW(colk)-12,ROW($A5))))) | D17: =IF(ROW(D5)>COUNTIF(colk,$M$2),"",INDEX(cold,SUMPRODUCT(LARGE((colk=$M$2)*ROW(colk)-12,ROW($A5))))) | E17: =IF(ROW(E5)>COUNTIF(colk,$M$2),"",INDEX(cole,SUMPRODUCT(LARGE((colk=$M$2)*ROW(colk)-12,ROW($A5))))) | F17: =IF(ROW(F5)>COUNTIF(colk,$M$2),"",INDEX(colf,SUMPRODUCT(LARGE((colk=$M$2)*ROW(colk)-12,ROW($A5))))) | G17: =IF(ROW(G5)>COUNTIF(colk,$M$2),"",INDEX(colg,SUMPRODUCT(LARGE((colk=$M$2)*ROW(colk)-12,ROW($A5))))) | H17: =IF(ROW(H5)>COUNTIF(colk,$M$2),"",INDEX(colh,SUMPRODUCT(LARGE((colk=$M$2)*ROW(colk)-12,ROW($A5))))) | J17: =IF(ROW(J5)>COUNTIF(colk,$M$2),"",INDEX(colk,SUMPRODUCT(LARGE((colk=$M$2)*ROW(colk)-12,ROW($A5))))) | K17: =IF(ROW(K5)>COUNTIF(colk,$M$2),"",INDEX(coll,SUMPRODUCT(LARGE((colk=$M$2)*ROW(colk)-12,ROW($A5))))) | L17: =IF(ROW(L5)>COUNTIF(colk,$M$2),"",INDEX(coln,SUMPRODUCT(LARGE((colk=$M$2)*ROW(colk)-12,ROW($A5)))))
B18: =IF(ROW(B6)>COUNTIF(colk,$M$2),"",INDEX(colb,SUMPRODUCT(LARGE((colk=$M$2)*ROW(colk)-12,ROW($A6))))) | C18: =IF(ROW(C6)>COUNTIF(colk,$M$2),"",INDEX(colc,SUMPRODUCT(LARGE((colk=$M$2)*ROW(colk)-12,ROW($A6))))) | D18: =IF(ROW(D6)>COUNTIF(colk,$M$2),"",INDEX(cold,SUMPRODUCT(LARGE((colk=$M$2)*ROW(colk)-12,ROW($A6))))) | E18: =IF(ROW(E6)>COUNTIF(colk,$M$2),"",INDEX(cole,SUMPRODUCT(LARGE((colk=$M$2)*ROW(colk)-12,ROW($A6))))) | F18: =IF(ROW(F6)>COUNTIF(colk,$M$2),"",INDEX(colf,SUMPRODUCT(LARGE((colk=$M$2)*ROW(colk)-12,ROW($A6))))) | G18: =IF(ROW(G6)>COUNTIF(colk,$M$2),"",INDEX(colg,SUMPRODUCT(LARGE((colk=$M$2)*ROW(colk)-12,ROW($A6))))) | H18: =IF(ROW(H6)>COUNTIF(colk,$M$2),"",INDEX(colh,SUMPRODUCT(LARGE((colk=$M$2)*ROW(colk)-12,ROW($A6))))) | J18: =IF(ROW(J6)>COUNTIF(colk,$M$2),"",INDEX(colk,SUMPRODUCT(LARGE((colk=$M$2)*ROW(colk)-12,ROW($A6))))) | K18: =IF(ROW(K6)>COUNTIF(colk,$M$2),"",INDEX(coll,SUMPRODUCT(LARGE((colk=$M$2)*ROW(colk)-12,ROW($A6))))) | L18: =IF(ROW(L6)>COUNTIF(colk,$M$2),"",INDEX(coln,SUMPRODUCT(LARGE((colk=$M$2)*ROW(colk)-12,ROW($A6)))))
B19: =IF(ROW(B7)>COUNTIF(colk,$M$2),"",INDEX(colb,SUMPRODUCT(LARGE((colk=$M$2)*ROW(colk)-12,ROW($A7))))) | C19: =IF(ROW(C7)>COUNTIF(colk,$M$2),"",INDEX(colc,SUMPRODUCT(LARGE((colk=$M$2)*ROW(colk)-12,ROW($A7))))) | D19: =IF(ROW(D7)>COUNTIF(colk,$M$2),"",INDEX(cold,SUMPRODUCT(LARGE((colk=$M$2)*ROW(colk)-12,ROW($A7))))) | E19: =IF(ROW(E7)>COUNTIF(colk,$M$2),"",INDEX(cole,SUMPRODUCT(LARGE((colk=$M$2)*ROW(colk)-12,ROW($A7))))) | F19: =IF(ROW(F7)>COUNTIF(colk,$M$2),"",INDEX(colf,SUMPRODUCT(LARGE((colk=$M$2)*ROW(colk)-12,ROW($A7))))) | G19: =IF(ROW(G7)>COUNTIF(colk,$M$2),"",INDEX(colg,SUMPRODUCT(LARGE((colk=$M$2)*ROW(colk)-12,ROW($A7))))) | H19: =IF(ROW(H7)>COUNTIF(colk,$M$2),"",INDEX(colh,SUMPRODUCT(LARGE((colk=$M$2)*ROW(colk)-12,ROW($A7))))) | J19: =IF(ROW(J7)>COUNTIF(colk,$M$2),"",INDEX(colk,SUMPRODUCT(LARGE((colk=$M$2)*ROW(colk)-12,ROW($A7))))) | K19: =IF(ROW(K7)>COUNTIF(colk,$M$2),"",INDEX(coll,SUMPRODUCT(LARGE((colk=$M$2)*ROW(colk)-12,ROW($A7))))) | L19: =IF(ROW(L7)>COUNTIF(colk,$M$2),"",INDEX(coln,SUMPRODUCT(LARGE((colk=$M$2)*ROW(colk)-12,ROW($A7)))))
B20: =IF(ROW(B8)>COUNTIF(colk,$M$2),"",INDEX(colb,SUMPRODUCT(LARGE((colk=$M$2)*ROW(colk)-12,ROW($A8))))) | C20: =IF(ROW(C8)>COUNTIF(colk,$M$2),"",INDEX(colc,SUMPRODUCT(LARGE((colk=$M$2)*ROW(colk)-12,ROW($A8))))) | D20: =IF(ROW(D8)>COUNTIF(colk,$M$2),"",INDEX(cold,SUMPRODUCT(LARGE((colk=$M$2)*ROW(colk)-12,ROW($A8))))) | E20: =IF(ROW(E8)>COUNTIF(colk,$M$2),"",INDEX(cole,SUMPRODUCT(LARGE((colk=$M$2)*ROW(colk)-12,ROW($A8))))) | F20: =IF(ROW(F8)>COUNTIF(colk,$M$2),"",INDEX(colf,SUMPRODUCT(LARGE((colk=$M$2)*ROW(colk)-12,ROW($A8))))) | G20: =IF(ROW(G8)>COUNTIF(colk,$M$2),"",INDEX(colg,SUMPRODUCT(LARGE((colk=$M$2)*ROW(colk)-12,ROW($A8))))) | H20: =IF(ROW(H8)>COUNTIF(colk,$M$2),"",INDEX(colh,SUMPRODUCT(LARGE((colk=$M$2)*ROW(colk)-12,ROW($A8))))) | J20: =IF(ROW(J8)>COUNTIF(colk,$M$2),"",INDEX(colk,SUMPRODUCT(LARGE((colk=$M$2)*ROW(colk)-12,ROW($A8))))) | K20: =IF(ROW(K8)>COUNTIF(colk,$M$2),"",INDEX(coll,SUMPRODUCT(LARGE((colk=$M$2)*ROW(colk)-12,ROW($A8))))) | L20: =IF(ROW(L8)>COUNTIF(colk,$M$2),"",INDEX(coln,SUMPRODUCT(LARGE((colk=$M$2)*ROW(colk)-12,ROW($A8)))))
B21: =IF(ROW(B9)>COUNTIF(colk,$M$2),"",INDEX(colb,SUMPRODUCT(LARGE((colk=$M$2)*ROW(colk)-12,ROW($A9))))) | C21: =IF(ROW(C9)>COUNTIF(colk,$M$2),"",INDEX(colc,SUMPRODUCT(LARGE((colk=$M$2)*ROW(colk)-12,ROW($A9))))) | D21: =IF(ROW(D9)>COUNTIF(colk,$M$2),"",INDEX(cold,SUMPRODUCT(LARGE((colk=$M$2)*ROW(colk)-12,ROW($A9))))) | E21: =IF(ROW(E9)>COUNTIF(colk,$M$2),"",INDEX(cole,SUMPRODUCT(LARGE((colk=$M$2)*ROW(colk)-12,ROW($A9))))) | F21: =IF(ROW(F9)>COUNTIF(colk,$M$2),"",INDEX(colf,SUMPRODUCT(LARGE((colk=$M$2)*ROW(colk)-12,ROW($A9))))) | G21: =IF(ROW(G9)>COUNTIF(colk,$M$2),"",INDEX(colg,SUMPRODUCT(LARGE((colk=$M$2)*ROW(colk)-12,ROW($A9))))) | H21: =IF(ROW(H9)>COUNTIF(colk,$M$2),"",INDEX(colh,SUMPRODUCT(LARGE((colk=$M$2)*ROW(colk)-12,ROW($A9))))) | J21: =IF(ROW(J9)>COUNTIF(colk,$M$2),"",INDEX(colk,SUMPRODUCT(LARGE((colk=$M$2)*ROW(colk)-12,ROW($A9))))) | K21: =IF(ROW(K9)>COUNTIF(colk,$M$2),"",INDEX(coll,SUMPRODUCT(LARGE((colk=$M$2)*ROW(colk)-12,ROW($A9))))) | L21: =IF(ROW(L9)>COUNTIF(colk,$M$2),"",INDEX(coln,SUMPRODUCT(LARGE((colk=$M$2)*ROW(colk)-12,ROW($A9)))))
B22: =IF(ROW(B10)>COUNTIF(colk,$M$2),"",INDEX(colb,SUMPRODUCT(LARGE((colk=$M$2)*ROW(colk)-12,ROW($A10))))) | C22: =IF(ROW(C10)>COUNTIF(colk,$M$2),"",INDEX(colc,SUMPRODUCT(LARGE((colk=$M$2)*ROW(colk)-12,ROW($A10))))) | D22: =IF(ROW(D10)>COUNTIF(colk,$M$2),"",INDEX(cold,SUMPRODUCT(LARGE((colk=$M$2)*ROW(colk)-12,ROW($A10))))) | E22: =IF(ROW(E10)>COUNTIF(colk,$M$2),"",INDEX(cole,SUMPRODUCT(LARGE((colk=$M$2)*ROW(colk)-12,ROW($A10))))) | F22: =IF(ROW(F10)>COUNTIF(colk,$M$2),"",INDEX(colf,SUMPRODUCT(LARGE((colk=$M$2)*ROW(colk)-12,ROW($A10))))) | G22: =IF(ROW(G10)>COUNTIF(colk,$M$2),"",INDEX(colg,SUMPRODUCT(LARGE((colk=$M$2)*ROW(colk)-12,ROW($A10))))) | H22: =IF(ROW(H10)>COUNTIF(colk,$M$2),"",INDEX(colh,SUMPRODUCT(LARGE((colk=$M$2)*ROW(colk)-12,ROW($A10))))) | J22: =IF(ROW(J10)>COUNTIF(colk,$M$2),"",INDEX(colk,SUMPRODUCT(LARGE((colk=$M$2)*ROW(colk)-12,ROW($A10))))) | K22: =IF(ROW(K10)>COUNTIF(colk,$M$2),"",INDEX(coll,SUMPRODUCT(LARGE((colk=$M$2)*ROW(colk)-12,ROW($A10))))) | L22: =IF(ROW(L10)>COUNTIF(colk,$M$2),"",INDEX(coln,SUMPRODUCT(LARGE((colk=$M$2)*ROW(colk)-12,ROW($A10)))))
A23: =IF(ROW(A11)>COUNTIF(colk,$M$2),"",INDEX(cola,SUMPRODUCT(LARGE((colk=$M$2)*ROW(colk)-12,ROW($A11))))) | B23: =IF(ROW(B11)>COUNTIF(colk,$M$2),"",INDEX(colb,SUMPRODUCT(LARGE((colk=$M$2)*ROW(colk)-12,ROW($A11))))) | C23: =IF(ROW(C11)>COUNTIF(colk,$M$2),"",INDEX(colc,SUMPRODUCT(LARGE((colk=$M$2)*ROW(colk)-12,ROW($A11))))) | D23: =IF(ROW(D11)>COUNTIF(colk,$M$2),"",INDEX(cold,SUMPRODUCT(LARGE((colk=$M$2)*ROW(colk)-12,ROW($A11))))) | E23: =IF(ROW(E11)>COUNTIF(colk,$M$2),"",INDEX(cole,SUMPRODUCT(LARGE((colk=$M$2)*ROW(colk)-12,ROW($A11))))) | F23: =IF(ROW(F11)>COUNTIF(colk,$M$2),"",INDEX(colf,SUMPRODUCT(LARGE((colk=$M$2)*ROW(colk)-12,ROW($A11))))) | G23: =IF(ROW(G11)>COUNTIF(colk,$M$2),"",INDEX(colg,SUMPRODUCT(LARGE((colk=$M$2)*ROW(colk)-12,ROW($A11))))) | H23: =IF(ROW(H11)>COUNTIF(colk,$M$2),"",INDEX(colh,SUMPRODUCT(LARGE((colk=$M$2)*ROW(colk)-12,ROW($A11))))) | J23: =IF(ROW(J11)>COUNTIF(colk,$M$2),"",INDEX(colk,SUMPRODUCT(LARGE((colk=$M$2)*ROW(colk)-12,ROW($A11))))) | K23: =IF(ROW(K11)>COUNTIF(colk,$M$2),"",INDEX(coll,SUMPRODUCT(LARGE((colk=$M$2)*ROW(colk)-12,ROW($A11))))) | L23: =IF(ROW(L11)>COUNTIF(colk,$M$2),"",INDEX(coln,SUMPRODUCT(LARGE((colk=$M$2)*ROW(colk)-12,ROW($A11)))))
B24: =IF(ROW(B12)>COUNTIF(colk,$M$2),"",INDEX(colb,SUMPRODUCT(LARGE((colk=$M$2)*ROW(colk)-12,ROW($A12))))) | C24: =IF(ROW(C12)>COUNTIF(colk,$M$2),"",INDEX(colc,SUMPRODUCT(LARGE((colk=$M$2)*ROW(colk)-12,ROW($A12))))) | D24: =IF(ROW(D12)>COUNTIF(colk,$M$2),"",INDEX(cold,SUMPRODUCT(LARGE((colk=$M$2)*ROW(colk)-12,ROW($A12))))) | E24: =IF(ROW(E12)>COUNTIF(colk,$M$2),"",INDEX(cole,SUMPRODUCT(LARGE((colk=$M$2)*ROW(colk)-12,ROW($A12))))) | F24: =IF(ROW(F12)>COUNTIF(colk,$M$2),"",INDEX(colf,SUMPRODUCT(LARGE((colk=$M$2)*ROW(colk)-12,ROW($A12))))) | G24: =IF(ROW(G12)>COUNTIF(colk,$M$2),"",INDEX(colg,SUMPRODUCT(LARGE((colk=$M$2)*ROW(colk)-12,ROW($A12))))) | H24: =IF(ROW(H12)>COUNTIF(colk,$M$2),"",INDEX(colh,SUMPRODUCT(LARGE((colk=$M$2)*ROW(colk)-12,ROW($A12))))) | J24: =IF(ROW(J12)>COUNTIF(colk,$M$2),"",INDEX(colk,SUMPRODUCT(LARGE((colk=$M$2)*ROW(colk)-12,ROW($A12))))) | K24: =IF(ROW(K12)>COUNTIF(colk,$M$2),"",INDEX(coll,SUMPRODUCT(LARGE((colk=$M$2)*ROW(colk)-12,ROW($A12))))) | L24: =IF(ROW(L12)>COUNTIF(colk,$M$2),"",INDEX(coln,SUMPRODUCT(LARGE((colk=$M$2)*ROW(colk)-12,ROW($A12)))))
A25: =IF(ROW(A13)>COUNTIF(colk,$M$2),"",INDEX(cola,SUMPRODUCT(LARGE((colk=$M$2)*ROW(colk)-12,ROW($A13))))) | B25: =IF(ROW(B13)>COUNTIF(colk,$M$2),"",INDEX(colb,SUMPRODUCT(LARGE((colk=$M$2)*ROW(colk)-12,ROW($A13))))) | C25: =IF(ROW(C13)>COUNTIF(colk,$M$2),"",INDEX(colc,SUMPRODUCT(LARGE((colk=$M$2)*ROW(colk)-12,ROW($A13))))) | D25: =IF(ROW(D13)>COUNTIF(colk,$M$2),"",INDEX(cold,SUMPRODUCT(LARGE((colk=$M$2)*ROW(colk)-12,ROW($A13))))) | E25: =IF(ROW(E13)>COUNTIF(colk,$M$2),"",INDEX(cole,SUMPRODUCT(LARGE((colk=$M$2)*ROW(colk)-12,ROW($A13))))) | F25: =IF(ROW(F13)>COUNTIF(colk,$M$2),"",INDEX(colf,SUMPRODUCT(LARGE((colk=$M$2)*ROW(colk)-12,ROW($A13))))) | G25: =IF(ROW(G13)>COUNTIF(colk,$M$2),"",INDEX(colg,SUMPRODUCT(LARGE((colk=$M$2)*ROW(colk)-12,ROW($A13))))) | H25: =IF(ROW(H13)>COUNTIF(colk,$M$2),"",INDEX(colh,SUMPRODUCT(LARGE((colk=$M$2)*ROW(colk)-12,ROW($A13))))) | J25: =IF(ROW(J13)>COUNTIF(colk,$M$2),"",INDEX(colk,SUMPRODUCT(LARGE((colk=$M$2)*ROW(colk)-12,ROW($A13))))) | K25: =IF(ROW(K13)>COUNTIF(colk,$M$2),"",INDEX(coll,SUMPRODUCT(LARGE((colk=$M$2)*ROW(colk)-12,ROW($A13))))) | L25: =IF(ROW(L13)>COUNTIF(colk,$M$2),"",INDEX(coln,SUMPRODUCT(LARGE((colk=$M$2)*ROW(colk)-12,ROW($A13)))))
A26: =IF(ROW(A14)>COUNTIF(colk,$M$2),"",INDEX(cola,SUMPRODUCT(LARGE((colk=$M$2)*ROW(colk)-12,ROW($A14))))) | B26: =IF(ROW(B14)>COUNTIF(colk,$M$2),"",INDEX(colb,SUMPRODUCT(LARGE((colk=$M$2)*ROW(colk)-12,ROW($A14))))) | C26: =IF(ROW(C14)>COUNTIF(colk,$M$2),"",INDEX(colc,SUMPRODUCT(LARGE((colk=$M$2)*ROW(colk)-12,ROW($A14))))) | D26: =IF(ROW(D14)>COUNTIF(colk,$M$2),"",INDEX(cold,SUMPRODUCT(LARGE((colk=$M$2)*ROW(colk)-12,ROW($A14))))) | E26: =IF(ROW(E14)>COUNTIF(colk,$M$2),"",INDEX(cole,SUMPRODUCT(LARGE((colk=$M$2)*ROW(colk)-12,ROW($A14))))) | F26: =IF(ROW(F14)>COUNTIF(colk,$M$2),"",INDEX(colf,SUMPRODUCT(LARGE((colk=$M$2)*ROW(colk)-12,ROW($A14))))) | G26: =IF(ROW(G14)>COUNTIF(colk,$M$2),"",INDEX(colg,SUMPRODUCT(LARGE((colk=$M$2)*ROW(colk)-12,ROW($A14))))) | H26: =IF(ROW(H14)>COUNTIF(colk,$M$2),"",INDEX(colh,SUMPRODUCT(LARGE((colk=$M$2)*ROW(colk)-12,ROW($A14))))) | J26: =IF(ROW(J14)>COUNTIF(colk,$M$2),"",INDEX(colk,SUMPRODUCT(LARGE((colk=$M$2)*ROW(colk)-12,ROW($A14))))) | K26: =IF(ROW(K14)>COUNTIF(colk,$M$2),"",INDEX(coll,SUMPRODUCT(LARGE((colk=$M$2)*ROW(colk)-12,ROW($A14))))) | L26: =IF(ROW(L14)>COUNTIF(colk,$M$2),"",INDEX(coln,SUMPRODUCT(LARGE((colk=$M$2)*ROW(colk)-12,ROW($A14)))))
A27: =IF(ROW(A15)>COUNTIF(colk,$M$2),"",INDEX(cola,SUMPRODUCT(LARGE((colk=$M$2)*ROW(colk)-12,ROW($A15))))) | B27: =IF(ROW(B15)>COUNTIF(colk,$M$2),"",INDEX(colb,SUMPRODUCT(LARGE((colk=$M$2)*ROW(colk)-12,ROW($A15))))) | C27: =IF(ROW(C15)>COUNTIF(colk,$M$2),"",INDEX(colc,SUMPRODUCT(LARGE((colk=$M$2)*ROW(colk)-12,ROW($A15))))) | D27: =IF(ROW(D15)>COUNTIF(colk,$M$2),"",INDEX(cold,SUMPRODUCT(LARGE((colk=$M$2)*ROW(colk)-12,ROW($A15))))) | E27: =IF(ROW(E15)>COUNTIF(colk,$M$2),"",INDEX(cole,SUMPRODUCT(LARGE((colk=$M$2)*ROW(colk)-12,ROW($A15))))) | F27: =IF(ROW(F15)>COUNTIF(colk,$M$2),"",INDEX(colf,SUMPRODUCT(LARGE((colk=$M$2)*ROW(colk)-12,ROW($A15))))) | G27: =IF(ROW(G15)>COUNTIF(colk,$M$2),"",INDEX(colg,SUMPRODUCT(LARGE((colk=$M$2)*ROW(colk)-12,ROW($A15))))) | H27: =IF(ROW(H15)>COUNTIF(colk,$M$2),"",INDEX(colh,SUMPRODUCT(LARGE((colk=$M$2)*ROW(colk)-12,ROW($A15))))) | J27: =IF(ROW(J15)>COUNTIF(colk,$M$2),"",INDEX(colk,SUMPRODUCT(LARGE((colk=$M$2)*ROW(colk)-12,ROW($A15))))) | K27: =IF(ROW(K15)>COUNTIF(colk,$M$2),"",INDEX(coll,SUMPRODUCT(LARGE((colk=$M$2)*ROW(colk)-12,ROW($A15))))) | L27: =IF(ROW(L15)>COUNTIF(colk,$M$2),"",INDEX(coln,SUMPRODUCT(LARGE((colk=$M$2)*ROW(colk)-12,ROW($A15)))))
B28: =IF(ROW(B16)>COUNTIF(colk,$M$2),"",INDEX(colb,SUMPRODUCT(LARGE((colk=$M$2)*ROW(colk)-12,ROW($A16))))) | C28: =IF(ROW(C16)>COUNTIF(colk,$M$2),"",INDEX(colc,SUMPRODUCT(LARGE((colk=$M$2)*ROW(colk)-12,ROW($A16))))) | D28: =IF(ROW(D16)>COUNTIF(colk,$M$2),"",INDEX(cold,SUMPRODUCT(LARGE((colk=$M$2)*ROW(colk)-12,ROW($A16))))) | E28: =IF(ROW(E16)>COUNTIF(colk,$M$2),"",INDEX(cole,SUMPRODUCT(LARGE((colk=$M$2)*ROW(colk)-12,ROW($A16))))) | F28: =IF(ROW(F16)>COUNTIF(colk,$M$2),"",INDEX(colf,SUMPRODUCT(LARGE((colk=$M$2)*ROW(colk)-12,ROW($A16))))) | G28: =IF(ROW(G16)>COUNTIF(colk,$M$2),"",INDEX(colg,SUMPRODUCT(LARGE((colk=$M$2)*ROW(colk)-12,ROW($A16))))) | H28: =IF(ROW(H16)>COUNTIF(colk,$M$2),"",INDEX(colh,SUMPRODUCT(LARGE((colk=$M$2)*ROW(colk)-12,ROW($A16))))) | J28: =IF(ROW(J16)>COUNTIF(colk,$M$2),"",INDEX(colk,SUMPRODUCT(LARGE((colk=$M$2)*ROW(colk)-12,ROW($A16))))) | K28: =IF(ROW(K16)>COUNTIF(colk,$M$2),"",INDEX(coll,SUMPRODUCT(LARGE((colk=$M$2)*ROW(colk)-12,ROW($A16))))) | L28: =IF(ROW(L16)>COUNTIF(colk,$M$2),"",INDEX(coln,SUMPRODUCT(LARGE((colk=$M$2)*ROW(colk)-12,ROW($A16)))))
B29: =IF(ROW(B17)>COUNTIF(colk,$M$2),"",INDEX(colb,SUMPRODUCT(LARGE((colk=$M$2)*ROW(colk)-12,ROW($A17))))) | C29: =IF(ROW(C17)>COUNTIF(colk,$M$2),"",INDEX(colc,SUMPRODUCT(LARGE((colk=$M$2)*ROW(colk)-12,ROW($A17))))) | D29: =IF(ROW(D17)>COUNTIF(colk,$M$2),"",INDEX(cold,SUMPRODUCT(LARGE((colk=$M$2)*ROW(colk)-12,ROW($A17))))) | E29: =IF(ROW(E17)>COUNTIF(colk,$M$2),"",INDEX(cole,SUMPRODUCT(LARGE((colk=$M$2)*ROW(colk)-12,ROW($A17))))) | F29: =IF(ROW(F17)>COUNTIF(colk,$M$2),"",INDEX(colf,SUMPRODUCT(LARGE((colk=$M$2)*ROW(colk)-12,ROW($A17))))) | G29: =IF(ROW(G17)>COUNTIF(colk,$M$2),"",INDEX(colg,SUMPRODUCT(LARGE((colk=$M$2)*ROW(colk)-12,ROW($A17))))) | H29: =IF(ROW(H17)>COUNTIF(colk,$M$2),"",INDEX(colh,SUMPRODUCT(LARGE((colk=$M$2)*ROW(colk)-12,ROW($A17))))) | J29: =IF(ROW(J17)>COUNTIF(colk,$M$2),"",INDEX(colk,SUMPRODUCT(LARGE((colk=$M$2)*ROW(colk)-12,ROW($A17))))) | K29: =IF(ROW(K17)>COUNTIF(colk,$M$2),"",INDEX(coll,SUMPRODUCT(LARGE((colk=$M$2)*ROW(colk)-12,ROW($A17))))) | L29: =IF(ROW(L17)>COUNTIF(colk,$M$2),"",INDEX(coln,SUMPRODUCT(LARGE((colk=$M$2)*ROW(colk)-12,ROW($A17)))))
B30: =IF(ROW(B18)>COUNTIF(colk,$M$2),"",INDEX(colb,SUMPRODUCT(LARGE((colk=$M$2)*ROW(colk)-12,ROW($A18))))) | C30: =IF(ROW(C18)>COUNTIF(colk,$M$2),"",INDEX(colc,SUMPRODUCT(LARGE((colk=$M$2)*ROW(colk)-12,ROW($A18))))) | D30: =IF(ROW(D18)>COUNTIF(colk,$M$2),"",INDEX(cold,SUMPRODUCT(LARGE((colk=$M$2)*ROW(colk)-12,ROW($A18))))) | E30: =IF(ROW(E18)>COUNTIF(colk,$M$2),"",INDEX(cole,SUMPRODUCT(LARGE((colk=$M$2)*ROW(colk)-12,ROW($A18))))) | F30: =IF(ROW(F18)>COUNTIF(colk,$M$2),"",INDEX(colf,SUMPRODUCT(LARGE((colk=$M$2)*ROW(colk)-12,ROW($A18))))) | G30: =IF(ROW(G18)>COUNTIF(colk,$M$2),"",INDEX(colg,SUMPRODUCT(LARGE((colk=$M$2)*ROW(colk)-12,ROW($A18))))) | H30: =IF(ROW(H18)>COUNTIF(colk,$M$2),"",INDEX(colh,SUMPRODUCT(LARGE((colk=$M$2)*ROW(colk)-12,ROW($A18))))) | I30: =IF(ROW(I18)>COUNTIF(colk,$M$2),"",INDEX(coli,SUMPRODUCT(LARGE((colk=$M$2)*ROW(colk)-12,ROW($A18))))) | J30: =IF(ROW(J18)>COUNTIF(colk,$M$2),"",INDEX(colk,SUMPRODUCT(LARGE((colk=$M$2)*ROW(colk)-12,ROW($A18))))) | K30: =IF(ROW(K18)>COUNTIF(colk,$M$2),"",INDEX(coll,SUMPRODUCT(LARGE((colk=$M$2)*ROW(colk)-12,ROW($A18))))) | L30: =IF(ROW(L18)>COUNTIF(colk,$M$2),"",INDEX(coln,SUMPRODUCT(LARGE((colk=$M$2)*ROW(colk)-12,ROW($A18)))))
B31: =IF(ROW(B19)>COUNTIF(colk,$M$2),"",INDEX(colb,SUMPRODUCT(LARGE((colk=$M$2)*ROW(colk)-12,ROW($A19))))) | C31: =IF(ROW(C19)>COUNTIF(colk,$M$2),"",INDEX(colc,SUMPRODUCT(LARGE((colk=$M$2)*ROW(colk)-12,ROW($A19))))) | D31: =IF(ROW(D19)>COUNTIF(colk,$M$2),"",INDEX(cold,SUMPRODUCT(LARGE((colk=$M$2)*ROW(colk)-12,ROW($A19))))) | E31: =IF(ROW(E19)>COUNTIF(colk,$M$2),"",INDEX(cole,SUMPRODUCT(LARGE((colk=$M$2)*ROW(colk)-12,ROW($A19))))) | F31: =IF(ROW(F19)>COUNTIF(colk,$M$2),"",INDEX(colf,SUMPRODUCT(LARGE((colk=$M$2)*ROW(colk)-12,ROW($A19))))) | G31: =IF(ROW(G19)>COUNTIF(colk,$M$2),"",INDEX(colg,SUMPRODUCT(LARGE((colk=$M$2)*ROW(colk)-12,ROW($A19))))) | H31: =IF(ROW(H19)>COUNTIF(colk,$M$2),"",INDEX(colh,SUMPRODUCT(LARGE((colk=$M$2)*ROW(colk)-12,ROW($A19))))) | J31: =IF(ROW(J19)>COUNTIF(colk,$M$2),"",INDEX(colk,SUMPRODUCT(LARGE((colk=$M$2)*ROW(colk)-12,ROW($A19))))) | K31: =IF(ROW(K19)>COUNTIF(colk,$M$2),"",INDEX(coll,SUMPRODUCT(LARGE((colk=$M$2)*ROW(colk)-12,ROW($A19))))) | L31: =IF(ROW(L19)>COUNTIF(colk,$M$2),"",INDEX(coln,SUMPRODUCT(LARGE((colk=$M$2)*ROW(colk)-12,ROW($A19)))))
B32: =IF(ROW(B20)>COUNTIF(colk,$M$2),"",INDEX(colb,SUMPRODUCT(LARGE((colk=$M$2)*ROW(colk)-12,ROW($A20))))) | C32: =IF(ROW(C20)>COUNTIF(colk,$M$2),"",INDEX(colc,SUMPRODUCT(LARGE((colk=$M$2)*ROW(colk)-12,ROW($A20))))) | D32: =IF(ROW(D20)>COUNTIF(colk,$M$2),"",INDEX(cold,SUMPRODUCT(LARGE((colk=$M$2)*ROW(colk)-12,ROW($A20))))) | E32: =IF(ROW(E20)>COUNTIF(colk,$M$2),"",INDEX(cole,SUMPRODUCT(LARGE((colk=$M$2)*ROW(colk)-12,ROW($A20))))) | F32: =IF(ROW(F20)>COUNTIF(colk,$M$2),"",INDEX(colf,SUMPRODUCT(LARGE((colk=$M$2)*ROW(colk)-12,ROW($A20))))) | G32: =IF(ROW(G20)>COUNTIF(colk,$M$2),"",INDEX(colg,SUMPRODUCT(LARGE((colk=$M$2)*ROW(colk)-12,ROW($A20))))) | H32: =IF(ROW(H20)>COUNTIF(colk,$M$2),"",INDEX(colh,SUMPRODUCT(LARGE((colk=$M$2)*ROW(colk)-12,ROW($A20))))) | J32: =IF(ROW(J20)>COUNTIF(colk,$M$2),"",INDEX(colk,SUMPRODUCT(LARGE((colk=$M$2)*ROW(colk)-12,ROW($A20))))) | K32: =IF(ROW(K20)>COUNTIF(colk,$M$2),"",INDEX(coll,SUMPRODUCT(LARGE((colk=$M$2)*ROW(colk)-12,ROW($A20))))) | L32: =IF(ROW(L20)>COUNTIF(colk,$M$2),"",INDEX(coln,SUMPRODUCT(LARGE((colk=$M$2)*ROW(colk)-12,ROW($A20)))))
B33: =IF(ROW(B21)>COUNTIF(colk,$M$2),"",INDEX(colb,SUMPRODUCT(LARGE((colk=$M$2)*ROW(colk)-12,ROW($A21))))) | C33: =IF(ROW(C21)>COUNTIF(colk,$M$2),"",INDEX(colc,SUMPRODUCT(LARGE((colk=$M$2)*ROW(colk)-12,ROW($A21))))) | D33: =IF(ROW(D21)>COUNTIF(colk,$M$2),"",INDEX(cold,SUMPRODUCT(LARGE((colk=$M$2)*ROW(colk)-12,ROW($A21))))) | E33: =IF(ROW(E21)>COUNTIF(colk,$M$2),"",INDEX(cole,SUMPRODUCT(LARGE((colk=$M$2)*ROW(colk)-12,ROW($A21))))) | F33: =IF(ROW(F21)>COUNTIF(colk,$M$2),"",INDEX(colf,SUMPRODUCT(LARGE((colk=$M$2)*ROW(colk)-12,ROW($A21))))) | G33: =IF(ROW(G21)>COUNTIF(colk,$M$2),"",INDEX(colg,SUMPRODUCT(LARGE((colk=$M$2)*ROW(colk)-12,ROW($A21))))) | H33: =IF(ROW(H21)>COUNTIF(colk,$M$2),"",INDEX(colh,SUMPRODUCT(LARGE((colk=$M$2)*ROW(colk)-12,ROW($A21))))) | J33: =IF(ROW(J21)>COUNTIF(colk,$M$2),"",INDEX(colk,SUMPRODUCT(LARGE((colk=$M$2)*ROW(colk)-12,ROW($A21))))) | K33: =IF(ROW(K21)>COUNTIF(colk,$M$2),"",INDEX(coll,SUMPRODUCT(LARGE((colk=$M$2)*ROW(colk)-12,ROW($A21))))) | L33: =IF(ROW(L21)>COUNTIF(colk,$M$2),"",INDEX(coln,SUMPRODUCT(LARGE((colk=$M$2)*ROW(colk)-12,ROW($A21)))))
B34: =IF(ROW(B22)>COUNTIF(colk,$M$2),"",INDEX(colb,SUMPRODUCT(LARGE((colk=$M$2)*ROW(colk)-12,ROW($A22))))) | C34: =IF(ROW(C22)>COUNTIF(colk,$M$2),"",INDEX(colc,SUMPRODUCT(LARGE((colk=$M$2)*ROW(colk)-12,ROW($A22))))) | D34: =IF(ROW(D22)>COUNTIF(colk,$M$2),"",INDEX(cold,SUMPRODUCT(LARGE((colk=$M$2)*ROW(colk)-12,ROW($A22))))) | E34: =IF(ROW(E22)>COUNTIF(colk,$M$2),"",INDEX(cole,SUMPRODUCT(LARGE((colk=$M$2)*ROW(colk)-12,ROW($A22))))) | F34: =IF(ROW(F22)>COUNTIF(colk,$M$2),"",INDEX(colf,SUMPRODUCT(LARGE((colk=$M$2)*ROW(colk)-12,ROW($A22))))) | G34: =IF(ROW(G22)>COUNTIF(colk,$M$2),"",INDEX(colg,SUMPRODUCT(LARGE((colk=$M$2)*ROW(colk)-12,ROW($A22))))) | H34: =IF(ROW(H22)>COUNTIF(colk,$M$2),"",INDEX(colh,SUMPRODUCT(LARGE((colk=$M$2)*ROW(colk)-12,ROW($A22))))) | J34: =IF(ROW(J22)>COUNTIF(colk,$M$2),"",INDEX(colk,SUMPRODUCT(LARGE((colk=$M$2)*ROW(colk)-12,ROW($A22))))) | K34: =IF(ROW(K22)>COUNTIF(colk,$M$2),"",INDEX(coll,SUMPRODUCT(LARGE((colk=$M$2)*ROW(colk)-12,ROW($A22))))) | L34: =IF(ROW(L22)>COUNTIF(colk,$M$2),"",INDEX(coln,SUMPRODUCT(LARGE((colk=$M$2)*ROW(colk)-12,ROW($A22)))))
B35: =IF(ROW(B23)>COUNTIF(colk,$M$2),"",INDEX(colb,SUMPRODUCT(LARGE((colk=$M$2)*ROW(colk)-12,ROW($A23))))) | C35: =IF(ROW(C23)>COUNTIF(colk,$M$2),"",INDEX(colc,SUMPRODUCT(LARGE((colk=$M$2)*ROW(colk)-12,ROW($A23))))) | D35: =IF(ROW(D23)>COUNTIF(colk,$M$2),"",INDEX(cold,SUMPRODUCT(LARGE((colk=$M$2)*ROW(colk)-12,ROW($A23))))) | E35: =IF(ROW(E23)>COUNTIF(colk,$M$2),"",INDEX(cole,SUMPRODUCT(LARGE((colk=$M$2)*ROW(colk)-12,ROW($A23))))) | F35: =IF(ROW(F23)>COUNTIF(colk,$M$2),"",INDEX(colf,SUMPRODUCT(LARGE((colk=$M$2)*ROW(colk)-12,ROW($A23))))) | G35: =IF(ROW(G23)>COUNTIF(colk,$M$2),"",INDEX(colg,SUMPRODUCT(LARGE((colk=$M$2)*ROW(colk)-12,ROW($A23))))) | H35: =IF(ROW(H23)>COUNTIF(colk,$M$2),"",INDEX(colh,SUMPRODUCT(LARGE((colk=$M$2)*ROW(colk)-12,ROW($A23))))) | I35: =IF(ROW(I23)>COUNTIF(colk,$M$2),"",INDEX(coli,SUMPRODUCT(LARGE((colk=$M$2)*ROW(colk)-12,ROW($A23))))) | J35: =IF(ROW(J23)>COUNTIF(colk,$M$2),"",INDEX(colk,SUMPRODUCT(LARGE((colk=$M$2)*ROW(colk)-12,ROW($A23))))) | K35: =IF(ROW(K23)>COUNTIF(colk,$M$2),"",INDEX(coll,SUMPRODUCT(LARGE((colk=$M$2)*ROW(colk)-12,ROW($A23))))) | L35: =IF(ROW(L23)>COUNTIF(colk,$M$2),"",INDEX(coln,SUMPRODUCT(LARGE((colk=$M$2)*ROW(colk)-12,ROW($A23)))))
B36: =IF(ROW(B24)>COUNTIF(colk,$M$2),"",INDEX(colb,SUMPRODUCT(LARGE((colk=$M$2)*ROW(colk)-12,ROW($A24))))) | C36: =IF(ROW(C24)>COUNTIF(colk,$M$2),"",INDEX(colc,SUMPRODUCT(LARGE((colk=$M$2)*ROW(colk)-12,ROW($A24))))) | D36: =IF(ROW(D24)>COUNTIF(colk,$M$2),"",INDEX(cold,SUMPRODUCT(LARGE((colk=$M$2)*ROW(colk)-12,ROW($A24))))) | E36: =IF(ROW(E24)>COUNTIF(colk,$M$2),"",INDEX(cole,SUMPRODUCT(LARGE((colk=$M$2)*ROW(colk)-12,ROW($A24))))) | F36: =IF(ROW(F24)>COUNTIF(colk,$M$2),"",INDEX(colf,SUMPRODUCT(LARGE((colk=$M$2)*ROW(colk)-12,ROW($A24))))) | G36: =IF(ROW(G24)>COUNTIF(colk,$M$2),"",INDEX(colg,SUMPRODUCT(LARGE((colk=$M$2)*ROW(colk)-12,ROW($A24))))) | H36: =IF(ROW(H24)>COUNTIF(colk,$M$2),"",INDEX(colh,SUMPRODUCT(LARGE((colk=$M$2)*ROW(colk)-12,ROW($A24))))) | J36: =IF(ROW(J24)>COUNTIF(colk,$M$2),"",INDEX(colk,SUMPRODUCT(LARGE((colk=$M$2)*ROW(colk)-12,ROW($A24))))) | K36: =IF(ROW(K24)>COUNTIF(colk,$M$2),"",INDEX(coll,SUMPRODUCT(LARGE((colk=$M$2)*ROW(colk)-12,ROW($A24))))) | L36: =IF(ROW(L24)>COUNTIF(colk,$M$2),"",INDEX(coln,SUMPRODUCT(LARGE((colk=$M$2)*ROW(colk)-12,ROW($A24)))))
B37: =IF(ROW(B25)>COUNTIF(colk,$M$2),"",INDEX(colb,SUMPRODUCT(LARGE((colk=$M$2)*ROW(colk)-12,ROW($A25))))) | C37: =IF(ROW(C25)>COUNTIF(colk,$M$2),"",INDEX(colc,SUMPRODUCT(LARGE((colk=$M$2)*ROW(colk)-12,ROW($A25))))) | D37: =IF(ROW(D25)>COUNTIF(colk,$M$2),"",INDEX(cold,SUMPRODUCT(LARGE((colk=$M$2)*ROW(colk)-12,ROW($A25))))) | E37: =IF(ROW(E25)>COUNTIF(colk,$M$2),"",INDEX(cole,SUMPRODUCT(LARGE((colk=$M$2)*ROW(colk)-12,ROW($A25))))) | F37: =IF(ROW(F25)>COUNTIF(colk,$M$2),"",INDEX(colf,SUMPRODUCT(LARGE((colk=$M$2)*ROW(colk)-12,ROW($A25))))) | G37: =IF(ROW(G25)>COUNTIF(colk,$M$2),"",INDEX(colg,SUMPRODUCT(LARGE((colk=$M$2)*ROW(colk)-12,ROW($A25))))) | H37: =IF(ROW(H25)>COUNTIF(colk,$M$2),"",INDEX(colh,SUMPRODUCT(LARGE((colk=$M$2)*ROW(colk)-12,ROW($A25))))) | J37: =IF(ROW(J25)>COUNTIF(colk,$M$2),"",INDEX(colk,SUMPRODUCT(LARGE((colk=$M$2)*ROW(colk)-12,ROW($A25))))) | K37: =IF(ROW(K25)>COUNTIF(colk,$M$2),"",INDEX(coll,SUMPRODUCT(LARGE((colk=$M$2)*ROW(colk)-12,ROW($A25))))) | L37: =IF(ROW(L25)>COUNTIF(colk,$M$2),"",INDEX(coln,SUMPRODUCT(LARGE((colk=$M$2)*ROW(colk)-12,ROW($A25)))))
B38: =IF(ROW(B26)>COUNTIF(colk,$M$2),"",INDEX(colb,SUMPRODUCT(LARGE((colk=$M$2)*ROW(colk)-12,ROW($A26))))) | C38: =IF(ROW(C26)>COUNTIF(colk,$M$2),"",INDEX(colc,SUMPRODUCT(LARGE((colk=$M$2)*ROW(colk)-12,ROW($A26))))) | D38: =IF(ROW(D26)>COUNTIF(colk,$M$2),"",INDEX(cold,SUMPRODUCT(LARGE((colk=$M$2)*ROW(colk)-12,ROW($A26))))) | E38: =IF(ROW(E26)>COUNTIF(colk,$M$2),"",INDEX(cole,SUMPRODUCT(LARGE((colk=$M$2)*ROW(colk)-12,ROW($A26))))) | F38: =IF(ROW(F26)>COUNTIF(colk,$M$2),"",INDEX(colf,SUMPRODUCT(LARGE((colk=$M$2)*ROW(colk)-12,ROW($A26))))) | G38: =IF(ROW(G26)>COUNTIF(colk,$M$2),"",INDEX(colg,SUMPRODUCT(LARGE((colk=$M$2)*ROW(colk)-12,ROW($A26))))) | H38: =IF(ROW(H26)>COUNTIF(colk,$M$2),"",INDEX(colh,SUMPRODUCT(LARGE((colk=$M$2)*ROW(colk)-12,ROW($A26))))) | J38: =IF(ROW(J26)>COUNTIF(colk,$M$2),"",INDEX(colk,SUMPRODUCT(LARGE((colk=$M$2)*ROW(colk)-12,ROW($A26))))) | K38: =IF(ROW(K26)>COUNTIF(colk,$M$2),"",INDEX(coll,SUMPRODUCT(LARGE((colk=$M$2)*ROW(colk)-12,ROW($A26))))) | L38: =IF(ROW(L26)>COUNTIF(colk,$M$2),"",INDEX(coln,SUMPRODUCT(LARGE((colk=$M$2)*ROW(colk)-12,ROW($A26)))))
B39: =IF(ROW(B27)>COUNTIF(colk,$M$2),"",INDEX(colb,SUMPRODUCT(LARGE((colk=$M$2)*ROW(colk)-12,ROW($A27))))) | C39: =IF(ROW(C27)>COUNTIF(colk,$M$2),"",INDEX(colc,SUMPRODUCT(LARGE((colk=$M$2)*ROW(colk)-12,ROW($A27))))) | D39: =IF(ROW(D27)>COUNTIF(colk,$M$2),"",INDEX(cold,SUMPRODUCT(LARGE((colk=$M$2)*ROW(colk)-12,ROW($A27))))) | E39: =IF(ROW(E27)>COUNTIF(colk,$M$2),"",INDEX(cole,SUMPRODUCT(LARGE((colk=$M$2)*ROW(colk)-12,ROW($A27))))) | F39: =IF(ROW(F27)>COUNTIF(colk,$M$2),"",INDEX(colf,SUMPRODUCT(LARGE((colk=$M$2)*ROW(colk)-12,ROW($A27))))) | G39: =IF(ROW(G27)>COUNTIF(colk,$M$2),"",INDEX(colg,SUMPRODUCT(LARGE((colk=$M$2)*ROW(colk)-12,ROW($A27))))) | H39: =IF(ROW(H27)>COUNTIF(colk,$M$2),"",INDEX(colh,SUMPRODUCT(LARGE((colk=$M$2)*ROW(colk)-12,ROW($A27))))) | I39: =IF(ROW(I27)>COUNTIF(colk,$M$2),"",INDEX(coli,SUMPRODUCT(LARGE((colk=$M$2)*ROW(colk)-12,ROW($A27))))) | J39: =IF(ROW(J27)>COUNTIF(colk,$M$2),"",INDEX(colk,SUMPRODUCT(LARGE((colk=$M$2)*ROW(colk)-12,ROW($A27))))) | K39: =IF(ROW(K27)>COUNTIF(colk,$M$2),"",INDEX(coll,SUMPRODUCT(LARGE((colk=$M$2)*ROW(colk)-12,ROW($A27))))) | L39: =IF(ROW(L27)>COUNTIF(colk,$M$2),"",INDEX(coln,SUMPRODUCT(LARGE((colk=$M$2)*ROW(colk)-12,ROW($A27)))))
B40: =IF(ROW(B28)>COUNTIF(colk,$M$2),"",INDEX(colb,SUMPRODUCT(LARGE((colk=$M$2)*ROW(colk)-12,ROW($A28))))) | C40: =IF(ROW(C28)>COUNTIF(colk,$M$2),"",INDEX(colc,SUMPRODUCT(LARGE((colk=$M$2)*ROW(colk)-12,ROW($A28))))) | D40: =IF(ROW(D28)>COUNTIF(colk,$M$2),"",INDEX(cold,SUMPRODUCT(LARGE((colk=$M$2)*ROW(colk)-12,ROW($A28))))) | E40: =IF(ROW(E28)>COUNTIF(colk,$M$2),"",INDEX(cole,SUMPRODUCT(LARGE((colk=$M$2)*ROW(colk)-12,ROW($A28))))) | F40: =IF(ROW(F28)>COUNTIF(colk,$M$2),"",INDEX(colf,SUMPRODUCT(LARGE((colk=$M$2)*ROW(colk)-12,ROW($A28))))) | G40: =IF(ROW(G28)>COUNTIF(colk,$M$2),"",INDEX(colg,SUMPRODUCT(LARGE((colk=$M$2)*ROW(colk)-12,ROW($A28))))) | H40: =IF(ROW(H28)>COUNTIF(colk,$M$2),"",INDEX(colh,SUMPRODUCT(LARGE((colk=$M$2)*ROW(colk)-12,ROW($A28))))) | J40: =IF(ROW(J28)>COUNTIF(colk,$M$2),"",INDEX(colk,SUMPRODUCT(LARGE((colk=$M$2)*ROW(colk)-12,ROW($A28))))) | K40: =IF(ROW(K28)>COUNTIF(colk,$M$2),"",INDEX(coll,SUMPRODUCT(LARGE((colk=$M$2)*ROW(colk)-12,ROW($A28))))) | L40: =IF(ROW(L28)>COUNTIF(colk,$M$2),"",INDEX(coln,SUMPRODUCT(LARGE((colk=$M$2)*ROW(colk)-12,ROW($A28)))))
B41: =IF(ROW(B29)>COUNTIF(colk,$M$2),"",INDEX(colb,SUMPRODUCT(LARGE((colk=$M$2)*ROW(colk)-12,ROW($A29))))) | C41: =IF(ROW(C29)>COUNTIF(colk,$M$2),"",INDEX(colc,SUMPRODUCT(LARGE((colk=$M$2)*ROW(colk)-12,ROW($A29))))) | D41: =IF(ROW(D29)>COUNTIF(colk,$M$2),"",INDEX(cold,SUMPRODUCT(LARGE((colk=$M$2)*ROW(colk)-12,ROW($A29))))) | E41: =IF(ROW(E29)>COUNTIF(colk,$M$2),"",INDEX(cole,SUMPRODUCT(LARGE((colk=$M$2)*ROW(colk)-12,ROW($A29))))) | F41: =IF(ROW(F29)>COUNTIF(colk,$M$2),"",INDEX(colf,SUMPRODUCT(LARGE((colk=$M$2)*ROW(colk)-12,ROW($A29))))) | G41: =IF(ROW(G29)>COUNTIF(colk,$M$2),"",INDEX(colg,SUMPRODUCT(LARGE((colk=$M$2)*ROW(colk)-12,ROW($A29))))) | H41: =IF(ROW(H29)>COUNTIF(colk,$M$2),"",INDEX(colh,SUMPRODUCT(LARGE((colk=$M$2)*ROW(colk)-12,ROW($A29))))) | I41: =IF(ROW(I29)>COUNTIF(colk,$M$2),"",INDEX(coli,SUMPRODUCT(LARGE((colk=$M$2)*ROW(colk)-12,ROW($A29))))) | J41: =IF(ROW(J29)>COUNTIF(colk,$M$2),"",INDEX(colk,SUMPRODUCT(LARGE((colk=$M$2)*ROW(colk)-12,ROW($A29))))) | K41: =IF(ROW(K29)>COUNTIF(colk,$M$2),"",INDEX(coll,SUMPRODUCT(LARGE((colk=$M$2)*ROW(colk)-12,ROW($A29))))) | L41: =IF(ROW(L29)>COUNTIF(colk,$M$2),"",INDEX(coln,SUMPRODUCT(LARGE((colk=$M$2)*ROW(colk)-12,ROW($A29)))))
B42: =IF(ROW(B30)>COUNTIF(colk,$M$2),"",INDEX(colb,SUMPRODUCT(LARGE((colk=$M$2)*ROW(colk)-12,ROW($A30))))) | C42: =IF(ROW(C30)>COUNTIF(colk,$M$2),"",INDEX(colc,SUMPRODUCT(LARGE((colk=$M$2)*ROW(colk)-12,ROW($A30))))) | D42: =IF(ROW(D30)>COUNTIF(colk,$M$2),"",INDEX(cold,SUMPRODUCT(LARGE((colk=$M$2)*ROW(colk)-12,ROW($A30))))) | E42: =IF(ROW(E30)>COUNTIF(colk,$M$2),"",INDEX(cole,SUMPRODUCT(LARGE((colk=$M$2)*ROW(colk)-12,ROW($A30))))) | F42: =IF(ROW(F30)>COUNTIF(colk,$M$2),"",INDEX(colf,SUMPRODUCT(LARGE((colk=$M$2)*ROW(colk)-12,ROW($A30))))) | G42: =IF(ROW(G30)>COUNTIF(colk,$M$2),"",INDEX(colg,SUMPRODUCT(LARGE((colk=$M$2)*ROW(colk)-12,ROW($A30))))) | H42: =IF(ROW(H30)>COUNTIF(colk,$M$2),"",INDEX(colh,SUMPRODUCT(LARGE((colk=$M$2)*ROW(colk)-12,ROW($A30))))) | J42: =IF(ROW(J30)>COUNTIF(colk,$M$2),"",INDEX(colk,SUMPRODUCT(LARGE((colk=$M$2)*ROW(colk)-12,ROW($A30))))) | K42: =IF(ROW(K30)>COUNTIF(colk,$M$2),"",INDEX(coll,SUMPRODUCT(LARGE((colk=$M$2)*ROW(colk)-12,ROW($A30))))) | L42: =IF(ROW(L30)>COUNTIF(colk,$M$2),"",INDEX(coln,SUMPRODUCT(LARGE((colk=$M$2)*ROW(colk)-12,ROW($A30)))))
B43: =IF(ROW(B31)>COUNTIF(colk,$M$2),"",INDEX(colb,SUMPRODUCT(LARGE((colk=$M$2)*ROW(colk)-12,ROW($A31))))) | C43: =IF(ROW(C31)>COUNTIF(colk,$M$2),"",INDEX(colc,SUMPRODUCT(LARGE((colk=$M$2)*ROW(colk)-12,ROW($A31))))) | D43: =IF(ROW(D31)>COUNTIF(colk,$M$2),"",INDEX(cold,SUMPRODUCT(LARGE((colk=$M$2)*ROW(colk)-12,ROW($A31))))) | E43: =IF(ROW(E31)>COUNTIF(colk,$M$2),"",INDEX(cole,SUMPRODUCT(LARGE((colk=$M$2)*ROW(colk)-12,ROW($A31))))) | F43: =IF(ROW(F31)>COUNTIF(colk,$M$2),"",INDEX(colf,SUMPRODUCT(LARGE((colk=$M$2)*ROW(colk)-12,ROW($A31))))) | G43: =IF(ROW(G31)>COUNTIF(colk,$M$2),"",INDEX(colg,SUMPRODUCT(LARGE((colk=$M$2)*ROW(colk)-12,ROW($A31))))) | H43: =IF(ROW(H31)>COUNTIF(colk,$M$2),"",INDEX(colh,SUMPRODUCT(LARGE((colk=$M$2)*ROW(colk)-12,ROW($A31))))) | J43: =IF(ROW(J31)>COUNTIF(colk,$M$2),"",INDEX(colk,SUMPRODUCT(LARGE((colk=$M$2)*ROW(colk)-12,ROW($A31))))) | K43: =IF(ROW(K31)>COUNTIF(colk,$M$2),"",INDEX(coll,SUMPRODUCT(LARGE((colk=$M$2)*ROW(colk)-12,ROW($A31))))) | L43: =IF(ROW(L31)>COUNTIF(colk,$M$2),"",INDEX(coln,SUMPRODUCT(LARGE((colk=$M$2)*ROW(colk)-12,ROW($A31)))))
B44: =IF(ROW(B32)>COUNTIF(colk,$M$2),"",INDEX(colb,SUMPRODUCT(LARGE((colk=$M$2)*ROW(colk)-12,ROW($A32))))) | C44: =IF(ROW(C32)>COUNTIF(colk,$M$2),"",INDEX(colc,SUMPRODUCT(LARGE((colk=$M$2)*ROW(colk)-12,ROW($A32))))) | D44: =IF(ROW(D32)>COUNTIF(colk,$M$2),"",INDEX(cold,SUMPRODUCT(LARGE((colk=$M$2)*ROW(colk)-12,ROW($A32))))) | E44: =IF(ROW(E32)>COUNTIF(colk,$M$2),"",INDEX(cole,SUMPRODUCT(LARGE((colk=$M$2)*ROW(colk)-12,ROW($A32))))) | F44: =IF(ROW(F32)>COUNTIF(colk,$M$2),"",INDEX(colf,SUMPRODUCT(LARGE((colk=$M$2)*ROW(colk)-12,ROW($A32))))) | G44: =IF(ROW(G32)>COUNTIF(colk,$M$2),"",INDEX(colg,SUMPRODUCT(LARGE((colk=$M$2)*ROW(colk)-12,ROW($A32))))) | H44: =IF(ROW(H32)>COUNTIF(colk,$M$2),"",INDEX(colh,SUMPRODUCT(LARGE((colk=$M$2)*ROW(colk)-12,ROW($A32))))) | J44: =IF(ROW(J32)>COUNTIF(colk,$M$2),"",INDEX(colk,SUMPRODUCT(LARGE((colk=$M$2)*ROW(colk)-12,ROW($A32))))) | K44: =IF(ROW(K32)>COUNTIF(colk,$M$2),"",INDEX(coll,SUMPRODUCT(LARGE((colk=$M$2)*ROW(colk)-12,ROW($A32))))) | L44: =IF(ROW(L32)>COUNTIF(colk,$M$2),"",INDEX(coln,SUMPRODUCT(LARGE((colk=$M$2)*ROW(colk)-12,ROW($A32)))))
B45: =IF(ROW(B33)>COUNTIF(colk,$M$2),"",INDEX(colb,SUMPRODUCT(LARGE((colk=$M$2)*ROW(colk)-12,ROW($A33))))) | C45: =IF(ROW(C33)>COUNTIF(colk,$M$2),"",INDEX(colc,SUMPRODUCT(LARGE((colk=$M$2)*ROW(colk)-12,ROW($A33))))) | D45: =IF(ROW(D33)>COUNTIF(colk,$M$2),"",INDEX(cold,SUMPRODUCT(LARGE((colk=$M$2)*ROW(colk)-12,ROW($A33))))) | E45: =IF(ROW(E33)>COUNTIF(colk,$M$2),"",INDEX(cole,SUMPRODUCT(LARGE((colk=$M$2)*ROW(colk)-12,ROW($A33))))) | F45: =IF(ROW(F33)>COUNTIF(colk,$M$2),"",INDEX(colf,SUMPRODUCT(LARGE((colk=$M$2)*ROW(colk)-12,ROW($A33))))) | G45: =IF(ROW(G33)>COUNTIF(colk,$M$2),"",INDEX(colg,SUMPRODUCT(LARGE((colk=$M$2)*ROW(colk)-12,ROW($A33))))) | H45: =IF(ROW(H33)>COUNTIF(colk,$M$2),"",INDEX(colh,SUMPRODUCT(LARGE((colk=$M$2)*ROW(colk)-12,ROW($A33))))) | J45: =IF(ROW(J33)>COUNTIF(colk,$M$2),"",INDEX(colk,SUMPRODUCT(LARGE((colk=$M$2)*ROW(colk)-12,ROW($A33))))) | K45: =IF(ROW(K33)>COUNTIF(colk,$M$2),"",INDEX(coll,SUMPRODUCT(LARGE((colk=$M$2)*ROW(colk)-12,ROW($A33))))) | L45: =IF(ROW(L33)>COUNTIF(colk,$M$2),"",INDEX(coln,SUMPRODUCT(LARGE((colk=$M$2)*ROW(colk)-12,ROW($A33)))))
B46: =IF(ROW(B34)>COUNTIF(colk,$M$2),"",INDEX(colb,SUMPRODUCT(LARGE((colk=$M$2)*ROW(colk)-12,ROW($A34))))) | C46: =IF(ROW(C34)>COUNTIF(colk,$M$2),"",INDEX(colc,SUMPRODUCT(LARGE((colk=$M$2)*ROW(colk)-12,ROW($A34))))) | D46: =IF(ROW(D34)>COUNTIF(colk,$M$2),"",INDEX(cold,SUMPRODUCT(LARGE((colk=$M$2)*ROW(colk)-12,ROW($A34))))) | E46: =IF(ROW(E34)>COUNTIF(colk,$M$2),"",INDEX(cole,SUMPRODUCT(LARGE((colk=$M$2)*ROW(colk)-12,ROW($A34))))) | F46: =IF(ROW(F34)>COUNTIF(colk,$M$2),"",INDEX(colf,SUMPRODUCT(LARGE((colk=$M$2)*ROW(colk)-12,ROW($A34))))) | G46: =IF(ROW(G34)>COUNTIF(colk,$M$2),"",INDEX(colg,SUMPRODUCT(LARGE((colk=$M$2)*ROW(colk)-12,ROW($A34))))) | H46: =IF(ROW(H34)>COUNTIF(colk,$M$2),"",INDEX(colh,SUMPRODUCT(LARGE((colk=$M$2)*ROW(colk)-12,ROW($A34))))) | I46: =IF(ROW(I34)>COUNTIF(colk,$M$2),"",INDEX(coli,SUMPRODUCT(LARGE((colk=$M$2)*ROW(colk)-12,ROW($A34))))) | J46: =IF(ROW(J34)>COUNTIF(colk,$M$2),"",INDEX(colk,SUMPRODUCT(LARGE((colk=$M$2)*ROW(colk)-12,ROW($A34))))) | K46: =IF(ROW(K34)>COUNTIF(colk,$M$2),"",INDEX(coll,SUMPRODUCT(LARGE((colk=$M$2)*ROW(colk)-12,ROW($A34))))) | L46: =IF(ROW(L34)>COUNTIF(colk,$M$2),"",INDEX(coln,SUMPRODUCT(LARGE((colk=$M$2)*ROW(colk)-12,ROW($A34)))))
B47: =IF(ROW(B35)>COUNTIF(colk,$M$2),"",INDEX(colb,SUMPRODUCT(LARGE((colk=$M$2)*ROW(colk)-12,ROW($A35))))) | C47: =IF(ROW(C35)>COUNTIF(colk,$M$2),"",INDEX(colc,SUMPRODUCT(LARGE((colk=$M$2)*ROW(colk)-12,ROW($A35))))) | D47: =IF(ROW(D35)>COUNTIF(colk,$M$2),"",INDEX(cold,SUMPRODUCT(LARGE((colk=$M$2)*ROW(colk)-12,ROW($A35))))) | E47: =IF(ROW(E35)>COUNTIF(colk,$M$2),"",INDEX(cole,SUMPRODUCT(LARGE((colk=$M$2)*ROW(colk)-12,ROW($A35))))) | F47: =IF(ROW(F35)>COUNTIF(colk,$M$2),"",INDEX(colf,SUMPRODUCT(LARGE((colk=$M$2)*ROW(colk)-12,ROW($A35))))) | G47: =IF(ROW(G35)>COUNTIF(colk,$M$2),"",INDEX(colg,SUMPRODUCT(LARGE((colk=$M$2)*ROW(colk)-12,ROW($A35))))) | H47: =IF(ROW(H35)>COUNTIF(colk,$M$2),"",INDEX(colh,SUMPRODUCT(LARGE((colk=$M$2)*ROW(colk)-12,ROW($A35))))) | I47: =IF(ROW(I35)>COUNTIF(colk,$M$2),"",INDEX(coli,SUMPRODUCT(LARGE((colk=$M$2)*ROW(colk)-12,ROW($A35))))) | J47: =IF(ROW(J35)>COUNTIF(colk,$M$2),"",INDEX(colk,SUMPRODUCT(LARGE((colk=$M$2)*ROW(colk)-12,ROW($A35))))) | K47: =IF(ROW(K35)>COUNTIF(colk,$M$2),"",INDEX(coll,SUMPRODUCT(LARGE((colk=$M$2)*ROW(colk)-12,ROW($A35))))) | L47: =IF(ROW(L35)>COUNTIF(colk,$M$2),"",INDEX(coln,SUMPRODUCT(LARGE((colk=$M$2)*ROW(colk)-12,ROW($A35)))))
...

Sheet bénévent
M2: bénévent
G8: objets restants | K8: recette
G9: =COUNTIF(G12:G240,1) -> 0 | K9: =SUM(K13:K501) -> 0
A12: DATE DEPOT | B12: OBJET | C12: BOIS | D12: VARIETE | E12: REMARQUE | F12: N° | G12: Q | H12: PRIX unité | I12: DATE VENTE | J12: DEPOT | K12: REC AUTRE | L12: N°libre
A13: =IF(ROW(A1)>COUNTIF(colk,$M$2),"",INDEX(cola,SUMPRODUCT(LARGE((colk=$M$2)*ROW(colk)-12,ROW($A1))))) | B13: =IF(ROW(B1)>COUNTIF(colk,$M$2),"",INDEX(colb,SUMPRODUCT(LARGE((colk=$M$2)*ROW(colk)-12,ROW($A1))))) | C13: =IF(ROW(C1)>COUNTIF(colk,$M$2),"",INDEX(colc,SUMPRODUCT(LARGE((colk=$M$2)*ROW(colk)-12,ROW($A1))))) | D13: =IF(ROW(D1)>COUNTIF(colk,$M$2),"",INDEX(cold,SUMPRODUCT(LARGE((colk=$M$2)*ROW(colk)-12,ROW($A1))))) | E13: =IF(ROW(E1)>COUNTIF(colk,$M$2),"",INDEX(cole,SUMPRODUCT(LARGE((colk=$M$2)*ROW(colk)-12,ROW($A1))))) | F13: =IF(ROW(F1)>COUNTIF(colk,$M$2),"",INDEX(colf,SUMPRODUCT(LARGE((colk=$M$2)*ROW(colk)-12,ROW($A1))))) | G13: =IF(ROW(G1)>COUNTIF(colk,$M$2),"",INDEX(colg,SUMPRODUCT(LARGE((colk=$M$2)*ROW(colk)-12,ROW($A1))))) | H13: =IF(ROW(H1)>COUNTIF(colk,$M$2),"",INDEX(colh,SUMPRODUCT(LARGE((colk=$M$2)*ROW(colk)-12,ROW($A1))))) | J13: =IF(ROW(J1)>COUNTIF(colk,$M$2),"",INDEX(colk,SUMPRODUCT(LARGE((colk=$M$2)*ROW(colk)-12,ROW($A1))))) | K13: =IF(ROW(K1)>COUNTIF(colk,$M$2),"",INDEX(colm,SUMPRODUCT(LARGE((colk=$M$2)*ROW(colk)-12,ROW($A1))))) | L13: =IF(ROW(L1)>COUNTIF(colk,$M$2),"",INDEX(coln,SUMPRODUCT(LARGE((colk=$M$2)*ROW(colk)-12,ROW($A1)))))
A14: =IF(ROW(A2)>COUNTIF(colk,$M$2),"",INDEX(cola,SUMPRODUCT(LARGE((colk=$M$2)*ROW(colk)-12,ROW($A2))))) | B14: =IF(ROW(B2)>COUNTIF(colk,$M$2),"",INDEX(colb,SUMPRODUCT(LARGE((colk=$M$2)*ROW(colk)-12,ROW($A2))))) | C14: =IF(ROW(C2)>COUNTIF(colk,$M$2),"",INDEX(colc,SUMPRODUCT(LARGE((colk=$M$2)*ROW(colk)-12,ROW($A2))))) | D14: =IF(ROW(D2)>COUNTIF(colk,$M$2),"",INDEX(cold,SUMPRODUCT(LARGE((colk=$M$2)*ROW(colk)-12,ROW($A2))))) | E14: =IF(ROW(E2)>COUNTIF(colk,$M$2),"",INDEX(cole,SUMPRODUCT(LARGE((colk=$M$2)*ROW(colk)-12,ROW($A2))))) | F14: =IF(ROW(F2)>COUNTIF(colk,$M$2),"",INDEX(colf,SUMPRODUCT(LARGE((colk=$M$2)*ROW(colk)-12,ROW($A2))))) | G14: =IF(ROW(G2)>COUNTIF(colk,$M$2),"",INDEX(colg,SUMPRODUCT(LARGE((colk=$M$2)*ROW(colk)-12,ROW($A2))))) | H14: =IF(ROW(H2)>COUNTIF(colk,$M$2),"",INDEX(colh,SUMPRODUCT(LARGE((colk=$M$2)*ROW(colk)-12,ROW($A2))))) | J14: =IF(ROW(J2)>COUNTIF(colk,$M$2),"",INDEX(colk,SUMPRODUCT(LARGE((colk=$M$2)*ROW(colk)-12,ROW($A2))))) | K14: =IF(ROW(K2)>COUNTIF(colk,$M$2),"",INDEX(colm,SUMPRODUCT(LARGE((colk=$M$2)*ROW(colk)-12,ROW($A2))))) | L14: =IF(ROW(L2)>COUNTIF(colk,$M$2),"",INDEX(coln,SUMPRODUCT(LARGE((colk=$M$2)*ROW(colk)-12,ROW($A2)))))
A15: =IF(ROW(A3)>COUNTIF(colk,$M$2),"",INDEX(cola,SUMPRODUCT(LARGE((colk=$M$2)*ROW(colk)-12,ROW($A3))))) | B15: =IF(ROW(B3)>COUNTIF(colk,$M$2),"",INDEX(colb,SUMPRODUCT(LARGE((colk=$M$2)*ROW(colk)-12,ROW($A3))))) | C15: =IF(ROW(C3)>COUNTIF(colk,$M$2),"",INDEX(colc,SUMPRODUCT(LARGE((colk=$M$2)*ROW(colk)-12,ROW($A3))))) | D15: =IF(ROW(D3)>COUNTIF(colk,$M$2),"",INDEX(cold,SUMPRODUCT(LARGE((colk=$M$2)*ROW(colk)-12,ROW($A3))))) | E15: =IF(ROW(E3)>COUNTIF(colk,$M$2),"",INDEX(cole,SUMPRODUCT(LARGE((colk=$M$2)*ROW(colk)-12,ROW($A3))))) | F15: =IF(ROW(F3)>COUNTIF(colk,$M$2),"",INDEX(colf,SUMPRODUCT(LARGE((colk=$M$2)*ROW(colk)-12,ROW($A3))))) | G15: =IF(ROW(G3)>COUNTIF(colk,$M$2),"",INDEX(colg,SUMPRODUCT(LARGE((colk=$M$2)*ROW(colk)-12,ROW($A3))))) | H15: =IF(ROW(H3)>COUNTIF(colk,$M$2),"",INDEX(colh,SUMPRODUCT(LARGE((colk=$M$2)*ROW(colk)-12,ROW($A3))))) | J15: =IF(ROW(J3)>COUNTIF(colk,$M$2),"",INDEX(colk,SUMPRODUCT(LARGE((colk=$M$2)*ROW(colk)-12,ROW($A3))))) | K15: =IF(ROW(K3)>COUNTIF(colk,$M$2),"",INDEX(colm,SUMPRODUCT(LARGE((colk=$M$2)*ROW(colk)-12,ROW($A3))))) | L15: =IF(ROW(L3)>COUNTIF(colk,$M$2),"",INDEX(coln,SUMPRODUCT(LARGE((colk=$M$2)*ROW(colk)-12,ROW($A3)))))
A16: =IF(ROW(A4)>COUNTIF(colk,$M$2),"",INDEX(cola,SUMPRODUCT(LARGE((colk=$M$2)*ROW(colk)-12,ROW($A4))))) | B16: =IF(ROW(B4)>COUNTIF(colk,$M$2),"",INDEX(colb,SUMPRODUCT(LARGE((colk=$M$2)*ROW(colk)-12,ROW($A4))))) | C16: =IF(ROW(C4)>COUNTIF(colk,$M$2),"",INDEX(colc,SUMPRODUCT(LARGE((colk=$M$2)*ROW(colk)-12,ROW($A4))))) | D16: =IF(ROW(D4)>COUNTIF(colk,$M$2),"",INDEX(cold,SUMPRODUCT(LARGE((colk=$M$2)*ROW(colk)-12,ROW($A4))))) | E16: =IF(ROW(E4)>COUNTIF(colk,$M$2),"",INDEX(cole,SUMPRODUCT(LARGE((colk=$M$2)*ROW(colk)-12,ROW($A4))))) | F16: =IF(ROW(F4)>COUNTIF(colk,$M$2),"",INDEX(colf,SUMPRODUCT(LARGE((colk=$M$2)*ROW(colk)-12,ROW($A4))))) | G16: =IF(ROW(G4)>COUNTIF(colk,$M$2),"",INDEX(colg,SUMPRODUCT(LARGE((colk=$M$2)*ROW(colk)-12,ROW($A4))))) | H16: =IF(ROW(H4)>COUNTIF(colk,$M$2),"",INDEX(colh,SUMPRODUCT(LARGE((colk=$M$2)*ROW(colk)-12,ROW($A4))))) | J16: =IF(ROW(J4)>COUNTIF(colk,$M$2),"",INDEX(colk,SUMPRODUCT(LARGE((colk=$M$2)*ROW(colk)-12,ROW($A4))))) | K16: =IF(ROW(K4)>COUNTIF(colk,$M$2),"",INDEX(colm,SUMPRODUCT(LARGE((colk=$M$2)*ROW(colk)-12,ROW($A4))))) | L16: =IF(ROW(L4)>COUNTIF(colk,$M$2),"",INDEX(coln,SUMPRODUCT(LARGE((colk=$M$2)*ROW(colk)-12,ROW($A4)))))
A17: =IF(ROW(A5)>COUNTIF(colk,$M$2),"",INDEX(cola,SUMPRODUCT(LARGE((colk=$M$2)*ROW(colk)-12,ROW($A5))))) | B17: =IF(ROW(B5)>COUNTIF(colk,$M$2),"",INDEX(colb,SUMPRODUCT(LARGE((colk=$M$2)*ROW(colk)-12,ROW($A5))))) | C17: =IF(ROW(C5)>COUNTIF(colk,$M$2),"",INDEX(colc,SUMPRODUCT(LARGE((colk=$M$2)*ROW(colk)-12,ROW($A5))))) | D17: =IF(ROW(D5)>COUNTIF(colk,$M$2),"",INDEX(cold,SUMPRODUCT(LARGE((colk=$M$2)*ROW(colk)-12,ROW($A5))))) | E17: =IF(ROW(E5)>COUNTIF(colk,$M$2),"",INDEX(cole,SUMPRODUCT(LARGE((colk=$M$2)*ROW(colk)-12,ROW($A5))))) | F17: =IF(ROW(F5)>COUNTIF(colk,$M$2),"",INDEX(colf,SUMPRODUCT(LARGE((colk=$M$2)*ROW(colk)-12,ROW($A5))))) | G17: =IF(ROW(G5)>COUNTIF(colk,$M$2),"",INDEX(colg,SUMPRODUCT(LARGE((colk=$M$2)*ROW(colk)-12,ROW($A5))))) | H17: =IF(ROW(H5)>COUNTIF(colk,$M$2),"",INDEX(colh,SUMPRODUCT(LARGE((colk=$M$2)*ROW(colk)-12,ROW($A5))))) | J17: =IF(ROW(J5)>COUNTIF(colk,$M$2),"",INDEX(colk,SUMPRODUCT(LARGE((colk=$M$2)*ROW(colk)-12,ROW($A5))))) | K17: =IF(ROW(K5)>COUNTIF(colk,$M$2),"",INDEX(colm,SUMPRODUCT(LARGE((colk=$M$2)*ROW(colk)-12,ROW($A5))))) | L17: =IF(ROW(L5)>COUNTIF(colk,$M$2),"",INDEX(coln,SUMPRODUCT(LARGE((colk=$M$2)*ROW(colk)-12,ROW($A5)))))
