Workbook

Sheet BDD
A1: DateCB | B1: date | C1: nom | D1: CB | E1: chèque | F1: espèces
A2: =COUNTIFS(B$1:B2,">="&'Journal CB'!$C$3,B$1:B2,"<="&'Journal CB'!$E$3,D$1:D2,">0") -> 0 | B2: 42036 | C2: tt | D2: 10
A3: =COUNTIFS(B$1:B3,">="&'Journal CB'!$C$3,B$1:B3,"<="&'Journal CB'!$E$3,D$1:D3,">0") -> 0 | B3: 42037 | C3: aa | E3: 50
A4: =COUNTIFS(B$1:B4,">="&'Journal CB'!$C$3,B$1:B4,"<="&'Journal CB'!$E$3,D$1:D4,">0") -> 0 | B4: 42038 | C4: cc | D4: 20
A5: =COUNTIFS(B$1:B5,">="&'Journal CB'!$C$3,B$1:B5,"<="&'Journal CB'!$E$3,D$1:D5,">0") -> 0 | B5: 42064 | C5: bb | F5: 40
A6: =COUNTIFS(B$1:B6,">="&'Journal CB'!$C$3,B$1:B6,"<="&'Journal CB'!$E$3,D$1:D6,">0") -> 1 | B6: 42065 | C6: aa | D6: 30
A7: =COUNTIFS(B$1:B7,">="&'Journal CB'!$C$3,B$1:B7,"<="&'Journal CB'!$E$3,D$1:D7,">0") -> 1 | B7: 42066 | C7: ee | E7: 10
A8: =COUNTIFS(B$1:B8,">="&'Journal CB'!$C$3,B$1:B8,"<="&'Journal CB'!$E$3,D$1:D8,">0") -> 2 | B8: 42095 | C8: rr | D8: 20
A9: =COUNTIFS(B$1:B9,">="&'Journal CB'!$C$3,B$1:B9,"<="&'Journal CB'!$E$3,D$1:D9,">0") -> 2 | B9: 42096 | C9: tt | E9: 20
A10: =COUNTIFS(B$1:B10,">="&'Journal CB'!$C$3,B$1:B10,"<="&'Journal CB'!$E$3,D$1:D10,">0") -> 2 | B10: 42097 | C10: yy | F10: 30
A11: =COUNTIFS(B$1:B11,">="&'Journal CB'!$C$3,B$1:B11,"<="&'Journal CB'!$E$3,D$1:D11,">0") -> 3 | B11: 42098 | C11: aa | D11: 10

Sheet Journal CB
B2: mois | C2: 4
B3: du | C3: 42064 | D3: au | E3: 42098
A5: date | B5: nom | C5: montant
A6: =IF(ROW()-5<=MAX(BDD[DateCB]),VLOOKUP(ROW()-5,BDD[],2,FALSE),"") -> 42065 | B6: =IF(ROW()-5<=MAX(BDD[DateCB]),VLOOKUP(ROW()-5,BDD[],3,FALSE),"") -> aa | C6: =IF(ROW()-5<=MAX(BDD[DateCB]),VLOOKUP(ROW()-5,BDD[],4,FALSE),"") -> 30 | E6: =SIERREUR(INDEX(BDD[CB];PETITE.VALEUR(SI(BDD[DateCB]=$C$2;LIGNE(BDD[DateCB]));LIGNE(1:1))-LIGNE(BDD[#En-têtes]));"")
A7: =IF(ROW()-5<=MAX(BDD[DateCB]),VLOOKUP(ROW()-5,BDD[],2,FALSE),"") -> 42095 | B7: =IF(ROW()-5<=MAX(BDD[DateCB]),VLOOKUP(ROW()-5,BDD[],3,FALSE),"") -> rr | C7: =IF(ROW()-5<=MAX(BDD[DateCB]),VLOOKUP(ROW()-5,BDD[],4,FALSE),"") -> 20
A8: =IF(ROW()-5<=MAX(BDD[DateCB]),VLOOKUP(ROW()-5,BDD[],2,FALSE),"") -> 42098 | B8: =IF(ROW()-5<=MAX(BDD[DateCB]),VLOOKUP(ROW()-5,BDD[],3,FALSE),"") -> aa | C8: =IF(ROW()-5<=MAX(BDD[DateCB]),VLOOKUP(ROW()-5,BDD[],4,FALSE),"") -> 10
A9: =IF(ROW()-5<=MAX(BDD[DateCB]),VLOOKUP(ROW()-5,BDD[],2,FALSE),"") | B9: =IF(ROW()-5<=MAX(BDD[DateCB]),VLOOKUP(ROW()-5,BDD[],3,FALSE),"") | C9: =IF(ROW()-5<=MAX(BDD[DateCB]),VLOOKUP(ROW()-5,BDD[],4,FALSE),"")
A10: =IF(ROW()-5<=MAX(BDD[DateCB]),VLOOKUP(ROW()-5,BDD[],2,FALSE),"") | B10: =IF(ROW()-5<=MAX(BDD[DateCB]),VLOOKUP(ROW()-5,BDD[],3,FALSE),"") | C10: =IF(ROW()-5<=MAX(BDD[DateCB]),VLOOKUP(ROW()-5,BDD[],4,FALSE),"")
A11: =IF(ROW()-5<=MAX(BDD[DateCB]),VLOOKUP(ROW()-5,BDD[],2,FALSE),"") | B11: =IF(ROW()-5<=MAX(BDD[DateCB]),VLOOKUP(ROW()-5,BDD[],3,FALSE),"") | C11: =IF(ROW()-5<=MAX(BDD[DateCB]),VLOOKUP(ROW()-5,BDD[],4,FALSE),"")
