Workbook
Name NbSect: Generateur!$A$33:$A$45
Name Range: OFFSET(Generateur!$A$2,0,0,Valeurs!$D$1+15,Valeurs!$D$1+1)
Name Rayon_1: OFFSET(Generateur!$B$17,0,0,1,Valeurs!$D$1)
Name Rayon_10: OFFSET(Generateur!$B$26,0,0,1,Valeurs!$D$1)
Name Rayon_11: OFFSET(Generateur!$B$27,0,0,1,Valeurs!$D$1)
Name Rayon_12: OFFSET(Generateur!$B$28,0,0,1,Valeurs!$D$1)
Name Rayon_13: OFFSET(Generateur!$B$29,0,0,1,Valeurs!$D$1)
Name Rayon_14: OFFSET(Generateur!$B$30,0,0,1,Valeurs!$D$1)
Name Rayon_15: OFFSET(Generateur!$B$31,0,0,1,Valeurs!$D$1)
Name Rayon_2: OFFSET(Generateur!$B$18,0,0,1,Valeurs!$D$1)
Name Rayon_3: OFFSET(Generateur!$B$19,0,0,1,Valeurs!$D$1)
Name Rayon_4: OFFSET(Generateur!$B$20,0,0,1,Valeurs!$D$1)
Name Rayon_5: OFFSET(Generateur!$B$21,0,0,1,Valeurs!$D$1)
Name Rayon_6: OFFSET(Generateur!$B$22,0,0,1,Valeurs!$D$1)
Name Rayon_7: OFFSET(Generateur!$B$23,0,0,1,Valeurs!$D$1)
Name Rayon_8: OFFSET(Generateur!$B$24,0,0,1,Valeurs!$D$1)
Name Rayon_9: OFFSET(Generateur!$B$25,0,0,1,Valeurs!$D$1)
Name Secteur_1: OFFSET(Generateur!$B$2,0,0,1,Valeurs!$D$1)
Name Secteur_10: OFFSET(Generateur!$B$11,0,0,1,Valeurs!$D$1)
Name Secteur_11: OFFSET(Generateur!$B$12,0,0,1,Valeurs!$D$1)
Name Secteur_12: OFFSET(Generateur!$B$13,0,0,1,Valeurs!$D$1)
Name Secteur_13: OFFSET(Generateur!$B$14,0,0,1,Valeurs!$D$1)
Name Secteur_14: OFFSET(Generateur!$B$15,0,0,1,Valeurs!$D$1)
Name Secteur_15: OFFSET(Generateur!$B$16,0,0,1,Valeurs!$D$1)
Name Secteur_2: OFFSET(Generateur!$B$3,0,0,1,Valeurs!$D$1)
Name Secteur_3: OFFSET(Generateur!$B$4,0,0,1,Valeurs!$D$1)
Name Secteur_4: OFFSET(Generateur!$B$5,0,0,1,Valeurs!$D$1)
Name Secteur_5: OFFSET(Generateur!$B$6,0,0,1,Valeurs!$D$1)
Name Secteur_6: OFFSET(Generateur!$B$7,0,0,1,Valeurs!$D$1)
Name Secteur_7: OFFSET(Generateur!$B$8,0,0,1,Valeurs!$D$1)
Name Secteur_8: OFFSET(Generateur!$B$9,0,0,1,Valeurs!$D$1)
Name Secteur_9: OFFSET(Generateur!$B$10,0,0,1,Valeurs!$D$1)

Sheet Valeurs
A1: Entrées | B1: Valeurs | C1: Nombre de secteurs | D1: 6
A2: ="Valeur "&ROW()-1 -> Valeur 1 | B2: 0.85
A3: ="Valeur "&ROW()-1 -> Valeur 2 | B3: 0.85
A4: ="Valeur "&ROW()-1 -> Valeur 3 | B4: 0.4
A5: ="Valeur "&ROW()-1 -> Valeur 4 | B5: 0
A6: ="Valeur "&ROW()-1 -> Valeur 5 | B6: 0.6
A7: ="Valeur "&ROW()-1 -> Valeur 6 | B7: 0.6
A8: ="Valeur "&ROW()-1 -> Valeur 7 | B8: =RAND() -> 0.89140456
A9: ="Valeur "&ROW()-1 -> Valeur 8 | B9: =RAND() -> 0.091700276
A10: ="Valeur "&ROW()-1 -> Valeur 9 | B10: =RAND() -> 0.84165643
A11: ="Valeur "&ROW()-1 -> Valeur 10 | B11: =RAND() -> 0.417697
A12: ="Valeur "&ROW()-1 -> Valeur 11 | B12: =RAND() -> 0.093753987
A13: ="Valeur "&ROW()-1 -> Valeur 12 | B13: =RAND() -> 0.99248269
A14: ="Valeur "&ROW()-1 -> Valeur 13 | B14: =RAND() -> 0.11226922
A15: ="Valeur "&ROW()-1 -> Valeur 14 | B15: =RAND() -> 0.95404156
A16: ="Valeur "&ROW()-1 -> Valeur 15 | B16: =RAND() -> 0.77394113

Sheet Generateur
A1: Label | B1: ="Valeur "&COLUMN()-1 -> Valeur 1 | C1: ="Valeur "&COLUMN()-1 -> Valeur 2 | D1: ="Valeur "&COLUMN()-1 -> Valeur 3 | E1: ="Valeur "&COLUMN()-1 -> Valeur 4 | F1: ="Valeur "&COLUMN()-1 -> Valeur 5 | G1: ="Valeur "&COLUMN()-1 -> Valeur 6 | H1: ="Valeur "&COLUMN()-1 -> Valeur 7 | I1: ="Valeur "&COLUMN()-1 -> Valeur 8 | ... P1: ="Valeur "&COLUMN()-1 -> Valeur 15
A2: ="Secteur "&ROW()-1 -> Secteur 1 | B2: =IF(OR(COLUMN()-ROW()=0,COLUMN()-ROW()=1), OFFSET(Valeurs!$B$1,ROW()-1,0), IF(AND(COLUMN()=2,ROW()-1=Valeurs!$D$1), OFFSET(Valeurs!$B$1,ROW()-1,0),0) ) -> 0.85 | C2: =IF(OR(COLUMN()-ROW()=0,COLUMN()-ROW()=1), OFFSET(Valeurs!$B$1,ROW()-1,0), IF(AND(COLUMN()=2,ROW()-1=Valeurs!$D$1), OFFSET(Valeurs!$B$1,ROW()-1,0),0) ) -> 0.85 | D2: =IF(OR(COLUMN()-ROW()=0,COLUMN()-ROW()=1), OFFSET(Valeurs!$B$1,ROW()-1,0), IF(AND(COLUMN()=2,ROW()-1=Valeurs!$D$1), OFFSET(Valeurs!$B$1,ROW()-1,0),0) ) -> 0 | E2: =IF(OR(COLUMN()-ROW()=0,COLUMN()-ROW()=1), OFFSET(Valeurs!$B$1,ROW()-1,0), IF(AND(COLUMN()=2,ROW()-1=Valeurs!$D$1), OFFSET(Valeurs!$B$1,ROW()-1,0),0) ) -> 0 | F2: =IF(OR(COLUMN()-ROW()=0,COLUMN()-ROW()=1), OFFSET(Valeurs!$B$1,ROW()-1,0), IF(AND(COLUMN()=2,ROW()-1=Valeurs!$D$1), OFFSET(Valeurs!$B$1,ROW()-1,0),0) ) -> 0 | G2: =IF(OR(COLUMN()-ROW()=0,COLUMN()-ROW()=1), OFFSET(Valeurs!$B$1,ROW()-1,0), IF(AND(COLUMN()=2,ROW()-1=Valeurs!$D$1), OFFSET(Valeurs!$B$1,ROW()-1,0),0) ) -> 0 | H2: =IF(OR(COLUMN()-ROW()=0,COLUMN()-ROW()=1), OFFSET(Valeurs!$B$1,ROW()-1,0), IF(AND(COLUMN()=2,ROW()-1=Valeurs!$D$1), OFFSET(Valeurs!$B$1,ROW()-1,0),0) ) -> 0 | I2: =IF(OR(COLUMN()-ROW()=0,COLUMN()-ROW()=1), OFFSET(Valeurs!$B$1,ROW()-1,0), IF(AND(COLUMN()=2,ROW()-1=Valeurs!$D$1), OFFSET(Valeurs!$B$1,ROW()-1,0),0) ) -> 0 | ... P2: =IF(OR(COLUMN()-ROW()=0,COLUMN()-ROW()=1), OFFSET(Valeurs!$B$1,ROW()-1,0), IF(AND(COLUMN()=2,ROW()-1=Valeurs!$D$1), OFFSET(Valeurs!$B$1,ROW()-1,0),0) ) -> 0
A3: ="Secteur "&ROW()-1 -> Secteur 2 | B3: =IF(OR(COLUMN()-ROW()=0,COLUMN()-ROW()=1), OFFSET(Valeurs!$B$1,ROW()-1,0), IF(AND(COLUMN()=2,ROW()-1=Valeurs!$D$1), OFFSET(Valeurs!$B$1,ROW()-1,0),0) ) -> 0 | C3: =IF(OR(COLUMN()-ROW()=0,COLUMN()-ROW()=1), OFFSET(Valeurs!$B$1,ROW()-1,0), IF(AND(COLUMN()=2,ROW()-1=Valeurs!$D$1), OFFSET(Valeurs!$B$1,ROW()-1,0),0) ) -> 0.85 | D3: =IF(OR(COLUMN()-ROW()=0,COLUMN()-ROW()=1), OFFSET(Valeurs!$B$1,ROW()-1,0), IF(AND(COLUMN()=2,ROW()-1=Valeurs!$D$1), OFFSET(Valeurs!$B$1,ROW()-1,0),0) ) -> 0.85 | E3: =IF(OR(COLUMN()-ROW()=0,COLUMN()-ROW()=1), OFFSET(Valeurs!$B$1,ROW()-1,0), IF(AND(COLUMN()=2,ROW()-1=Valeurs!$D$1), OFFSET(Valeurs!$B$1,ROW()-1,0),0) ) -> 0 | F3: =IF(OR(COLUMN()-ROW()=0,COLUMN()-ROW()=1), OFFSET(Valeurs!$B$1,ROW()-1,0), IF(AND(COLUMN()=2,ROW()-1=Valeurs!$D$1), OFFSET(Valeurs!$B$1,ROW()-1,0),0) ) -> 0 | G3: =IF(OR(COLUMN()-ROW()=0,COLUMN()-ROW()=1), OFFSET(Valeurs!$B$1,ROW()-1,0), IF(AND(COLUMN()=2,ROW()-1=Valeurs!$D$1), OFFSET(Valeurs!$B$1,ROW()-1,0),0) ) -> 0 | H3: =IF(OR(COLUMN()-ROW()=0,COLUMN()-ROW()=1), OFFSET(Valeurs!$B$1,ROW()-1,0), IF(AND(COLUMN()=2,ROW()-1=Valeurs!$D$1), OFFSET(Valeurs!$B$1,ROW()-1,0),0) ) -> 0 | I3: =IF(OR(COLUMN()-ROW()=0,COLUMN()-ROW()=1), OFFSET(Valeurs!$B$1,ROW()-1,0), IF(AND(COLUMN()=2,ROW()-1=Valeurs!$D$1), OFFSET(Valeurs!$B$1,ROW()-1,0),0) ) -> 0 | ... P3: =IF(OR(COLUMN()-ROW()=0,COLUMN()-ROW()=1), OFFSET(Valeurs!$B$1,ROW()-1,0), IF(AND(COLUMN()=2,ROW()-1=Valeurs!$D$1), OFFSET(Valeurs!$B$1,ROW()-1,0),0) ) -> 0
A4: ="Secteur "&ROW()-1 -> Secteur 3 | B4: =IF(OR(COLUMN()-ROW()=0,COLUMN()-ROW()=1), OFFSET(Valeurs!$B$1,ROW()-1,0), IF(AND(COLUMN()=2,ROW()-1=Valeurs!$D$1), OFFSET(Valeurs!$B$1,ROW()-1,0),0) ) -> 0 | C4: =IF(OR(COLUMN()-ROW()=0,COLUMN()-ROW()=1), OFFSET(Valeurs!$B$1,ROW()-1,0), IF(AND(COLUMN()=2,ROW()-1=Valeurs!$D$1), OFFSET(Valeurs!$B$1,ROW()-1,0),0) ) -> 0 | D4: =IF(OR(COLUMN()-ROW()=0,COLUMN()-ROW()=1), OFFSET(Valeurs!$B$1,ROW()-1,0), IF(AND(COLUMN()=2,ROW()-1=Valeurs!$D$1), OFFSET(Valeurs!$B$1,ROW()-1,0),0) ) -> 0.4 | E4: =IF(OR(COLUMN()-ROW()=0,COLUMN()-ROW()=1), OFFSET(Valeurs!$B$1,ROW()-1,0), IF(AND(COLUMN()=2,ROW()-1=Valeurs!$D$1), OFFSET(Valeurs!$B$1,ROW()-1,0),0) ) -> 0.4 | F4: =IF(OR(COLUMN()-ROW()=0,COLUMN()-ROW()=1), OFFSET(Valeurs!$B$1,ROW()-1,0), IF(AND(COLUMN()=2,ROW()-1=Valeurs!$D$1), OFFSET(Valeurs!$B$1,ROW()-1,0),0) ) -> 0 | G4: =IF(OR(COLUMN()-ROW()=0,COLUMN()-ROW()=1), OFFSET(Valeurs!$B$1,ROW()-1,0), IF(AND(COLUMN()=2,ROW()-1=Valeurs!$D$1), OFFSET(Valeurs!$B$1,ROW()-1,0),0) ) -> 0 | H4: =IF(OR(COLUMN()-ROW()=0,COLUMN()-ROW()=1), OFFSET(Valeurs!$B$1,ROW()-1,0), IF(AND(COLUMN()=2,ROW()-1=Valeurs!$D$1), OFFSET(Valeurs!$B$1,ROW()-1,0),0) ) -> 0 | I4: =IF(OR(COLUMN()-ROW()=0,COLUMN()-ROW()=1), OFFSET(Valeurs!$B$1,ROW()-1,0), IF(AND(COLUMN()=2,ROW()-1=Valeurs!$D$1), OFFSET(Valeurs!$B$1,ROW()-1,0),0) ) -> 0 | ... P4: =IF(OR(COLUMN()-ROW()=0,COLUMN()-ROW()=1), OFFSET(Valeurs!$B$1,ROW()-1,0), IF(AND(COLUMN()=2,ROW()-1=Valeurs!$D$1), OFFSET(Valeurs!$B$1,ROW()-1,0),0) ) -> 0
A5: ="Secteur "&ROW()-1 -> Secteur 4 | B5: =IF(OR(COLUMN()-ROW()=0,COLUMN()-ROW()=1), OFFSET(Valeurs!$B$1,ROW()-1,0), IF(AND(COLUMN()=2,ROW()-1=Valeurs!$D$1), OFFSET(Valeurs!$B$1,ROW()-1,0),0) ) -> 0 | C5: =IF(OR(COLUMN()-ROW()=0,COLUMN()-ROW()=1), OFFSET(Valeurs!$B$1,ROW()-1,0), IF(AND(COLUMN()=2,ROW()-1=Valeurs!$D$1), OFFSET(Valeurs!$B$1,ROW()-1,0),0) ) -> 0 | D5: =IF(OR(COLUMN()-ROW()=0,COLUMN()-ROW()=1), OFFSET(Valeurs!$B$1,ROW()-1,0), IF(AND(COLUMN()=2,ROW()-1=Valeurs!$D$1), OFFSET(Valeurs!$B$1,ROW()-1,0),0) ) -> 0 | E5: =IF(OR(COLUMN()-ROW()=0,COLUMN()-ROW()=1), OFFSET(Valeurs!$B$1,ROW()-1,0), IF(AND(COLUMN()=2,ROW()-1=Valeurs!$D$1), OFFSET(Valeurs!$B$1,ROW()-1,0),0) ) -> 0 | F5: =IF(OR(COLUMN()-ROW()=0,COLUMN()-ROW()=1), OFFSET(Valeurs!$B$1,ROW()-1,0), IF(AND(COLUMN()=2,ROW()-1=Valeurs!$D$1), OFFSET(Valeurs!$B$1,ROW()-1,0),0) ) -> 0 | G5: =IF(OR(COLUMN()-ROW()=0,COLUMN()-ROW()=1), OFFSET(Valeurs!$B$1,ROW()-1,0), IF(AND(COLUMN()=2,ROW()-1=Valeurs!$D$1), OFFSET(Valeurs!$B$1,ROW()-1,0),0) ) -> 0 | H5: =IF(OR(COLUMN()-ROW()=0,COLUMN()-ROW()=1), OFFSET(Valeurs!$B$1,ROW()-1,0), IF(AND(COLUMN()=2,ROW()-1=Valeurs!$D$1), OFFSET(Valeurs!$B$1,ROW()-1,0),0) ) -> 0 | I5: =IF(OR(COLUMN()-ROW()=0,COLUMN()-ROW()=1), OFFSET(Valeurs!$B$1,ROW()-1,0), IF(AND(COLUMN()=2,ROW()-1=Valeurs!$D$1), OFFSET(Valeurs!$B$1,ROW()-1,0),0) ) -> 0 | ... P5: =IF(OR(COLUMN()-ROW()=0,COLUMN()-ROW()=1), OFFSET(Valeurs!$B$1,ROW()-1,0), IF(AND(COLUMN()=2,ROW()-1=Valeurs!$D$1), OFFSET(Valeurs!$B$1,ROW()-1,0),0) ) -> 0
A6: ="Secteur "&ROW()-1 -> Secteur 5 | B6: =IF(OR(COLUMN()-ROW()=0,COLUMN()-ROW()=1), OFFSET(Valeurs!$B$1,ROW()-1,0), IF(AND(COLUMN()=2,ROW()-1=Valeurs!$D$1), OFFSET(Valeurs!$B$1,ROW()-1,0),0) ) -> 0 | C6: =IF(OR(COLUMN()-ROW()=0,COLUMN()-ROW()=1), OFFSET(Valeurs!$B$1,ROW()-1,0), IF(AND(COLUMN()=2,ROW()-1=Valeurs!$D$1), OFFSET(Valeurs!$B$1,ROW()-1,0),0) ) -> 0 | D6: =IF(OR(COLUMN()-ROW()=0,COLUMN()-ROW()=1), OFFSET(Valeurs!$B$1,ROW()-1,0), IF(AND(COLUMN()=2,ROW()-1=Valeurs!$D$1), OFFSET(Valeurs!$B$1,ROW()-1,0),0) ) -> 0 | E6: =IF(OR(COLUMN()-ROW()=0,COLUMN()-ROW()=1), OFFSET(Valeurs!$B$1,ROW()-1,0), IF(AND(COLUMN()=2,ROW()-1=Valeurs!$D$1), OFFSET(Valeurs!$B$1,ROW()-1,0),0) ) -> 0 | F6: =IF(OR(COLUMN()-ROW()=0,COLUMN()-ROW()=1), OFFSET(Valeurs!$B$1,ROW()-1,0), IF(AND(COLUMN()=2,ROW()-1=Valeurs!$D$1), OFFSET(Valeurs!$B$1,ROW()-1,0),0) ) -> 0.6 | G6: =IF(OR(COLUMN()-ROW()=0,COLUMN()-ROW()=1), OFFSET(Valeurs!$B$1,ROW()-1,0), IF(AND(COLUMN()=2,ROW()-1=Valeurs!$D$1), OFFSET(Valeurs!$B$1,ROW()-1,0),0) ) -> 0.6 | H6: =IF(OR(COLUMN()-ROW()=0,COLUMN()-ROW()=1), OFFSET(Valeurs!$B$1,ROW()-1,0), IF(AND(COLUMN()=2,ROW()-1=Valeurs!$D$1), OFFSET(Valeurs!$B$1,ROW()-1,0),0) ) -> 0 | I6: =IF(OR(COLUMN()-ROW()=0,COLUMN()-ROW()=1), OFFSET(Valeurs!$B$1,ROW()-1,0), IF(AND(COLUMN()=2,ROW()-1=Valeurs!$D$1), OFFSET(Valeurs!$B$1,ROW()-1,0),0) ) -> 0 | ... P6: =IF(OR(COLUMN()-ROW()=0,COLUMN()-ROW()=1), OFFSET(Valeurs!$B$1,ROW()-1,0), IF(AND(COLUMN()=2,ROW()-1=Valeurs!$D$1), OFFSET(Valeurs!$B$1,ROW()-1,0),0) ) -> 0
A7: ="Secteur "&ROW()-1 -> Secteur 6 | B7: =IF(OR(COLUMN()-ROW()=0,COLUMN()-ROW()=1), OFFSET(Valeurs!$B$1,ROW()-1,0), IF(AND(COLUMN()=2,ROW()-1=Valeurs!$D$1), OFFSET(Valeurs!$B$1,ROW()-1,0),0) ) -> 0.6 | C7: =IF(OR(COLUMN()-ROW()=0,COLUMN()-ROW()=1), OFFSET(Valeurs!$B$1,ROW()-1,0), IF(AND(COLUMN()=2,ROW()-1=Valeurs!$D$1), OFFSET(Valeurs!$B$1,ROW()-1,0),0) ) -> 0 | D7: =IF(OR(COLUMN()-ROW()=0,COLUMN()-ROW()=1), OFFSET(Valeurs!$B$1,ROW()-1,0), IF(AND(COLUMN()=2,ROW()-1=Valeurs!$D$1), OFFSET(Valeurs!$B$1,ROW()-1,0),0) ) -> 0 | E7: =IF(OR(COLUMN()-ROW()=0,COLUMN()-ROW()=1), OFFSET(Valeurs!$B$1,ROW()-1,0), IF(AND(COLUMN()=2,ROW()-1=Valeurs!$D$1), OFFSET(Valeurs!$B$1,ROW()-1,0),0) ) -> 0 | F7: =IF(OR(COLUMN()-ROW()=0,COLUMN()-ROW()=1), OFFSET(Valeurs!$B$1,ROW()-1,0), IF(AND(COLUMN()=2,ROW()-1=Valeurs!$D$1), OFFSET(Valeurs!$B$1,ROW()-1,0),0) ) -> 0 | G7: =IF(OR(COLUMN()-ROW()=0,COLUMN()-ROW()=1), OFFSET(Valeurs!$B$1,ROW()-1,0), IF(AND(COLUMN()=2,ROW()-1=Valeurs!$D$1), OFFSET(Valeurs!$B$1,ROW()-1,0),0) ) -> 0.6 | H7: =IF(OR(COLUMN()-ROW()=0,COLUMN()-ROW()=1), OFFSET(Valeurs!$B$1,ROW()-1,0), IF(AND(COLUMN()=2,ROW()-1=Valeurs!$D$1), OFFSET(Valeurs!$B$1,ROW()-1,0),0) ) -> 0.6 | I7: =IF(OR(COLUMN()-ROW()=0,COLUMN()-ROW()=1), OFFSET(Valeurs!$B$1,ROW()-1,0), IF(AND(COLUMN()=2,ROW()-1=Valeurs!$D$1), OFFSET(Valeurs!$B$1,ROW()-1,0),0) ) -> 0 | ... P7: =IF(OR(COLUMN()-ROW()=0,COLUMN()-ROW()=1), OFFSET(Valeurs!$B$1,ROW()-1,0), IF(AND(COLUMN()=2,ROW()-1=Valeurs!$D$1), OFFSET(Valeurs!$B$1,ROW()-1,0),0) ) -> 0
A8: ="Secteur "&ROW()-1 -> Secteur 7 | B8: =IF(OR(COLUMN()-ROW()=0,COLUMN()-ROW()=1), OFFSET(Valeurs!$B$1,ROW()-1,0), IF(AND(COLUMN()=2,ROW()-1=Valeurs!$D$1), OFFSET(Valeurs!$B$1,ROW()-1,0),0) ) -> 0 | C8: =IF(OR(COLUMN()-ROW()=0,COLUMN()-ROW()=1), OFFSET(Valeurs!$B$1,ROW()-1,0), IF(AND(COLUMN()=2,ROW()-1=Valeurs!$D$1), OFFSET(Valeurs!$B$1,ROW()-1,0),0) ) -> 0 | D8: =IF(OR(COLUMN()-ROW()=0,COLUMN()-ROW()=1), OFFSET(Valeurs!$B$1,ROW()-1,0), IF(AND(COLUMN()=2,ROW()-1=Valeurs!$D$1), OFFSET(Valeurs!$B$1,ROW()-1,0),0) ) -> 0 | E8: =IF(OR(COLUMN()-ROW()=0,COLUMN()-ROW()=1), OFFSET(Valeurs!$B$1,ROW()-1,0), IF(AND(COLUMN()=2,ROW()-1=Valeurs!$D$1), OFFSET(Valeurs!$B$1,ROW()-1,0),0) ) -> 0 | F8: =IF(OR(COLUMN()-ROW()=0,COLUMN()-ROW()=1), OFFSET(Valeurs!$B$1,ROW()-1,0), IF(AND(COLUMN()=2,ROW()-1=Valeurs!$D$1), OFFSET(Valeurs!$B$1,ROW()-1,0),0) ) -> 0 | G8: =IF(OR(COLUMN()-ROW()=0,COLUMN()-ROW()=1), OFFSET(Valeurs!$B$1,ROW()-1,0), IF(AND(COLUMN()=2,ROW()-1=Valeurs!$D$1), OFFSET(Valeurs!$B$1,ROW()-1,0),0) ) -> 0 | H8: =IF(OR(COLUMN()-ROW()=0,COLUMN()-ROW()=1), OFFSET(Valeurs!$B$1,ROW()-1,0), IF(AND(COLUMN()=2,ROW()-1=Valeurs!$D$1), OFFSET(Valeurs!$B$1,ROW()-1,0),0) ) -> 0.89140456 | I8: =IF(OR(COLUMN()-ROW()=0,COLUMN()-ROW()=1), OFFSET(Valeurs!$B$1,ROW()-1,0), IF(AND(COLUMN()=2,ROW()-1=Valeurs!$D$1), OFFSET(Valeurs!$B$1,ROW()-1,0),0) ) -> 0.89140456 | ... P8: =IF(OR(COLUMN()-ROW()=0,COLUMN()-ROW()=1), OFFSET(Valeurs!$B$1,ROW()-1,0), IF(AND(COLUMN()=2,ROW()-1=Valeurs!$D$1), OFFSET(Valeurs!$B$1,ROW()-1,0),0) ) -> 0
A9: ="Secteur "&ROW()-1 -> Secteur 8 | B9: =IF(OR(COLUMN()-ROW()=0,COLUMN()-ROW()=1), OFFSET(Valeurs!$B$1,ROW()-1,0), IF(AND(COLUMN()=2,ROW()-1=Valeurs!$D$1), OFFSET(Valeurs!$B$1,ROW()-1,0),0) ) -> 0 | C9: =IF(OR(COLUMN()-ROW()=0,COLUMN()-ROW()=1), OFFSET(Valeurs!$B$1,ROW()-1,0), IF(AND(COLUMN()=2,ROW()-1=Valeurs!$D$1), OFFSET(Valeurs!$B$1,ROW()-1,0),0) ) -> 0 | D9: =IF(OR(COLUMN()-ROW()=0,COLUMN()-ROW()=1), OFFSET(Valeurs!$B$1,ROW()-1,0), IF(AND(COLUMN()=2,ROW()-1=Valeurs!$D$1), OFFSET(Valeurs!$B$1,ROW()-1,0),0) ) -> 0 | E9: =IF(OR(COLUMN()-ROW()=0,COLUMN()-ROW()=1), OFFSET(Valeurs!$B$1,ROW()-1,0), IF(AND(COLUMN()=2,ROW()-1=Valeurs!$D$1), OFFSET(Valeurs!$B$1,ROW()-1,0),0) ) -> 0 | F9: =IF(OR(COLUMN()-ROW()=0,COLUMN()-ROW()=1), OFFSET(Valeurs!$B$1,ROW()-1,0), IF(AND(COLUMN()=2,ROW()-1=Valeurs!$D$1), OFFSET(Valeurs!$B$1,ROW()-1,0),0) ) -> 0 | G9: =IF(OR(COLUMN()-ROW()=0,COLUMN()-ROW()=1), OFFSET(Valeurs!$B$1,ROW()-1,0), IF(AND(COLUMN()=2,ROW()-1=Valeurs!$D$1), OFFSET(Valeurs!$B$1,ROW()-1,0),0) ) -> 0 | H9: =IF(OR(COLUMN()-ROW()=0,COLUMN()-ROW()=1), OFFSET(Valeurs!$B$1,ROW()-1,0), IF(AND(COLUMN()=2,ROW()-1=Valeurs!$D$1), OFFSET(Valeurs!$B$1,ROW()-1,0),0) ) -> 0 | I9: =IF(OR(COLUMN()-ROW()=0,COLUMN()-ROW()=1), OFFSET(Valeurs!$B$1,ROW()-1,0), IF(AND(COLUMN()=2,ROW()-1=Valeurs!$D$1), OFFSET(Valeurs!$B$1,ROW()-1,0),0) ) -> 0.091700276 | ... P9: =IF(OR(COLUMN()-ROW()=0,COLUMN()-ROW()=1), OFFSET(Valeurs!$B$1,ROW()-1,0), IF(AND(COLUMN()=2,ROW()-1=Valeurs!$D$1), OFFSET(Valeurs!$B$1,ROW()-1,0),0) ) -> 0
A10: ="Secteur "&ROW()-1 -> Secteur 9 | B10: =IF(OR(COLUMN()-ROW()=0,COLUMN()-ROW()=1), OFFSET(Valeurs!$B$1,ROW()-1,0), IF(AND(COLUMN()=2,ROW()-1=Valeurs!$D$1), OFFSET(Valeurs!$B$1,ROW()-1,0),0) ) -> 0 | C10: =IF(OR(COLUMN()-ROW()=0,COLUMN()-ROW()=1), OFFSET(Valeurs!$B$1,ROW()-1,0), IF(AND(COLUMN()=2,ROW()-1=Valeurs!$D$1), OFFSET(Valeurs!$B$1,ROW()-1,0),0) ) -> 0 | D10: =IF(OR(COLUMN()-ROW()=0,COLUMN()-ROW()=1), OFFSET(Valeurs!$B$1,ROW()-1,0), IF(AND(COLUMN()=2,ROW()-1=Valeurs!$D$1), OFFSET(Valeurs!$B$1,ROW()-1,0),0) ) -> 0 | E10: =IF(OR(COLUMN()-ROW()=0,COLUMN()-ROW()=1), OFFSET(Valeurs!$B$1,ROW()-1,0), IF(AND(COLUMN()=2,ROW()-1=Valeurs!$D$1), OFFSET(Valeurs!$B$1,ROW()-1,0),0) ) -> 0 | F10: =IF(OR(COLUMN()-ROW()=0,COLUMN()-ROW()=1), OFFSET(Valeurs!$B$1,ROW()-1,0), IF(AND(COLUMN()=2,ROW()-1=Valeurs!$D$1), OFFSET(Valeurs!$B$1,ROW()-1,0),0) ) -> 0 | G10: =IF(OR(COLUMN()-ROW()=0,COLUMN()-ROW()=1), OFFSET(Valeurs!$B$1,ROW()-1,0), IF(AND(COLUMN()=2,ROW()-1=Valeurs!$D$1), OFFSET(Valeurs!$B$1,ROW()-1,0),0) ) -> 0 | H10: =IF(OR(COLUMN()-ROW()=0,COLUMN()-ROW()=1), OFFSET(Valeurs!$B$1,ROW()-1,0), IF(AND(COLUMN()=2,ROW()-1=Valeurs!$D$1), OFFSET(Valeurs!$B$1,ROW()-1,0),0) ) -> 0 | I10: =IF(OR(COLUMN()-ROW()=0,COLUMN()-ROW()=1), OFFSET(Valeurs!$B$1,ROW()-1,0), IF(AND(COLUMN()=2,ROW()-1=Valeurs!$D$1), OFFSET(Valeurs!$B$1,ROW()-1,0),0) ) -> 0 | ... P10: =IF(OR(COLUMN()-ROW()=0,COLUMN()-ROW()=1), OFFSET(Valeurs!$B$1,ROW()-1,0), IF(AND(COLUMN()=2,ROW()-1=Valeurs!$D$1), OFFSET(Valeurs!$B$1,ROW()-1,0),0) ) -> 0
A11: ="Secteur "&ROW()-1 -> Secteur 10 | B11: =IF(OR(COLUMN()-ROW()=0,COLUMN()-ROW()=1), OFFSET(Valeurs!$B$1,ROW()-1,0), IF(AND(COLUMN()=2,ROW()-1=Valeurs!$D$1), OFFSET(Valeurs!$B$1,ROW()-1,0),0) ) -> 0 | C11: =IF(OR(COLUMN()-ROW()=0,COLUMN()-ROW()=1), OFFSET(Valeurs!$B$1,ROW()-1,0), IF(AND(COLUMN()=2,ROW()-1=Valeurs!$D$1), OFFSET(Valeurs!$B$1,ROW()-1,0),0) ) -> 0 | D11: =IF(OR(COLUMN()-ROW()=0,COLUMN()-ROW()=1), OFFSET(Valeurs!$B$1,ROW()-1,0), IF(AND(COLUMN()=2,ROW()-1=Valeurs!$D$1), OFFSET(Valeurs!$B$1,ROW()-1,0),0) ) -> 0 | E11: =IF(OR(COLUMN()-ROW()=0,COLUMN()-ROW()=1), OFFSET(Valeurs!$B$1,ROW()-1,0), IF(AND(COLUMN()=2,ROW()-1=Valeurs!$D$1), OFFSET(Valeurs!$B$1,ROW()-1,0),0) ) -> 0 | F11: =IF(OR(COLUMN()-ROW()=0,COLUMN()-ROW()=1), OFFSET(Valeurs!$B$1,ROW()-1,0), IF(AND(COLUMN()=2,ROW()-1=Valeurs!$D$1), OFFSET(Valeurs!$B$1,ROW()-1,0),0) ) -> 0 | G11: =IF(OR(COLUMN()-ROW()=0,COLUMN()-ROW()=1), OFFSET(Valeurs!$B$1,ROW()-1,0), IF(AND(COLUMN()=2,ROW()-1=Valeurs!$D$1), OFFSET(Valeurs!$B$1,ROW()-1,0),0) ) -> 0 | H11: =IF(OR(COLUMN()-ROW()=0,COLUMN()-ROW()=1), OFFSET(Valeurs!$B$1,ROW()-1,0), IF(AND(COLUMN()=2,ROW()-1=Valeurs!$D$1), OFFSET(Valeurs!$B$1,ROW()-1,0),0) ) -> 0 | I11: =IF(OR(COLUMN()-ROW()=0,COLUMN()-ROW()=1), OFFSET(Valeurs!$B$1,ROW()-1,0), IF(AND(COLUMN()=2,ROW()-1=Valeurs!$D$1), OFFSET(Valeurs!$B$1,ROW()-1,0),0) ) -> 0 | ... P11: =IF(OR(COLUMN()-ROW()=0,COLUMN()-ROW()=1), OFFSET(Valeurs!$B$1,ROW()-1,0), IF(AND(COLUMN()=2,ROW()-1=Valeurs!$D$1), OFFSET(Valeurs!$B$1,ROW()-1,0),0) ) -> 0
A12: ="Secteur "&ROW()-1 -> Secteur 11 | B12: =IF(OR(COLUMN()-ROW()=0,COLUMN()-ROW()=1), OFFSET(Valeurs!$B$1,ROW()-1,0), IF(AND(COLUMN()=2,ROW()-1=Valeurs!$D$1), OFFSET(Valeurs!$B$1,ROW()-1,0),0) ) -> 0 | C12: =IF(OR(COLUMN()-ROW()=0,COLUMN()-ROW()=1), OFFSET(Valeurs!$B$1,ROW()-1,0), IF(AND(COLUMN()=2,ROW()-1=Valeurs!$D$1), OFFSET(Valeurs!$B$1,ROW()-1,0),0) ) -> 0 | D12: =IF(OR(COLUMN()-ROW()=0,COLUMN()-ROW()=1), OFFSET(Valeurs!$B$1,ROW()-1,0), IF(AND(COLUMN()=2,ROW()-1=Valeurs!$D$1), OFFSET(Valeurs!$B$1,ROW()-1,0),0) ) -> 0 | E12: =IF(OR(COLUMN()-ROW()=0,COLUMN()-ROW()=1), OFFSET(Valeurs!$B$1,ROW()-1,0), IF(AND(COLUMN()=2,ROW()-1=Valeurs!$D$1), OFFSET(Valeurs!$B$1,ROW()-1,0),0) ) -> 0 | F12: =IF(OR(COLUMN()-ROW()=0,COLUMN()-ROW()=1), OFFSET(Valeurs!$B$1,ROW()-1,0), IF(AND(COLUMN()=2,ROW()-1=Valeurs!$D$1), OFFSET(Valeurs!$B$1,ROW()-1,0),0) ) -> 0 | G12: =IF(OR(COLUMN()-ROW()=0,COLUMN()-ROW()=1), OFFSET(Valeurs!$B$1,ROW()-1,0), IF(AND(COLUMN()=2,ROW()-1=Valeurs!$D$1), OFFSET(Valeurs!$B$1,ROW()-1,0),0) ) -> 0 | H12: =IF(OR(COLUMN()-ROW()=0,COLUMN()-ROW()=1), OFFSET(Valeurs!$B$1,ROW()-1,0), IF(AND(COLUMN()=2,ROW()-1=Valeurs!$D$1), OFFSET(Valeurs!$B$1,ROW()-1,0),0) ) -> 0 | I12: =IF(OR(COLUMN()-ROW()=0,COLUMN()-ROW()=1), OFFSET(Valeurs!$B$1,ROW()-1,0), IF(AND(COLUMN()=2,ROW()-1=Valeurs!$D$1), OFFSET(Valeurs!$B$1,ROW()-1,0),0) ) -> 0 | ... P12: =IF(OR(COLUMN()-ROW()=0,COLUMN()-ROW()=1), OFFSET(Valeurs!$B$1,ROW()-1,0), IF(AND(COLUMN()=2,ROW()-1=Valeurs!$D$1), OFFSET(Valeurs!$B$1,ROW()-1,0),0) ) -> 0
A13: ="Secteur "&ROW()-1 -> Secteur 12 | B13: =IF(OR(COLUMN()-ROW()=0,COLUMN()-ROW()=1), OFFSET(Valeurs!$B$1,ROW()-1,0), IF(AND(COLUMN()=2,ROW()-1=Valeurs!$D$1), OFFSET(Valeurs!$B$1,ROW()-1,0),0) ) -> 0 | C13: =IF(OR(COLUMN()-ROW()=0,COLUMN()-ROW()=1), OFFSET(Valeurs!$B$1,ROW()-1,0), IF(AND(COLUMN()=2,ROW()-1=Valeurs!$D$1), OFFSET(Valeurs!$B$1,ROW()-1,0),0) ) -> 0 | D13: =IF(OR(COLUMN()-ROW()=0,COLUMN()-ROW()=1), OFFSET(Valeurs!$B$1,ROW()-1,0), IF(AND(COLUMN()=2,ROW()-1=Valeurs!$D$1), OFFSET(Valeurs!$B$1,ROW()-1,0),0) ) -> 0 | E13: =IF(OR(COLUMN()-ROW()=0,COLUMN()-ROW()=1), OFFSET(Valeurs!$B$1,ROW()-1,0), IF(AND(COLUMN()=2,ROW()-1=Valeurs!$D$1), OFFSET(Valeurs!$B$1,ROW()-1,0),0) ) -> 0 | F13: =IF(OR(COLUMN()-ROW()=0,COLUMN()-ROW()=1), OFFSET(Valeurs!$B$1,ROW()-1,0), IF(AND(COLUMN()=2,ROW()-1=Valeurs!$D$1), OFFSET(Valeurs!$B$1,ROW()-1,0),0) ) -> 0 | G13: =IF(OR(COLUMN()-ROW()=0,COLUMN()-ROW()=1), OFFSET(Valeurs!$B$1,ROW()-1,0), IF(AND(COLUMN()=2,ROW()-1=Valeurs!$D$1), OFFSET(Valeurs!$B$1,ROW()-1,0),0) ) -> 0 | H13: =IF(OR(COLUMN()-ROW()=0,COLUMN()-ROW()=1), OFFSET(Valeurs!$B$1,ROW()-1,0), IF(AND(COLUMN()=2,ROW()-1=Valeurs!$D$1), OFFSET(Valeurs!$B$1,ROW()-1,0),0) ) -> 0 | I13: =IF(OR(COLUMN()-ROW()=0,COLUMN()-ROW()=1), OFFSET(Valeurs!$B$1,ROW()-1,0), IF(AND(COLUMN()=2,ROW()-1=Valeurs!$D$1), OFFSET(Valeurs!$B$1,ROW()-1,0),0) ) -> 0 | ... P13: =IF(OR(COLUMN()-ROW()=0,COLUMN()-ROW()=1), OFFSET(Valeurs!$B$1,ROW()-1,0), IF(AND(COLUMN()=2,ROW()-1=Valeurs!$D$1), OFFSET(Valeurs!$B$1,ROW()-1,0),0) ) -> 0
... A16: ="Secteur "&ROW()-1 -> Secteur 15 | B16: =IF(OR(COLUMN()-ROW()=0,COLUMN()-ROW()=1), OFFSET(Valeurs!$B$1,ROW()-1,0), IF(AND(COLUMN()=2,ROW()-1=Valeurs!$D$1), OFFSET(Valeurs!$B$1,ROW()-1,0),0) ) -> 0 | C16: =IF(OR(COLUMN()-ROW()=0,COLUMN()-ROW()=1), OFFSET(Valeurs!$B$1,ROW()-1,0), IF(AND(COLUMN()=2,ROW()-1=Valeurs!$D$1), OFFSET(Valeurs!$B$1,ROW()-1,0),0) ) -> 0 | D16: =IF(OR(COLUMN()-ROW()=0,COLUMN()-ROW()=1), OFFSET(Valeurs!$B$1,ROW()-1,0), IF(AND(COLUMN()=2,ROW()-1=Valeurs!$D$1), OFFSET(Valeurs!$B$1,ROW()-1,0),0) ) -> 0 | E16: =IF(OR(COLUMN()-ROW()=0,COLUMN()-ROW()=1), OFFSET(Valeurs!$B$1,ROW()-1,0), IF(AND(COLUMN()=2,ROW()-1=Valeurs!$D$1), OFFSET(Valeurs!$B$1,ROW()-1,0),0) ) -> 0 | F16: =IF(OR(COLUMN()-ROW()=0,COLUMN()-ROW()=1), OFFSET(Valeurs!$B$1,ROW()-1,0), IF(AND(COLUMN()=2,ROW()-1=Valeurs!$D$1), OFFSET(Valeurs!$B$1,ROW()-1,0),0) ) -> 0 | G16: =IF(OR(COLUMN()-ROW()=0,COLUMN()-ROW()=1), OFFSET(Valeurs!$B$1,ROW()-1,0), IF(AND(COLUMN()=2,ROW()-1=Valeurs!$D$1), OFFSET(Valeurs!$B$1,ROW()-1,0),0) ) -> 0 | H16: =IF(OR(COLUMN()-ROW()=0,COLUMN()-ROW()=1), OFFSET(Valeurs!$B$1,ROW()-1,0), IF(AND(COLUMN()=2,ROW()-1=Valeurs!$D$1), OFFSET(Valeurs!$B$1,ROW()-1,0),0) ) -> 0 | I16: =IF(OR(COLUMN()-ROW()=0,COLUMN()-ROW()=1), OFFSET(Valeurs!$B$1,ROW()-1,0), IF(AND(COLUMN()=2,ROW()-1=Valeurs!$D$1), OFFSET(Valeurs!$B$1,ROW()-1,0),0) ) -> 0 | ... P16: =IF(OR(COLUMN()-ROW()=0,COLUMN()-ROW()=1), OFFSET(Valeurs!$B$1,ROW()-1,0), IF(AND(COLUMN()=2,ROW()-1=Valeurs!$D$1), OFFSET(Valeurs!$B$1,ROW()-1,0),0) ) -> 0.77394113
A17: ="Rayon "&(ROW()-16) -> Rayon 1 | B17: 1 | C17: 0
A18: ="Rayon "&(ROW()-16) -> Rayon 2 | C18: =B17 -> 1 | D18: =C17 -> 0 | E18: =D17 -> 0 | F18: =E17 -> 0 | G18: =F17 -> 0 | H18: =G17 -> 0 | I18: =H17 -> 0 | J18: =I17 -> 0 | ... P18: =O17 -> 0
A19: ="Rayon "&(ROW()-16) -> Rayon 3 | C19: =B18 -> 0 | D19: =C18 -> 1 | E19: =D18 -> 0 | F19: =E18 -> 0 | G19: =F18 -> 0 | H19: =G18 -> 0 | I19: =H18 -> 0 | J19: =I18 -> 0 | ... P19: =O18 -> 0
A20: ="Rayon "&(ROW()-16) -> Rayon 4 | C20: =B19 -> 0 | D20: =C19 -> 0 | E20: =D19 -> 1 | F20: =E19 -> 0 | G20: =F19 -> 0 | H20: =G19 -> 0 | I20: =H19 -> 0 | J20: =I19 -> 0 | ... P20: =O19 -> 0
A21: ="Rayon "&(ROW()-16) -> Rayon 5 | C21: =B20 -> 0 | D21: =C20 -> 0 | E21: =D20 -> 0 | F21: =E20 -> 1 | G21: =F20 -> 0 | H21: =G20 -> 0 | I21: =H20 -> 0 | J21: =I20 -> 0 | ... P21: =O20 -> 0
A22: ="Rayon "&(ROW()-16) -> Rayon 6 | C22: =B21 -> 0 | D22: =C21 -> 0 | E22: =D21 -> 0 | F22: =E21 -> 0 | G22: =F21 -> 1 | H22: =G21 -> 0 | I22: =H21 -> 0 | J22: =I21 -> 0 | ... P22: =O21 -> 0
A23: ="Rayon "&(ROW()-16) -> Rayon 7 | C23: =B22 -> 0 | D23: =C22 -> 0 | E23: =D22 -> 0 | F23: =E22 -> 0 | G23: =F22 -> 0 | H23: =G22 -> 1 | I23: =H22 -> 0 | J23: =I22 -> 0 | ... P23: =O22 -> 0
A24: ="Rayon "&(ROW()-16) -> Rayon 8 | C24: =B23 -> 0 | D24: =C23 -> 0 | E24: =D23 -> 0 | F24: =E23 -> 0 | G24: =F23 -> 0 | H24: =G23 -> 0 | I24: =H23 -> 1 | J24: =I23 -> 0 | ... P24: =O23 -> 0
A25: ="Rayon "&(ROW()-16) -> Rayon 9 | C25: =B24 -> 0 | D25: =C24 -> 0 | E25: =D24 -> 0 | F25: =E24 -> 0 | G25: =F24 -> 0 | H25: =G24 -> 0 | I25: =H24 -> 0 | J25: =I24 -> 1 | ... P25: =O24 -> 0
A26: ="Rayon "&(ROW()-16) -> Rayon 10 | C26: =B25 -> 0 | D26: =C25 -> 0 | E26: =D25 -> 0 | F26: =E25 -> 0 | G26: =F25 -> 0 | H26: =G25 -> 0 | I26: =H25 -> 0 | J26: =I25 -> 0 | ... P26: =O25 -> 0
A27: ="Rayon "&(ROW()-16) -> Rayon 11 | C27: =B26 -> 0 | D27: =C26 -> 0 | E27: =D26 -> 0 | F27: =E26 -> 0 | G27: =F26 -> 0 | H27: =G26 -> 0 | I27: =H26 -> 0 | J27: =I26 -> 0 | ... P27: =O26 -> 0
A28: ="Rayon "&(ROW()-16) -> Rayon 12 | C28: =B27 -> 0 | D28: =C27 -> 0 | E28: =D27 -> 0 | F28: =E27 -> 0 | G28: =F27 -> 0 | H28: =G27 -> 0 | I28: =H27 -> 0 | J28: =I27 -> 0 | ... P28: =O27 -> 0
A29: ="Rayon "&(ROW()-16) -> Rayon 13 | C29: =B28 -> 0 | D29: =C28 -> 0 | E29: =D28 -> 0 | F29: =E28 -> 0 | G29: =F28 -> 0 | H29: =G28 -> 0 | I29: =H28 -> 0 | J29: =I28 -> 0 | ... P29: =O28 -> 0
... A31: ="Rayon "&(ROW()-16) -> Rayon 15 | C31: =B30 -> 0 | D31: =C30 -> 0 | E31: =D30 -> 0 | F31: =E30 -> 0 | G31: =F30 -> 0 | H31: =G30 -> 0 | I31: =H30 -> 0 | J31: =I30 -> 0 | ... P31: =O30 -> 1
A33: 3
A34: 4
A35: 5
A36: 6
A37: 7
A38: 8
A39: 9
A40: 10
A41: 11
A42: 12
A43: 13
A44: 14
...
