Workbook
Name SUIVI: SUIVI!$A$1:$CB$99
Name Territoire: PARAM!$F$2:$I$639

Sheet BILAN
D2: RESULTAT SINISTRES - SOLLICITATIONS - DO
B4: BILAN D'AVANCEMENT D'EXECUTION DU PEP
B6: ANNEE DE REFERENCE : | D6: 2024 | F6: L'ensemble des montants indiqués sont TTC
C8: Montant indemnisé | D8: Montant TTC total engagé | E8: Delta budget | F8: Montant TTC facturé | G8: Avancement Fact. | H8: Résultat
B9: Sinistre | C9: =SUMIFS(SUIVI!I$2:I$99,SUIVI!$F$2:$F$99,BILAN!$B$9,SUIVI!$G$2:$G$99,BILAN!$D$6) -> 363432.67 | D9: =SUMIFS(SUIVI!J$2:J$99,SUIVI!$F$2:$F$99,BILAN!$B$9,SUIVI!$G$2:$G$99,BILAN!$D$6) -> 555604.01 | E9: =C9-D9 -> -192171.34 | F9: =SUMIFS(SUIVI!L$2:L$99,SUIVI!$F$2:$F$99,BILAN!$B$9,SUIVI!$G$2:$G$99,BILAN!$D$6) -> 312227.47 | G9: =IF(D9=0,"",F9/D13) -> 0.38527023 | H9: =+IF(D13=0,"",C13-D13) -> -446978.94
B10: Sollicitation | C10: =SUMIFS(SUIVI!I$2:I$99,SUIVI!$F$2:$F$99,BILAN!$B$10,SUIVI!$G$2:$G$99,BILAN!$D$6) -> 0 | D10: =SUMIFS(SUIVI!J$2:J$99,SUIVI!$F$2:$F$99,BILAN!$B$10,SUIVI!$G$2:$G$99,BILAN!$D$6) -> 254807.6 | E10: =C10-D10 -> -254807.6 | F10: =SUMIFS(SUIVI!L$2:L$99,SUIVI!$F$2:$F$99,BILAN!$B$10,SUIVI!$G$2:$G$99,BILAN!$D$6) -> 191794.75 | G10: =IF(D10=0,"",F10/D10) -> 0.7527042
B11: DO | C11: =SUMIFS(SUIVI!I$2:I$99,SUIVI!$F$2:$F$99,BILAN!$B$11,SUIVI!$G$2:$G$99,BILAN!$D$6) -> 0 | D11: =SUMIFS(SUIVI!J$2:J$99,SUIVI!$F$2:$F$99,BILAN!$B$11,SUIVI!$G$2:$G$99,BILAN!$D$6) -> 0 | E11: =C11-D11 -> 0 | F11: =SUMIFS(SUIVI!L$2:L$99,SUIVI!$F$2:$F$99,BILAN!$B$11,SUIVI!$G$2:$G$99,BILAN!$D$6) -> 0 | G11: =IF(D11=0,"",F11/D11)
B12: Foncier | C12: =SUMIFS(SUIVI!I$2:I$99,SUIVI!$F$2:$F$99,BILAN!$B$12,SUIVI!$G$2:$G$99,BILAN!$D$6) -> 0 | D12: =SUMIFS(SUIVI!J$2:J$99,SUIVI!$F$2:$F$99,BILAN!$B$12,SUIVI!$G$2:$G$99,BILAN!$D$6) -> 0 | E12: =C12-D12 -> 0 | F12: =SUMIFS(SUIVI!L$2:L$99,SUIVI!$F$2:$F$99,BILAN!$B$12,SUIVI!$G$2:$G$99,BILAN!$D$6) -> 0 | G12: =IF(D12=0,"",F12/D12)
B13: Total | C13: =SUM(C9:C12) -> 363432.67 | D13: =SUM(D9:D12) -> 810411.61 | E13: =SUM(E9:E12) -> -446978.94 | F13: =SUM(F9:F12) -> 504022.22 | G13: =IF(D13=0,"",F13/D13) -> 0.62193361
B15: VOLUME D'ACTIVITE
B17: Référent | D17: Montant TTC total engagé | E17: Delta budget | F17: Montant TTC facturé | G17: Avancement Fact.
B18: Alexandre LAPORTE | D18: =SUMIFS(SUIVI!$J:$J,SUIVI!$H:$H,BILAN!B18,SUIVI!$G:$G,BILAN!$D$6) -> 810411.61 | E18: =SUMIFS(SUIVI!$K:$K,SUIVI!$H:$H,BILAN!B18,SUIVI!$G:$G,BILAN!$D$6) -> -446978.94 | F18: =SUMIFS(SUIVI!$L:$L,SUIVI!$H:$H,BILAN!B18,SUIVI!$G:$G,BILAN!$D$6) -> 504022.22 | G18: =IF(D18=0,"",F18/D13) -> 0.62193361
B19: Aymeric LE POTTIER | D19: =SUMIFS(SUIVI!$J:$J,SUIVI!$H:$H,BILAN!B19,SUIVI!$G:$G,BILAN!$D$6) -> 0 | E19: =SUMIFS(SUIVI!$K:$K,SUIVI!$H:$H,BILAN!B19,SUIVI!$G:$G,BILAN!$D$6) -> 0 | F19: =SUMIFS(SUIVI!$L:$L,SUIVI!$H:$H,BILAN!B19,SUIVI!$G:$G,BILAN!$D$6) -> 0 | G19: =IF(D19=0,"",F19/D14)
B20: Thomas SOLERA | D20: =SUMIFS(SUIVI!$J:$J,SUIVI!$H:$H,BILAN!B20,SUIVI!$G:$G,BILAN!$D$6) -> 0 | E20: =SUMIFS(SUIVI!$K:$K,SUIVI!$H:$H,BILAN!B20,SUIVI!$G:$G,BILAN!$D$6) -> 0 | F20: =SUMIFS(SUIVI!$L:$L,SUIVI!$H:$H,BILAN!B20,SUIVI!$G:$G,BILAN!$D$6) -> 0 | G20: =IF(D20=0,"",F20/D15)
B21: Tom MARCHAND | D21: =SUMIFS(SUIVI!$J:$J,SUIVI!$H:$H,BILAN!B21,SUIVI!$G:$G,BILAN!$D$6) -> 0 | E21: =SUMIFS(SUIVI!$K:$K,SUIVI!$H:$H,BILAN!B21,SUIVI!$G:$G,BILAN!$D$6) -> 0 | F21: =SUMIFS(SUIVI!$L:$L,SUIVI!$H:$H,BILAN!B21,SUIVI!$G:$G,BILAN!$D$6) -> 0 | G21: =IF(D21=0,"",F21/D16)
B22: Anthony MARCINIAK | D22: =SUMIFS(SUIVI!$J:$J,SUIVI!$H:$H,BILAN!B22,SUIVI!$G:$G,BILAN!$D$6) -> 0 | E22: =SUMIFS(SUIVI!$K:$K,SUIVI!$H:$H,BILAN!B22,SUIVI!$G:$G,BILAN!$D$6) -> 0 | F22: =SUMIFS(SUIVI!$L:$L,SUIVI!$H:$H,BILAN!B22,SUIVI!$G:$G,BILAN!$D$6) -> 0 | G22: =IF(D22=0,"",F22/D17)
B23: Fabrice LAMOTHE | D23: =SUMIFS(SUIVI!$J:$J,SUIVI!$H:$H,BILAN!B23,SUIVI!$G:$G,BILAN!$D$6) -> 0 | E23: =SUMIFS(SUIVI!$K:$K,SUIVI!$H:$H,BILAN!B23,SUIVI!$G:$G,BILAN!$D$6) -> 0 | F23: =SUMIFS(SUIVI!$L:$L,SUIVI!$H:$H,BILAN!B23,SUIVI!$G:$G,BILAN!$D$6) -> 0 | G23: =IF(D23=0,"",F23/D18)
B24: Christophe DAROT | D24: =SUMIFS(SUIVI!$J:$J,SUIVI!$H:$H,BILAN!B24,SUIVI!$G:$G,BILAN!$D$6) -> 0 | E24: =SUMIFS(SUIVI!$K:$K,SUIVI!$H:$H,BILAN!B24,SUIVI!$G:$G,BILAN!$D$6) -> 0 | F24: =SUMIFS(SUIVI!$L:$L,SUIVI!$H:$H,BILAN!B24,SUIVI!$G:$G,BILAN!$D$6) -> 0 | G24: =IF(D24=0,"",F24/D19)
B25: Samuel FAUCHER | D25: =SUMIFS(SUIVI!$J:$J,SUIVI!$H:$H,BILAN!B25,SUIVI!$G:$G,BILAN!$D$6) -> 0 | E25: =SUMIFS(SUIVI!$K:$K,SUIVI!$H:$H,BILAN!B25,SUIVI!$G:$G,BILAN!$D$6) -> 0 | F25: =SUMIFS(SUIVI!$L:$L,SUIVI!$H:$H,BILAN!B25,SUIVI!$G:$G,BILAN!$D$6) -> 0 | G25: =IF(D25=0,"",F25/D20)
B26: Aurore MARTRINCHARD | D26: =SUMIFS(SUIVI!$J:$J,SUIVI!$H:$H,BILAN!B26,SUIVI!$G:$G,BILAN!$D$6) -> 0 | E26: =SUMIFS(SUIVI!$K:$K,SUIVI!$H:$H,BILAN!B26,SUIVI!$G:$G,BILAN!$D$6) -> 0 | F26: =SUMIFS(SUIVI!$L:$L,SUIVI!$H:$H,BILAN!B26,SUIVI!$G:$G,BILAN!$D$6) -> 0 | G26: =IF(D26=0,"",F26/D21)
B27: Manuela TAULOU | D27: =SUMIFS(SUIVI!$J:$J,SUIVI!$H:$H,BILAN!B27,SUIVI!$G:$G,BILAN!$D$6) -> 0 | E27: =SUMIFS(SUIVI!$K:$K,SUIVI!$H:$H,BILAN!B27,SUIVI!$G:$G,BILAN!$D$6) -> 0 | F27: =SUMIFS(SUIVI!$L:$L,SUIVI!$H:$H,BILAN!B27,SUIVI!$G:$G,BILAN!$D$6) -> 0 | G27: =IF(D27=0,"",F27/D22)
B28: Territoire GRAND PERIGUEUX | D28: =SUMIFS(SUIVI!$J:$J,SUIVI!$H:$H,BILAN!B28,SUIVI!$G:$G,BILAN!$D$6) -> 0 | E28: =SUMIFS(SUIVI!$K:$K,SUIVI!$H:$H,BILAN!B28,SUIVI!$G:$G,BILAN!$D$6) -> 0 | F28: =SUMIFS(SUIVI!$L:$L,SUIVI!$H:$H,BILAN!B28,SUIVI!$G:$G,BILAN!$D$6) -> 0 | G28: =IF(D28=0,"",F28/D23)
B29: Territoire BERGERAC | D29: =SUMIFS(SUIVI!$J:$J,SUIVI!$H:$H,BILAN!B29,SUIVI!$G:$G,BILAN!$D$6) -> 0 | E29: =SUMIFS(SUIVI!$K:$K,SUIVI!$H:$H,BILAN!B29,SUIVI!$G:$G,BILAN!$D$6) -> 0 | F29: =SUMIFS(SUIVI!$L:$L,SUIVI!$H:$H,BILAN!B29,SUIVI!$G:$G,BILAN!$D$6) -> 0 | G29: =IF(D29=0,"",F29/D24)
... B31: Territoire NONTRON | D31: =SUMIFS(SUIVI!$J:$J,SUIVI!$H:$H,BILAN!B31,SUIVI!$G:$G,BILAN!$D$6) -> 0 | E31: =SUMIFS(SUIVI!$K:$K,SUIVI!$H:$H,BILAN!B31,SUIVI!$G:$G,BILAN!$D$6) -> 0 | F31: =SUMIFS(SUIVI!$L:$L,SUIVI!$H:$H,BILAN!B31,SUIVI!$G:$G,BILAN!$D$6) -> 0 | G31: =IF(D31=0,"",F31/D26)

Sheet SUIVI
A1: Programme | B1: Territoire | C1: Commune | D1: Résidence | E1: Description | F1: Type | G1: Année | H1: Référent | I1: Montant indemnisé | J1: Montant TTC total engagé | K1: Delta budget | L1: Montant TTC facturé | M1: Reste à payer TTC | N1: Phase | O1: Avancement | P1: Date début OS | Q1: Date fin OS | R1: Prolongation de délai | S1: Date du PV de réception | T1: Délai exécution restant (j) | U1: Prestation 1 | V1: Intervenant | W1: N° Commande | X1: Montant TTC | Y1: Avenant TTC | Z1: Montant TTC facturé | AA1: Prestation 2 | AB1: Intervenant | AC1: N° Commande | AD1: Montant TTC | AE1: Avenant TTC | AF1: Montant TTC facturé | AG1: Prestation 3 | AH1: Intervenant | AI1: N° Commande | AJ1: Montant TTC | AK1: Avenant TTC | AL1: Montant TTC facturé | AM1: Prestation 4 | AN1: Intervenant | AO1: N° Commande | AP1: Montant TTC | AQ1: Avenant TTC | AR1: Montant TTC facturé | AS1: Prestation 5 | AT1: Intervenant | AU1: N° Commande | AV1: Montant TTC | AW1: Avenant TTC | AX1: Montant TTC facturé | AY1: Prestation 6 | AZ1: Intervenant | BA1: N° Commande | BB1: Montant TTC | BC1: Avenant TTC | BD1: Montant TTC facturé | BE1: Prestation 7 | BF1: Intervenant | BG1: N° Commande | BH1: Montant TTC | BI1: Avenant TTC | BJ1: Montant TTC facturé | BK1: Prestation 8 | BL1: Intervenant | BM1: N° Commande | BN1: Montant TTC | BO1: Avenant TTC | BP1: Montant TTC facturé | BQ1: Prestation 9 | BR1: Intervenant | BS1: N° Commande | BT1: Montant TTC | BU1: Avenant TTC | BV1: Montant TTC facturé | BW1: Prestation 10 | BX1: Intervenant | BY1: N° Commande | BZ1: Montant TTC | CA1: Avenant TTC | CB1: Montant TTC facturé | CC1: Prestation 11 | CD1: Intervenant | CE1: N° Commande | CF1: Montant TTC | CG1: Avenant TTC | CH1: Montant TTC facturé
A2: 124 | B2: =IF(A2="","",VLOOKUP(A2,Territoire,2,FALSE)) -> SO / BERGERAC | C2: =IF(A2="","",VLOOKUP(A2,Territoire,3,FALSE)) -> ST ASTIER | D2: =IF(A2="","",VLOOKUP(A2,Territoire,4,FALSE)) -> LE BATY | E2: Incendie | F2: Sinistre | G2: 2022 | H2: Alexandre LAPORTE | I2: 68738.15 | J2: =IF(A2="","",X2+Y2+AD2+AE2+AJ2+AK2+AP2+AQ2+AV2+AW2+BB2+BC2+BH2+BI2+BN2+BO2+BT2+BU2+BZ2+CA2+CF2+CG2) -> 49962.33 | K2: =IF(J2="","",I2-J2) -> 18775.82 | L2: =IF(J2="","",Z2+AF2+AL2+AR2+AX2+BD2+BJ2+BP2+BV2+CB2+CH2) -> 49962.33 | M2: =IF(J2="","",J2-L2) -> 0 | N2: Dossier clos | O2: =IF(N2="","",VLOOKUP(N2,PARAM!$B$35:$C$47,2,FALSE)) -> 1 | P2: 44725 | Q2: 44823 | S2: 44827 | T2: =IF(AND(R2="",Q2<TODAY()),"", IF(S2<>"","", IF(Q2="","", IF(AND(R2="",Q2>TODAY()),DATEDIF(TODAY(),Q2,"d"), IF(R2>TODAY(),DATEDIF(TODAY(),R2,"d"),DATEDIF(TODAY(),R2,"d")))))) | U2: MOE | V2: WORKS | W2: BT2021-8735 | X2: 3600 | Z2: 3600 | AA2: SPS | AB2: SOCOTEC | AC2: BT2021-8733 | AD2: 1800 | AF2: 1800 | AG2: Travaux | AH2: PESCA | AI2: BT2022-9677 | AJ2: 15163.87 | AL2: 15163.87 | AM2: Travaux | AN2: LABROUSSE | AO2: BT2022-9681 | AP2: 12281.5 | AR2: 12281.5 | AS2: Travaux | AT2: PESCA | AU2: BT2022-9682 | AV2: 3909.42 | AX2: 3909.42 | AY2: Travaux | AZ2: SNE | BA2: BT2022-9684 | BB2: 6022.61 | BD2: 6022.61 | BE2: Travaux | BF2: PPA | BG2: BT2022-9687 | BH2: 7184.93 | BJ2: 7184.93
A3: 124 | B3: =IF(A3="","",VLOOKUP(A3,Territoire,2,FALSE)) -> SO / BERGERAC | C3: =IF(A3="","",VLOOKUP(A3,Territoire,3,FALSE)) -> ST ASTIER | D3: =IF(A3="","",VLOOKUP(A3,Territoire,4,FALSE)) -> LE BATY | E3: Incendie | F3: Sinistre | G3: 2024 | H3: Tom MARCHAND | J3: =IF(A3="","",X3+Y3+AD3+AE3+AJ3+AK3+AP3+AQ3+AV3+AW3+BB3+BC3+BH3+BI3+BN3+BO3+BT3+BU3+BZ3+CA3+CF3+CG3) -> 0 | K3: =IF(J3="","",I3-J3) -> 0 | L3: =IF(J3="","",Z3+AF3+AL3+AR3+AX3+BD3+BJ3+BP3+BV3+CB3+CH3) -> 0 | M3: =IF(J3="","",J3-L3) -> 0 | N3: Consultation ENT | O3: =IF(N3="","",VLOOKUP(N3,PARAM!$B$35:$C$47,2,FALSE)) -> 0.45 | T3: =IF(AND(R3="",Q3<TODAY()),"", IF(S3<>"","", IF(Q3="","", IF(AND(R3="",Q3>TODAY()),DATEDIF(TODAY(),Q3,"d"), IF(R3>TODAY(),DATEDIF(TODAY(),R3,"d"),DATEDIF(TODAY(),R3,"d"))))))
A4: 172 | B4: =IF(A4="","",VLOOKUP(A4,Territoire,2,FALSE)) -> C / G. PERIGUEUX | C4: =IF(A4="","",VLOOKUP(A4,Territoire,3,FALSE)) -> COULOUNIEIX-CHAMIERS | D4: =IF(A4="","",VLOOKUP(A4,Territoire,4,FALSE)) -> PAGOT E | E4: Désordres structurels | F4: Sollicitation | G4: 2024 | H4: Alexandre LAPORTE | J4: =IF(A4="","",X4+Y4+AD4+AE4+AJ4+AK4+AP4+AQ4+AV4+AW4+BB4+BC4+BH4+BI4+BN4+BO4+BT4+BU4+BZ4+CA4+CF4+CG4) -> 10800 | K4: =IF(J4="","",I4-J4) -> -10800 | L4: =IF(J4="","",Z4+AF4+AL4+AR4+AX4+BD4+BJ4+BP4+BV4+CB4+CH4) -> 10800 | M4: =IF(J4="","",J4-L4) -> 0 | N4: Dossier clos | O4: =IF(N4="","",VLOOKUP(N4,PARAM!$B$35:$C$47,2,FALSE)) -> 1 | P4: 45293 | Q4: 45473 | S4: 45473 | T4: =IF(AND(R4="",Q4<TODAY()),"", IF(S4<>"","", IF(Q4="","", IF(AND(R4="",Q4>TODAY()),DATEDIF(TODAY(),Q4,"d"), IF(R4>TODAY(),DATEDIF(TODAY(),R4,"d"),DATEDIF(TODAY(),R4,"d")))))) | U4: MOE | V4: ODETEC | W4: BT2023-17932 | X4: 10800 | Z4: 10800
A5: 189 | B5: =IF(A5="","",VLOOKUP(A5,Territoire,2,FALSE)) -> SE / SARLAT | C5: =IF(A5="","",VLOOKUP(A5,Territoire,3,FALSE)) -> SARLAT LA CANEDA | D5: =IF(A5="","",VLOOKUP(A5,Territoire,4,FALSE)) -> GROGEAC | E5: Incendie | F5: Sinistre | G5: 2024 | H5: Alexandre LAPORTE | J5: =IF(A5="","",X5+Y5+AD5+AE5+AJ5+AK5+AP5+AQ5+AV5+AW5+BB5+BC5+BH5+BI5+BN5+BO5+BT5+BU5+BZ5+CA5+CF5+CG5) -> 2860 | K5: =IF(J5="","",I5-J5) -> -2860 | L5: =IF(J5="","",Z5+AF5+AL5+AR5+AX5+BD5+BJ5+BP5+BV5+CB5+CH5) -> 0 | M5: =IF(J5="","",J5-L5) -> 2860 | N5: Expertise faite | O5: =IF(N5="","",VLOOKUP(N5,PARAM!$B$35:$C$47,2,FALSE)) -> 0.05 | T5: =IF(AND(R5="",Q5<TODAY()),"", IF(S5<>"","", IF(Q5="","", IF(AND(R5="",Q5>TODAY()),DATEDIF(TODAY(),Q5,"d"), IF(R5>TODAY(),DATEDIF(TODAY(),R5,"d"),DATEDIF(TODAY(),R5,"d")))))) | U5: MOE | V5: CINAPS | X5: 2860
A6: 222 | B6: =IF(A6="","",VLOOKUP(A6,Territoire,2,FALSE)) -> C / G. PERIGUEUX | C6: =IF(A6="","",VLOOKUP(A6,Territoire,3,FALSE)) -> SARLIAC SUR L'ISLE | D6: =IF(A6="","",VLOOKUP(A6,Territoire,4,FALSE)) -> LE VIMENE | E6: Désordres structurels | F6: Sollicitation | G6: 2024 | H6: Alexandre LAPORTE | J6: =IF(A6="","",X6+Y6+AD6+AE6+AJ6+AK6+AP6+AQ6+AV6+AW6+BB6+BC6+BH6+BI6+BN6+BO6+BT6+BU6+BZ6+CA6+CF6+CG6) -> 43200 | K6: =IF(J6="","",I6-J6) -> -43200 | L6: =IF(J6="","",Z6+AF6+AL6+AR6+AX6+BD6+BJ6+BP6+BV6+CB6+CH6) -> 7776 | M6: =IF(J6="","",J6-L6) -> 35424 | N6: Etude | O6: =IF(N6="","",VLOOKUP(N6,PARAM!$B$35:$C$47,2,FALSE)) -> 0.25 | T6: =IF(AND(R6="",Q6<TODAY()),"", IF(S6<>"","", IF(Q6="","", IF(AND(R6="",Q6>TODAY()),DATEDIF(TODAY(),Q6,"d"), IF(R6>TODAY(),DATEDIF(TODAY(),R6,"d"),DATEDIF(TODAY(),R6,"d")))))) | U6: MOE | V6: ODETEC | W6: BT2024-1138 | X6: 43200 | Z6: 7776
A7: 232 | B7: =IF(A7="","",VLOOKUP(A7,Territoire,2,FALSE)) -> SO / BERGERAC | C7: =IF(A7="","",VLOOKUP(A7,Territoire,3,FALSE)) -> ST ASTIER | D7: =IF(A7="","",VLOOKUP(A7,Territoire,4,FALSE)) -> LES PIQUEURS | E7: Incendie | F7: Sinistre | G7: 2024 | H7: Alexandre LAPORTE | I7: 35653.71 | J7: =IF(A7="","",X7+Y7+AD7+AE7+AJ7+AK7+AP7+AQ7+AV7+AW7+BB7+BC7+BH7+BI7+BN7+BO7+BT7+BU7+BZ7+CA7+CF7+CG7) -> 51105.73 | K7: =IF(J7="","",I7-J7) -> -15452.02 | L7: =IF(J7="","",Z7+AF7+AL7+AR7+AX7+BD7+BJ7+BP7+BV7+CB7+CH7) -> 0 | M7: =IF(J7="","",J7-L7) -> 51105.73 | N7: OS travaux | O7: =IF(N7="","",VLOOKUP(N7,PARAM!$B$35:$C$47,2,FALSE)) -> 0.55 | P7: 45663 | Q7: 45751 | T7: =IF(AND(R7="",Q7<TODAY()),"", IF(S7<>"","", IF(Q7="","", IF(AND(R7="",Q7>TODAY()),DATEDIF(TODAY(),Q7,"d"), IF(R7>TODAY(),DATEDIF(TODAY(),R7,"d"),DATEDIF(TODAY(),R7,"d")))))) -> 134 | U7: Travaux | V7: SONEX | X7: 18725.73 | AA7: Travaux | AB7: CCS CRESPIN | AD7: 16099.6 | AG7: Travaux | AH7: HERVE THERMIQUE | AJ7: 7349.52 | AM7: Travaux | AN7: MARTY | AP7: 8930.88
A8: 295 | B8: =IF(A8="","",VLOOKUP(A8,Territoire,2,FALSE)) -> C / G. PERIGUEUX | C8: =IF(A8="","",VLOOKUP(A8,Territoire,3,FALSE)) -> COURSAC | D8: =IF(A8="","",VLOOKUP(A8,Territoire,4,FALSE)) -> LA MORINIE 1 | E8: Désordres structurels | F8: Sollicitation | G8: 2024 | H8: Alexandre LAPORTE | J8: =IF(A8="","",X8+Y8+AD8+AE8+AJ8+AK8+AP8+AQ8+AV8+AW8+BB8+BC8+BH8+BI8+BN8+BO8+BT8+BU8+BZ8+CA8+CF8+CG8) -> 71174.01 | K8: =IF(J8="","",I8-J8) -> -71174.01 | L8: =IF(J8="","",Z8+AF8+AL8+AR8+AX8+BD8+BJ8+BP8+BV8+CB8+CH8) -> 71174.01 | M8: =IF(J8="","",J8-L8) -> 0 | N8: Dossier clos | O8: =IF(N8="","",VLOOKUP(N8,PARAM!$B$35:$C$47,2,FALSE)) -> 1 | P8: 45306 | Q8: 45336 | T8: =IF(AND(R8="",Q8<TODAY()),"", IF(S8<>"","", IF(Q8="","", IF(AND(R8="",Q8>TODAY()),DATEDIF(TODAY(),Q8,"d"), IF(R8>TODAY(),DATEDIF(TODAY(),R8,"d"),DATEDIF(TODAY(),R8,"d")))))) | U8: MOE | V8: ODETEC | W8: BT2022-13831 | X8: 7440 | Z8: 7440 | AA8: Géo | AB8: OPTISOL | AC8: BT2022-15983 | AD8: 2604.96 | AF8: 2604.96 | AG8: Réseaux | AH8: DETECT RESEAUX | AI8: BT2023-8555 | AJ8: 1860 | AL8: 1860 | AM8: Travaux | AN8: URETEK | AO8: BT2024-1066 | AP8: 59269.05 | AR8: 59269.05
A9: 295 | B9: =IF(A9="","",VLOOKUP(A9,Territoire,2,FALSE)) -> C / G. PERIGUEUX | C9: =IF(A9="","",VLOOKUP(A9,Territoire,3,FALSE)) -> COURSAC | D9: =IF(A9="","",VLOOKUP(A9,Territoire,4,FALSE)) -> LA MORINIE 1 | E9: Désordres structurels | F9: Sollicitation | G9: 2024 | H9: Alexandre LAPORTE | J9: =IF(A9="","",X9+Y9+AD9+AE9+AJ9+AK9+AP9+AQ9+AV9+AW9+BB9+BC9+BH9+BI9+BN9+BO9+BT9+BU9+BZ9+CA9+CF9+CG9) -> 0 | K9: =IF(J9="","",I9-J9) -> 0 | L9: =IF(J9="","",Z9+AF9+AL9+AR9+AX9+BD9+BJ9+BP9+BV9+CB9+CH9) -> 0 | M9: =IF(J9="","",J9-L9) -> 0 | N9: Dossier clos | O9: =IF(N9="","",VLOOKUP(N9,PARAM!$B$35:$C$47,2,FALSE)) -> 1 | T9: =IF(AND(R9="",Q9<TODAY()),"", IF(S9<>"","", IF(Q9="","", IF(AND(R9="",Q9>TODAY()),DATEDIF(TODAY(),Q9,"d"), IF(R9>TODAY(),DATEDIF(TODAY(),R9,"d"),DATEDIF(TODAY(),R9,"d"))))))
A10: 318 | B10: =IF(A10="","",VLOOKUP(A10,Territoire,2,FALSE)) -> C / G. PERIGUEUX | C10: =IF(A10="","",VLOOKUP(A10,Territoire,3,FALSE)) -> LA CHAPELLE GONAGUET | D10: =IF(A10="","",VLOOKUP(A10,Territoire,4,FALSE)) -> LES GRANGES | E10: Désordres structurels | F10: Sollicitation | G10: 2024 | H10: Alexandre LAPORTE | J10: =IF(A10="","",X10+Y10+AD10+AE10+AJ10+AK10+AP10+AQ10+AV10+AW10+BB10+BC10+BH10+BI10+BN10+BO10+BT10+BU10+BZ10+CA10+CF10+CG10) -> 4656 | K10: =IF(J10="","",I10-J10) -> -4656 | L10: =IF(J10="","",Z10+AF10+AL10+AR10+AX10+BD10+BJ10+BP10+BV10+CB10+CH10) -> 4656 | M10: =IF(J10="","",J10-L10) -> 0 | N10: Dossier clos | O10: =IF(N10="","",VLOOKUP(N10,PARAM!$B$35:$C$47,2,FALSE)) -> 1 | P10: 45352 | Q10: 45443 | S10: 45443 | T10: =IF(AND(R10="",Q10<TODAY()),"", IF(S10<>"","", IF(Q10="","", IF(AND(R10="",Q10>TODAY()),DATEDIF(TODAY(),Q10,"d"), IF(R10>TODAY(),DATEDIF(TODAY(),R10,"d"),DATEDIF(TODAY(),R10,"d")))))) | U10: Géo | V10: GINGER BTP | W10: BT2024-1950 | X10: 4656 | Z10: 4656
A11: 549 | B11: =IF(A11="","",VLOOKUP(A11,Territoire,2,FALSE)) -> C / G. PERIGUEUX | C11: =IF(A11="","",VLOOKUP(A11,Territoire,3,FALSE)) -> COULOUNIEIX-CHAMIERS | D11: =IF(A11="","",VLOOKUP(A11,Territoire,4,FALSE)) -> COTES DE FRANCE | E11: Désordres structurels | F11: Sollicitation | G11: 2024 | H11: Alexandre LAPORTE | J11: =IF(A11="","",X11+Y11+AD11+AE11+AJ11+AK11+AP11+AQ11+AV11+AW11+BB11+BC11+BH11+BI11+BN11+BO11+BT11+BU11+BZ11+CA11+CF11+CG11) -> 39819.54 | K11: =IF(J11="","",I11-J11) -> -39819.54 | L11: =IF(J11="","",Z11+AF11+AL11+AR11+AX11+BD11+BJ11+BP11+BV11+CB11+CH11) -> 27845.82 | M11: =IF(J11="","",J11-L11) -> 11973.72 | N11: OS travaux | O11: =IF(N11="","",VLOOKUP(N11,PARAM!$B$35:$C$47,2,FALSE)) -> 0.55 | P11: 45348 | Q11: 45596 | T11: =IF(AND(R11="",Q11<TODAY()),"", IF(S11<>"","", IF(Q11="","", IF(AND(R11="",Q11>TODAY()),DATEDIF(TODAY(),Q11,"d"), IF(R11>TODAY(),DATEDIF(TODAY(),R11,"d"),DATEDIF(TODAY(),R11,"d")))))) | U11: Travaux | V11: URETEK | W11: BT2023-17953 | X11: 23807.94 | Z11: 23807.94 | AA11: Travaux | AB11: COURSAC BTP | AC11: BT2023-17947 | AD11: 16011.6 | AF11: 4037.88
A12: 629 | B12: =IF(A12="","",VLOOKUP(A12,Territoire,2,FALSE)) -> SO / BERGERAC | C12: =IF(A12="","",VLOOKUP(A12,Territoire,3,FALSE)) -> ROUFFIGNAC DE SIGOULES | D12: =IF(A12="","",VLOOKUP(A12,Territoire,4,FALSE)) -> BARON | E12: Infiltrations d'eau en sous-œuvre | F12: Sollicitation | G12: 2024 | H12: Alexandre LAPORTE | J12: =IF(A12="","",X12+Y12+AD12+AE12+AJ12+AK12+AP12+AQ12+AV12+AW12+BB12+BC12+BH12+BI12+BN12+BO12+BT12+BU12+BZ12+CA12+CF12+CG12) -> 2604.36 | K12: =IF(J12="","",I12-J12) -> -2604.36 | L12: =IF(J12="","",Z12+AF12+AL12+AR12+AX12+BD12+BJ12+BP12+BV12+CB12+CH12) -> 2545.56 | M12: =IF(J12="","",J12-L12) -> 58.8 | N12: Etude | O12: =IF(N12="","",VLOOKUP(N12,PARAM!$B$35:$C$47,2,FALSE)) -> 0.25 | T12: =IF(AND(R12="",Q12<TODAY()),"", IF(S12<>"","", IF(Q12="","", IF(AND(R12="",Q12>TODAY()),DATEDIF(TODAY(),Q12,"d"), IF(R12>TODAY(),DATEDIF(TODAY(),R12,"d"),DATEDIF(TODAY(),R12,"d")))))) | U12: Géo | V12: OPTISOL | W12: BC2024-6594 | X12: 2604.36 | Z12: 2545.56
A13: 650 | B13: =IF(A13="","",VLOOKUP(A13,Territoire,2,FALSE)) -> SO / BERGERAC | C13: =IF(A13="","",VLOOKUP(A13,Territoire,3,FALSE)) -> BERGERAC | D13: =IF(A13="","",VLOOKUP(A13,Territoire,4,FALSE)) -> LES RESIDENCES DU MAIL | E13: Incendie | F13: Sinistre | G13: 2024 | H13: Alexandre LAPORTE | I13: 297284.91 | J13: =IF(A13="","",X13+Y13+AD13+AE13+AJ13+AK13+AP13+AQ13+AV13+AW13+BB13+BC13+BH13+BI13+BN13+BO13+BT13+BU13+BZ13+CA13+CF13+CG13) -> 467299.14 | K13: =IF(J13="","",I13-J13) -> -170014.23 | L13: =IF(J13="","",Z13+AF13+AL13+AR13+AX13+BD13+BJ13+BP13+BV13+CB13+CH13) -> 283114.22 | M13: =IF(J13="","",J13-L13) -> 184184.92 | N13: OS travaux | O13: =IF(N13="","",VLOOKUP(N13,PARAM!$B$35:$C$47,2,FALSE)) -> 0.55 | P13: 45293 | Q13: 45474 | R13: 45716 | T13: =IF(AND(R13="",Q13<TODAY()),"", IF(S13<>"","", IF(Q13="","", IF(AND(R13="",Q13>TODAY()),DATEDIF(TODAY(),Q13,"d"), IF(R13>TODAY(),DATEDIF(TODAY(),R13,"d"),DATEDIF(TODAY(),R13,"d")))))) -> 99 | U13: MOE | V13: ODETEC | W13: OS2024-4978 | X13: 28152 | Y13: 8655.6 | Z13: 26744.4 | AA13: SPS | AB13: QUALICONSULT | AC13: OS2022-16684 | AD13: 3294 | AF13: 3090.6 | AG13: BCT | AH13: QUALICONSULT | AI13: OS2022-16690 | AJ13: 3240 | AL13: 945 | AM13: Travaux | AN13: LES COMPAGNONS DU BTP | AO13: OS2024-4978 | AP13: 92588.1 | AQ13: 24200 | AR13: 81999.85 | AS13: Travaux | AT13: LES COMPAGNONS DU BTP | AU13: OS2024-4982 | AV13: 103806.04 | AW13: 31111.3 | AX13: 103562.34 | AY13: Travaux | AZ13: MARTY | BA13: OS2024-4984 | BB13: 97070.19 | BC13: 17515.3 | BD13: 66772.03 | BE13: Travaux | BF13: LES COMPAGNONS DU BTP | BG13: OS2024-4985 | BH13: 2041.51 | BK13: Travaux | BL13: LES COMPAGNONS DU BTP | BM13: OS2024-4986 | BN13: 1268.43 | BQ13: Travaux | BR13: SONEX | BS13: OS2024-4987 | BT13: 12540.17 | BW13: Travaux | BX13: POLO | BY13: OS2024-4988 | BZ13: 16801.4 | CA13: 8680.1 | CC13: Travaux | CD13: LES COMPAGNONS DU BTP | CE13: OS2024-4989 | CF13: 16335
A14: 659 | B14: =IF(A14="","",VLOOKUP(A14,Territoire,2,FALSE)) -> C / G. PERIGUEUX | C14: =IF(A14="","",VLOOKUP(A14,Territoire,3,FALSE)) -> BOULAZAC ISLE MANOIRE | D14: =IF(A14="","",VLOOKUP(A14,Territoire,4,FALSE)) -> LE PARC DES REBIERES ILOT H | E14: Incendie | F14: Sinistre | G14: 2024 | H14: Alexandre LAPORTE | I14: 30494.05 | J14: =IF(A14="","",X14+Y14+AD14+AE14+AJ14+AK14+AP14+AQ14+AV14+AW14+BB14+BC14+BH14+BI14+BN14+BO14+BT14+BU14+BZ14+CA14+CF14+CG14) -> 34339.14 | K14: =IF(J14="","",I14-J14) -> -3845.09 | L14: =IF(J14="","",Z14+AF14+AL14+AR14+AX14+BD14+BJ14+BP14+BV14+CB14+CH14) -> 29113.25 | M14: =IF(J14="","",J14-L14) -> 5225.89 | N14: OS travaux | O14: =IF(N14="","",VLOOKUP(N14,PARAM!$B$35:$C$47,2,FALSE)) -> 0.55 | P14: 45366 | Q14: 45473 | T14: =IF(AND(R14="",Q14<TODAY()),"", IF(S14<>"","", IF(Q14="","", IF(AND(R14="",Q14>TODAY()),DATEDIF(TODAY(),Q14,"d"), IF(R14>TODAY(),DATEDIF(TODAY(),R14,"d"),DATEDIF(TODAY(),R14,"d")))))) | U14: Travaux | V14: LES COMPAGNONS DU BTP | W14: BT2024-4257 | X14: 34339.14 | Z14: 29113.25
A15: 1051 | B15: =IF(A15="","",VLOOKUP(A15,Territoire,2,FALSE)) -> C / G. PERIGUEUX | C15: =IF(A15="","",VLOOKUP(A15,Territoire,3,FALSE)) -> PERIGUEUX | D15: =IF(A15="","",VLOOKUP(A15,Territoire,4,FALSE)) -> LE PIGEONNIER | E15: Incendie | F15: Sinistre | G15: 2023 | H15: Alexandre LAPORTE | I15: 45823.06 | J15: =IF(A15="","",X15+Y15+AD15+AE15+AJ15+AK15+AP15+AQ15+AV15+AW15+BB15+BC15+BH15+BI15+BN15+BO15+BT15+BU15+BZ15+CA15+CF15+CG15) -> 45336.23 | K15: =IF(J15="","",I15-J15) -> 486.83 | L15: =IF(J15="","",Z15+AF15+AL15+AR15+AX15+BD15+BJ15+BP15+BV15+CB15+CH15) -> 7084.59 | M15: =IF(J15="","",J15-L15) -> 38251.64 | N15: OS travaux | O15: =IF(N15="","",VLOOKUP(N15,PARAM!$B$35:$C$47,2,FALSE)) -> 0.55 | P15: 45335 | Q15: 45422 | T15: =IF(AND(R15="",Q15<TODAY()),"", IF(S15<>"","", IF(Q15="","", IF(AND(R15="",Q15>TODAY()),DATEDIF(TODAY(),Q15,"d"), IF(R15>TODAY(),DATEDIF(TODAY(),R15,"d"),DATEDIF(TODAY(),R15,"d")))))) | U15: Travaux | V15: VALIANI | W15: BT2024-1327 | X15: 17950.6 | AA15: Travaux | AB15: CCS CRESPIN | AC15: BT2024-1335 | AD15: 12975.6 | AE15: 448.8 | AG15: Travaux | AH15: HERVE THERMIQUE | AI15: BT2024-1343 | AJ15: 6876.64 | AM15: Travaux | AN15: MARTY | AO15: BT2024-1350 | AP15: 7084.59 | AR15: 7084.59
A16: 1065 | B16: =IF(A16="","",VLOOKUP(A16,Territoire,2,FALSE)) -> C / G. PERIGUEUX | C16: =IF(A16="","",VLOOKUP(A16,Territoire,3,FALSE)) -> PERIGUEUX | D16: =IF(A16="","",VLOOKUP(A16,Territoire,4,FALSE)) -> SAINT FRONT | E16: Désordres structurels | F16: Sollicitation | G16: 2024 | H16: Alexandre LAPORTE | J16: =IF(A16="","",X16+Y16+AD16+AE16+AJ16+AK16+AP16+AQ16+AV16+AW16+BB16+BC16+BH16+BI16+BN16+BO16+BT16+BU16+BZ16+CA16+CF16+CG16) -> 43454.4 | K16: =IF(J16="","",I16-J16) -> -43454.4 | L16: =IF(J16="","",Z16+AF16+AL16+AR16+AX16+BD16+BJ16+BP16+BV16+CB16+CH16) -> 43454.4 | M16: =IF(J16="","",J16-L16) -> 0 | N16: Dossier clos | O16: =IF(N16="","",VLOOKUP(N16,PARAM!$B$35:$C$47,2,FALSE)) -> 1 | P16: 45453 | Q16: 45513 | S16: 45513 | T16: =IF(AND(R16="",Q16<TODAY()),"", IF(S16<>"","", IF(Q16="","", IF(AND(R16="",Q16>TODAY()),DATEDIF(TODAY(),Q16,"d"), IF(R16>TODAY(),DATEDIF(TODAY(),R16,"d"),DATEDIF(TODAY(),R16,"d")))))) | U16: Travaux | V16: LES COMPAGNONS DU BTP | W16: BT2024-7523 | X16: 43454.4 | Z16: 43454.4
A17: 1078 | B17: =IF(A17="","",VLOOKUP(A17,Territoire,2,FALSE)) -> C / G. PERIGUEUX | C17: =IF(A17="","",VLOOKUP(A17,Territoire,3,FALSE)) -> PERIGUEUX | D17: =IF(A17="","",VLOOKUP(A17,Territoire,4,FALSE)) -> PONT SUD | E17: Désordres structurels | F17: Sollicitation | G17: 2023 | H17: Alexandre LAPORTE | J17: =IF(A17="","",X17+Y17+AD17+AE17+AJ17+AK17+AP17+AQ17+AV17+AW17+BB17+BC17+BH17+BI17+BN17+BO17+BT17+BU17+BZ17+CA17+CF17+CG17) -> 4560 | K17: =IF(J17="","",I17-J17) -> -4560 | L17: =IF(J17="","",Z17+AF17+AL17+AR17+AX17+BD17+BJ17+BP17+BV17+CB17+CH17) -> 4560 | M17: =IF(J17="","",J17-L17) -> 0 | N17: Dossier clos | O17: =IF(N17="","",VLOOKUP(N17,PARAM!$B$35:$C$47,2,FALSE)) -> 1 | P17: 45145 | Q17: 45291 | S17: 45291 | T17: =IF(AND(R17="",Q17<TODAY()),"", IF(S17<>"","", IF(Q17="","", IF(AND(R17="",Q17>TODAY()),DATEDIF(TODAY(),Q17,"d"), IF(R17>TODAY(),DATEDIF(TODAY(),R17,"d"),DATEDIF(TODAY(),R17,"d")))))) | U17: MOE | V17: ODETEC | W17: BT2023-11024 | X17: 4560 | Z17: 4560
A18: 1088 | B18: =IF(A18="","",VLOOKUP(A18,Territoire,2,FALSE)) -> C / G. PERIGUEUX | C18: =IF(A18="","",VLOOKUP(A18,Territoire,3,FALSE)) -> NOTRE DAME DE SANILHAC | D18: =IF(A18="","",VLOOKUP(A18,Territoire,4,FALSE)) -> ST GEORGES | E18: Désordres structurels | F18: Sollicitation | G18: 2024 | H18: Alexandre LAPORTE | J18: =IF(A18="","",X18+Y18+AD18+AE18+AJ18+AK18+AP18+AQ18+AV18+AW18+BB18+BC18+BH18+BI18+BN18+BO18+BT18+BU18+BZ18+CA18+CF18+CG18) -> 39099.29 | K18: =IF(J18="","",I18-J18) -> -39099.29 | L18: =IF(J18="","",Z18+AF18+AL18+AR18+AX18+BD18+BJ18+BP18+BV18+CB18+CH18) -> 23542.96 | M18: =IF(J18="","",J18-L18) -> 15556.33 | N18: OS travaux | O18: =IF(N18="","",VLOOKUP(N18,PARAM!$B$35:$C$47,2,FALSE)) -> 0.55 | P18: 45439 | Q18: 45499 | T18: =IF(AND(R18="",Q18<TODAY()),"", IF(S18<>"","", IF(Q18="","", IF(AND(R18="",Q18>TODAY()),DATEDIF(TODAY(),Q18,"d"), IF(R18>TODAY(),DATEDIF(TODAY(),R18,"d"),DATEDIF(TODAY(),R18,"d")))))) | U18: MOE | V18: ODETEC | W18: BT2023-8945 | X18: 11160 | Z18: 9360 | AA18: Diagnostic | AB18: ID BATIMENT | AC18: BT2022-16214 | AD18: 1080 | AF18: 1080 | AG18: Travaux | AH18: COURSAC BTP | AI18: BT2024-4258 | AJ18: 26859.29 | AL18: 13102.96
A19: 1112 | B19: =IF(A19="","",VLOOKUP(A19,Territoire,2,FALSE)) -> C / G. PERIGUEUX | C19: =IF(A19="","",VLOOKUP(A19,Territoire,3,FALSE)) -> PERIGUEUX | D19: =IF(A19="","",VLOOKUP(A19,Territoire,4,FALSE)) -> LOUIS BLANC | E19: Incendie | F19: Sinistre | G19: 2023 | H19: Alexandre LAPORTE | I19: 79962.98 | J19: =IF(A19="","",X19+Y19+AD19+AE19+AJ19+AK19+AP19+AQ19+AV19+AW19+BB19+BC19+BH19+BI19+BN19+BO19+BT19+BU19+BZ19+CA19+CF19+CG19) -> 116694.43 | K19: =IF(J19="","",I19-J19) -> -36731.45 | L19: =IF(J19="","",Z19+AF19+AL19+AR19+AX19+BD19+BJ19+BP19+BV19+CB19+CH19) -> 61491.46 | M19: =IF(J19="","",J19-L19) -> 55202.97 | N19: OS travaux | O19: =IF(N19="","",VLOOKUP(N19,PARAM!$B$35:$C$47,2,FALSE)) -> 0.55 | P19: 45481 | Q19: 45664 | T19: =IF(AND(R19="",Q19<TODAY()),"", IF(S19<>"","", IF(Q19="","", IF(AND(R19="",Q19>TODAY()),DATEDIF(TODAY(),Q19,"d"), IF(R19>TODAY(),DATEDIF(TODAY(),R19,"d"),DATEDIF(TODAY(),R19,"d")))))) -> 47 | U19: MOE | V19: SEGURA | W19: BT2022-9935 | X19: 24000 | Z19: 12151.86 | AA19: SPS | AB19: QUALICONSULT | AC19: BT2024-4 | AD19: 1596 | AF19: 537.6 | AG19: Travaux | AH19: LES COMPAGNONS DU BTP | AI19: BT2024-10632 | AJ19: 16720 | AL19: 15089.8 | AM19: Travaux | AN19: BERGES | AO19: BT2024-10633 | AP19: 5555 | AR19: 4655 | AS19: Travaux | AT19: LES COMPAGNONS DU BTP | AU19: BT2024-10634 | AV19: 19737.73 | AW19: 1661 | AX19: 7597.52 | AY19: Travaux | AZ19: STAP | BA19: BT2024-10635 | BB19: 19971.84 | BC19: 2307.91 | BD19: 12182.17 | BE19: Travaux | BF19: VITRIPRO | BG19: BT2024-10636 | BH19: 5896 | BI19: 399.81 | BJ19: 4660.7 | BK19: Travaux | BL19: HERVE THERMIQUE | BM19: BT2024-10637 | BN19: 7641.24 | BP19: 4616.81 | BQ19: Travaux | BR19: CCS CRESPIN | BS19: BT2024-10638 | BT19: 8879.2 | BU19: 2328.7
A20: 1048 | B20: =IF(A20="","",VLOOKUP(A20,Territoire,2,FALSE)) -> C / G. PERIGUEUX | C20: =IF(A20="","",VLOOKUP(A20,Territoire,3,FALSE)) -> PERIGUEUX | D20: =IF(A20="","",VLOOKUP(A20,Territoire,4,FALSE)) -> PRES | E20: Incendie | F20: Sinistre | G20: 2022 | H20: Alexandre LAPORTE | I20: 90138 | J20: =IF(A20="","",X20+Y20+AD20+AE20+AJ20+AK20+AP20+AQ20+AV20+AW20+BB20+BC20+BH20+BI20+BN20+BO20+BT20+BU20+BZ20+CA20+CF20+CG20) -> 44173.67 | K20: =IF(J20="","",I20-J20) -> 45964.33 | L20: =IF(J20="","",Z20+AF20+AL20+AR20+AX20+BD20+BJ20+BP20+BV20+CB20+CH20) -> 44173.67 | M20: =IF(J20="","",J20-L20) -> 0 | N20: Dossier clos | O20: =IF(N20="","",VLOOKUP(N20,PARAM!$B$35:$C$47,2,FALSE)) -> 1 | P20: 44830 | Q20: 44918 | S20: 44918 | T20: =IF(AND(R20="",Q20<TODAY()),"", IF(S20<>"","", IF(Q20="","", IF(AND(R20="",Q20>TODAY()),DATEDIF(TODAY(),Q20,"d"), IF(R20>TODAY(),DATEDIF(TODAY(),R20,"d"),DATEDIF(TODAY(),R20,"d")))))) | U20: Travaux | V20: CHORT BATIMENT | W20: BT2022-13684 | X20: 19993.47 | Z20: 19993.47 | AA20: Travaux | AB20: CCS CRESPIN | AC20: BT2022-13685 | AD20: 7238 | AF20: 7238 | AG20: Travaux | AH20: ETEC | AI20: BT2022-13686 | AJ20: 5830 | AL20: 5830 | AM20: Travaux | AN20: BERGES | AO20: BT2022-13688 | AP20: 11112.2 | AR20: 11112.2
B21: =IF(A21="","",VLOOKUP(A21,Territoire,2,FALSE)) | C21: =IF(A21="","",VLOOKUP(A21,Territoire,3,FALSE)) | D21: =IF(A21="","",VLOOKUP(A21,Territoire,4,FALSE)) | J21: =IF(A21="","",X21+Y21+AD21+AE21+AJ21+AK21+AP21+AQ21+AV21+AW21+BB21+BC21+BH21+BI21+BN21+BO21+BT21+BU21+BZ21+CA21+CF21+CG21) | K21: =IF(J21="","",I21-J21) | L21: =IF(J21="","",Z21+AF21+AL21+AR21+AX21+BD21+BJ21+BP21+BV21+CB21+CH21) | M21: =IF(J21="","",J21-L21) | O21: =IF(N21="","",VLOOKUP(N21,PARAM!$B$35:$C$47,2,FALSE)) | T21: =IF(AND(R21="",Q21<TODAY()),"", IF(S21<>"","", IF(Q21="","", IF(AND(R21="",Q21>TODAY()),DATEDIF(TODAY(),Q21,"d"), IF(R21>TODAY(),DATEDIF(TODAY(),R21,"d"),DATEDIF(TODAY(),R21,"d"))))))
B22: =IF(A22="","",VLOOKUP(A22,Territoire,2,FALSE)) | C22: =IF(A22="","",VLOOKUP(A22,Territoire,3,FALSE)) | D22: =IF(A22="","",VLOOKUP(A22,Territoire,4,FALSE)) | J22: =IF(A22="","",X22+Y22+AD22+AE22+AJ22+AK22+AP22+AQ22+AV22+AW22+BB22+BC22+BH22+BI22+BN22+BO22+BT22+BU22+BZ22+CA22+CF22+CG22) | K22: =IF(J22="","",I22-J22) | L22: =IF(J22="","",Z22+AF22+AL22+AR22+AX22+BD22+BJ22+BP22+BV22+CB22+CH22) | M22: =IF(J22="","",J22-L22) | O22: =IF(N22="","",VLOOKUP(N22,PARAM!$B$35:$C$47,2,FALSE)) | T22: =IF(AND(R22="",Q22<TODAY()),"", IF(S22<>"","", IF(Q22="","", IF(AND(R22="",Q22>TODAY()),DATEDIF(TODAY(),Q22,"d"), IF(R22>TODAY(),DATEDIF(TODAY(),R22,"d"),DATEDIF(TODAY(),R22,"d"))))))
B23: =IF(A23="","",VLOOKUP(A23,Territoire,2,FALSE)) | C23: =IF(A23="","",VLOOKUP(A23,Territoire,3,FALSE)) | D23: =IF(A23="","",VLOOKUP(A23,Territoire,4,FALSE)) | J23: =IF(A23="","",X23+Y23+AD23+AE23+AJ23+AK23+AP23+AQ23+AV23+AW23+BB23+BC23+BH23+BI23+BN23+BO23+BT23+BU23+BZ23+CA23+CF23+CG23) | K23: =IF(J23="","",I23-J23) | L23: =IF(J23="","",Z23+AF23+AL23+AR23+AX23+BD23+BJ23+BP23+BV23+CB23+CH23) | M23: =IF(J23="","",J23-L23) | O23: =IF(N23="","",VLOOKUP(N23,PARAM!$B$35:$C$47,2,FALSE)) | T23: =IF(AND(R23="",Q23<TODAY()),"", IF(S23<>"","", IF(Q23="","", IF(AND(R23="",Q23>TODAY()),DATEDIF(TODAY(),Q23,"d"), IF(R23>TODAY(),DATEDIF(TODAY(),R23,"d"),DATEDIF(TODAY(),R23,"d"))))))
B24: =IF(A24="","",VLOOKUP(A24,Territoire,2,FALSE)) | C24: =IF(A24="","",VLOOKUP(A24,Territoire,3,FALSE)) | D24: =IF(A24="","",VLOOKUP(A24,Territoire,4,FALSE)) | J24: =IF(A24="","",X24+Y24+AD24+AE24+AJ24+AK24+AP24+AQ24+AV24+AW24+BB24+BC24+BH24+BI24+BN24+BO24+BT24+BU24+BZ24+CA24+CF24+CG24) | K24: =IF(J24="","",I24-J24) | L24: =IF(J24="","",Z24+AF24+AL24+AR24+AX24+BD24+BJ24+BP24+BV24+CB24+CH24) | M24: =IF(J24="","",J24-L24) | O24: =IF(N24="","",VLOOKUP(N24,PARAM!$B$35:$C$47,2,FALSE)) | T24: =IF(AND(R24="",Q24<TODAY()),"", IF(S24<>"","", IF(Q24="","", IF(AND(R24="",Q24>TODAY()),DATEDIF(TODAY(),Q24,"d"), IF(R24>TODAY(),DATEDIF(TODAY(),R24,"d"),DATEDIF(TODAY(),R24,"d"))))))
B25: =IF(A25="","",VLOOKUP(A25,Territoire,2,FALSE)) | C25: =IF(A25="","",VLOOKUP(A25,Territoire,3,FALSE)) | D25: =IF(A25="","",VLOOKUP(A25,Territoire,4,FALSE)) | J25: =IF(A25="","",X25+Y25+AD25+AE25+AJ25+AK25+AP25+AQ25+AV25+AW25+BB25+BC25+BH25+BI25+BN25+BO25+BT25+BU25+BZ25+CA25+CF25+CG25) | K25: =IF(J25="","",I25-J25) | L25: =IF(J25="","",Z25+AF25+AL25+AR25+AX25+BD25+BJ25+BP25+BV25+CB25+CH25) | M25: =IF(J25="","",J25-L25) | O25: =IF(N25="","",VLOOKUP(N25,PARAM!$B$35:$C$47,2,FALSE)) | T25: =IF(AND(R25="",Q25<TODAY()),"", IF(S25<>"","", IF(Q25="","", IF(AND(R25="",Q25>TODAY()),DATEDIF(TODAY(),Q25,"d"), IF(R25>TODAY(),DATEDIF(TODAY(),R25,"d"),DATEDIF(TODAY(),R25,"d"))))))
B26: =IF(A26="","",VLOOKUP(A26,Territoire,2,FALSE)) | C26: =IF(A26="","",VLOOKUP(A26,Territoire,3,FALSE)) | D26: =IF(A26="","",VLOOKUP(A26,Territoire,4,FALSE)) | J26: =IF(A26="","",X26+Y26+AD26+AE26+AJ26+AK26+AP26+AQ26+AV26+AW26+BB26+BC26+BH26+BI26+BN26+BO26+BT26+BU26+BZ26+CA26+CF26+CG26) | K26: =IF(J26="","",I26-J26) | L26: =IF(J26="","",Z26+AF26+AL26+AR26+AX26+BD26+BJ26+BP26+BV26+CB26+CH26) | M26: =IF(J26="","",J26-L26) | O26: =IF(N26="","",VLOOKUP(N26,PARAM!$B$35:$C$47,2,FALSE)) | T26: =IF(AND(R26="",Q26<TODAY()),"", IF(S26<>"","", IF(Q26="","", IF(AND(R26="",Q26>TODAY()),DATEDIF(TODAY(),Q26,"d"), IF(R26>TODAY(),DATEDIF(TODAY(),R26,"d"),DATEDIF(TODAY(),R26,"d"))))))
B27: =IF(A27="","",VLOOKUP(A27,Territoire,2,FALSE)) | C27: =IF(A27="","",VLOOKUP(A27,Territoire,3,FALSE)) | D27: =IF(A27="","",VLOOKUP(A27,Territoire,4,FALSE)) | J27: =IF(A27="","",X27+Y27+AD27+AE27+AJ27+AK27+AP27+AQ27+AV27+AW27+BB27+BC27+BH27+BI27+BN27+BO27+BT27+BU27+BZ27+CA27+CF27+CG27) | K27: =IF(J27="","",I27-J27) | L27: =IF(J27="","",Z27+AF27+AL27+AR27+AX27+BD27+BJ27+BP27+BV27+CB27+CH27) | M27: =IF(J27="","",J27-L27) | O27: =IF(N27="","",VLOOKUP(N27,PARAM!$B$35:$C$47,2,FALSE)) | T27: =IF(AND(R27="",Q27<TODAY()),"", IF(S27<>"","", IF(Q27="","", IF(AND(R27="",Q27>TODAY()),DATEDIF(TODAY(),Q27,"d"), IF(R27>TODAY(),DATEDIF(TODAY(),R27,"d"),DATEDIF(TODAY(),R27,"d"))))))
B28: =IF(A28="","",VLOOKUP(A28,Territoire,2,FALSE)) | C28: =IF(A28="","",VLOOKUP(A28,Territoire,3,FALSE)) | D28: =IF(A28="","",VLOOKUP(A28,Territoire,4,FALSE)) | J28: =IF(A28="","",X28+Y28+AD28+AE28+AJ28+AK28+AP28+AQ28+AV28+AW28+BB28+BC28+BH28+BI28+BN28+BO28+BT28+BU28+BZ28+CA28+CF28+CG28) | K28: =IF(J28="","",I28-J28) | L28: =IF(J28="","",Z28+AF28+AL28+AR28+AX28+BD28+BJ28+BP28+BV28+CB28+CH28) | M28: =IF(J28="","",J28-L28) | O28: =IF(N28="","",VLOOKUP(N28,PARAM!$B$35:$C$47,2,FALSE)) | T28: =IF(AND(R28="",Q28<TODAY()),"", IF(S28<>"","", IF(Q28="","", IF(AND(R28="",Q28>TODAY()),DATEDIF(TODAY(),Q28,"d"), IF(R28>TODAY(),DATEDIF(TODAY(),R28,"d"),DATEDIF(TODAY(),R28,"d"))))))
B29: =IF(A29="","",VLOOKUP(A29,Territoire,2,FALSE)) | C29: =IF(A29="","",VLOOKUP(A29,Territoire,3,FALSE)) | D29: =IF(A29="","",VLOOKUP(A29,Territoire,4,FALSE)) | J29: =IF(A29="","",X29+Y29+AD29+AE29+AJ29+AK29+AP29+AQ29+AV29+AW29+BB29+BC29+BH29+BI29+BN29+BO29+BT29+BU29+BZ29+CA29+CF29+CG29) | K29: =IF(J29="","",I29-J29) | L29: =IF(J29="","",Z29+AF29+AL29+AR29+AX29+BD29+BJ29+BP29+BV29+CB29+CH29) | M29: =IF(J29="","",J29-L29) | O29: =IF(N29="","",VLOOKUP(N29,PARAM!$B$35:$C$47,2,FALSE)) | T29: =IF(AND(R29="",Q29<TODAY()),"", IF(S29<>"","", IF(Q29="","", IF(AND(R29="",Q29>TODAY()),DATEDIF(TODAY(),Q29,"d"), IF(R29>TODAY(),DATEDIF(TODAY(),R29,"d"),DATEDIF(TODAY(),R29,"d"))))))
B30: =IF(A30="","",VLOOKUP(A30,Territoire,2,FALSE)) | C30: =IF(A30="","",VLOOKUP(A30,Territoire,3,FALSE)) | D30: =IF(A30="","",VLOOKUP(A30,Territoire,4,FALSE)) | J30: =IF(A30="","",X30+Y30+AD30+AE30+AJ30+AK30+AP30+AQ30+AV30+AW30+BB30+BC30+BH30+BI30+BN30+BO30+BT30+BU30+BZ30+CA30+CF30+CG30) | K30: =IF(J30="","",I30-J30) | L30: =IF(J30="","",Z30+AF30+AL30+AR30+AX30+BD30+BJ30+BP30+BV30+CB30+CH30) | M30: =IF(J30="","",J30-L30) | O30: =IF(N30="","",VLOOKUP(N30,PARAM!$B$35:$C$47,2,FALSE)) | T30: =IF(AND(R30="",Q30<TODAY()),"", IF(S30<>"","", IF(Q30="","", IF(AND(R30="",Q30>TODAY()),DATEDIF(TODAY(),Q30,"d"), IF(R30>TODAY(),DATEDIF(TODAY(),R30,"d"),DATEDIF(TODAY(),R30,"d"))))))
B31: =IF(A31="","",VLOOKUP(A31,Territoire,2,FALSE)) | C31: =IF(A31="","",VLOOKUP(A31,Territoire,3,FALSE)) | D31: =IF(A31="","",VLOOKUP(A31,Territoire,4,FALSE)) | J31: =IF(A31="","",X31+Y31+AD31+AE31+AJ31+AK31+AP31+AQ31+AV31+AW31+BB31+BC31+BH31+BI31+BN31+BO31+BT31+BU31+BZ31+CA31+CF31+CG31) | K31: =IF(J31="","",I31-J31) | L31: =IF(J31="","",Z31+AF31+AL31+AR31+AX31+BD31+BJ31+BP31+BV31+CB31+CH31) | M31: =IF(J31="","",J31-L31) | O31: =IF(N31="","",VLOOKUP(N31,PARAM!$B$35:$C$47,2,FALSE)) | T31: =IF(AND(R31="",Q31<TODAY()),"", IF(S31<>"","", IF(Q31="","", IF(AND(R31="",Q31>TODAY()),DATEDIF(TODAY(),Q31,"d"), IF(R31>TODAY(),DATEDIF(TODAY(),R31,"d"),DATEDIF(TODAY(),R31,"d"))))))
B32: =IF(A32="","",VLOOKUP(A32,Territoire,2,FALSE)) | C32: =IF(A32="","",VLOOKUP(A32,Territoire,3,FALSE)) | D32: =IF(A32="","",VLOOKUP(A32,Territoire,4,FALSE)) | J32: =IF(A32="","",X32+Y32+AD32+AE32+AJ32+AK32+AP32+AQ32+AV32+AW32+BB32+BC32+BH32+BI32+BN32+BO32+BT32+BU32+BZ32+CA32+CF32+CG32) | K32: =IF(J32="","",I32-J32) | L32: =IF(J32="","",Z32+AF32+AL32+AR32+AX32+BD32+BJ32+BP32+BV32+CB32+CH32) | M32: =IF(J32="","",J32-L32) | O32: =IF(N32="","",VLOOKUP(N32,PARAM!$B$35:$C$47,2,FALSE)) | T32: =IF(AND(R32="",Q32<TODAY()),"", IF(S32<>"","", IF(Q32="","", IF(AND(R32="",Q32>TODAY()),DATEDIF(TODAY(),Q32,"d"), IF(R32>TODAY(),DATEDIF(TODAY(),R32,"d"),DATEDIF(TODAY(),R32,"d"))))))
... B99: =IF(A99="","",VLOOKUP(A99,Territoire,2,FALSE)) | C99: =IF(A99="","",VLOOKUP(A99,Territoire,3,FALSE)) | D99: =IF(A99="","",VLOOKUP(A99,Territoire,4,FALSE)) | J99: =IF(A99="","",X99+Y99+AD99+AE99+AJ99+AK99+AP99+AQ99+AV99+AW99+BB99+BC99+BH99+BI99+BN99+BO99+BT99+BU99+BZ99+CA99+CF99+CG99) | K99: =IF(J99="","",I99-J99) | L99: =IF(J99="","",Z99+AF99+AL99+AR99+AX99+BD99+BJ99+BP99+BV99+CB99+CH99) | M99: =IF(J99="","",J99-L99) | O99: =IF(N99="","",VLOOKUP(N99,PARAM!$B$35:$C$47,2,FALSE)) | T99: =IF(AND(R99="",Q99<TODAY()),"", IF(S99<>"","", IF(Q99="","", IF(AND(R99="",Q99>TODAY()),DATEDIF(TODAY(),Q99,"d"), IF(R99>TODAY(),DATEDIF(TODAY(),R99,"d"),DATEDIF(TODAY(),R99,"d"))))))

Sheet PARAM
B2: REFERENT | F2: Code programme | G2: TERRITOIRE | H2: VILLE | I2: RESIDENCE
B3: Alexandre LAPORTE | C3: AL | F3: 1 | G3: SO / BERGERAC | H3: BERGERAC | I3: LES TREFLES - LOPOFA
B4: Aymeric LE POTTIER | C4: ALP | F4: 2 | G4: SE / SARLAT | H4: TERRASSON LAVILLEDIEU | I4: BROSSOLETTE
B5: Thomas SOLERA | C5: TS | F5: 3 | G5: SE / SARLAT | H5: LE BUGUE | I5: LES TIREAUX
B6: Tom MARCHAND | C6: TM | F6: 4 | G6: SO / BERGERAC | H6: LALINDE | I6: LA GARE
B7: Anthony MARCINIAK | C7: AM | F7: 5 | G7: SO / BERGERAC | H7: MOULEYDIER | I7: BELPECH
B8: Fabrice LAMOTHE | C8: FL | F8: 7 | G8: SE / SARLAT | H8: SARLAT LA CANEDA | I8: GAUBERT
B9: Christophe DAROT | C9: CD | F9: 8 | G9: SO / BERGERAC | H9: MONTPON MENESTEROL | I9: LES MASSIAS
B10: Samuel FAUCHER | C10: SF | F10: 9 | G10: N / NONTRON | H10: NONTRON | I10: YVON DELBOS
B11: Aurore MARTRINCHARD | C11: AM | F11: 11 | G11: SO / BERGERAC | H11: EYMET | I11: LATTRE DE TASSIGNY
B12: Manuela TAULOU | C12: MT | F12: 12 | G12: SO / BERGERAC | H12: LALINDE | I12: LA GRATUSSE
B13: Territoire GRAND PERIGUEUX | C13: GPX | F13: 13 | G13: SE / SARLAT | H13: TERRASSON LAVILLEDIEU | I13: LES CHAUFFOURS
B14: Territoire BERGERAC | C14: BGC | F14: 14 | G14: SO / BERGERAC | H14: COUZE ET ST FRONT | I14: MOULIN DE BAYAC
... B16: Territoire NONTRON | C16: NTN | F16: 17 | G16: C / G. PERIGUEUX | H16: PERIGUEUX | I16: LA GRENADIERE PETIT BLOC
F17: 18 | G17: SE / SARLAT | H17: ST CYPRIEN | I17: LE PRIOLAT
B18: PRESTATIONS | F18: 19 | G18: SE / SARLAT | H18: THENON | I18: LA BOSSENIE 1
B19: Publicité | F19: 22 | G19: SE / SARLAT | H19: TERRASSON LAVILLEDIEU | I19: LE MALEU
B20: MOE | F20: 23 | G20: SE / SARLAT | H20: VILLEFRANCHE DU PERIGORD | I20: LE STADE
B21: SPS | F21: 24 | G21: N / NONTRON | H21: NONTRON | I21: LA TOUR CHAMP DE FOIRE
B22: Géomètre | F22: 25 | G22: SO / BERGERAC | H22: BERGERAC | I22: VALETTE
B23: BCT | F23: 26 | G23: SE / SARLAT | H23: MONTIGNAC | I23: CAZANOVA
B24: Géo | F24: 27 | G24: SE / SARLAT | H24: TERRASSON LAVILLEDIEU | I24: LE MARAVAL
B25: Huissier | F25: 28 | G25: SE / SARLAT | H25: SARLAT LA CANEDA | I25: LA BRANDE
B26: Diagnostic | F26: 29 | G26: SE / SARLAT | H26: BELVES | I26: MARQUISAT 1
B27: Réseaux | F27: 30 | G27: N / NONTRON | H27: NONTRON | I27: CHAMP DE FOIRE
B28: Travaux | F28: 34 | G28: SE / SARLAT | H28: MAZEYROLLES | I28: LE GOT
B29: Fourniture | F29: 36 | G29: SE / SARLAT | H29: TERRASSON LAVILLEDIEU | I29: LA BORIE BASSE 1
... B32: ---- | F32: 41 | G32: SE / SARLAT | H32: SARLAT LA CANEDA | I32: LA TRAPPE
F33: 42 | G33: SO / BERGERAC | H33: MUSSIDAN | I33: BASSY 1
B34: AVANCEMENT | F34: 44 | G34: N / NONTRON | H34: BRANTOME EN PERIGORD | I34: L'ABBE AUDIERNE
B35: Déclaration faite | C35: 0.02 | F35: 46 | G35: N / NONTRON | H35: THIVIERS | I35: LES CHADEAUX 1
B36: Expertise faite | C36: 0.05 | F36: 47 | G36: SO / BERGERAC | H36: COUZE ET ST FRONT | I36: MOULIN DE BAYAC 2
B37: Contre-expertise faite | C37: 0.07 | F37: 48 | G37: SE / SARLAT | H37: TERRASSON LAVILLEDIEU | I37: LE VERTEIL
B38: Accord chiffrage | C38: 0.1 | F38: 49 | G38: SE / SARLAT | H38: CONDAT SUR VEZERE | I38: LES GRAVES
B39: Consultation BET | C39: 0.15 | F39: 50 | G39: N / NONTRON | H39: PIEGUT PLUVIERS | I39: LA TRICHERIE
B40: BET attribué | C40: 0.2 | F40: 51 | G40: SO / BERGERAC | H40: MONTPON MENESTEROL | I40: LES MOREAUX
B41: Etude | C41: 0.25 | F41: 52 | G41: SO / BERGERAC | H41: MONTPON MENESTEROL | I41: MENESTEROL
B42: DCE prêt | C42: 0.4 | F42: 53 | G42: N / NONTRON | H42: NONTRON | I42: LA MOTHE TOUR
B43: Consultation ENT | C43: 0.45 | F43: 54 | G43: N / NONTRON | H43: LANOUAILLE | I43: LES PRUNUS
B44: Attribution | C44: 0.5 | F44: 55 | G44: N / NONTRON | H44: THIVIERS | I44: LES CHADEAUX 2
...
