Workbook
Name __Anonymous_Sheet_DB__1: #REF!
Name __Anonymous_Sheet_DB__2: #REF!
Name __Anonymous_Sheet_DB__3: #REF!
Name __Anonymous_Sheet_DB__4: #REF!
Name __Anonymous_Sheet_DB__5: #REF!
Name Aideref: Informations_personnelles!$AS$308:$AS$313
Name ancienneté: Informations_personnelles!$AS$289:$AS$294
Name CC3F: Informations_personnelles!$AS$267:$AS$288
Name CCCatt: Informations_personnelles!$AS$370:$AS$390
Name CCVA: Informations_personnelles!$AS$357:$AS$364
Name originedemande: Informations_personnelles!$AS$429:$AS$437
Name portedefrance: Informations_personnelles!$AS$410:$AS$423
Name Ressources: Informations_personnelles!$AS$317:$AS$324
Name SeulementX: Informations_personnelles!$AS$260:$AS$261
Name Situationfamiliale: Informations_personnelles!$AS$255:$AS$258
Name Soutienref: Informations_personnelles!$AS$298:$AS$305
Name ValdeFensch: Informations_personnelles!#REF!
Name Valfensch: Informations_personnelles!$AS$396:$AS$405
Name X: Informations_personnelles!$AS$260:$AS$261

Sheet Informations_personnelles
G1: Enfants témoins | I1: Origine demande | K1: Violence | R1: Procédures pénales | AA1: Procédure Civile
A2: Début du suivi le | B2: N° Entrée | C2: Nom | D2: Age | E2: Ressources (début suivi) | F2: Enfants à charge | G2: Témoins | H2: Témoins & victimes directes | I2: Origine directe | J2: Orientation partenaires | K2: Verbales | L2: Psy | M2: Physique | N2: Eco/adm | O2: Sexuelles | P2: Matérielles | Q2: Ancienneté des faits | R2: Dépôt de plainte | S2: Main courante | T2: PVRJ | U2: Assistance aux victimes | V2: Ordonnance protection | W2: Eviction du conjoint | X2: Viol | Y2: Incar. Conjoint | Z2: Soutien du Ref | AA2: Divorce | AB2: Séparation | AC2: Requête garde enfants | AD2: Contribution en charge du ménage | AE2: Contestation filiation paternité | AF2: Aide ref | AG2: Colonne33
K3: (X) | L3: (X) | M3: (X) | N3: (X) | O3: (X) | P3: (X) | R3: (X) | S3: (X) | T3: (X) | U3: (X) | V3: (X) | W3: (X) | X3: (X) | Y3: (X) | AA3: (X) | AB3: (X) | AC3: (X) | AD3: (X) | AE3: (X)
A4: 42373 | B4: 1 | C4: anonyme | D4: 31 | E4: RSA | F4: 3 | G4: 3 | J4: Travailleurs sociaux | K4: x | L4: x | M4: x | Q4: de 11 à 20 ans | R4: x | T4: x | AB4: x
A5: 42373 | B5: 2 | C5: anonyme | D5: 36 | E5: Salaire | F5: 3 | H5: 1 | J5: Travailleurs sociaux | K5: x | L5: x | M5: x | P5: x | Q5: de 1 à 5 ans | Z5: Dépôt plainte | AF5: Divorce
A6: 42373 | B6: 3 | C6: anonyme | D6: 36 | E6: Salaire | F6: 2 | J6: Gendarmerie | K6: x | L6: x | M6: x | P6: x | Q6: de 1 à 5 ans | T6: x | AF6: Requête GE
A7: 42377 | B7: 4 | C7: anonyme | D7: 37 | E7: Salaire | F7: 3 | G7: 3 | J7: ISG | K7: x | L7: x | M7: x | N7: x | P7: x | Q7: de 1 à 5 ans | R7: x | V7: x | AA7: x
A8: 42394 | B8: 5 | C8: anonyme | D8: 27 | E8: Salaire | F8: 2 | G8: 2 | I8: connaissance | K8: x | L8: x | M8: x | N8: x | O8: x | P8: x | Q8: de 1 à 5 ans | R8: x | T8: x | Z8: Viol | AF8: Requête GE
A9: 42396 | B9: 6 | C9: anonyme | D9: 38 | E9: Salaire | F9: 2 | G9: 2 | J9: Travailleurs sociaux | L9: x | N9: x | Q9: de 1 à 5 ans | AF9: Divorce
A10: 42390 | B10: 7 | C10: anonyme | D10: 26 | E10: Salaire | F10: 2 | J10: Travailleurs sociaux | K10: x | L10: x | M10: x | N10: x | Q10: de 1 à 5 ans | S10: x | AF10: Requête GE
A11: 42391 | B11: 8 | C11: anonyme | D11: 39 | E11: Salaire | F11: 3 | G11: 2 | J11: 3919 | K11: x | L11: x | M11: x | N11: x | O11: x | P11: x | Q11: de 6 à 10 ans | R11: x | S11: x | U11: x | V11: x | Y11: x
A14: =COUNTA(A4:A13) -> 8 | B14: TOTAL JANVIER | F14: =SUM(F4:F13) -> 20 | G14: =SUM(G4:G13) -> 12 | H14: =SUM(H4:H13) -> 1 | I14: =COUNTA(I4:I13) -> 1 | J14: =COUNTA(J4:J13) -> 7 | K14: =COUNTIF(K4:K13, "x") -> 7 | L14: =COUNTIF(L4:L13, "x") -> 8 | M14: =COUNTIF(M4:M13, "x") -> 7 | N14: =COUNTIF(N4:N13, "x") -> 5 | O14: =COUNTIF(O4:O13, "x") -> 2 | P14: =COUNTIF(P4:P13, "x") -> 5 | R14: =COUNTIF(R4:R13, "x") -> 4 | S14: =COUNTIF(S4:S13, "x") -> 2 | T14: =COUNTIF(T4:T13, "x") -> 3 | U14: =COUNTIF(U4:U13, "x") -> 1 | V14: =COUNTIF(V4:V13, "x") -> 2 | W14: =COUNTIF(W4:W13, "x") -> 0 | X14: =COUNTIF(X4:X13, "x") -> 0 | Y14: =COUNTIF(Y4:Y13, "x") -> 1 | Z14: =COUNTA(Z4:Z13) -> 2 | AA14: =COUNTIF(AA4:AA13, "x") -> 1 | AB14: =COUNTIF(AB4:AB13, "x") -> 1 | AC14: =COUNTIF(AC4:AC13, "x") -> 0 | AD14: =COUNTIF(AD4:AD13, "x") -> 0 | AE14: =COUNTIF(AE4:AE13, "x") -> 0 | AF14: =COUNTA(AF4:AF13) -> 5
A15: 42410 | B15: 9 | C15: anonyme | D15: 35 | E15: Sans ressources | J15: Travailleurs sociaux | K15: x | L15: x | M15: x | N15: x | O15: x | Q15: moins d'un an | S15: 1
A25: =COUNTA(A15:A24) -> 1 | B25: TOTAL FEVRIER | F25: =SUM(F15:F24) -> 0 | G25: =SUM(G15:G24) -> 0 | H25: =SUM(H15:H24) -> 0 | I25: =COUNTA(I15:I24) -> 0 | J25: =COUNTA(J15:J24) -> 1 | K25: =COUNTIF(K15:K24, "x") -> 1 | L25: =COUNTIF(L15:L24, "x") -> 1 | M25: =COUNTIF(M15:M24, "x") -> 1 | N25: =COUNTIF(N15:N24, "x") -> 1 | O25: =COUNTIF(O15:O24, "x") -> 1 | P25: =COUNTIF(P15:P24, "x") -> 0 | R25: =COUNTIF(R15:R24, "x") -> 0 | S25: =COUNTIF(S15:S24, "x") -> 0 | T25: =COUNTIF(T15:T24, "x") -> 0 | U25: =COUNTIF(U15:U24, "x") -> 0 | V25: =COUNTIF(V15:V24, "x") -> 0 | W25: =COUNTIF(W15:W24, "x") -> 0 | X25: =COUNTIF(X15:X24, "x") -> 0 | Y25: =COUNTIF(Y15:Y24, "x") -> 0 | Z25: =COUNTA(Z15:Z24) -> 0 | AA25: =COUNTIF(AA15:AA24, "x") -> 0 | AB25: =COUNTIF(AB15:AB24, "x") -> 0 | AC25: =COUNTIF(AC15:AC24, "x") -> 0 | AD25: =COUNTIF(AD15:AD24, "x") -> 0 | AE25: =COUNTIF(AE15:AE24, "x") -> 0 | AF25: =COUNTA(AF15:AF24) -> 0 | AK25: =IFERROR(ROUND(#REF!/30.5,1),"")
A36: =COUNTA(A26:A35) -> 0 | B36: TOTAL MARS | F36: =SUM(F26:F35) -> 0 | G36: =SUM(G26:G35) -> 0 | H36: =SUM(H26:H35) -> 0 | I36: =COUNTA(I26:I35) -> 0 | J36: =COUNTA(J26:J35) -> 0 | K36: =COUNTIF(K26:K35, "x") -> 0 | L36: =COUNTIF(L26:L35, "x") -> 0 | N36: =COUNTIF(N26:N35, "x") -> 0 | O36: =COUNTIF(O26:O35, "x") -> 0 | P36: =COUNTIF(P26:P35, "x") -> 0 | R36: =COUNTIF(R26:R35, "x") -> 0 | S36: =COUNTIF(S26:S35, "x") -> 0 | T36: =COUNTIF(T26:T35, "x") -> 0 | U36: =COUNTIF(U26:U35, "x") -> 0 | V36: =COUNTIF(V26:V35, "x") -> 0 | W36: =COUNTIF(W26:W35, "x") -> 0 | X36: =COUNTIF(X26:X35, "x") -> 0 | Y36: =COUNTIF(Y26:Y35, "x") -> 0 | Z36: =COUNTA(Z26:Z35) -> 0 | AA36: =COUNTIF(AA26:AA35, "x") -> 0 | AB36: =COUNTIF(AB26:AB35, "x") -> 0 | AC36: =COUNTIF(AC26:AC35, "x") -> 0 | AD36: =COUNTIF(AD26:AD35, "x") -> 0 | AE36: =COUNTIF(AE26:AE35, "x") -> 0 | AF36: =COUNTA(AF26:AF35) -> 0
A39: =SUM(A14+A25+A36) -> 9 | B39: total 1er trim | F39: =SUM(F14+F25+F36) -> 20 | G39: =SUM(G14+G25+G36) -> 12 | H39: =SUM(H14+H25+H36) -> 1 | I39: =SUM(I14+I25+I36) -> 1 | J39: =SUM(J14+J25+J36) -> 8 | K39: =COUNTIF(K4:K38, "x") -> 8 | L39: =COUNTIF(L4:L38, "x") -> 9 | M39: =COUNTIF(M4:M38, "x") -> 8 | N39: =COUNTIF(N4:N38, "x") -> 6 | O39: =COUNTIF(O4:O38, "x") -> 3 | P39: =COUNTIF(P4:P38, "x") -> 5 | R39: =COUNTIF(R4:R38, "x") -> 4 | S39: =COUNTIF(S4:S38, "x") -> 2 | T39: =COUNTIF(T4:T38, "x") -> 3 | U39: =COUNTIF(U4:U38, "x") -> 1 | V39: =COUNTIF(V4:V38, "x") -> 2 | W39: =COUNTIF(W4:W38, "x") -> 0 | X39: =COUNTIF(X4:X38, "x") -> 0 | Y39: =COUNTIF(Y4:Y38, "x") -> 1 | Z39: =SUM(Z14,Z25,Z36) -> 2 | AA39: =COUNTIF(AA4:AA38, "x") -> 1 | AB39: =COUNTIF(AB4:AB38, "x") -> 1 | AC39: =COUNTIF(AC4:AC38, "x") -> 0 | AD39: =COUNTIF(AD4:AD38, "x") -> 0 | AE39: =COUNTIF(AE4:AE38, "x") -> 0 | AF39: =SUM(AF14+AF25+AF54) -> 5
B43: 2e trim 2016
A54: =COUNTA(A44:A53) -> 0 | B54: TOTAL AVRIL | F54: =SUM(F44:F53) -> 0 | G54: =SUM(G44:G53) -> 0 | H54: =SUM(H44:H53) -> 0 | I54: =COUNTA(I44:I53) -> 0 | J54: =COUNTA(J53:J53) -> 0 | K54: =COUNTIF(K44:K53, "x") -> 0 | L54: =COUNTIF(L44:L53, "x") -> 0 | M54: =COUNTIF(M44:M53, "x") -> 0 | N54: =COUNTIF(N44:N53, "x") -> 0 | O54: =COUNTIF(O44:O53, "x") -> 0 | P54: =COUNTIF(P44:P53, "x") -> 0 | R54: =COUNTIF(R44:R53, "x") -> 0 | S54: =COUNTIF(S44:S53, "x") -> 0 | T54: =COUNTIF(T44:T53, "x") -> 0 | U54: =COUNTIF(U44:U53, "x") -> 0 | V54: =COUNTIF(V44:V53, "x") -> 0 | W54: =COUNTIF(W44:W53, "x") -> 0 | X54: =COUNTIF(X44:X53, "x") -> 0 | Y54: =COUNTIF(Y44:Y53, "x") -> 0 | Z54: =COUNTA(Z44:Z53) -> 0 | AA54: =COUNTIF(AA44:AA53, "x") -> 0 | AB54: =COUNTIF(AB44:AB53, "x") -> 0 | AC54: =COUNTIF(AC44:AC53, "x") -> 0 | AD54: =COUNTIF(AD44:AD53, "x") -> 0 | AE54: =COUNTIF(AE44:AE53, "x") -> 0 | AF54: =COUNTA(AF44:AF53) -> 0
A65: =COUNTA(A55:A64) -> 0 | B65: TOTAL MAI | F65: =SUM(F55:F64) -> 0 | G65: =SUM(G55:G64) -> 0 | H65: =SUM(H55:H64) -> 0 | I65: =COUNTA(I55:I64) -> 0 | J65: =COUNTA(J64:J64) -> 0 | K65: =COUNTIF(K55:K64, "x") -> 0 | L65: =COUNTIF(L55:L64, "x") -> 0 | M65: =COUNTIF(M55:M64, "x") -> 0 | N65: =COUNTIF(N55:N64, "x") -> 0 | O65: =COUNTIF(O55:O64, "x") -> 0 | P65: =COUNTIF(P55:P64, "x") -> 0 | R65: =COUNTIF(R55:R64, "x") -> 0 | S65: =COUNTIF(S55:S64, "x") -> 0 | T65: =COUNTIF(T55:T64, "x") -> 0 | U65: =COUNTIF(U55:U64, "x") -> 0 | V65: =COUNTIF(V55:V64, "x") -> 0 | W65: =COUNTIF(W55:W64, "x") -> 0 | X65: =COUNTIF(X55:X64, "x") -> 0 | Y65: =COUNTIF(Y55:Y64, "x") -> 0 | Z65: =COUNTA(Z55:Z64) -> 0 | AA65: =COUNTIF(AA55:AA64, "x") -> 0 | AB65: =COUNTIF(AB55:AB64, "x") -> 0 | AC65: =COUNTIF(AC55:AC64, "x") -> 0 | AD65: =COUNTIF(AD55:AD64, "x") -> 0 | AE65: =COUNTIF(AE55:AE64, "x") -> 0 | AF65: =COUNTA(AF55:AF64) -> 0
A76: =COUNTA(A66:A75) -> 0 | B76: TOTAL JUIN | F76: =SUM(F66:F75) -> 0 | G76: =SUM(G66:G75) -> 0 | H76: =SUM(H66:H75) -> 0 | I76: =COUNTA(I66:I75) -> 0 | J76: =COUNTA(J66:J75) -> 0 | K76: =COUNTIF(K66:K75, "x") -> 0 | L76: =COUNTIF(L66:L75, "x") -> 0 | M76: =COUNTIF(M66:M75, "x") -> 0 | N76: =COUNTIF(N66:N75, "x") -> 0 | O76: =COUNTIF(O66:O75, "x") -> 0 | P76: =COUNTIF(P66:P75, "x") -> 0 | R76: =COUNTIF(R66:R75, "x") -> 0 | S76: =COUNTIF(S66:S75, "x") -> 0 | T76: =COUNTIF(T66:T75, "x") -> 0 | U76: =COUNTIF(U66:U75, "x") -> 0 | V76: =COUNTIF(V66:V75, "x") -> 0 | W76: =COUNTIF(W66:W75, "x") -> 0 | X76: =COUNTIF(X66:X75, "x") -> 0 | Y76: =COUNTIF(Y66:Y75, "x") -> 0 | Z76: =COUNTA(Z66:Z75) -> 0 | AA76: =COUNTIF(AA66:AA75, "x") -> 0 | AB76: =COUNTIF(AB66:AB75, "x") -> 0 | AC76: =COUNTIF(AC66:AC75, "x") -> 0 | AD76: =COUNTIF(AD66:AD75, "x") -> 0 | AE76: =COUNTIF(AE66:AE75, "x") -> 0 | AF76: =COUNTA(AF66:AF75) -> 0
A78: =SUM(A53+A64+A75) -> 0 | B78: Total 2e trim | E78: =COUNTA(E77:E77) -> 0 | F78: =SUM(F54+F65+F76) -> 0 | G78: =SUM(G54+G65+G76) -> 0 | H78: =SUM(H54+H65+H76) -> 0 | I78: =SUM(I54+I65+I76) -> 0 | J78: =SUM(J54+J65+J76) -> 0 | K78: =SUM(K54+K65+K76) -> 0 | L78: =SUM(L54+L65+L76) -> 0 | M78: =SUM(M54+M65+M76) -> 0 | N78: =SUM(N54+N65+N76) -> 0 | O78: =COUNTIF(O44:O77, "X") -> 0 | P78: =SUM(P54+P65+P76) -> 0 | R78: =SUM(R54+R65+R76) -> 0 | S78: =SUM(S54+S65+S76) -> 0 | T78: =SUM(T54+T65+T76) -> 0 | U78: =SUM(U54+U65+U76) -> 0 | V78: =SUM(V54+V65+V76) -> 0 | W78: =SUM(W54+W65+W76) -> 0 | X78: =SUM(X54+X65+X76) -> 0 | Y78: =SUM(Y54+Y65+Y76) -> 0 | ... AF78: =SUM(AF54+AF65+AF76) -> 0 | AG78: =COUNTA(AG4:AG77) -> 0
B82: 3e trim 2016
A93: =COUNTA(A83:A92) -> 0 | B93: TOTAL JUILLET | F93: =SUM(F83:F92) -> 0 | G93: =SUM(G83:G92) -> 0 | H93: =SUM(H83:H92) -> 0 | I93: =COUNTA(I83:I92) -> 0 | J93: =COUNTA(J83:J92) -> 0 | K93: =COUNTIF(K83:K92, "x") -> 0 | L93: =COUNTIF(L83:L92, "x") -> 0 | M93: =COUNTIF(M83:M92, "x") -> 0 | N93: =COUNTIF(N83:N92, "x") -> 0 | O93: =COUNTIF(O83:O92, "x") -> 0 | P93: =COUNTIF(P83:P92, "x") -> 0 | R93: =COUNTIF(R83:R92, "x") -> 0 | S93: =COUNTIF(S83:S92, "x") -> 0 | T93: =COUNTIF(T83:T92, "x") -> 0 | U93: =COUNTIF(U83:U92, "x") -> 0 | V93: =COUNTIF(V83:V92, "x") -> 0 | W93: =COUNTIF(W83:W92, "x") -> 0 | X93: =COUNTIF(X83:X92, "x") -> 0 | Y93: =COUNTIF(Y83:Y92, "x") -> 0 | Z93: =COUNTA(Z83:Z92) -> 0 | AA93: =COUNTIF(AA83:AA92, "x") -> 0 | AB93: =COUNTIF(AB83:AB92, "x") -> 0 | AC93: =COUNTIF(AC83:AC92, "x") -> 0 | AD93: =COUNTIF(AD83:AD92, "x") -> 0 | AE93: =COUNTIF(AE83:AE92, "x") -> 0 | AF93: =COUNTA(AF83:AF92) -> 0
A103: =COUNTA(A94:A102) -> 0 | B103: TOTAL AOUT | F103: =SUM(F93:F102) -> 0 | G103: =SUM(G93:G102) -> 0 | H103: =SUM(H93:H102) -> 0 | I103: =COUNTA(I94:I102) -> 0 | J103: =COUNTA(J94:J102) -> 0 | K103: =COUNTIF(K93:K102, "x") -> 0 | L103: =COUNTIF(L93:L102, "x") -> 0 | M103: =COUNTIF(M93:M102, "x") -> 0 | N103: =COUNTIF(N93:N102, "x") -> 0 | O103: =COUNTIF(O93:O102, "x") -> 0 | P103: =COUNTIF(P93:P102, "x") -> 0 | R103: =COUNTIF(R93:R102, "x") -> 0 | S103: =COUNTIF(S93:S102, "x") -> 0 | T103: =COUNTIF(T93:T102, "x") -> 0 | U103: =COUNTIF(U93:U102, "x") -> 0 | V103: =COUNTIF(V93:V102, "x") -> 0 | W103: =COUNTIF(W93:W102, "x") -> 0 | X103: =COUNTIF(X93:X102, "x") -> 0 | Y103: =COUNTIF(Y93:Y102, "x") -> 0 | Z103: =COUNTA(Z94:Z102) -> 0 | AA103: =COUNTIF(AA93:AA102, "x") -> 0 | AB103: =COUNTIF(AB93:AB102, "x") -> 0 | AC103: =COUNTIF(AC93:AC102, "x") -> 0 | AD103: =COUNTIF(AD93:AD102, "x") -> 0 | AE103: =COUNTIF(AE93:AE102, "x") -> 0 | AF103: =COUNTIF(AF93:AF102, "x") -> 0
A114: =COUNTA(A105:A113) -> 0 | B114: TOTAL SEPT. | F114: =SUM(F104:F113) -> 0 | G114: =SUM(G104:G113) -> 0 | H114: =SUM(H104:H113) -> 0 | I114: =COUNTA(I104:I113) -> 0 | J114: =COUNTA(J104:J113) -> 0 | K114: =COUNTIF(K104:K113, "x") -> 0 | L114: =COUNTIF(L104:L113, "x") -> 0 | M114: =COUNTIF(M104:M113, "x") -> 0 | N114: =COUNTIF(N104:N113, "x") -> 0 | O114: =COUNTIF(O104:O113, "x") -> 0 | P114: =COUNTIF(P104:P113, "x") -> 0 | R114: =COUNTIF(R104:R113, "x") -> 0 | S114: =COUNTIF(S104:S113, "x") -> 0 | T114: =COUNTIF(T104:T113, "x") -> 0 | U114: =COUNTIF(U104:U113, "x") -> 0 | V114: =COUNTIF(V104:V113, "x") -> 0 | W114: =COUNTIF(W104:W113, "x") -> 0 | X114: =COUNTIF(X104:X113, "x") -> 0 | Y114: =COUNTIF(Y104:Y113, "x") -> 0 | Z114: =COUNTA(Z104:Z113) -> 0 | AA114: =COUNTIF(AA104:AA113, "x") -> 0 | AB114: =COUNTIF(AB104:AB113, "x") -> 0 | AC114: =COUNTIF(AC104:AC113, "x") -> 0 | AD114: =COUNTIF(AD104:AD113, "x") -> 0 | AE114: =COUNTIF(AE104:AE113, "x") -> 0 | AF114: =COUNTA(AF105:AF113) -> 0
A117: =SUM(A93+A103+A114) -> 0 | B117: Total 3e trim | E117: =COUNTA(E83:E116) -> 0 | F117: =SUM(F93+F103+F114) -> 0 | G117: =SUM(G93+G103+G114) -> 0 | H117: =SUM(H93+H103+H114) -> 0 | I117: =SUM(I93+I103+I114) -> 0 | J117: =SUM(J93+J103+J114) -> 0 | K117: =SUM(K93+K103+K114) -> 0 | L117: =SUM(L93+L103+L114) -> 0 | M117: =SUM(M93+M103+M114) -> 0 | ... AF117: =SUM(AF93+AF103+AF114) -> 0 | AG117: =COUNTA(AG44:AG116) -> 1
B122: 4e trim 2016
A132: =COUNTA(A123:A131) -> 0 | B132: TOTAL OCT | F132: =SUM(F123:F131) -> 0 | G132: =SUM(G123:G131) -> 0 | H132: =SUM(H123:H131) -> 0 | I132: =COUNTA(I123:I131) -> 0 | J132: =COUNTA(J123:J131) -> 0 | K132: =COUNTIF(K123:K131, "x") -> 0 | L132: =COUNTIF(L123:L131, "x") -> 0 | M132: =COUNTIF(M123:M131, "x") -> 0 | N132: =COUNTIF(N123:N131, "x") -> 0 | O132: =COUNTIF(O123:O131, "x") -> 0 | P132: =COUNTIF(P123:P131, "x") -> 0 | Q132: =COUNTIF(Q123:Q131, "x") -> 0 | R132: =COUNTIF(R123:R131, "x") -> 0 | ... Y132: =COUNTIF(Y123:Y131, "x") -> 0 | Z132: =COUNTA(Z122:Z131) -> 0 | AA132: =COUNTIF(AA123:AA131, "x") -> 0 | AB132: =COUNTIF(AB123:AB131, "x") -> 0 | AC132: =COUNTIF(AC123:AC131, "x") -> 0 | AD132: =COUNTIF(AD123:AD131, "x") -> 0 | AE132: =COUNTIF(AE123:AE131, "x") -> 0 | AF132: =COUNTA(AF123:AF131) -> 0
A143: =COUNTA(A134:A142) -> 0 | B143: TOTAL NOV | F143: =SUM(F133:F142) -> 0 | G143: =SUM(G133:G142) -> 0 | H143: =SUM(H133:H142) -> 0 | I143: =COUNTA(I134:I142) -> 0 | J143: =COUNTA(J134:J142) -> 0 | K143: =COUNTIF(K134:K142, "x") -> 0 | L143: =COUNTIF(L134:L142, "x") -> 0 | M143: =COUNTIF(M134:M142, "x") -> 0 | N143: =COUNTIF(N134:N142, "x") -> 0 | O143: =COUNTIF(O134:O142, "x") -> 0 | P143: =COUNTIF(P134:P142, "x") -> 0 | Q143: =COUNTIF(Q134:Q142, "x") -> 0 | R143: =COUNTIF(R134:R142, "x") -> 0 | ... Y143: =COUNTIF(Y134:Y142, "x") -> 0 | Z143: =COUNTA(Z133:Z142) -> 0 | AA143: =COUNTIF(AA134:AA142, "x") -> 0 | AB143: =COUNTIF(AB134:AB142, "x") -> 0 | AC143: =COUNTIF(AC134:AC142, "x") -> 0 | AD143: =COUNTIF(AD134:AD142, "x") -> 0 | AE143: =COUNTIF(AE134:AE142, "x") -> 0 | AF143: =COUNTA(AF134:AF142) -> 0
A154: =COUNTA(A145:A153) -> 0 | B154: TOTAL DEC | F154: =SUM(F144:F153) -> 0 | G154: =SUM(G144:G153) -> 0 | H154: =SUM(H144:H153) -> 0 | I154: =COUNTA(I145:I153) -> 0 | J154: =COUNTA(J145:J153) -> 0 | K154: =COUNTIF(K145:K153, "x") -> 0 | L154: =COUNTIF(L145:L153, "x") -> 0 | M154: =COUNTIF(M145:M153, "x") -> 0 | N154: =COUNTIF(N145:N153, "x") -> 0 | O154: =COUNTIF(O145:O153, "x") -> 0 | P154: =COUNTIF(P145:P153, "x") -> 0 | Q154: =COUNTIF(Q145:Q153, "x") -> 0 | R154: =COUNTIF(R145:R153, "x") -> 0 | ... Y154: =COUNTIF(Y145:Y153, "x") -> 0 | Z154: =COUNTA(Z144:Z153) -> 0 | AA154: =COUNTIF(AA145:AA153, "x") -> 0 | AB154: =COUNTIF(AB145:AB153, "x") -> 0 | AC154: =COUNTIF(AC145:AC153, "x") -> 0 | AD154: =COUNTIF(AD145:AD153, "x") -> 0 | AE154: =COUNTIF(AE145:AE153, "x") -> 0 | AF154: =COUNTA(AF145:AF153) -> 0
A157: =SUM(A132+A143+A154) -> 0 | B157: Total 4e trim | E157: =COUNTA(E156:E156) -> 0 | F157: =SUM(F132+F143+F154) -> 0 | G157: =SUM(G132+G143+G154) -> 0 | H157: =SUM(H132+H143+H154) -> 0 | I157: =SUM(I132+I143+I154) -> 0 | J157: =SUM(J132+J143+J154) -> 0 | K157: =SUM(K132+K143+K154) -> 0 | L157: =SUM(L132+L143+L154) -> 0 | M157: =SUM(M132+M143+M154) -> 0 | ... AF157: =SUM(AF132+AF143+AF154) -> 0 | AG157: =COUNTA(AG84:AG156) -> 1
A160: =SUM(A157+A117+A78+A39) -> 9 | B160: ANNUEL | E160: =SUM(E157+E117+E78+E39) -> 0 | F160: =SUM(F157+F117+F78+F39) -> 20 | G160: =SUM(G157+G117+G78+G39) -> 12 | H160: =SUM(H157+H117+H78+H39) -> 1 | I160: =SUM(I157+I117+I78+I39) -> 1 | J160: =SUM(J157+J117+J78+J39) -> 8 | K160: =SUM(K157+K117+K78+K39) -> 8 | L160: =SUM(L157+L117+L78+L39) -> 9 | ... AF160: =SUM(AF157+AF117+AF78+AF39) -> 5
B162: mot de passe : test
B168: 2015
A169: 42006 | B169: 3 | C169: anonyme
A170: 42108 | B170: 17 | C170: anonyme
A171: 42103 | B171: 16 | C171: anonyme
A172: 42109 | B172: 18 | C172: anonyme
A173: 42135 | B173: 21 | C173: anonyme
A174: 42214 | B174: 33 | C174: anonyme
...

Sheet Accompagnement
E1: Accès aux droits | G1: Informations | I1: Orientations diverses | AI1: Entretiens partenaires | BG1: Signalement/Inf. Préoccupante | BI1: Accomp Psy | BK1: Accompagnements Physiques Accès au droit
A2: N° Entrée | B2: Nom | C2: Nombre d'entretiens victimes | D2: Nombre d'entretiens partenaires | E2: Info Procedures pénales | F2: Info dt civil sur situation | G2: Mecanisme des violences | H2: Aide à la decision | I2: Avocat | J2: Gendarmerie | K2: Commissariat | L2: ISG | M2: ISC | N2: ATAV | O2: LéA | P2: Maison du Lux | Q2: CDIFF | R2: Hebergement | S2: Bailleur | T2: Disp. Prof. | U2: CAF | V2: CMS | W2: CCAS | X2: TGI | Y2: tribunal d'instance | Z2: UDAF | AA2: Consulat | AB2: UMJ | AC2: Pref & Sous | AD2: Temoin | AE2: Médecin | AF2: Travailleuses fam | AG2: ADIL | AH2: Assurances | AI2: Centre Medical Social | AJ2: Avocat | AK2: Commissariat | AL2: Gendarmerie | AM2: ATAV | AN2: ISG | AO2: ISC | AP2: Bureau d'ordre | AQ2: Bureau AJ | AR2: Travailleurs Sociaux | AS2: U.M.J | AT2: Médecin2 | AU2: Psy Gîte | AV2: Psy ext | AW2: LéA | AX2: Struc. Acceuil | AY2: Bailleur public / privé | AZ2: CAF | BA2: JAP | BB2: Tribunal d'instance2 | BC2: CDIFF | BD2: CDIP | BE2: Mairie | BF2: Divers2 | BG2: CMS | BH2: CDIP2 | BI2: Dispositif Gîte | BJ2: Dispositif ext | BK2: Droits sciaux | BL2: Justice | BM2: Dépôt plainte/main courante/PVRJ | BN2: Aide à la redaction | BO2: Autre | BP2: Relogement provisoire | BQ2: Relogement stable | BR2: Maintien logement | BS2: Retour dom. | BT2: Abandon démarches | BU2: Aide matérielle | BV2: Perte contact | BW2: Commentaires | BX2: Colonne1 | BY2: Suivi terminé le | BZ2: Abandon des démarches par la victime | CA2: Nb de JOURS | CB2: Nb de Mois
E3: (X) | F3: (X) | G3: (X) | H3: (X) | I3: NB | J3: NB | K3: NB | L3: NB | M3: NB | N3: NB | O3: NB | P3: NB | Q3: NB | R3: NB | S3: NB | T3: NB | U3: NB | V3: NB | W3: NB | X3: NB | Y3: NB | Z3: NB | AA3: NB | AB3: NB | AC3: NB | AD3: NB | AE3: NB | AF3: NB | AG3: NB | AH3: NB | AI3: NB | AJ3: NB | AK3: NB | AL3: NB | AM3: NB | AN3: NB | AO3: NB | AP3: NB | AQ3: NB | AR3: NB | AS3: NB | AT3: NB | AU3: NB | AV3: NB | AW3: NB | AX3: NB | AY3: NB | AZ3: NB | BA3: NB | BB3: NB | BC3: NB | BD3: NB | BE3: NB | BF3: NB | BG3: (X) | BH3: (X) | BI3: (X) | BJ3: (X) | BK3: NB | BL3: NB | BM3: NB | BN3: NB | BO3: NB | BP3: (X) | BQ3: (X) | BR3: (X) | BS3: (X) | BT3: (X) | BU3: (X) | BV3: (X)
A4: =Informations_personnelles!B4 -> 1 | B4: =Informations_personnelles!C4 -> anonyme | C4: 5 | U4: 1 | AI4: 3 | AJ4: 3 | AR4: 4 | BK4: 1 | BL4: 1 | BN4: 2 | BO4: 1 | BQ4: x | CA4: =IF(ISBLANK(AL4),"",IF(AND(ISBLANK(BY4),ISBLANK(BZ4)),TODAY()-AL4,IF(ISBLANK(BY4),BZ4-AL4,BY4-AL4))) | CB4: =IFERROR(ROUND(CA4/30.5,1),"")
A5: =Informations_personnelles!B5 -> 2 | B5: =Informations_personnelles!C5 -> anonyme | C5: 5 | E5: x | F5: x | G5: x | H5: x | AF5: 1 | AI5: 2 | AJ5: 1 | AT5: 2 | BM5: 1 | CA5: =IF(ISBLANK(AL5),"",IF(AND(ISBLANK(BY5),ISBLANK(BZ5)),TODAY()-AL5,IF(ISBLANK(BY5),BZ5-AL5,BY5-AL5))) | CB5: =IFERROR(ROUND(CA5/30.5,1),"")
A6: =Informations_personnelles!B6 -> 3 | B6: =Informations_personnelles!C6 -> anonyme | C6: 12 | E6: x | F6: x | G6: x | H6: x | Q6: 1 | U6: 3 | AG6: 1 | AJ6: 2 | AY6: 4 | BK6: 1 | BL6: 1 | BO6: 1 | CA6: =IF(ISBLANK(AL6),"",IF(AND(ISBLANK(BY6),ISBLANK(BZ6)),TODAY()-AL6,IF(ISBLANK(BY6),BZ6-AL6,BY6-AL6))) | CB6: =IFERROR(ROUND(CA6/30.5,1),"")
A7: =Informations_personnelles!B7 -> 4 | B7: =Informations_personnelles!C7 -> anonyme | C7: 11 | E7: x | F7: x | G7: x | L7: 1 | AE7: 1 | AI7: 3 | AJ7: 4 | AL7: 1 | AN7: 7 | BK7: 1 | BL7: 1 | BR7: x | CA7: =IF(ISBLANK(AL7),"",IF(AND(ISBLANK(BY7),ISBLANK(BZ7)),TODAY()-AL7,IF(ISBLANK(BY7),BZ7-AL7,BY7-AL7))) -> 42431 | CB7: =IFERROR(ROUND(CA7/30.5,1),"") -> 1391.2
A8: =Informations_personnelles!B8 -> 5 | B8: =Informations_personnelles!C8 -> anonyme | C8: 9 | E8: x | F8: x | G8: x | H8: x | U8: 1 | AE8: 1 | AJ8: 1 | BL8: 1 | BM8: 1 | BN8: 2 | BP8: x | BW8: chez ses parents | CA8: =IF(ISBLANK(AL8),"",IF(AND(ISBLANK(BY8),ISBLANK(BZ8)),TODAY()-AL8,IF(ISBLANK(BY8),BZ8-AL8,BY8-AL8))) | CB8: =IFERROR(ROUND(CA8/30.5,1),"")
A9: =Informations_personnelles!B9 -> 6 | B9: =Informations_personnelles!C9 -> anonyme | C9: 10 | E9: x | F9: x | G9: x | I9: 1 | J9: 1 | P9: 1 | U9: 1 | AI9: 1 | AJ9: 2 | AL9: 1 | AQ9: 1 | AY9: 7 | AZ9: 1 | BN9: 1 | CA9: =IF(ISBLANK(AL9),"",IF(AND(ISBLANK(BY9),ISBLANK(BZ9)),TODAY()-AL9,IF(ISBLANK(BY9),BZ9-AL9,BY9-AL9))) -> 42431 | CB9: =IFERROR(ROUND(CA9/30.5,1),"") -> 1391.2
A10: =Informations_personnelles!B10 -> 7 | B10: =Informations_personnelles!C10 -> anonyme | C10: 3 | E10: x | F10: x | G10: x | I10: 1 | AD10: 3 | AJ10: 1 | AR10: 1 | AY10: 1 | BL10: 1 | BP10: x | BW10: hotel social | CA10: =IF(ISBLANK(AL10),"",IF(AND(ISBLANK(BY10),ISBLANK(BZ10)),TODAY()-AL10,IF(ISBLANK(BY10),BZ10-AL10,BY10-AL10))) | CB10: =IFERROR(ROUND(CA10/30.5,1),"")
A11: =Informations_personnelles!B11 -> 8 | B11: AMINE Naïma | C11: 5 | E11: x | F11: x | G11: x | AN11: 3 | BC11: 1 | BN11: 1 | BP11: x | BW11: chez ses parents | CA11: =IF(ISBLANK(AL11),"",IF(AND(ISBLANK(BY11),ISBLANK(BZ11)),TODAY()-AL11,IF(ISBLANK(BY11),BZ11-AL11,BY11-AL11))) | CB11: =IFERROR(ROUND(CA11/30.5,1),"")
A12: =Informations_personnelles!B12 -> 0 | B12: =Informations_personnelles!C12 -> 0 | CA12: =IF(ISBLANK(AL12),"",IF(AND(ISBLANK(BY12),ISBLANK(BZ12)),TODAY()-AL12,IF(ISBLANK(BY12),BZ12-AL12,BY12-AL12))) | CB12: =IFERROR(ROUND(CA12/30.5,1),"")
A13: =Informations_personnelles!B13 -> 0 | B13: =Informations_personnelles!C13 -> 0 | CA13: =IF(ISBLANK(AL13),"",IF(AND(ISBLANK(BY13),ISBLANK(BZ13)),TODAY()-AL13,IF(ISBLANK(BY13),BZ13-AL13,BY13-AL13))) | CB13: =IFERROR(ROUND(CA13/30.5,1),"")
C14: =SUM(C4:C13) -> 60 | D14: =SUM(D4:D13) -> 0 | E14: =COUNTIF(E4:E13, "x") -> 7 | F14: =COUNTIF(F4:F13, "x") -> 7 | G14: =COUNTIF(G4:G13, "x") -> 7 | H14: =COUNTIF(H4:H13, "x") -> 3 | I14: =SUM(I4:I13) -> 2 | J14: =SUM(J4:J13) -> 1 | K14: =SUM(K4:K13) -> 0 | L14: =SUM(L4:L13) -> 1 | M14: =SUM(M4:M13) -> 0 | N14: =SUM(N4:N13) -> 0 | O14: =SUM(O4:O13) -> 0 | P14: =SUM(P4:P13) -> 1 | ... BF14: =SUM(BF4:BF13) -> 0 | BG14: =COUNTIF(BG4:BG13, "x") -> 0 | BH14: =COUNTIF(BH4:BH13, "x") -> 0 | BI14: =COUNTIF(BI4:BI13, "x") -> 0 | BJ14: =COUNTIF(BJ4:BJ13, "x") -> 0 | BK14: =SUM(BK4:BK10) -> 3 | BL14: =SUM(BL4:BL10) -> 5 | BM14: =SUM(BM4:BM10) -> 2 | BN14: =SUM(BN4:BN10) -> 5 | BO14: =SUM(BO4:BO10) -> 2 | BP14: =COUNTIF(BP4:BP13, "x") -> 3 | BQ14: =COUNTIF(BQ4:BQ13, "x") -> 1 | BR14: =COUNTIF(BR4:BR13, "x") -> 1 | BS14: =COUNTIF(BS4:BS13, "x") -> 0 | BT14: =COUNTIF(BT4:BT13, "x") -> 0 | BU14: =COUNTIF(BU4:BU13, "x") -> 0 | BV14: =COUNTIF(BV4:BV13, "x") -> 0 | CA14: =AVERAGE(CA4:CA13) -> 42431 | CB14: =AVERAGE(CB4:CB13) -> 1391.2
A15: =Informations_personnelles!B15 -> 9 | B15: =Informations_personnelles!C15 -> anonyme | C15: 2 | E15: x | F15: x | G15: x | R15: 1 | CA15: =IF(ISBLANK(AL15),"",IF(AND(ISBLANK(BY15),ISBLANK(BZ15)),TODAY()-AL15,IF(ISBLANK(BY15),BZ15-AL15,BY15-AL15))) | CB15: =IFERROR(ROUND(CA15/30.5,1),"")
A16: =Informations_personnelles!B16 -> 0 | B16: =Informations_personnelles!C16 -> 0 | CA16: =IF(ISBLANK(AL16),"",IF(AND(ISBLANK(BY16),ISBLANK(BZ16)),TODAY()-AL16,IF(ISBLANK(BY16),BZ16-AL16,BY16-AL16))) | CB16: =IFERROR(ROUND(CA16/30.5,1),"")
A17: =Informations_personnelles!B17 | B17: =Informations_personnelles!C17 -> 0 | CA17: =IF(ISBLANK(AL17),"",IF(AND(ISBLANK(BY17),ISBLANK(BZ17)),TODAY()-AL17,IF(ISBLANK(BY17),BZ17-AL17,BY17-AL17))) | CB17: =IFERROR(ROUND(CA17/30.5,1),"")
A18: =Informations_personnelles!B18 | B18: =Informations_personnelles!C18 -> 0 | CA18: =IF(ISBLANK(AL18),"",IF(AND(ISBLANK(BY18),ISBLANK(BZ18)),TODAY()-AL18,IF(ISBLANK(BY18),BZ18-AL18,BY18-AL18))) | CB18: =IFERROR(ROUND(CA18/30.5,1),"")
A19: =Informations_personnelles!B19 | B19: =Informations_personnelles!C19 -> 0 | CA19: =IF(ISBLANK(AL19),"",IF(AND(ISBLANK(BY19),ISBLANK(BZ19)),TODAY()-AL19,IF(ISBLANK(BY19),BZ19-AL19,BY19-AL19))) | CB19: =IFERROR(ROUND(CA19/30.5,1),"")
A20: =Informations_personnelles!B20 | B20: =Informations_personnelles!C20 -> 0 | CA20: =IF(ISBLANK(AL20),"",IF(AND(ISBLANK(BY20),ISBLANK(BZ20)),TODAY()-AL20,IF(ISBLANK(BY20),BZ20-AL20,BY20-AL20))) | CB20: =IFERROR(ROUND(CA20/30.5,1),"")
A21: =Informations_personnelles!B21 | B21: =Informations_personnelles!C21 -> 0 | CA21: =IF(ISBLANK(AL21),"",IF(AND(ISBLANK(BY21),ISBLANK(BZ21)),TODAY()-AL21,IF(ISBLANK(BY21),BZ21-AL21,BY21-AL21))) | CB21: =IFERROR(ROUND(CA21/30.5,1),"")
A22: =Informations_personnelles!B22 | B22: =Informations_personnelles!C22 -> 0 | CA22: =IF(ISBLANK(AL22),"",IF(AND(ISBLANK(BY22),ISBLANK(BZ22)),TODAY()-AL22,IF(ISBLANK(BY22),BZ22-AL22,BY22-AL22))) | CB22: =IFERROR(ROUND(CA22/30.5,1),"")
A23: =Informations_personnelles!B23 | B23: =Informations_personnelles!C23 -> 0 | CA23: =IF(ISBLANK(AL23),"",IF(AND(ISBLANK(BY23),ISBLANK(BZ23)),TODAY()-AL23,IF(ISBLANK(BY23),BZ23-AL23,BY23-AL23))) | CB23: =IFERROR(ROUND(CA23/30.5,1),"")
A24: =Informations_personnelles!B24 | B24: =Informations_personnelles!C24 -> 0 | CA24: =IF(ISBLANK(AL24),"",IF(AND(ISBLANK(BY24),ISBLANK(BZ24)),TODAY()-AL24,IF(ISBLANK(BY24),BZ24-AL24,BY24-AL24))) | CB24: =IFERROR(ROUND(CA24/30.5,1),"")
C25: =SUM(C15:C24) -> 2 | D25: =SUM(D15:D24) -> 0 | E25: =COUNTIF(E15:E24, "x") -> 1 | F25: =COUNTIF(F15:F24, "x") -> 1 | G25: =COUNTIF(G15:G24, "x") -> 1 | H25: =COUNTIF(H15:H24, "x") -> 0 | I25: =SUM(I15:I21) -> 0 | J25: =SUM(J15:J21) -> 0 | K25: =SUM(K15:K21) -> 0 | L25: =SUM(L15:L21) -> 0 | M25: =SUM(M15:M21) -> 0 | N25: =SUM(N15:N21) -> 0 | O25: =SUM(O15:O21) -> 0 | P25: =SUM(P15:P21) -> 0 | ... BF25: =SUM(BF15:BF21) -> 0 | BG25: =COUNTIF(BG15:BG24, "x") -> 0 | BH25: =COUNTIF(BH15:BH24, "x") -> 0 | BI25: =COUNTIF(BI15:BI24, "x") -> 0 | BJ25: =COUNTIF(BJ15:BJ24, "x") -> 0 | BK25: =SUM(BK15:BK21) -> 0 | BL25: =SUM(BL15:BL21) -> 0 | BM25: =SUM(BM15:BM21) -> 0 | BN25: =SUM(BN15:BN21) -> 0 | BO25: =SUM(BO15:BO21) -> 0 | BP25: =COUNTIF(BP15:BP24, "x") -> 0 | BQ25: =COUNTIF(BQ15:BQ24, "x") -> 0 | BR25: =COUNTIF(BR15:BR24, "x") -> 0 | BS25: =COUNTIF(BS15:BS24, "x") -> 0 | BT25: =COUNTIF(BT15:BT24, "x") -> 0 | BU25: =COUNTIF(BU15:BU24, "x") -> 0 | BV25: =COUNTIF(BV15:BV24, "x") -> 0 | CA25: =IF(SUM(CA15:CA24)=0," ",AVERAGE(CA15:CA24)) | CB25: =IF(SUM(CB15:CB24)=0," ",AVERAGE(CB15:CB24))
A26: =Informations_personnelles!B26 | B26: =Informations_personnelles!C26 -> 0 | CA26: =IF(ISBLANK(AL26),"",IF(AND(ISBLANK(BY26),ISBLANK(BZ26)),TODAY()-AL26,IF(ISBLANK(BY26),BZ26-AL26,BY26-AL26))) | CB26: =IFERROR(ROUND(CA26/30.5,1),"")
A27: =Informations_personnelles!B27 | B27: =Informations_personnelles!C27 -> 0 | CA27: =IF(ISBLANK(AL27),"",IF(AND(ISBLANK(BY27),ISBLANK(BZ27)),TODAY()-AL27,IF(ISBLANK(BY27),BZ27-AL27,BY27-AL27))) | CB27: =IFERROR(ROUND(CA27/30.5,1),"")
A28: =Informations_personnelles!B28 | B28: =Informations_personnelles!C28 -> 0 | CA28: =IF(ISBLANK(AL28),"",IF(AND(ISBLANK(BY28),ISBLANK(BZ28)),TODAY()-AL28,IF(ISBLANK(BY28),BZ28-AL28,BY28-AL28))) | CB28: =IFERROR(ROUND(CA28/30.5,1),"")
A29: =Informations_personnelles!B29 | B29: =Informations_personnelles!C29 -> 0 | CA29: =IF(ISBLANK(AL29),"",IF(AND(ISBLANK(BY29),ISBLANK(BZ29)),TODAY()-AL29,IF(ISBLANK(BY29),BZ29-AL29,BY29-AL29))) | CB29: =IFERROR(ROUND(CA29/30.5,1),"")
A30: =Informations_personnelles!B30 | B30: =Informations_personnelles!C30 -> 0 | CA30: =IF(ISBLANK(AL30),"",IF(AND(ISBLANK(BY30),ISBLANK(BZ30)),TODAY()-AL30,IF(ISBLANK(BY30),BZ30-AL30,BY30-AL30))) | CB30: =IFERROR(ROUND(CA30/30.5,1),"")
A31: =Informations_personnelles!B31 | B31: =Informations_personnelles!C31 -> 0 | CA31: =IF(ISBLANK(AL31),"",IF(AND(ISBLANK(BY31),ISBLANK(BZ31)),TODAY()-AL31,IF(ISBLANK(BY31),BZ31-AL31,BY31-AL31))) | CB31: =IFERROR(ROUND(CA31/30.5,1),"")
A32: =Informations_personnelles!B32 | B32: =Informations_personnelles!C32 -> 0 | CA32: =IF(ISBLANK(AL32),"",IF(AND(ISBLANK(BY32),ISBLANK(BZ32)),TODAY()-AL32,IF(ISBLANK(BY32),BZ32-AL32,BY32-AL32))) | CB32: =IFERROR(ROUND(CA32/30.5,1),"")
A33: =Informations_personnelles!B33 -> 0 | B33: =Informations_personnelles!C33 -> 0 | CA33: =IF(ISBLANK(AL33),"",IF(AND(ISBLANK(BY33),ISBLANK(BZ33)),TODAY()-AL33,IF(ISBLANK(BY33),BZ33-AL33,BY33-AL33))) | CB33: =IFERROR(ROUND(CA33/30.5,1),"")
A34: =Informations_personnelles!B34 -> 0 | B34: =Informations_personnelles!C34 -> 0 | CA34: =IF(ISBLANK(AL34),"",IF(AND(ISBLANK(BY34),ISBLANK(BZ34)),TODAY()-AL34,IF(ISBLANK(BY34),BZ34-AL34,BY34-AL34))) | CB34: =IFERROR(ROUND(CA34/30.5,1),"")
A35: =Informations_personnelles!B35 | B35: =Informations_personnelles!C35 -> 0 | CA35: =IF(ISBLANK(AL35),"",IF(AND(ISBLANK(BY35),ISBLANK(BZ35)),TODAY()-AL35,IF(ISBLANK(BY35),BZ35-AL35,BY35-AL35))) | CB35: =IFERROR(ROUND(CA35/30.5,1),"")
B36: TOTAL MARS | C36: =SUM(C26:C35) -> 0 | D36: =SUM(D26:D35) -> 0 | E36: =COUNTIF(E26:E35, "x") -> 0 | F36: =COUNTIF(F26:F35, "x") -> 0 | G36: =COUNTIF(G26:G35, "x") -> 0 | H36: =COUNTIF(H26:H35, "x") -> 0 | I36: =SUM(I26:I32) -> 0 | J36: =SUM(J26:J32) -> 0 | K36: =SUM(K26:K32) -> 0 | L36: =SUM(L26:L32) -> 0 | M36: =SUM(M26:M32) -> 0 | N36: =SUM(N26:N32) -> 0 | O36: =SUM(O26:O32) -> 0 | P36: =SUM(P26:P32) -> 0 | ... AM36: =SUM(AM26:AM32) -> 0 | AR36: =SUM(AR26:AR32) -> 0 | AS36: =SUM(AS26:AS32) -> 0 | AT36: =SUM(AT26:AT32) -> 0 | AU36: =SUM(AU26:AU32) -> 0 | AV36: =SUM(AV26:AV32) -> 0 | AW36: =SUM(AW26:AW32) -> 0 | AX36: =SUM(AX26:AX32) -> 0 | AY36: =SUM(AY26:AY32) -> 0 | ... BF36: =SUM(BF26:BF32) -> 0 | BG36: =COUNTIF(BG26:BG35, "x") -> 0 | BH36: =COUNTIF(BH26:BH35, "x") -> 0 | BI36: =COUNTIF(BI26:BI35, "x") -> 0 | BJ36: =COUNTIF(BJ26:BJ35, "x") -> 0 | BK36: =SUM(BK26:BK32) -> 0 | BL36: =SUM(BL26:BL32) -> 0 | BM36: =SUM(BM26:BM32) -> 0 | BN36: =SUM(BN26:BN32) -> 0 | BO36: =SUM(BO26:BO32) -> 0 | BP36: =COUNTIF(BP26:BP35, "x") -> 0 | BQ36: =COUNTIF(BQ26:BQ35, "x") -> 0 | BR36: =COUNTIF(BR26:BR35, "x") -> 0 | BS36: =COUNTIF(BS26:BS35, "x") -> 0 | BT36: =COUNTIF(BT26:BT35, "x") -> 0 | BU36: =COUNTIF(BU26:BU35, "x") -> 0 | BV36: =COUNTIF(BV26:BV35, "x") -> 0 | CA36: =IF(SUM(CA26:CA35)=0," ",AVERAGE(CA26:CA35)) | CB36: =IF(SUM(CB26:CB35)=0," ",AVERAGE(CB26:CB35))
A37: =Informations_personnelles!B37 | B37: =Informations_personnelles!C37 -> 0 | CA37: =IF(ISBLANK(AL37),"",IF(AND(ISBLANK(BY37),ISBLANK(BZ37)),TODAY()-AL37,IF(ISBLANK(BY37),BZ37-AL37,BY37-AL37))) | CB37: =IFERROR(ROUND(CA37/30.5,1),"")
A38: =Informations_personnelles!B37 | B38: =Informations_personnelles!C37 -> 0 | CA38: =IF(ISBLANK(AL38),"",IF(AND(ISBLANK(BY38),ISBLANK(BZ38)),TODAY()-AL38,IF(ISBLANK(BY38),BZ38-AL38,BY38-AL38))) | CB38: =IFERROR(ROUND(CA38/30.5,1),"")
A39: =Informations_personnelles!B38 -> 0 | B39: =Informations_personnelles!C39 -> 0 | BY39: =COUNTA(BY3:BY35) -> 0 | BZ39: =COUNTA(BZ3:BZ38) -> 0 | CA39: =AVERAGE(CA36,CA25,CA14) -> 42431 | CB39: =AVERAGE(CB36,CB25,CB14) -> 1391.2
A40: Total: voir onglet information perso | C40: =SUM(C36,C25+C14) -> 62 | D40: =SUM(D36,D25+D14) -> 0 | E40: =SUM(E36,E25+E14) -> 8 | F40: =SUM(F36,F25+F14) -> 8 | G40: =SUM(G36,G25+G14) -> 8 | H40: =SUM(H36,H25+H14) -> 3 | I40: =SUM(I36,I25+I14) -> 2 | J40: =SUM(J36,J25+J14) -> 1 | ... BV40: =SUM(BV36,BV25+BV14) -> 0
...

Sheet Feuil1
