Workbook

Sheet Feuil1
A1: Semaine | B1: MOIS | C1: Service | D1: SECTION | E1: NOM Prénom | F1: Agence | G1: Catégorie | H1: NC/AVT | I1: Motif | J1: Titulaire absent | K1: Durée contrat | L1: Date début de mission | M1: +24H/+48H | N1: Date fin de mission | O1: Durée semaine | P1: Poste | Q1: Horaires | R1: Lundi | S1: Mardi | T1: Mercredi | U1: Jeudi | V1: Vendredi | W1: Samedi | X1: Dimanche | Y1: TOTAL HEURES | Z1: Coeff Temporaire | AA1: TP/ RT PART | AB1: Coeff Titulaire | AC1: DEL/GES | AD1: TAUX HORAIRE | AE1: Heures normales | AF1: 125 | AG1: 150 | AH1: 200 | AI1: Heures Repos Compensateur | AJ1: Heures Feux Continus | AK1: Prime Habillage | AL1: Prime Consignes | AM1: Prime Salissures | AN1: Prime Containers | AO1: Panier Jour | AP1: Panier Nuit | AQ1: Calcul Pr Nuit Lundi | AR1: Calcul Pr Nuit Mardi | AS1: Calcul Pr Nuit Mercredi | AT1: Calcul Pr Nuit Jeudi | AU1: Calcul Pr Nuit Vendredi | AV1: Calcul Pr Nuit Samedi | AW1: Calcul Pr Nuit Dimanche | AX1: Prime Nuit | AY1: Calcul Pr Vacs Lundi | AZ1: Calcul Pr Vacs Mardi | BA1: Calcul Pr Vacs Mercredi | BB1: Calcul Pr Vacs Jeudi | BC1: Calcul Pr Vacs Vendredi | BD1: Calcul Pr Vacs Samedi | BE1: Calcul Pr Vacs Dimanche | BF1: Calcul Heures Prime Vacs | BG1: Facturation Heures normales | BH1: Heure majorée 25% | BI1: Facturation Heures 125 | BJ1: Heure majorée 50% | BK1: Facturation Heures 150 | BL1: Prime vacances | BM1: Fact Prime Vacances | BN1: Prime 13ème mois | BO1: Fact Prime 13ème Mois | BP1: Panier Jour | BQ1: Fact Panier Jour | BR1: Panier nuit exonéré | BS1: Fact Panier Nuit Exonéré | BT1: Panier nuit non exonéré | BU1: Fact Panier Nuit Non Exonéré | BV1: Prime de nuit | BW1: Fact Prime de Nuit | BX1: Prime habillage | BY1: Fact Prime Habillage | BZ1: Prime relève | CA1: Fact Prime relève/ Consigne | CB1: Prime compensation | CC1: Fact Prime Compensation | CD1: Prime transport | CE1: Fact Prime Transport | CF1: Prime container | CG1: Fact Prime Container | CH1: Prime salissure | CI1: Fact Prime Salissure | CJ1: Prime Dimanche | CK1: Facturation Prime Dimanche | CL1: Facturation Repos Compensateur | CM1: Facturation Prime Feux Continus | CN1: Facturation Heures 200 | CO1: TOTAL FACTURATION | CP1: COMMENTAIRES
A2: 1 | B2: JANVIER | C2: =IF(ISBLANK($E2),"","Emballage") -> Emballage | D2: =IF(ISBLANK($E2),"",401220) -> 401220 | E2: CYRIL | F2: ADE | G2: OUV | H2: NC | I2: MALADIE | K2: 3 | L2: 42375 | N2: 42377 | O2: =COUNT(R2:X2) -> 3 | P2: =IF($Q2="5h-13h","AM",IF($Q2="13h-21h","PM",IF($Q2="8h-16h","JC",IF($Q2="21h-5h","N","")))) -> AM | Q2: 5h-13h | T2: 8 | U2: 8 | V2: 8 | Y2: =SUM($R2:$X2) -> 24 | Z2: 175 | AA2: TP RT PART | AB2: 205 | AC2: GES | AD2: =SUMIFS([1]Données!$F$2:$F$2000,[1]Données!$A$2:$A$2000,$Z2,[1]Données!$B$2:$B$2000,$F2,[1]Données!$C$2:$C$2000,$AD$1,[1]Données!$G$2:$G$2000,$AC2) -> 19.8511 | AE2: =IF(SUM(R2:X2)>=35,35,SUM(R2:X2)) -> 24 | AF2: =IF(SUM(R2:X2)>35,IF(SUM(R2:X2)<43,SUM(R2:X2)-35,8),0) -> 0 | AG2: =IF(SUM(R2:X2)>43,SUM(R2:X2)-43,0) -> 0 | AJ2: =$X2/2 -> 0 | AK2: =$O2*6 -> 18 | AL2: =$O2*5 -> 15 | AO2: =IF($P2="N",0,$O2) -> 3 | AP2: =IF($P2="N",$O2,0) -> 0 | AQ2: =IF(AND($P2="AM",R2>=8),1,0) -> 0 | AR2: =IF(AND($P2="AM",S2>=8),1,0) -> 0 | AS2: =IF(AND($P2="AM",T2>=8),1,0) -> 1 | AT2: =IF(AND($P2="AM",U2>=8),1,0) -> 1 | AU2: =IF(AND($P2="AM",V2>=8),1,0) -> 1 | AV2: =IF(AND($P2="AM",W2>=8),1,0) -> 0 | AW2: =IF(AND($P2="AM",X2>=8),1,0) -> 0 | AX2: =IF($P2="N",SUM(R2:X2),IF($P2="AM",SUM(AQ2:AW2),0)) -> 3 | AY2: =IF($F2="ADE",(IF(R2>7,7,R2)),R2) -> 0 | AZ2: =IF($F2="ADE",(IF(S2>7,7,S2)),S2) -> 0 | BA2: =IF($F2="ADE",(IF(T2>7,7,T2)),T2) -> 7 | BB2: =IF($F2="ADE",(IF(U2>7,7,U2)),U2) -> 7 | BC2: =IF($F2="ADE",(IF(V2>7,7,V2)),V2) -> 7 | BD2: =IF($F2="ADE",(IF(W2>7,7,W2)),W2) -> 0 | BE2: =IF($F2="ADE",(IF(X2>7,7,X2)),X2) -> 0 | BF2: =IF(AY2+AZ2+BA2+BB2+BC2+BD2+BE2>35,35,AY2+AZ2+BA2+BB2+BC2+BD2+BE2) -> 21 | CO2: =$BG2+$BI2+$BK2+$BM2+$BO2+$BQ2+$BS2+$BU2+$BY2+$CA2+$CC2+$CE2+$CG2+$CI2+$CK2+$CL2+$CM2+$CN2 -> 0
C3: =IF(ISBLANK($E3),"","Emballage") | D3: =IF(ISBLANK($E3),"",401220) | O3: =COUNT(R3:X3) -> 0 | P3: =IF($Q3="5h-13h","AM",IF($Q3="13h-21h","PM",IF($Q3="8h-16h","JC",IF($Q3="21h-5h","N","")))) | Y3: =SUM($R3:$X3) -> 0 | AD3: =SUMIFS([1]Données!$F$2:$F$2000,[1]Données!$A$2:$A$2000,$Z3,[1]Données!$B$2:$B$2000,$F3,[1]Données!$C$2:$C$2000,$AD$1,[1]Données!$G$2:$G$2000,$AC3) -> 0 | AE3: =IF(SUM(R3:X3)>=35,35,SUM(R3:X3)) -> 0 | AF3: =IF(SUM(R3:X3)>35,IF(SUM(R3:X3)<43,SUM(R3:X3)-35,8),0) -> 0 | AG3: =IF(SUM(R3:X3)>43,SUM(R3:X3)-43,0) -> 0 | AJ3: =$X3/2 -> 0 | AK3: =$O3*6 -> 0 | AL3: =$O3*5 -> 0 | AO3: =IF($P3="N",0,$O3) -> 0 | AP3: =IF($P3="N",$O3,0) -> 0 | AQ3: =IF(AND($P3="AM",R3>=8),1,0) -> 0 | AR3: =IF(AND($P3="AM",S3>=8),1,0) -> 0 | AS3: =IF(AND($P3="AM",T3>=8),1,0) -> 0 | AT3: =IF(AND($P3="AM",U3>=8),1,0) -> 0 | AU3: =IF(AND($P3="AM",V3>=8),1,0) -> 0 | AV3: =IF(AND($P3="AM",W3>=8),1,0) -> 0 | AW3: =IF(AND($P3="AM",X3>=8),1,0) -> 0 | AX3: =IF($P3="N",SUM(R3:X3),IF($P3="AM",SUM(AQ3:AW3),0)) -> 0 | AY3: =IF($F3="ADE",(IF(R3>7,7,R3)),R3) -> 0 | AZ3: =IF($F3="ADE",(IF(S3>7,7,S3)),S3) -> 0 | BA3: =IF($F3="ADE",(IF(T3>7,7,T3)),T3) -> 0 | BB3: =IF($F3="ADE",(IF(U3>7,7,U3)),U3) -> 0 | BC3: =IF($F3="ADE",(IF(V3>7,7,V3)),V3) -> 0 | BD3: =IF($F3="ADE",(IF(W3>7,7,W3)),W3) -> 0 | BE3: =IF($F3="ADE",(IF(X3>7,7,X3)),X3) -> 0 | BF3: =IF(AY3+AZ3+BA3+BB3+BC3+BD3+BE3>35,35,AY3+AZ3+BA3+BB3+BC3+BD3+BE3) -> 0 | CO3: =$BG3+$BI3+$BK3+$BM3+$BO3+$BQ3+$BS3+$BU3+$BY3+$CA3+$CC3+$CE3+$CG3+$CI3+$CK3+$CL3+$CM3+$CN3 -> 0
A4: 2 | B4: JANVIER | C4: =IF(ISBLANK($E4),"","Emballage") -> Emballage | D4: =IF(ISBLANK($E4),"",401220) -> 401220 | E4: JACQUES | F4: ADE | G4: OUV | H4: NC | I4: RCY/RTT | K4: 1 | L4: 42384 | N4: 42384 | O4: =COUNT(R4:X4) -> 1 | P4: =IF($Q4="5h-13h","AM",IF($Q4="13h-21h","PM",IF($Q4="8h-16h","JC",IF($Q4="21h-5h","N","")))) -> N | Q4: 21h-5h | V4: 5 | Y4: =SUM($R4:$X4) -> 5 | Z4: 175 | AA4: TP RT PART | AB4: 250 | AC4: GES | AD4: =SUMIFS([1]Données!$F$2:$F$2000,[1]Données!$A$2:$A$2000,$Z4,[1]Données!$B$2:$B$2000,$F4,[1]Données!$C$2:$C$2000,$AD$1,[1]Données!$G$2:$G$2000,$AC4) -> 19.8511 | AE4: =IF(SUM(R4:X4)>=35,35,SUM(R4:X4)) -> 5 | AF4: =IF(SUM(R4:X4)>35,IF(SUM(R4:X4)<43,SUM(R4:X4)-35,8),0) -> 0 | AG4: =IF(SUM(R4:X4)>43,SUM(R4:X4)-43,0) -> 0 | AJ4: =$X4/2 -> 0 | AK4: =$O4*6 -> 6 | AL4: =$O4*5 -> 5 | AO4: =IF($P4="N",0,$O4) -> 0 | AP4: =IF($P4="N",$O4,0) -> 1 | AQ4: =IF(AND($P4="AM",R4>=8),1,0) -> 0 | AR4: =IF(AND($P4="AM",S4>=8),1,0) -> 0 | AS4: =IF(AND($P4="AM",T4>=8),1,0) -> 0 | AT4: =IF(AND($P4="AM",U4>=8),1,0) -> 0 | AU4: =IF(AND($P4="AM",V4>=8),1,0) -> 0 | AV4: =IF(AND($P4="AM",W4>=8),1,0) -> 0 | AW4: =IF(AND($P4="AM",X4>=8),1,0) -> 0 | AX4: =IF($P4="N",SUM(R4:X4),IF($P4="AM",SUM(AQ4:AW4),0)) -> 5 | AY4: =IF($F4="ADE",(IF(R4>7,7,R4)),R4) -> 0 | AZ4: =IF($F4="ADE",(IF(S4>7,7,S4)),S4) -> 0 | BA4: =IF($F4="ADE",(IF(T4>7,7,T4)),T4) -> 0 | BB4: =IF($F4="ADE",(IF(U4>7,7,U4)),U4) -> 0 | BC4: =IF($F4="ADE",(IF(V4>7,7,V4)),V4) -> 5 | BD4: =IF($F4="ADE",(IF(W4>7,7,W4)),W4) -> 0 | BE4: =IF($F4="ADE",(IF(X4>7,7,X4)),X4) -> 0 | BF4: =IF(AY4+AZ4+BA4+BB4+BC4+BD4+BE4>35,35,AY4+AZ4+BA4+BB4+BC4+BD4+BE4) -> 5 | CO4: =$BG4+$BI4+$BK4+$BM4+$BO4+$BQ4+$BS4+$BU4+$BY4+$CA4+$CC4+$CE4+$CG4+$CI4+$CK4+$CL4+$CM4+$CN4 -> 0
A5: 2 | B5: JANVIER | C5: =IF(ISBLANK($E5),"","Emballage") -> Emballage | D5: =IF(ISBLANK($E5),"",401220) -> 401220 | E5: FRANCIS | F5: ADE | G5: OUV | H5: NC | I5: RCY/RTT | K5: 1 | L5: 42387 | N5: 42387 | O5: =COUNT(R5:X5) -> 0 | P5: =IF($Q5="5h-13h","AM",IF($Q5="13h-21h","PM",IF($Q5="8h-16h","JC",IF($Q5="21h-5h","N","")))) -> PM | Q5: 13h-21h | Y5: =SUM($R5:$X5) -> 0 | Z5: 175 | AA5: TP RT PART | AB5: 190 | AC5: GES | AD5: =SUMIFS([1]Données!$F$2:$F$2000,[1]Données!$A$2:$A$2000,$Z5,[1]Données!$B$2:$B$2000,$F5,[1]Données!$C$2:$C$2000,$AD$1,[1]Données!$G$2:$G$2000,$AC5) -> 19.8511 | AE5: =IF(SUM(R5:X5)>=35,35,SUM(R5:X5)) -> 0 | AF5: =IF(SUM(R5:X5)>35,IF(SUM(R5:X5)<43,SUM(R5:X5)-35,8),0) -> 0 | AG5: =IF(SUM(R5:X5)>43,SUM(R5:X5)-43,0) -> 0 | AJ5: =$X5/2 -> 0 | AK5: =$O5*6 -> 0 | AL5: =$O5*5 -> 0 | AO5: =IF($P5="N",0,$O5) -> 0 | AP5: =IF($P5="N",$O5,0) -> 0 | AQ5: =IF(AND($P5="AM",R5>=8),1,0) -> 0 | AR5: =IF(AND($P5="AM",S5>=8),1,0) -> 0 | AS5: =IF(AND($P5="AM",T5>=8),1,0) -> 0 | AT5: =IF(AND($P5="AM",U5>=8),1,0) -> 0 | AU5: =IF(AND($P5="AM",V5>=8),1,0) -> 0 | AV5: =IF(AND($P5="AM",W5>=8),1,0) -> 0 | AW5: =IF(AND($P5="AM",X5>=8),1,0) -> 0 | AX5: =IF($P5="N",SUM(R5:X5),IF($P5="AM",SUM(AQ5:AW5),0)) -> 0 | AY5: =IF($F5="ADE",(IF(R5>7,7,R5)),R5) -> 0 | AZ5: =IF($F5="ADE",(IF(S5>7,7,S5)),S5) -> 0 | BA5: =IF($F5="ADE",(IF(T5>7,7,T5)),T5) -> 0 | BB5: =IF($F5="ADE",(IF(U5>7,7,U5)),U5) -> 0 | BC5: =IF($F5="ADE",(IF(V5>7,7,V5)),V5) -> 0 | BD5: =IF($F5="ADE",(IF(W5>7,7,W5)),W5) -> 0 | BE5: =IF($F5="ADE",(IF(X5>7,7,X5)),X5) -> 0 | BF5: =IF(AY5+AZ5+BA5+BB5+BC5+BD5+BE5>35,35,AY5+AZ5+BA5+BB5+BC5+BD5+BE5) -> 0 | CO5: =$BG5+$BI5+$BK5+$BM5+$BO5+$BQ5+$BS5+$BU5+$BY5+$CA5+$CC5+$CE5+$CG5+$CI5+$CK5+$CL5+$CM5+$CN5 -> 0
C6: =IF(ISBLANK($E6),"","Emballage") | D6: =IF(ISBLANK($E6),"",401220) | O6: =COUNT(R6:X6) -> 0 | P6: =IF($Q6="5h-13h","AM",IF($Q6="13h-21h","PM",IF($Q6="8h-16h","JC",IF($Q6="21h-5h","N","")))) | Y6: =SUM($R6:$X6) -> 0 | AD6: =SUMIFS([1]Données!$F$2:$F$2000,[1]Données!$A$2:$A$2000,$Z6,[1]Données!$B$2:$B$2000,$F6,[1]Données!$C$2:$C$2000,$AD$1,[1]Données!$G$2:$G$2000,$AC6) -> 0 | AE6: =IF(SUM(R6:X6)>=35,35,SUM(R6:X6)) -> 0 | AF6: =IF(SUM(R6:X6)>35,IF(SUM(R6:X6)<43,SUM(R6:X6)-35,8),0) -> 0 | AG6: =IF(SUM(R6:X6)>43,SUM(R6:X6)-43,0) -> 0 | AJ6: =$X6/2 -> 0 | AK6: =$O6*6 -> 0 | AL6: =$O6*5 -> 0 | AO6: =IF($P6="N",0,$O6) -> 0 | AP6: =IF($P6="N",$O6,0) -> 0 | AQ6: =IF(AND($P6="AM",R6>=8),1,0) -> 0 | AR6: =IF(AND($P6="AM",S6>=8),1,0) -> 0 | AS6: =IF(AND($P6="AM",T6>=8),1,0) -> 0 | AT6: =IF(AND($P6="AM",U6>=8),1,0) -> 0 | AU6: =IF(AND($P6="AM",V6>=8),1,0) -> 0 | AV6: =IF(AND($P6="AM",W6>=8),1,0) -> 0 | AW6: =IF(AND($P6="AM",X6>=8),1,0) -> 0 | AX6: =IF($P6="N",SUM(R6:X6),IF($P6="AM",SUM(AQ6:AW6),0)) -> 0 | AY6: =IF($F6="ADE",(IF(R6>7,7,R6)),R6) -> 0 | AZ6: =IF($F6="ADE",(IF(S6>7,7,S6)),S6) -> 0 | BA6: =IF($F6="ADE",(IF(T6>7,7,T6)),T6) -> 0 | BB6: =IF($F6="ADE",(IF(U6>7,7,U6)),U6) -> 0 | BC6: =IF($F6="ADE",(IF(V6>7,7,V6)),V6) -> 0 | BD6: =IF($F6="ADE",(IF(W6>7,7,W6)),W6) -> 0 | BE6: =IF($F6="ADE",(IF(X6>7,7,X6)),X6) -> 0 | BF6: =IF(AY6+AZ6+BA6+BB6+BC6+BD6+BE6>35,35,AY6+AZ6+BA6+BB6+BC6+BD6+BE6) -> 0 | CO6: =$BG6+$BI6+$BK6+$BM6+$BO6+$BQ6+$BS6+$BU6+$BY6+$CA6+$CC6+$CE6+$CG6+$CI6+$CK6+$CL6+$CM6+$CN6 -> 0
A7: 3 | B7: JANVIER | C7: =IF(ISBLANK($E7),"","Emballage") -> Emballage | D7: =IF(ISBLANK($E7),"",401220) -> 401220 | E7: PAUL | F7: ADE | G7: OUV | H7: NC | I7: RCY/RTT | K7: 1 | L7: 42387 | N7: 42387 | O7: =COUNT(R7:X7) -> 1 | P7: =IF($Q7="5h-13h","AM",IF($Q7="13h-21h","PM",IF($Q7="8h-16h","JC",IF($Q7="21h-5h","N","")))) -> AM | Q7: 5h-13h | R7: 6 | Y7: =SUM($R7:$X7) -> 6 | Z7: 175 | AA7: TP RT PART | AB7: 190 | AC7: GES | AD7: =SUMIFS([1]Données!$F$2:$F$2000,[1]Données!$A$2:$A$2000,$Z7,[1]Données!$B$2:$B$2000,$F7,[1]Données!$C$2:$C$2000,$AD$1,[1]Données!$G$2:$G$2000,$AC7) -> 19.8511 | AE7: =IF(SUM(R7:X7)>=35,35,SUM(R7:X7)) -> 6 | AF7: =IF(SUM(R7:X7)>35,IF(SUM(R7:X7)<43,SUM(R7:X7)-35,8),0) -> 0 | AG7: =IF(SUM(R7:X7)>43,SUM(R7:X7)-43,0) -> 0 | AJ7: =$X7/2 -> 0 | AK7: =$O7*6 -> 6 | AL7: =$O7*5 -> 5 | AO7: =IF($P7="N",0,$O7) -> 1 | AP7: =IF($P7="N",$O7,0) -> 0 | AQ7: =IF(AND($P7="AM",R7>=8),1,0) -> 0 | AR7: =IF(AND($P7="AM",S7>=8),1,0) -> 0 | AS7: =IF(AND($P7="AM",T7>=8),1,0) -> 0 | AT7: =IF(AND($P7="AM",U7>=8),1,0) -> 0 | AU7: =IF(AND($P7="AM",V7>=8),1,0) -> 0 | AV7: =IF(AND($P7="AM",W7>=8),1,0) -> 0 | AW7: =IF(AND($P7="AM",X7>=8),1,0) -> 0 | AX7: =IF($P7="N",SUM(R7:X7),IF($P7="AM",SUM(AQ7:AW7),0)) -> 0 | AY7: =IF($F7="ADE",(IF(R7>7,7,R7)),R7) -> 6 | AZ7: =IF($F7="ADE",(IF(S7>7,7,S7)),S7) -> 0 | BA7: =IF($F7="ADE",(IF(T7>7,7,T7)),T7) -> 0 | BB7: =IF($F7="ADE",(IF(U7>7,7,U7)),U7) -> 0 | BC7: =IF($F7="ADE",(IF(V7>7,7,V7)),V7) -> 0 | BD7: =IF($F7="ADE",(IF(W7>7,7,W7)),W7) -> 0 | BE7: =IF($F7="ADE",(IF(X7>7,7,X7)),X7) -> 0 | BF7: =IF(AY7+AZ7+BA7+BB7+BC7+BD7+BE7>35,35,AY7+AZ7+BA7+BB7+BC7+BD7+BE7) -> 6 | CO7: =$BG7+$BI7+$BK7+$BM7+$BO7+$BQ7+$BS7+$BU7+$BY7+$CA7+$CC7+$CE7+$CG7+$CI7+$CK7+$CL7+$CM7+$CN7 -> 0
A8: 3 | B8: JANVIER | C8: =IF(ISBLANK($E8),"","Emballage") -> Emballage | D8: =IF(ISBLANK($E8),"",401220) -> 401220 | E8: PIERRE | F8: ADE | G8: OUV | H8: NC | I8: RC/RH | K8: 1 | L8: 42391 | N8: 42391 | O8: =COUNT(R8:X8) -> 2 | P8: =IF($Q8="5h-13h","AM",IF($Q8="13h-21h","PM",IF($Q8="8h-16h","JC",IF($Q8="21h-5h","N","")))) -> AM | Q8: 5h-13h | U8: 8 | V8: 8 | Y8: =SUM($R8:$X8) -> 16 | Z8: 175 | AA8: TP RT PART | AB8: 250 | AC8: GES | AD8: =SUMIFS([1]Données!$F$2:$F$2000,[1]Données!$A$2:$A$2000,$Z8,[1]Données!$B$2:$B$2000,$F8,[1]Données!$C$2:$C$2000,$AD$1,[1]Données!$G$2:$G$2000,$AC8) -> 19.8511 | AE8: =IF(SUM(R8:X8)>=35,35,SUM(R8:X8)) -> 16 | AF8: =IF(SUM(R8:X8)>35,IF(SUM(R8:X8)<43,SUM(R8:X8)-35,8),0) -> 0 | AG8: =IF(SUM(R8:X8)>43,SUM(R8:X8)-43,0) -> 0 | AJ8: =$X8/2 -> 0 | AK8: =$O8*6 -> 12 | AL8: =$O8*5 -> 10 | AO8: =IF($P8="N",0,$O8) -> 2 | AP8: =IF($P8="N",$O8,0) -> 0 | AQ8: =IF(AND($P8="AM",R8>=8),1,0) -> 0 | AR8: =IF(AND($P8="AM",S8>=8),1,0) -> 0 | AS8: =IF(AND($P8="AM",T8>=8),1,0) -> 0 | AT8: =IF(AND($P8="AM",U8>=8),1,0) -> 1 | AU8: =IF(AND($P8="AM",V8>=8),1,0) -> 1 | AV8: =IF(AND($P8="AM",W8>=8),1,0) -> 0 | AW8: =IF(AND($P8="AM",X8>=8),1,0) -> 0 | AX8: =IF($P8="N",SUM(R8:X8),IF($P8="AM",SUM(AQ8:AW8),0)) -> 2 | AY8: =IF($F8="ADE",(IF(R8>7,7,R8)),R8) -> 0 | AZ8: =IF($F8="ADE",(IF(S8>7,7,S8)),S8) -> 0 | BA8: =IF($F8="ADE",(IF(T8>7,7,T8)),T8) -> 0 | BB8: =IF($F8="ADE",(IF(U8>7,7,U8)),U8) -> 7 | BC8: =IF($F8="ADE",(IF(V8>7,7,V8)),V8) -> 7 | BD8: =IF($F8="ADE",(IF(W8>7,7,W8)),W8) -> 0 | BE8: =IF($F8="ADE",(IF(X8>7,7,X8)),X8) -> 0 | BF8: =IF(AY8+AZ8+BA8+BB8+BC8+BD8+BE8>35,35,AY8+AZ8+BA8+BB8+BC8+BD8+BE8) -> 14 | CO8: =$BG8+$BI8+$BK8+$BM8+$BO8+$BQ8+$BS8+$BU8+$BY8+$CA8+$CC8+$CE8+$CG8+$CI8+$CK8+$CL8+$CM8+$CN8 -> 0
C9: =IF(ISBLANK($E9),"","Emballage") | D9: =IF(ISBLANK($E9),"",401220) | O9: =COUNT(R9:X9) -> 0 | P9: =IF($Q9="5h-13h","AM",IF($Q9="13h-21h","PM",IF($Q9="8h-16h","JC",IF($Q9="21h-5h","N","")))) | Y9: =SUM($R9:$X9) -> 0 | AD9: =SUMIFS([1]Données!$F$2:$F$2000,[1]Données!$A$2:$A$2000,$Z9,[1]Données!$B$2:$B$2000,$F9,[1]Données!$C$2:$C$2000,$AD$1,[1]Données!$G$2:$G$2000,$AC9) -> 0 | AE9: =IF(SUM(R9:X9)>=35,35,SUM(R9:X9)) -> 0 | AF9: =IF(SUM(R9:X9)>35,IF(SUM(R9:X9)<43,SUM(R9:X9)-35,8),0) -> 0 | AG9: =IF(SUM(R9:X9)>43,SUM(R9:X9)-43,0) -> 0 | AJ9: =$X9/2 -> 0 | AK9: =$O9*6 -> 0 | AL9: =$O9*5 -> 0 | AO9: =IF($P9="N",0,$O9) -> 0 | AP9: =IF($P9="N",$O9,0) -> 0 | AQ9: =IF(AND($P9="AM",R9>=8),1,0) -> 0 | AR9: =IF(AND($P9="AM",S9>=8),1,0) -> 0 | AS9: =IF(AND($P9="AM",T9>=8),1,0) -> 0 | AT9: =IF(AND($P9="AM",U9>=8),1,0) -> 0 | AU9: =IF(AND($P9="AM",V9>=8),1,0) -> 0 | AV9: =IF(AND($P9="AM",W9>=8),1,0) -> 0 | AW9: =IF(AND($P9="AM",X9>=8),1,0) -> 0 | AX9: =IF($P9="N",SUM(R9:X9),IF($P9="AM",SUM(AQ9:AW9),0)) -> 0 | AY9: =IF($F9="ADE",(IF(R9>7,7,R9)),R9) -> 0 | AZ9: =IF($F9="ADE",(IF(S9>7,7,S9)),S9) -> 0 | BA9: =IF($F9="ADE",(IF(T9>7,7,T9)),T9) -> 0 | BB9: =IF($F9="ADE",(IF(U9>7,7,U9)),U9) -> 0 | BC9: =IF($F9="ADE",(IF(V9>7,7,V9)),V9) -> 0 | BD9: =IF($F9="ADE",(IF(W9>7,7,W9)),W9) -> 0 | BE9: =IF($F9="ADE",(IF(X9>7,7,X9)),X9) -> 0 | BF9: =IF(AY9+AZ9+BA9+BB9+BC9+BD9+BE9>35,35,AY9+AZ9+BA9+BB9+BC9+BD9+BE9) -> 0 | CO9: =$BG9+$BI9+$BK9+$BM9+$BO9+$BQ9+$BS9+$BU9+$BY9+$CA9+$CC9+$CE9+$CG9+$CI9+$CK9+$CL9+$CM9+$CN9 -> 0
A10: 4 | B10: JANVIER | C10: =IF(ISBLANK($E10),"","Emballage") -> Emballage | D10: =IF(ISBLANK($E10),"",401220) -> 401220 | E10: OLIVIER | F10: ADE | G10: OUV | H10: NC | I10: CP | K10: 5 | L10: 42394 | N10: 42398 | O10: =COUNT(R10:X10) -> 0 | P10: =IF($Q10="5h-13h","AM",IF($Q10="13h-21h","PM",IF($Q10="8h-16h","JC",IF($Q10="21h-5h","N","")))) -> AM | Q10: 5h-13h | Y10: =SUM($R10:$X10) -> 0 | Z10: 175 | AA10: TP RT PART | AB10: 205 | AC10: GES | AD10: =SUMIFS([1]Données!$F$2:$F$2000,[1]Données!$A$2:$A$2000,$Z11,[1]Données!$B$2:$B$2000,$F10,[1]Données!$C$2:$C$2000,$AD$1,[1]Données!$G$2:$G$2000,$AC10) -> 19.8511 | AE10: =IF(SUM(R10:X10)>=35,35,SUM(R10:X10)) -> 0 | AF10: =IF(SUM(R10:X10)>35,IF(SUM(R10:X10)<43,SUM(R10:X10)-35,8),0) -> 0 | AG10: =IF(SUM(R10:X10)>43,SUM(R10:X10)-43,0) -> 0 | AJ10: =$X10/2 -> 0 | AK10: =$O10*6 -> 0 | AL10: =$O10*5 -> 0 | AO10: =IF($P10="N",0,$O10) -> 0 | AP10: =IF($P10="N",$O10,0) -> 0 | AQ10: =IF(AND($P10="AM",R10>=8),1,0) -> 0 | AR10: =IF(AND($P10="AM",S10>=8),1,0) -> 0 | AS10: =IF(AND($P10="AM",T10>=8),1,0) -> 0 | AT10: =IF(AND($P10="AM",U10>=8),1,0) -> 0 | AU10: =IF(AND($P10="AM",V10>=8),1,0) -> 0 | AV10: =IF(AND($P10="AM",W10>=8),1,0) -> 0 | AW10: =IF(AND($P10="AM",X10>=8),1,0) -> 0 | AX10: =IF($P10="N",SUM(R10:X10),IF($P10="AM",SUM(AQ10:AW10),0)) -> 0 | AY10: =IF($F10="ADE",(IF(R10>7,7,R10)),R10) -> 0 | AZ10: =IF($F10="ADE",(IF(S10>7,7,S10)),S10) -> 0 | BA10: =IF($F10="ADE",(IF(T10>7,7,T10)),T10) -> 0 | BB10: =IF($F10="ADE",(IF(U10>7,7,U10)),U10) -> 0 | BC10: =IF($F10="ADE",(IF(V10>7,7,V10)),V10) -> 0 | BD10: =IF($F10="ADE",(IF(W10>7,7,W10)),W10) -> 0 | BE10: =IF($F10="ADE",(IF(X10>7,7,X10)),X10) -> 0 | BF10: =IF(AY10+AZ10+BA10+BB10+BC10+BD10+BE10>35,35,AY10+AZ10+BA10+BB10+BC10+BD10+BE10) -> 0 | CO10: =$BG10+$BI10+$BK10+$BM10+$BO10+$BQ10+$BS10+$BU10+$BY10+$CA10+$CC10+$CE10+$CG10+$CI10+$CK10+$CL10+$CM10+$CN10 -> 0
A11: 4 | B11: JANVIER | C11: =IF(ISBLANK($E11),"","Emballage") -> Emballage | D11: =IF(ISBLANK($E11),"",401220) -> 401220 | E11: FRANCIS | F11: ADE | G11: OUV | H11: NC | I11: MALADIE | K11: 1 | L11: 42398 | N11: 42398 | O11: =COUNT(R11:X11) -> 0 | P11: =IF($Q11="5h-13h","AM",IF($Q11="13h-21h","PM",IF($Q11="8h-16h","JC",IF($Q11="21h-5h","N","")))) -> PM | Q11: 13h-21h | Y11: =SUM($R11:$X11) -> 0 | Z11: 175 | AA11: TP RT PART | AB11: 190 | AC11: GES | AD11: =SUMIFS([1]Données!$F$2:$F$2000,[1]Données!$A$2:$A$2000,#REF!,[1]Données!$B$2:$B$2000,$F11,[1]Données!$C$2:$C$2000,$AD$1,[1]Données!$G$2:$G$2000,$AC11) -> 0 | AE11: =IF(SUM(R11:X11)>=35,35,SUM(R11:X11)) -> 0 | AF11: =IF(SUM(R11:X11)>35,IF(SUM(R11:X11)<43,SUM(R11:X11)-35,8),0) -> 0 | AG11: =IF(SUM(R11:X11)>43,SUM(R11:X11)-43,0) -> 0 | AJ11: =$X11/2 -> 0 | AK11: =$O11*6 -> 0 | AL11: =$O11*5 -> 0 | AO11: =IF($P11="N",0,$O11) -> 0 | AP11: =IF($P11="N",$O11,0) -> 0 | AQ11: =IF(AND($P11="AM",R11>=8),1,0) -> 0 | AR11: =IF(AND($P11="AM",S11>=8),1,0) -> 0 | AS11: =IF(AND($P11="AM",T11>=8),1,0) -> 0 | AT11: =IF(AND($P11="AM",U11>=8),1,0) -> 0 | AU11: =IF(AND($P11="AM",V11>=8),1,0) -> 0 | AV11: =IF(AND($P11="AM",W11>=8),1,0) -> 0 | AW11: =IF(AND($P11="AM",X11>=8),1,0) -> 0 | AX11: =IF($P11="N",SUM(R11:X11),IF($P11="AM",SUM(AQ11:AW11),0)) -> 0 | AY11: =IF($F11="ADE",(IF(R11>7,7,R11)),R11) -> 0 | AZ11: =IF($F11="ADE",(IF(S11>7,7,S11)),S11) -> 0 | BA11: =IF($F11="ADE",(IF(T11>7,7,T11)),T11) -> 0 | BB11: =IF($F11="ADE",(IF(U11>7,7,U11)),U11) -> 0 | BC11: =IF($F11="ADE",(IF(V11>7,7,V11)),V11) -> 0 | BD11: =IF($F11="ADE",(IF(W11>7,7,W11)),W11) -> 0 | BE11: =IF($F11="ADE",(IF(X11>7,7,X11)),X11) -> 0 | BF11: =IF(AY11+AZ11+BA11+BB11+BC11+BD11+BE11>35,35,AY11+AZ11+BA11+BB11+BC11+BD11+BE11) -> 0 | CO11: =$BG11+$BI11+$BK11+$BM11+$BO11+$BQ11+$BS11+$BU11+$BY11+$CA11+$CC11+$CE11+$CG11+$CI11+$CK11+$CL11+$CM11+$CN11 -> 0
C12: =IF(ISBLANK($E12),"","Emballage") | D12: =IF(ISBLANK($E12),"",401220) | O12: =COUNT(R12:X12) -> 0 | P12: =IF($Q12="5h-13h","AM",IF($Q12="13h-21h","PM",IF($Q12="8h-16h","JC",IF($Q12="21h-5h","N","")))) | Y12: =SUM($R12:$X12) -> 0 | AD12: =SUMIFS([1]Données!$F$2:$F$2000,[1]Données!$A$2:$A$2000,$Z12,[1]Données!$B$2:$B$2000,$F12,[1]Données!$C$2:$C$2000,$AD$1,[1]Données!$G$2:$G$2000,$AC12) -> 0 | AE12: =IF(SUM(R12:X12)>=35,35,SUM(R12:X12)) -> 0 | AF12: =IF(SUM(R12:X12)>35,IF(SUM(R12:X12)<43,SUM(R12:X12)-35,8),0) -> 0 | AG12: =IF(SUM(R12:X12)>43,SUM(R12:X12)-43,0) -> 0 | AJ12: =$X12/2 -> 0 | AK12: =$O12*6 -> 0 | AL12: =$O12*5 -> 0 | AO12: =IF($P12="N",0,$O12) -> 0 | AP12: =IF($P12="N",$O12,0) -> 0 | AQ12: =IF(AND($P12="AM",R12>=8),1,0) -> 0 | AR12: =IF(AND($P12="AM",S12>=8),1,0) -> 0 | AS12: =IF(AND($P12="AM",T12>=8),1,0) -> 0 | AT12: =IF(AND($P12="AM",U12>=8),1,0) -> 0 | AU12: =IF(AND($P12="AM",V12>=8),1,0) -> 0 | AV12: =IF(AND($P12="AM",W12>=8),1,0) -> 0 | AW12: =IF(AND($P12="AM",X12>=8),1,0) -> 0 | AX12: =IF($P12="N",SUM(R12:X12),IF($P12="AM",SUM(AQ12:AW12),0)) -> 0 | AY12: =IF($F12="ADE",(IF(R12>7,7,R12)),R12) -> 0 | AZ12: =IF($F12="ADE",(IF(S12>7,7,S12)),S12) -> 0 | BA12: =IF($F12="ADE",(IF(T12>7,7,T12)),T12) -> 0 | BB12: =IF($F12="ADE",(IF(U12>7,7,U12)),U12) -> 0 | BC12: =IF($F12="ADE",(IF(V12>7,7,V12)),V12) -> 0 | BD12: =IF($F12="ADE",(IF(W12>7,7,W12)),W12) -> 0 | BE12: =IF($F12="ADE",(IF(X12>7,7,X12)),X12) -> 0 | BF12: =IF(AY12+AZ12+BA12+BB12+BC12+BD12+BE12>35,35,AY12+AZ12+BA12+BB12+BC12+BD12+BE12) -> 0 | CO12: =$BG12+$BI12+$BK12+$BM12+$BO12+$BQ12+$BS12+$BU12+$BY12+$CA12+$CC12+$CE12+$CG12+$CI12+$CK12+$CL12+$CM12+$CN12 -> 0
A13: 5 | B13: FEVRIER | C13: Emballage | D13: 401220 | E13: CYRIL | F13: ADE | G13: OUV | H13: NC | I13: MALADIE | K13: 3 | L13: 42375 | N13: 42377 | O13: 3 | P13: AM | Q13: 5h-13h | T13: 8 | U13: 8 | V13: 8 | Y13: 24 | Z13: 175 | AA13: TP RT PART | AB13: 205 | AC13: GES | AD13: 19.8511 | AE13: 24 | AF13: 0 | AG13: 0 | AJ13: 0 | AK13: 18 | AL13: 15 | AO13: 3 | AP13: 0 | AQ13: 0 | AR13: 0 | AS13: 1 | AT13: 1 | AU13: 1 | AV13: 0 | AW13: 0 | AX13: 3 | AY13: 0 | AZ13: 0 | BA13: 7 | BB13: 7 | BC13: 7 | BD13: 0 | BE13: 0 | BF13: 21 | CO13: 0
O14: 0 | Y14: 0 | AD14: 0 | AE14: 0 | AF14: 0 | AG14: 0 | AJ14: 0 | AK14: 0 | AL14: 0 | AO14: 0 | AP14: 0 | AQ14: 0 | AR14: 0 | AS14: 0 | AT14: 0 | AU14: 0 | AV14: 0 | AW14: 0 | AX14: 0 | AY14: 0 | AZ14: 0 | BA14: 0 | BB14: 0 | BC14: 0 | BD14: 0 | BE14: 0 | BF14: 0 | CO14: 0
A15: 6 | B15: FEVRIER | C15: Emballage | D15: 401220 | E15: JACQUES | F15: ADE | G15: OUV | H15: NC | I15: RCY/RTT | K15: 1 | L15: 42384 | N15: 42384 | O15: 1 | P15: N | Q15: 21h-5h | V15: 5 | Y15: 5 | Z15: 175 | AA15: TP RT PART | AB15: 250 | AC15: GES | AD15: 19.8511 | AE15: 5 | AF15: 0 | AG15: 0 | AJ15: 0 | AK15: 6 | AL15: 5 | AO15: 0 | AP15: 1 | AQ15: 0 | AR15: 0 | AS15: 0 | AT15: 0 | AU15: 0 | AV15: 0 | AW15: 0 | AX15: 5 | AY15: 0 | AZ15: 0 | BA15: 0 | BB15: 0 | BC15: 5 | BD15: 0 | BE15: 0 | BF15: 5 | CO15: 0
A16: 6 | B16: FEVRIER | C16: Emballage | D16: 401220 | E16: FRANCIS | F16: ADE | G16: OUV | H16: NC | I16: RCY/RTT | K16: 1 | L16: 42387 | N16: 42387 | O16: 0 | P16: PM | Q16: 13h-21h | Y16: 0 | Z16: 175 | AA16: TP RT PART | AB16: 190 | AC16: GES | AD16: 19.8511 | AE16: 0 | AF16: 0 | AG16: 0 | AJ16: 0 | AK16: 0 | AL16: 0 | AO16: 0 | AP16: 0 | AQ16: 0 | AR16: 0 | AS16: 0 | AT16: 0 | AU16: 0 | AV16: 0 | AW16: 0 | AX16: 0 | AY16: 0 | AZ16: 0 | BA16: 0 | BB16: 0 | BC16: 0 | BD16: 0 | BE16: 0 | BF16: 0 | CO16: 0
O17: 0 | Y17: 0 | AD17: 0 | AE17: 0 | AF17: 0 | AG17: 0 | AJ17: 0 | AK17: 0 | AL17: 0 | AO17: 0 | AP17: 0 | AQ17: 0 | AR17: 0 | AS17: 0 | AT17: 0 | AU17: 0 | AV17: 0 | AW17: 0 | AX17: 0 | AY17: 0 | AZ17: 0 | BA17: 0 | BB17: 0 | BC17: 0 | BD17: 0 | BE17: 0 | BF17: 0 | CO17: 0
A18: 11 | B18: MARS | C18: Emballage | D18: 401220 | E18: PAUL | F18: ADE | G18: OUV | H18: NC | I18: RCY/RTT | K18: 1 | L18: 42387 | N18: 42387 | O18: 1 | P18: AM | Q18: 5h-13h | R18: 6 | Y18: 6 | Z18: 175 | AA18: TP RT PART | AB18: 190 | AC18: GES | AD18: 19.8511 | AE18: 6 | AF18: 0 | AG18: 0 | AJ18: 0 | AK18: 6 | AL18: 5 | AO18: 1 | AP18: 0 | AQ18: 0 | AR18: 0 | AS18: 0 | AT18: 0 | AU18: 0 | AV18: 0 | AW18: 0 | AX18: 0 | AY18: 6 | AZ18: 0 | BA18: 0 | BB18: 0 | BC18: 0 | BD18: 0 | BE18: 0 | BF18: 6 | CO18: 0
A19: 11 | B19: MARS | C19: Emballage | D19: 401220 | E19: PIERRE | F19: ADE | G19: OUV | H19: NC | I19: RC/RH | K19: 1 | L19: 42391 | N19: 42391 | O19: 2 | P19: AM | Q19: 5h-13h | U19: 8 | V19: 8 | Y19: 16 | Z19: 175 | AA19: TP RT PART | AB19: 250 | AC19: GES | AD19: 19.8511 | AE19: 16 | AF19: 0 | AG19: 0 | AJ19: 0 | AK19: 12 | AL19: 10 | AO19: 2 | AP19: 0 | AQ19: 0 | AR19: 0 | AS19: 0 | AT19: 1 | AU19: 1 | AV19: 0 | AW19: 0 | AX19: 2 | AY19: 0 | AZ19: 0 | BA19: 0 | BB19: 7 | BC19: 7 | BD19: 0 | BE19: 0 | BF19: 14 | CO19: 0
O20: 0 | Y20: 0 | AD20: 0 | AE20: 0 | AF20: 0 | AG20: 0 | AJ20: 0 | AK20: 0 | AL20: 0 | AO20: 0 | AP20: 0 | AQ20: 0 | AR20: 0 | AS20: 0 | AT20: 0 | AU20: 0 | AV20: 0 | AW20: 0 | AX20: 0 | AY20: 0 | AZ20: 0 | BA20: 0 | BB20: 0 | BC20: 0 | BD20: 0 | BE20: 0 | BF20: 0 | CO20: 0
A21: 14 | B21: AVRIL | C21: Emballage | D21: 401220 | E21: OLIVIER | F21: ADE | G21: OUV | H21: NC | I21: CP | K21: 5 | L21: 42394 | N21: 42398 | O21: 0 | P21: AM | Q21: 5h-13h | Y21: 0 | Z21: 175 | AA21: TP RT PART | AB21: 205 | AC21: GES | AD21: 19.8511 | AE21: 0 | AF21: 0 | AG21: 0 | AJ21: 0 | AK21: 0 | AL21: 0 | AO21: 0 | AP21: 0 | AQ21: 0 | AR21: 0 | AS21: 0 | AT21: 0 | AU21: 0 | AV21: 0 | AW21: 0 | AX21: 0 | AY21: 0 | AZ21: 0 | BA21: 0 | BB21: 0 | BC21: 0 | BD21: 0 | BE21: 0 | BF21: 0 | CO21: 0
A22: 14 | B22: AVRIL | C22: Emballage | D22: 401220 | E22: FRANCIS | F22: ADE | G22: OUV | H22: NC | I22: MALADIE | K22: 1 | L22: 42398 | N22: 42398 | O22: 0 | P22: PM | Q22: 13h-21h | Y22: 0 | Z22: 175 | AA22: TP RT PART | AB22: 190 | AC22: GES | AD22: 0 | AE22: 0 | AF22: 0 | AG22: 0 | AJ22: 0 | AK22: 0 | AL22: 0 | AO22: 0 | AP22: 0 | AQ22: 0 | AR22: 0 | AS22: 0 | AT22: 0 | AU22: 0 | AV22: 0 | AW22: 0 | AX22: 0 | AY22: 0 | AZ22: 0 | BA22: 0 | BB22: 0 | BC22: 0 | BD22: 0 | BE22: 0 | BF22: 0 | CO22: 0
C23: =IF(ISBLANK($E23),"","Emballage") | D23: =IF(ISBLANK($E23),"",401220) | O23: =COUNT(R23:X23) -> 0 | P23: =IF($Q23="5h-13h","AM",IF($Q23="13h-21h","PM",IF($Q23="8h-16h","JC",IF($Q23="21h-5h","N","")))) | Y23: =SUM($R23:$X23) -> 0 | AD23: =SUMIFS([1]Données!$F$2:$F$2000,[1]Données!$A$2:$A$2000,$Z23,[1]Données!$B$2:$B$2000,$F23,[1]Données!$C$2:$C$2000,$AD$1,[1]Données!$G$2:$G$2000,$AC23) -> 0 | AE23: =IF(SUM(R23:X23)>=35,35,SUM(R23:X23)) -> 0 | AF23: =IF(SUM(R23:X23)>35,IF(SUM(R23:X23)<43,SUM(R23:X23)-35,8),0) -> 0 | AG23: =IF(SUM(R23:X23)>43,SUM(R23:X23)-43,0) -> 0 | AJ23: =$X23/2 -> 0 | AK23: =$O23*6 -> 0 | AL23: =$O23*5 -> 0 | AO23: =IF($P23="N",0,$O23) -> 0 | AP23: =IF($P23="N",$O23,0) -> 0 | AQ23: =IF(AND($P23="AM",R23>=8),1,0) -> 0 | AR23: =IF(AND($P23="AM",S23>=8),1,0) -> 0 | AS23: =IF(AND($P23="AM",T23>=8),1,0) -> 0 | AT23: =IF(AND($P23="AM",U23>=8),1,0) -> 0 | AU23: =IF(AND($P23="AM",V23>=8),1,0) -> 0 | AV23: =IF(AND($P23="AM",W23>=8),1,0) -> 0 | AW23: =IF(AND($P23="AM",X23>=8),1,0) -> 0 | AX23: =IF($P23="N",SUM(R23:X23),IF($P23="AM",SUM(AQ23:AW23),0)) -> 0 | AY23: =IF($F23="ADE",(IF(R23>7,7,R23)),R23) -> 0 | AZ23: =IF($F23="ADE",(IF(S23>7,7,S23)),S23) -> 0 | BA23: =IF($F23="ADE",(IF(T23>7,7,T23)),T23) -> 0 | BB23: =IF($F23="ADE",(IF(U23>7,7,U23)),U23) -> 0 | BC23: =IF($F23="ADE",(IF(V23>7,7,V23)),V23) -> 0 | BD23: =IF($F23="ADE",(IF(W23>7,7,W23)),W23) -> 0 | BE23: =IF($F23="ADE",(IF(X23>7,7,X23)),X23) -> 0 | BF23: =IF(AY23+AZ23+BA23+BB23+BC23+BD23+BE23>35,35,AY23+AZ23+BA23+BB23+BC23+BD23+BE23) -> 0 | CO23: =$BG23+$BI23+$BK23+$BM23+$BO23+$BQ23+$BS23+$BU23+$BY23+$CA23+$CC23+$CE23+$CG23+$CI23+$CK23+$CL23+$CM23+$CN23 -> 0
C24: =IF(ISBLANK($E24),"","Emballage") | D24: =IF(ISBLANK($E24),"",401220) | O24: =COUNT(R24:X24) -> 0 | P24: =IF($Q24="5h-13h","AM",IF($Q24="13h-21h","PM",IF($Q24="8h-16h","JC",IF($Q24="21h-5h","N","")))) | Y24: =SUM($R24:$X24) -> 0 | AD24: =SUMIFS([1]Données!$F$2:$F$2000,[1]Données!$A$2:$A$2000,$Z24,[1]Données!$B$2:$B$2000,$F24,[1]Données!$C$2:$C$2000,$AD$1,[1]Données!$G$2:$G$2000,$AC24) -> 0 | AE24: =IF(SUM(R24:X24)>=35,35,SUM(R24:X24)) -> 0 | AF24: =IF(SUM(R24:X24)>35,IF(SUM(R24:X24)<43,SUM(R24:X24)-35,8),0) -> 0 | AG24: =IF(SUM(R24:X24)>43,SUM(R24:X24)-43,0) -> 0 | AJ24: =$X24/2 -> 0 | AK24: =$O24*6 -> 0 | AL24: =$O24*5 -> 0 | AO24: =IF($P24="N",0,$O24) -> 0 | AP24: =IF($P24="N",$O24,0) -> 0 | AQ24: =IF(AND($P24="AM",R24>=8),1,0) -> 0 | AR24: =IF(AND($P24="AM",S24>=8),1,0) -> 0 | AS24: =IF(AND($P24="AM",T24>=8),1,0) -> 0 | AT24: =IF(AND($P24="AM",U24>=8),1,0) -> 0 | AU24: =IF(AND($P24="AM",V24>=8),1,0) -> 0 | AV24: =IF(AND($P24="AM",W24>=8),1,0) -> 0 | AW24: =IF(AND($P24="AM",X24>=8),1,0) -> 0 | AX24: =IF($P24="N",SUM(R24:X24),IF($P24="AM",SUM(AQ24:AW24),0)) -> 0 | AY24: =IF($F24="ADE",(IF(R24>7,7,R24)),R24) -> 0 | AZ24: =IF($F24="ADE",(IF(S24>7,7,S24)),S24) -> 0 | BA24: =IF($F24="ADE",(IF(T24>7,7,T24)),T24) -> 0 | BB24: =IF($F24="ADE",(IF(U24>7,7,U24)),U24) -> 0 | BC24: =IF($F24="ADE",(IF(V24>7,7,V24)),V24) -> 0 | BD24: =IF($F24="ADE",(IF(W24>7,7,W24)),W24) -> 0 | BE24: =IF($F24="ADE",(IF(X24>7,7,X24)),X24) -> 0 | BF24: =IF(AY24+AZ24+BA24+BB24+BC24+BD24+BE24>35,35,AY24+AZ24+BA24+BB24+BC24+BD24+BE24) -> 0 | CO24: =$BG24+$BI24+$BK24+$BM24+$BO24+$BQ24+$BS24+$BU24+$BY24+$CA24+$CC24+$CE24+$CG24+$CI24+$CK24+$CL24+$CM24+$CN24 -> 0
C25: =IF(ISBLANK($E25),"","Emballage") | D25: =IF(ISBLANK($E25),"",401220) | O25: =COUNT(R25:X25) -> 0 | P25: =IF($Q25="5h-13h","AM",IF($Q25="13h-21h","PM",IF($Q25="8h-16h","JC",IF($Q25="21h-5h","N","")))) | Y25: =SUM($R25:$X25) -> 0 | AD25: =SUMIFS([1]Données!$F$2:$F$2000,[1]Données!$A$2:$A$2000,$Z25,[1]Données!$B$2:$B$2000,$F25,[1]Données!$C$2:$C$2000,$AD$1,[1]Données!$G$2:$G$2000,$AC25) -> 0 | AE25: =IF(SUM(R25:X25)>=35,35,SUM(R25:X25)) -> 0 | AF25: =IF(SUM(R25:X25)>35,IF(SUM(R25:X25)<43,SUM(R25:X25)-35,8),0) -> 0 | AG25: =IF(SUM(R25:X25)>43,SUM(R25:X25)-43,0) -> 0 | AJ25: =$X25/2 -> 0 | AK25: =$O25*6 -> 0 | AL25: =$O25*5 -> 0 | AO25: =IF($P25="N",0,$O25) -> 0 | AP25: =IF($P25="N",$O25,0) -> 0 | AQ25: =IF(AND($P25="AM",R25>=8),1,0) -> 0 | AR25: =IF(AND($P25="AM",S25>=8),1,0) -> 0 | AS25: =IF(AND($P25="AM",T25>=8),1,0) -> 0 | AT25: =IF(AND($P25="AM",U25>=8),1,0) -> 0 | AU25: =IF(AND($P25="AM",V25>=8),1,0) -> 0 | AV25: =IF(AND($P25="AM",W25>=8),1,0) -> 0 | AW25: =IF(AND($P25="AM",X25>=8),1,0) -> 0 | AX25: =IF($P25="N",SUM(R25:X25),IF($P25="AM",SUM(AQ25:AW25),0)) -> 0 | AY25: =IF($F25="ADE",(IF(R25>7,7,R25)),R25) -> 0 | AZ25: =IF($F25="ADE",(IF(S25>7,7,S25)),S25) -> 0 | BA25: =IF($F25="ADE",(IF(T25>7,7,T25)),T25) -> 0 | BB25: =IF($F25="ADE",(IF(U25>7,7,U25)),U25) -> 0 | BC25: =IF($F25="ADE",(IF(V25>7,7,V25)),V25) -> 0 | BD25: =IF($F25="ADE",(IF(W25>7,7,W25)),W25) -> 0 | BE25: =IF($F25="ADE",(IF(X25>7,7,X25)),X25) -> 0 | BF25: =IF(AY25+AZ25+BA25+BB25+BC25+BD25+BE25>35,35,AY25+AZ25+BA25+BB25+BC25+BD25+BE25) -> 0 | CO25: =$BG25+$BI25+$BK25+$BM25+$BO25+$BQ25+$BS25+$BU25+$BY25+$CA25+$CC25+$CE25+$CG25+$CI25+$CK25+$CL25+$CM25+$CN25 -> 0
CL26: TOTAL SEMAINE: | CO26: =SUM(CO2:CO25) -> 0
