Workbook

Sheet export_societes
A1: Type de client | B1: Nom | C1: Email | D1: Téléphone | E1: Contacts | F1: ADRESSE PARTIE 1 | G1: CODE POSTAL | H1: VILLE | I1: CODE PAYS | J1: Note
A2: magasin de sport franchisé | B2: ad | D2: vvgzregrt | F2: 1 | G2: 2 | H2: 3 | I2: 4

Sheet export_opportunites
A1: Client / Prospect | B1: Etape
A2: ad | B2: 1er contact fait

Sheet groupage
A1: =export_societes!A1 -> Type de client | B1: =export_societes!B1 -> Nom | C1: =export_societes!C1 -> Email | D1: =export_societes!D1 -> Téléphone | E1: =export_societes!E1 -> Contacts | F1: =export_societes!F1 -> ADRESSE PARTIE 1 | G1: =export_societes!G1 -> CODE POSTAL | H1: =export_societes!H1 -> VILLE | I1: =export_societes!I1 -> CODE PAYS | J1: note | K1: statut | L1: hex
A2: =IFERROR(IF(export_societes!A2="","",export_societes!A2),"") -> magasin de sport franchisé | B2: =IFERROR(IF(export_societes!B2="","",export_societes!B2),"") -> ad | C2: =IFERROR(IF(export_societes!C2="","",export_societes!C2),"") | D2: =IFERROR(IF(export_societes!D2="","",export_societes!D2),"") -> vvgzregrt | E2: =IFERROR(IF(export_societes!E2="","",export_societes!E2),"") | F2: =IFERROR(IF(export_societes!F2="","",export_societes!F2),"") -> 1 | G2: =IFERROR(IF(export_societes!G2="","",export_societes!G2),"") -> 2 | H2: =IFERROR(IF(export_societes!H2="","",export_societes!H2),"") -> 3 | I2: =IFERROR(IF(export_societes!I2="","",IF(export_societes!I2="fr","France","")),"") | J2: =IFERROR(IF(export_societes!J2="","",export_societes!J2),"") | K2: =IFERROR(VLOOKUP(B2,export_opportunites!A2:B25,2),"") -> 1er contact fait | L2: =IFERROR(INDEX('statut couleur'!B1:D16,MATCH(groupage!K2,'statut couleur'!B:B,0),3),"") -> #0070C0
A3: =IFERROR(IF(export_societes!A3="","",export_societes!A3),"") | B3: =IFERROR(IF(export_societes!B3="","",export_societes!B3),"") | C3: =IFERROR(IF(export_societes!C3="","",export_societes!C3),"") | D3: =IFERROR(IF(export_societes!D3="","",export_societes!D3),"") | E3: =IFERROR(IF(export_societes!E3="","",export_societes!E3),"") | F3: =IFERROR(IF(export_societes!F3="","",export_societes!F3),"") | G3: =IFERROR(IF(export_societes!G3="","",export_societes!G3),"") | H3: =IFERROR(IF(export_societes!H3="","",export_societes!H3),"") | I3: =IFERROR(IF(export_societes!I3="","",IF(export_societes!I3="fr","France","")),"") | J3: =IFERROR(IF(export_societes!J3="","",export_societes!J3),"") | K3: =IFERROR(VLOOKUP(B3,export_opportunites!A3:B26,2),"") | L3: =IFERROR(INDEX('statut couleur'!B2:D17,MATCH(groupage!K3,'statut couleur'!B:B,0),3),"")
A4: =IFERROR(IF(export_societes!A4="","",export_societes!A4),"") | B4: =IFERROR(IF(export_societes!B4="","",export_societes!B4),"") | C4: =IFERROR(IF(export_societes!C4="","",export_societes!C4),"") | D4: =IFERROR(IF(export_societes!D4="","",export_societes!D4),"") | E4: =IFERROR(IF(export_societes!E4="","",export_societes!E4),"") | F4: =IFERROR(IF(export_societes!F4="","",export_societes!F4),"") | G4: =IFERROR(IF(export_societes!G4="","",export_societes!G4),"") | H4: =IFERROR(IF(export_societes!H4="","",export_societes!H4),"") | I4: =IFERROR(IF(export_societes!I4="","",IF(export_societes!I4="fr","France","")),"") | J4: =IFERROR(IF(export_societes!J4="","",export_societes!J4),"") | K4: =IFERROR(VLOOKUP(B4,export_opportunites!A4:B27,2),"") | L4: =IFERROR(INDEX('statut couleur'!B3:D18,MATCH(groupage!K4,'statut couleur'!B:B,0),3),"")
A5: =IFERROR(IF(export_societes!A5="","",export_societes!A5),"") | B5: =IFERROR(IF(export_societes!B5="","",export_societes!B5),"") | C5: =IFERROR(IF(export_societes!C5="","",export_societes!C5),"") | D5: =IFERROR(IF(export_societes!D5="","",export_societes!D5),"") | E5: =IFERROR(IF(export_societes!E5="","",export_societes!E5),"") | F5: =IFERROR(IF(export_societes!F5="","",export_societes!F5),"") | G5: =IFERROR(IF(export_societes!G5="","",export_societes!G5),"") | H5: =IFERROR(IF(export_societes!H5="","",export_societes!H5),"") | I5: =IFERROR(IF(export_societes!I5="","",IF(export_societes!I5="fr","France","")),"") | J5: =IFERROR(IF(export_societes!J5="","",export_societes!J5),"") | K5: =IFERROR(VLOOKUP(B5,export_opportunites!A5:B28,2),"") | L5: =IFERROR(INDEX('statut couleur'!B4:D19,MATCH(groupage!K5,'statut couleur'!B:B,0),3),"")
A6: =IFERROR(IF(export_societes!A6="","",export_societes!A6),"") | B6: =IFERROR(IF(export_societes!B6="","",export_societes!B6),"") | C6: =IFERROR(IF(export_societes!C6="","",export_societes!C6),"") | D6: =IFERROR(IF(export_societes!D6="","",export_societes!D6),"") | E6: =IFERROR(IF(export_societes!E6="","",export_societes!E6),"") | F6: =IFERROR(IF(export_societes!F6="","",export_societes!F6),"") | G6: =IFERROR(IF(export_societes!G6="","",export_societes!G6),"") | H6: =IFERROR(IF(export_societes!H6="","",export_societes!H6),"") | I6: =IFERROR(IF(export_societes!I6="","",IF(export_societes!I6="fr","France","")),"") | J6: =IFERROR(IF(export_societes!J6="","",export_societes!J6),"") | K6: =IFERROR(VLOOKUP(B6,export_opportunites!A6:B29,2),"") | L6: =IFERROR(INDEX('statut couleur'!B5:D20,MATCH(groupage!K6,'statut couleur'!B:B,0),3),"")
A7: =IFERROR(IF(export_societes!A7="","",export_societes!A7),"") | B7: =IFERROR(IF(export_societes!B7="","",export_societes!B7),"") | C7: =IFERROR(IF(export_societes!C7="","",export_societes!C7),"") | D7: =IFERROR(IF(export_societes!D7="","",export_societes!D7),"") | E7: =IFERROR(IF(export_societes!E7="","",export_societes!E7),"") | F7: =IFERROR(IF(export_societes!F7="","",export_societes!F7),"") | G7: =IFERROR(IF(export_societes!G7="","",export_societes!G7),"") | H7: =IFERROR(IF(export_societes!H7="","",export_societes!H7),"") | I7: =IFERROR(IF(export_societes!I7="","",IF(export_societes!I7="fr","France","")),"") | J7: =IFERROR(IF(export_societes!J7="","",export_societes!J7),"") | K7: =IFERROR(VLOOKUP(B7,export_opportunites!A7:B30,2),"") | L7: =IFERROR(INDEX('statut couleur'!B6:D21,MATCH(groupage!K7,'statut couleur'!B:B,0),3),"")
A8: =IFERROR(IF(export_societes!A8="","",export_societes!A8),"") | B8: =IFERROR(IF(export_societes!B8="","",export_societes!B8),"") | C8: =IFERROR(IF(export_societes!C8="","",export_societes!C8),"") | D8: =IFERROR(IF(export_societes!D8="","",export_societes!D8),"") | E8: =IFERROR(IF(export_societes!E8="","",export_societes!E8),"") | F8: =IFERROR(IF(export_societes!F8="","",export_societes!F8),"") | G8: =IFERROR(IF(export_societes!G8="","",export_societes!G8),"") | H8: =IFERROR(IF(export_societes!H8="","",export_societes!H8),"") | I8: =IFERROR(IF(export_societes!I8="","",IF(export_societes!I8="fr","France","")),"") | J8: =IFERROR(IF(export_societes!J8="","",export_societes!J8),"") | K8: =IFERROR(VLOOKUP(B8,export_opportunites!A8:B31,2),"") | L8: =IFERROR(INDEX('statut couleur'!B7:D22,MATCH(groupage!K8,'statut couleur'!B:B,0),3),"")
A9: =IFERROR(IF(export_societes!A9="","",export_societes!A9),"") | B9: =IFERROR(IF(export_societes!B9="","",export_societes!B9),"") | C9: =IFERROR(IF(export_societes!C9="","",export_societes!C9),"") | D9: =IFERROR(IF(export_societes!D9="","",export_societes!D9),"") | E9: =IFERROR(IF(export_societes!E9="","",export_societes!E9),"") | F9: =IFERROR(IF(export_societes!F9="","",export_societes!F9),"") | G9: =IFERROR(IF(export_societes!G9="","",export_societes!G9),"") | H9: =IFERROR(IF(export_societes!H9="","",export_societes!H9),"") | I9: =IFERROR(IF(export_societes!I9="","",IF(export_societes!I9="fr","France","")),"") | J9: =IFERROR(IF(export_societes!J9="","",export_societes!J9),"") | K9: =IFERROR(VLOOKUP(B9,export_opportunites!A9:B32,2),"") | L9: =IFERROR(INDEX('statut couleur'!B8:D23,MATCH(groupage!K9,'statut couleur'!B:B,0),3),"")
A10: =IFERROR(IF(export_societes!A10="","",export_societes!A10),"") | B10: =IFERROR(IF(export_societes!B10="","",export_societes!B10),"") | C10: =IFERROR(IF(export_societes!C10="","",export_societes!C10),"") | D10: =IFERROR(IF(export_societes!D10="","",export_societes!D10),"") | E10: =IFERROR(IF(export_societes!E10="","",export_societes!E10),"") | F10: =IFERROR(IF(export_societes!F10="","",export_societes!F10),"") | G10: =IFERROR(IF(export_societes!G10="","",export_societes!G10),"") | H10: =IFERROR(IF(export_societes!H10="","",export_societes!H10),"") | I10: =IFERROR(IF(export_societes!I10="","",IF(export_societes!I10="fr","France","")),"") | J10: =IFERROR(IF(export_societes!J10="","",export_societes!J10),"") | K10: =IFERROR(VLOOKUP(B10,export_opportunites!A10:B33,2),"") | L10: =IFERROR(INDEX('statut couleur'!B9:D24,MATCH(groupage!K10,'statut couleur'!B:B,0),3),"")
A11: =IFERROR(IF(export_societes!A11="","",export_societes!A11),"") | B11: =IFERROR(IF(export_societes!B11="","",export_societes!B11),"") | C11: =IFERROR(IF(export_societes!C11="","",export_societes!C11),"") | D11: =IFERROR(IF(export_societes!D11="","",export_societes!D11),"") | E11: =IFERROR(IF(export_societes!E11="","",export_societes!E11),"") | F11: =IFERROR(IF(export_societes!F11="","",export_societes!F11),"") | G11: =IFERROR(IF(export_societes!G11="","",export_societes!G11),"") | H11: =IFERROR(IF(export_societes!H11="","",export_societes!H11),"") | I11: =IFERROR(IF(export_societes!I11="","",IF(export_societes!I11="fr","France","")),"") | J11: =IFERROR(IF(export_societes!J11="","",export_societes!J11),"") | K11: =IFERROR(VLOOKUP(B11,export_opportunites!A11:B34,2),"") | L11: =IFERROR(INDEX('statut couleur'!B10:D25,MATCH(groupage!K11,'statut couleur'!B:B,0),3),"")
A12: =IFERROR(IF(export_societes!A12="","",export_societes!A12),"") | B12: =IFERROR(IF(export_societes!B12="","",export_societes!B12),"") | C12: =IFERROR(IF(export_societes!C12="","",export_societes!C12),"") | D12: =IFERROR(IF(export_societes!D12="","",export_societes!D12),"") | E12: =IFERROR(IF(export_societes!E12="","",export_societes!E12),"") | F12: =IFERROR(IF(export_societes!F12="","",export_societes!F12),"") | G12: =IFERROR(IF(export_societes!G12="","",export_societes!G12),"") | H12: =IFERROR(IF(export_societes!H12="","",export_societes!H12),"") | I12: =IFERROR(IF(export_societes!I12="","",IF(export_societes!I12="fr","France","")),"") | J12: =IFERROR(IF(export_societes!J12="","",export_societes!J12),"") | K12: =IFERROR(VLOOKUP(B12,export_opportunites!A12:B35,2),"") | L12: =IFERROR(INDEX('statut couleur'!B11:D26,MATCH(groupage!K12,'statut couleur'!B:B,0),3),"")
A13: =IFERROR(IF(export_societes!A13="","",export_societes!A13),"") | B13: =IFERROR(IF(export_societes!B13="","",export_societes!B13),"") | C13: =IFERROR(IF(export_societes!C13="","",export_societes!C13),"") | D13: =IFERROR(IF(export_societes!D13="","",export_societes!D13),"") | E13: =IFERROR(IF(export_societes!E13="","",export_societes!E13),"") | F13: =IFERROR(IF(export_societes!F13="","",export_societes!F13),"") | G13: =IFERROR(IF(export_societes!G13="","",export_societes!G13),"") | H13: =IFERROR(IF(export_societes!H13="","",export_societes!H13),"") | I13: =IFERROR(IF(export_societes!I13="","",IF(export_societes!I13="fr","France","")),"") | J13: =IFERROR(IF(export_societes!J13="","",export_societes!J13),"") | K13: =IFERROR(VLOOKUP(B13,export_opportunites!A13:B36,2),"") | L13: =IFERROR(INDEX('statut couleur'!B12:D27,MATCH(groupage!K13,'statut couleur'!B:B,0),3),"")
... A387: =IFERROR(IF(export_societes!A387="","",export_societes!A387),"") | B387: =IFERROR(IF(export_societes!B387="","",export_societes!B387),"") | C387: =IFERROR(IF(export_societes!C387="","",export_societes!C387),"") | D387: =IFERROR(IF(export_societes!D387="","",export_societes!D387),"") | E387: =IFERROR(IF(export_societes!E387="","",export_societes!E387),"") | F387: =IFERROR(IF(export_societes!F387="","",export_societes!F387),"") | G387: =IFERROR(IF(export_societes!G387="","",export_societes!G387),"") | H387: =IFERROR(IF(export_societes!H387="","",export_societes!H387),"") | I387: =IFERROR(IF(export_societes!I387="","",IF(export_societes!I387="fr","France","")),"") | J387: =IFERROR(IF(export_societes!J387="","",export_societes!J387),"") | K387: =IFERROR(VLOOKUP(B387,export_opportunites!A387:B410,2),"") | L387: =IFERROR(INDEX('statut couleur'!B386:D401,MATCH(groupage!K387,'statut couleur'!B:B,0),3),"")

Sheet statut couleur
A1: type seller | B1: status seller | C1: associed color | D1: hex
A2: magasin de sport franchisé | B2: non contacté | D2: #00B0F0
A3: magasin de sport indépendant | B3: 1er contact fait | D3: #0070C0
A4: magasin de vélo | B4: echec suite premier contact | D4: #FF0000
A5: magasin de running | B5: rdv pris | D5: #C6EOB4
A6: magasin de sport de combat | B6: echec suite rdv | D6: #C00000
A7: parapharmacie | B7: depot vente ok | D7: #548235
A8: pharmacie | B8: animation prévu | D8: #92D050
A9: magain de produit bio/naturelle | B9: animation faite | D9: #00B050
A10: magasin equestre | B10: 1 ere vente acquise | D10: #000000
B11: reassort vente | D11: #000000

Sheet export sheet for power bi
A1: export_societes!A1 | B1: info bulle | C1: adresse | D1: hex
A2: =IFERROR(IF(groupage!B2<>"",groupage!A2,""),"") -> magasin de sport franchisé | B2: =IFERROR(IF(groupage!B2<>"",CONCATENATE(groupage!B2," ",groupage!D2," ",groupage!E2," ",groupage!J2),""),"") -> ad vvgzregrt | C2: =IFERROR(IF(groupage!B2<>"",CONCATENATE(groupage!F2," ",groupage!G2," ",groupage!H2," ",groupage!I2),""),"") -> 1 2 3 | D2: =IFERROR(INDEX('statut couleur'!B1:D16,MATCH(groupage!K2,'statut couleur'!B:B,0),3),"") -> #0070C0
A3: =IFERROR(IF(groupage!B3<>"",groupage!A3,""),"") | B3: =IFERROR(IF(groupage!B3<>"",CONCATENATE(groupage!B3," ",groupage!D3," ",groupage!E3," ",groupage!J3),""),"") | C3: =IFERROR(IF(groupage!B3<>"",CONCATENATE(groupage!F3," ",groupage!G3," ",groupage!H3," ",groupage!I3),""),"") | D3: =IFERROR(INDEX('statut couleur'!B2:D17,MATCH(groupage!K3,'statut couleur'!B:B,0),3),"")
A4: =IFERROR(IF(groupage!B4<>"",groupage!A4,""),"") | B4: =IFERROR(IF(groupage!B4<>"",CONCATENATE(groupage!B4," ",groupage!D4," ",groupage!E4," ",groupage!J4),""),"") | C4: =IFERROR(IF(groupage!B4<>"",CONCATENATE(groupage!F4," ",groupage!G4," ",groupage!H4," ",groupage!I4),""),"") | D4: =IFERROR(INDEX('statut couleur'!B3:D18,MATCH(groupage!K4,'statut couleur'!B:B,0),3),"")
A5: =IFERROR(IF(groupage!B5<>"",groupage!A5,""),"") | B5: =IFERROR(IF(groupage!B5<>"",CONCATENATE(groupage!B5," ",groupage!D5," ",groupage!E5," ",groupage!J5),""),"") | C5: =IFERROR(IF(groupage!B5<>"",CONCATENATE(groupage!F5," ",groupage!G5," ",groupage!H5," ",groupage!I5),""),"") | D5: =IFERROR(INDEX('statut couleur'!B4:D19,MATCH(groupage!K5,'statut couleur'!B:B,0),3),"")
A6: =IFERROR(IF(groupage!B6<>"",groupage!A6,""),"") | B6: =IFERROR(IF(groupage!B6<>"",CONCATENATE(groupage!B6," ",groupage!D6," ",groupage!E6," ",groupage!J6),""),"") | C6: =IFERROR(IF(groupage!B6<>"",CONCATENATE(groupage!F6," ",groupage!G6," ",groupage!H6," ",groupage!I6),""),"") | D6: =IFERROR(INDEX('statut couleur'!B5:D20,MATCH(groupage!K6,'statut couleur'!B:B,0),3),"")
A7: =IFERROR(IF(groupage!B7<>"",groupage!A7,""),"") | B7: =IFERROR(IF(groupage!B7<>"",CONCATENATE(groupage!B7," ",groupage!D7," ",groupage!E7," ",groupage!J7),""),"") | C7: =IFERROR(IF(groupage!B7<>"",CONCATENATE(groupage!F7," ",groupage!G7," ",groupage!H7," ",groupage!I7),""),"") | D7: =IFERROR(INDEX('statut couleur'!B6:D21,MATCH(groupage!K7,'statut couleur'!B:B,0),3),"")
A8: =IFERROR(IF(groupage!B8<>"",groupage!A8,""),"") | B8: =IFERROR(IF(groupage!B8<>"",CONCATENATE(groupage!B8," ",groupage!D8," ",groupage!E8," ",groupage!J8),""),"") | C8: =IFERROR(IF(groupage!B8<>"",CONCATENATE(groupage!F8," ",groupage!G8," ",groupage!H8," ",groupage!I8),""),"") | D8: =IFERROR(INDEX('statut couleur'!B7:D22,MATCH(groupage!K8,'statut couleur'!B:B,0),3),"")
A9: =IFERROR(IF(groupage!B9<>"",groupage!A9,""),"") | B9: =IFERROR(IF(groupage!B9<>"",CONCATENATE(groupage!B9," ",groupage!D9," ",groupage!E9," ",groupage!J9),""),"") | C9: =IFERROR(IF(groupage!B9<>"",CONCATENATE(groupage!F9," ",groupage!G9," ",groupage!H9," ",groupage!I9),""),"") | D9: =IFERROR(INDEX('statut couleur'!B8:D23,MATCH(groupage!K9,'statut couleur'!B:B,0),3),"")
A10: =IFERROR(IF(groupage!B10<>"",groupage!A10,""),"") | B10: =IFERROR(IF(groupage!B10<>"",CONCATENATE(groupage!B10," ",groupage!D10," ",groupage!E10," ",groupage!J10),""),"") | C10: =IFERROR(IF(groupage!B10<>"",CONCATENATE(groupage!F10," ",groupage!G10," ",groupage!H10," ",groupage!I10),""),"") | D10: =IFERROR(INDEX('statut couleur'!B9:D24,MATCH(groupage!K10,'statut couleur'!B:B,0),3),"")
A11: =IFERROR(IF(groupage!B11<>"",groupage!A11,""),"") | B11: =IFERROR(IF(groupage!B11<>"",CONCATENATE(groupage!B11," ",groupage!D11," ",groupage!E11," ",groupage!J11),""),"") | C11: =IFERROR(IF(groupage!B11<>"",CONCATENATE(groupage!F11," ",groupage!G11," ",groupage!H11," ",groupage!I11),""),"") | D11: =IFERROR(INDEX('statut couleur'!B10:D25,MATCH(groupage!K11,'statut couleur'!B:B,0),3),"")
A12: =IFERROR(IF(groupage!B12<>"",groupage!A12,""),"") | B12: =IFERROR(IF(groupage!B12<>"",CONCATENATE(groupage!B12," ",groupage!D12," ",groupage!E12," ",groupage!J12),""),"") | C12: =IFERROR(IF(groupage!B12<>"",CONCATENATE(groupage!F12," ",groupage!G12," ",groupage!H12," ",groupage!I12),""),"") | D12: =IFERROR(INDEX('statut couleur'!B11:D26,MATCH(groupage!K12,'statut couleur'!B:B,0),3),"")
A13: =IFERROR(IF(groupage!B13<>"",groupage!A13,""),"") | B13: =IFERROR(IF(groupage!B13<>"",CONCATENATE(groupage!B13," ",groupage!D13," ",groupage!E13," ",groupage!J13),""),"") | C13: =IFERROR(IF(groupage!B13<>"",CONCATENATE(groupage!F13," ",groupage!G13," ",groupage!H13," ",groupage!I13),""),"") | D13: =IFERROR(INDEX('statut couleur'!B12:D27,MATCH(groupage!K13,'statut couleur'!B:B,0),3),"")
... A617: =IFERROR(IF(groupage!B617<>"",groupage!A617,""),"") | B617: =IFERROR(IF(groupage!B617<>"",CONCATENATE(groupage!B617," ",groupage!D617," ",groupage!E617," ",groupage!J617),""),"") | C617: =IFERROR(IF(groupage!B617<>"",CONCATENATE(groupage!F617," ",groupage!G617," ",groupage!H617," ",groupage!I617),""),"") | D617: =IFERROR(INDEX('statut couleur'!B616:D631,MATCH(groupage!K617,'statut couleur'!B:B,0),3),"")
B618: =IFERROR(IF(groupage!B618<>"",CONCATENATE(groupage!B618," ",groupage!D618," ",groupage!E618," ",groupage!J618),""),"") | C618: =IFERROR(IF(groupage!B618<>"",CONCATENATE(groupage!F618," ",groupage!G618," ",groupage!H618," ",groupage!I618),""),"") | D618: =IFERROR(INDEX('statut couleur'!B617:D632,MATCH(groupage!K618,'statut couleur'!B:B,0),3),"")
B619: =IFERROR(IF(groupage!B619<>"",CONCATENATE(groupage!B619," ",groupage!D619," ",groupage!E619," ",groupage!J619),""),"") | C619: =IFERROR(IF(groupage!B619<>"",CONCATENATE(groupage!F619," ",groupage!G619," ",groupage!H619," ",groupage!I619),""),"") | D619: =IFERROR(INDEX('statut couleur'!B618:D633,MATCH(groupage!K619,'statut couleur'!B:B,0),3),"")
B620: =IFERROR(IF(groupage!B620<>"",CONCATENATE(groupage!B620," ",groupage!D620," ",groupage!E620," ",groupage!J620),""),"") | C620: =IFERROR(IF(groupage!B620<>"",CONCATENATE(groupage!F620," ",groupage!G620," ",groupage!H620," ",groupage!I620),""),"") | D620: =IFERROR(INDEX('statut couleur'!B619:D634,MATCH(groupage!K620,'statut couleur'!B:B,0),3),"")
B621: =IFERROR(IF(groupage!B621<>"",CONCATENATE(groupage!B621," ",groupage!D621," ",groupage!E621," ",groupage!J621),""),"") | C621: =IFERROR(IF(groupage!B621<>"",CONCATENATE(groupage!F621," ",groupage!G621," ",groupage!H621," ",groupage!I621),""),"") | D621: =IFERROR(INDEX('statut couleur'!B620:D635,MATCH(groupage!K621,'statut couleur'!B:B,0),3),"")
B622: =IFERROR(IF(groupage!B622<>"",CONCATENATE(groupage!B622," ",groupage!D622," ",groupage!E622," ",groupage!J622),""),"") | C622: =IFERROR(IF(groupage!B622<>"",CONCATENATE(groupage!F622," ",groupage!G622," ",groupage!H622," ",groupage!I622),""),"") | D622: =IFERROR(INDEX('statut couleur'!B621:D636,MATCH(groupage!K622,'statut couleur'!B:B,0),3),"")
B623: =IFERROR(IF(groupage!B623<>"",CONCATENATE(groupage!B623," ",groupage!D623," ",groupage!E623," ",groupage!J623),""),"") | C623: =IFERROR(IF(groupage!B623<>"",CONCATENATE(groupage!F623," ",groupage!G623," ",groupage!H623," ",groupage!I623),""),"") | D623: =IFERROR(INDEX('statut couleur'!B622:D637,MATCH(groupage!K623,'statut couleur'!B:B,0),3),"")
B624: =IFERROR(IF(groupage!B624<>"",CONCATENATE(groupage!B624," ",groupage!D624," ",groupage!E624," ",groupage!J624),""),"") | C624: =IFERROR(IF(groupage!B624<>"",CONCATENATE(groupage!F624," ",groupage!G624," ",groupage!H624," ",groupage!I624),""),"") | D624: =IFERROR(INDEX('statut couleur'!B623:D638,MATCH(groupage!K624,'statut couleur'!B:B,0),3),"")
B625: =IFERROR(IF(groupage!B625<>"",CONCATENATE(groupage!B625," ",groupage!D625," ",groupage!E625," ",groupage!J625),""),"") | C625: =IFERROR(IF(groupage!B625<>"",CONCATENATE(groupage!F625," ",groupage!G625," ",groupage!H625," ",groupage!I625),""),"") | D625: =IFERROR(INDEX('statut couleur'!B624:D639,MATCH(groupage!K625,'statut couleur'!B:B,0),3),"")
B626: =IFERROR(IF(groupage!B626<>"",CONCATENATE(groupage!B626," ",groupage!D626," ",groupage!E626," ",groupage!J626),""),"") | C626: =IFERROR(IF(groupage!B626<>"",CONCATENATE(groupage!F626," ",groupage!G626," ",groupage!H626," ",groupage!I626),""),"") | D626: =IFERROR(INDEX('statut couleur'!B625:D640,MATCH(groupage!K626,'statut couleur'!B:B,0),3),"")
B627: =IFERROR(IF(groupage!B627<>"",CONCATENATE(groupage!B627," ",groupage!D627," ",groupage!E627," ",groupage!J627),""),"") | C627: =IFERROR(IF(groupage!B627<>"",CONCATENATE(groupage!F627," ",groupage!G627," ",groupage!H627," ",groupage!I627),""),"") | D627: =IFERROR(INDEX('statut couleur'!B626:D641,MATCH(groupage!K627,'statut couleur'!B:B,0),3),"")
B628: =IFERROR(IF(groupage!B628<>"",CONCATENATE(groupage!B628," ",groupage!D628," ",groupage!E628," ",groupage!J628),""),"") | C628: =IFERROR(IF(groupage!B628<>"",CONCATENATE(groupage!F628," ",groupage!G628," ",groupage!H628," ",groupage!I628),""),"") | D628: =IFERROR(INDEX('statut couleur'!B627:D642,MATCH(groupage!K628,'statut couleur'!B:B,0),3),"")
B629: =IFERROR(IF(groupage!B629<>"",CONCATENATE(groupage!B629," ",groupage!D629," ",groupage!E629," ",groupage!J629),""),"") | C629: =IFERROR(IF(groupage!B629<>"",CONCATENATE(groupage!F629," ",groupage!G629," ",groupage!H629," ",groupage!I629),""),"") | D629: =IFERROR(INDEX('statut couleur'!B628:D643,MATCH(groupage!K629,'statut couleur'!B:B,0),3),"")
... B815: =IFERROR(IF(groupage!B815<>"",CONCATENATE(groupage!B815," ",groupage!D815," ",groupage!E815," ",groupage!J815),""),"") | C815: =IFERROR(IF(groupage!B815<>"",CONCATENATE(groupage!F815," ",groupage!G815," ",groupage!H815," ",groupage!I815),""),"") | D815: =IFERROR(INDEX('statut couleur'!B814:D829,MATCH(groupage!K815,'statut couleur'!B:B,0),3),"")
