Workbook
Name allergenes: 'fichier huile essentielle'!$B$8:$BR$49
Name cmr: 'fichier huile essentielle'!$B$55:$CA$104

Sheet Feuil1
A1: Identification du produit : | C1: he cajeput
A2: La présence de la substance doit être indiquée dans la liste des ingrédients visés à l'article 6 paragraphe 1, point g),
A3: lorsque sa concentration est supérieure:
A4: — à 0,001 % (10 ppm) dans les produits non rincés | D4: 1 PPM = 1 mg/kg
A5: — à 0,01 % (100 ppm) dans les produits rincés
A7: Concentration en parfum | B7: Allergène | C7: Numéro CAS | D7: Concentration en allergène du parfum | E7: Concentration en allergène du produit % | F7: Concentration en allergène du produit en ppm | G7: Composant à indiquer sur l'étiquette si >10
A8: 100 | B8: alpha Isomethyl Ionone | C8: 127-51-5 | D8: 0 | E8: =A$8*D8/100 -> 0 | F8: =E8*10000 -> 0
B9: Amyl cinnamal | C9: 122-40-7 | D9: 0 | E9: =A$8*D9/100 -> 0 | F9: =E9*10000 -> 0
B10: Amylcinnamyl alcohol | C10: 101-85-9 | D10: 0 | E10: =A$8*D10/100 -> 0 | F10: =E10*10000 -> 0
B11: Anisyl alcohol | C11: 105-13-5 | D11: 0 | E11: =A$8*D11/100 -> 0 | F11: =E11*10000 -> 0
B12: Benzyl alcohol | C12: 100-51-6 | D12: 0 | E12: =A$8*D12/100 -> 0 | F12: =E12*10000 -> 0
B13: Benzyl benzoate | C13: 120-51-4 | D13: 0 | E13: =A$8*D13/100 -> 0 | F13: =E13*10000 -> 0
B14: Benzyl cinnamate | C14: 103-41-3 | D14: 0 | E14: =A$8*D14/100 -> 0 | F14: =E14*10000 -> 0
B15: Benzyl salicylate | C15: 118-58-1 | D15: 0 | E15: =A$8*D15/100 -> 0 | F15: =E15*10000 -> 0
B16: Cinnamal | C16: 104-55-2 | D16: 0 | E16: =A$8*D16/100 -> 0 | F16: =E16*10000 -> 0
B17: Cinnamyl alcohol | C17: 104-54-1 | D17: 0 | E17: =A$8*D17/100 -> 0 | F17: =E17*10000 -> 0
B18: Citral | C18: 5392-40-5 | D18: 0.05 | E18: =A$8*D18/100 -> 0.05 | F18: =E18*10000 -> 500
B19: Citronellol | C19: 106-22-9 | D19: 0.05 | E19: =A$8*D19/100 -> 0.05 | F19: =E19*10000 -> 500
B20: Coumarin | C20: 91-64-5 | D20: 0 | E20: =A$8*D20/100 -> 0 | F20: =E20*10000 -> 0
... B33: Methyl heptin carbonate | C33: 111-12-6 | D33: 0 | E33: =A$8*D33/100 -> 0 | F33: =E33*10000 -> 0

Sheet Feuil2
A1: Identification du produit : | C1: he camomille
A2: La présence de la substance doit être indiquée dans la liste des ingrédients visés à l'article 6 paragraphe 1, point g),
A3: lorsque sa concentration est supérieure:
A4: — à 0,001 % (10 ppm) dans les produits non rincés | D4: 1 PPM = 1 mg/kg
A5: — à 0,01 % (100 ppm) dans les produits rincés
A7: Concentration en parfum | B7: Allergène | C7: Numéro CAS | D7: Concentration en allergène du parfum | E7: Concentration en allergène du produit % | F7: Concentration en allergène du produit en ppm | G7: Composant à indiquer sur l'étiquette si >10
A8: 100 | B8: alpha Isomethyl Ionone | C8: 127-51-5 | D8: 0 | E8: =A$8*D8/100 -> 0 | F8: =E8*10000 -> 0
B9: Amyl cinnamal | C9: 122-40-7 | D9: 0 | E9: =A$8*D9/100 -> 0 | F9: =E9*10000 -> 0
B10: Amylcinnamyl alcohol | C10: 101-85-9 | D10: 0 | E10: =A$8*D10/100 -> 0 | F10: =E10*10000 -> 0
B11: Anisyl alcohol | C11: 105-13-5 | D11: 0 | E11: =A$8*D11/100 -> 0 | F11: =E11*10000 -> 0
B12: Benzyl alcohol | C12: 100-51-6 | D12: 0 | E12: =A$8*D12/100 -> 0 | F12: =E12*10000 -> 0
B13: Benzyl benzoate | C13: 120-51-4 | D13: 0 | E13: =A$8*D13/100 -> 0 | F13: =E13*10000 -> 0
B14: Benzyl cinnamate | C14: 103-41-3 | D14: 0 | E14: =A$8*D14/100 -> 0 | F14: =E14*10000 -> 0
B15: Benzyl salicylate | C15: 118-58-1 | D15: 0 | E15: =A$8*D15/100 -> 0 | F15: =E15*10000 -> 0
B16: Cinnamal | C16: 104-55-2 | D16: 0 | E16: =A$8*D16/100 -> 0 | F16: =E16*10000 -> 0
B17: Cinnamyl alcohol | C17: 104-54-1 | D17: 0 | E17: =A$8*D17/100 -> 0 | F17: =E17*10000 -> 0
B18: Citral | C18: 5392-40-5 | D18: 0 | E18: =A$8*D18/100 -> 0 | F18: =E18*10000 -> 0
B19: Citronellol | C19: 106-22-9 | D19: 0 | E19: =A$8*D19/100 -> 0 | F19: =E19*10000 -> 0
B20: Coumarin | C20: 91-64-5 | D20: 0 | E20: =A$8*D20/100 -> 0 | F20: =E20*10000 -> 0
... B33: Methyl heptin carbonate | C33: 111-12-6 | D33: 0 | E33: =A$8*D33/100 -> 0 | F33: =E33*10000 -> 0

Sheet Feuil3
A1: Identification du produit : | C1: he cannelle chine
A2: La présence de la substance doit être indiquée dans la liste des ingrédients visés à l'article 6 paragraphe 1, point g),
A3: lorsque sa concentration est supérieure:
A4: — à 0,001 % (10 ppm) dans les produits non rincés | D4: 1 PPM = 1 mg/kg
A5: — à 0,01 % (100 ppm) dans les produits rincés
A7: Concentration en parfum | B7: Allergène | C7: Numéro CAS | D7: Concentration en allergène du parfum | E7: Concentration en allergène du produit % | F7: Concentration en allergène du produit en ppm | G7: Composant à indiquer sur l'étiquette si >10
A8: 100 | B8: alpha Isomethyl Ionone | C8: 127-51-5 | D8: 0 | E8: =A$8*D8/100 -> 0 | F8: =E8*10000 -> 0
B9: Amyl cinnamal | C9: 122-40-7 | D9: 0 | E9: =A$8*D9/100 -> 0 | F9: =E9*10000 -> 0
B10: Amylcinnamyl alcohol | C10: 101-85-9 | D10: 0 | E10: =A$8*D10/100 -> 0 | F10: =E10*10000 -> 0
B11: Anisyl alcohol | C11: 105-13-5 | D11: 0 | E11: =A$8*D11/100 -> 0 | F11: =E11*10000 -> 0
B12: Benzyl alcohol | C12: 100-51-6 | D12: 0 | E12: =A$8*D12/100 -> 0 | F12: =E12*10000 -> 0
B13: Benzyl benzoate | C13: 120-51-4 | D13: 1 | E13: =A$8*D13/100 -> 1 | F13: =E13*10000 -> 10000
B14: Benzyl cinnamate | C14: 103-41-3 | D14: 0 | E14: =A$8*D14/100 -> 0 | F14: =E14*10000 -> 0
B15: Benzyl salicylate | C15: 118-58-1 | D15: 0 | E15: =A$8*D15/100 -> 0 | F15: =E15*10000 -> 0
B16: Cinnamal | C16: 104-55-2 | D16: 90 | E16: =A$8*D16/100 -> 90 | F16: =E16*10000 -> 900000
B17: Cinnamyl alcohol | C17: 104-54-1 | D17: 1 | E17: =A$8*D17/100 -> 1 | F17: =E17*10000 -> 10000
B18: Citral | C18: 5392-40-5 | D18: 0 | E18: =A$8*D18/100 -> 0 | F18: =E18*10000 -> 0
B19: Citronellol | C19: 106-22-9 | D19: 0 | E19: =A$8*D19/100 -> 0 | F19: =E19*10000 -> 0
B20: Coumarin | C20: 91-64-5 | D20: 4 | E20: =A$8*D20/100 -> 4 | F20: =E20*10000 -> 40000
... B33: Methyl heptin carbonate | C33: 111-12-6 | D33: 0 | E33: =A$8*D33/100 -> 0 | F33: =E33*10000 -> 0

Sheet Feuil4
A1: Identification du produit : | C1: he citronelle
A2: La présence de la substance doit être indiquée dans la liste des ingrédients visés à l'article 6 paragraphe 1, point g),
A3: lorsque sa concentration est supérieure:
A4: — à 0,001 % (10 ppm) dans les produits non rincés | D4: 1 PPM = 1 mg/kg
A5: — à 0,01 % (100 ppm) dans les produits rincés
A7: Concentration en parfum | B7: Allergène | C7: Numéro CAS | D7: Concentration en allergène du parfum | E7: Concentration en allergène du produit % | F7: Concentration en allergène du produit en ppm | G7: Composant à indiquer sur l'étiquette si >10
A8: 100 | B8: alpha Isomethyl Ionone | C8: 127-51-5 | D8: 0 | E8: =A$8*D8/100 -> 0 | F8: =E8*10000 -> 0
B9: Amyl cinnamal | C9: 122-40-7 | D9: 0 | E9: =A$8*D9/100 -> 0 | F9: =E9*10000 -> 0
B10: Amylcinnamyl alcohol | C10: 101-85-9 | D10: 0 | E10: =A$8*D10/100 -> 0 | F10: =E10*10000 -> 0
B11: Anisyl alcohol | C11: 105-13-5 | D11: 0 | E11: =A$8*D11/100 -> 0 | F11: =E11*10000 -> 0
B12: Benzyl alcohol | C12: 100-51-6 | D12: 0 | E12: =A$8*D12/100 -> 0 | F12: =E12*10000 -> 0
B13: Benzyl benzoate | C13: 120-51-4 | D13: 0 | E13: =A$8*D13/100 -> 0 | F13: =E13*10000 -> 0
B14: Benzyl cinnamate | C14: 103-41-3 | D14: 0 | E14: =A$8*D14/100 -> 0 | F14: =E14*10000 -> 0
B15: Benzyl salicylate | C15: 118-58-1 | D15: 0 | E15: =A$8*D15/100 -> 0 | F15: =E15*10000 -> 0
B16: Cinnamal | C16: 104-55-2 | D16: 0 | E16: =A$8*D16/100 -> 0 | F16: =E16*10000 -> 0
B17: Cinnamyl alcohol | C17: 104-54-1 | D17: 0 | E17: =A$8*D17/100 -> 0 | F17: =E17*10000 -> 0
B18: Citral | C18: 5392-40-5 | D18: 2 | E18: =A$8*D18/100 -> 2 | F18: =E18*10000 -> 20000
B19: Citronellol | C19: 106-22-9 | D19: 16 | E19: =A$8*D19/100 -> 16 | F19: =E19*10000 -> 160000
B20: Coumarin | C20: 91-64-5 | D20: 0 | E20: =A$8*D20/100 -> 0 | F20: =E20*10000 -> 0
... B33: Methyl heptin carbonate | C33: 111-12-6 | D33: 0 | E33: =A$8*D33/100 -> 0 | F33: =E33*10000 -> 0

Sheet Feuil5
A1: Identification du produit : | C1: he citron
A2: La présence de la substance doit être indiquée dans la liste des ingrédients visés à l'article 6 paragraphe 1, point g),
A3: lorsque sa concentration est supérieure:
A4: — à 0,001 % (10 ppm) dans les produits non rincés | D4: 1 PPM = 1 mg/kg
A5: — à 0,01 % (100 ppm) dans les produits rincés
A7: Concentration en parfum | B7: Allergène | C7: Numéro CAS | D7: Concentration en allergène du parfum | E7: Concentration en allergène du produit % | F7: Concentration en allergène du produit en ppm | G7: Composant à indiquer sur l'étiquette si >10
A8: 100 | B8: alpha Isomethyl Ionone | C8: 127-51-5 | D8: 0 | E8: =A$8*D8/100 -> 0 | F8: =E8*10000 -> 0
B9: Amyl cinnamal | C9: 122-40-7 | D9: 0 | E9: =A$8*D9/100 -> 0 | F9: =E9*10000 -> 0
B10: Amylcinnamyl alcohol | C10: 101-85-9 | D10: 0 | E10: =A$8*D10/100 -> 0 | F10: =E10*10000 -> 0
B11: Anisyl alcohol | C11: 105-13-5 | D11: 0 | E11: =A$8*D11/100 -> 0 | F11: =E11*10000 -> 0
B12: Benzyl alcohol | C12: 100-51-6 | D12: 0 | E12: =A$8*D12/100 -> 0 | F12: =E12*10000 -> 0
B13: Benzyl benzoate | C13: 120-51-4 | D13: 0 | E13: =A$8*D13/100 -> 0 | F13: =E13*10000 -> 0
B14: Benzyl cinnamate | C14: 103-41-3 | D14: 0 | E14: =A$8*D14/100 -> 0 | F14: =E14*10000 -> 0
B15: Benzyl salicylate | C15: 118-58-1 | D15: 0 | E15: =A$8*D15/100 -> 0 | F15: =E15*10000 -> 0
B16: Cinnamal | C16: 104-55-2 | D16: 0 | E16: =A$8*D16/100 -> 0 | F16: =E16*10000 -> 0
B17: Cinnamyl alcohol | C17: 104-54-1 | D17: 0 | E17: =A$8*D17/100 -> 0 | F17: =E17*10000 -> 0
B18: Citral | C18: 5392-40-5 | D18: 3.2 | E18: =A$8*D18/100 -> 3.2 | F18: =E18*10000 -> 32000
B19: Citronellol | C19: 106-22-9 | D19: 0 | E19: =A$8*D19/100 -> 0 | F19: =E19*10000 -> 0
B20: Coumarin | C20: 91-64-5 | D20: 0 | E20: =A$8*D20/100 -> 0 | F20: =E20*10000 -> 0
... B33: Methyl heptin carbonate | C33: 111-12-6 | D33: 0 | E33: =A$8*D33/100 -> 0 | F33: =E33*10000 -> 0

Sheet Feuil6
A1: Identification du produit : | C1: he cypres
A2: La présence de la substance doit être indiquée dans la liste des ingrédients visés à l'article 6 paragraphe 1, point g),
A3: lorsque sa concentration est supérieure:
A4: — à 0,001 % (10 ppm) dans les produits non rincés | D4: 1 PPM = 1 mg/kg
A5: — à 0,01 % (100 ppm) dans les produits rincés
A7: Concentration en parfum | B7: Allergène | C7: Numéro CAS | D7: Concentration en allergène du parfum | E7: Concentration en allergène du produit % | F7: Concentration en allergène du produit en ppm | G7: Composant à indiquer sur l'étiquette si >10
A8: 100 | B8: alpha Isomethyl Ionone | C8: 127-51-5 | D8: 0 | E8: =A$8*D8/100 -> 0 | F8: =E8*10000 -> 0
B9: Amyl cinnamal | C9: 122-40-7 | D9: 0 | E9: =A$8*D9/100 -> 0 | F9: =E9*10000 -> 0
B10: Amylcinnamyl alcohol | C10: 101-85-9 | D10: 0 | E10: =A$8*D10/100 -> 0 | F10: =E10*10000 -> 0
B11: Anisyl alcohol | C11: 105-13-5 | D11: 0 | E11: =A$8*D11/100 -> 0 | F11: =E11*10000 -> 0
B12: Benzyl alcohol | C12: 100-51-6 | D12: 0 | E12: =A$8*D12/100 -> 0 | F12: =E12*10000 -> 0
B13: Benzyl benzoate | C13: 120-51-4 | D13: 0 | E13: =A$8*D13/100 -> 0 | F13: =E13*10000 -> 0
B14: Benzyl cinnamate | C14: 103-41-3 | D14: 0 | E14: =A$8*D14/100 -> 0 | F14: =E14*10000 -> 0
B15: Benzyl salicylate | C15: 118-58-1 | D15: 0 | E15: =A$8*D15/100 -> 0 | F15: =E15*10000 -> 0
B16: Cinnamal | C16: 104-55-2 | D16: 0 | E16: =A$8*D16/100 -> 0 | F16: =E16*10000 -> 0
B17: Cinnamyl alcohol | C17: 104-54-1 | D17: 0 | E17: =A$8*D17/100 -> 0 | F17: =E17*10000 -> 0
B18: Citral | C18: 5392-40-5 | D18: 0 | E18: =A$8*D18/100 -> 0 | F18: =E18*10000 -> 0
B19: Citronellol | C19: 106-22-9 | D19: 0 | E19: =A$8*D19/100 -> 0 | F19: =E19*10000 -> 0
B20: Coumarin | C20: 91-64-5 | D20: 0 | E20: =A$8*D20/100 -> 0 | F20: =E20*10000 -> 0
... B33: Methyl heptin carbonate | C33: 111-12-6 | D33: 0 | E33: =A$8*D33/100 -> 0 | F33: =E33*10000 -> 0

Sheet Feuil7
A1: Identification du produit : | C1: he eucalyptus
A2: La présence de la substance doit être indiquée dans la liste des ingrédients visés à l'article 6 paragraphe 1, point g),
A3: lorsque sa concentration est supérieure:
A4: — à 0,001 % (10 ppm) dans les produits non rincés | D4: 1 PPM = 1 mg/kg
A5: — à 0,01 % (100 ppm) dans les produits rincés
A7: Concentration en parfum | B7: Allergène | C7: Numéro CAS | D7: Concentration en allergène du parfum | E7: Concentration en allergène du produit % | F7: Concentration en allergène du produit en ppm | G7: Composant à indiquer sur l'étiquette si >10
A8: 100 | B8: alpha Isomethyl Ionone | C8: 127-51-5 | D8: 0 | E8: =A$8*D8/100 -> 0 | F8: =E8*10000 -> 0
B9: Amyl cinnamal | C9: 122-40-7 | D9: 0 | E9: =A$8*D9/100 -> 0 | F9: =E9*10000 -> 0
B10: Amylcinnamyl alcohol | C10: 101-85-9 | D10: 0 | E10: =A$8*D10/100 -> 0 | F10: =E10*10000 -> 0
B11: Anisyl alcohol | C11: 105-13-5 | D11: 0 | E11: =A$8*D11/100 -> 0 | F11: =E11*10000 -> 0
B12: Benzyl alcohol | C12: 100-51-6 | D12: 0 | E12: =A$8*D12/100 -> 0 | F12: =E12*10000 -> 0
B13: Benzyl benzoate | C13: 120-51-4 | D13: 0 | E13: =A$8*D13/100 -> 0 | F13: =E13*10000 -> 0
B14: Benzyl cinnamate | C14: 103-41-3 | D14: 0 | E14: =A$8*D14/100 -> 0 | F14: =E14*10000 -> 0
B15: Benzyl salicylate | C15: 118-58-1 | D15: 0 | E15: =A$8*D15/100 -> 0 | F15: =E15*10000 -> 0
B16: Cinnamal | C16: 104-55-2 | D16: 0 | E16: =A$8*D16/100 -> 0 | F16: =E16*10000 -> 0
B17: Cinnamyl alcohol | C17: 104-54-1 | D17: 0 | E17: =A$8*D17/100 -> 0 | F17: =E17*10000 -> 0
B18: Citral | C18: 5392-40-5 | D18: 0 | E18: =A$8*D18/100 -> 0 | F18: =E18*10000 -> 0
B19: Citronellol | C19: 106-22-9 | D19: 0 | E19: =A$8*D19/100 -> 0 | F19: =E19*10000 -> 0
B20: Coumarin | C20: 91-64-5 | D20: 0 | E20: =A$8*D20/100 -> 0 | F20: =E20*10000 -> 0
... B33: Methyl heptin carbonate | C33: 111-12-6 | D33: 0 | E33: =A$8*D33/100 -> 0 | F33: =E33*10000 -> 0

Sheet gaultherie
A1: Identification du produit : | C1: he gaultherie
A2: La présence de la substance doit être indiquée dans la liste des ingrédients visés à l'article 6 paragraphe 1, point g),
A3: lorsque sa concentration est supérieure:
A4: — à 0,001 % (10 ppm) dans les produits non rincés | D4: 1 PPM = 1 mg/kg
A5: — à 0,01 % (100 ppm) dans les produits rincés
A7: Concentration en parfum | B7: Allergène | C7: Numéro CAS | D7: Concentration en allergène du parfum | E7: Concentration en allergène du produit % | F7: Concentration en allergène du produit en ppm | G7: Composant à indiquer sur l'étiquette si >10
A8: 100 | B8: alpha Isomethyl Ionone | C8: 127-51-5 | D8: 0 | E8: 0 | F8: =E8*10000 -> 0
B9: Amyl cinnamal | C9: 122-40-7 | D9: 0 | E9: 0 | F9: =E9*10000 -> 0
B10: Amylcinnamyl alcohol | C10: 101-85-9 | D10: 0 | E10: 0 | F10: =E10*10000 -> 0
B11: Anisyl alcohol | C11: 105-13-5 | D11: 0 | E11: 0 | F11: =E11*10000 -> 0
B12: Benzyl alcohol | C12: 100-51-6 | D12: 0 | E12: 0 | F12: =E12*10000 -> 0
B13: Benzyl benzoate | C13: 120-51-4 | D13: 0 | E13: 0 | F13: =E13*10000 -> 0
B14: Benzyl cinnamate | C14: 103-41-3 | D14: 0 | E14: 0 | F14: =E14*10000 -> 0
B15: Benzyl salicylate | C15: 118-58-1 | D15: 0 | E15: 0 | F15: =E15*10000 -> 0
B16: Cinnamal | C16: 104-55-2 | D16: 0 | E16: 0 | F16: =E16*10000 -> 0
B17: Cinnamyl alcohol | C17: 104-54-1 | D17: 0 | E17: 0 | F17: =E17*10000 -> 0
B18: Citral | C18: 5392-40-5 | D18: 0 | E18: 0 | F18: =E18*10000 -> 0
B19: Citronellol | C19: 106-22-9 | D19: 0 | E19: 0 | F19: =E19*10000 -> 0
B20: Coumarin | C20: 91-64-5 | D20: 0 | E20: 0 | F20: =E20*10000 -> 0
... B33: Methyl heptin carbonate | C33: 111-12-6 | D33: 0 | E33: 0 | F33: =E33*10000 -> 0

Sheet Feuil8
A1: Identification du produit : | C1: he genievre baies
A2: La présence de la substance doit être indiquée dans la liste des ingrédients visés à l'article 6 paragraphe 1, point g),
A3: lorsque sa concentration est supérieure:
A4: — à 0,001 % (10 ppm) dans les produits non rincés | D4: 1 PPM = 1 mg/kg
A5: — à 0,01 % (100 ppm) dans les produits rincés
A7: Concentration en parfum | B7: Allergène | C7: Numéro CAS | D7: Concentration en allergène du parfum | E7: Concentration en allergène du produit % | F7: Concentration en allergène du produit en ppm | G7: Composant à indiquer sur l'étiquette si >10
A8: 100 | B8: alpha Isomethyl Ionone | C8: 127-51-5 | D8: 0 | E8: =A$8*D8/100 -> 0 | F8: =E8*10000 -> 0
B9: Amyl cinnamal | C9: 122-40-7 | D9: 0 | E9: =A$8*D9/100 -> 0 | F9: =E9*10000 -> 0
B10: Amylcinnamyl alcohol | C10: 101-85-9 | D10: 0 | E10: =A$8*D10/100 -> 0 | F10: =E10*10000 -> 0
B11: Anisyl alcohol | C11: 105-13-5 | D11: 0 | E11: =A$8*D11/100 -> 0 | F11: =E11*10000 -> 0
B12: Benzyl alcohol | C12: 100-51-6 | D12: 0 | E12: =A$8*D12/100 -> 0 | F12: =E12*10000 -> 0
B13: Benzyl benzoate | C13: 120-51-4 | D13: 0 | E13: =A$8*D13/100 -> 0 | F13: =E13*10000 -> 0
B14: Benzyl cinnamate | C14: 103-41-3 | D14: 0 | E14: =A$8*D14/100 -> 0 | F14: =E14*10000 -> 0
B15: Benzyl salicylate | C15: 118-58-1 | D15: 0 | E15: =A$8*D15/100 -> 0 | F15: =E15*10000 -> 0
B16: Cinnamal | C16: 104-55-2 | D16: 0 | E16: =A$8*D16/100 -> 0 | F16: =E16*10000 -> 0
B17: Cinnamyl alcohol | C17: 104-54-1 | D17: 0 | E17: =A$8*D17/100 -> 0 | F17: =E17*10000 -> 0
B18: Citral | C18: 5392-40-5 | D18: 0 | E18: =A$8*D18/100 -> 0 | F18: =E18*10000 -> 0
B19: Citronellol | C19: 106-22-9 | D19: 0 | E19: =A$8*D19/100 -> 0 | F19: =E19*10000 -> 0
B20: Coumarin | C20: 91-64-5 | D20: 0 | E20: =A$8*D20/100 -> 0 | F20: =E20*10000 -> 0
... B33: Methyl heptin carbonate | C33: 111-12-6 | D33: 0 | E33: =A$8*D33/100 -> 0 | F33: =E33*10000 -> 0

Sheet Feuil9
A1: Identification du produit : | C1: he geranium
A2: La présence de la substance doit être indiquée dans la liste des ingrédients visés à l'article 6 paragraphe 1, point g),
A3: lorsque sa concentration est supérieure:
A4: — à 0,001 % (10 ppm) dans les produits non rincés | D4: 1 PPM = 1 mg/kg
A5: — à 0,01 % (100 ppm) dans les produits rincés
A7: Concentration en parfum | B7: Allergène | C7: Numéro CAS | D7: Concentration en allergène du parfum | E7: Concentration en allergène du produit % | F7: Concentration en allergène du produit en ppm | G7: Composant à indiquer sur l'étiquette si >10
A8: 100 | B8: alpha Isomethyl Ionone | C8: 127-51-5 | D8: 0 | E8: =A$8*D8/100 -> 0 | F8: =E8*10000 -> 0
B9: Amyl cinnamal | C9: 122-40-7 | D9: 0 | E9: =A$8*D9/100 -> 0 | F9: =E9*10000 -> 0
B10: Amylcinnamyl alcohol | C10: 101-85-9 | D10: 0 | E10: =A$8*D10/100 -> 0 | F10: =E10*10000 -> 0
B11: Anisyl alcohol | C11: 105-13-5 | D11: 0 | E11: =A$8*D11/100 -> 0 | F11: =E11*10000 -> 0
B12: Benzyl alcohol | C12: 100-51-6 | D12: 0 | E12: =A$8*D12/100 -> 0 | F12: =E12*10000 -> 0
B13: Benzyl benzoate | C13: 120-51-4 | D13: 0 | E13: =A$8*D13/100 -> 0 | F13: =E13*10000 -> 0
B14: Benzyl cinnamate | C14: 103-41-3 | D14: 0 | E14: =A$8*D14/100 -> 0 | F14: =E14*10000 -> 0
B15: Benzyl salicylate | C15: 118-58-1 | D15: 0 | E15: =A$8*D15/100 -> 0 | F15: =E15*10000 -> 0
B16: Cinnamal | C16: 104-55-2 | D16: 0 | E16: =A$8*D16/100 -> 0 | F16: =E16*10000 -> 0
B17: Cinnamyl alcohol | C17: 104-54-1 | D17: 0 | E17: =A$8*D17/100 -> 0 | F17: =E17*10000 -> 0
B18: Citral | C18: 5392-40-5 | D18: 0.93 | E18: =A$8*D18/100 -> 0.93 | F18: =E18*10000 -> 9300
B19: Citronellol | C19: 106-22-9 | D19: 35.65 | E19: =A$8*D19/100 -> 35.65 | F19: =E19*10000 -> 356500
B20: Coumarin | C20: 91-64-5 | D20: 0 | E20: =A$8*D20/100 -> 0 | F20: =E20*10000 -> 0
... B33: Methyl heptin carbonate | C33: 111-12-6 | D33: 0 | E33: =A$8*D33/100 -> 0 | F33: =E33*10000 -> 0

Sheet Feuil10
A1: Identification du produit : | C1: he gingembre
A2: La présence de la substance doit être indiquée dans la liste des ingrédients visés à l'article 6 paragraphe 1, point g),
A3: lorsque sa concentration est supérieure:
A4: — à 0,001 % (10 ppm) dans les produits non rincés | D4: 1 PPM = 1 mg/kg
A5: — à 0,01 % (100 ppm) dans les produits rincés
A7: Concentration en parfum | B7: Allergène | C7: Numéro CAS | D7: Concentration en allergène du parfum | E7: Concentration en allergène du produit % | F7: Concentration en allergène du produit en ppm | G7: Composant à indiquer sur l'étiquette si >10
A8: 100 | B8: alpha Isomethyl Ionone | C8: 127-51-5 | D8: 0 | E8: =A$8*D8/100 -> 0 | F8: =E8*10000 -> 0
B9: Amyl cinnamal | C9: 122-40-7 | D9: 0 | E9: =A$8*D9/100 -> 0 | F9: =E9*10000 -> 0
B10: Amylcinnamyl alcohol | C10: 101-85-9 | D10: 0 | E10: =A$8*D10/100 -> 0 | F10: =E10*10000 -> 0
B11: Anisyl alcohol | C11: 105-13-5 | D11: 0 | E11: =A$8*D11/100 -> 0 | F11: =E11*10000 -> 0
B12: Benzyl alcohol | C12: 100-51-6 | D12: 0 | E12: =A$8*D12/100 -> 0 | F12: =E12*10000 -> 0
B13: Benzyl benzoate | C13: 120-51-4 | D13: 0 | E13: =A$8*D13/100 -> 0 | F13: =E13*10000 -> 0
B14: Benzyl cinnamate | C14: 103-41-3 | D14: 0 | E14: =A$8*D14/100 -> 0 | F14: =E14*10000 -> 0
B15: Benzyl salicylate | C15: 118-58-1 | D15: 0 | E15: =A$8*D15/100 -> 0 | F15: =E15*10000 -> 0
B16: Cinnamal | C16: 104-55-2 | D16: 0 | E16: =A$8*D16/100 -> 0 | F16: =E16*10000 -> 0
B17: Cinnamyl alcohol | C17: 104-54-1 | D17: 0 | E17: =A$8*D17/100 -> 0 | F17: =E17*10000 -> 0
B18: Citral | C18: 5392-40-5 | D18: 1.2 | E18: =A$8*D18/100 -> 1.2 | F18: =E18*10000 -> 12000
B19: Citronellol | C19: 106-22-9 | D19: 0.5 | E19: =A$8*D19/100 -> 0.5 | F19: =E19*10000 -> 5000
B20: Coumarin | C20: 91-64-5 | D20: 0 | E20: =A$8*D20/100 -> 0 | F20: =E20*10000 -> 0
... B33: Methyl heptin carbonate | C33: 111-12-6 | D33: 0 | E33: =A$8*D33/100 -> 0 | F33: =E33*10000 -> 0

Sheet Feuil11
A1: Identification du produit : | C1: he girofle clous
A2: La présence de la substance doit être indiquée dans la liste des ingrédients visés à l'article 6 paragraphe 1, point g),
A3: lorsque sa concentration est supérieure:
A4: — à 0,001 % (10 ppm) dans les produits non rincés | D4: 1 PPM = 1 mg/kg
A5: — à 0,01 % (100 ppm) dans les produits rincés
A7: Concentration en parfum | B7: Allergène | C7: Numéro CAS | D7: Concentration en allergène du parfum | E7: Concentration en allergène du produit % | F7: Concentration en allergène du produit en ppm | G7: Composant à indiquer sur l'étiquette si >10
A8: 100 | B8: alpha Isomethyl Ionone | C8: 127-51-5 | D8: 0 | E8: =A$8*D8/100 -> 0 | F8: =E8*10000 -> 0
B9: Amyl cinnamal | C9: 122-40-7 | D9: 0 | E9: =A$8*D9/100 -> 0 | F9: =E9*10000 -> 0
B10: Amylcinnamyl alcohol | C10: 101-85-9 | D10: 0 | E10: =A$8*D10/100 -> 0 | F10: =E10*10000 -> 0
B11: Anisyl alcohol | C11: 105-13-5 | D11: 0 | E11: =A$8*D11/100 -> 0 | F11: =E11*10000 -> 0
B12: Benzyl alcohol | C12: 100-51-6 | D12: 0.05 | E12: =A$8*D12/100 -> 0.05 | F12: =E12*10000 -> 500
B13: Benzyl benzoate | C13: 120-51-4 | D13: 0 | E13: =A$8*D13/100 -> 0 | F13: =E13*10000 -> 0
B14: Benzyl cinnamate | C14: 103-41-3 | D14: 0 | E14: =A$8*D14/100 -> 0 | F14: =E14*10000 -> 0
B15: Benzyl salicylate | C15: 118-58-1 | D15: 0 | E15: =A$8*D15/100 -> 0 | F15: =E15*10000 -> 0
B16: Cinnamal | C16: 104-55-2 | D16: 0 | E16: =A$8*D16/100 -> 0 | F16: =E16*10000 -> 0
B17: Cinnamyl alcohol | C17: 104-54-1 | D17: 0 | E17: =A$8*D17/100 -> 0 | F17: =E17*10000 -> 0
B18: Citral | C18: 5392-40-5 | D18: 0 | E18: =A$8*D18/100 -> 0 | F18: =E18*10000 -> 0
B19: Citronellol | C19: 106-22-9 | D19: 0 | E19: =A$8*D19/100 -> 0 | F19: =E19*10000 -> 0
B20: Coumarin | C20: 91-64-5 | D20: 0 | E20: =A$8*D20/100 -> 0 | F20: =E20*10000 -> 0
... B33: Methyl heptin carbonate | C33: 111-12-6 | D33: 0 | E33: =A$8*D33/100 -> 0 | F33: =E33*10000 -> 0

Sheet Feuil12
A1: Identification du produit : | C1: he lavande
A2: La présence de la substance doit être indiquée dans la liste des ingrédients visés à l'article 6 paragraphe 1, point g),
A3: lorsque sa concentration est supérieure:
A4: — à 0,001 % (10 ppm) dans les produits non rincés | D4: 1 PPM = 1 mg/kg
A5: — à 0,01 % (100 ppm) dans les produits rincés
A7: Concentration en parfum | B7: Allergène | C7: Numéro CAS | D7: Concentration en allergène du parfum | E7: Concentration en allergène du produit % | F7: Concentration en allergène du produit en ppm | G7: Composant à indiquer sur l'étiquette si >10
A8: 100 | B8: alpha Isomethyl Ionone | C8: 127-51-5 | D8: 0 | E8: =A$8*D8/100 -> 0 | F8: =E8*10000 -> 0
B9: Amyl cinnamal | C9: 122-40-7 | D9: 0 | E9: =A$8*D9/100 -> 0 | F9: =E9*10000 -> 0
B10: Amylcinnamyl alcohol | C10: 101-85-9 | D10: 0 | E10: =A$8*D10/100 -> 0 | F10: =E10*10000 -> 0
B11: Anisyl alcohol | C11: 105-13-5 | D11: 0 | E11: =A$8*D11/100 -> 0 | F11: =E11*10000 -> 0
B12: Benzyl alcohol | C12: 100-51-6 | D12: 0 | E12: =A$8*D12/100 -> 0 | F12: =E12*10000 -> 0
B13: Benzyl benzoate | C13: 120-51-4 | D13: 0 | E13: =A$8*D13/100 -> 0 | F13: =E13*10000 -> 0
B14: Benzyl cinnamate | C14: 103-41-3 | D14: 0 | E14: =A$8*D14/100 -> 0 | F14: =E14*10000 -> 0
B15: Benzyl salicylate | C15: 118-58-1 | D15: 0 | E15: =A$8*D15/100 -> 0 | F15: =E15*10000 -> 0
B16: Cinnamal | C16: 104-55-2 | D16: 0 | E16: =A$8*D16/100 -> 0 | F16: =E16*10000 -> 0
B17: Cinnamyl alcohol | C17: 104-54-1 | D17: 0 | E17: =A$8*D17/100 -> 0 | F17: =E17*10000 -> 0
B18: Citral | C18: 5392-40-5 | D18: 0 | E18: =A$8*D18/100 -> 0 | F18: =E18*10000 -> 0
B19: Citronellol | C19: 106-22-9 | D19: 0 | E19: =A$8*D19/100 -> 0 | F19: =E19*10000 -> 0
B20: Coumarin | C20: 91-64-5 | D20: 0.3 | E20: =A$8*D20/100 -> 0.3 | F20: =E20*10000 -> 3000
... B33: Methyl heptin carbonate | C33: 111-12-6 | D33: 0 | E33: =A$8*D33/100 -> 0 | F33: =E33*10000 -> 0

Sheet Feuil13
A1: Identification du produit : | C1: he Marjolaine
A2: La présence de la substance doit être indiquée dans la liste des ingrédients visés à l'article 6 paragraphe 1, point g),
A3: lorsque sa concentration est supérieure:
A4: — à 0,001 % (10 ppm) dans les produits non rincés | D4: 1 PPM = 1 mg/kg
A5: — à 0,01 % (100 ppm) dans les produits rincés
A7: Concentration en parfum | B7: Allergène | C7: Numéro CAS | D7: Concentration en allergène du parfum | E7: Concentration en allergène du produit % | F7: Concentration en allergène du produit en ppm | G7: Composant à indiquer sur l'étiquette si >10
A8: 100 | B8: alpha Isomethyl Ionone | C8: 127-51-5 | D8: 0 | E8: =A$8*D8/100 -> 0 | F8: =E8*10000 -> 0
B9: Amyl cinnamal | C9: 122-40-7 | D9: 0 | E9: =A$8*D9/100 -> 0 | F9: =E9*10000 -> 0
B10: Amylcinnamyl alcohol | C10: 101-85-9 | D10: 0 | E10: =A$8*D10/100 -> 0 | F10: =E10*10000 -> 0
B11: Anisyl alcohol | C11: 105-13-5 | D11: 0 | E11: =A$8*D11/100 -> 0 | F11: =E11*10000 -> 0
B12: Benzyl alcohol | C12: 100-51-6 | D12: 0 | E12: =A$8*D12/100 -> 0 | F12: =E12*10000 -> 0
B13: Benzyl benzoate | C13: 120-51-4 | D13: 0.005 | E13: =A$8*D13/100 -> 0.005 | F13: =E13*10000 -> 50
B14: Benzyl cinnamate | C14: 103-41-3 | D14: 0 | E14: =A$8*D14/100 -> 0 | F14: =E14*10000 -> 0
B15: Benzyl salicylate | C15: 118-58-1 | D15: 0 | E15: =A$8*D15/100 -> 0 | F15: =E15*10000 -> 0
B16: Cinnamal | C16: 104-55-2 | D16: 0 | E16: =A$8*D16/100 -> 0 | F16: =E16*10000 -> 0
B17: Cinnamyl alcohol | C17: 104-54-1 | D17: 0 | E17: =A$8*D17/100 -> 0 | F17: =E17*10000 -> 0
B18: Citral | C18: 5392-40-5 | D18: 0 | E18: =A$8*D18/100 -> 0 | F18: =E18*10000 -> 0
B19: Citronellol | C19: 106-22-9 | D19: 0 | E19: =A$8*D19/100 -> 0 | F19: =E19*10000 -> 0
B20: Coumarin | C20: 91-64-5 | D20: 0 | E20: =A$8*D20/100 -> 0 | F20: =E20*10000 -> 0
... B33: Methyl heptin carbonate | C33: 111-12-6 | D33: 0 | E33: =A$8*D33/100 -> 0 | F33: =E33*10000 -> 0

Sheet Feuil14
A1: Identification du produit : | C1: he menthe poivrée
A2: La présence de la substance doit être indiquée dans la liste des ingrédients visés à l'article 6 paragraphe 1, point g),
A3: lorsque sa concentration est supérieure:
A4: — à 0,001 % (10 ppm) dans les produits non rincés | D4: 1 PPM = 1 mg/kg
A5: — à 0,01 % (100 ppm) dans les produits rincés
A7: Concentration en parfum | B7: Allergène | C7: Numéro CAS | D7: Concentration en allergène du parfum | E7: Concentration en allergène du produit % | F7: Concentration en allergène du produit en ppm | G7: Composant à indiquer sur l'étiquette si >10
A8: 100 | B8: alpha Isomethyl Ionone | C8: 127-51-5 | D8: 0 | E8: =A$8*D8/100 -> 0 | F8: =E8*10000 -> 0
B9: Amyl cinnamal | C9: 122-40-7 | D9: 0 | E9: =A$8*D9/100 -> 0 | F9: =E9*10000 -> 0
B10: Amylcinnamyl alcohol | C10: 101-85-9 | D10: 0 | E10: =A$8*D10/100 -> 0 | F10: =E10*10000 -> 0
B11: Anisyl alcohol | C11: 105-13-5 | D11: 0 | E11: =A$8*D11/100 -> 0 | F11: =E11*10000 -> 0
B12: Benzyl alcohol | C12: 100-51-6 | D12: 0 | E12: =A$8*D12/100 -> 0 | F12: =E12*10000 -> 0
B13: Benzyl benzoate | C13: 120-51-4 | D13: 0 | E13: =A$8*D13/100 -> 0 | F13: =E13*10000 -> 0
B14: Benzyl cinnamate | C14: 103-41-3 | D14: 0 | E14: =A$8*D14/100 -> 0 | F14: =E14*10000 -> 0
B15: Benzyl salicylate | C15: 118-58-1 | D15: 0 | E15: =A$8*D15/100 -> 0 | F15: =E15*10000 -> 0
B16: Cinnamal | C16: 104-55-2 | D16: 0 | E16: =A$8*D16/100 -> 0 | F16: =E16*10000 -> 0
B17: Cinnamyl alcohol | C17: 104-54-1 | D17: 0 | E17: =A$8*D17/100 -> 0 | F17: =E17*10000 -> 0
B18: Citral | C18: 5392-40-5 | D18: 0 | E18: =A$8*D18/100 -> 0 | F18: =E18*10000 -> 0
B19: Citronellol | C19: 106-22-9 | D19: 0 | E19: =A$8*D19/100 -> 0 | F19: =E19*10000 -> 0
B20: Coumarin | C20: 91-64-5 | D20: 0 | E20: =A$8*D20/100 -> 0 | F20: =E20*10000 -> 0
... B33: Methyl heptin carbonate | C33: 111-12-6 | D33: 0 | E33: =A$8*D33/100 -> 0 | F33: =E33*10000 -> 0

Sheet Feuil15
A1: Identification du produit : | C1: he myrrhe
A2: La présence de la substance doit être indiquée dans la liste des ingrédients visés à l'article 6 paragraphe 1, point g),
A3: lorsque sa concentration est supérieure:
A4: — à 0,001 % (10 ppm) dans les produits non rincés | D4: 1 PPM = 1 mg/kg
A5: — à 0,01 % (100 ppm) dans les produits rincés
A7: Concentration en parfum | B7: Allergène | C7: Numéro CAS | D7: Concentration en allergène du parfum | E7: Concentration en allergène du produit % | F7: Concentration en allergène du produit en ppm | G7: Composant à indiquer sur l'étiquette si >10
A8: 100 | B8: alpha Isomethyl Ionone | C8: 127-51-5 | D8: 0 | E8: =A$8*D8/100 -> 0 | F8: =E8*10000 -> 0
B9: Amyl cinnamal | C9: 122-40-7 | D9: 0 | E9: =A$8*D9/100 -> 0 | F9: =E9*10000 -> 0
B10: Amylcinnamyl alcohol | C10: 101-85-9 | D10: 0 | E10: =A$8*D10/100 -> 0 | F10: =E10*10000 -> 0
B11: Anisyl alcohol | C11: 105-13-5 | D11: 0 | E11: =A$8*D11/100 -> 0 | F11: =E11*10000 -> 0
B12: Benzyl alcohol | C12: 100-51-6 | D12: 0 | E12: =A$8*D12/100 -> 0 | F12: =E12*10000 -> 0
B13: Benzyl benzoate | C13: 120-51-4 | D13: 0 | E13: =A$8*D13/100 -> 0 | F13: =E13*10000 -> 0
B14: Benzyl cinnamate | C14: 103-41-3 | D14: 0 | E14: =A$8*D14/100 -> 0 | F14: =E14*10000 -> 0
B15: Benzyl salicylate | C15: 118-58-1 | D15: 0.1 | E15: =A$8*D15/100 -> 0.1 | F15: =E15*10000 -> 1000
B16: Cinnamal | C16: 104-55-2 | D16: 1 | E16: =A$8*D16/100 -> 1 | F16: =E16*10000 -> 10000
B17: Cinnamyl alcohol | C17: 104-54-1 | D17: 0 | E17: =A$8*D17/100 -> 0 | F17: =E17*10000 -> 0
B18: Citral | C18: 5392-40-5 | D18: 0 | E18: =A$8*D18/100 -> 0 | F18: =E18*10000 -> 0
B19: Citronellol | C19: 106-22-9 | D19: 0 | E19: =A$8*D19/100 -> 0 | F19: =E19*10000 -> 0
B20: Coumarin | C20: 91-64-5 | D20: 0 | E20: =A$8*D20/100 -> 0 | F20: =E20*10000 -> 0
... B33: Methyl heptin carbonate | C33: 111-12-6 | D33: 0 | E33: =A$8*D33/100 -> 0 | F33: =E33*10000 -> 0

Sheet Feuil16
A1: Identification du produit : | C1: he niaouli
A2: La présence de la substance doit être indiquée dans la liste des ingrédients visés à l'article 6 paragraphe 1, point g),
A3: lorsque sa concentration est supérieure:
A4: — à 0,001 % (10 ppm) dans les produits non rincés | D4: 1 PPM = 1 mg/kg
A5: — à 0,01 % (100 ppm) dans les produits rincés
A7: Concentration en parfum | B7: Allergène | C7: Numéro CAS | D7: Concentration en allergène du parfum | E7: Concentration en allergène du produit % | F7: Concentration en allergène du produit en ppm | G7: Composant à indiquer sur l'étiquette si >10
A8: 100 | B8: alpha Isomethyl Ionone | C8: 127-51-5 | D8: 0 | E8: =A$8*D8/100 -> 0 | F8: =E8*10000 -> 0
B9: Amyl cinnamal | C9: 122-40-7 | D9: 0 | E9: =A$8*D9/100 -> 0 | F9: =E9*10000 -> 0
B10: Amylcinnamyl alcohol | C10: 101-85-9 | D10: 0 | E10: =A$8*D10/100 -> 0 | F10: =E10*10000 -> 0
B11: Anisyl alcohol | C11: 105-13-5 | D11: 0 | E11: =A$8*D11/100 -> 0 | F11: =E11*10000 -> 0
B12: Benzyl alcohol | C12: 100-51-6 | D12: 0 | E12: =A$8*D12/100 -> 0 | F12: =E12*10000 -> 0
B13: Benzyl benzoate | C13: 120-51-4 | D13: 0 | E13: =A$8*D13/100 -> 0 | F13: =E13*10000 -> 0
B14: Benzyl cinnamate | C14: 103-41-3 | D14: 0 | E14: =A$8*D14/100 -> 0 | F14: =E14*10000 -> 0
B15: Benzyl salicylate | C15: 118-58-1 | D15: 0 | E15: =A$8*D15/100 -> 0 | F15: =E15*10000 -> 0
B16: Cinnamal | C16: 104-55-2 | D16: 0 | E16: =A$8*D16/100 -> 0 | F16: =E16*10000 -> 0
B17: Cinnamyl alcohol | C17: 104-54-1 | D17: 0 | E17: =A$8*D17/100 -> 0 | F17: =E17*10000 -> 0
B18: Citral | C18: 5392-40-5 | D18: 0 | E18: =A$8*D18/100 -> 0 | F18: =E18*10000 -> 0
B19: Citronellol | C19: 106-22-9 | D19: 0 | E19: =A$8*D19/100 -> 0 | F19: =E19*10000 -> 0
B20: Coumarin | C20: 91-64-5 | D20: 0 | E20: =A$8*D20/100 -> 0 | F20: =E20*10000 -> 0
... B33: Methyl heptin carbonate | C33: 111-12-6 | D33: 0 | E33: =A$8*D33/100 -> 0 | F33: =E33*10000 -> 0

Sheet Feuil17
A1: Identification du produit : | C1: he muscade noix
A2: La présence de la substance doit être indiquée dans la liste des ingrédients visés à l'article 6 paragraphe 1, point g),
A3: lorsque sa concentration est supérieure:
A4: — à 0,001 % (10 ppm) dans les produits non rincés | D4: 1 PPM = 1 mg/kg
A5: — à 0,01 % (100 ppm) dans les produits rincés
A7: Concentration en parfum | B7: Allergène | C7: Numéro CAS | D7: Concentration en allergène du parfum | E7: Concentration en allergène du produit % | F7: Concentration en allergène du produit en ppm | G7: Composant à indiquer sur l'étiquette si >10
A8: 100 | B8: alpha Isomethyl Ionone | C8: 127-51-5 | D8: 0 | E8: =A$8*D8/100 -> 0 | F8: =E8*10000 -> 0
B9: Amyl cinnamal | C9: 122-40-7 | D9: 0 | E9: =A$8*D9/100 -> 0 | F9: =E9*10000 -> 0
B10: Amylcinnamyl alcohol | C10: 101-85-9 | D10: 0 | E10: =A$8*D10/100 -> 0 | F10: =E10*10000 -> 0
B11: Anisyl alcohol | C11: 105-13-5 | D11: 0 | E11: =A$8*D11/100 -> 0 | F11: =E11*10000 -> 0
B12: Benzyl alcohol | C12: 100-51-6 | D12: 0 | E12: =A$8*D12/100 -> 0 | F12: =E12*10000 -> 0
B13: Benzyl benzoate | C13: 120-51-4 | D13: 0 | E13: =A$8*D13/100 -> 0 | F13: =E13*10000 -> 0
B14: Benzyl cinnamate | C14: 103-41-3 | D14: 0 | E14: =A$8*D14/100 -> 0 | F14: =E14*10000 -> 0
B15: Benzyl salicylate | C15: 118-58-1 | D15: 0 | E15: =A$8*D15/100 -> 0 | F15: =E15*10000 -> 0
B16: Cinnamal | C16: 104-55-2 | D16: 0 | E16: =A$8*D16/100 -> 0 | F16: =E16*10000 -> 0
B17: Cinnamyl alcohol | C17: 104-54-1 | D17: 0 | E17: =A$8*D17/100 -> 0 | F17: =E17*10000 -> 0
B18: Citral | C18: 5392-40-5 | D18: 0 | E18: =A$8*D18/100 -> 0 | F18: =E18*10000 -> 0
B19: Citronellol | C19: 106-22-9 | D19: 0 | E19: =A$8*D19/100 -> 0 | F19: =E19*10000 -> 0
B20: Coumarin | C20: 91-64-5 | D20: 1 | E20: =A$8*D20/100 -> 1 | F20: =E20*10000 -> 10000
... B33: Methyl heptin carbonate | C33: 111-12-6 | D33: 0 | E33: =A$8*D33/100 -> 0 | F33: =E33*10000 -> 0

Sheet Feuil18
A1: Identification du produit : | C1: he orange douce
A2: La présence de la substance doit être indiquée dans la liste des ingrédients visés à l'article 6 paragraphe 1, point g),
A3: lorsque sa concentration est supérieure:
A4: — à 0,001 % (10 ppm) dans les produits non rincés | D4: 1 PPM = 1 mg/kg
A5: — à 0,01 % (100 ppm) dans les produits rincés
A7: Concentration en parfum | B7: Allergène | C7: Numéro CAS | D7: Concentration en allergène du parfum | E7: Concentration en allergène du produit % | F7: Concentration en allergène du produit en ppm | G7: Composant à indiquer sur l'étiquette si >10
A8: 100 | B8: alpha Isomethyl Ionone | C8: 127-51-5 | D8: 0 | E8: =A$8*D8/100 -> 0 | F8: =E8*10000 -> 0
B9: Amyl cinnamal | C9: 122-40-7 | D9: 0 | E9: =A$8*D9/100 -> 0 | F9: =E9*10000 -> 0
B10: Amylcinnamyl alcohol | C10: 101-85-9 | D10: 0 | E10: =A$8*D10/100 -> 0 | F10: =E10*10000 -> 0
B11: Anisyl alcohol | C11: 105-13-5 | D11: 0 | E11: =A$8*D11/100 -> 0 | F11: =E11*10000 -> 0
B12: Benzyl alcohol | C12: 100-51-6 | D12: 0 | E12: =A$8*D12/100 -> 0 | F12: =E12*10000 -> 0
B13: Benzyl benzoate | C13: 120-51-4 | D13: 0 | E13: =A$8*D13/100 -> 0 | F13: =E13*10000 -> 0
B14: Benzyl cinnamate | C14: 103-41-3 | D14: 0 | E14: =A$8*D14/100 -> 0 | F14: =E14*10000 -> 0
B15: Benzyl salicylate | C15: 118-58-1 | D15: 0 | E15: =A$8*D15/100 -> 0 | F15: =E15*10000 -> 0
B16: Cinnamal | C16: 104-55-2 | D16: 0 | E16: =A$8*D16/100 -> 0 | F16: =E16*10000 -> 0
B17: Cinnamyl alcohol | C17: 104-54-1 | D17: 0 | E17: =A$8*D17/100 -> 0 | F17: =E17*10000 -> 0
B18: Citral | C18: 5392-40-5 | D18: 0.3 | E18: =A$8*D18/100 -> 0.3 | F18: =E18*10000 -> 3000
B19: Citronellol | C19: 106-22-9 | D19: 0.2 | E19: =A$8*D19/100 -> 0.2 | F19: =E19*10000 -> 2000
B20: Coumarin | C20: 91-64-5 | D20: 0 | E20: =A$8*D20/100 -> 0 | F20: =E20*10000 -> 0
... B33: Methyl heptin carbonate | C33: 111-12-6 | D33: 0 | E33: =A$8*D33/100 -> 0 | F33: =E33*10000 -> 0

Sheet Feuil19
A1: Identification du produit : | C1: he origan
A2: La présence de la substance doit être indiquée dans la liste des ingrédients visés à l'article 6 paragraphe 1, point g),
A3: lorsque sa concentration est supérieure:
A4: — à 0,001 % (10 ppm) dans les produits non rincés | D4: 1 PPM = 1 mg/kg
A5: — à 0,01 % (100 ppm) dans les produits rincés
A7: Concentration en parfum | B7: Allergène | C7: Numéro CAS | D7: Concentration en allergène du parfum | E7: Concentration en allergène du produit % | F7: Concentration en allergène du produit en ppm | G7: Composant à indiquer sur l'étiquette si >10
A8: 100 | B8: alpha Isomethyl Ionone | C8: 127-51-5 | D8: 0 | E8: =A$8*D8/100 -> 0 | F8: =E8*10000 -> 0
B9: Amyl cinnamal | C9: 122-40-7 | D9: 0 | E9: =A$8*D9/100 -> 0 | F9: =E9*10000 -> 0
B10: Amylcinnamyl alcohol | C10: 101-85-9 | D10: 0 | E10: =A$8*D10/100 -> 0 | F10: =E10*10000 -> 0
B11: Anisyl alcohol | C11: 105-13-5 | D11: 0 | E11: =A$8*D11/100 -> 0 | F11: =E11*10000 -> 0
B12: Benzyl alcohol | C12: 100-51-6 | D12: 0 | E12: =A$8*D12/100 -> 0 | F12: =E12*10000 -> 0
B13: Benzyl benzoate | C13: 120-51-4 | D13: 0 | E13: =A$8*D13/100 -> 0 | F13: =E13*10000 -> 0
B14: Benzyl cinnamate | C14: 103-41-3 | D14: 0 | E14: =A$8*D14/100 -> 0 | F14: =E14*10000 -> 0
B15: Benzyl salicylate | C15: 118-58-1 | D15: 0 | E15: =A$8*D15/100 -> 0 | F15: =E15*10000 -> 0
B16: Cinnamal | C16: 104-55-2 | D16: 0 | E16: =A$8*D16/100 -> 0 | F16: =E16*10000 -> 0
B17: Cinnamyl alcohol | C17: 104-54-1 | D17: 0 | E17: =A$8*D17/100 -> 0 | F17: =E17*10000 -> 0
B18: Citral | C18: 5392-40-5 | D18: 0 | E18: =A$8*D18/100 -> 0 | F18: =E18*10000 -> 0
B19: Citronellol | C19: 106-22-9 | D19: 0 | E19: =A$8*D19/100 -> 0 | F19: =E19*10000 -> 0
B20: Coumarin | C20: 91-64-5 | D20: 0 | E20: =A$8*D20/100 -> 0 | F20: =E20*10000 -> 0
... B33: Methyl heptin carbonate | C33: 111-12-6 | D33: 0 | E33: =A$8*D33/100 -> 0 | F33: =E33*10000 -> 0

Sheet palmarossa
A1: Identification du produit : | C1: he palmarosa
A2: La présence de la substance doit être indiquée dans la liste des ingrédients visés à l'article 6 paragraphe 1, point g),
A3: lorsque sa concentration est supérieure:
A4: — à 0,001 % (10 ppm) dans les produits non rincés | D4: 1 PPM = 1 mg/kg
A5: — à 0,01 % (100 ppm) dans les produits rincés
A7: Concentration en parfum | B7: Allergène | C7: Numéro CAS | D7: Concentration en allergène du parfum | E7: Concentration en allergène du produit % | F7: Concentration en allergène du produit en ppm | G7: Composant à indiquer sur l'étiquette si >10
A8: 100 | B8: alpha Isomethyl Ionone | C8: 127-51-5 | D8: 0 | E8: =A$8*D8/100 -> 0 | F8: =E8*10000 -> 0
B9: Amyl cinnamal | C9: 122-40-7 | D9: 0 | E9: =A$8*D9/100 -> 0 | F9: =E9*10000 -> 0
B10: Amylcinnamyl alcohol | C10: 101-85-9 | D10: 0 | E10: =A$8*D10/100 -> 0 | F10: =E10*10000 -> 0
B11: Anisyl alcohol | C11: 105-13-5 | D11: 0 | E11: =A$8*D11/100 -> 0 | F11: =E11*10000 -> 0
B12: Benzyl alcohol | C12: 100-51-6 | D12: 0 | E12: =A$8*D12/100 -> 0 | F12: =E12*10000 -> 0
B13: Benzyl benzoate | C13: 120-51-4 | D13: 0 | E13: =A$8*D13/100 -> 0 | F13: =E13*10000 -> 0
B14: Benzyl cinnamate | C14: 103-41-3 | D14: 0 | E14: =A$8*D14/100 -> 0 | F14: =E14*10000 -> 0
B15: Benzyl salicylate | C15: 118-58-1 | D15: 0 | E15: =A$8*D15/100 -> 0 | F15: =E15*10000 -> 0
B16: Cinnamal | C16: 104-55-2 | D16: 0 | E16: =A$8*D16/100 -> 0 | F16: =E16*10000 -> 0
B17: Cinnamyl alcohol | C17: 104-54-1 | D17: 0 | E17: =A$8*D17/100 -> 0 | F17: =E17*10000 -> 0
B18: Citral | C18: 5392-40-5 | D18: 0.4 | E18: =A$8*D18/100 -> 0.4 | F18: =E18*10000 -> 4000
B19: Citronellol | C19: 106-22-9 | D19: 0 | E19: =A$8*D19/100 -> 0 | F19: =E19*10000 -> 0
B20: Coumarin | C20: 91-64-5 | D20: 0 | E20: =A$8*D20/100 -> 0 | F20: =E20*10000 -> 0
... B33: Methyl heptin carbonate | C33: 111-12-6 | D33: 0 | E33: =A$8*D33/100 -> 0 | F33: =E33*10000 -> 0

Sheet Feuil20
A1: Identification du produit : | C1: he pin sylvestre
A2: La présence de la substance doit être indiquée dans la liste des ingrédients visés à l'article 6 paragraphe 1, point g),
A3: lorsque sa concentration est supérieure:
A4: — à 0,001 % (10 ppm) dans les produits non rincés | D4: 1 PPM = 1 mg/kg
A5: — à 0,01 % (100 ppm) dans les produits rincés
A7: Concentration en parfum | B7: Allergène | C7: Numéro CAS | D7: Concentration en allergène du parfum | E7: Concentration en allergène du produit % | F7: Concentration en allergène du produit en ppm | G7: Composant à indiquer sur l'étiquette si >10
A8: 100 | B8: alpha Isomethyl Ionone | C8: 127-51-5 | D8: 0 | E8: =A$8*D8/100 -> 0 | F8: =E8*10000 -> 0
B9: Amyl cinnamal | C9: 122-40-7 | D9: 0 | E9: =A$8*D9/100 -> 0 | F9: =E9*10000 -> 0
B10: Amylcinnamyl alcohol | C10: 101-85-9 | D10: 0 | E10: =A$8*D10/100 -> 0 | F10: =E10*10000 -> 0
B11: Anisyl alcohol | C11: 105-13-5 | D11: 0 | E11: =A$8*D11/100 -> 0 | F11: =E11*10000 -> 0
B12: Benzyl alcohol | C12: 100-51-6 | D12: 0 | E12: =A$8*D12/100 -> 0 | F12: =E12*10000 -> 0
B13: Benzyl benzoate | C13: 120-51-4 | D13: 0 | E13: =A$8*D13/100 -> 0 | F13: =E13*10000 -> 0
B14: Benzyl cinnamate | C14: 103-41-3 | D14: 0 | E14: =A$8*D14/100 -> 0 | F14: =E14*10000 -> 0
B15: Benzyl salicylate | C15: 118-58-1 | D15: 0 | E15: =A$8*D15/100 -> 0 | F15: =E15*10000 -> 0
B16: Cinnamal | C16: 104-55-2 | D16: 0 | E16: =A$8*D16/100 -> 0 | F16: =E16*10000 -> 0
B17: Cinnamyl alcohol | C17: 104-54-1 | D17: 0 | E17: =A$8*D17/100 -> 0 | F17: =E17*10000 -> 0
B18: Citral | C18: 5392-40-5 | D18: 0 | E18: =A$8*D18/100 -> 0 | F18: =E18*10000 -> 0
B19: Citronellol | C19: 106-22-9 | D19: 0 | E19: =A$8*D19/100 -> 0 | F19: =E19*10000 -> 0
B20: Coumarin | C20: 91-64-5 | D20: 0 | E20: =A$8*D20/100 -> 0 | F20: =E20*10000 -> 0
... B33: Methyl heptin carbonate | C33: 111-12-6 | D33: 0 | E33: =A$8*D33/100 -> 0 | F33: =E33*10000 -> 0

Sheet Feuil21
A1: Identification du produit : | C1: he romarin
A2: La présence de la substance doit être indiquée dans la liste des ingrédients visés à l'article 6 paragraphe 1, point g),
A3: lorsque sa concentration est supérieure:
A4: — à 0,001 % (10 ppm) dans les produits non rincés | D4: 1 PPM = 1 mg/kg
A5: — à 0,01 % (100 ppm) dans les produits rincés
A7: Concentration en parfum | B7: Allergène | C7: Numéro CAS | D7: Concentration en allergène du parfum | E7: Concentration en allergène du produit % | F7: Concentration en allergène du produit en ppm | G7: Composant à indiquer sur l'étiquette si >10
A8: 100 | B8: alpha Isomethyl Ionone | C8: 127-51-5 | D8: 0 | E8: =A$8*D8/100 -> 0 | F8: =E8*10000 -> 0
B9: Amyl cinnamal | C9: 122-40-7 | D9: 0 | E9: =A$8*D9/100 -> 0 | F9: =E9*10000 -> 0
B10: Amylcinnamyl alcohol | C10: 101-85-9 | D10: 0 | E10: =A$8*D10/100 -> 0 | F10: =E10*10000 -> 0
B11: Anisyl alcohol | C11: 105-13-5 | D11: 0 | E11: =A$8*D11/100 -> 0 | F11: =E11*10000 -> 0
B12: Benzyl alcohol | C12: 100-51-6 | D12: 0 | E12: =A$8*D12/100 -> 0 | F12: =E12*10000 -> 0
B13: Benzyl benzoate | C13: 120-51-4 | D13: 0 | E13: =A$8*D13/100 -> 0 | F13: =E13*10000 -> 0
B14: Benzyl cinnamate | C14: 103-41-3 | D14: 0 | E14: =A$8*D14/100 -> 0 | F14: =E14*10000 -> 0
B15: Benzyl salicylate | C15: 118-58-1 | D15: 0 | E15: =A$8*D15/100 -> 0 | F15: =E15*10000 -> 0
B16: Cinnamal | C16: 104-55-2 | D16: 0 | E16: =A$8*D16/100 -> 0 | F16: =E16*10000 -> 0
B17: Cinnamyl alcohol | C17: 104-54-1 | D17: 0 | E17: =A$8*D17/100 -> 0 | F17: =E17*10000 -> 0
B18: Citral | C18: 5392-40-5 | D18: 0 | E18: =A$8*D18/100 -> 0 | F18: =E18*10000 -> 0
B19: Citronellol | C19: 106-22-9 | D19: 0.09 | E19: =A$8*D19/100 -> 0.09 | F19: =E19*10000 -> 900
B20: Coumarin | C20: 91-64-5 | D20: 0 | E20: =A$8*D20/100 -> 0 | F20: =E20*10000 -> 0
... B33: Methyl heptin carbonate | C33: 111-12-6 | D33: 0 | E33: =A$8*D33/100 -> 0 | F33: =E33*10000 -> 0

Sheet Feuil22
A1: Identification du produit : | C1: he sarriette
A2: La présence de la substance doit être indiquée dans la liste des ingrédients visés à l'article 6 paragraphe 1, point g),
A3: lorsque sa concentration est supérieure:
A4: — à 0,001 % (10 ppm) dans les produits non rincés | D4: 1 PPM = 1 mg/kg
A5: — à 0,01 % (100 ppm) dans les produits rincés
A7: Concentration en parfum | B7: Allergène | C7: Numéro CAS | D7: Concentration en allergène du parfum | E7: Concentration en allergène du produit % | F7: Concentration en allergène du produit en ppm | G7: Composant à indiquer sur l'étiquette si >10
A8: 100 | B8: alpha Isomethyl Ionone | C8: 127-51-5 | D8: 0 | E8: =A$8*D8/100 -> 0 | F8: =E8*10000 -> 0
B9: Amyl cinnamal | C9: 122-40-7 | D9: 0 | E9: =A$8*D9/100 -> 0 | F9: =E9*10000 -> 0
B10: Amylcinnamyl alcohol | C10: 101-85-9 | D10: 0 | E10: =A$8*D10/100 -> 0 | F10: =E10*10000 -> 0
B11: Anisyl alcohol | C11: 105-13-5 | D11: 0 | E11: =A$8*D11/100 -> 0 | F11: =E11*10000 -> 0
B12: Benzyl alcohol | C12: 100-51-6 | D12: 0 | E12: =A$8*D12/100 -> 0 | F12: =E12*10000 -> 0
B13: Benzyl benzoate | C13: 120-51-4 | D13: 0 | E13: =A$8*D13/100 -> 0 | F13: =E13*10000 -> 0
B14: Benzyl cinnamate | C14: 103-41-3 | D14: 0 | E14: =A$8*D14/100 -> 0 | F14: =E14*10000 -> 0
B15: Benzyl salicylate | C15: 118-58-1 | D15: 0 | E15: =A$8*D15/100 -> 0 | F15: =E15*10000 -> 0
B16: Cinnamal | C16: 104-55-2 | D16: 0 | E16: =A$8*D16/100 -> 0 | F16: =E16*10000 -> 0
B17: Cinnamyl alcohol | C17: 104-54-1 | D17: 0 | E17: =A$8*D17/100 -> 0 | F17: =E17*10000 -> 0
B18: Citral | C18: 5392-40-5 | D18: 0 | E18: =A$8*D18/100 -> 0 | F18: =E18*10000 -> 0
B19: Citronellol | C19: 106-22-9 | D19: 0 | E19: =A$8*D19/100 -> 0 | F19: =E19*10000 -> 0
B20: Coumarin | C20: 91-64-5 | D20: 0 | E20: =A$8*D20/100 -> 0 | F20: =E20*10000 -> 0
... B33: Methyl heptin carbonate | C33: 111-12-6 | D33: 0 | E33: =A$8*D33/100 -> 0 | F33: =E33*10000 -> 0

Sheet Feuil23
A1: Identification du produit : | C1: he sauge officinale
A2: La présence de la substance doit être indiquée dans la liste des ingrédients visés à l'article 6 paragraphe 1, point g),
A3: lorsque sa concentration est supérieure:
A4: — à 0,001 % (10 ppm) dans les produits non rincés | D4: 1 PPM = 1 mg/kg
A5: — à 0,01 % (100 ppm) dans les produits rincés
A7: Concentration en parfum | B7: Allergène | C7: Numéro CAS | D7: Concentration en allergène du parfum | E7: Concentration en allergène du produit % | F7: Concentration en allergène du produit en ppm | G7: Composant à indiquer sur l'étiquette si >10
A8: 100 | B8: alpha Isomethyl Ionone | C8: 127-51-5 | D8: 0 | E8: =A$8*D8/100 -> 0 | F8: =E8*10000 -> 0
B9: Amyl cinnamal | C9: 122-40-7 | D9: 0 | E9: =A$8*D9/100 -> 0 | F9: =E9*10000 -> 0
B10: Amylcinnamyl alcohol | C10: 101-85-9 | D10: 0 | E10: =A$8*D10/100 -> 0 | F10: =E10*10000 -> 0
B11: Anisyl alcohol | C11: 105-13-5 | D11: 0 | E11: =A$8*D11/100 -> 0 | F11: =E11*10000 -> 0
B12: Benzyl alcohol | C12: 100-51-6 | D12: 0 | E12: =A$8*D12/100 -> 0 | F12: =E12*10000 -> 0
B13: Benzyl benzoate | C13: 120-51-4 | D13: 0 | E13: =A$8*D13/100 -> 0 | F13: =E13*10000 -> 0
B14: Benzyl cinnamate | C14: 103-41-3 | D14: 0 | E14: =A$8*D14/100 -> 0 | F14: =E14*10000 -> 0
B15: Benzyl salicylate | C15: 118-58-1 | D15: 0 | E15: =A$8*D15/100 -> 0 | F15: =E15*10000 -> 0
B16: Cinnamal | C16: 104-55-2 | D16: 0 | E16: =A$8*D16/100 -> 0 | F16: =E16*10000 -> 0
B17: Cinnamyl alcohol | C17: 104-54-1 | D17: 0 | E17: =A$8*D17/100 -> 0 | F17: =E17*10000 -> 0
B18: Citral | C18: 5392-40-5 | D18: 0 | E18: =A$8*D18/100 -> 0 | F18: =E18*10000 -> 0
B19: Citronellol | C19: 106-22-9 | D19: 0 | E19: =A$8*D19/100 -> 0 | F19: =E19*10000 -> 0
B20: Coumarin | C20: 91-64-5 | D20: 0 | E20: =A$8*D20/100 -> 0 | F20: =E20*10000 -> 0
... B33: Methyl heptin carbonate | C33: 111-12-6 | D33: 0 | E33: =A$8*D33/100 -> 0 | F33: =E33*10000 -> 0

Sheet tea tree
A1: Identification du produit : | C1: he tea tree
A2: La présence de la substance doit être indiquée dans la liste des ingrédients visés à l'article 6 paragraphe 1, point g),
A3: lorsque sa concentration est supérieure:
A4: — à 0,001 % (10 ppm) dans les produits non rincés | D4: 1 PPM = 1 mg/kg
A5: — à 0,01 % (100 ppm) dans les produits rincés
A7: Concentration en parfum | B7: Allergène | C7: Numéro CAS | D7: Concentration en allergène du parfum | E7: Concentration en allergène du produit % | F7: Concentration en allergène du produit en ppm | G7: Composant à indiquer sur l'étiquette si >10
A8: 100 | B8: alpha Isomethyl Ionone | C8: 127-51-5 | D8: 0 | E8: =A$8*D8/100 -> 0 | F8: =E8*10000 -> 0
B9: Amyl cinnamal | C9: 122-40-7 | D9: 0 | E9: =A$8*D9/100 -> 0 | F9: =E9*10000 -> 0
B10: Amylcinnamyl alcohol | C10: 101-85-9 | D10: 0 | E10: =A$8*D10/100 -> 0 | F10: =E10*10000 -> 0
B11: Anisyl alcohol | C11: 105-13-5 | D11: 0 | E11: =A$8*D11/100 -> 0 | F11: =E11*10000 -> 0
B12: Benzyl alcohol | C12: 100-51-6 | D12: 0 | E12: =A$8*D12/100 -> 0 | F12: =E12*10000 -> 0
B13: Benzyl benzoate | C13: 120-51-4 | D13: 0 | E13: =A$8*D13/100 -> 0 | F13: =E13*10000 -> 0
B14: Benzyl cinnamate | C14: 103-41-3 | D14: 0 | E14: =A$8*D14/100 -> 0 | F14: =E14*10000 -> 0
B15: Benzyl salicylate | C15: 118-58-1 | D15: 0 | E15: =A$8*D15/100 -> 0 | F15: =E15*10000 -> 0
B16: Cinnamal | C16: 104-55-2 | D16: 0 | E16: =A$8*D16/100 -> 0 | F16: =E16*10000 -> 0
B17: Cinnamyl alcohol | C17: 104-54-1 | D17: 0 | E17: =A$8*D17/100 -> 0 | F17: =E17*10000 -> 0
B18: Citral | C18: 5392-40-5 | D18: 0 | E18: =A$8*D18/100 -> 0 | F18: =E18*10000 -> 0
B19: Citronellol | C19: 106-22-9 | D19: 0 | E19: =A$8*D19/100 -> 0 | F19: =E19*10000 -> 0
B20: Coumarin | C20: 91-64-5 | D20: 0 | E20: =A$8*D20/100 -> 0 | F20: =E20*10000 -> 0
... B33: Methyl heptin carbonate | C33: 111-12-6 | D33: 0 | E33: =A$8*D33/100 -> 0 | F33: =E33*10000 -> 0

Sheet Feuil24
A1: Identification du produit : | C1: he thym rouge
A2: La présence de la substance doit être indiquée dans la liste des ingrédients visés à l'article 6 paragraphe 1, point g),
A3: lorsque sa concentration est supérieure:
A4: — à 0,001 % (10 ppm) dans les produits non rincés | D4: 1 PPM = 1 mg/kg
A5: — à 0,01 % (100 ppm) dans les produits rincés
A7: Concentration en parfum | B7: Allergène | C7: Numéro CAS | D7: Concentration en allergène du parfum | E7: Concentration en allergène du produit % | F7: Concentration en allergène du produit en ppm | G7: Composant à indiquer sur l'étiquette si >10
A8: 100 | B8: alpha Isomethyl Ionone | C8: 127-51-5 | D8: 0 | E8: =A$8*D8/100 -> 0 | F8: =E8*10000 -> 0
B9: Amyl cinnamal | C9: 122-40-7 | D9: 0 | E9: =A$8*D9/100 -> 0 | F9: =E9*10000 -> 0
B10: Amylcinnamyl alcohol | C10: 101-85-9 | D10: 0 | E10: =A$8*D10/100 -> 0 | F10: =E10*10000 -> 0
B11: Anisyl alcohol | C11: 105-13-5 | D11: 0 | E11: =A$8*D11/100 -> 0 | F11: =E11*10000 -> 0
B12: Benzyl alcohol | C12: 100-51-6 | D12: 0 | E12: =A$8*D12/100 -> 0 | F12: =E12*10000 -> 0
B13: Benzyl benzoate | C13: 120-51-4 | D13: 0 | E13: =A$8*D13/100 -> 0 | F13: =E13*10000 -> 0
B14: Benzyl cinnamate | C14: 103-41-3 | D14: 0 | E14: =A$8*D14/100 -> 0 | F14: =E14*10000 -> 0
B15: Benzyl salicylate | C15: 118-58-1 | D15: 0 | E15: =A$8*D15/100 -> 0 | F15: =E15*10000 -> 0
B16: Cinnamal | C16: 104-55-2 | D16: 0 | E16: =A$8*D16/100 -> 0 | F16: =E16*10000 -> 0
B17: Cinnamyl alcohol | C17: 104-54-1 | D17: 0 | E17: =A$8*D17/100 -> 0 | F17: =E17*10000 -> 0
B18: Citral | C18: 5392-40-5 | D18: 0 | E18: =A$8*D18/100 -> 0 | F18: =E18*10000 -> 0
B19: Citronellol | C19: 106-22-9 | D19: 0 | E19: =A$8*D19/100 -> 0 | F19: =E19*10000 -> 0
B20: Coumarin | C20: 91-64-5 | D20: 0 | E20: =A$8*D20/100 -> 0 | F20: =E20*10000 -> 0
... B33: Methyl heptin carbonate | C33: 111-12-6 | D33: 0 | E33: =A$8*D33/100 -> 0 | F33: =E33*10000 -> 0

Sheet Feuil25
A1: Identification du produit : | C1: verveine
A2: La présence de la substance doit être indiquée dans la liste des ingrédients visés à l'article 6 paragraphe 1, point g),
A3: lorsque sa concentration est supérieure:
A4: — à 0,001 % (10 ppm) dans les produits non rincés | D4: 1 PPM = 1 mg/kg
A5: — à 0,01 % (100 ppm) dans les produits rincés
A7: Concentration en parfum | B7: Allergène | C7: Numéro CAS | D7: Concentration en allergène du parfum | E7: Concentration en allergène du produit % | F7: Concentration en allergène du produit en ppm | G7: Composant à indiquer sur l'étiquette si >10
A8: 100 | B8: alpha Isomethyl Ionone | C8: 127-51-5 | D8: 0 | E8: =A$8*D8/100 -> 0 | F8: =E8*10000 -> 0
B9: Amyl cinnamal | C9: 122-40-7 | D9: 0 | E9: =A$8*D9/100 -> 0 | F9: =E9*10000 -> 0
B10: Amylcinnamyl alcohol | C10: 101-85-9 | D10: 0 | E10: =A$8*D10/100 -> 0 | F10: =E10*10000 -> 0
B11: Anisyl alcohol | C11: 105-13-5 | D11: 0 | E11: =A$8*D11/100 -> 0 | F11: =E11*10000 -> 0
B12: Benzyl alcohol | C12: 100-51-6 | D12: 0.0012 | E12: =A$8*D12/100 -> 0.0012 | F12: =E12*10000 -> 12
B13: Benzyl benzoate | C13: 120-51-4 | D13: 0 | E13: =A$8*D13/100 -> 0 | F13: =E13*10000 -> 0
B14: Benzyl cinnamate | C14: 103-41-3 | D14: 0 | E14: =A$8*D14/100 -> 0 | F14: =E14*10000 -> 0
B15: Benzyl salicylate | C15: 118-58-1 | D15: 0 | E15: =A$8*D15/100 -> 0 | F15: =E15*10000 -> 0
B16: Cinnamal | C16: 104-55-2 | D16: 0 | E16: =A$8*D16/100 -> 0 | F16: =E16*10000 -> 0
B17: Cinnamyl alcohol | C17: 104-54-1 | D17: 0 | E17: =A$8*D17/100 -> 0 | F17: =E17*10000 -> 0
B18: Citral | C18: 5392-40-5 | D18: 66.132 | E18: =A$8*D18/100 -> 66.132 | F18: =E18*10000 -> 661320
B19: Citronellol | C19: 106-22-9 | D19: 0.121 | E19: =A$8*D19/100 -> 0.121 | F19: =E19*10000 -> 1210
B20: Coumarin | C20: 91-64-5 | D20: 0 | E20: =A$8*D20/100 -> 0 | F20: =E20*10000 -> 0
... B33: Methyl heptin carbonate | C33: 111-12-6 | D33: 0 | E33: =A$8*D33/100 -> 0 | F33: =E33*10000 -> 0

Sheet Feuil26
A1: Identification du produit : | C1: ylang
A2: La présence de la substance doit être indiquée dans la liste des ingrédients visés à l'article 6 paragraphe 1, point g),
A3: lorsque sa concentration est supérieure:
A4: — à 0,001 % (10 ppm) dans les produits non rincés | D4: 1 PPM = 1 mg/kg
A5: — à 0,01 % (100 ppm) dans les produits rincés
A7: Concentration en parfum | B7: Allergène | C7: Numéro CAS | D7: Concentration en allergène du parfum | E7: Concentration en allergène du produit % | F7: Concentration en allergène du produit en ppm | G7: Composant à indiquer sur l'étiquette si >10
A8: 100 | B8: alpha Isomethyl Ionone | C8: 127-51-5 | D8: 0 | E8: =A$8*D8/100 -> 0 | F8: =E8*10000 -> 0
B9: Amyl cinnamal | C9: 122-40-7 | D9: 0 | E9: =A$8*D9/100 -> 0 | F9: =E9*10000 -> 0
B10: Amylcinnamyl alcohol | C10: 101-85-9 | D10: 0 | E10: =A$8*D10/100 -> 0 | F10: =E10*10000 -> 0
B11: Anisyl alcohol | C11: 105-13-5 | D11: 0 | E11: =A$8*D11/100 -> 0 | F11: =E11*10000 -> 0
B12: Benzyl alcohol | C12: 100-51-6 | D12: 0.49 | E12: =A$8*D12/100 -> 0.49 | F12: =E12*10000 -> 4900
B13: Benzyl benzoate | C13: 120-51-4 | D13: 7.99 | E13: =A$8*D13/100 -> 7.99 | F13: =E13*10000 -> 79900
B14: Benzyl cinnamate | C14: 103-41-3 | D14: 0.09 | E14: =A$8*D14/100 -> 0.09 | F14: =E14*10000 -> 900
B15: Benzyl salicylate | C15: 118-58-1 | D15: 4.79 | E15: =A$8*D15/100 -> 4.79 | F15: =E15*10000 -> 47900
B16: Cinnamal | C16: 104-55-2 | D16: 0 | E16: =A$8*D16/100 -> 0 | F16: =E16*10000 -> 0
B17: Cinnamyl alcohol | C17: 104-54-1 | D17: 0 | E17: =A$8*D17/100 -> 0 | F17: =E17*10000 -> 0
B18: Citral | C18: 5392-40-5 | D18: 0 | E18: =A$8*D18/100 -> 0 | F18: =E18*10000 -> 0
B19: Citronellol | C19: 106-22-9 | D19: 0 | E19: =A$8*D19/100 -> 0 | F19: =E19*10000 -> 0
B20: Coumarin | C20: 91-64-5 | D20: 0 | E20: =A$8*D20/100 -> 0 | F20: =E20*10000 -> 0
... B33: Methyl heptin carbonate | C33: 111-12-6 | D33: 0 | E33: =A$8*D33/100 -> 0 | F33: =E33*10000 -> 0

Sheet Feuil27
B1: Pourcentage de HE dans formules phykidis
A6: Réf PHYK / HE (%) | B6: A100 | C6: Thermo | D6: 06 | E6: 100 | F6: 181 | G6: 185 | H6: 186 | I6: 187 | J6: 188 | K6: 202 | L6: 387 | M6: 389 | N6: 390 | O6: 400 | P6: 401 | Q6: 402 | R6: 403 | S6: 403E | T6: 404 | U6: 405 | V6: 407 | W6: 408 | X6: 409 | Y6: 410 | Z6: 412 | AA6: 413 | AB6: 414 | AC6: 415 | AD6: 417 | AE6: 418 | AF6: 420 | AG6: 426 | AH6: 428 | AI6: 429 | AJ6: 503 | AK6: 600 | AL6: HA701 | AM6: BM501 | AN6: BM101 | AO6: 604 | AP6: huile bambou
A7: cajeput | E7: 0.02 | G7: 0.01 | L7: 0.01 | V7: 0.001 | AC7: 0.02 | AG7: 0.1 | AJ7: 0.005 | AM7: 0.05
A8: camomille | P8: 0.002 | W8: 0.0015 | AF8: 0.0015 | AI8: 0.009 | AK8: 0.15
A9: cannelle | B9: 0.005 | C9: 0.005 | E9: 0.005 | L9: 0.005 | U9: 0.005 | V9: 0.004 | AB9: 0.003 | AC9: 0.005 | AG9: 0.01 | AL9: 0.002 | AM9: 0.008
A10: citron | C10: 0.01 | H10: 0.01 | J10: 0.01 | M10: 0.01 | X10: 0.02 | AE10: 0.01 | AI10: 0.006
A11: cypres | C11: 0.01 | H11: 0.01 | I11: 0.005 | J11: 0.005 | K11: 0.01 | X11: 0.01 | AE11: 0.005
A12: eucalyptus | B12: 0.1 | E12: 0.06 | L12: 0.01 | O12: 0.02 | AC12: 0.03 | AG12: 0.05 | AL12: 0.02 | AM12: 0.1 | AN12: 0.02
A13: genievre | M13: 0.005 | AI13: 0.0042 | AJ13: 0.005
A14: geranium | M14: 0.005 | AE14: 0.003
A15: gingembre | E15: 0.01 | K15: 0.005
A16: girofle | B16: 0.03 | E16: 0.02 | L16: 0.005 | U16: 0.02 | V16: 0.008 | AC16: 0.015 | AG16: 0.04 | AL16: 0.005 | AM16: 0.05
A17: lavande | O17: 0.005 | P17: 0.01 | W17: 0.0075 | Z17: 0.005 | AF17: 0.0075 | AK17: 0.1 | AP17: 0.02
A18: marjolaine | P18: 0.002 | W18: 0.0024 | AF18: 0.0021 | AK18: 0.1
A19: menthe poivrée | B19: 0.03 | I19: 0.01 | L19: 0.015 | Y19: 0.0266 | AC19: 0.01 | AE19: 0.01 | AG19: 0.1 | AI19: 0.006 | AL19: 0.003 | AM19: 0.05 | AN19: 0.02
A20: myrrhe | O20: 0.002
A21: niaouli | G21: 0.01 | O21: 0.01 | AJ21: 0.005
A22: muscade noix | E22: 0.0033
A23: orange | P23: 0.021 | Q23: 0.003 | W23: 0.015 | AC23: 0.01 | AF23: 0.015 | AG23: 0.04 | AM23: 0.05
A24: origan | Y24: 0.0266
A25: palmarosa | M25: 0.005
A26: pin | O26: 0.03
A27: romarin | E27: 0.03 | G27: 0.005 | Z27: 0.005 | AA27: 0.005 | AI27: 0.009 | AJ27: 0.005 | AP27: 0.02
A28: sarriette | Y28: 0.0266
A29: sauge | C29: 0.01 | M29: 0.005 | AE29: 0.005 | AI29: 0.0009 | AP29: 0.01
A30: tea tree | M30: 0.005
A31: thym | E31: 0.01 | O31: 0.005 | U31: 0.02 | V31: 0.008 | AA31: 0.005 | AI31: 0.003
A32: tea tree
A33: verveine | P33: 0.005 | W33: 0.0036 | AF33: 0.0039
A34: ylang | E34: 0.02 | T34: 0.002 | AB34: 0.003
A35: Total | B35: =SUM(B7:B34) -> 0.165 | C35: =SUM(C7:C34) -> 0.035 | D35: =SUM(D7:D34) -> 0 | E35: =SUM(E7:E34) -> 0.1783 | F35: =SUM(F7:F34) -> 0 | G35: =SUM(G7:G34) -> 0.025 | H35: =SUM(H7:H34) -> 0.02 | I35: =SUM(I7:I34) -> 0.015 | ... AP35: =SUM(AP7:AP34) -> 0.05

Sheet Feuil28
E1: Concentration dans | F1: Concentration pour | G1: Concentration dans produit
A2: A100 | E2: 1 Kg DE HE en % | F2: 1 Kg DE HE en PPM | G2: fini en PPM
A4: Cannelle | C4: =Feuil27!B9 -> 0.005
B5: Benzyl benzoate | C5: 120-51-4 | D5: 0.05 | E5: 0.05 | F5: 500 | G5: =$C$4*F5 -> 2.5
B6: Cinnamal | C6: 104-55-2 | D6: 81 | E6: 81 | F6: 810000 | G6: =$C$4*F6 -> 4050
B7: Cinnamyl alcohol | C7: 104-54-1 | D7: 0.05 | E7: 0.05 | F7: 500 | G7: =$C$4*F7 -> 2.5
B8: Coumarin | C8: 91-64-5 | D8: 4 | E8: 4 | F8: 40000 | G8: =$C$4*F8 -> 200
B9: Eugenol | C9: 97-53-0 | D9: 0.1 | E9: 0.1 | F9: 1000 | G9: =$C$4*F9 -> 5
B10: Limonene | C10: 5989-27-5 | D10: 0.05 | E10: 0.05 | F10: 500 | G10: =$C$4*F10 -> 2.5
A12: Eucalyptus | C12: =Feuil27!B12 -> 0.1
B13: Limonene | C13: 5989-27-5 | D13: 15 | E13: 15 | F13: =E13*10000 -> 150000 | G13: =$C$12*F13 -> 15000
B14: Linalool | C14: 78-70-6 | D14: 0.2 | E14: 0.2 | F14: =E14*10000 -> 2000 | G14: =$C$12*F14 -> 200
A16: Girofle | C16: =Feuil27!B16 -> 0.03
B17: Eugenol | C17: 97-53-0 | D17: 87 | E17: 87 | F17: =E17*10000 -> 870000 | G17: =F17*$C$16 -> 26100
A19: menthe | C19: =Feuil27!B19 -> 0.03
B20: Citral | C20: 5392-40-5 | D20: 1 | E20: 1 | F20: 10000 | G20: =F20*$C$19 -> 300
B21: Limonene | C21: 5989-27-5 | D21: 6 | E21: 6 | F21: 60000 | G21: =F21*$C$19 -> 1800
A24: thermo
A25: cannelle | C25: =Feuil27!C9 -> 0.005
B26: Benzyl benzoate | C26: 120-51-4 | D26: 0.05 | E26: 0.05 | F26: 500 | G26: =F26*$C$25 -> 2.5
B27: Cinnamal | C27: 104-55-2 | D27: 81 | E27: 81 | F27: 810000 | G27: =F27*$C$25 -> 4050
B28: Cinnamyl alcohol | C28: 104-54-1 | D28: 0.05 | E28: 0.05 | F28: 500 | G28: =F28*$C$25 -> 2.5
B29: Coumarin | C29: 91-64-5 | D29: 4 | E29: 4 | F29: 40000 | G29: =F29*$C$25 -> 200
B30: Eugenol | C30: 97-53-0 | D30: 0.1 | E30: 0.1 | F30: 1000 | G30: =F30*$C$25 -> 5
B31: Limonene | C31: 5989-27-5 | D31: 0.05 | E31: 0.05 | F31: 500 | G31: =F31*$C$25 -> 2.5
A33: citron | C33: =Feuil27!C10 -> 0.01
B34: Citral | C34: 5392-40-5 | D34: 2.5 | E34: 2.5 | F34: 25000 | G34: =F34*$C$33 -> 250
B35: Limonene | C35: 5989-27-5 | D35: 66.7 | E35: 66.7 | F35: 667000 | G35: =F35*$C$33 -> 6670
B36: Linalool | C36: 78-70-6 | D36: 0.15 | E36: 0.15 | F36: 1500 | G36: =F36*$C$33 -> 15
A38: cypres | C38: =Feuil27!C11 -> 0.01
B39: Limonene | C39: 5989-27-5 | D39: 2.6 | E39: 2.6 | F39: 26000 | G39: =F39*$C$38 -> 260
B40: Linalool | C40: 78-70-6 | D40: 0.5 | E40: 0.5 | F40: 5000 | G40: =F40*$C$38 -> 50
A42: sauge | C42: =Feuil27!C29 -> 0.01
B43: Limonene | C43: 5989-27-5 | D43: 2.1 | E43: 2.1 | F43: 21000 | G43: =F43*$C$42 -> 210
B44: Linalool | C44: 78-70-6 | D44: 0.4 | E44: 0.4 | F44: 4000 | G44: =F44*$C$42 -> 40
A46: 100
A47: cajeput | C47: =Feuil27!E7 -> 0.02
B48: Citral | C48: 5392-40-5 | D48: 0.05 | E48: 0.05 | F48: 500 | G48: =$C$47*F48 -> 10
B49: Citronellol | C49: 106-22-9 | D49: 0.05 | E49: 0.05 | F49: 500 | G49: =$C$47*F49 -> 10
B50: Farnesol | C50: 4602-84-0 | D50: 0.5 | E50: 0.5 | F50: 5000 | G50: =$C$47*F50 -> 100
B51: Limonene | C51: 5989-27-5 | D51: 7 | E51: 7 | F51: 70000 | G51: =$C$62*F51 -> 4200
B52: Linalool | C52: 78-70-6 | D52: 3 | E52: 3 | F52: 30000 | G52: =$C$62*F52 -> 1800
A54: cannelle | C54: =Feuil27!E9 -> 0.005
B55: Benzyl benzoate | C55: 120-51-4 | D55: 1 | E55: 1 | F55: 10000 | G55: =$C$54*F55 -> 50
B56: Cinnamal | C56: 104-55-2 | D56: 90 | E56: 90 | F56: 900000 | G56: =$C$54*F56 -> 4500
B57: Cinnamyl alcohol | C57: 104-54-1 | D57: 1 | E57: 1 | F57: 10000 | G57: =$C$54*F57 -> 50
B58: Coumarin | C58: 91-64-5 | D58: 4 | E58: 4 | F58: 40000 | G58: =$C$54*F58 -> 200
B59: Eugenol | C59: 97-53-0 | D59: 6 | E59: 6 | F59: 60000 | G59: =$C$54*F59 -> 300
A62: eucalyptus | C62: =Feuil27!E12 -> 0.06 | H62: =G63+G49+G60+G72+#REF!+G82+G88 -> #REF! | I62: =H62/1000000 -> #REF!
B63: Geraniol | C63: 106-24-1 | D63: 0.1 | E63: 0.1 | F63: 1000 | G63: =$C$62*F63 -> 60 | H63: =G64+G50+G73+G83+G89 -> 9389 | I63: =H63/1000000 -> 0.009389
B64: Limonene | C64: 5989-27-5 | D64: 15.02 | E64: 15.02 | F64: 150200 | G64: =$C$62*F64 -> 9012
B65: Linalool | C65: 78-70-6 | D65: 0.2 | E65: 0.2 | F65: 2000 | G65: =$C$62*F65 -> 120
A67: gingembre | C67: =Feuil27!E15 -> 0.01 | H67: =G68 -> 120 | I67: =H67/1000000 -> 0.00012
B68: Citral | C68: 5392-40-5 | D68: 1.2 | E68: 1.2 | F68: 12000 | G68: =F68*$C$67 -> 120 | H68: =G69 -> 50 | I68: =H68/1000000 -> 5e-05
B69: Citronellol | C69: 106-22-9 | D69: 0.5 | E69: 0.5 | F69: 5000 | G69: =F69*$C$67 -> 50 | H69: =G70+G96 -> 38 | I69: =H69/1000000 -> 3.8e-05
B70: Eugenol | C70: 97-53-0 | D70: 0.2 | E70: 0.2 | F70: 2000 | G70: =F70*$C$67 -> 20
B71: Geraniol | C71: 106-24-1 | D71: 1 | E71: 1 | F71: 10000 | G71: =F71*$C$67 -> 100
B72: Limonene | C72: 5989-27-5 | D72: 2 | E72: 2 | F72: 20000 | G72: =F72*$C$67 -> 200
B73: Linalool | C73: 78-70-6 | D73: 0.5 | E73: 0.5 | F73: 5000 | G73: =F73*$C$67 -> 50
A75: girofle | C75: =Feuil27!E16 -> 0.02 | H75: =G76+G59+#REF! -> #REF! | I75: =H75/1000000 -> #REF!
B76: Benzyl alcohol | C76: 100-51-6 | D76: 0.05 | E76: 0.05 | F76: 500 | G76: =F76*$C$75 -> 10
B77: Eugenol | C77: 97-53-0 | D77: 84 | E77: 84 | F77: 840000 | G77: =F77*$C$75 -> 16800
B78: Isoeugenol | C78: 97-54-1 | D78: 0.5 | E78: 0.5 | F78: 5000 | G78: =F78*$C$75 -> 100
A81: romarin | C81: =Feuil27!E27 -> 0.03
B82: Citronellol | C82: 106-22-9 | D82: 0.09 | E82: 0.09 | F82: 900 | G82: =F82*$C$81 -> 27
B83: Eugenol | C83: 97-53-0 | D83: 0.09 | E83: 0.09 | F83: 900 | G83: =F83*$C$81 -> 27
B84: Limonene | C84: 5989-27-5 | D84: 3.99 | E84: 3.99 | F84: 39900 | G84: =F84*$C$81 -> 1197
B85: Linalool | C85: 78-70-6 | D85: 1.49 | E85: 1.49 | F85: 14900 | G85: =F85*$C$81 -> 447
A87: thym | C87: =Feuil27!E31 -> 0.01
B88: Geraniol | C88: 106-24-1 | D88: 0.2 | E88: 0.2 | F88: 2000 | G88: =F88*$C$87 -> 20
B89: Limonene | C89: 5989-27-5 | D89: 2 | E89: 2 | F89: 20000 | G89: =F89*$C$87 -> 200
B90: Linalool | C90: 78-70-6 | D90: 6 | E90: 6 | F90: 60000 | G90: =F90*$C$87 -> 600
A93: ylang | C93: =Feuil27!E34 -> 0.02 | H93: =G94+G55 -> 148 | I93: =H93/1000000 -> 0.000148
B94: Benzyl alcohol | C94: 100-51-6 | D94: 0.49 | E94: 0.49 | F94: 4900 | G94: =F94*$C$93 -> 98 | H94: =G95 -> 1598 | I94: =H94/1000000 -> 0.001598
B95: Benzyl benzoate | C95: 120-51-4 | D95: 7.99 | E95: 7.99 | F95: 79900 | G95: =F95*$C$93 -> 1598
B96: Benzyl cinnamate | C96: 103-41-3 | D96: 0.09 | E96: 0.09 | F96: 900 | G96: =F96*$C$93 -> 18
B97: Benzyl salicylate | C97: 118-58-1 | D97: 4.79 | E97: 4.79 | F97: 47900 | G97: =F97*$C$93 -> 958 | H97: =G98 -> 18 | I97: =H97/1000000 -> 1.8e-05
B98: Eugenol | C98: 97-53-0 | D98: 0.09 | E98: 0.09 | F98: 900 | G98: =F98*$C$93 -> 18
B99: Farnesol | C99: 4602-84-0 | D99: 2.99 | E99: 2.99 | F99: 29900 | G99: =F99*$C$93 -> 598
B100: Geraniol | C100: 106-24-1 | D100: 0.09 | E100: 0.09 | F100: 900 | G100: =F100*$C$93 -> 18
B101: Isoeugenol | C101: 97-54-1 | D101: 0.99 | E101: 0.99 | F101: 9900 | G101: =F101*$C$93 -> 198
B102: Limonene | C102: 5989-27-5 | D102: 0.09 | E102: 0.09 | F102: 900 | G102: =F102*$C$93 -> 18
B103: Linalool | C103: 78-70-6 | D103: 1.99 | E103: 1.99 | F103: 19900 | G103: =F103*$C$93 -> 398
A105: 185
A106: cajeput | C106: =Feuil27!G7 -> 0.01
B107: Citral | C107: 5392-40-5 | D107: 0.05 | E107: 0.05 | F107: 500 | G107: =F107*$C$106 -> 5
B108: Citronellol | C108: 106-22-9 | D108: 0.05 | E108: 0.05 | F108: 500 | G108: =F108*$C$106 -> 5
B109: Farnesol | C109: 4602-84-0 | D109: 0.5 | E109: 0.5 | F109: 5000 | G109: =F109*$C$106 -> 50
B110: Limonene | C110: 5989-27-5 | D110: 7 | E110: 7 | F110: 70000 | G110: =F110*$C$106 -> 700
B111: Linalool | C111: 78-70-6 | D111: 3 | E111: 3 | F111: 30000 | G111: =F111*$C$106 -> 300
A114: niaouli | C114: =Feuil27!G21 -> 0.01
B115: Limonene | C115: 5989-27-5 | D115: 10 | E115: 10 | F115: 100000 | G115: =F115*$C$114 -> 1000
B116: Linalool | C116: 78-70-6 | D116: 0.18 | E116: 0.18 | F116: 1800 | G116: =F116*$C$114 -> 18
A118: romarin | C118: =Feuil27!G27 -> 0.005
B119: Limonene | C119: 5989-27-5 | D119: 2.6 | E119: 2.6 | F119: 26000 | G119: =F119*$C$118 -> 130
B120: Linalool | C120: 78-70-6 | D120: 0.6 | E120: 0.6 | F120: 6000 | G120: =F120*$C$118 -> 30
A122: 186
A123: citron | C123: =Feuil27!H10 -> 0.01
B124: Citral | C124: 5392-40-5 | D124: 2.5 | E124: 2.5 | F124: 25000 | G124: =F124*$C$123 -> 250
B125: Limonene | C125: 5989-27-5 | D125: 66.7 | E125: 66.7 | F125: 667000 | G125: =F125*$C$123 -> 6670
...

Sheet Feuil29
A2: A100
A4: Cinnamal
A5: Coumarin
A6: Limonene
A7: Linalool
A8: Eugenol
A9: Citral
A11: thermo
A13: Cinnamal
A14: Coumarin
A15: Citral
A16: Limonene
A17: Linalool
A19: 100
A21: Geraniol
A22: Cinnamal
A23: Coumarin
A24: Limonene
A25: Linalool
A26: Citral
A27: Citronellol
A28: Farnesol
A29: Eugenol
A30: Benzyl benzoate
A31: Benzyl salicylate
A32: Isoeugenol
... A44: Linalool
A46: =Feuil27!I6 -> 187
A48: Linalool
A49: Citral
A50: Limonene
A52: =Feuil27!J6 -> 188
A54: Citral
A55: Limonene
A56: Linalool
A58: =Feuil27!K6 -> 202
A60: Limonene
A61: Linalool
A62: Citral
A63: Citronellol
A64: Geraniol
A66: =Feuil27!L6 -> 387
A68: Geraniol
A69: Cinnamal
A70: Coumarin
A71: Limonene
A72: Linalool
A73: Eugenol
A74: Citral
A76: =Feuil27!M6 -> 389
A78: Citral
A79: Limonene
A80: Linalool
A81: Citronellol
A82: Geraniol
A84: 400
A86: Limonene
A87: Linalool
A88: Geraniol
A89: Cinnamal
A91: 401
A93: Geraniol
A94: Limonene
A95: Linalool
A96: Citral
A98: 402
A100: Limonene
A101: Linalool
A103: 404
A105: Benzyl benzoate
A106: Benzyl salicylate
A107: Farnesol
A109: 405
A111: Cinnamal
A112: Coumarin
A113: Eugenol
A114: Limonene
A115: Linalool
A117: 407
A119: Cinnamal
A120: Coumarin
A121: Eugenol
A122: Limonene
A123: Linalool
A125: 408
A127: Geraniol
A128: Limonene
A129: Linalool
A130: Citral
A132: 409
A134: Citral
A135: Limonene
A136: Linalool
A138: 410
A140: Citral
A141: Limonene
A142: Eugenol
A143: Linalool
A146: 412
A148: Geraniol
...

Sheet fichier huile essentielle
A1: allergene
A2: mdp: phykidis
D3: concentration dans 1kg d huile essentielle
C4: 31.67 | D4: 10.7 | G4: 2.7 | H4: 27.7 | I4: 2.1 | J4: 8 | K4: 1.86 | L4: 0.05 | M4: 0.4 | N4: 0.6 | O4: 13.3 | P4: 1.6 | Q4: 0.5 | T4: 1.2 | U4: 5.3 | V4: 10.7 | W4: 0.2 | X4: 0.2 | Y4: 0.02 | AD4: 0.01
B5: nom huile essentielle | C5: alpha Isomethyl Ionone | D5: Amyl cinnamal | E5: Amylcinnamyl alcohol | F5: Anisyl alcohol | G5: Benzyl alcohol | H5: Benzyl benzoate | I5: Benzyl cinnamate | J5: Benzyl salicylate | K5: butylphenyl methylpropional/lilial | L5: Cinnamal | M5: Cinnamyl alcohol | N5: Citral | O5: Citronellol | P5: Coumarin | Q5: Eugenol | R5: Evernia Furfuracea (Treemoss extract) | S5: Evernia Prunastri (Oak moss and treemoss) extract | T5: Farnesol | U5: Geraniol | V5: Hexyl cinnamaldehyde | W5: Hydroxy-citronellal | X5: hydroxysohexyl 3…lyral | Y5: Isoeugenol | Z5: Lilial | AA5: Limonene | AB5: Linalool | AC5: lyral | AD5: Methyl heptin carbonate
A6: numero cas
AF7: max ifra
B8: base caramel beurre sale | C8: 0.198 | G8: 0.0001 | P8: 0.35 | AE8: =B8 -> base caramel beurre sale | AF8: 100
B9: base chevrefeuille creme | D9: 0.1355 | G9: 0.0054 | J9: 0.0014 | K9: 0.09 | M9: 0.1346 | N9: 0.0995 | O9: 0.0716 | P9: 0.09 | Q9: 0.054 | U9: 0.1044 | V9: 0.135 | W9: 0.1377 | X9: 0.135 | Y9: 0.0005 | AA9: 0.131 | AB9: 0.0368 | AD9: 0.027 | AE9: =B9 -> base chevrefeuille creme | AF9: 37.04
B10: base chevrefeuille huile | D10: 0.1355 | G10: 0.0054 | J10: 0.0014 | K10: 0.09 | M10: 0.1346 | N10: 0.0995 | O10: 0.0716 | P10: 0.09 | Q10: 0.054 | U10: 0.1044 | V10: 0.135 | W10: 0.1377 | X10: 0.135 | Y10: 0.0005 | AA10: 0.131 | AB10: 0.0368 | AD10: 0.027 | AE10: =B10 -> base chevrefeuille huile | AF10: 37.04
B11: base coco | AE11: =B11 -> base coco | AF11: 64
B12: base lilas | AE12: =B12 -> base lilas
B13: base fraise | G13: 0.0002 | L13: 0.0002 | M13: 0.0002 | AE13: =B13 -> base fraise | AF13: 100
B14: base jasmin | G14: 0.0028 | Q14: 0.0001 | AA14: 0.0001 | AB14: 0.0001 | AE14: =B14 -> base jasmin | AF14: 100
B15: base vanille | G15: 0.7515 | H15: 30.1541 | I15: 0.0095 | J15: 50.0006 | L15: 0.0041 | M15: 0.0009 | P15: 0.0009 | Q15: 0.0013 | Y15: 0.0035 | AE15: =B15 -> base vanille | AF15: 16
B16: cajeput | N16: 0.05 | O16: 0.05 | T16: 0 | U16: 0.5 | AA16: 7 | AB16: 3 | AE16: =B16 -> cajeput | AF16: 100
B17: camphre | AE17: =B17 -> camphre | AF17: 100
B18: camomille | AA18: 4 | AB18: 1 | AE18: =B18 -> camomille | AF18: 100
B19: canelle | H19: 1 | L19: 90 | M19: 1 | P19: 4 | Q19: 0.06 | AA19: 0.05 | AE19: =B19 -> canelle | AF19: 0.06
B20: cannelier feuilles | H20: 4 | L20: 2 | M20: 1 | Q20: 78 | T20: 0.5 | U20: 0.05 | Y20: 0.2 | AA20: 2 | AB20: 3 | AE20: =B20 -> cannelier feuilles | AF20: 0.64
B21: canelle ceylan | G21: 2.3 | L21: 48.3 | M21: 0.2 | Q21: 26.7 | Y21: 0.1 | AA21: 1.3 | AB21: 6.3 | AE21: =B21 -> canelle ceylan | AF21: 0.1
B22: citron | N22: 3.2 | U22: 0.1 | AA22: 70 | AB22: 0.2 | AE22: =B22 -> citron | AF22: 2
B23: citronelle | N23: 2 | O23: 14 | Q23: 1.5 | T23: 1 | U23: 23 | AA23: 4 | AB23: 1 | AE23: =B23 -> citronelle | AF23: 0.8
B24: cypres | AA24: 5 | AB24: 1 | AE24: =B24 -> cypres | AF24: 100
B25: eucalyptus | U25: 0.1 | AA25: 15.02 | AB25: 0.2 | AE25: =B25 -> eucalyptus | AF25: 100
B26: gaultherie | AA26: 0.1 | AB26: 0.4 | AE26: =B26 -> gaultherie | AF26: 100
B27: genievre | AA27: 8 | AB27: 0.5 | AE27: =B27 -> genievre | AF27: 1.33
B28: geranuim | AE28: =B28 -> geranuim
B29: gingembre | N29: 0.5 | O29: 0.2 | U29: 0.6 | AA29: 1.8 | AB29: 0.4 | AE29: =B29 -> gingembre | AF29: 100
B30: girofle | G30: 0.05 | Q30: 84 | Y30: 0.5 | AE30: =B30 -> girofle | AF30: 0.13
B31: lavande | P31: 0.1 | U31: 0.5 | AA31: 0.6 | AB31: 35 | AE31: =B31 -> lavande | AF31: 33.33
B32: marjolaine | H32: 0 | Q32: 0 | U32: 0.3 | AA32: 5 | AB32: 3 | AE32: =B32 -> marjolaine | AF32: 100
B33: menthe poivrée | N33: 0 | AA33: 4 | AE33: =B33 -> menthe poivrée | AF33: 100
B34: menthol | AE34: =B34 -> menthol | AF34: 10
B35: methyl nicotinate | AE35: =B35 -> methyl nicotinate
B36: muscade | O36: 0.2 | P36: 0 | Q36: 0.7 | Y36: 1 | AA36: 4 | AB36: 0.2 | AE36: =B36 -> muscade | AF36: 0.08
B37: myrrhe | J37: 0.1 | L37: 1 | Q37: 0.1 | AE37: =B37 -> myrrhe
B38: niaouli | U38: 0.1 | AA38: 15 | AB38: 0.5 | AE38: =B38 -> niaouli | AF38: 100
B39: orange douce | N39: 0.3 | O39: 0.2 | T39: 0.01 | U39: 0.1 | AA39: 96.5 | AB39: 0.75 | AE39: =B39 -> orange douce | AF39: 100
B40: oleoresine | AE40: =B40 -> oleoresine
B41: origan | AE41: =B41 -> origan
B42: pin sylvestre | U42: 1 | AA42: 9 | AB42: 0.1 | AE42: =B42 -> pin sylvestre | AF42: 100
B43: romarin | O43: 0.09 | Q43: 0.09 | AA43: 4 | AB43: 1.5 | AE43: =B43 -> romarin | AF43: 100
B44: sauge | Q44: 0.1 | AA44: 3.039 | AB44: 0.6 | AE44: =B44 -> sauge | AF44: 100
B45: sarriette | AE45: =B45 -> sarriette
B46: thym | U46: 0.2 | AA46: 1.2 | AB46: 6 | AE46: =B46 -> thym | AF46: 100
B47: verveine | G47: 0.0012 | N47: 66.132 | O47: 0.121 | Q47: 0.0044 | U47: 1.529 | Y47: 0.006 | AA47: 22 | AB47: 2.673 | AE47: =B47 -> verveine | AF47: 0.9
B48: ylang | G48: 0.5 | H48: 8 | I48: 0.1 | J48: 4.8 | Q48: 0.1 | T48: 3 | U48: 0.1 | Y48: 1 | AA48: 0.1 | AB48: 2 | AE48: =B48 -> ylang | AF48: 0.44
A51: cmr
D53: concentration dans 1kg d huile essentielle
V54: 1.86 | AA54: 0.01 | AK54: 0.0004 | AU54: 0.01
D55: 46-11-1 | E55: 3033-23-6 | F55: 120-80-9 | G55: 111-77-3 | H55: 5406-86-0 | I55: 110-80-5 | J55: 123-05-7 | K55: 109-86-4 | L55: 62518-65-4 | M55: 56107-04-1 | N55: 5146-66-7/558 | O55: 150-76-5 | P55: 75-07-0 | Q55: 60-35-5 | R55: 71-43-2 | S55: 84012-15-7 | T55: 68917-50-0 | U55: 85940-29-0 | V55: 80-54-6 | W55: 4170-30-3 | X55: 123-73-9 | Y55: 117-81-7 | Z55: 122-39-4 | AA55: 140-67-0 | AB55: 98-01-1 | AC55: 98-00-0 | AD55: 107-22-2 | AE55: 591-78-6 | AF55: 93-53-8 | AG55: 123-31-9 | AH55: 78-59-1 | AI55: 78-79-5 | AJ55: 120-58-1 | AK55: 93-15-2 | AL55: 104-93-8 | AM55: 81-14-1 | AN55: 81-15-2 | AO55: 91-20-3 | AP55: 108-95-2 | AQ55: 18127-01-0 | AR55: 91-22-5 | AS55: 16409-43-1 | AT55: 8030-89-5 | AU55: 94-59-7 | AV55: 6658-48-6 | AW55: 64-67-5 | AX55: 77-78-1 | AY55: 97-99-4 | AZ55: 108-88-3
B56: base caramel beurre sale
B57: base chevrefeuille creme | V57: 0.09
B58: base chevrefeuille huile | V58: 0.09
B59: base lilas
B60: base coco
B61: base fraise
B62: base jasmin | AL62: 0.05
B63: base vanille
B64: cajeput
B65: camomille
B66: camphre
B67: canelle
B68: cannelier feuilles | AK68: 0.05 | AU68: 1.5
B69: canelle ceylan | AU69: 1.2
B70: chevrefeuille crème | V70: 0.09
B71: chevrefeuille huile | V71: 0.09
B72: citron
B73: citronelle | AK73: 0.05
B74: cypres
B75: eucalyptus
B76: fraise bonbon
B77: gaultherie
B78: genievre | AA78: 0.075 | AK78: 0.055
B79: geranuim
B80: gingembre
B81: girofle | AK81: 0.3
B82: jasmin | AL82: 0.05
B83: lavande
B84: lilas | AL84: 0.2
B85: marjolaine | AZ85: 0
B86: menthe poivrée
B87: menthol
B88: methyl nicotinate
B89: millepertuis | AK89: 0.1
B90: muscade | AK90: 0.5 | AU90: 2
B91: myrrhe | AU91: 2
B92: niaouli
B93: orange douce
B94: origan
B95: oleoresine
B96: pin sylvestre
B97: romarin | AK97: 0
B98: sarriette | AK98: 0.29
B99: thym
B100: vanille
B101: verveine | AU101: 0.003
B102: wintergreen
B103: ylang | AK103: 0.09 | AL103: 1
...

Sheet 403e
A1: ='fichier huile essentielle'!A1:AC1 -> allergene
A2: seuil etiquettage | B2: 0.001 | C2: % | E2: 2 | F2: 3 | G2: 4 | H2: 5 | I2: 6 | J2: 7 | K2: 8 | L2: 9 | M2: 10 | N2: 11 | O2: 12 | P2: 13 | Q2: 14 | R2: 15 | S2: 16 | T2: 17 | U2: 18 | V2: 19 | W2: 20 | X2: 21 | Y2: 22 | Z2: 23 | AA2: 24 | AB2: 25 | AC2: 26 | AD2: 27 | AE2: 28 | AF2: 29 | AG2: 30 | AH2: 31 | AI2: 32 | AJ2: 33 | AK2: 34 | AL2: 35 | AM2: 36 | AN2: 37 | AO2: 38 | AP2: 39 | AQ2: 40 | AR2: 41 | AS2: 42 | AT2: 43 | AU2: 44 | AV2: 45 | AW2: 46 | AX2: 47 | AY2: 48 | AZ2: 49 | BA2: 50 | BB2: 51 | BC2: 52 | BD2: 53 | BE2: 54 | BF2: 55 | BG2: 56 | BH2: 57 | BI2: 58 | BJ2: 59 | BK2: 60 | BL2: 61 | BM2: 62 | BN2: 63 | BO2: 64 | BP2: 65 | BQ2: 66 | BR2: 67 | BS2: 68 | BT2: 69 | BU2: 70 | BV2: 71
A3: seuil interdiction | E3: ='fichier huile essentielle'!C4 -> 31.67 | F3: ='fichier huile essentielle'!D4 -> 10.7 | G3: ='fichier huile essentielle'!E4 -> 0 | H3: ='fichier huile essentielle'!F4 -> 0 | I3: ='fichier huile essentielle'!G4 -> 2.7 | J3: ='fichier huile essentielle'!H4 -> 27.7 | K3: ='fichier huile essentielle'!I4 -> 2.1 | L3: ='fichier huile essentielle'!J4 -> 8 | ... AF3: ='fichier huile essentielle'!AD4 -> 0.01
A4: max ifra | B4: reference produit | C4: % dans la reference | D4: huile essentielle | E4: ='fichier huile essentielle'!C5 -> alpha Isomethyl Ionone | F4: ='fichier huile essentielle'!D5 -> Amyl cinnamal | G4: ='fichier huile essentielle'!E5 -> Amylcinnamyl alcohol | H4: ='fichier huile essentielle'!F5 -> Anisyl alcohol | I4: ='fichier huile essentielle'!G5 -> Benzyl alcohol | J4: ='fichier huile essentielle'!H5 -> Benzyl benzoate | K4: ='fichier huile essentielle'!I5 -> Benzyl cinnamate | L4: ='fichier huile essentielle'!J5 -> Benzyl salicylate | ... AF4: ='fichier huile essentielle'!AD5 -> Methyl heptin carbonate
A5: =IF(D5<>"",VLOOKUP(D5,'fichier huile essentielle'!$B$7:$BZ$48,31,TRUE),"") -> 37.04 | B5: 403e | C5: 0.15 | D5: base chevrefeuille creme | E5: =IF($D5=""," ",$C5/100*VLOOKUP($D5,allergenes,E$2,TRUE)) -> 0 | F5: =IF($D5=""," ",$C5/100*VLOOKUP($D5,allergenes,F$2,TRUE)) -> 0.00020325 | G5: =IF($D5=""," ",$C5/100*VLOOKUP($D5,allergenes,G$2,TRUE)) -> 0 | H5: =IF($D5=""," ",$C5/100*VLOOKUP($D5,allergenes,H$2,TRUE)) -> 0 | I5: =IF($D5=""," ",$C5/100*VLOOKUP($D5,allergenes,I$2,TRUE)) -> 8.1e-06 | J5: =IF($D5=""," ",$C5/100*VLOOKUP($D5,allergenes,J$2,TRUE)) -> 0 | K5: =IF($D5=""," ",$C5/100*VLOOKUP($D5,allergenes,K$2,TRUE)) -> 0 | L5: =IF($D5=""," ",$C5/100*VLOOKUP($D5,allergenes,L$2,TRUE)) -> 2.1e-06 | ... AF5: =IF($D5=""," ",$C5/100*VLOOKUP($D5,allergenes,AF$2,TRUE)) -> 4.05e-05
A6: =IF(D6<>"",VLOOKUP(D6,'fichier huile essentielle'!$B$7:$BZ$48,31,TRUE),"") -> 0.13 | C6: 100 | D6: hh | E6: =IF($D6=""," ",$C6/100*VLOOKUP($D6,allergenes,E$2,TRUE)) -> 0 | F6: =IF($D6=""," ",$C6/100*VLOOKUP($D6,allergenes,F$2,TRUE)) -> 0 | G6: =IF($D6=""," ",$C6/100*VLOOKUP($D6,allergenes,G$2,TRUE)) -> 0 | H6: =IF($D6=""," ",$C6/100*VLOOKUP($D6,allergenes,H$2,TRUE)) -> 0 | I6: =IF($D6=""," ",$C6/100*VLOOKUP($D6,allergenes,I$2,TRUE)) -> 0.05 | J6: =IF($D6=""," ",$C6/100*VLOOKUP($D6,allergenes,J$2,TRUE)) -> 0 | K6: =IF($D6=""," ",$C6/100*VLOOKUP($D6,allergenes,K$2,TRUE)) -> 0 | L6: =IF($D6=""," ",$C6/100*VLOOKUP($D6,allergenes,L$2,TRUE)) -> 0 | ... AF6: =IF($D6=""," ",$C6/100*VLOOKUP($D6,allergenes,AF$2,TRUE)) -> 0
A7: =IF(D7<>"",VLOOKUP(D7,'fichier huile essentielle'!$B$7:$BZ$48,31,TRUE),"") | E7: =IF($D7=""," ",$C7/100*VLOOKUP($D7,allergenes,E$2,TRUE)) | F7: =IF($D7=""," ",$C7/100*VLOOKUP($D7,allergenes,F$2,TRUE)) | G7: =IF($D7=""," ",$C7/100*VLOOKUP($D7,allergenes,G$2,TRUE)) | H7: =IF($D7=""," ",$C7/100*VLOOKUP($D7,allergenes,H$2,TRUE)) | I7: =IF($D7=""," ",$C7/100*VLOOKUP($D7,allergenes,I$2,TRUE)) | J7: =IF($D7=""," ",$C7/100*VLOOKUP($D7,allergenes,J$2,TRUE)) | K7: =IF($D7=""," ",$C7/100*VLOOKUP($D7,allergenes,K$2,TRUE)) | L7: =IF($D7=""," ",$C7/100*VLOOKUP($D7,allergenes,L$2,TRUE)) | ... AF7: =IF($D7=""," ",$C7/100*VLOOKUP($D7,allergenes,AF$2,TRUE))
A8: =IF(D8<>"",VLOOKUP(D8,'fichier huile essentielle'!$B$7:$BZ$48,31,TRUE),"") | E8: =IF($D8=""," ",$C8/100*VLOOKUP($D8,allergenes,E$2,TRUE)) | F8: =IF($D8=""," ",$C8/100*VLOOKUP($D8,allergenes,F$2,TRUE)) | G8: =IF($D8=""," ",$C8/100*VLOOKUP($D8,allergenes,G$2,TRUE)) | H8: =IF($D8=""," ",$C8/100*VLOOKUP($D8,allergenes,H$2,TRUE)) | I8: =IF($D8=""," ",$C8/100*VLOOKUP($D8,allergenes,I$2,TRUE)) | J8: =IF($D8=""," ",$C8/100*VLOOKUP($D8,allergenes,J$2,TRUE)) | K8: =IF($D8=""," ",$C8/100*VLOOKUP($D8,allergenes,K$2,TRUE)) | L8: =IF($D8=""," ",$C8/100*VLOOKUP($D8,allergenes,L$2,TRUE)) | ... AF8: =IF($D8=""," ",$C8/100*VLOOKUP($D8,allergenes,AF$2,TRUE))
A9: =IF(D9<>"",VLOOKUP(D9,'fichier huile essentielle'!$B$7:$BZ$48,31,TRUE),"") | E9: =IF($D9=""," ",$C9/100*VLOOKUP($D9,allergenes,E$2,TRUE)) | F9: =IF($D9=""," ",$C9/100*VLOOKUP($D9,allergenes,F$2,TRUE)) | G9: =IF($D9=""," ",$C9/100*VLOOKUP($D9,allergenes,G$2,TRUE)) | H9: =IF($D9=""," ",$C9/100*VLOOKUP($D9,allergenes,H$2,TRUE)) | I9: =IF($D9=""," ",$C9/100*VLOOKUP($D9,allergenes,I$2,TRUE)) | J9: =IF($D9=""," ",$C9/100*VLOOKUP($D9,allergenes,J$2,TRUE)) | K9: =IF($D9=""," ",$C9/100*VLOOKUP($D9,allergenes,K$2,TRUE)) | L9: =IF($D9=""," ",$C9/100*VLOOKUP($D9,allergenes,L$2,TRUE)) | ... AF9: =IF($D9=""," ",$C9/100*VLOOKUP($D9,allergenes,AF$2,TRUE))
A10: =IF(D10<>"",VLOOKUP(D10,'fichier huile essentielle'!$B$7:$BZ$48,31,TRUE),"") | E10: =IF($D10=""," ",$C10/100*VLOOKUP($D10,allergenes,E$2,TRUE)) | F10: =IF($D10=""," ",$C10/100*VLOOKUP($D10,allergenes,F$2,TRUE)) | G10: =IF($D10=""," ",$C10/100*VLOOKUP($D10,allergenes,G$2,TRUE)) | H10: =IF($D10=""," ",$C10/100*VLOOKUP($D10,allergenes,H$2,TRUE)) | I10: =IF($D10=""," ",$C10/100*VLOOKUP($D10,allergenes,I$2,TRUE)) | J10: =IF($D10=""," ",$C10/100*VLOOKUP($D10,allergenes,J$2,TRUE)) | K10: =IF($D10=""," ",$C10/100*VLOOKUP($D10,allergenes,K$2,TRUE)) | L10: =IF($D10=""," ",$C10/100*VLOOKUP($D10,allergenes,L$2,TRUE)) | ... AF10: =IF($D10=""," ",$C10/100*VLOOKUP($D10,allergenes,AF$2,TRUE))
A11: =IF(D11<>"",VLOOKUP(D11,'fichier huile essentielle'!$B$7:$BZ$48,31,TRUE),"") | E11: =IF($D11=""," ",$C11/100*VLOOKUP($D11,allergenes,E$2,TRUE)) | F11: =IF($D11=""," ",$C11/100*VLOOKUP($D11,allergenes,F$2,TRUE)) | G11: =IF($D11=""," ",$C11/100*VLOOKUP($D11,allergenes,G$2,TRUE)) | H11: =IF($D11=""," ",$C11/100*VLOOKUP($D11,allergenes,H$2,TRUE)) | I11: =IF($D11=""," ",$C11/100*VLOOKUP($D11,allergenes,I$2,TRUE)) | J11: =IF($D11=""," ",$C11/100*VLOOKUP($D11,allergenes,J$2,TRUE)) | K11: =IF($D11=""," ",$C11/100*VLOOKUP($D11,allergenes,K$2,TRUE)) | L11: =IF($D11=""," ",$C11/100*VLOOKUP($D11,allergenes,L$2,TRUE)) | ... AF11: =IF($D11=""," ",$C11/100*VLOOKUP($D11,allergenes,AF$2,TRUE))
A12: =IF(D12<>"",VLOOKUP(D12,'fichier huile essentielle'!$B$7:$BZ$48,31,TRUE),"") | E12: =IF($D12=""," ",$C12/100*VLOOKUP($D12,allergenes,E$2,TRUE)) | F12: =IF($D12=""," ",$C12/100*VLOOKUP($D12,allergenes,F$2,TRUE)) | G12: =IF($D12=""," ",$C12/100*VLOOKUP($D12,allergenes,G$2,TRUE)) | H12: =IF($D12=""," ",$C12/100*VLOOKUP($D12,allergenes,H$2,TRUE)) | I12: =IF($D12=""," ",$C12/100*VLOOKUP($D12,allergenes,I$2,TRUE)) | J12: =IF($D12=""," ",$C12/100*VLOOKUP($D12,allergenes,J$2,TRUE)) | K12: =IF($D12=""," ",$C12/100*VLOOKUP($D12,allergenes,K$2,TRUE)) | L12: =IF($D12=""," ",$C12/100*VLOOKUP($D12,allergenes,L$2,TRUE)) | ... AF12: =IF($D12=""," ",$C12/100*VLOOKUP($D12,allergenes,AF$2,TRUE))
A13: =IF(D13<>"",VLOOKUP(D13,'fichier huile essentielle'!$B$7:$BZ$48,31,TRUE),"") | E13: =IF($D13=""," ",$C13/100*VLOOKUP($D13,allergenes,E$2,TRUE)) | F13: =IF($D13=""," ",$C13/100*VLOOKUP($D13,allergenes,F$2,TRUE)) | G13: =IF($D13=""," ",$C13/100*VLOOKUP($D13,allergenes,G$2,TRUE)) | H13: =IF($D13=""," ",$C13/100*VLOOKUP($D13,allergenes,H$2,TRUE)) | I13: =IF($D13=""," ",$C13/100*VLOOKUP($D13,allergenes,I$2,TRUE)) | J13: =IF($D13=""," ",$C13/100*VLOOKUP($D13,allergenes,J$2,TRUE)) | K13: =IF($D13=""," ",$C13/100*VLOOKUP($D13,allergenes,K$2,TRUE)) | L13: =IF($D13=""," ",$C13/100*VLOOKUP($D13,allergenes,L$2,TRUE)) | ... AF13: =IF($D13=""," ",$C13/100*VLOOKUP($D13,allergenes,AF$2,TRUE))
A14: =IF(D14<>"",VLOOKUP(D14,'fichier huile essentielle'!$B$7:$BZ$48,31,TRUE),"") | E14: =IF($D14=""," ",$C14/100*VLOOKUP($D14,allergenes,E$2,TRUE)) | F14: =IF($D14=""," ",$C14/100*VLOOKUP($D14,allergenes,F$2,TRUE)) | G14: =IF($D14=""," ",$C14/100*VLOOKUP($D14,allergenes,G$2,TRUE)) | H14: =IF($D14=""," ",$C14/100*VLOOKUP($D14,allergenes,H$2,TRUE)) | I14: =IF($D14=""," ",$C14/100*VLOOKUP($D14,allergenes,I$2,TRUE)) | J14: =IF($D14=""," ",$C14/100*VLOOKUP($D14,allergenes,J$2,TRUE)) | K14: =IF($D14=""," ",$C14/100*VLOOKUP($D14,allergenes,K$2,TRUE)) | L14: =IF($D14=""," ",$C14/100*VLOOKUP($D14,allergenes,L$2,TRUE)) | ... AF14: =IF($D14=""," ",$C14/100*VLOOKUP($D14,allergenes,AF$2,TRUE))
A15: =IF(D15<>"",VLOOKUP(D15,'fichier huile essentielle'!$B$7:$BZ$48,31,TRUE),"") | E15: =IF($D15=""," ",$C15/100*VLOOKUP($D15,allergenes,E$2,TRUE)) | F15: =IF($D15=""," ",$C15/100*VLOOKUP($D15,allergenes,F$2,TRUE)) | G15: =IF($D15=""," ",$C15/100*VLOOKUP($D15,allergenes,G$2,TRUE)) | H15: =IF($D15=""," ",$C15/100*VLOOKUP($D15,allergenes,H$2,TRUE)) | I15: =IF($D15=""," ",$C15/100*VLOOKUP($D15,allergenes,I$2,TRUE)) | J15: =IF($D15=""," ",$C15/100*VLOOKUP($D15,allergenes,J$2,TRUE)) | K15: =IF($D15=""," ",$C15/100*VLOOKUP($D15,allergenes,K$2,TRUE)) | L15: =IF($D15=""," ",$C15/100*VLOOKUP($D15,allergenes,L$2,TRUE)) | ... AF15: =IF($D15=""," ",$C15/100*VLOOKUP($D15,allergenes,AF$2,TRUE))
A16: =IF(D16<>"",VLOOKUP(D16,'fichier huile essentielle'!$B$7:$BZ$48,31,TRUE),"") | E16: =IF($D16=""," ",$C16/100*VLOOKUP($D16,allergenes,E$2,TRUE)) | F16: =IF($D16=""," ",$C16/100*VLOOKUP($D16,allergenes,F$2,TRUE)) | G16: =IF($D16=""," ",$C16/100*VLOOKUP($D16,allergenes,G$2,TRUE)) | H16: =IF($D16=""," ",$C16/100*VLOOKUP($D16,allergenes,H$2,TRUE)) | I16: =IF($D16=""," ",$C16/100*VLOOKUP($D16,allergenes,I$2,TRUE)) | J16: =IF($D16=""," ",$C16/100*VLOOKUP($D16,allergenes,J$2,TRUE)) | K16: =IF($D16=""," ",$C16/100*VLOOKUP($D16,allergenes,K$2,TRUE)) | L16: =IF($D16=""," ",$C16/100*VLOOKUP($D16,allergenes,L$2,TRUE)) | ... AF16: =IF($D16=""," ",$C16/100*VLOOKUP($D16,allergenes,AF$2,TRUE))
A17: =IF(D17<>"",VLOOKUP(D17,'fichier huile essentielle'!$B$7:$BZ$48,31,TRUE),"") | E17: =IF($D17=""," ",$C17/100*VLOOKUP($D17,allergenes,E$2,TRUE)) | F17: =IF($D17=""," ",$C17/100*VLOOKUP($D17,allergenes,F$2,TRUE)) | G17: =IF($D17=""," ",$C17/100*VLOOKUP($D17,allergenes,G$2,TRUE)) | H17: =IF($D17=""," ",$C17/100*VLOOKUP($D17,allergenes,H$2,TRUE)) | I17: =IF($D17=""," ",$C17/100*VLOOKUP($D17,allergenes,I$2,TRUE)) | J17: =IF($D17=""," ",$C17/100*VLOOKUP($D17,allergenes,J$2,TRUE)) | K17: =IF($D17=""," ",$C17/100*VLOOKUP($D17,allergenes,K$2,TRUE)) | L17: =IF($D17=""," ",$C17/100*VLOOKUP($D17,allergenes,L$2,TRUE)) | ... AF17: =IF($D17=""," ",$C17/100*VLOOKUP($D17,allergenes,AF$2,TRUE))
A18: =IF(D18<>"",VLOOKUP(D18,'fichier huile essentielle'!$B$7:$BZ$48,31,TRUE),"") | E18: =IF($D18=""," ",$C18/100*VLOOKUP($D18,allergenes,E$2,TRUE)) | F18: =IF($D18=""," ",$C18/100*VLOOKUP($D18,allergenes,F$2,TRUE)) | G18: =IF($D18=""," ",$C18/100*VLOOKUP($D18,allergenes,G$2,TRUE)) | H18: =IF($D18=""," ",$C18/100*VLOOKUP($D18,allergenes,H$2,TRUE)) | I18: =IF($D18=""," ",$C18/100*VLOOKUP($D18,allergenes,I$2,TRUE)) | J18: =IF($D18=""," ",$C18/100*VLOOKUP($D18,allergenes,J$2,TRUE)) | K18: =IF($D18=""," ",$C18/100*VLOOKUP($D18,allergenes,K$2,TRUE)) | L18: =IF($D18=""," ",$C18/100*VLOOKUP($D18,allergenes,L$2,TRUE)) | ... AF18: =IF($D18=""," ",$C18/100*VLOOKUP($D18,allergenes,AF$2,TRUE))
A19: =IF(D19<>"",VLOOKUP(D19,'fichier huile essentielle'!$B$7:$BZ$48,31,TRUE),"") | E19: =IF($D19=""," ",$C19/100*VLOOKUP($D19,allergenes,E$2,TRUE)) | F19: =IF($D19=""," ",$C19/100*VLOOKUP($D19,allergenes,F$2,TRUE)) | G19: =IF($D19=""," ",$C19/100*VLOOKUP($D19,allergenes,G$2,TRUE)) | H19: =IF($D19=""," ",$C19/100*VLOOKUP($D19,allergenes,H$2,TRUE)) | I19: =IF($D19=""," ",$C19/100*VLOOKUP($D19,allergenes,I$2,TRUE)) | J19: =IF($D19=""," ",$C19/100*VLOOKUP($D19,allergenes,J$2,TRUE)) | K19: =IF($D19=""," ",$C19/100*VLOOKUP($D19,allergenes,K$2,TRUE)) | L19: =IF($D19=""," ",$C19/100*VLOOKUP($D19,allergenes,L$2,TRUE)) | ... AF19: =IF($D19=""," ",$C19/100*VLOOKUP($D19,allergenes,AF$2,TRUE))
B20: total par allergene | E20: =SUM(E$5:E$14) -> 0 | F20: =SUM(F$5:F$14) -> 0.00020325 | G20: =SUM(G$5:G$14) -> 0 | H20: =SUM(H$5:H$14) -> 0 | I20: =SUM(I$5:I$14) -> 0.0500081 | J20: =SUM(J$5:J$14) -> 0 | K20: =SUM(K$5:K$14) -> 0 | L20: =SUM(L$5:L$14) -> 2.1e-06 | ... AF20: =SUM(AF$5:AF$14) -> 4.05e-05
C21: total interdiction: | D21: =SUM(E21:AZ21) -> 2 | F21: =IF(AND(F3<>0,F20>F3),1," ") | G21: =IF(AND(G3<>0,G20>G3),1," ") | H21: =IF(AND(H3<>0,H20>H3),1," ") | I21: =IF(AND(I3<>0,I20>I3),1," ") | J21: =IF(AND(J3<>0,J20>J3),1," ") | K21: =IF(AND(K3<>0,K20>K3),1," ") | L21: =IF(AND(L3<>0,L20>L3),1," ") | M21: =IF(AND(M3<>0,M20>M3),1," ") | ... AF21: =IF(AND(AF3<>0,AF20>AF3),1," ")
A23: cmr
A25: seuil interdiction | E25: =IF('fichier huile essentielle'!D54=0," ",'fichier huile essentielle'!D54) | F25: =IF('fichier huile essentielle'!E54=0," ",'fichier huile essentielle'!E54) | G25: =IF('fichier huile essentielle'!F54=0," ",'fichier huile essentielle'!F54) | H25: =IF('fichier huile essentielle'!G54=0," ",'fichier huile essentielle'!G54) | I25: =IF('fichier huile essentielle'!H54=0," ",'fichier huile essentielle'!H54) | J25: =IF('fichier huile essentielle'!I54=0," ",'fichier huile essentielle'!I54) | K25: =IF('fichier huile essentielle'!J54=0," ",'fichier huile essentielle'!J54) | L25: =IF('fichier huile essentielle'!K54=0," ",'fichier huile essentielle'!K54) | ... BC25: =IF('fichier huile essentielle'!BB54=0," ",'fichier huile essentielle'!BB54)
B26: reference produit | C26: % dans la reference | D26: huile essentielle | E26: ='fichier huile essentielle'!D55 -> 46-11-1 | F26: ='fichier huile essentielle'!E55 -> 3033-23-6 | G26: ='fichier huile essentielle'!F55 -> 120-80-9 | H26: ='fichier huile essentielle'!G55 -> 111-77-3 | I26: ='fichier huile essentielle'!H55 -> 5406-86-0 | J26: ='fichier huile essentielle'!I55 -> 110-80-5 | K26: ='fichier huile essentielle'!J55 -> 123-05-7 | L26: ='fichier huile essentielle'!K55 -> 109-86-4 | ... BC26: ='fichier huile essentielle'!BB55 -> 0
B27: =B5 -> 403e | C27: =IF(C5<>"",C5,"") -> 0.15 | D27: =IF(D5<>"",D5,"") -> base chevrefeuille creme | E27: =IF($D27=""," ",$C27/100*VLOOKUP($D27,cmr,E$2+1,TRUE)) -> 0 | F27: =IF($D27=""," ",$C27/100*VLOOKUP($D27,cmr,F$2+1,TRUE)) -> 0 | G27: =IF($D27=""," ",$C27/100*VLOOKUP($D27,cmr,G$2+1,TRUE)) -> 0 | H27: =IF($D27=""," ",$C27/100*VLOOKUP($D27,cmr,H$2+1,TRUE)) -> 0 | I27: =IF($D27=""," ",$C27/100*VLOOKUP($D27,cmr,I$2+1,TRUE)) -> 0 | J27: =IF($D27=""," ",$C27/100*VLOOKUP($D27,cmr,J$2+1,TRUE)) -> 0 | K27: =IF($D27=""," ",$C27/100*VLOOKUP($D27,cmr,K$2+1,TRUE)) -> 0 | L27: =IF($D27=""," ",$C27/100*VLOOKUP($D27,cmr,L$2+1,TRUE)) -> 0 | ... BB27: =IF($D27=""," ",$C27/100*VLOOKUP($D27,cmr,BB$2+1,TRUE)) -> 0
C28: =IF(C6<>"",C6,"") -> 100 | D28: =IF(D6<>"",D6,"") -> hh | E28: =IF($D28=""," ",$C28/100*VLOOKUP($D28,cmr,E$2+1,TRUE)) -> 0 | F28: =IF($D28=""," ",$C28/100*VLOOKUP($D28,cmr,F$2+1,TRUE)) -> 0 | G28: =IF($D28=""," ",$C28/100*VLOOKUP($D28,cmr,G$2+1,TRUE)) -> 0 | H28: =IF($D28=""," ",$C28/100*VLOOKUP($D28,cmr,H$2+1,TRUE)) -> 0 | I28: =IF($D28=""," ",$C28/100*VLOOKUP($D28,cmr,I$2+1,TRUE)) -> 0 | J28: =IF($D28=""," ",$C28/100*VLOOKUP($D28,cmr,J$2+1,TRUE)) -> 0 | K28: =IF($D28=""," ",$C28/100*VLOOKUP($D28,cmr,K$2+1,TRUE)) -> 0 | L28: =IF($D28=""," ",$C28/100*VLOOKUP($D28,cmr,L$2+1,TRUE)) -> 0 | ... BB28: =IF($D28=""," ",$C28/100*VLOOKUP($D28,cmr,BB$2+1,TRUE)) -> 0
C29: =IF(C7<>"",C7,"") | D29: =IF(D7<>"",D7,"") | E29: =IF($D29=""," ",$C29/100*VLOOKUP($D29,cmr,E$2+1,TRUE)) | F29: =IF($D29=""," ",$C29/100*VLOOKUP($D29,cmr,F$2+1,TRUE)) | G29: =IF($D29=""," ",$C29/100*VLOOKUP($D29,cmr,G$2+1,TRUE)) | H29: =IF($D29=""," ",$C29/100*VLOOKUP($D29,cmr,H$2+1,TRUE)) | I29: =IF($D29=""," ",$C29/100*VLOOKUP($D29,cmr,I$2+1,TRUE)) | J29: =IF($D29=""," ",$C29/100*VLOOKUP($D29,cmr,J$2+1,TRUE)) | K29: =IF($D29=""," ",$C29/100*VLOOKUP($D29,cmr,K$2+1,TRUE)) | L29: =IF($D29=""," ",$C29/100*VLOOKUP($D29,cmr,L$2+1,TRUE)) | ... BB29: =IF($D29=""," ",$C29/100*VLOOKUP($D29,cmr,BB$2+1,TRUE))
C30: =IF(C8<>"",C8,"") | D30: =IF(D8<>"",D8,"") | E30: =IF($D30=""," ",$C30/100*VLOOKUP($D30,cmr,E$2+1,TRUE)) | F30: =IF($D30=""," ",$C30/100*VLOOKUP($D30,cmr,F$2+1,TRUE)) | G30: =IF($D30=""," ",$C30/100*VLOOKUP($D30,cmr,G$2+1,TRUE)) | H30: =IF($D30=""," ",$C30/100*VLOOKUP($D30,cmr,H$2+1,TRUE)) | I30: =IF($D30=""," ",$C30/100*VLOOKUP($D30,cmr,I$2+1,TRUE)) | J30: =IF($D30=""," ",$C30/100*VLOOKUP($D30,cmr,J$2+1,TRUE)) | K30: =IF($D30=""," ",$C30/100*VLOOKUP($D30,cmr,K$2+1,TRUE)) | L30: =IF($D30=""," ",$C30/100*VLOOKUP($D30,cmr,L$2+1,TRUE)) | ... BB30: =IF($D30=""," ",$C30/100*VLOOKUP($D30,cmr,BB$2+1,TRUE))
C31: =IF(C9<>"",C9,"") | D31: =IF(D9<>"",D9,"") | E31: =IF($D31=""," ",$C31/100*VLOOKUP($D31,cmr,E$2+1,TRUE)) | F31: =IF($D31=""," ",$C31/100*VLOOKUP($D31,cmr,F$2+1,TRUE)) | G31: =IF($D31=""," ",$C31/100*VLOOKUP($D31,cmr,G$2+1,TRUE)) | H31: =IF($D31=""," ",$C31/100*VLOOKUP($D31,cmr,H$2+1,TRUE)) | I31: =IF($D31=""," ",$C31/100*VLOOKUP($D31,cmr,I$2+1,TRUE)) | J31: =IF($D31=""," ",$C31/100*VLOOKUP($D31,cmr,J$2+1,TRUE)) | K31: =IF($D31=""," ",$C31/100*VLOOKUP($D31,cmr,K$2+1,TRUE)) | L31: =IF($D31=""," ",$C31/100*VLOOKUP($D31,cmr,L$2+1,TRUE)) | ... BB31: =IF($D31=""," ",$C31/100*VLOOKUP($D31,cmr,BB$2+1,TRUE))
C32: =IF(C10<>"",C10,"") | D32: =IF(D10<>"",D10,"") | E32: =IF($D32=""," ",$C32/100*VLOOKUP($D32,cmr,E$2+1,TRUE)) | F32: =IF($D32=""," ",$C32/100*VLOOKUP($D32,cmr,F$2+1,TRUE)) | G32: =IF($D32=""," ",$C32/100*VLOOKUP($D32,cmr,G$2+1,TRUE)) | H32: =IF($D32=""," ",$C32/100*VLOOKUP($D32,cmr,H$2+1,TRUE)) | I32: =IF($D32=""," ",$C32/100*VLOOKUP($D32,cmr,I$2+1,TRUE)) | J32: =IF($D32=""," ",$C32/100*VLOOKUP($D32,cmr,J$2+1,TRUE)) | K32: =IF($D32=""," ",$C32/100*VLOOKUP($D32,cmr,K$2+1,TRUE)) | L32: =IF($D32=""," ",$C32/100*VLOOKUP($D32,cmr,L$2+1,TRUE)) | ... BB32: =IF($D32=""," ",$C32/100*VLOOKUP($D32,cmr,BB$2+1,TRUE))
C33: =IF(C11<>"",C11,"") | D33: =IF(D11<>"",D11,"") | E33: =IF($D33=""," ",$C33/100*VLOOKUP($D33,cmr,E$2+1,TRUE)) | F33: =IF($D33=""," ",$C33/100*VLOOKUP($D33,cmr,F$2+1,TRUE)) | G33: =IF($D33=""," ",$C33/100*VLOOKUP($D33,cmr,G$2+1,TRUE)) | H33: =IF($D33=""," ",$C33/100*VLOOKUP($D33,cmr,H$2+1,TRUE)) | I33: =IF($D33=""," ",$C33/100*VLOOKUP($D33,cmr,I$2+1,TRUE)) | J33: =IF($D33=""," ",$C33/100*VLOOKUP($D33,cmr,J$2+1,TRUE)) | K33: =IF($D33=""," ",$C33/100*VLOOKUP($D33,cmr,K$2+1,TRUE)) | L33: =IF($D33=""," ",$C33/100*VLOOKUP($D33,cmr,L$2+1,TRUE)) | ... BB33: =IF($D33=""," ",$C33/100*VLOOKUP($D33,cmr,BB$2+1,TRUE))
C34: =IF(C12<>"",C12,"") | D34: =IF(D12<>"",D12,"") | E34: =IF($D34=""," ",$C34/100*VLOOKUP($D34,cmr,E$2+1,TRUE)) | F34: =IF($D34=""," ",$C34/100*VLOOKUP($D34,cmr,F$2+1,TRUE)) | G34: =IF($D34=""," ",$C34/100*VLOOKUP($D34,cmr,G$2+1,TRUE)) | H34: =IF($D34=""," ",$C34/100*VLOOKUP($D34,cmr,H$2+1,TRUE)) | I34: =IF($D34=""," ",$C34/100*VLOOKUP($D34,cmr,I$2+1,TRUE)) | J34: =IF($D34=""," ",$C34/100*VLOOKUP($D34,cmr,J$2+1,TRUE)) | K34: =IF($D34=""," ",$C34/100*VLOOKUP($D34,cmr,K$2+1,TRUE)) | L34: =IF($D34=""," ",$C34/100*VLOOKUP($D34,cmr,L$2+1,TRUE)) | ... BB34: =IF($D34=""," ",$C34/100*VLOOKUP($D34,cmr,BB$2+1,TRUE))
C35: =IF(C13<>"",C13,"") | D35: =IF(D13<>"",D13,"") | E35: =IF($D35=""," ",$C35/100*VLOOKUP($D35,cmr,E$2+1,TRUE)) | F35: =IF($D35=""," ",$C35/100*VLOOKUP($D35,cmr,F$2+1,TRUE)) | G35: =IF($D35=""," ",$C35/100*VLOOKUP($D35,cmr,G$2+1,TRUE)) | H35: =IF($D35=""," ",$C35/100*VLOOKUP($D35,cmr,H$2+1,TRUE)) | I35: =IF($D35=""," ",$C35/100*VLOOKUP($D35,cmr,I$2+1,TRUE)) | J35: =IF($D35=""," ",$C35/100*VLOOKUP($D35,cmr,J$2+1,TRUE)) | K35: =IF($D35=""," ",$C35/100*VLOOKUP($D35,cmr,K$2+1,TRUE)) | L35: =IF($D35=""," ",$C35/100*VLOOKUP($D35,cmr,L$2+1,TRUE)) | ... BB35: =IF($D35=""," ",$C35/100*VLOOKUP($D35,cmr,BB$2+1,TRUE))
C36: =IF(C14<>"",C14,"") | D36: =IF(D14<>"",D14,"") | E36: =IF($D36=""," ",$C36/100*VLOOKUP($D36,cmr,E$2+1,TRUE)) | F36: =IF($D36=""," ",$C36/100*VLOOKUP($D36,cmr,F$2+1,TRUE)) | G36: =IF($D36=""," ",$C36/100*VLOOKUP($D36,cmr,G$2+1,TRUE)) | H36: =IF($D36=""," ",$C36/100*VLOOKUP($D36,cmr,H$2+1,TRUE)) | I36: =IF($D36=""," ",$C36/100*VLOOKUP($D36,cmr,I$2+1,TRUE)) | J36: =IF($D36=""," ",$C36/100*VLOOKUP($D36,cmr,J$2+1,TRUE)) | K36: =IF($D36=""," ",$C36/100*VLOOKUP($D36,cmr,K$2+1,TRUE)) | L36: =IF($D36=""," ",$C36/100*VLOOKUP($D36,cmr,L$2+1,TRUE)) | ... BB36: =IF($D36=""," ",$C36/100*VLOOKUP($D36,cmr,BB$2+1,TRUE))
C37: =IF(C15<>"",C15,"") | D37: =IF(D15<>"",D15,"") | E37: =IF($D37=""," ",$C37/100*VLOOKUP($D37,cmr,E$2+1,TRUE)) | F37: =IF($D37=""," ",$C37/100*VLOOKUP($D37,cmr,F$2+1,TRUE)) | G37: =IF($D37=""," ",$C37/100*VLOOKUP($D37,cmr,G$2+1,TRUE)) | H37: =IF($D37=""," ",$C37/100*VLOOKUP($D37,cmr,H$2+1,TRUE)) | I37: =IF($D37=""," ",$C37/100*VLOOKUP($D37,cmr,I$2+1,TRUE)) | J37: =IF($D37=""," ",$C37/100*VLOOKUP($D37,cmr,J$2+1,TRUE)) | K37: =IF($D37=""," ",$C37/100*VLOOKUP($D37,cmr,K$2+1,TRUE)) | L37: =IF($D37=""," ",$C37/100*VLOOKUP($D37,cmr,L$2+1,TRUE)) | ... BB37: =IF($D37=""," ",$C37/100*VLOOKUP($D37,cmr,BB$2+1,TRUE))
C38: =IF(C16<>"",C16,"") | D38: =IF(D16<>"",D16,"") | E38: =IF($D38=""," ",$C38/100*VLOOKUP($D38,cmr,E$2+1,TRUE)) | F38: =IF($D38=""," ",$C38/100*VLOOKUP($D38,cmr,F$2+1,TRUE)) | G38: =IF($D38=""," ",$C38/100*VLOOKUP($D38,cmr,G$2+1,TRUE)) | H38: =IF($D38=""," ",$C38/100*VLOOKUP($D38,cmr,H$2+1,TRUE)) | I38: =IF($D38=""," ",$C38/100*VLOOKUP($D38,cmr,I$2+1,TRUE)) | J38: =IF($D38=""," ",$C38/100*VLOOKUP($D38,cmr,J$2+1,TRUE)) | K38: =IF($D38=""," ",$C38/100*VLOOKUP($D38,cmr,K$2+1,TRUE)) | L38: =IF($D38=""," ",$C38/100*VLOOKUP($D38,cmr,L$2+1,TRUE)) | ... BB38: =IF($D38=""," ",$C38/100*VLOOKUP($D38,cmr,BB$2+1,TRUE))
C39: =IF(C17<>"",C17,"") | D39: =IF(D17<>"",D17,"") | E39: =IF($D39=""," ",$C39/100*VLOOKUP($D39,cmr,E$2+1,TRUE)) | F39: =IF($D39=""," ",$C39/100*VLOOKUP($D39,cmr,F$2+1,TRUE)) | G39: =IF($D39=""," ",$C39/100*VLOOKUP($D39,cmr,G$2+1,TRUE)) | H39: =IF($D39=""," ",$C39/100*VLOOKUP($D39,cmr,H$2+1,TRUE)) | I39: =IF($D39=""," ",$C39/100*VLOOKUP($D39,cmr,I$2+1,TRUE)) | J39: =IF($D39=""," ",$C39/100*VLOOKUP($D39,cmr,J$2+1,TRUE)) | K39: =IF($D39=""," ",$C39/100*VLOOKUP($D39,cmr,K$2+1,TRUE)) | L39: =IF($D39=""," ",$C39/100*VLOOKUP($D39,cmr,L$2+1,TRUE)) | ... BB39: =IF($D39=""," ",$C39/100*VLOOKUP($D39,cmr,BB$2+1,TRUE))
... C42: =IF(C20<>"",C20,"") | D42: =IF(D20<>"",D20,"") | E42: =IF($D42=""," ",$C42/100*VLOOKUP($D42,cmr,E$2+1,TRUE)) | F42: =IF($D42=""," ",$C42/100*VLOOKUP($D42,cmr,F$2+1,TRUE)) | G42: =IF($D42=""," ",$C42/100*VLOOKUP($D42,cmr,G$2+1,TRUE)) | H42: =IF($D42=""," ",$C42/100*VLOOKUP($D42,cmr,H$2+1,TRUE)) | I42: =IF($D42=""," ",$C42/100*VLOOKUP($D42,cmr,I$2+1,TRUE)) | J42: =IF($D42=""," ",$C42/100*VLOOKUP($D42,cmr,J$2+1,TRUE)) | K42: =IF($D42=""," ",$C42/100*VLOOKUP($D42,cmr,K$2+1,TRUE)) | L42: =IF($D42=""," ",$C42/100*VLOOKUP($D42,cmr,L$2+1,TRUE)) | ... BB42: =IF($D42=""," ",$C42/100*VLOOKUP($D42,cmr,BB$2+1,TRUE))
C43: =IF(C21<>"",C21,"") -> total interdiction: | D43: total cmr | E43: =SUM(E27:E42) -> 0 | F43: =SUM(F27:F42) -> 0 | G43: =SUM(G27:G42) -> 0 | H43: =SUM(H27:H42) -> 0 | I43: =SUM(I27:I42) -> 0 | J43: =SUM(J27:J42) -> 0 | K43: =SUM(K27:K42) -> 0 | L43: =SUM(L27:L42) -> 0 | ... BC43: =SUM(BC27:BC42) -> 0
C44: total interdiction: | D44: =SUM(E44:BC44) -> 1 | E44: =IF(AND(E25<>0,E43>E25),1," ") | F44: =IF(AND(F25<>0,F43>F25),1," ") | G44: =IF(AND(G25<>0,G43>G25),1," ") | H44: =IF(AND(H25<>0,H43>H25),1," ") | I44: =IF(AND(I25<>0,I43>I25),1," ") | J44: =IF(AND(J25<>0,J43>J25),1," ") | K44: =IF(AND(K25<>0,K43>K25),1," ") | L44: =IF(AND(L25<>0,L43>L25),1," ") | ... BC44: =IF(AND(BC25<>0,BC43>BC25),1," ")
