Workbook
Name allergenes: 'fichier huile essentielle'!$B$8:$BR$49
Name cmr: 'fichier huile essentielle'!$B$55:$CA$104

Sheet Feuil1
A1: Identification du produit : | C1: he cajeput
A2: La présence de la substance doit être indiquée dans la liste des ingrédients visés à l'article 6 paragraphe 1, point g),
A3: lorsque sa concentration est supérieure:
A4: — à 0,001 % (10 ppm) dans les produits non rincés | D4: 1 PPM = 1 mg/kg
A5: — à 0,01 % (100 ppm) dans les produits rincés
A7: Concentration en parfum | B7: Allergène | C7: Numéro CAS | D7: Concentration en allergène du parfum | E7: Concentration en allergène du produit % | F7: Concentration en allergène du produit en ppm | G7: Composant à indiquer sur l'étiquette si >10
A8: 100 | B8: alpha Isomethyl Ionone | C8: 127-51-5 | D8: 0 | E8: =A$8*D8/100 -> 0 | F8: =E8*10000 -> 0
B9: Amyl cinnamal | C9: 122-40-7 | D9: 0 | E9: =A$8*D9/100 -> 0 | F9: =E9*10000 -> 0
B10: Amylcinnamyl alcohol | C10: 101-85-9 | D10: 0 | E10: =A$8*D10/100 -> 0 | F10: =E10*10000 -> 0
B11: Anisyl alcohol | C11: 105-13-5 | D11: 0 | E11: =A$8*D11/100 -> 0 | F11: =E11*10000 -> 0
B12: Benzyl alcohol | C12: 100-51-6 | D12: 0 | E12: =A$8*D12/100 -> 0 | F12: =E12*10000 -> 0
B13: Benzyl benzoate | C13: 120-51-4 | D13: 0 | E13: =A$8*D13/100 -> 0 | F13: =E13*10000 -> 0
B14: Benzyl cinnamate | C14: 103-41-3 | D14: 0 | E14: =A$8*D14/100 -> 0 | F14: =E14*10000 -> 0
B15: Benzyl salicylate | C15: 118-58-1 | D15: 0 | E15: =A$8*D15/100 -> 0 | F15: =E15*10000 -> 0
B16: Cinnamal | C16: 104-55-2 | D16: 0 | E16: =A$8*D16/100 -> 0 | F16: =E16*10000 -> 0
B17: Cinnamyl alcohol | C17: 104-54-1 | D17: 0 | E17: =A$8*D17/100 -> 0 | F17: =E17*10000 -> 0
B18: Citral | C18: 5392-40-5 | D18: 0.05 | E18: =A$8*D18/100 -> 0.05 | F18: =E18*10000 -> 500
B19: Citronellol | C19: 106-22-9 | D19: 0.05 | E19: =A$8*D19/100 -> 0.05 | F19: =E19*10000 -> 500
B20: Coumarin | C20: 91-64-5 | D20: 0 | E20: =A$8*D20/100 -> 0 | F20: =E20*10000 -> 0
... B33: Methyl heptin carbonate | C33: 111-12-6 | D33: 0 | E33: =A$8*D33/100 -> 0 | F33: =E33*10000 -> 0

Sheet Feuil2
A1: Identification du produit : | C1: he camomille
A2: La présence de la substance doit être indiquée dans la liste des ingrédients visés à l'article 6 paragraphe 1, point g),
A3: lorsque sa concentration est supérieure:
A4: — à 0,001 % (10 ppm) dans les produits non rincés | D4: 1 PPM = 1 mg/kg
A5: — à 0,01 % (100 ppm) dans les produits rincés
A7: Concentration en parfum | B7: Allergène | C7: Numéro CAS | D7: Concentration en allergène du parfum | E7: Concentration en allergène du produit % | F7: Concentration en allergène du produit en ppm | G7: Composant à indiquer sur l'étiquette si >10
A8: 100 | B8: alpha Isomethyl Ionone | C8: 127-51-5 | D8: 0 | E8: =A$8*D8/100 -> 0 | F8: =E8*10000 -> 0
B9: Amyl cinnamal | C9: 122-40-7 | D9: 0 | E9: =A$8*D9/100 -> 0 | F9: =E9*10000 -> 0
B10: Amylcinnamyl alcohol | C10: 101-85-9 | D10: 0 | E10: =A$8*D10/100 -> 0 | F10: =E10*10000 -> 0
B11: Anisyl alcohol | C11: 105-13-5 | D11: 0 | E11: =A$8*D11/100 -> 0 | F11: =E11*10000 -> 0
B12: Benzyl alcohol | C12: 100-51-6 | D12: 0 | E12: =A$8*D12/100 -> 0 | F12: =E12*10000 -> 0
B13: Benzyl benzoate | C13: 120-51-4 | D13: 0 | E13: =A$8*D13/100 -> 0 | F13: =E13*10000 -> 0
B14: Benzyl cinnamate | C14: 103-41-3 | D14: 0 | E14: =A$8*D14/100 -> 0 | F14: =E14*10000 -> 0
B15: Benzyl salicylate | C15: 118-58-1 | D15: 0 | E15: =A$8*D15/100 -> 0 | F15: =E15*10000 -> 0
B16: Cinnamal | C16: 104-55-2 | D16: 0 | E16: =A$8*D16/100 -> 0 | F16: =E16*10000 -> 0
B17: Cinnamyl alcohol | C17: 104-54-1 | D17: 0 | E17: =A$8*D17/100 -> 0 | F17: =E17*10000 -> 0
B18: Citral | C18: 5392-40-5 | D18: 0 | E18: =A$8*D18/100 -> 0 | F18: =E18*10000 -> 0
B19: Citronellol | C19: 106-22-9 | D19: 0 | E19: =A$8*D19/100 -> 0 | F19: =E19*10000 -> 0
B20: Coumarin | C20: 91-64-5 | D20: 0 | E20: =A$8*D20/100 -> 0 | F20: =E20*10000 -> 0
... B33: Methyl heptin carbonate | C33: 111-12-6 | D33: 0 | E33: =A$8*D33/100 -> 0 | F33: =E33*10000 -> 0

Sheet Feuil3
A1: Identification du produit : | C1: he cannelle chine
A2: La présence de la substance doit être indiquée dans la liste des ingrédients visés à l'article 6 paragraphe 1, point g),
A3: lorsque sa concentration est supérieure:
A4: — à 0,001 % (10 ppm) dans les produits non rincés | D4: 1 PPM = 1 mg/kg
A5: — à 0,01 % (100 ppm) dans les produits rincés
A7: Concentration en parfum | B7: Allergène | C7: Numéro CAS | D7: Concentration en allergène du parfum | E7: Concentration en allergène du produit % | F7: Concentration en allergène du produit en ppm | G7: Composant à indiquer sur l'étiquette si >10
A8: 100 | B8: alpha Isomethyl Ionone | C8: 127-51-5 | D8: 0 | E8: =A$8*D8/100 -> 0 | F8: =E8*10000 -> 0
B9: Amyl cinnamal | C9: 122-40-7 | D9: 0 | E9: =A$8*D9/100 -> 0 | F9: =E9*10000 -> 0
B10: Amylcinnamyl alcohol | C10: 101-85-9 | D10: 0 | E10: =A$8*D10/100 -> 0 | F10: =E10*10000 -> 0
B11: Anisyl alcohol | C11: 105-13-5 | D11: 0 | E11: =A$8*D11/100 -> 0 | F11: =E11*10000 -> 0
B12: Benzyl alcohol | C12: 100-51-6 | D12: 0 | E12: =A$8*D12/100 -> 0 | F12: =E12*10000 -> 0
B13: Benzyl benzoate | C13: 120-51-4 | D13: 1 | E13: =A$8*D13/100 -> 1 | F13: =E13*10000 -> 10000
B14: Benzyl cinnamate | C14: 103-41-3 | D14: 0 | E14: =A$8*D14/100 -> 0 | F14: =E14*10000 -> 0
B15: Benzyl salicylate | C15: 118-58-1 | D15: 0 | E15: =A$8*D15/100 -> 0 | F15: =E15*10000 -> 0
B16: Cinnamal | C16: 104-55-2 | D16: 90 | E16: =A$8*D16/100 -> 90 | F16: =E16*10000 -> 900000
B17: Cinnamyl alcohol | C17: 104-54-1 | D17: 1 | E17: =A$8*D17/100 -> 1 | F17: =E17*10000 -> 10000
B18: Citral | C18: 5392-40-5 | D18: 0 | E18: =A$8*D18/100 -> 0 | F18: =E18*10000 -> 0
B19: Citronellol | C19: 106-22-9 | D19: 0 | E19: =A$8*D19/100 -> 0 | F19: =E19*10000 -> 0
B20: Coumarin | C20: 91-64-5 | D20: 4 | E20: =A$8*D20/100 -> 4 | F20: =E20*10000 -> 40000
... B33: Methyl heptin carbonate | C33: 111-12-6 | D33: 0 | E33: =A$8*D33/100 -> 0 | F33: =E33*10000 -> 0

Sheet Feuil4
A1: Identification du produit : | C1: he citronelle
A2: La présence de la substance doit être indiquée dans la liste des ingrédients visés à l'article 6 paragraphe 1, point g),
A3: lorsque sa concentration est supérieure:
A4: — à 0,001 % (10 ppm) dans les produits non rincés | D4: 1 PPM = 1 mg/kg
A5: — à 0,01 % (100 ppm) dans les produits rincés
A7: Concentration en parfum | B7: Allergène | C7: Numéro CAS | D7: Concentration en allergène du parfum | E7: Concentration en allergène du produit % | F7: Concentration en allergène du produit en ppm | G7: Composant à indiquer sur l'étiquette si >10
A8: 100 | B8: alpha Isomethyl Ionone | C8: 127-51-5 | D8: 0 | E8: =A$8*D8/100 -> 0 | F8: =E8*10000 -> 0
B9: Amyl cinnamal | C9: 122-40-7 | D9: 0 | E9: =A$8*D9/100 -> 0 | F9: =E9*10000 -> 0
B10: Amylcinnamyl alcohol | C10: 101-85-9 | D10: 0 | E10: =A$8*D10/100 -> 0 | F10: =E10*10000 -> 0
B11: Anisyl alcohol | C11: 105-13-5 | D11: 0 | E11: =A$8*D11/100 -> 0 | F11: =E11*10000 -> 0
B12: Benzyl alcohol | C12: 100-51-6 | D12: 0 | E12: =A$8*D12/100 -> 0 | F12: =E12*10000 -> 0
B13: Benzyl benzoate | C13: 120-51-4 | D13: 0 | E13: =A$8*D13/100 -> 0 | F13: =E13*10000 -> 0
B14: Benzyl cinnamate | C14: 103-41-3 | D14: 0 | E14: =A$8*D14/100 -> 0 | F14: =E14*10000 -> 0
B15: Benzyl salicylate | C15: 118-58-1 | D15: 0 | E15: =A$8*D15/100 -> 0 | F15: =E15*10000 -> 0
B16: Cinnamal | C16: 104-55-2 | D16: 0 | E16: =A$8*D16/100 -> 0 | F16: =E16*10000 -> 0
B17: Cinnamyl alcohol | C17: 104-54-1 | D17: 0 | E17: =A$8*D17/100 -> 0 | F17: =E17*10000 -> 0
B18: Citral | C18: 5392-40-5 | D18: 2 | E18: =A$8*D18/100 -> 2 | F18: =E18*10000 -> 20000
B19: Citronellol | C19: 106-22-9 | D19: 16 | E19: =A$8*D19/100 -> 16 | F19: =E19*10000 -> 160000
B20: Coumarin | C20: 91-64-5 | D20: 0 | E20: =A$8*D20/100 -> 0 | F20: =E20*10000 -> 0
... B33: Methyl heptin carbonate | C33: 111-12-6 | D33: 0 | E33: =A$8*D33/100 -> 0 | F33: =E33*10000 -> 0

Sheet Feuil5
A1: Identification du produit : | C1: he citron
A2: La présence de la substance doit être indiquée dans la liste des ingrédients visés à l'article 6 paragraphe 1, point g),
A3: lorsque sa concentration est supérieure:
A4: — à 0,001 % (10 ppm) dans les produits non rincés | D4: 1 PPM = 1 mg/kg
A5: — à 0,01 % (100 ppm) dans les produits rincés
A7: Concentration en parfum | B7: Allergène | C7: Numéro CAS | D7: Concentration en allergène du parfum | E7: Concentration en allergène du produit % | F7: Concentration en allergène du produit en ppm | G7: Composant à indiquer sur l'étiquette si >10
A8: 100 | B8: alpha Isomethyl Ionone | C8: 127-51-5 | D8: 0 | E8: =A$8*D8/100 -> 0 | F8: =E8*10000 -> 0
B9: Amyl cinnamal | C9: 122-40-7 | D9: 0 | E9: =A$8*D9/100 -> 0 | F9: =E9*10000 -> 0
B10: Amylcinnamyl alcohol | C10: 101-85-9 | D10: 0 | E10: =A$8*D10/100 -> 0 | F10: =E10*10000 -> 0
B11: Anisyl alcohol | C11: 105-13-5 | D11: 0 | E11: =A$8*D11/100 -> 0 | F11: =E11*10000 -> 0
B12: Benzyl alcohol | C12: 100-51-6 | D12: 0 | E12: =A$8*D12/100 -> 0 | F12: =E12*10000 -> 0
B13: Benzyl benzoate | C13: 120-51-4 | D13: 0 | E13: =A$8*D13/100 -> 0 | F13: =E13*10000 -> 0
B14: Benzyl cinnamate | C14: 103-41-3 | D14: 0 | E14: =A$8*D14/100 -> 0 | F14: =E14*10000 -> 0
B15: Benzyl salicylate | C15: 118-58-1 | D15: 0 | E15: =A$8*D15/100 -> 0 | F15: =E15*10000 -> 0
B16: Cinnamal | C16: 104-55-2 | D16: 0 | E16: =A$8*D16/100 -> 0 | F16: =E16*10000 -> 0
B17: Cinnamyl alcohol | C17: 104-54-1 | D17: 0 | E17: =A$8*D17/100 -> 0 | F17: =E17*10000 -> 0
B18: Citral | C18: 5392-40-5 | D18: 3.2 | E18: =A$8*D18/100 -> 3.2 | F18: =E18*10000 -> 32000
B19: Citronellol | C19: 106-22-9 | D19: 0 | E19: =A$8*D19/100 -> 0 | F19: =E19*10000 -> 0
B20: Coumarin | C20: 91-64-5 | D20: 0 | E20: =A$8*D20/100 -> 0 | F20: =E20*10000 -> 0
... B33: Methyl heptin carbonate | C33: 111-12-6 | D33: 0 | E33: =A$8*D33/100 -> 0 | F33: =E33*10000 -> 0

Sheet Feuil6
A1: Identification du produit : | C1: he cypres
A2: La présence de la substance doit être indiquée dans la liste des ingrédients visés à l'article 6 paragraphe 1, point g),
A3: lorsque sa concentration est supérieure:
A4: — à 0,001 % (10 ppm) dans les produits non rincés | D4: 1 PPM = 1 mg/kg
A5: — à 0,01 % (100 ppm) dans les produits rincés
A7: Concentration en parfum | B7: Allergène | C7: Numéro CAS | D7: Concentration en allergène du parfum | E7: Concentration en allergène du produit % | F7: Concentration en allergène du produit en ppm | G7: Composant à indiquer sur l'étiquette si >10
A8: 100 | B8: alpha Isomethyl Ionone | C8: 127-51-5 | D8: 0 | E8: =A$8*D8/100 -> 0 | F8: =E8*10000 -> 0
B9: Amyl cinnamal | C9: 122-40-7 | D9: 0 | E9: =A$8*D9/100 -> 0 | F9: =E9*10000 -> 0
B10: Amylcinnamyl alcohol | C10: 101-85-9 | D10: 0 | E10: =A$8*D10/100 -> 0 | F10: =E10*10000 -> 0
B11: Anisyl alcohol | C11: 105-13-5 | D11: 0 | E11: =A$8*D11/100 -> 0 | F11: =E11*10000 -> 0
B12: Benzyl alcohol | C12: 100-51-6 | D12: 0 | E12: =A$8*D12/100 -> 0 | F12: =E12*10000 -> 0
B13: Benzyl benzoate | C13: 120-51-4 | D13: 0 | E13: =A$8*D13/100 -> 0 | F13: =E13*10000 -> 0
B14: Benzyl cinnamate | C14: 103-41-3 | D14: 0 | E14: =A$8*D14/100 -> 0 | F14: =E14*10000 -> 0
B15: Benzyl salicylate | C15: 118-58-1 | D15: 0 | E15: =A$8*D15/100 -> 0 | F15: =E15*10000 -> 0
B16: Cinnamal | C16: 104-55-2 | D16: 0 | E16: =A$8*D16/100 -> 0 | F16: =E16*10000 -> 0
B17: Cinnamyl alcohol | C17: 104-54-1 | D17: 0 | E17: =A$8*D17/100 -> 0 | F17: =E17*10000 -> 0
B18: Citral | C18: 5392-40-5 | D18: 0 | E18: =A$8*D18/100 -> 0 | F18: =E18*10000 -> 0
B19: Citronellol | C19: 106-22-9 | D19: 0 | E19: =A$8*D19/100 -> 0 | F19: =E19*10000 -> 0
B20: Coumarin | C20: 91-64-5 | D20: 0 | E20: =A$8*D20/100 -> 0 | F20: =E20*10000 -> 0
... B33: Methyl heptin carbonate | C33: 111-12-6 | D33: 0 | E33: =A$8*D33/100 -> 0 | F33: =E33*10000 -> 0

Sheet Feuil7
A1: Identification du produit : | C1: he eucalyptus
A2: La présence de la substance doit être indiquée dans la liste des ingrédients visés à l'article 6 paragraphe 1, point g),
A3: lorsque sa concentration est supérieure:
A4: — à 0,001 % (10 ppm) dans les produits non rincés | D4: 1 PPM = 1 mg/kg
A5: — à 0,01 % (100 ppm) dans les produits rincés
A7: Concentration en parfum | B7: Allergène | C7: Numéro CAS | D7: Concentration en allergène du parfum | E7: Concentration en allergène du produit % | F7: Concentration en allergène du produit en ppm | G7: Composant à indiquer sur l'étiquette si >10
A8: 100 | B8: alpha Isomethyl Ionone | C8: 127-51-5 | D8: 0 | E8: =A$8*D8/100 -> 0 | F8: =E8*10000 -> 0
B9: Amyl cinnamal | C9: 122-40-7 | D9: 0 | E9: =A$8*D9/100 -> 0 | F9: =E9*10000 -> 0
B10: Amylcinnamyl alcohol | C10: 101-85-9 | D10: 0 | E10: =A$8*D10/100 -> 0 | F10: =E10*10000 -> 0
B11: Anisyl alcohol | C11: 105-13-5 | D11: 0 | E11: =A$8*D11/100 -> 0 | F11: =E11*10000 -> 0
B12: Benzyl alcohol | C12: 100-51-6 | D12: 0 | E12: =A$8*D12/100 -> 0 | F12: =E12*10000 -> 0
B13: Benzyl benzoate | C13: 120-51-4 | D13: 0 | E13: =A$8*D13/100 -> 0 | F13: =E13*10000 -> 0
B14: Benzyl cinnamate | C14: 103-41-3 | D14: 0 | E14: =A$8*D14/100 -> 0 | F14: =E14*10000 -> 0
B15: Benzyl salicylate | C15: 118-58-1 | D15: 0 | E15: =A$8*D15/100 -> 0 | F15: =E15*10000 -> 0
B16: Cinnamal | C16: 104-55-2 | D16: 0 | E16: =A$8*D16/100 -> 0 | F16: =E16*10000 -> 0
B17: Cinnamyl alcohol | C17: 104-54-1 | D17: 0 | E17: =A$8*D17/100 -> 0 | F17: =E17*10000 -> 0
B18: Citral | C18: 5392-40-5 | D18: 0 | E18: =A$8*D18/100 -> 0 | F18: =E18*10000 -> 0
B19: Citronellol | C19: 106-22-9 | D19: 0 | E19: =A$8*D19/100 -> 0 | F19: =E19*10000 -> 0
B20: Coumarin | C20: 91-64-5 | D20: 0 | E20: =A$8*D20/100 -> 0 | F20: =E20*10000 -> 0
... B33: Methyl heptin carbonate | C33: 111-12-6 | D33: 0 | E33: =A$8*D33/100 -> 0 | F33: =E33*10000 -> 0

Sheet gaultherie
A1: Identification du produit : | C1: he gaultherie
A2: La présence de la substance doit être indiquée dans la liste des ingrédients visés à l'article 6 paragraphe 1, point g),
A3: lorsque sa concentration est supérieure:
A4: — à 0,001 % (10 ppm) dans les produits non rincés | D4: 1 PPM = 1 mg/kg
A5: — à 0,01 % (100 ppm) dans les produits rincés
A7: Concentration en parfum | B7: Allergène | C7: Numéro CAS | D7: Concentration en allergène du parfum | E7: Concentration en allergène du produit % | F7: Concentration en allergène du produit en ppm | G7: Composant à indiquer sur l'étiquette si >10
A8: 100 | B8: alpha Isomethyl Ionone | C8: 127-51-5 | D8: 0 | E8: 0 | F8: =E8*10000 -> 0
B9: Amyl cinnamal | C9: 122-40-7 | D9: 0 | E9: 0 | F9: =E9*10000 -> 0
B10: Amylcinnamyl alcohol | C10: 101-85-9 | D10: 0 | E10: 0 | F10: =E10*10000 -> 0
B11: Anisyl alcohol | C11: 105-13-5 | D11: 0 | E11: 0 | F11: =E11*10000 -> 0
B12: Benzyl alcohol | C12: 100-51-6 | D12: 0 | E12: 0 | F12: =E12*10000 -> 0
B13: Benzyl benzoate | C13: 120-51-4 | D13: 0 | E13: 0 | F13: =E13*10000 -> 0
B14: Benzyl cinnamate | C14: 103-41-3 | D14: 0 | E14: 0 | F14: =E14*10000 -> 0
B15: Benzyl salicylate | C15: 118-58-1 | D15: 0 | E15: 0 | F15: =E15*10000 -> 0
B16: Cinnamal | C16: 104-55-2 | D16: 0 | E16: 0 | F16: =E16*10000 -> 0
B17: Cinnamyl alcohol | C17: 104-54-1 | D17: 0 | E17: 0 | F17: =E17*10000 -> 0
B18: Citral | C18: 5392-40-5 | D18: 0 | E18: 0 | F18: =E18*10000 -> 0
B19: Citronellol | C19: 106-22-9 | D19: 0 | E19: 0 | F19: =E19*10000 -> 0
B20: Coumarin | C20: 91-64-5 | D20: 0 | E20: 0 | F20: =E20*10000 -> 0
... B33: Methyl heptin carbonate | C33: 111-12-6 | D33: 0 | E33: 0 | F33: =E33*10000 -> 0

Sheet Feuil8
A1: Identification du produit : | C1: he genievre baies
A2: La présence de la substance doit être indiquée dans la liste des ingrédients visés à l'article 6 paragraphe 1, point g),
A3: lorsque sa concentration est supérieure:
A4: — à 0,001 % (10 ppm) dans les produits non rincés | D4: 1 PPM = 1 mg/kg
A5: — à 0,01 % (100 ppm) dans les produits rincés
A7: Concentration en parfum | B7: Allergène | C7: Numéro CAS | D7: Concentration en allergène du parfum | E7: Concentration en allergène du produit % | F7: Concentration en allergène du produit en ppm | G7: Composant à indiquer sur l'étiquette si >10
A8: 100 | B8: alpha Isomethyl Ionone | C8: 127-51-5 | D8: 0 | E8: =A$8*D8/100 -> 0 | F8: =E8*10000 -> 0
B9: Amyl cinnamal | C9: 122-40-7 | D9: 0 | E9: =A$8*D9/100 -> 0 | F9: =E9*10000 -> 0
B10: Amylcinnamyl alcohol | C10: 101-85-9 | D10: 0 | E10: =A$8*D10/100 -> 0 | F10: =E10*10000 -> 0
B11: Anisyl alcohol | C11: 105-13-5 | D11: 0 | E11: =A$8*D11/100 -> 0 | F11: =E11*10000 -> 0
B12: Benzyl alcohol | C12: 100-51-6 | D12: 0 | E12: =A$8*D12/100 -> 0 | F12: =E12*10000 -> 0
B13: Benzyl benzoate | C13: 120-51-4 | D13: 0 | E13: =A$8*D13/100 -> 0 | F13: =E13*10000 -> 0
B14: Benzyl cinnamate | C14: 103-41-3 | D14: 0 | E14: =A$8*D14/100 -> 0 | F14: =E14*10000 -> 0
B15: Benzyl salicylate | C15: 118-58-1 | D15: 0 | E15: =A$8*D15/100 -> 0 | F15: =E15*10000 -> 0
B16: Cinnamal | C16: 104-55-2 | D16: 0 | E16: =A$8*D16/100 -> 0 | F16: =E16*10000 -> 0
B17: Cinnamyl alcohol | C17: 104-54-1 | D17: 0 | E17: =A$8*D17/100 -> 0 | F17: =E17*10000 -> 0
B18: Citral | C18: 5392-40-5 | D18: 0 | E18: =A$8*D18/100 -> 0 | F18: =E18*10000 -> 0
B19: Citronellol | C19: 106-22-9 | D19: 0 | E19: =A$8*D19/100 -> 0 | F19: =E19*10000 -> 0
B20: Coumarin | C20: 91-64-5 | D20: 0 | E20: =A$8*D20/100 -> 0 | F20: =E20*10000 -> 0
... B33: Methyl heptin carbonate | C33: 111-12-6 | D33: 0 | E33: =A$8*D33/100 -> 0 | F33: =E33*10000 -> 0

Sheet Feuil9
A1: Identification du produit : | C1: he geranium
A2: La présence de la substance doit être indiquée dans la liste des ingrédients visés à l'article 6 paragraphe 1, point g),
A3: lorsque sa concentration est supérieure:
A4: — à 0,001 % (10 ppm) dans les produits non rincés | D4: 1 PPM = 1 mg/kg
A5: — à 0,01 % (100 ppm) dans les produits rincés
A7: Concentration en parfum | B7: Allergène | C7: Numéro CAS | D7: Concentration en allergène du parfum | E7: Concentration en allergène du produit % | F7: Concentration en allergène du produit en ppm | G7: Composant à indiquer sur l'étiquette si >10
A8: 100 | B8: alpha Isomethyl Ionone | C8: 127-51-5 | D8: 0 | E8: =A$8*D8/100 -> 0 | F8: =E8*10000 -> 0
B9: Amyl cinnamal | C9: 122-40-7 | D9: 0 | E9: =A$8*D9/100 -> 0 | F9: =E9*10000 -> 0
B10: Amylcinnamyl alcohol | C10: 101-85-9 | D10: 0 | E10: =A$8*D10/100 -> 0 | F10: =E10*10000 -> 0
B11: Anisyl alcohol | C11: 105-13-5 | D11: 0 | E11: =A$8*D11/100 -> 0 | F11: =E11*10000 -> 0
B12: Benzyl alcohol | C12: 100-51-6 | D12: 0 | E12: =A$8*D12/100 -> 0 | F12: =E12*10000 -> 0
B13: Benzyl benzoate | C13: 120-51-4 | D13: 0 | E13: =A$8*D13/100 -> 0 | F13: =E13*10000 -> 0
B14: Benzyl cinnamate | C14: 103-41-3 | D14: 0 | E14: =A$8*D14/100 -> 0 | F14: =E14*10000 -> 0
B15: Benzyl salicylate | C15: 118-58-1 | D15: 0 | E15: =A$8*D15/100 -> 0 | F15: =E15*10000 -> 0
B16: Cinnamal | C16: 104-55-2 | D16: 0 | E16: =A$8*D16/100 -> 0 | F16: =E16*10000 -> 0
B17: Cinnamyl alcohol | C17: 104-54-1 | D17: 0 | E17: =A$8*D17/100 -> 0 | F17: =E17*10000 -> 0
B18: Citral | C18: 5392-40-5 | D18: 0.93 | E18: =A$8*D18/100 -> 0.93 | F18: =E18*10000 -> 9300
B19: Citronellol | C19: 106-22-9 | D19: 35.65 | E19: =A$8*D19/100 -> 35.65 | F19: =E19*10000 -> 356500
B20: Coumarin | C20: 91-64-5 | D20: 0 | E20: =A$8*D20/100 -> 0 | F20: =E20*10000 -> 0
... B33: Methyl heptin carbonate | C33: 111-12-6 | D33: 0 | E33: =A$8*D33/100 -> 0 | F33: =E33*10000 -> 0

Sheet Feuil10
A1: Identification du produit : | C1: he gingembre
A2: La présence de la substance doit être indiquée dans la liste des ingrédients visés à l'article 6 paragraphe 1, point g),
A3: lorsque sa concentration est supérieure:
A4: — à 0,001 % (10 ppm) dans les produits non rincés | D4: 1 PPM = 1 mg/kg
A5: — à 0,01 % (100 ppm) dans les produits rincés
A7: Concentration en parfum | B7: Allergène | C7: Numéro CAS | D7: Concentration en allergène du parfum | E7: Concentration en allergène du produit % | F7: Concentration en allergène du produit en ppm | G7: Composant à indiquer sur l'étiquette si >10
A8: 100 | B8: alpha Isomethyl Ionone | C8: 127-51-5 | D8: 0 | E8: =A$8*D8/100 -> 0 | F8: =E8*10000 -> 0
B9: Amyl cinnamal | C9: 122-40-7 | D9: 0 | E9: =A$8*D9/100 -> 0 | F9: =E9*10000 -> 0
B10: Amylcinnamyl alcohol | C10: 101-85-9 | D10: 0 | E10: =A$8*D10/100 -> 0 | F10: =E10*10000 -> 0
B11: Anisyl alcohol | C11: 105-13-5 | D11: 0 | E11: =A$8*D11/100 -> 0 | F11: =E11*10000 -> 0
B12: Benzyl alcohol | C12: 100-51-6 | D12: 0 | E12: =A$8*D12/100 -> 0 | F12: =E12*10000 -> 0
B13: Benzyl benzoate | C13: 120-51-4 | D13: 0 | E13: =A$8*D13/100 -> 0 | F13: =E13*10000 -> 0
B14: Benzyl cinnamate | C14: 103-41-3 | D14: 0 | E14: =A$8*D14/100 -> 0 | F14: =E14*10000 -> 0
B15: Benzyl salicylate | C15: 118-58-1 | D15: 0 | E15: =A$8*D15/100 -> 0 | F15: =E15*10000 -> 0
B16: Cinnamal | C16: 104-55-2 | D16: 0 | E16: =A$8*D16/100 -> 0 | F16: =E16*10000 -> 0
B17: Cinnamyl alcohol | C17: 104-54-1 | D17: 0 | E17: =A$8*D17/100 -> 0 | F17: =E17*10000 -> 0
B18: Citral | C18: 5392-40-5 | D18: 1.2 | E18: =A$8*D18/100 -> 1.2 | F18: =E18*10000 -> 12000
B19: Citronellol | C19: 106-22-9 | D19: 0.5 | E19: =A$8*D19/100 -> 0.5 | F19: =E19*10000 -> 5000
B20: Coumarin | C20: 91-64-5 | D20: 0 | E20: =A$8*D20/100 -> 0 | F20: =E20*10000 -> 0
... B33: Methyl heptin carbonate | C33: 111-12-6 | D33: 0 | E33: =A$8*D33/100 -> 0 | F33: =E33*10000 -> 0

Sheet Feuil11
A1: Identification du produit : | C1: he girofle clous
A2: La présence de la substance doit être indiquée dans la liste des ingrédients visés à l'article 6 paragraphe 1, point g),
A3: lorsque sa concentration est supérieure:
A4: — à 0,001 % (10 ppm) dans les produits non rincés | D4: 1 PPM = 1 mg/kg
A5: — à 0,01 % (100 ppm) dans les produits rincés
A7: Concentration en parfum | B7: Allergène | C7: Numéro CAS | D7: Concentration en allergène du parfum | E7: Concentration en allergène du produit % | F7: Concentration en allergène du produit en ppm | G7: Composant à indiquer sur l'étiquette si >10
A8: 100 | B8: alpha Isomethyl Ionone | C8: 127-51-5 | D8: 0 | E8: =A$8*D8/100 -> 0 | F8: =E8*10000 -> 0
B9: Amyl cinnamal | C9: 122-40-7 | D9: 0 | E9: =A$8*D9/100 -> 0 | F9: =E9*10000 -> 0
B10: Amylcinnamyl alcohol | C10: 101-85-9 | D10: 0 | E10: =A$8*D10/100 -> 0 | F10: =E10*10000 -> 0
B11: Anisyl alcohol | C11: 105-13-5 | D11: 0 | E11: =A$8*D11/100 -> 0 | F11: =E11*10000 -> 0
B12: Benzyl alcohol | C12: 100-51-6 | D12: 0.05 | E12: =A$8*D12/100 -> 0.05 | F12: =E12*10000 -> 500
B13: Benzyl benzoate | C13: 120-51-4 | D13: 0 | E13: =A$8*D13/100 -> 0 | F13: =E13*10000 -> 0
B14: Benzyl cinnamate | C14: 103-41-3 | D14: 0 | E14: =A$8*D14/100 -> 0 | F14: =E14*10000 -> 0
B15: Benzyl salicylate | C15: 118-58-1 | D15: 0 | E15: =A$8*D15/100 -> 0 | F15: =E15*10000 -> 0
B16: Cinnamal | C16: 104-55-2 | D16: 0 | E16: =A$8*D16/100 -> 0 | F16: =E16*10000 -> 0
B17: Cinnamyl alcohol | C17: 104-54-1 | D17: 0 | E17: =A$8*D17/100 -> 0 | F17: =E17*10000 -> 0
B18: Citral | C18: 5392-40-5 | D18: 0 | E18: =A$8*D18/100 -> 0 | F18: =E18*10000 -> 0
B19: Citronellol | C19: 106-22-9 | D19: 0 | E19: =A$8*D19/100 -> 0 | F19: =E19*10000 -> 0
B20: Coumarin | C20: 91-64-5 | D20: 0 | E20: =A$8*D20/100 -> 0 | F20: =E20*10000 -> 0
... B33: Methyl heptin carbonate | C33: 111-12-6 | D33: 0 | E33: =A$8*D33/100 -> 0 | F33: =E33*10000 -> 0

Sheet Feuil12
A1: Identification du produit : | C1: he lavande
A2: La présence de la substance doit être indiquée dans la liste des ingrédients visés à l'article 6 paragraphe 1, point g),
A3: lorsque sa concentration est supérieure:
A4: — à 0,001 % (10 ppm) dans les produits non rincés | D4: 1 PPM = 1 mg/kg
A5: — à 0,01 % (100 ppm) dans les produits rincés
A7: Concentration en parfum | B7: Allergène | C7: Numéro CAS | D7: Concentration en allergène du parfum | E7: Concentration en allergène du produit % | F7: Concentration en allergène du produit en ppm | G7: Composant à indiquer sur l'étiquette si >10
A8: 100 | B8: alpha Isomethyl Ionone | C8: 127-51-5 | D8: 0 | E8: =A$8*D8/100 -> 0 | F8: =E8*10000 -> 0
B9: Amyl cinnamal | C9: 122-40-7 | D9: 0 | E9: =A$8*D9/100 -> 0 | F9: =E9*10000 -> 0
B10: Amylcinnamyl alcohol | C10: 101-85-9 | D10: 0 | E10: =A$8*D10/100 -> 0 | F10: =E10*10000 -> 0
B11: Anisyl alcohol | C11: 105-13-5 | D11: 0 | E11: =A$8*D11/100 -> 0 | F11: =E11*10000 -> 0
B12: Benzyl alcohol | C12: 100-51-6 | D12: 0 | E12: =A$8*D12/100 -> 0 | F12: =E12*10000 -> 0
B13: Benzyl benzoate | C13: 120-51-4 | D13: 0 | E13: =A$8*D13/100 -> 0 | F13: =E13*10000 -> 0
B14: Benzyl cinnamate | C14: 103-41-3 | D14: 0 | E14: =A$8*D14/100 -> 0 | F14: =E14*10000 -> 0
B15: Benzyl salicylate | C15: 118-58-1 | D15: 0 | E15: =A$8*D15/100 -> 0 | F15: =E15*10000 -> 0
B16: Cinnamal | C16: 104-55-2 | D16: 0 | E16: =A$8*D16/100 -> 0 | F16: =E16*10000 -> 0
B17: Cinnamyl alcohol | C17: 104-54-1 | D17: 0 | E17: =A$8*D17/100 -> 0 | F17: =E17*10000 -> 0
B18: Citral | C18: 5392-40-5 | D18: 0 | E18: =A$8*D18/100 -> 0 | F18: =E18*10000 -> 0
B19: Citronellol | C19: 106-22-9 | D19: 0 | E19: =A$8*D19/100 -> 0 | F19: =E19*10000 -> 0
B20: Coumarin | C20: 91-64-5 | D20: 0.3 | E20: =A$8*D20/100 -> 0.3 | F20: =E20*10000 -> 3000
... B33: Methyl heptin carbonate | C33: 111-12-6 | D33: 0 | E33: =A$8*D33/100 -> 0 | F33: =E33*10000 -> 0

Sheet Feuil13
A1: Identification du produit : | C1: he Marjolaine
A2: La présence de la substance doit être indiquée dans la liste des ingrédients visés à l'article 6 paragraphe 1, point g),
A3: lorsque sa concentration est supérieure:
A4: — à 0,001 % (10 ppm) dans les produits non rincés | D4: 1 PPM = 1 mg/kg
A5: — à 0,01 % (100 ppm) dans les produits rincés
A7: Concentration en parfum | B7: Allergène | C7: Numéro CAS | D7: Concentration en allergène du parfum | E7: Concentration en allergène du produit % | F7: Concentration en allergène du produit en ppm | G7: Composant à indiquer sur l'étiquette si >10
A8: 100 | B8: alpha Isomethyl Ionone | C8: 127-51-5 | D8: 0 | E8: =A$8*D8/100 -> 0 | F8: =E8*10000 -> 0
B9: Amyl cinnamal | C9: 122-40-7 | D9: 0 | E9: =A$8*D9/100 -> 0 | F9: =E9*10000 -> 0
B10: Amylcinnamyl alcohol | C10: 101-85-9 | D10: 0 | E10: =A$8*D10/100 -> 0 | F10: =E10*10000 -> 0
B11: Anisyl alcohol | C11: 105-13-5 | D11: 0 | E11: =A$8*D11/100 -> 0 | F11: =E11*10000 -> 0
B12: Benzyl alcohol | C12: 100-51-6 | D12: 0 | E12: =A$8*D12/100 -> 0 | F12: =E12*10000 -> 0
B13: Benzyl benzoate | C13: 120-51-4 | D13: 0.005 | E13: =A$8*D13/100 -> 0.005 | F13: =E13*10000 -> 50
B14: Benzyl cinnamate | C14: 103-41-3 | D14: 0 | E14: =A$8*D14/100 -> 0 | F14: =E14*10000 -> 0
B15: Benzyl salicylate | C15: 118-58-1 | D15: 0 | E15: =A$8*D15/100 -> 0 | F15: =E15*10000 -> 0
B16: Cinnamal | C16: 104-55-2 | D16: 0 | E16: =A$8*D16/100 -> 0 | F16: =E16*10000 -> 0
B17: Cinnamyl alcohol | C17: 104-54-1 | D17: 0 | E17: =A$8*D17/100 -> 0 | F17: =E17*10000 -> 0
B18: Citral | C18: 5392-40-5 | D18: 0 | E18: =A$8*D18/100 -> 0 | F18: =E18*10000 -> 0
B19: Citronellol | C19: 106-22-9 | D19: 0 | E19: =A$8*D19/100 -> 0 | F19: =E19*10000 -> 0
B20: Coumarin | C20: 91-64-5 | D20: 0 | E20: =A$8*D20/100 -> 0 | F20: =E20*10000 -> 0
... B33: Methyl heptin carbonate | C33: 111-12-6 | D33: 0 | E33: =A$8*D33/100 -> 0 | F33: =E33*10000 -> 0

Sheet Feuil14
A1: Identification du produit : | C1: he menthe poivrée
A2: La présence de la substance doit être indiquée dans la liste des ingrédients visés à l'article 6 paragraphe 1, point g),
A3: lorsque sa concentration est supérieure:
A4: — à 0,001 % (10 ppm) dans les produits non rincés | D4: 1 PPM = 1 mg/kg
A5: — à 0,01 % (100 ppm) dans les produits rincés
A7: Concentration en parfum | B7: Allergène | C7: Numéro CAS | D7: Concentration en allergène du parfum | E7: Concentration en allergène du produit % | F7: Concentration en allergène du produit en ppm | G7: Composant à indiquer sur l'étiquette si >10
A8: 100 | B8: alpha Isomethyl Ionone | C8: 127-51-5 | D8: 0 | E8: =A$8*D8/100 -> 0 | F8: =E8*10000 -> 0
B9: Amyl cinnamal | C9: 122-40-7 | D9: 0 | E9: =A$8*D9/100 -> 0 | F9: =E9*10000 -> 0
B10: Amylcinnamyl alcohol | C10: 101-85-9 | D10: 0 | E10: =A$8*D10/100 -> 0 | F10: =E10*10000 -> 0
B11: Anisyl alcohol | C11: 105-13-5 | D11: 0 | E11: =A$8*D11/100 -> 0 | F11: =E11*10000 -> 0
B12: Benzyl alcohol | C12: 100-51-6 | D12: 0 | E12: =A$8*D12/100 -> 0 | F12: =E12*10000 -> 0
B13: Benzyl benzoate | C13: 120-51-4 | D13: 0 | E13: =A$8*D13/100 -> 0 | F13: =E13*10000 -> 0
B14: Benzyl cinnamate | C14: 103-41-3 | D14: 0 | E14: =A$8*D14/100 -> 0 | F14: =E14*10000 -> 0
B15: Benzyl salicylate | C15: 118-58-1 | D15: 0 | E15: =A$8*D15/100 -> 0 | F15: =E15*10000 -> 0
B16: Cinnamal | C16: 104-55-2 | D16: 0 | E16: =A$8*D16/100 -> 0 | F16: =E16*10000 -> 0
B17: Cinnamyl alcohol | C17: 104-54-1 | D17: 0 | E17: =A$8*D17/100 -> 0 | F17: =E17*10000 -> 0
B18: Citral | C18: 5392-40-5 | D18: 0 | E18: =A$8*D18/100 -> 0 | F18: =E18*10000 -> 0
B19: Citronellol | C19: 106-22-9 | D19: 0 | E19: =A$8*D19/100 -> 0 | F19: =E19*10000 -> 0
B20: Coumarin | C20: 91-64-5 | D20: 0 | E20: =A$8*D20/100 -> 0 | F20: =E20*10000 -> 0
... B33: Methyl heptin carbonate | C33: 111-12-6 | D33: 0 | E33: =A$8*D33/100 -> 0 | F33: =E33*10000 -> 0

Sheet Feuil15
A1: Identification du produit : | C1: he myrrhe
A2: La présence de la substance doit être indiquée dans la liste des ingrédients visés à l'article 6 paragraphe 1, point g),
A3: lorsque sa concentration est supérieure:
A4: — à 0,001 % (10 ppm) dans les produits non rincés | D4: 1 PPM = 1 mg/kg
A5: — à 0,01 % (100 ppm) dans les produits rincés
A7: Concentration en parfum | B7: Allergène | C7: Numéro CAS | D7: Concentration en allergène du parfum | E7: Concentration en allergène du produit % | F7: Concentration en allergène du produit en ppm | G7: Composant à indiquer sur l'étiquette si >10
A8: 100 | B8: alpha Isomethyl Ionone | C8: 127-51-5 | D8: 0 | E8: =A$8*D8/100 -> 0 | F8: =E8*10000 -> 0
B9: Amyl cinnamal | C9: 122-40-7 | D9: 0 | E9: =A$8*D9/100 -> 0 | F9: =E9*10000 -> 0
B10: Amylcinnamyl alcohol | C10: 101-85-9 | D10: 0 | E10: =A$8*D10/100 -> 0 | F10: =E10*10000 -> 0
B11: Anisyl alcohol | C11: 105-13-5 | D11: 0 | E11: =A$8*D11/100 -> 0 | F11: =E11*10000 -> 0
B12: Benzyl alcohol | C12: 100-51-6 | D12: 0 | E12: =A$8*D12/100 -> 0 | F12: =E12*10000 -> 0
B13: Benzyl benzoate | C13: 120-51-4 | D13: 0 | E13: =A$8*D13/100 -> 0 | F13: =E13*10000 -> 0
B14: Benzyl cinnamate | C14: 103-41-3 | D14: 0 | E14: =A$8*D14/100 -> 0 | F14: =E14*10000 -> 0
B15: Benzyl salicylate | C15: 118-58-1 | D15: 0.1 | E15: =A$8*D15/100 -> 0.1 | F15: =E15*10000 -> 1000
B16: Cinnamal | C16: 104-55-2 | D16: 1 | E16: =A$8*D16/100 -> 1 | F16: =E16*10000 -> 10000
B17: Cinnamyl alcohol | C17: 104-54-1 | D17: 0 | E17: =A$8*D17/100 -> 0 | F17: =E17*10000 -> 0
B18: Citral | C18: 5392-40-5 | D18: 0 | E18: =A$8*D18/100 -> 0 | F18: =E18*10000 -> 0
B19: Citronellol | C19: 106-22-9 | D19: 0 | E19: =A$8*D19/100 -> 0 | F19: =E19*10000 -> 0
B20: Coumarin | C20: 91-64-5 | D20: 0 | E20: =A$8*D20/100 -> 0 | F20: =E20*10000 -> 0
... B33: Methyl heptin carbonate | C33: 111-12-6 | D33: 0 | E33: =A$8*D33/100 -> 0 | F33: =E33*10000 -> 0

Sheet Feuil16
A1: Identification du produit : | C1: he niaouli
A2: La présence de la substance doit être indiquée dans la liste des ingrédients visés à l'article 6 paragraphe 1, point g),
A3: lorsque sa concentration est supérieure:
A4: — à 0,001 % (10 ppm) dans les produits non rincés | D4: 1 PPM = 1 mg/kg
A5: — à 0,01 % (100 ppm) dans les produits rincés
A7: Concentration en parfum | B7: Allergène | C7: Numéro CAS | D7: Concentration en allergène du parfum | E7: Concentration en allergène du produit % | F7: Concentration en allergène du produit en ppm | G7: Composant à indiquer sur l'étiquette si >10
A8: 100 | B8: alpha Isomethyl Ionone | C8: 127-51-5 | D8: 0 | E8: =A$8*D8/100 -> 0 | F8: =E8*10000 -> 0
B9: Amyl cinnamal | C9: 122-40-7 | D9: 0 | E9: =A$8*D9/100 -> 0 | F9: =E9*10000 -> 0
B10: Amylcinnamyl alcohol | C10: 101-85-9 | D10: 0 | E10: =A$8*D10/100 -> 0 | F10: =E10*10000 -> 0
B11: Anisyl alcohol | C11: 105-13-5 | D11: 0 | E11: =A$8*D11/100 -> 0 | F11: =E11*10000 -> 0
B12: Benzyl alcohol | C12: 100-51-6 | D12: 0 | E12: =A$8*D12/100 -> 0 | F12: =E12*10000 -> 0
B13: Benzyl benzoate | C13: 120-51-4 | D13: 0 | E13: =A$8*D13/100 -> 0 | F13: =E13*10000 -> 0
B14: Benzyl cinnamate | C14: 103-41-3 | D14: 0 | E14: =A$8*D14/100 -> 0 | F14: =E14*10000 -> 0
B15: Benzyl salicylate | C15: 118-58-1 | D15: 0 | E15: =A$8*D15/100 -> 0 | F15: =E15*10000 -> 0
B16: Cinnamal | C16: 104-55-2 | D16: 0 | E16: =A$8*D16/100 -> 0 | F16: =E16*10000 -> 0
B17: Cinnamyl alcohol | C17: 104-54-1 | D17: 0 | E17: =A$8*D17/100 -> 0 | F17: =E17*10000 -> 0
B18: Citral | C18: 5392-40-5 | D18: 0 | E18: =A$8*D18/100 -> 0 | F18: =E18*10000 -> 0
B19: Citronellol | C19: 106-22-9 | D19: 0 | E19: =A$8*D19/100 -> 0 | F19: =E19*10000 -> 0
B20: Coumarin | C20: 91-64-5 | D20: 0 | E20: =A$8*D20/100 -> 0 | F20: =E20*10000 -> 0
... B33: Methyl heptin carbonate | C33: 111-12-6 | D33: 0 | E33: =A$8*D33/100 -> 0 | F33: =E33*10000 -> 0

Sheet Feuil17
A1: Identification du produit : | C1: he muscade noix
A2: La présence de la substance doit être indiquée dans la liste des ingrédients visés à l'article 6 paragraphe 1, point g),
A3: lorsque sa concentration est supérieure:
A4: — à 0,001 % (10 ppm) dans les produits non rincés | D4: 1 PPM = 1 mg/kg
A5: — à 0,01 % (100 ppm) dans les produits rincés
A7: Concentration en parfum | B7: Allergène | C7: Numéro CAS | D7: Concentration en allergène du parfum | E7: Concentration en allergène du produit % | F7: Concentration en allergène du produit en ppm | G7: Composant à indiquer sur l'étiquette si >10
A8: 100 | B8: alpha Isomethyl Ionone | C8: 127-51-5 | D8: 0 | E8: =A$8*D8/100 -> 0 | F8: =E8*10000 -> 0
B9: Amyl cinnamal | C9: 122-40-7 | D9: 0 | E9: =A$8*D9/100 -> 0 | F9: =E9*10000 -> 0
B10: Amylcinnamyl alcohol | C10: 101-85-9 | D10: 0 | E10: =A$8*D10/100 -> 0 | F10: =E10*10000 -> 0
B11: Anisyl alcohol | C11: 105-13-5 | D11: 0 | E11: =A$8*D11/100 -> 0 | F11: =E11*10000 -> 0
B12: Benzyl alcohol | C12: 100-51-6 | D12: 0 | E12: =A$8*D12/100 -> 0 | F12: =E12*10000 -> 0
B13: Benzyl benzoate | C13: 120-51-4 | D13: 0 | E13: =A$8*D13/100 -> 0 | F13: =E13*10000 -> 0
B14: Benzyl cinnamate | C14: 103-41-3 | D14: 0 | E14: =A$8*D14/100 -> 0 | F14: =E14*10000 -> 0
B15: Benzyl salicylate | C15: 118-58-1 | D15: 0 | E15: =A$8*D15/100 -> 0 | F15: =E15*10000 -> 0
B16: Cinnamal | C16: 104-55-2 | D16: 0 | E16: =A$8*D16/100 -> 0 | F16: =E16*10000 -> 0
B17: Cinnamyl alcohol | C17: 104-54-1 | D17: 0 | E17: =A$8*D17/100 -> 0 | F17: =E17*10000 -> 0
B18: Citral | C18: 5392-40-5 | D18: 0 | E18: =A$8*D18/100 -> 0 | F18: =E18*10000 -> 0
B19: Citronellol | C19: 106-22-9 | D19: 0 | E19: =A$8*D19/100 -> 0 | F19: =E19*10000 -> 0
B20: Coumarin | C20: 91-64-5 | D20: 1 | E20: =A$8*D20/100 -> 1 | F20: =E20*10000 -> 10000
... B33: Methyl heptin carbonate | C33: 111-12-6 | D33: 0 | E33: =A$8*D33/100 -> 0 | F33: =E33*10000 -> 0

Sheet Feuil18
A1: Identification du produit : | C1: he orange douce
A2: La présence de la substance doit être indiquée dans la liste des ingrédients visés à l'article 6 paragraphe 1, point g),
A3: lorsque sa concentration est supérieure:
A4: — à 0,001 % (10 ppm) dans les produits non rincés | D4: 1 PPM = 1 mg/kg
A5: — à 0,01 % (100 ppm) dans les produits rincés
A7: Concentration en parfum | B7: Allergène | C7: Numéro CAS | D7: Concentration en allergène du parfum | E7: Concentration en allergène du produit % | F7: Concentration en allergène du produit en ppm | G7: Composant à indiquer sur l'étiquette si >10
A8: 100 | B8: alpha Isomethyl Ionone | C8: 127-51-5 | D8: 0 | E8: =A$8*D8/100 -> 0 | F8: =E8*10000 -> 0
B9: Amyl cinnamal | C9: 122-40-7 | D9: 0 | E9: =A$8*D9/100 -> 0 | F9: =E9*10000 -> 0
B10: Amylcinnamyl alcohol | C10: 101-85-9 | D10: 0 | E10: =A$8*D10/100 -> 0 | F10: =E10*10000 -> 0
B11: Anisyl alcohol | C11: 105-13-5 | D11: 0 | E11: =A$8*D11/100 -> 0 | F11: =E11*10000 -> 0
B12: Benzyl alcohol | C12: 100-51-6 | D12: 0 | E12: =A$8*D12/100 -> 0 | F12: =E12*10000 -> 0
B13: Benzyl benzoate | C13: 120-51-4 | D13: 0 | E13: =A$8*D13/100 -> 0 | F13: =E13*10000 -> 0
B14: Benzyl cinnamate | C14: 103-41-3 | D14: 0 | E14: =A$8*D14/100 -> 0 | F14: =E14*10000 -> 0
B15: Benzyl salicylate | C15: 118-58-1 | D15: 0 | E15: =A$8*D15/100 -> 0 | F15: =E15*10000 -> 0
B16: Cinnamal | C16: 104-55-2 | D16: 0 | E16: =A$8*D16/100 -> 0 | F16: =E16*10000 -> 0
B17: Cinnamyl alcohol | C17: 104-54-1 | D17: 0 | E17: =A$8*D17/100 -> 0 | F17: =E17*10000 -> 0
B18: Citral | C18: 5392-40-5 | D18: 0.3 | E18: =A$8*D18/100 -> 0.3 | F18: =E18*10000 -> 3000
B19: Citronellol | C19: 106-22-9 | D19: 0.2 | E19: =A$8*D19/100 -> 0.2 | F19: =E19*10000 -> 2000
B20: Coumarin | C20: 91-64-5 | D20: 0 | E20: =A$8*D20/100 -> 0 | F20: =E20*10000 -> 0
... B33: Methyl heptin carbonate | C33: 111-12-6 | D33: 0 | E33: =A$8*D33/100 -> 0 | F33: =E33*10000 -> 0

Sheet Feuil19
A1: Identification du produit : | C1: he origan
A2: La présence de la substance doit être indiquée dans la liste des ingrédients visés à l'article 6 paragraphe 1, point g),
A3: lorsque sa concentration est supérieure:
A4: — à 0,001 % (10 ppm) dans les produits non rincés | D4: 1 PPM = 1 mg/kg
A5: — à 0,01 % (100 ppm) dans les produits rincés
A7: Concentration en parfum | B7: Allergène | C7: Numéro CAS | D7: Concentration en allergène du parfum | E7: Concentration en allergène du produit % | F7: Concentration en allergène du produit en ppm | G7: Composant à indiquer sur l'étiquette si >10
A8: 100 | B8: alpha Isomethyl Ionone | C8: 127-51-5 | D8: 0 | E8: =A$8*D8/100 -> 0 | F8: =E8*10000 -> 0
B9: Amyl cinnamal | C9: 122-40-7 | D9: 0 | E9: =A$8*D9/100 -> 0 | F9: =E9*10000 -> 0
B10: Amylcinnamyl alcohol | C10: 101-85-9 | D10: 0 | E10: =A$8*D10/100 -> 0 | F10: =E10*10000 -> 0
B11: Anisyl alcohol | C11: 105-13-5 | D11: 0 | E11: =A$8*D11/100 -> 0 | F11: =E11*10000 -> 0
B12: Benzyl alcohol | C12: 100-51-6 | D12: 0 | E12: =A$8*D12/100 -> 0 | F12: =E12*10000 -> 0
B13: Benzyl benzoate | C13: 120-51-4 | D13: 0 | E13: =A$8*D13/100 -> 0 | F13: =E13*10000 -> 0
B14: Benzyl cinnamate | C14: 103-41-3 | D14: 0 | E14: =A$8*D14/100 -> 0 | F14: =E14*10000 -> 0
B15: Benzyl salicylate | C15: 118-58-1 | D15: 0 | E15: =A$8*D15/100 -> 0 | F15: =E15*10000 -> 0
B16: Cinnamal | C16: 104-55-2 | D16: 0 | E16: =A$8*D16/100 -> 0 | F16: =E16*10000 -> 0
B17: Cinnamyl alcohol | C17: 104-54-1 | D17: 0 | E17: =A$8*D17/100 -> 0 | F17: =E17*10000 -> 0
B18: Citral | C18: 5392-40-5 | D18: 0 | E18: =A$8*D18/100 -> 0 | F18: =E18*10000 -> 0
B19: Citronellol | C19: 106-22-9 | D19: 0 | E19: =A$8*D19/100 -> 0 | F19: =E19*10000 -> 0
B20: Coumarin | C20: 91-64-5 | D20: 0 | E20: =A$8*D20/100 -> 0 | F20: =E20*10000 -> 0
... B33: Methyl heptin carbonate | C33: 111-12-6 | D33: 0 | E33: =A$8*D33/100 -> 0 | F33: =E33*10000 -> 0

Sheet palmarossa
A1: Identification du produit : | C1: he palmarosa
A2: La présence de la substance doit être indiquée dans la liste des ingrédients visés à l'article 6 paragraphe 1, point g),
A3: lorsque sa concentration est supérieure:
A4: — à 0,001 % (10 ppm) dans les produits non rincés | D4: 1 PPM = 1 mg/kg
A5: — à 0,01 % (100 ppm) dans les produits rincés
A7: Concentration en parfum | B7: Allergène | C7: Numéro CAS | D7: Concentration en allergène du parfum | E7: Concentration en allergène du produit % | F7: Concentration en allergène du produit en ppm | G7: Composant à indiquer sur l'étiquette si >10
A8: 100 | B8: alpha Isomethyl Ionone | C8: 127-51-5 | D8: 0 | E8: =A$8*D8/100 -> 0 | F8: =E8*10000 -> 0
B9: Amyl cinnamal | C9: 122-40-7 | D9: 0 | E9: =A$8*D9/100 -> 0 | F9: =E9*10000 -> 0
B10: Amylcinnamyl alcohol | C10: 101-85-9 | D10: 0 | E10: =A$8*D10/100 -> 0 | F10: =E10*10000 -> 0
B11: Anisyl alcohol | C11: 105-13-5 | D11: 0 | E11: =A$8*D11/100 -> 0 | F11: =E11*10000 -> 0
B12: Benzyl alcohol | C12: 100-51-6 | D12: 0 | E12: =A$8*D12/100 -> 0 | F12: =E12*10000 -> 0
B13: Benzyl benzoate | C13: 120-51-4 | D13: 0 | E13: =A$8*D13/100 -> 0 | F13: =E13*10000 -> 0
B14: Benzyl cinnamate | C14: 103-41-3 | D14: 0 | E14: =A$8*D14/100 -> 0 | F14: =E14*10000 -> 0
B15: Benzyl salicylate | C15: 118-58-1 | D15: 0 | E15: =A$8*D15/100 -> 0 | F15: =E15*10000 -> 0
B16: Cinnamal | C16: 104-55-2 | D16: 0 | E16: =A$8*D16/100 -> 0 | F16: =E16*10000 -> 0
B17: Cinnamyl alcohol | C17: 104-54-1 | D17: 0 | E17: =A$8*D17/100 -> 0 | F17: =E17*10000 -> 0
B18: Citral | C18: 5392-40-5 | D18: 0.4 | E18: =A$8*D18/100 -> 0.4 | F18: =E18*10000 -> 4000
B19: Citronellol | C19: 106-22-9 | D19: 0 | E19: =A$8*D19/100 -> 0 | F19: =E19*10000 -> 0
B20: Coumarin | C20: 91-64-5 | D20: 0 | E20: =A$8*D20/100 -> 0 | F20: =E20*10000 -> 0
... B33: Methyl heptin carbonate | C33: 111-12-6 | D33: 0 | E33: =A$8*D33/100 -> 0 | F33: =E33*10000 -> 0

Sheet Feuil20
A1: Identification du produit : | C1: he pin sylvestre
A2: La présence de la substance doit être indiquée dans la liste des ingrédients visés à l'article 6 paragraphe 1, point g),
A3: lorsque sa concentration est supérieure:
A4: — à 0,001 % (10 ppm) dans les produits non rincés | D4: 1 PPM = 1 mg/kg
A5: — à 0,01 % (100 ppm) dans les produits rincés
A7: Concentration en parfum | B7: Allergène | C7: Numéro CAS | D7: Concentration en allergène du parfum | E7: Concentration en allergène du produit % | F7: Concentration en allergène du produit en ppm | G7: Composant à indiquer sur l'étiquette si >10
A8: 100 | B8: alpha Isomethyl Ionone | C8: 127-51-5 | D8: 0 | E8: =A$8*D8/100 -> 0 | F8: =E8*10000 -> 0
B9: Amyl cinnamal | C9: 122-40-7 | D9: 0 | E9: =A$8*D9/100 -> 0 | F9: =E9*10000 -> 0
B10: Amylcinnamyl alcohol | C10: 101-85-9 | D10: 0 | E10: =A$8*D10/100 -> 0 | F10: =E10*10000 -> 0
B11: Anisyl alcohol | C11: 105-13-5 | D11: 0 | E11: =A$8*D11/100 -> 0 | F11: =E11*10000 -> 0
B12: Benzyl alcohol | C12: 100-51-6 | D12: 0 | E12: =A$8*D12/100 -> 0 | F12: =E12*10000 -> 0
B13: Benzyl benzoate | C13: 120-51-4 | D13: 0 | E13: =A$8*D13/100 -> 0 | F13: =E13*10000 -> 0
B14: Benzyl cinnamate | C14: 103-41-3 | D14: 0 | E14: =A$8*D14/100 -> 0 | F14: =E14*10000 -> 0
B15: Benzyl salicylate | C15: 118-58-1 | D15: 0 | E15: =A$8*D15/100 -> 0 | F15: =E15*10000 -> 0
B16: Cinnamal | C16: 104-55-2 | D16: 0 | E16: =A$8*D16/100 -> 0 | F16: =E16*10000 -> 0
B17: Cinnamyl alcohol | C17: 104-54-1 | D17: 0 | E17: =A$8*D17/100 -> 0 | F17: =E17*10000 -> 0
B18: Citral | C18: 5392-40-5 | D18: 0 | E18: =A$8*D18/100 -> 0 | F18: =E18*10000 -> 0
B19: Citronellol | C19: 106-22-9 | D19: 0 | E19: =A$8*D19/100 -> 0 | F19: =E19*10000 -> 0
B20: Coumarin | C20: 91-64-5 | D20: 0 | E20: =A$8*D20/100 -> 0 | F20: =E20*10000 -> 0
... B33: Methyl heptin carbonate | C33: 111-12-6 | D33: 0 | E33: =A$8*D33/100 -> 0 | F33: =E33*10000 -> 0

Sheet Feuil21
A1: Identification du produit : | C1: he romarin
A2: La présence de la substance doit être indiquée dans la liste des ingrédients visés à l'article 6 paragraphe 1, point g),
A3: lorsque sa concentration est supérieure:
A4: — à 0,001 % (10 ppm) dans les produits non rincés | D4: 1 PPM = 1 mg/kg
A5: — à 0,01 % (100 ppm) dans les produits rincés
A7: Concentration en parfum | B7: Allergène | C7: Numéro CAS | D7: Concentration en allergène du parfum | E7: Concentration en allergène du produit % | F7: Concentration en allergène du produit en ppm | G7: Composant à indiquer sur l'étiquette si >10
A8: 100 | B8: alpha Isomethyl Ionone | C8: 127-51-5 | D8: 0 | E8: =A$8*D8/100 -> 0 | F8: =E8*10000 -> 0
B9: Amyl cinnamal | C9: 122-40-7 | D9: 0 | E9: =A$8*D9/100 -> 0 | F9: =E9*10000 -> 0
B10: Amylcinnamyl alcohol | C10: 101-85-9 | D10: 0 | E10: =A$8*D10/100 -> 0 | F10: =E10*10000 -> 0
B11: Anisyl alcohol | C11: 105-13-5 | D11: 0 | E11: =A$8*D11/100 -> 0 | F11: =E11*10000 -> 0
B12: Benzyl alcohol | C12: 100-51-6 | D12: 0 | E12: =A$8*D12/100 -> 0 | F12: =E12*10000 -> 0
B13: Benzyl benzoate | C13: 120-51-4 | D13: 0 | E13: =A$8*D13/100 -> 0 | F13: =E13*10000 -> 0
B14: Benzyl cinnamate | C14: 103-41-3 | D14: 0 | E14: =A$8*D14/100 -> 0 | F14: =E14*10000 -> 0
B15: Benzyl salicylate | C15: 118-58-1 | D15: 0 | E15: =A$8*D15/100 -> 0 | F15: =E15*10000 -> 0
B16: Cinnamal | C16: 104-55-2 | D16: 0 | E16: =A$8*D16/100 -> 0 | F16: =E16*10000 -> 0
B17: Cinnamyl alcohol | C17: 104-54-1 | D17: 0 | E17: =A$8*D17/100 -> 0 | F17: =E17*10000 -> 0
B18: Citral | C18: 5392-40-5 | D18: 0 | E18: =A$8*D18/100 -> 0 | F18: =E18*10000 -> 0
B19: Citronellol | C19: 106-22-9 | D19: 0.09 | E19: =A$8*D19/100 -> 0.09 | F19: =E19*10000 -> 900
B20: Coumarin | C20: 91-64-5 | D20: 0 | E20: =A$8*D20/100 -> 0 | F20: =E20*10000 -> 0
... B33: Methyl heptin carbonate | C33: 111-12-6 | D33: 0 | E33: =A$8*D33/100 -> 0 | F33: =E33*10000 -> 0

Sheet Feuil22
A1: Identification du produit : | C1: he sarriette
A2: La présence de la substance doit être indiquée dans la liste des ingrédients visés à l'article 6 paragraphe 1, point g),
A3: lorsque sa concentration est supérieure:
A4: — à 0,001 % (10 ppm) dans les produits non rincés | D4: 1 PPM = 1 mg/kg
A5: — à 0,01 % (100 ppm) dans les produits rincés
A7: Concentration en parfum | B7: Allergène | C7: Numéro CAS | D7: Concentration en allergène du parfum | E7: Concentration en allergène du produit % | F7: Concentration en allergène du produit en ppm | G7: Composant à indiquer sur l'étiquette si >10
A8: 100 | B8: alpha Isomethyl Ionone | C8: 127-51-5 | D8: 0 | E8: =A$8*D8/100 -> 0 | F8: =E8*10000 -> 0
B9: Amyl cinnamal | C9: 122-40-7 | D9: 0 | E9: =A$8*D9/100 -> 0 | F9: =E9*10000 -> 0
B10: Amylcinnamyl alcohol | C10: 101-85-9 | D10: 0 | E10: =A$8*D10/100 -> 0 | F10: =E10*10000 -> 0
B11: Anisyl alcohol | C11: 105-13-5 | D11: 0 | E11: =A$8*D11/100 -> 0 | F11: =E11*10000 -> 0
B12: Benzyl alcohol | C12: 100-51-6 | D12: 0 | E12: =A$8*D12/100 -> 0 | F12: =E12*10000 -> 0
B13: Benzyl benzoate | C13: 120-51-4 | D13: 0 | E13: =A$8*D13/100 -> 0 | F13: =E13*10000 -> 0
B14: Benzyl cinnamate | C14: 103-41-3 | D14: 0 | E14: =A$8*D14/100 -> 0 | F14: =E14*10000 -> 0
B15: Benzyl salicylate | C15: 118-58-1 | D15: 0 | E15: =A$8*D15/100 -> 0 | F15: =E15*10000 -> 0
B16: Cinnamal | C16: 104-55-2 | D16: 0 | E16: =A$8*D16/100 -> 0 | F16: =E16*10000 -> 0
B17: Cinnamyl alcohol | C17: 104-54-1 | D17: 0 | E17: =A$8*D17/100 -> 0 | F17: =E17*10000 -> 0
B18: Citral | C18: 5392-40-5 | D18: 0 | E18: =A$8*D18/100 -> 0 | F18: =E18*10000 -> 0
B19: Citronellol | C19: 106-22-9 | D19: 0 | E19: =A$8*D19/100 -> 0 | F19: =E19*10000 -> 0
B20: Coumarin | C20: 91-64-5 | D20: 0 | E20: =A$8*D20/100 -> 0 | F20: =E20*10000 -> 0
... B33: Methyl heptin carbonate | C33: 111-12-6 | D33: 0 | E33: =A$8*D33/100 -> 0 | F33: =E33*10000 -> 0

Sheet Feuil23
A1: Identification du produit : | C1: he sauge officinale
A2: La présence de la substance doit être indiquée dans la liste des ingrédients visés à l'article 6 paragraphe 1, point g),
A3: lorsque sa concentration est supérieure:
A4: — à 0,001 % (10 ppm) dans les produits non rincés | D4: 1 PPM = 1 mg/kg
A5: — à 0,01 % (100 ppm) dans les produits rincés
A7: Concentration en parfum | B7: Allergène | C7: Numéro CAS | D7: Concentration en allergène du parfum | E7: Concentration en allergène du produit % | F7: Concentration en allergène du produit en ppm | G7: Composant à indiquer sur l'étiquette si >10
A8: 100 | B8: alpha Isomethyl Ionone | C8: 127-51-5 | D8: 0 | E8: =A$8*D8/100 -> 0 | F8: =E8*10000 -> 0
B9: Amyl cinnamal | C9: 122-40-7 | D9: 0 | E9: =A$8*D9/100 -> 0 | F9: =E9*10000 -> 0
B10: Amylcinnamyl alcohol | C10: 101-85-9 | D10: 0 | E10: =A$8*D10/100 -> 0 | F10: =E10*10000 -> 0
B11: Anisyl alcohol | C11: 105-13-5 | D11: 0 | E11: =A$8*D11/100 -> 0 | F11: =E11*10000 -> 0
B12: Benzyl alcohol | C12: 100-51-6 | D12: 0 | E12: =A$8*D12/100 -> 0 | F12: =E12*10000 -> 0
B13: Benzyl benzoate | C13: 120-51-4 | D13: 0 | E13: =A$8*D13/100 -> 0 | F13: =E13*10000 -> 0
B14: Benzyl cinnamate | C14: 103-41-3 | D14: 0 | E14: =A$8*D14/100 -> 0 | F14: =E14*10000 -> 0
B15: Benzyl salicylate | C15: 118-58-1 | D15: 0 | E15: =A$8*D15/100 -> 0 | F15: =E15*10000 -> 0
B16: Cinnamal | C16: 104-55-2 | D16: 0 | E16: =A$8*D16/100 -> 0 | F16: =E16*10000 -> 0
B17: Cinnamyl alcohol | C17: 104-54-1 | D17: 0 | E17: =A$8*D17/100 -> 0 | F17: =E17*10000 -> 0
B18: Citral | C18: 5392-40-5 | D18: 0 | E18: =A$8*D18/100 -> 0 | F18: =E18*10000 -> 0
B19: Citronellol | C19: 106-22-9 | D19: 0 | E19: =A$8*D19/100 -> 0 | F19: =E19*10000 -> 0
B20: Coumarin | C20: 91-64-5 | D20: 0 | E20: =A$8*D20/100 -> 0 | F20: =E20*10000 -> 0
... B33: Methyl heptin carbonate | C33: 111-12-6 | D33: 0 | E33: =A$8*D33/100 -> 0 | F33: =E33*10000 -> 0

Sheet tea tree
A1: Identification du produit : | C1: he tea tree
A2: La présence de la substance doit être indiquée dans la liste des ingrédients visés à l'article 6 paragraphe 1, point g),
A3: lorsque sa concentration est supérieure:
A4: — à 0,001 % (10 ppm) dans les produits non rincés | D4: 1 PPM = 1 mg/kg
A5: — à 0,01 % (100 ppm) dans les produits rincés
A7: Concentration en parfum | B7: Allergène | C7: Numéro CAS | D7: Concentration en allergène du parfum | E7: Concentration en allergène du produit % | F7: Concentration en allergène du produit en ppm | G7: Composant à indiquer sur l'étiquette si >10
A8: 100 | B8: alpha Isomethyl Ionone | C8: 127-51-5 | D8: 0 | E8: =A$8*D8/100 -> 0 | F8: =E8*10000 -> 0
B9: Amyl cinnamal | C9: 122-40-7 | D9: 0 | E9: =A$8*D9/100 -> 0 | F9: =E9*10000 -> 0
B10: Amylcinnamyl alcohol | C10: 101-85-9 | D10: 0 | E10: =A$8*D10/100 -> 0 | F10: =E10*10000 -> 0
B11: Anisyl alcohol | C11: 105-13-5 | D11: 0 | E11: =A$8*D11/100 -> 0 | F11: =E11*10000 -> 0
B12: Benzyl alcohol | C12: 100-51-6 | D12: 0 | E12: =A$8*D12/100 -> 0 | F12: =E12*10000 -> 0
B13: Benzyl benzoate | C13: 120-51-4 | D13: 0 | E13: =A$8*D13/100 -> 0 | F13: =E13*10000 -> 0
B14: Benzyl cinnamate | C14: 103-41-3 | D14: 0 | E14: =A$8*D14/100 -> 0 | F14: =E14*10000 -> 0
B15: Benzyl salicylate | C15: 118-58-1 | D15: 0 | E15: =A$8*D15/100 -> 0 | F15: =E15*10000 -> 0
B16: Cinnamal | C16: 104-55-2 | D16: 0 | E16: =A$8*D16/100 -> 0 | F16: =E16*10000 -> 0
B17: Cinnamyl alcohol | C17: 104-54-1 | D17: 0 | E17: =A$8*D17/100 -> 0 | F17: =E17*10000 -> 0
B18: Citral | C18: 5392-40-5 | D18: 0 | E18: =A$8*D18/100 -> 0 | F18: =E18*10000 -> 0
B19: Citronellol | C19: 106-22-9 | D19: 0 | E19: =A$8*D19/100 -> 0 | F19: =E19*10000 -> 0
B20: Coumarin | C20: 91-64-5 | D20: 0 | E20: =A$8*D20/100 -> 0 | F20: =E20*10000 -> 0
... B33: Methyl heptin carbonate | C33: 111-12-6 | D33: 0 | E33: =A$8*D33/100 -> 0 | F33: =E33*10000 -> 0

Sheet Feuil24
A1: Identification du produit : | C1: he thym rouge
A2: La présence de la substance doit être indiquée dans la liste des ingrédients visés à l'article 6 paragraphe 1, point g),
A3: lorsque sa concentration est supérieure:
A4: — à 0,001 % (10 ppm) dans les produits non rincés | D4: 1 PPM = 1 mg/kg
A5: — à 0,01 % (100 ppm) dans les produits rincés
A7: Concentration en parfum | B7: Allergène | C7: Numéro CAS | D7: Concentration en allergène du parfum | E7: Concentration en allergène du produit % | F7: Concentration en allergène du produit en ppm | G7: Composant à indiquer sur l'étiquette si >10
A8: 100 | B8: alpha Isomethyl Ionone | C8: 127-51-5 | D8: 0 | E8: =A$8*D8/100 -> 0 | F8: =E8*10000 -> 0
B9: Amyl cinnamal | C9: 122-40-7 | D9: 0 | E9: =A$8*D9/100 -> 0 | F9: =E9*10000 -> 0
B10: Amylcinnamyl alcohol | C10: 101-85-9 | D10: 0 | E10: =A$8*D10/100 -> 0 | F10: =E10*10000 -> 0
B11: Anisyl alcohol | C11: 105-13-5 | D11: 0 | E11: =A$8*D11/100 -> 0 | F11: =E11*10000 -> 0
B12: Benzyl alcohol | C12: 100-51-6 | D12: 0 | E12: =A$8*D12/100 -> 0 | F12: =E12*10000 -> 0
B13: Benzyl benzoate | C13: 120-51-4 | D13: 0 | E13: =A$8*D13/100 -> 0 | F13: =E13*10000 -> 0
B14: Benzyl cinnamate | C14: 103-41-3 | D14: 0 | E14: =A$8*D14/100 -> 0 | F14: =E14*10000 -> 0
B15: Benzyl salicylate | C15: 118-58-1 | D15: 0 | E15: =A$8*D15/100 -> 0 | F15: =E15*10000 -> 0
B16: Cinnamal | C16: 104-55-2 | D16: 0 | E16: =A$8*D16/100 -> 0 | F16: =E16*10000 -> 0
B17: Cinnamyl alcohol | C17: 104-54-1 | D17: 0 | E17: =A$8*D17/100 -> 0 | F17: =E17*10000 -> 0
B18: Citral | C18: 5392-40-5 | D18: 0 | E18: =A$8*D18/100 -> 0 | F18: =E18*10000 -> 0
B19: Citronellol | C19: 106-22-9 | D19: 0 | E19: =A$8*D19/100 -> 0 | F19: =E19*10000 -> 0
B20: Coumarin | C20: 91-64-5 | D20: 0 | E20: =A$8*D20/100 -> 0 | F20: =E20*10000 -> 0
... B33: Methyl heptin carbonate | C33: 111-12-6 | D33: 0 | E33: =A$8*D33/100 -> 0 | F33: =E33*10000 -> 0

Sheet Feuil25
A1: Identification du produit : | C1: verveine
A2: La présence de la substance doit être indiquée dans la liste des ingrédients visés à l'article 6 paragraphe 1, point g),
A3: lorsque sa concentration est supérieure:
A4: — à 0,001 % (10 ppm) dans les produits non rincés | D4: 1 PPM = 1 mg/kg
A5: — à 0,01 % (100 ppm) dans les produits rincés
A7: Concentration en parfum | B7: Allergène | C7: Numéro CAS | D7: Concentration en allergène du parfum | E7: Concentration en allergène du produit % | F7: Concentration en allergène du produit en ppm | G7: Composant à indiquer sur l'étiquette si >10
A8: 100 | B8: alpha Isomethyl Ionone | C8: 127-51-5 | D8: 0 | E8: =A$8*D8/100 -> 0 | F8: =E8*10000 -> 0
B9: Amyl cinnamal | C9: 122-40-7 | D9: 0 | E9: =A$8*D9/100 -> 0 | F9: =E9*10000 -> 0
B10: Amylcinnamyl alcohol | C10: 101-85-9 | D10: 0 | E10: =A$8*D10/100 -> 0 | F10: =E10*10000 -> 0
B11: Anisyl alcohol | C11: 105-13-5 | D11: 0 | E11: =A$8*D11/100 -> 0 | F11: =E11*10000 -> 0
B12: Benzyl alcohol | C12: 100-51-6 | D12: 0.0012 | E12: =A$8*D12/100 -> 0.0012 | F12: =E12*10000 -> 12
B13: Benzyl benzoate | C13: 120-51-4 | D13: 0 | E13: =A$8*D13/100 -> 0 | F13: =E13*10000 -> 0
B14: Benzyl cinnamate | C14: 103-41-3 | D14: 0 | E14: =A$8*D14/100 -> 0 | F14: =E14*10000 -> 0
B15: Benzyl salicylate | C15: 118-58-1 | D15: 0 | E15: =A$8*D15/100 -> 0 | F15: =E15*10000 -> 0
B16: Cinnamal | C16: 104-55-2 | D16: 0 | E16: =A$8*D16/100 -> 0 | F16: =E16*10000 -> 0
B17: Cinnamyl alcohol | C17: 104-54-1 | D17: 0 | E17: =A$8*D17/100 -> 0 | F17: =E17*10000 -> 0
B18: Citral | C18: 5392-40-5 | D18: 66.132 | E18: =A$8*D18/100 -> 66.132 | F18: =E18*10000 -> 661320
B19: Citronellol | C19: 106-22-9 | D19: 0.121 | E19: =A$8*D19/100 -> 0.121 | F19: =E19*10000 -> 1210
B20: Coumarin | C20: 91-64-5 | D20: 0 | E20: =A$8*D20/100 -> 0 | F20: =E20*10000 -> 0
... B33: Methyl heptin carbonate | C33: 111-12-6 | D33: 0 | E33: =A$8*D33/100 -> 0 | F33: =E33*10000 -> 0

Sheet Feuil26
A1: Identification du produit : | C1: ylang
A2: La présence de la substance doit être indiquée dans la liste des ingrédients visés à l'article 6 paragraphe 1, point g),
A3: lorsque sa concentration est supérieure:
A4: — à 0,001 % (10 ppm) dans les produits non rincés | D4: 1 PPM = 1 mg/kg
A5: — à 0,01 % (100 ppm) dans les produits rincés
A7: Concentration en parfum | B7: Allergène | C7: Numéro CAS | D7: Concentration en allergène du parfum | E7: Concentration en allergène du produit % | F7: Concentration en allergène du produit en ppm | G7: Composant à indiquer sur l'étiquette si >10
A8: 100 | B8: alpha Isomethyl Ionone | C8: 127-51-5 | D8: 0 | E8: =A$8*D8/100 -> 0 | F8: =E8*10000 -> 0
B9: Amyl cinnamal | C9: 122-40-7 | D9: 0 | E9: =A$8*D9/100 -> 0 | F9: =E9*10000 -> 0
B10: Amylcinnamyl alcohol | C10: 101-85-9 | D10: 0 | E10: =A$8*D10/100 -> 0 | F10: =E10*10000 -> 0
B11: Anisyl alcohol | C11: 105-13-5 | D11: 0 | E11: =A$8*D11/100 -> 0 | F11: =E11*10000 -> 0
B12: Benzyl alcohol | C12: 100-51-6 | D12: 0.49 | E12: =A$8*D12/100 -> 0.49 | F12: =E12*10000 -> 4900
B13: Benzyl benzoate | C13: 120-51-4 | D13: 7.99 | E13: =A$8*D13/100 -> 7.99 | F13: =E13*10000 -> 79900
B14: Benzyl cinnamate | C14: 103-41-3 | D14: 0.09 | E14: =A$8*D14/100 -> 0.09 | F14: =E14*10000 -> 900
B15: Benzyl salicylate | C15: 118-58-1 | D15: 4.79 | E15: =A$8*D15/100 -> 4.79 | F15: =E15*10000 -> 47900
B16: Cinnamal | C16: 104-55-2 | D16: 0 | E16: =A$8*D16/100 -> 0 | F16: =E16*10000 -> 0
B17: Cinnamyl alcohol | C17: 104-54-1 | D17: 0 | E17: =A$8*D17/100 -> 0 | F17: =E17*10000 -> 0
B18: Citral | C18: 5392-40-5 | D18: 0 | E18: =A$8*D18/100 -> 0 | F18: =E18*10000 -> 0
B19: Citronellol | C19: 106-22-9 | D19: 0 | E19: =A$8*D19/100 -> 0 | F19: =E19*10000 -> 0
B20: Coumarin | C20: 91-64-5 | D20: 0 | E20: =A$8*D20/100 -> 0 | F20: =E20*10000 -> 0
... B33: Methyl heptin carbonate | C33: 111-12-6 | D33: 0 | E33: =A$8*D33/100 -> 0 | F33: =E33*10000 -> 0

Sheet Feuil27
B1: Pourcentage de HE dans formules phykidis
A6: Réf PHYK / HE (%) | B6: A100 | C6: Thermo | D6: 06 | E6: 100 | F6: 181 | G6: 185 | H6: 186 | I6: 187 | J6: 188 | K6: 202 | L6: 387 | M6: 389 | N6: 390 | O6: 400 | P6: 401 | Q6: 402 | R6: 403 | S6: 403E | T6: 404 | U6: 405 | V6: 407 | W6: 408 | X6: 409 | Y6: 410 | Z6: 412 | AA6: 413 | AB6: 414 | AC6: 415 | AD6: 417 | AE6: 418 | AF6: 420 | AG6: 426 | AH6: 428 | AI6: 429 | AJ6: 503 | AK6: 600 | AL6: HA701 | AM6: BM501 | AN6: BM101 | AO6: 604 | AP6: huile bambou
A7: cajeput | E7: 0.02 | G7: 0.01 | L7: 0.01 | V7: 0.001 | AC7: 0.02 | AG7: 0.1 | AJ7: 0.005 | AM7: 0.05
A8: camomille | P8: 0.002 | W8: 0.0015 | AF8: 0.0015 | AI8: 0.009 | AK8: 0.15
A9: cannelle | B9: 0.005 | C9: 0.005 | E9: 0.005 | L9: 0.005 | U9: 0.005 | V9: 0.004 | AB9: 0.003 | AC9: 0.005 | AG9: 0.01 | AL9: 0.002 | AM9: 0.008
A10: citron | C10: 0.01 | H10: 0.01 | J10: 0.01 | M10: 0.01 | X10: 0.02 | AE10: 0.01 | AI10: 0.006
A11: cypres | C11: 0.01 | H11: 0.01 | I11: 0.005 | J11: 0.005 | K11: 0.01 | X11: 0.01 | AE11: 0.005
A12: eucalyptus | B12: 0.1 | E12: 0.06 | L12: 0.01 | O12: 0.02 | AC12: 0.03 | AG12: 0.05 | AL12: 0.02 | AM12: 0.1 | AN12: 0.02
A13: genievre | M13: 0.005 | AI13: 0.0042 | AJ13: 0.005
A14: geranium | M14: 0.005 | AE14: 0.003
A15: gingembre | E15: 0.01 | K15: 0.005
A16: girofle | B16: 0.03 | E16: 0.02 | L16: 0.005 | U16: 0.02 | V16: 0.008 | AC16: 0.015 | AG16: 0.04 | AL16: 0.005 | AM16: 0.05
A17: lavande | O17: 0.005 | P17: 0.01 | W17: 0.0075 | Z17: 0.005 | AF17: 0.0075 | AK17: 0.1 | AP17: 0.02
A18: marjolaine | P18: 0.002 | W18: 0.0024 | AF18: 0.0021 | AK18: 0.1
A19: menthe poivrée | B19: 0.03 | I19: 0.01 | L19: 0.015 | Y19: 0.0266 | AC19: 0.01 | AE19: 0.01 | AG19: 0.1 | AI19: 0.006 | AL19: 0.003 | AM19: 0.05 | AN19: 0.02
A20: myrrhe | O20: 0.002
A21: niaouli | G21: 0.01 | O21: 0.01 | AJ21: 0.005
A22: muscade noix | E22: 0.0033
A23: orange | P23: 0.021 | Q23: 0.003 | W23: 0.015 | AC23: 0.01 | AF23: 0.015 | AG23: 0.04 | AM23: 0.05
A24: origan | Y24: 0.0266
A25: palmarosa | M25: 0.005
A26: pin | O26: 0.03
A27: romarin | E27: 0.03 | G27: 0.005 | Z27: 0.005 | AA27: 0.005 | AI27: 0.009 | AJ27: 0.005 | AP27: 0.02
A28: sarriette | Y28: 0.0266
A29: sauge | C29: 0.01 | M29: 0.005 | AE29: 0.005 | AI29: 0.0009 | AP29: 0.01
A30: tea tree | M30: 0.005
A31: thym | E31: 0.01 | O31: 0.005 | U31: 0.02 | V31: 0.008 | AA31: 0.005 | AI31: 0.003
A32: tea tree
A33: verveine | P33: 0.005 | W33: 0.0036 | AF33: 0.0039
A34: ylang | E34: 0.02 | T34: 0.002 | AB34: 0.003
A35: Total | B35: =SUM(B7:B34) -> 0.165 | C35: =SUM(C7:C34) -> 0.035 | D35: =SUM(D7:D34) -> 0 | E35: =SUM(E7:E34) -> 0.1783 | F35: =SUM(F7:F34) -> 0 | G35: =SUM(G7:G34) -> 0.025 | H35: =SUM(H7:H34) -> 0.02 | I35: =SUM(I7:I34) -> 0.015 | ... AP35: =SUM(AP7:AP34) -> 0.05

Sheet Feuil28
E1: Concentration dans | F1: Concentration pour | G1: Concentration dans produit
A2: A100 | E2: 1 Kg DE HE en % | F2: 1 Kg DE HE en PPM | G2: fini en PPM
A4: Cannelle | C4: =Feuil27!B9 -> 0.005
B5: Benzyl benzoate | C5: 120-51-4 | D5: 0.05 | E5: 0.05 | F5: 500 | G5: =$C$4*F5 -> 2.5
B6: Cinnamal | C6: 104-55-2 | D6: 81 | E6: 81 | F6: 810000 | G6: =$C$4*F6 -> 4050
B7: Cinnamyl alcohol | C7: 104-54-1 | D7: 0.05 | E7: 0.05 | F7: 500 | G7: =$C$4*F7 -> 2.5
B8: Coumarin | C8: 91-64-5 | D8: 4 | E8: 4 | F8: 40000 | G8: =$C$4*F8 -> 200
B9: Eugenol | C9: 97-53-0 | D9: 0.1 | E9: 0.1 | F9: 1000 | G9: =$C$4*F9 -> 5
B10: Limonene | C10: 5989-27-5 | D10: 0.05 | E10: 0.05 | F10: 500 | G10: =$C$4*F10 -> 2.5
A12: Eucalyptus | C12: =Feuil27!B12 -> 0.1
B13: Limonene | C13: 5989-27-5 | D13: 15 | E13: 15 | F13: =E13*10000 -> 150000 | G13: =$C$12*F13 -> 15000
B14: Linalool | C14: 78-70-6 | D14: 0.2 | E14: 0.2 | F14: =E14*10000 -> 2000 | G14: =$C$12*F14 -> 200
A16: Girofle | C16: =Feuil27!B16 -> 0.03
B17: Eugenol | C17: 97-53-0 | D17: 87 | E17: 87 | F17: =E17*10000 -> 870000 | G17: =F17*$C$16 -> 26100
A19: menthe | C19: =Feuil27!B19 -> 0.03
B20: Citral | C20: 5392-40-5 | D20: 1 | E20: 1 | F20: 10000 | G20: =F20*$C$19 -> 300
B21: Limonene | C21: 5989-27-5 | D21: 6 | E21: 6 | F21: 60000 | G21: =F21*$C$19 -> 1800
