Workbook
Name Alimentation: Données!$B$2:$B$3
Name Animaux: Données!$E$2:$E$5
Name Auto: Données!$C$2:$C$6
Name Banque: Données!$D$2
Name Catégorie: Données!$B$1:$O$1
Name Débit: Données!$F$2
Name Divers: Données!$G$2
Name Habillement: Données!$H$2:$H$4
Name Impôt: Données!$I$2:$I$4
Name Loisir: Données!$J$2:$J$14
Name Maison: Données!$K$2:$K$7
Name Mouvement: Données!$L$2:$L$3
Name Paiement: Données!$M$2:$M$8
Name Revenu: Données!$N$2:$N$8
Name Santé: Données!$O$2:$O$8
Name Tiers: Données!$A$2:$A$39

Sheet Opérations
AA1: CA44
E2: OPERATION SUR COMPTE COURANT ET CAISSE | O2: Solde antérieur : | P2: 1000 | AA2: CB
A3: Payé par CB : | B3: =SUMIF($H$12:$H$1201,AA2,$J$12:$J$1201) -> 900 | O3: Crédit : | P3: =SUMIF(I11:I1201,AA6,K11:K1201) -> 550 | AA3: Ch
A4: Payé par chèque : | B4: =SUMIF($H$10:$H$1201,$AA$3,$J$10:$J$1201) -> 200 | O4: Débit : | P4: =SUMIF(I11:I1201,AA6,J11:J1201) -> 1100 | AA4: Liq
A5: Payé en liquide : | B5: =SUMIF($H$10:$H$1201,AA4,$J$10:$J$1201) -> 0 | C5: =SUM(B3:B7)-SUMIF($H$11:$H$1201,AA8,$K$11:$K$1201) -> 1400 | O5: Solde final : | P5: 5100 | AA5: Caisse
A6: Prélèvement : | B6: =SUMIF($H$11:$H$1201,AA7,J$11:$J$1201) -> 200 | AA6: x
A7: Crédit caisse : | B7: =SUMIF($H$10:$H$1201,AA5,J$10:$J$1201)+SUMIF($H$10:$H$1201,AA8,$K$10:$K$1201) -> 100 | O7: Ecart : | P7: =P2+P3-P4-P5 -> -4650 | AA7: Prélev
A8: Solde caisse : | B8: =(B7-B5) -> 100 | AA8: Crédit
N9: Encours carte mois en cours : | P9: =LOOKUP(9^9,[1]Depense_revenu!$S$9:$S$40) -> #N/A | AA9: o
D11: Date | E11: Tiers | F11: Catégorie | G11: Sous catégorie | H11: Paiement | I11: P | J11: Débit | K11: Crédit | L11: Solde
D12: 42370 | E12: Grande surface | F12: Alimentation | G12: Produit alimentaire | H12: CB | I12: x | J12: 100 | L12: =P2-J12+K12 -> 900
D13: 42371 | E13: CRAM | F13: Revenu | G13: Retraite régime générale | H13: V Ext | I13: x | K13: 500 | L13: =IF(D13>0,L12+K13-J13,"") -> 1400
D14: 42401 | E14: Boulangerie | F14: Alimentation | G14: Produit alimentaire | H14: CB | I14: x | J14: 100 | L14: =IF(D14>0,L13+K14-J14,"") -> 1300
D15: 42402 | E15: CA44 | F15: Retrait DAB | G15: Débit | H15: Caisse | I15: x | J15: 100 | L15: =IF(D15>0,L14+K15-J15,"") -> 1200
D16: 42430 | E16: MAAF | F16: Auto | G16: Auto assurance | H16: Prélev | I16: x | J16: 100 | L16: =IF(D16>0,L15+K16-J16,"") -> 1100
D17: 42431 | E17: Don Bosco | F17: Loisir | G17: L Bar | H17: Ch | I17: x | J17: 100 | L17: =IF(D17>0,L16+K17-J17,"") -> 1000
D18: 42461 | E18: Autoroute | F18: Auto | G18: Auto péage | H18: Ch | I18: x | J18: 100 | L18: =IF(D18>0,L17+K18-J18,"") -> 900
D19: 42462 | E19: Jardinerie | F19: Loisir | G19: L Oiseau graine | H19: CB | I19: x | J19: 100 | L19: =IF(D19>0,L18+K19-J19,"") -> 800
D20: 42491 | E20: Harmonie Mutualité | F20: Revenu | G20: Remboursement frais santé | H20: V Ext | I20: x | K20: 50 | L20: =IF(D20>0,L19+K20-J20,"") -> 850
D21: 42492 | E21: Canal | F21: Loisir | G21: L Internet télé téléphone | H21: Prélev | I21: x | J21: 100 | L21: =IF(D21>0,L20+K21-J21,"") -> 750
D22: 42522 | E22: Autoroute | F22: Auto | G22: Auto péage | H22: CB | I22: x | J22: 100 | L22: =IF(D22>0,L21+K22-J22,"") -> 650
D23: 42552 | E23: Grande surface | F23: Alimentation | G23: Produit alimentaire | H23: CB | I23: x | J23: 100 | L23: =IF(D23>0,L22+K23-J23,"") -> 550
D24: 42553 | E24: Autres fournisseurs | F24: Loisir | G24: L Bar | H24: CB | I24: x | J24: 100 | L24: =IF(D24>0,L23+K24-J24,"") -> 450
D25: 42583 | E25: Grande surface | F25: Alimentation | G25: Produit alimentaire | H25: CB | I25: =IF(H25=$AA$4,"o","") | J25: 100 | L25: =IF(D25>0,L24+K25-J25,"") -> 350
D26: 42584 | E26: Decathlon | F26: Habillement | G26: H Chaussure | H26: CB | I26: =IF(H26=$AA$4,"o","") | J26: 100 | L26: =IF(D26>0,L25+K26-J26,"") -> 250
D27: 42614 | E27: CRAM | F27: Revenu | G27: Retraite régime générale | H27: V Ext | I27: =IF(H27=$AA$4,"o","") | K27: 500 | L27: =IF(D27>0,L26+K27-J27,"") -> 750
D28: 42615 | E28: Jardinerie | F28: Loisir | G28: L Jardinage | H28: CB | I28: =IF(H28=$AA$4,"o","") | J28: 100 | L28: =IF(D28>0,L27+K28-J28,"") -> 650
I29: =IF(H29=$AA$4,"o","") | L29: =IF(D29>0,L28+K29-J29,"")
I30: =IF(H30=$AA$4,"o","") | L30: =IF(D30>0,L29+K30-J30,"")
I31: =IF(H31=$AA$4,"o","") | L31: =IF(D31>0,L30+K31-J31,"")
I32: =IF(H32=$AA$4,"o","")
I33: =IF(H33=$AA$4,"o","")
I34: =IF(H34=$AA$4,"o","")
I35: =IF(H35=$AA$4,"o","")
I36: =IF(H36=$AA$4,"o","")
I37: =IF(H37=$AA$4,"o","")
I38: =IF(H38=$AA$4,"o","")
I39: =IF(H39=$AA$4,"o","")
I40: =IF(H40=$AA$4,"o","")
I41: =IF(H41=$AA$4,"o","")
...

Sheet Dpense_revenu
B2: Tiers | C2: =SUM(C4:C37) -> 1400 | E2: Catégorie | F2: =SUM(F4:F37) -> 1400 | H2: Sous catégorie | I2: =SUM(I4:I48) -> 1400 | J2: Budget | M2: Δ | O2: Revenus | Q2: =SUM(Q4:Q8) -> 1000 | S2: Autres revenus | U2: =SUM(U4:U8) -> 50
B4: Autoroute | C4: =IF(B4>0,SUMIF(Opérations!$E$12:$E$104,B4,Opérations!$J$12:$J$104),"") -> 200 | E4: Alimentation | F4: =SUMIF(Opérations!$F$12:$F$104,E4,Opérations!$J$12:$J$104) -> 400 | H4: Auto assurance | I4: =SUMIF(Opérations!$G$12:$G$104,H4,Opérations!$J$12:$J$104) -> 100 | J4: 429.84 | M4: =J4-I4 -> 329.84 | O4: R AGIRC Ex-cips | Q4: =SUMIF(Opérations!$E$12:$E$1000,O4,Opérations!$K$12:$K$1000) -> 0 | S4: Don | U4: =SUMIF(Opérations!$G$12:$G$1000,S4,Opérations!$K$12:$K$1000) -> 0
B5: Autres fournisseurs | C5: =IF(B5>0,SUMIF(Opérations!$E$12:$E$104,B5,Opérations!$J$12:$J$104),"") -> 100 | E5: Auto | F5: =SUMIF(Opérations!$F$12:$F$104,E5,Opérations!$J$12:$J$104) -> 300 | H5: Auto carburant | I5: =SUMIF(Opérations!$G$12:$G$104,H5,Opérations!$J$12:$J$104) -> 0 | J5: 300 | M5: =J5-I5 -> 300 | O5: R ARRCO Ex-cipca | Q5: =SUMIF(Opérations!$E$12:$E$1000,O5,Opérations!$K$12:$K$1000) -> 0 | S5: Vente de matériel | U5: =SUMIF(Opérations!$G$12:$G$1000,S5,Opérations!$K$12:$K$1000) -> 0
B6: Boucherie | C6: =IF(B6>0,SUMIF(Opérations!$E$12:$E$104,B6,Opérations!$J$12:$J$104),"") -> 0 | E6: Banque | F6: =SUMIF(Opérations!$F$12:$F$104,E6,Opérations!$J$12:$J$104) -> 0 | H6: Auto entretien | I6: =SUMIF(Opérations!$G$12:$G$104,H6,Opérations!$J$12:$J$104) -> 0 | J6: 160 | M6: =J6-I6 -> 160 | O6: R ARRCO Ex-cipcr | Q6: =SUMIF(Opérations!$E$12:$E$1000,O6,Opérations!$K$12:$K$1000) -> 0 | S6: Intérêt de placement | U6: =SUMIF(Opérations!$G$12:$G$1000,S6,Opérations!$K$12:$K$1000) -> 0
B7: Boulangerie | C7: =IF(B7>0,SUMIF(Opérations!$E$12:$E$104,B7,Opérations!$J$12:$J$104),"") -> 100 | E7: Chat | F7: =SUMIF(Opérations!$F$12:$F$104,E7,Opérations!$J$12:$J$104) -> 0 | H7: Auto parking | I7: =SUMIF(Opérations!$G$12:$G$104,H7,Opérations!$J$12:$J$104) -> 0 | J7: 50 | M7: =J7-I7 -> 50 | O7: REUNICA | Q7: =SUMIF(Opérations!$E$12:$E$1000,O7,Opérations!$K$12:$K$1000) -> 0 | S7: Remboursement frais santé | U7: =SUMIF(Opérations!$G$12:$G$1000,S7,Opérations!$K$12:$K$1000) -> 50
B8: CA44 | C8: =IF(B8>0,SUMIF(Opérations!$E$12:$E$104,B8,Opérations!$J$12:$J$104),"") -> 100 | E8: Divers | F8: =SUMIF(Opérations!$F$12:$F$104,E8,Opérations!$J$12:$J$104) -> 0 | H8: Auto péage | I8: =SUMIF(Opérations!$G$12:$G$104,H8,Opérations!$J$12:$J$104) -> 200 | J8: 100 | M8: =J8-I8 -> -100 | O8: CRAM | Q8: =SUMIF(Opérations!$E$12:$E$1000,O8,Opérations!$K$12:$K$1000) -> 1000 | S8: Remboursement divers | U8: =SUMIF(Opérations!$G$12:$G$1000,S8,Opérations!$K$12:$K$1000) -> 0
B9: Caisse | C9: =IF(B9>0,SUMIF(Opérations!$E$12:$E$104,B9,Opérations!$J$12:$J$104),"") -> 0 | E9: Habillement | F9: =SUMIF(Opérations!$F$12:$F$104,E9,Opérations!$J$12:$J$104) -> 100 | H9: Chat croquette | I9: =SUMIF(Opérations!$G$12:$G$104,H9,Opérations!$J$12:$J$104) -> 0 | J9: 40 | M9: =J9-I9 -> 40
B10: Canal | C10: =IF(B10>0,SUMIF(Opérations!$E$12:$E$104,B10,Opérations!$J$12:$J$104),"") -> 100 | E10: Impôt | F10: =SUMIF(Opérations!$F$12:$F$104,E10,Opérations!$J$12:$J$104) -> 0 | H10: Chat litière | I10: =SUMIF(Opérations!$G$12:$G$104,H10,Opérations!$J$12:$J$104) -> 0 | J10: 40 | M10: =J10-I10 -> 40 | Q10: Total revenu | R10: =Q2+U2 -> 1050
B11: Dc Brossier | C11: =IF(B11>0,SUMIF(Opérations!$E$12:$E$104,B11,Opérations!$J$12:$J$104),"") -> 0 | E11: Loisir | F11: =SUMIF(Opérations!$F$12:$F$104,E11,Opérations!$J$12:$J$104) -> 500 | H11: Chat matériel | I11: =SUMIF(Opérations!$G$12:$G$104,H11,Opérations!$J$12:$J$104) -> 0 | J11: 0 | M11: =J11-I11 -> 0
B12: Dc Delfosse | C12: =IF(B12>0,SUMIF(Opérations!$E$12:$E$104,B12,Opérations!$J$12:$J$104),"") -> 0 | E12: Maison | F12: =SUMIF(Opérations!$F$12:$F$104,E12,Opérations!$J$12:$J$104) -> 0 | H12: Débit | I12: =SUMIF(Opérations!$G$12:$G$104,H12,Opérations!$J$12:$J$104) -> 100 | J12: 700 | M12: =J12-I12 -> 600
B13: Dc Elkouri | C13: =IF(B13>0,SUMIF(Opérations!$E$12:$E$104,B13,Opérations!$J$12:$J$104),"") -> 0 | E13: Retrait DAB | F13: =SUMIF(Opérations!$F$12:$F$104,E13,Opérations!$J$12:$J$104) -> 100 | H13: Divers | I13: =SUMIF(Opérations!$G$12:$G$104,H13,Opérations!$J$12:$J$104) -> 0 | J13: 60 | M13: =J13-I13 -> 60 | P13: Date | R13: Dépenses | S13: Revenus | T13: Δ
B14: Decathlon | C14: =IF(B14>0,SUMIF(Opérations!$E$12:$E$104,B14,Opérations!$J$12:$J$104),"") -> 100 | E14: Oiseau | F14: =SUMIF(Opérations!$F$12:$F$104,E14,Opérations!$J$12:$J$104) -> 0 | H14: Frais bancaire | I14: =SUMIF(Opérations!$G$12:$G$104,H14,Opérations!$J$12:$J$104) -> 0 | J14: 100 | M14: =J14-I14 -> 100 | P14: 42370 | Q14: 42400 | R14: =SUMPRODUCT((Opérations!$J$12:$J$1000)*(Opérations!$D$12:$D$1000>=Dpense_revenu!P14)*(Opérations!$D$12:$D$1000<=Dpense_revenu!Q14)) -> 100 | S14: =SUMPRODUCT((Opérations!$K$12:$K$1000)*(Opérations!$D$12:$D$1000>=Dpense_revenu!P14)*(Opérations!$D$12:$D$1000<=Dpense_revenu!Q14)) -> 500 | T14: =S14-R14 -> 400
B15: Divers | C15: =IF(B15>0,SUMIF(Opérations!$E$12:$E$104,B15,Opérations!$J$12:$J$104),"") -> 0 | E15: Santé | F15: =SUMIF(Opérations!$F$12:$F$104,E15,Opérations!$J$12:$J$104) -> 0 | H15: H Chaussure | I15: =SUMIF(Opérations!$G$12:$G$104,H15,Opérations!$J$12:$J$104) -> 100 | J15: 100 | M15: =J15-I15 -> 0 | P15: 42401 | Q15: 42428 | R15: =SUMPRODUCT((Opérations!$J$12:$J$1000)*(Opérations!$D$12:$D$1000>=Dpense_revenu!P15)*(Opérations!$D$12:$D$1000<=Dpense_revenu!Q15)) -> 200 | S15: =SUMPRODUCT((Opérations!$K$12:$K$1000)*(Opérations!$D$12:$D$1000>=Dpense_revenu!P15)*(Opérations!$D$12:$D$1000<=Dpense_revenu!Q15)) -> 0 | T15: =S15-R15 -> -200
B16: Don Bosco | C16: =IF(B16>0,SUMIF(Opérations!$E$12:$E$104,B16,Opérations!$J$12:$J$104),"") -> 100 | H16: H Pressing | I16: =SUMIF(Opérations!$G$12:$G$104,H16,Opérations!$J$12:$J$104) -> 0 | J16: 50 | M16: =J16-I16 -> 50 | P16: 42430 | Q16: 42460 | R16: =SUMPRODUCT((Opérations!$J$12:$J$1000)*(Opérations!$D$12:$D$1000>=Dpense_revenu!P16)*(Opérations!$D$12:$D$1000<=Dpense_revenu!Q16)) -> 200 | S16: =SUMPRODUCT((Opérations!$K$12:$K$1000)*(Opérations!$D$12:$D$1000>=Dpense_revenu!P16)*(Opérations!$D$12:$D$1000<=Dpense_revenu!Q16)) -> 0 | T16: =S16-R16 -> -200
B17: DxO | C17: =IF(B17>0,SUMIF(Opérations!$E$12:$E$104,B17,Opérations!$J$12:$J$104),"") -> 0 | H17: H Vêtement | I17: =SUMIF(Opérations!$G$12:$G$104,H17,Opérations!$J$12:$J$104) -> 0 | J17: 150 | M17: =J17-I17 -> 150 | P17: 42461 | Q17: 42490 | R17: =SUMPRODUCT((Opérations!$J$12:$J$1000)*(Opérations!$D$12:$D$1000>=Dpense_revenu!P17)*(Opérations!$D$12:$D$1000<=Dpense_revenu!Q17)) -> 200 | S17: =SUMPRODUCT((Opérations!$K$12:$K$1000)*(Opérations!$D$12:$D$1000>=Dpense_revenu!P17)*(Opérations!$D$12:$D$1000<=Dpense_revenu!Q17)) -> 0 | T17: =S17-R17 -> -200
B18: EDF | C18: =IF(B18>0,SUMIF(Opérations!$E$12:$E$104,B18,Opérations!$J$12:$J$104),"") -> 0 | H18: Impôt amende | I18: =SUMIF(Opérations!$G$12:$G$104,H18,Opérations!$J$12:$J$104) -> 0 | J18: 0 | M18: =J18-I18 -> 0 | P18: 42491 | Q18: 42521 | R18: =SUMPRODUCT((Opérations!$J$12:$J$1000)*(Opérations!$D$12:$D$1000>=Dpense_revenu!P18)*(Opérations!$D$12:$D$1000<=Dpense_revenu!Q18)) -> 100 | S18: =SUMPRODUCT((Opérations!$K$12:$K$1000)*(Opérations!$D$12:$D$1000>=Dpense_revenu!P18)*(Opérations!$D$12:$D$1000<=Dpense_revenu!Q18)) -> 50 | T18: =S18-R18 -> -50
B19: Epicerie | C19: =IF(B19>0,SUMIF(Opérations!$E$12:$E$104,B19,Opérations!$J$12:$J$104),"") -> 0 | H19: Impôt revenu | I19: =SUMIF(Opérations!$G$12:$G$104,H19,Opérations!$J$12:$J$104) -> 0 | J19: 400 | M19: =J19-I19 -> 400 | P19: 42522 | Q19: 42551 | R19: =SUMPRODUCT((Opérations!$J$12:$J$1000)*(Opérations!$D$12:$D$1000>=Dpense_revenu!P19)*(Opérations!$D$12:$D$1000<=Dpense_revenu!Q19)) -> 100 | S19: =SUMPRODUCT((Opérations!$K$12:$K$1000)*(Opérations!$D$12:$D$1000>=Dpense_revenu!P19)*(Opérations!$D$12:$D$1000<=Dpense_revenu!Q19)) -> 0 | T19: =S19-R19 -> -100
B20: Gaudin | C20: =IF(B20>0,SUMIF(Opérations!$E$12:$E$104,B20,Opérations!$J$12:$J$104),"") -> 0 | H20: Impôts locaux | I20: =SUMIF(Opérations!$G$12:$G$104,H20,Opérations!$J$12:$J$104) -> 0 | J20: 600 | M20: =J20-I20 -> 600 | P20: 42552 | Q20: 42582 | R20: =SUMPRODUCT((Opérations!$J$12:$J$1000)*(Opérations!$D$12:$D$1000>=Dpense_revenu!P20)*(Opérations!$D$12:$D$1000<=Dpense_revenu!Q20)) -> 200 | S20: =SUMPRODUCT((Opérations!$K$12:$K$1000)*(Opérations!$D$12:$D$1000>=Dpense_revenu!P20)*(Opérations!$D$12:$D$1000<=Dpense_revenu!Q20)) -> 0 | T20: =S20-R20 -> -200 | X20: 1
B21: GDF SUEZ | C21: =IF(B21>0,SUMIF(Opérations!$E$12:$E$104,B21,Opérations!$J$12:$J$104),"") -> 0 | H21: L Bar | I21: =SUMIF(Opérations!$G$12:$G$104,H21,Opérations!$J$12:$J$104) -> 200 | J21: 100 | M21: =J21-I21 -> -100 | P21: 42583 | Q21: 42613 | R21: =SUMPRODUCT((Opérations!$J$12:$J$1000)*(Opérations!$D$12:$D$1000>=Dpense_revenu!P21)*(Opérations!$D$12:$D$1000<=Dpense_revenu!Q21)) -> 200 | S21: =SUMPRODUCT((Opérations!$K$12:$K$1000)*(Opérations!$D$12:$D$1000>=Dpense_revenu!P21)*(Opérations!$D$12:$D$1000<=Dpense_revenu!Q21)) -> 0 | T21: =S21-R21 -> -200
B22: Grande surface | C22: =IF(B22>0,SUMIF(Opérations!$E$12:$E$104,B22,Opérations!$J$12:$J$104),"") -> 300 | H22: L Billard adhésion | I22: =SUMIF(Opérations!$G$12:$G$104,H22,Opérations!$J$12:$J$104) -> 0 | J22: 175 | M22: =J22-I22 -> 175 | P22: 42614 | Q22: 42643 | R22: =SUMPRODUCT((Opérations!$J$12:$J$1000)*(Opérations!$D$12:$D$1000>=Dpense_revenu!P22)*(Opérations!$D$12:$D$1000<=Dpense_revenu!Q22)) -> 100 | S22: =SUMPRODUCT((Opérations!$K$12:$K$1000)*(Opérations!$D$12:$D$1000>=Dpense_revenu!P22)*(Opérations!$D$12:$D$1000<=Dpense_revenu!Q22)) -> 500 | T22: =S22-R22 -> 400
B23: Harmonie Mutualité | C23: =IF(B23>0,SUMIF(Opérations!$E$12:$E$104,B23,Opérations!$J$12:$J$104),"") -> 0 | H23: L Cigarette | I23: =SUMIF(Opérations!$G$12:$G$104,H23,Opérations!$J$12:$J$104) -> 0 | J23: 1000 | M23: =J23-I23 -> 1000 | P23: 42644 | Q23: 42674 | R23: =SUMPRODUCT((Opérations!$J$12:$J$1000)*(Opérations!$D$12:$D$1000>=Dpense_revenu!P23)*(Opérations!$D$12:$D$1000<=Dpense_revenu!Q23)) -> 0 | S23: =SUMPRODUCT((Opérations!$K$12:$K$1000)*(Opérations!$D$12:$D$1000>=Dpense_revenu!P23)*(Opérations!$D$12:$D$1000<=Dpense_revenu!Q23)) -> 0 | T23: =S23-R23 -> 0
B24: Jardinerie | C24: =IF(B24>0,SUMIF(Opérations!$E$12:$E$104,B24,Opérations!$J$12:$J$104),"") -> 200 | H24: L Informatique | I24: =SUMIF(Opérations!$G$12:$G$104,H24,Opérations!$J$12:$J$104) -> 0 | J24: 200 | M24: =J24-I24 -> 200 | P24: 42675 | Q24: 42704 | R24: =SUMPRODUCT((Opérations!$J$12:$J$1000)*(Opérations!$D$12:$D$1000>=Dpense_revenu!P24)*(Opérations!$D$12:$D$1000<=Dpense_revenu!Q24)) -> 0 | S24: =SUMPRODUCT((Opérations!$K$12:$K$1000)*(Opérations!$D$12:$D$1000>=Dpense_revenu!P24)*(Opérations!$D$12:$D$1000<=Dpense_revenu!Q24)) -> 0 | T24: =S24-R24 -> 0
B25: MAAF | C25: =IF(B25>0,SUMIF(Opérations!$E$12:$E$104,B25,Opérations!$J$12:$J$104),"") -> 100 | H25: L Internet télé téléphone | I25: =SUMIF(Opérations!$G$12:$G$104,H25,Opérations!$J$12:$J$104) -> 100 | J25: 1200 | M25: =J25-I25 -> 1100 | P25: 42705 | Q25: 42735 | R25: =SUMPRODUCT((Opérations!$J$12:$J$1000)*(Opérations!$D$12:$D$1000>=Dpense_revenu!P25)*(Opérations!$D$12:$D$1000<=Dpense_revenu!Q25)) -> 0 | S25: =SUMPRODUCT((Opérations!$K$12:$K$1000)*(Opérations!$D$12:$D$1000>=Dpense_revenu!P25)*(Opérations!$D$12:$D$1000<=Dpense_revenu!Q25)) -> 0 | T25: =S25-R25 -> 0
B26: Magasin Bricolage | C26: =IF(B26>0,SUMIF(Opérations!$E$12:$E$104,B26,Opérations!$J$12:$J$104),"") -> 0 | H26: L Invitation | I26: =SUMIF(Opérations!$G$12:$G$104,H26,Opérations!$J$12:$J$104) -> 0 | J26: 300 | M26: =J26-I26 -> 300
B27: Marché | C27: =IF(B27>0,SUMIF(Opérations!$E$12:$E$104,B27,Opérations!$J$12:$J$104),"") -> 0 | H27: L Jardinage | I27: =SUMIF(Opérations!$G$12:$G$104,H27,Opérations!$J$12:$J$104) -> 100 | J27: 50 | M27: =J27-I27 -> -50
B28: Matériel.net | C28: =IF(B28>0,SUMIF(Opérations!$E$12:$E$104,B28,Opérations!$J$12:$J$104),"") -> 0 | H28: L Jeux | I28: =SUMIF(Opérations!$G$12:$G$104,H28,Opérations!$J$12:$J$104) -> 0 | J28: 50 | M28: =J28-I28 -> 50 | Q28: En cours carte a débit différé
B29: Numéricable | C29: =IF(B29>0,SUMIF(Opérations!$E$12:$E$104,B29,Opérations!$J$12:$J$104),"") -> 0 | H29: L Livre et magasine | I29: =SUMIF(Opérations!$G$12:$G$104,H29,Opérations!$J$12:$J$104) -> 0 | J29: 50 | M29: =J29-I29 -> 50 | Q29: 42358 | R29: 42388 | S29: =SUMPRODUCT((Opérations!$J$12:$J$1000)*(Opérations!$D$12:$D$1000>=Dpense_revenu!Q29)*(Opérations!$D$12:$D$1000<=Dpense_revenu!R29)*(Opérations!$H$12:$H$1000=Opérations!$AA$2)) -> 100
B30: Pharmacie | C30: =IF(B30>0,SUMIF(Opérations!$E$12:$E$104,B30,Opérations!$J$12:$J$104),"") -> 0 | H30: L matériel | I30: =SUMIF(Opérations!$G$12:$G$104,H30,Opérations!$J$12:$J$104) -> 0 | J30: 300 | M30: =J30-I30 -> 300 | Q30: 42389 | R30: 42419 | S30: =SUMPRODUCT((Opérations!$J$12:$J$1000)*(Opérations!$D$12:$D$1000>=Dpense_revenu!Q30)*(Opérations!$D$12:$D$1000<=Dpense_revenu!R30)*(Opérations!$H$12:$H$1000=Opérations!$AA$2)) -> 100
B31: Poissonnerie | C31: =IF(B31>0,SUMIF(Opérations!$E$12:$E$104,B31,Opérations!$J$12:$J$104),"") -> 0 | H31: L Oiseau graine | I31: =SUMIF(Opérations!$G$12:$G$104,H31,Opérations!$J$12:$J$104) -> 100 | J31: 30 | M31: =J31-I31 -> -70 | Q31: 42420 | R31: 42448 | S31: =SUMPRODUCT((Opérations!$J$12:$J$1000)*(Opérations!$D$12:$D$1000>=Dpense_revenu!Q31)*(Opérations!$D$12:$D$1000<=Dpense_revenu!R31)*(Opérations!$H$12:$H$1000=Opérations!$AA$2)) -> 0
B32: Restaurant divers | C32: =IF(B32>0,SUMIF(Opérations!$E$12:$E$104,B32,Opérations!$J$12:$J$104),"") -> 0 | H32: L Photo | I32: =SUMIF(Opérations!$G$12:$G$104,H32,Opérations!$J$12:$J$104) -> 0 | J32: 0 | M32: =J32-I32 -> 0 | Q32: 42449 | R32: 42479 | S32: =SUMPRODUCT((Opérations!$J$12:$J$1000)*(Opérations!$D$12:$D$1000>=Dpense_revenu!Q32)*(Opérations!$D$12:$D$1000<=Dpense_revenu!R32)*(Opérations!$H$12:$H$1000=Opérations!$AA$2)) -> 100
B33: Resto du cœur | C33: =IF(B33>0,SUMIF(Opérations!$E$12:$E$104,B33,Opérations!$J$12:$J$104),"") -> 0 | H33: L Vacances | I33: =SUMIF(Opérations!$G$12:$G$104,H33,Opérations!$J$12:$J$104) -> 0 | J33: 300 | M33: =J33-I33 -> 300 | Q33: 42480 | R33: 42509 | S33: =SUMPRODUCT((Opérations!$J$12:$J$1000)*(Opérations!$D$12:$D$1000>=Dpense_revenu!Q33)*(Opérations!$D$12:$D$1000<=Dpense_revenu!R33)*(Opérations!$H$12:$H$1000=Opérations!$AA$2)) -> 0
B34: Station | C34: =IF(B34>0,SUMIF(Opérations!$E$12:$E$104,B34,Opérations!$J$12:$J$104),"") -> 0 | H34: Maison assurance | I34: =SUMIF(Opérations!$G$12:$G$104,H34,Opérations!$J$12:$J$104) -> 0 | J34: 180 | M34: =J34-I34 -> 180 | Q34: 42510 | R34: 42540 | S34: =SUMPRODUCT((Opérations!$J$12:$J$1000)*(Opérations!$D$12:$D$1000>=Dpense_revenu!Q34)*(Opérations!$D$12:$D$1000<=Dpense_revenu!R34)*(Opérations!$H$12:$H$1000=Opérations!$AA$2)) -> 100
B35: Tabac | C35: =IF(B35>0,SUMIF(Opérations!$E$12:$E$104,B35,Opérations!$J$12:$J$104),"") -> 0 | H35: Maison Electricité | I35: =SUMIF(Opérations!$G$12:$G$104,H35,Opérations!$J$12:$J$104) -> 0 | J35: 280 | M35: =J35-I35 -> 280 | Q35: 42541 | R35: 42570 | S35: =SUMPRODUCT((Opérations!$J$12:$J$1000)*(Opérations!$D$12:$D$1000>=Dpense_revenu!Q35)*(Opérations!$D$12:$D$1000<=Dpense_revenu!R35)*(Opérations!$H$12:$H$1000=Opérations!$AA$2)) -> 200 | U35: =OFFSET($S$29,COUNTA(S29:S40)-1,,1) -> 0
B36: Toyota | C36: =IF(B36>0,SUMIF(Opérations!$E$12:$E$104,B36,Opérations!$J$12:$J$104),"") -> 0 | H36: Maison entretien | I36: =SUMIF(Opérations!$G$12:$G$104,H36,Opérations!$J$12:$J$104) -> 0 | J36: 600 | M36: =J36-I36 -> 600 | Q36: 42571 | R36: 42601 | S36: =SUMPRODUCT((Opérations!$J$12:$J$1000)*(Opérations!$D$12:$D$1000>=Dpense_revenu!Q36)*(Opérations!$D$12:$D$1000<=Dpense_revenu!R36)*(Opérations!$H$12:$H$1000=Opérations!$AA$2)) -> 200
B37: Trésor public | C37: =IF(B37>0,SUMIF(Opérations!$E$12:$E$104,B37,Opérations!$J$12:$J$104),"") -> 0 | H37: Maison équipement | I37: =SUMIF(Opérations!$G$12:$G$104,H37,Opérations!$J$12:$J$104) -> 0 | J37: 150 | M37: =J37-I37 -> 150 | Q37: 42602 | R37: 42632 | S37: =SUMPRODUCT((Opérations!$J$12:$J$1000)*(Opérations!$D$12:$D$1000>=Dpense_revenu!Q37)*(Opérations!$D$12:$D$1000<=Dpense_revenu!R37)*(Opérations!$H$12:$H$1000=Opérations!$AA$2)) -> 100
H38: Maison Gaz | I38: =SUMIF(Opérations!$G$12:$G$104,H38,Opérations!$J$12:$J$104) -> 0 | J38: 500 | M38: =J38-I38 -> 500 | Q38: 42633 | R38: 42662 | S38: =SUMPRODUCT((Opérations!$J$12:$J$1000)*(Opérations!$D$12:$D$1000>=Dpense_revenu!Q38)*(Opérations!$D$12:$D$1000<=Dpense_revenu!R38)*(Opérations!$H$12:$H$1000=Opérations!$AA$2)) -> 0
H39: Maison loyer | I39: =SUMIF(Opérations!$G$12:$G$104,H39,Opérations!$J$12:$J$104) -> 0 | J39: 3660 | M39: =J39-I39 -> 3660 | Q39: 42663 | R39: 42693 | S39: =SUMPRODUCT((Opérations!$J$12:$J$1000)*(Opérations!$D$12:$D$1000>=Dpense_revenu!Q39)*(Opérations!$D$12:$D$1000<=Dpense_revenu!R39)*(Opérations!$H$12:$H$1000=Opérations!$AA$2)) -> 0
H40: Produit alimentaire | I40: =SUMIF(Opérations!$G$12:$G$104,H40,Opérations!$J$12:$J$104) -> 400 | J40: 2500 | M40: =J40-I40 -> 2100 | Q40: 42694 | R40: 19/12/20157 | S40: =SUMPRODUCT((Opérations!$J$12:$J$1000)*(Opérations!$D$12:$D$1000>=Dpense_revenu!Q40)*(Opérations!$D$12:$D$1000<=Dpense_revenu!R40)*(Opérations!$H$12:$H$1000=Opérations!$AA$2)) -> 0
H41: Restaurant alim | I41: =SUMIF(Opérations!$G$12:$G$104,H41,Opérations!$J$12:$J$104) -> 0 | J41: 800 | M41: =J41-I41 -> 800
H42: Santé assurance | I42: =SUMIF(Opérations!$G$12:$G$104,H42,Opérations!$J$12:$J$104) -> 0 | J42: 900 | M42: =J42-I42 -> 900
...

Sheet Données
A1: Tiers | B1: Alimentation | C1: Auto | D1: Banque | E1: Animaux | F1: Débit | G1: Divers | H1: Habillement | I1: Impôt | J1: Loisir | K1: Maison | L1: Retrait DAB | M1: Paiement | N1: Revenu | O1: Santé
A2: Autoroute | B2: Produit alimentaire | C2: Auto assurance | D2: Frais bancaire | E2: Chat croquette | F2: Caisse | G2: Divers | H2: H Chaussure | I2: Impôt amende | J2: L Bar | K2: Maison assurance | L2: Débit | M2: CB | N2: Don | O2: Santé assurance
A3: Autres fournisseurs | B3: Restaurant alim | C3: Auto carburant | E3: Chat litière | H3: H Pressing | I3: Impôts locaux | J3: L Billard adhésion | K3: Maison Electricité | L3: Crédit | M3: Caisse | N3: Intérêt de placement | O3: Santé dentiste
A4: Boucherie | C4: Auto entretien | E4: Chat matériel | H4: H Vêtement | I4: Impôt revenu | J4: L Cigarette | K4: Maison entretien | M4: Ch | N4: Remboursement divers | O4: Santé docteur
A5: Boulangerie | C5: Auto parking | E5: Oiseau graines | J5: L Informatique | K5: Maison équipement | M5: Crédit | N5: Remboursement frais santé | O5: Santé médoc
A6: CA44 | C6: Auto péage | J6: L Internet télé téléphone | K6: Maison Gaz | M6: Liq | N6: Retraite complémentaire | O6: Santé opticien oculiste
A7: Caisse | J7: L Invitation | K7: Maison loyer | M7: Prélev | N7: Retraite régime générale | O7: Santé radiologie
A8: Canal | J8: L Jardinage | M8: V Ext | N8: Vente de matériel | O8: Santé Rhumatologie
A9: Compte courant | J9: L Jeux
A10: Compte d'épargne | J10: L Livre et magasine
A11: CPAM | J11: L matériel
A12: CRAM | J12: L Oiseau graine
A13: Dc Brossier | J13: L Photo
A14: Dc Delfosse | J14: L Vacances
A15: Dc Elkouri
A16: Decathlon
A17: Divers
A18: Don Bosco
A19: DxO
A20: EDF
A21: Epicerie
A22: Gaudin
A23: GDF SUEZ
A24: Grande surface
A25: Harmonie Mutualité
A26: Jardinerie
... A39: Trésor public
