Workbook

Sheet General
A1: LAK | B1: INCOME | C1: OUTCOME | D1: TOTAL | E1: PERC
A2: RESORT | B2: =Resort!S35 -> 0 | C2: =Resort!A4+Resort!B4+Resort!C4+Resort!D4+Resort!E4+Resort!F4+Resort!I35 -> 0 | D2: =B2-C2 -> 0 | E2: =IFERROR(((100*C2)/B2),"0") -> 0
A3: RESTAURANT | B3: =Restaurant!G34 -> 0 | C3: =Restaurant!D34 -> 0 | D3: =Restaurant!H34 -> 0 | E3: =IFERROR(((100*C3)/B3),"0") -> 0
A4: CAR | B4: =Car!G34+Car!J34 -> 0 | C4: =Car!D34 -> 0 | D4: =Car!K34 -> 0 | E4: =IFERROR(((100*C4)/B4),"0") -> 0
A5: TOTAL | B5: =SUM(B2:B4) -> 0 | C5: =SUM(C2:C4) -> 0 | D5: =SUM(D2:D4) -> 0 | E5: =IFERROR(((100*C5)/B5),"0") -> 0
A6: USD | B6: INCOME | C6: OUTCOME | D6: TOTAL | E6: PERC
A7: RESORT | B7: =Resort!S40 -> 0 | C7: =Resort!A9+Resort!B9+Resort!C9+Resort!D9+Resort!E9+Resort!F9+Resort!I40 -> 0 | D7: =B7-C7 -> 0 | E7: =IFERROR(((100*C7)/B7),"0") -> 0
A8: RESTAURANT | B8: =Restaurant!G39 -> 0 | C8: =Restaurant!D39 -> 0 | D8: =Restaurant!H39 -> 0 | E8: =IFERROR(((100*C8)/B8),"0") -> 0
A9: CAR | B9: =Car!G39+Car!J39 -> 0 | C9: =Car!D39 -> 0 | D9: =Car!K39 -> 0 | E9: =IFERROR(((100*C9)/B9),"0") -> 0
A10: TOTAL | B10: =SUM(B7:B9) -> 0 | C10: =SUM(C7:C9) -> 0 | D10: =SUM(D7:D9) -> 0 | E10: =IFERROR(((100*C10)/B10),"0") -> 0

Sheet Resort
A1: OUTCOME | J1: INCOME
A2: Salaries | F2: Electricity | G2: Bills | J2: Travel Agencies | L2: Date | M2: Rooms | P2: Sauna | Q2: Massage | R2: Bike Rental | S2: TOTAL LAK | T2: TOTAL USD
A3: Phaan | B3: Lai | C3: Laa | D3: Hai | E3: GM | G3: Bill Nbr | H3: Description | I3: Amount | J3: Bill Nbr | K3: Amount | M3: Direct | N3: Booking.com | O3: Agoda
L4: 42370 | S4: =SUM(M4:R4) -> 0
L5: 42371 | S5: =SUM(M5:R5) -> 0
L6: 42372 | S6: =SUM(M6:R6) -> 0
L7: 42373 | S7: =SUM(M7:R7) -> 0
L8: 42374 | S8: =SUM(M8:R8) -> 0
L9: 42375 | S9: =SUM(M9:R9) -> 0
L10: 42376 | S10: =SUM(M10:R10) -> 0
L11: 42377 | S11: =SUM(M11:R11) -> 0
L12: 42378 | S12: =SUM(M12:R12) -> 0
L13: 42379 | S13: =SUM(M13:R13) -> 0
L14: 42380 | S14: =SUM(M14:R14) -> 0
L15: 42381 | S15: =SUM(M15:R15) -> 0
... L34: 42400 | S34: =SUM(M34:R34) -> 0
G35: TOTAL LAK | I35: =SUM(I4:I34) -> 0 | J35: =SUM(K4:K34) -> 0 | L35: TOTAL LAK | M35: =SUM(M4:M34) -> 0 | N35: =SUM(N4:N34) -> 0 | O35: =SUM(O4:O34) -> 0 | P35: =SUM(P4:P34) -> 0 | Q35: =SUM(Q4:Q34) -> 0 | R35: =SUM(R4:R34) -> 0 | S35: =SUM(M35:R35) -> 0
G36: TOTAL USD | L36: TOTAL USD

Sheet Restaurant
B1: OUTCOME | E1: INCOME
B2: Supplies Food | C2: Supplies Beverages | D2: Total | E2: Food | F2: Beverages | G2: Total | H2: TOTAL LAK | I2: TOTAL USD
A3: 42370 | D3: =B3+C3 -> 0 | G3: =E3+F3 -> 0 | H3: =G3-D3 -> 0
A4: 42371 | D4: =B4+C4 -> 0 | G4: =E4+F4 -> 0 | H4: =G4-D4 -> 0
A5: 42372 | D5: =B5+C5 -> 0 | G5: =E5+F5 -> 0 | H5: =G5-D5 -> 0
A6: 42373 | D6: =B6+C6 -> 0 | G6: =E6+F6 -> 0 | H6: =G6-D6 -> 0
A7: 42374 | D7: =B7+C7 -> 0 | G7: =E7+F7 -> 0 | H7: =G7-D7 -> 0
A8: 42375 | D8: =B8+C8 -> 0 | G8: =E8+F8 -> 0 | H8: =G8-D8 -> 0
A9: 42376 | D9: =B9+C9 -> 0 | G9: =E9+F9 -> 0 | H9: =G9-D9 -> 0
A10: 42377 | D10: =B10+C10 -> 0 | G10: =E10+F10 -> 0 | H10: =G10-D10 -> 0
A11: 42378 | D11: =B11+C11 -> 0 | G11: =E11+F11 -> 0 | H11: =G11-D11 -> 0
A12: 42379 | D12: =B12+C12 -> 0 | G12: =E12+F12 -> 0 | H12: =G12-D12 -> 0
A13: 42380 | D13: =B13+C13 -> 0 | G13: =E13+F13 -> 0 | H13: =G13-D13 -> 0
A14: 42381 | D14: =B14+C14 -> 0 | G14: =E14+F14 -> 0 | H14: =G14-D14 -> 0
... A33: 42400 | D33: =B33+C33 -> 0 | G33: =E33+F33 -> 0 | H33: =G33-D33 -> 0
A34: TOTAL LAK | B34: =SUM(B3:B33) -> 0 | C34: =SUM(C3:C33) -> 0 | D34: =B34+C34 -> 0 | E34: =SUM(E3:E33) -> 0 | F34: =SUM(F3:F33) -> 0 | G34: =E34+F34 -> 0 | H34: =G34-D34 -> 0
A35: TOTAL USD

Sheet Car
B1: Outcome | E1: Income
B2: Gas | C2: Repairs | D2: TOTAL | E2: Shuttle | F2: Price | G2: TOTAL | H2: Transfer | I2: Price | J2: TOTAL | K2: TOTAL LAK | L2: TOTAL USD
A3: 42370 | D3: =B3+C3 -> 0 | G3: =E3*F3 -> 0 | J3: =H3*I3 -> 0 | K3: =G3+J3-D3 -> 0
A4: 42371 | D4: =B4+C4 -> 0 | G4: =E4*F4 -> 0 | J4: =H4*I4 -> 0 | K4: =G4+J4-D4 -> 0
A5: 42372 | D5: =B5+C5 -> 0 | G5: =E5*F5 -> 0 | J5: =H5*I5 -> 0 | K5: =G5+J5-D5 -> 0
A6: 42373 | D6: =B6+C6 -> 0 | G6: =E6*F6 -> 0 | J6: =H6*I6 -> 0 | K6: =G6+J6-D6 -> 0
A7: 42374 | D7: =B7+C7 -> 0 | G7: =E7*F7 -> 0 | J7: =H7*I7 -> 0 | K7: =G7+J7-D7 -> 0
A8: 42375 | D8: =B8+C8 -> 0 | G8: =E8*F8 -> 0 | J8: =H8*I8 -> 0 | K8: =G8+J8-D8 -> 0
A9: 42376 | D9: =B9+C9 -> 0 | G9: =E9*F9 -> 0 | J9: =H9*I9 -> 0 | K9: =G9+J9-D9 -> 0
A10: 42377 | D10: =B10+C10 -> 0 | G10: =E10*F10 -> 0 | J10: =H10*I10 -> 0 | K10: =G10+J10-D10 -> 0
A11: 42378 | D11: =B11+C11 -> 0 | G11: =E11*F11 -> 0 | J11: =H11*I11 -> 0 | K11: =G11+J11-D11 -> 0
A12: 42379 | D12: =B12+C12 -> 0 | G12: =E12*F12 -> 0 | J12: =H12*I12 -> 0 | K12: =G12+J12-D12 -> 0
A13: 42380 | D13: =B13+C13 -> 0 | G13: =E13*F13 -> 0 | J13: =H13*I13 -> 0 | K13: =G13+J13-D13 -> 0
A14: 42381 | D14: =B14+C14 -> 0 | G14: =E14*F14 -> 0 | J14: =H14*I14 -> 0 | K14: =G14+J14-D14 -> 0
... A33: 42400 | D33: =B33+C33 -> 0 | G33: =E33*F33 -> 0 | J33: =H33*I33 -> 0 | K33: =G33+J33-D33 -> 0
A34: TOTAL LAK | B34: =SUM(B3:B33) -> 0 | C34: =SUM(C3:C33) -> 0 | D34: =B34+C34 -> 0 | E34: =SUM(E3:E33) -> 0 | F34: =SUM(F3:F33) -> 0 | G34: =E34*F34 -> 0 | H34: =SUM(H3:H33) -> 0 | I34: =SUM(I3:I33) -> 0 | J34: =H34*I34 -> 0 | K34: =G34+J34-D34 -> 0
A35: TOTAL USD
