Workbook

Sheet Calendrier disponibilité
B2: Tableau récapitulatif des disponibilités
A3: 2016
A5: JANVIER | C5: 1 | D5: 2 | E5: 3 | F5: 4 | G5: 5 | H5: 6 | I5: 7 | J5: 8 | K5: 9 | L5: 10 | M5: 11 | N5: 12 | O5: 13 | P5: 14 | Q5: 15 | R5: 16 | S5: 17 | T5: 18 | U5: 19 | V5: 20 | W5: 21 | X5: 22 | Y5: 23 | Z5: 24 | AA5: 25 | AB5: 26 | AC5: 27 | AD5: 28 | AE5: 29 | AF5: 30 | AG5: 31
B6: Prévu | F6: =(SUM(Camille!F6+Eliot!F6+Clément!F6+Alix!F6+Vadacca!F6+ansamuller!F6)) -> 2 | G6: =(SUM(Camille!G6+Eliot!G6+Clément!G6+Alix!G6+Vadacca!G6+ansamuller!G6)) -> 4 | I6: =(SUM(Camille!I6+Eliot!I6+Clément!I6+Alix!I6+Vadacca!I6+ansamuller!I6)) -> 3 | J6: =(SUM(Camille!J6+Eliot!J6+Clément!J6+Alix!J6+Vadacca!J6+ansamuller!J6)) -> 2 | M6: =(SUM(Camille!M6+Eliot!M6+Clément!M6+Alix!M6+Vadacca!M6+ansamuller!M6)) -> 2 | N6: =(SUM(Camille!N6+Eliot!N6+Clément!N6+Alix!N6+Vadacca!N6+ansamuller!N6)) -> 4 | P6: =(SUM(Camille!P6+Eliot!P6+Clément!P6+Alix!P6+Vadacca!P6+ansamuller!P6)) -> 3 | Q6: =(SUM(Camille!Q6+Eliot!Q6+Clément!Q6+Alix!Q6+Vadacca!Q6+ansamuller!Q6)) -> 2 | T6: =(SUM(Camille!T6+Eliot!T6+Clément!T6+Alix!T6+Vadacca!T6+ansamuller!T6)) -> 2 | U6: =(SUM(Camille!U6+Eliot!U6+Clément!U6+Alix!U6+Vadacca!U6+ansamuller!U6)) -> 4 | W6: =(SUM(Camille!W6+Eliot!W6+Clément!W6+Alix!W6+Vadacca!W6+ansamuller!W6)) -> 3 | X6: =(SUM(Camille!X6+Eliot!X6+Clément!X6+Alix!X6+Vadacca!X6+ansamuller!X6)) -> 2 | AA6: =(SUM(Camille!AA6+Eliot!AA6+Clément!AA6+Alix!AA6+Vadacca!AA6+ansamuller!AA6)) -> 2 | AB6: =(SUM(Camille!AB6+Eliot!AB6+Clément!AB6+Alix!AB6+Vadacca!AB6+ansamuller!AB6)) -> 4 | AD6: =(SUM(Camille!AD6+Eliot!AD6+Clément!AD6+Alix!AD6+Vadacca!AD6+ansamuller!AD6)) -> 3 | AE6: =(SUM(Camille!AE6+Eliot!AE6+Clément!AE6+Alix!AE6+Vadacca!AE6+ansamuller!AE6)) -> 2
B7: Note
A8: FÉVRIER | C8: 1 | D8: 2 | E8: 3 | F8: 4 | G8: 5 | H8: 6 | I8: 7 | J8: 8 | K8: 9 | L8: 10 | M8: 11 | N8: 12 | O8: 13 | P8: 14 | Q8: 15 | R8: 16 | S8: 17 | T8: 18 | U8: 19 | V8: 20 | W8: 21 | X8: 22 | Y8: 23 | Z8: 24 | AA8: 25 | AB8: 26 | AC8: 27 | AD8: 28 | AE8: 29
B9: Prévu | C9: =(SUM(Camille!C9+Eliot!C9+Clément!C9+Alix!C9+Vadacca!C9+ansamuller!C9)) -> 1 | D9: =(SUM(Camille!D9+Eliot!D9+Clément!D9+Alix!D9+Vadacca!D9+ansamuller!D9)) -> 3 | F9: =(SUM(Camille!F9+Eliot!F9+Clément!F9+Alix!F9+Vadacca!F9+ansamuller!F9)) -> 3 | G9: =(SUM(Camille!G9+Eliot!G9+Clément!G9+Alix!G9+Vadacca!G9+ansamuller!G9)) -> 2 | J9: =(SUM(Camille!J9+Eliot!J9+Clément!J9+Alix!J9+Vadacca!J9+ansamuller!J9)) -> 2 | K9: =(SUM(Camille!K9+Eliot!K9+Clément!K9+Alix!K9+Vadacca!K9+ansamuller!K9)) -> 4 | M9: =(SUM(Camille!M9+Eliot!M9+Clément!M9+Alix!M9+Vadacca!M9+ansamuller!M9)) -> 3 | N9: =(SUM(Camille!N9+Eliot!N9+Clément!N9+Alix!N9+Vadacca!N9+ansamuller!N9)) -> 2 | Q9: =(SUM(Camille!Q9+Eliot!Q9+Clément!Q9+Alix!Q9+Vadacca!Q9+ansamuller!Q9)) -> 2 | R9: =(SUM(Camille!R9+Eliot!R9+Clément!R9+Alix!R9+Vadacca!R9+ansamuller!R9)) -> 4 | T9: =(SUM(Camille!T9+Eliot!T9+Clément!T9+Alix!T9+Vadacca!T9+ansamuller!T9)) -> 3 | U9: =(SUM(Camille!U9+Eliot!U9+Clément!U9+Alix!U9+Vadacca!U9+ansamuller!U9)) -> 2 | X9: =(SUM(Camille!X9+Eliot!X9+Clément!X9+Alix!X9+Vadacca!X9+ansamuller!X9)) -> 2 | Y9: =(SUM(Camille!Y9+Eliot!Y9+Clément!Y9+Alix!Y9+Vadacca!Y9+ansamuller!Y9)) -> 4 | AA9: =(SUM(Camille!AA9+Eliot!AA9+Clément!AA9+Alix!AA9+Vadacca!AA9+ansamuller!AA9)) -> 3 | AB9: =(SUM(Camille!AB9+Eliot!AB9+Clément!AB9+Alix!AB9+Vadacca!AB9+ansamuller!AB9)) -> 2 | AE9: =(SUM(Camille!AE9+Eliot!AE9+Clément!AE9+Alix!AE9+Vadacca!AE9+ansamuller!AE9)) -> 2
B10: Note
A11: MARS | C11: 1 | D11: 2 | E11: 3 | F11: 4 | G11: 5 | H11: 6 | I11: 7 | J11: 8 | K11: 9 | L11: 10 | M11: 11 | N11: 12 | O11: 13 | P11: 14 | Q11: 15 | R11: 16 | S11: 17 | T11: 18 | U11: 19 | V11: 20 | W11: 21 | X11: 22 | Y11: 23 | Z11: 24 | AA11: 25 | AB11: 26 | AC11: 27 | AD11: 28 | AE11: 29 | AF11: 30 | AG11: 31
B12: Prévu | C12: =(SUM(Camille!C12+Eliot!C12+Clément!C12+Alix!C12+Vadacca!C12+ansamuller!C12)) -> 5 | E12: =(SUM(Camille!E12+Eliot!E12+Clément!E12+Alix!E12+Vadacca!E12+ansamuller!E12)) -> 3 | F12: =(SUM(Camille!F12+Eliot!F12+Clément!F12+Alix!F12+Vadacca!F12+ansamuller!F12)) -> 2 | I12: =(SUM(Camille!I12+Eliot!I12+Clément!I12+Alix!I12+Vadacca!I12+ansamuller!I12)) -> 3 | J12: =(SUM(Camille!J12+Eliot!J12+Clément!J12+Alix!J12+Vadacca!J12+ansamuller!J12)) -> 5 | L12: =(SUM(Camille!L12+Eliot!L12+Clément!L12+Alix!L12+Vadacca!L12+ansamuller!L12)) -> 3 | M12: =(SUM(Camille!M12+Eliot!M12+Clément!M12+Alix!M12+Vadacca!M12+ansamuller!M12)) -> 2 | P12: =(SUM(Camille!P12+Eliot!P12+Clément!P12+Alix!P12+Vadacca!P12+ansamuller!P12)) -> 3 | Q12: =(SUM(Camille!Q12+Eliot!Q12+Clément!Q12+Alix!Q12+Vadacca!Q12+ansamuller!Q12)) -> 5 | S12: =(SUM(Camille!S12+Eliot!S12+Clément!S12+Alix!S12+Vadacca!S12+ansamuller!S12)) -> 3 | T12: =(SUM(Camille!T12+Eliot!T12+Clément!T12+Alix!T12+Vadacca!T12+ansamuller!T12)) -> 2 | W12: =(SUM(Camille!W12+Eliot!W12+Clément!W12+Alix!W12+Vadacca!W12+ansamuller!W12)) -> 3 | X12: =(SUM(Camille!X12+Eliot!X12+Clément!X12+Alix!X12+Vadacca!X12+ansamuller!X12)) -> 5 | Z12: =(SUM(Camille!Z12+Eliot!Z12+Clément!Z12+Alix!Z12+Vadacca!Z12+ansamuller!Z12)) -> 3 | AA12: =(SUM(Camille!AA12+Eliot!AA12+Clément!AA12+Alix!AA12+Vadacca!AA12+ansamuller!AA12)) -> 2 | AD12: Pâques
B13: Note
A14: AVRIL | C14: 1 | D14: 2 | E14: 3 | F14: 4 | G14: 5 | H14: 6 | I14: 7 | J14: 8 | K14: 9 | L14: 10 | M14: 11 | N14: 12 | O14: 13 | P14: 14 | Q14: 15 | R14: 16 | S14: 17 | T14: 18 | U14: 19 | V14: 20 | W14: 21 | X14: 22 | Y14: 23 | Z14: 24 | AA14: 25 | AB14: 26 | AC14: 27 | AD14: 28 | AE14: 29 | AF14: 30
B15: Prévu | C15: Pâques | F15: =(SUM(Camille!F15+Eliot!F15+Clément!F15+Alix!F15+Vadacca!F15+ansamuller!F15)) -> 3 | G15: =(SUM(Camille!G15+Eliot!G15+Clément!G15+Alix!G15+Vadacca!G15+ansamuller!G15)) -> 5 | I15: =(SUM(Camille!I15+Eliot!I15+Clément!I15+Alix!I15+Vadacca!I15+ansamuller!I15)) -> 3 | J15: =(SUM(Camille!J15+Eliot!J15+Clément!J15+Alix!J15+Vadacca!J15+ansamuller!J15)) -> 2 | M15: =(SUM(Camille!M15+Eliot!M15+Clément!M15+Alix!M15+Vadacca!M15+ansamuller!M15)) -> 3 | N15: =(SUM(Camille!N15+Eliot!N15+Clément!N15+Alix!N15+Vadacca!N15+ansamuller!N15)) -> 5 | P15: =(SUM(Camille!P15+Eliot!P15+Clément!P15+Alix!P15+Vadacca!P15+ansamuller!P15)) -> 3 | Q15: =(SUM(Camille!Q15+Eliot!Q15+Clément!Q15+Alix!Q15+Vadacca!Q15+ansamuller!Q15)) -> 2 | T15: =(SUM(Camille!T15+Eliot!T15+Clément!T15+Alix!T15+Vadacca!T15+ansamuller!T15)) -> 3 | U15: =(SUM(Camille!U15+Eliot!U15+Clément!U15+Alix!U15+Vadacca!U15+ansamuller!U15)) -> 5 | W15: =(SUM(Camille!W15+Eliot!W15+Clément!W15+Alix!W15+Vadacca!W15+ansamuller!W15)) -> 3 | X15: =(SUM(Camille!X15+Eliot!X15+Clément!X15+Alix!X15+Vadacca!X15+ansamuller!X15)) -> 2 | AA15: =(SUM(Camille!AA15+Eliot!AA15+Clément!AA15+Alix!AA15+Vadacca!AA15+ansamuller!AA15)) -> 3 | AB15: =(SUM(Camille!AB15+Eliot!AB15+Clément!AB15+Alix!AB15+Vadacca!AB15+ansamuller!AB15)) -> 5 | AD15: =(SUM(Camille!AD15+Eliot!AD15+Clément!AD15+Alix!AD15+Vadacca!AD15+ansamuller!AD15)) -> 3 | AE15: =(SUM(Camille!AE15+Eliot!AE15+Clément!AE15+Alix!AE15+Vadacca!AE15+ansamuller!AE15)) -> 2
B16: Note
A17: MAI | C17: 1 | D17: 2 | E17: 3 | F17: 4 | G17: 5 | H17: 6 | I17: 7 | J17: 8 | K17: 9 | L17: 10 | M17: 11 | N17: 12 | O17: 13 | P17: 14 | Q17: 15 | R17: 16 | S17: 17 | T17: 18 | U17: 19 | V17: 20 | W17: 21 | X17: 22 | Y17: 23 | Z17: 24 | AA17: 25 | AB17: 26 | AC17: 27 | AD17: 28 | AE17: 29 | AF17: 30 | AG17: 31
B18: Prévu | D18: =(SUM(Camille!D18+Eliot!D18+Clément!D18+Alix!D18+Vadacca!D18+ansamuller!D18)) -> 3 | E18: =(SUM(Camille!E18+Eliot!E18+Clément!E18+Alix!E18+Vadacca!E18+ansamuller!E18)) -> 5 | G18: Ascension | K18: =(SUM(Camille!K18+Eliot!K18+Clément!K18+Alix!K18+Vadacca!K18+ansamuller!K18)) -> 3 | L18: =(SUM(Camille!L18+Eliot!L18+Clément!L18+Alix!L18+Vadacca!L18+ansamuller!L18)) -> 5 | N18: =(SUM(Camille!N18+Eliot!N18+Clément!N18+Alix!N18+Vadacca!N18+ansamuller!N18)) -> 3 | O18: =(SUM(Camille!O18+Eliot!O18+Clément!O18+Alix!O18+Vadacca!O18+ansamuller!O18)) -> 2 | S18: =(SUM(Camille!S18+Eliot!S18+Clément!S18+Alix!S18+Vadacca!S18+ansamuller!S18)) -> 5 | U18: =(SUM(Camille!U18+Eliot!U18+Clément!U18+Alix!U18+Vadacca!U18+ansamuller!U18)) -> 3 | V18: =(SUM(Camille!V18+Eliot!V18+Clément!V18+Alix!V18+Vadacca!V18+ansamuller!V18)) -> 2 | Y18: =(SUM(Camille!Y18+Eliot!Y18+Clément!Y18+Alix!Y18+Vadacca!Y18+ansamuller!Y18)) -> 3 | Z18: =(SUM(Camille!Z18+Eliot!Z18+Clément!Z18+Alix!Z18+Vadacca!Z18+ansamuller!Z18)) -> 5 | AB18: =(SUM(Camille!AB18+Eliot!AB18+Clément!AB18+Alix!AB18+Vadacca!AB18+ansamuller!AB18)) -> 3 | AC18: =(SUM(Camille!AC18+Eliot!AC18+Clément!AC18+Alix!AC18+Vadacca!AC18+ansamuller!AC18)) -> 2 | AF18: =(SUM(Camille!AF18+Eliot!AF18+Clément!AF18+Alix!AF18+Vadacca!AF18+ansamuller!AF18)) -> 3 | AG18: =(SUM(Camille!AG18+Eliot!AG18+Clément!AG18+Alix!AG18+Vadacca!AG18+ansamuller!AG18)) -> 5
B19: Note
A20: JUIN | C20: 1 | D20: 2 | E20: 3 | F20: 4 | G20: 5 | H20: 6 | I20: 7 | J20: 8 | K20: 9 | L20: 10 | M20: 11 | N20: 12 | O20: 13 | P20: 14 | Q20: 15 | R20: 16 | S20: 17 | T20: 18 | U20: 19 | V20: 20 | W20: 21 | X20: 22 | Y20: 23 | Z20: 24 | AA20: 25 | AB20: 26 | AC20: 27 | AD20: 28 | AE20: 29 | AF20: 30
B21: Prévu | D21: =(SUM(Camille!D21+Eliot!D21+Clément!D21+Alix!D21+Vadacca!D21+ansamuller!D21)) -> 3 | E21: =(SUM(Camille!E21+Eliot!E21+Clément!E21+Alix!E21+Vadacca!E21+ansamuller!E21)) -> 2 | H21: =(SUM(Camille!H21+Eliot!H21+Clément!H21+Alix!H21+Vadacca!H21+ansamuller!H21)) -> 3 | I21: =(SUM(Camille!I21+Eliot!I21+Clément!I21+Alix!I21+Vadacca!I21+ansamuller!I21)) -> 5 | K21: =(SUM(Camille!K21+Eliot!K21+Clément!K21+Alix!K21+Vadacca!K21+ansamuller!K21)) -> 3 | L21: =(SUM(Camille!L21+Eliot!L21+Clément!L21+Alix!L21+Vadacca!L21+ansamuller!L21)) -> 2 | O21: =(SUM(Camille!O21+Eliot!O21+Clément!O21+Alix!O21+Vadacca!O21+ansamuller!O21)) -> 3 | P21: =(SUM(Camille!P21+Eliot!P21+Clément!P21+Alix!P21+Vadacca!P21+ansamuller!P21)) -> 5 | R21: =(SUM(Camille!R21+Eliot!R21+Clément!R21+Alix!R21+Vadacca!R21+ansamuller!R21)) -> 3 | S21: =(SUM(Camille!S21+Eliot!S21+Clément!S21+Alix!S21+Vadacca!S21+ansamuller!S21)) -> 2 | V21: =(SUM(Camille!V21+Eliot!V21+Clément!V21+Alix!V21+Vadacca!V21+ansamuller!V21)) -> 3 | W21: =(SUM(Camille!W21+Eliot!W21+Clément!W21+Alix!W21+Vadacca!W21+ansamuller!W21)) -> 5 | Y21: =(SUM(Camille!Y21+Eliot!Y21+Clément!Y21+Alix!Y21+Vadacca!Y21+ansamuller!Y21)) -> 3 | Z21: =(SUM(Camille!Z21+Eliot!Z21+Clément!Z21+Alix!Z21+Vadacca!Z21+ansamuller!Z21)) -> 2 | AC21: =(SUM(Camille!AC21+Eliot!AC21+Clément!AC21+Alix!AC21+Vadacca!AC21+ansamuller!AC21)) -> 3 | AD21: =(SUM(Camille!AD21+Eliot!AD21+Clément!AD21+Alix!AD21+Vadacca!AD21+ansamuller!AD21)) -> 5 | AF21: =(SUM(Camille!AF21+Eliot!AF21+Clément!AF21+Alix!AF21+Vadacca!AF21+ansamuller!AF21)) -> 3
B22: Note
A23: JUILLET | C23: 1 | D23: 2 | E23: 3 | F23: 4 | G23: 5 | H23: 6 | I23: 7 | J23: 8 | K23: 9 | L23: 10 | M23: 11 | N23: 12 | O23: 13 | P23: 14 | Q23: 15 | R23: 16 | S23: 17 | T23: 18 | U23: 19 | V23: 20 | W23: 21 | X23: 22 | Y23: 23 | Z23: 24 | AA23: 25 | AB23: 26 | AC23: 27 | AD23: 28 | AE23: 29 | AF23: 30 | AG23: 31
B24: Prévu | C24: =(SUM(Camille!C24+Eliot!C24+Clément!C24+Alix!C24+Vadacca!C24+ansamuller!C24)) -> 2 | F24: =(SUM(Camille!F24+Eliot!F24+Clément!F24+Alix!F24+Vadacca!F24+ansamuller!F24)) -> 3 | G24: =(SUM(Camille!G24+Eliot!G24+Clément!G24+Alix!G24+Vadacca!G24+ansamuller!G24)) -> 5 | I24: =(SUM(Camille!I24+Eliot!I24+Clément!I24+Alix!I24+Vadacca!I24+ansamuller!I24)) -> 3 | J24: =(SUM(Camille!J24+Eliot!J24+Clément!J24+Alix!J24+Vadacca!J24+ansamuller!J24)) -> 2 | M24: =(SUM(Camille!M24+Eliot!M24+Clément!M24+Alix!M24+Vadacca!M24+ansamuller!M24)) -> 3 | N24: =(SUM(Camille!N24+Eliot!N24+Clément!N24+Alix!N24+Vadacca!N24+ansamuller!N24)) -> 5 | P24: =(SUM(Camille!P24+Eliot!P24+Clément!P24+Alix!P24+Vadacca!P24+ansamuller!P24)) -> 3 | Q24: =(SUM(Camille!Q24+Eliot!Q24+Clément!Q24+Alix!Q24+Vadacca!Q24+ansamuller!Q24)) -> 2 | T24: =(SUM(Camille!T24+Eliot!T24+Clément!T24+Alix!T24+Vadacca!T24+ansamuller!T24)) -> 3 | U24: =(SUM(Camille!U24+Eliot!U24+Clément!U24+Alix!U24+Vadacca!U24+ansamuller!U24)) -> 5 | W24: =(SUM(Camille!W24+Eliot!W24+Clément!W24+Alix!W24+Vadacca!W24+ansamuller!W24)) -> 3 | X24: =(SUM(Camille!X24+Eliot!X24+Clément!X24+Alix!X24+Vadacca!X24+ansamuller!X24)) -> 2 | AA24: =(SUM(Camille!AA24+Eliot!AA24+Clément!AA24+Alix!AA24+Vadacca!AA24+ansamuller!AA24)) -> 3 | AB24: =(SUM(Camille!AB24+Eliot!AB24+Clément!AB24+Alix!AB24+Vadacca!AB24+ansamuller!AB24)) -> 5 | AD24: =(SUM(Camille!AD24+Eliot!AD24+Clément!AD24+Alix!AD24+Vadacca!AD24+ansamuller!AD24)) -> 3 | AE24: =(SUM(Camille!AE24+Eliot!AE24+Clément!AE24+Alix!AE24+Vadacca!AE24+ansamuller!AE24)) -> 2
B25: Note
A26: AOÛT | C26: 1 | D26: 2 | E26: 3 | F26: 4 | G26: 5 | H26: 6 | I26: 7 | J26: 8 | K26: 9 | L26: 10 | M26: 11 | N26: 12 | O26: 13 | P26: 14 | Q26: 15 | R26: 16 | S26: 17 | T26: 18 | U26: 19 | V26: 20 | W26: 21 | X26: 22 | Y26: 23 | Z26: 24 | AA26: 25 | AB26: 26 | AC26: 27 | AD26: 28 | AE26: 29 | AF26: 30 | AG26: 31
B27: Prévu | C27: =(SUM(Camille!C27+Eliot!C27+Clément!C27+Alix!C27+Vadacca!C27+ansamuller!C27)) -> 3 | D27: =(SUM(Camille!D27+Eliot!D27+Clément!D27+Alix!D27+Vadacca!D27+ansamuller!D27)) -> 5 | F27: =(SUM(Camille!F27+Eliot!F27+Clément!F27+Alix!F27+Vadacca!F27+ansamuller!F27)) -> 3 | G27: =(SUM(Camille!G27+Eliot!G27+Clément!G27+Alix!G27+Vadacca!G27+ansamuller!G27)) -> 2 | J27: Grandes vacances | Q27: Grandes vacances | X27: Grandes vacances | AE27: Grandes vacances
B28: Note
A29: SEPTEMBRE | C29: 1 | D29: 2 | E29: 3 | F29: 4 | G29: 5 | H29: 6 | I29: 7 | J29: 8 | K29: 9 | L29: 10 | M29: 11 | N29: 12 | O29: 13 | P29: 14 | Q29: 15 | R29: 16 | S29: 17 | T29: 18 | U29: 19 | V29: 20 | W29: 21 | X29: 22 | Y29: 23 | Z29: 24 | AA29: 25 | AB29: 26 | AC29: 27 | AD29: 28 | AE29: 29 | AF29: 30
B30: Prévu | C30: Grandes vacances | G30: =(SUM(Camille!G30+Eliot!G30+Clément!G30+Alix!G30+Vadacca!G30+ansamuller!G30)) -> 2 | H30: =(SUM(Camille!H30+Eliot!H30+Clément!H30+Alix!H30+Vadacca!H30+ansamuller!H30)) -> 4 | J30: =(SUM(Camille!J30+Eliot!J30+Clément!J30+Alix!J30+Vadacca!J30+ansamuller!J30)) -> 2 | K30: =(SUM(Camille!K30+Eliot!K30+Clément!K30+Alix!K30+Vadacca!K30+ansamuller!K30)) -> 1 | N30: =(SUM(Camille!N30+Eliot!N30+Clément!N30+Alix!N30+Vadacca!N30+ansamuller!N30)) -> 2 | O30: =(SUM(Camille!O30+Eliot!O30+Clément!O30+Alix!O30+Vadacca!O30+ansamuller!O30)) -> 4 | Q30: =(SUM(Camille!Q30+Eliot!Q30+Clément!Q30+Alix!Q30+Vadacca!Q30+ansamuller!Q30)) -> 2 | R30: =(SUM(Camille!R30+Eliot!R30+Clément!R30+Alix!R30+Vadacca!R30+ansamuller!R30)) -> 1 | U30: =(SUM(Camille!U30+Eliot!U30+Clément!U30+Alix!U30+Vadacca!U30+ansamuller!U30)) -> 2 | V30: =(SUM(Camille!V30+Eliot!V30+Clément!V30+Alix!V30+Vadacca!V30+ansamuller!V30)) -> 4 | X30: =(SUM(Camille!X30+Eliot!X30+Clément!X30+Alix!X30+Vadacca!X30+ansamuller!X30)) -> 2 | Y30: =(SUM(Camille!Y30+Eliot!Y30+Clément!Y30+Alix!Y30+Vadacca!Y30+ansamuller!Y30)) -> 1 | AB30: =(SUM(Camille!AB30+Eliot!AB30+Clément!AB30+Alix!AB30+Vadacca!AB30+ansamuller!AB30)) -> 2 | AC30: =(SUM(Camille!AC30+Eliot!AC30+Clément!AC30+Alix!AC30+Vadacca!AC30+ansamuller!AC30)) -> 4 | AE30: =(SUM(Camille!AE30+Eliot!AE30+Clément!AE30+Alix!AE30+Vadacca!AE30+ansamuller!AE30)) -> 2 | AF30: =(SUM(Camille!AF30+Eliot!AF30+Clément!AF30+Alix!AF30+Vadacca!AF30+ansamuller!AF30)) -> 1
B31: Note
A32: OCTOBRE | C32: 1 | D32: 2 | E32: 3 | F32: 4 | G32: 5 | H32: 6 | I32: 7 | J32: 8 | K32: 9 | L32: 10 | M32: 11 | N32: 12 | O32: 13 | P32: 14 | Q32: 15 | R32: 16 | S32: 17 | T32: 18 | U32: 19 | V32: 20 | W32: 21 | X32: 22 | Y32: 23 | Z32: 24 | AA32: 25 | AB32: 26 | AC32: 27 | AD32: 28 | AE32: 29 | AF32: 30 | AG32: 31
B33: Prévu | E33: =(SUM(Camille!E33+Eliot!E33+Clément!E33+Alix!E33+Vadacca!E33+ansamuller!E33)) -> 2 | F33: =(SUM(Camille!F33+Eliot!F33+Clément!F33+Alix!F33+Vadacca!F33+ansamuller!F33)) -> 5 | H33: =(SUM(Camille!H33+Eliot!H33+Clément!H33+Alix!H33+Vadacca!H33+ansamuller!H33)) -> 2 | I33: =(SUM(Camille!I33+Eliot!I33+Clément!I33+Alix!I33+Vadacca!I33+ansamuller!I33)) -> 2 | L33: =(SUM(Camille!L33+Eliot!L33+Clément!L33+Alix!L33+Vadacca!L33+ansamuller!L33)) -> 2 | M33: =(SUM(Camille!M33+Eliot!M33+Clément!M33+Alix!M33+Vadacca!M33+ansamuller!M33)) -> 5 | O33: =(SUM(Camille!O33+Eliot!O33+Clément!O33+Alix!O33+Vadacca!O33+ansamuller!O33)) -> 2 | P33: =(SUM(Camille!P33+Eliot!P33+Clément!P33+Alix!P33+Vadacca!P33+ansamuller!P33)) -> 2 | S33: =(SUM(Camille!S33+Eliot!S33+Clément!S33+Alix!S33+Vadacca!S33+ansamuller!S33)) -> 2 | T33: =(SUM(Camille!T33+Eliot!T33+Clément!T33+Alix!T33+Vadacca!T33+ansamuller!T33)) -> 5 | V33: =(SUM(Camille!V33+Eliot!V33+Clément!V33+Alix!V33+Vadacca!V33+ansamuller!V33)) -> 2 | W33: =(SUM(Camille!W33+Eliot!W33+Clément!W33+Alix!W33+Vadacca!W33+ansamuller!W33)) -> 2 | Z33: =(SUM(Camille!Z33+Eliot!Z33+Clément!Z33+Alix!Z33+Vadacca!Z33+ansamuller!Z33)) -> 2 | AA33: =(SUM(Camille!AA33+Eliot!AA33+Clément!AA33+Alix!AA33+Vadacca!AA33+ansamuller!AA33)) -> 5 | AC33: =(SUM(Camille!AC33+Eliot!AC33+Clément!AC33+Alix!AC33+Vadacca!AC33+ansamuller!AC33)) -> 2 | AD33: =(SUM(Camille!AD33+Eliot!AD33+Clément!AD33+Alix!AD33+Vadacca!AD33+ansamuller!AD33)) -> 2 | AG33: Toussaint
B34: Note
A35: NOVEMBRE | C35: 1 | D35: 2 | E35: 3 | F35: 4 | G35: 5 | H35: 6 | I35: 7 | J35: 8 | K35: 9 | L35: 10 | M35: 11 | N35: 12 | O35: 13 | P35: 14 | Q35: 15 | R35: 16 | S35: 17 | T35: 18 | U35: 19 | V35: 20 | W35: 21 | X35: 22 | Y35: 23 | Z35: 24 | AA35: 25 | AB35: 26 | AC35: 27 | AD35: 28 | AE35: 29 | AF35: 30
B36: Prévu | C36: Toussaint | I36: =(SUM(Camille!I36+Eliot!I36+Clément!I36+Alix!I36+Vadacca!I36+ansamuller!I36)) -> 2 | J36: =(SUM(Camille!J36+Eliot!J36+Clément!J36+Alix!J36+Vadacca!J36+ansamuller!J36)) -> 5 | L36: =(SUM(Camille!L36+Eliot!L36+Clément!L36+Alix!L36+Vadacca!L36+ansamuller!L36)) -> 2 | P36: =(SUM(Camille!P36+Eliot!P36+Clément!P36+Alix!P36+Vadacca!P36+ansamuller!P36)) -> 2 | Q36: =(SUM(Camille!Q36+Eliot!Q36+Clément!Q36+Alix!Q36+Vadacca!Q36+ansamuller!Q36)) -> 5 | S36: =(SUM(Camille!S36+Eliot!S36+Clément!S36+Alix!S36+Vadacca!S36+ansamuller!S36)) -> 2 | T36: =(SUM(Camille!T36+Eliot!T36+Clément!T36+Alix!T36+Vadacca!T36+ansamuller!T36)) -> 2 | W36: =(SUM(Camille!W36+Eliot!W36+Clément!W36+Alix!W36+Vadacca!W36+ansamuller!W36)) -> 2 | X36: =(SUM(Camille!X36+Eliot!X36+Clément!X36+Alix!X36+Vadacca!X36+ansamuller!X36)) -> 4 | Z36: =(SUM(Camille!Z36+Eliot!Z36+Clément!Z36+Alix!Z36+Vadacca!Z36+ansamuller!Z36)) -> 2 | AA36: =(SUM(Camille!AA36+Eliot!AA36+Clément!AA36+Alix!AA36+Vadacca!AA36+ansamuller!AA36)) -> 2 | AD36: =(SUM(Camille!AD36+Eliot!AD36+Clément!AD36+Alix!AD36+Vadacca!AD36+ansamuller!AD36)) -> 1 | AE36: =(SUM(Camille!AE36+Eliot!AE36+Clément!AE36+Alix!AE36+Vadacca!AE36+ansamuller!AE36)) -> 3
B37: Note
A38: DÉCEMBRE | C38: 1 | D38: 2 | E38: 3 | F38: 4 | G38: 5 | H38: 6 | I38: 7 | J38: 8 | K38: 9 | L38: 10 | M38: 11 | N38: 12 | O38: 13 | P38: 14 | Q38: 15 | R38: 16 | S38: 17 | T38: 18 | U38: 19 | V38: 20 | W38: 21 | X38: 22 | Y38: 23 | Z38: 24 | AA38: 25 | AB38: 26 | AC38: 27 | AD38: 28 | AE38: 29 | AF38: 30 | AG38: 31
B39: Prévu | C39: =(SUM(Camille!C39+Eliot!C39+Clément!C39+Alix!C39+Vadacca!C39+ansamuller!C39)) -> 1 | D39: =(SUM(Camille!D39+Eliot!D39+Clément!D39+Alix!D39+Vadacca!D39+ansamuller!D39)) -> 2 | G39: =(SUM(Camille!G39+Eliot!G39+Clément!G39+Alix!G39+Vadacca!G39+ansamuller!G39)) -> 1 | H39: =(SUM(Camille!H39+Eliot!H39+Clément!H39+Alix!H39+Vadacca!H39+ansamuller!H39)) -> 3 | J39: =(SUM(Camille!J39+Eliot!J39+Clément!J39+Alix!J39+Vadacca!J39+ansamuller!J39)) -> 1 | K39: =(SUM(Camille!K39+Eliot!K39+Clément!K39+Alix!K39+Vadacca!K39+ansamuller!K39)) -> 2 | N39: =(SUM(Camille!N39+Eliot!N39+Clément!N39+Alix!N39+Vadacca!N39+ansamuller!N39)) -> 1 | O39: =(SUM(Camille!O39+Eliot!O39+Clément!O39+Alix!O39+Vadacca!O39+ansamuller!O39)) -> 3 | Q39: =(SUM(Camille!Q39+Eliot!Q39+Clément!Q39+Alix!Q39+Vadacca!Q39+ansamuller!Q39)) -> 1 | R39: =(SUM(Camille!R39+Eliot!R39+Clément!R39+Alix!R39+Vadacca!R39+ansamuller!R39)) -> 2 | U39: =(SUM(Camille!U39+Eliot!U39+Clément!U39+Alix!U39+Vadacca!U39+ansamuller!U39)) -> 1 | V39: =(SUM(Camille!V39+Eliot!V39+Clément!V39+Alix!V39+Vadacca!V39+ansamuller!V39)) -> 3 | X39: =(SUM(Camille!X39+Eliot!X39+Clément!X39+Alix!X39+Vadacca!X39+ansamuller!X39)) -> 1 | Y39: =(SUM(Camille!Y39+Eliot!Y39+Clément!Y39+Alix!Y39+Vadacca!Y39+ansamuller!Y39)) -> 2 | AB39: Noël - Nouvel An
B40: Note

Sheet Bilan
C3: Entrées | F3: Sorties
B4: Camille | C4: =Camille!AE3 -> 3040 | F4: =H5*Camille!AH42 -> 1914 | H4: Forfait
B5: Eliot | C5: =Eliot!AE3 -> 3388 | F5: =H5*Eliot!AH42 -> 1996.5 | H5: 16.5
B6: Eliot 2 | C6: =Julien!AE3 -> 1232 | F6: =H5*Julien!AH42 -> 709.5
B7: Clément | C7: =Clément!AE3 -> 1129.37 | F7: =H5*Clément!AH42 -> 660
B8: Alix | C8: =Alix!AE3 -> 3696 | F8: =H5*Alix!AH42 -> 2178
B9: vadacca | C9: =Vadacca!AE3 -> 2463.96 | F9: =H5*Vadacca!AH42 -> 1188
B10: ansomuller | C10: =ansamuller!AE3 -> 410.66 | F10: =H5*ansamuller!AH42 -> 346.5
B11: Somme: | C11: =SUM(C4:C10) -> 15359.99 | F11: =SUM(F4:F10) -> 8992.5
B13: Revenus: | C13: =C11-F11 -> 6367.49 | F13: 6742.06
B16: Bilan + simulation
C17: =C11 -> 15359.99 | F17: =F11 -> 8992.5
B18: +simulation | C18: =Simulation!AE3 -> 3080 | F18: =Simulation!AH42*Bilan!H5 -> 1749
C19: =SUM(C17:C18) -> 18439.99 | F19: =SUM(F17:F18) -> 10741.5
B21: Revenus simulés: | C21: =C19-F19 -> 7698.49 | F21: =F13-C21 -> -956.43

Sheet Simulation
AE2: Rentrées annuelles:
A3: 2016 | B3: Simulation | J3: 308 | R3: L | S3: M | U3: J | V3: V | X3: Mois de présence sur l'année: | AC3: 10 | AE3: =J3*AC3 -> 3080 | AH3: Total
A5: JANVIER | C5: 1 | D5: 2 | E5: 3 | F5: 4 | G5: 5 | H5: 6 | I5: 7 | J5: 8 | K5: 9 | L5: 10 | M5: 11 | N5: 12 | O5: 13 | P5: 14 | Q5: 15 | R5: 16 | S5: 17 | T5: 18 | U5: 19 | V5: 20 | W5: 21 | X5: 22 | Y5: 23 | Z5: 24 | AA5: 25 | AB5: 26 | AC5: 27 | AD5: 28 | AE5: 29 | AF5: 30 | AG5: 31
B6: Prévu | AH6: =SUM(C6:AG6) -> 0
B7: Note
A8: FÉVRIER | C8: 1 | D8: 2 | E8: 3 | F8: 4 | G8: 5 | H8: 6 | I8: 7 | J8: 8 | K8: 9 | L8: 10 | M8: 11 | N8: 12 | O8: 13 | P8: 14 | Q8: 15 | R8: 16 | S8: 17 | T8: 18 | U8: 19 | V8: 20 | W8: 21 | X8: 22 | Y8: 23 | Z8: 24 | AA8: 25 | AB8: 26 | AC8: 27 | AD8: 28 | AE8: 29
B9: Prévu | AH9: =SUM(C9:AG9) -> 0
B10: Note
A11: MARS | C11: 1 | D11: 2 | E11: 3 | F11: 4 | G11: 5 | H11: 6 | I11: 7 | J11: 8 | K11: 9 | L11: 10 | M11: 11 | N11: 12 | O11: 13 | P11: 14 | Q11: 15 | R11: 16 | S11: 17 | T11: 18 | U11: 19 | V11: 20 | W11: 21 | X11: 22 | Y11: 23 | Z11: 24 | AA11: 25 | AB11: 26 | AC11: 27 | AD11: 28 | AE11: 29 | AF11: 30 | AG11: 31
B12: Prévu | E12: 1 | F12: 1 | I12: 1 | L12: 1 | M12: 1 | P12: 1 | S12: 1 | T12: 1 | W12: 1 | Z12: 1 | AA12: 1 | AD12: Pâques | AH12: =SUM(C12:AG12) -> 11
B13: Note
A14: AVRIL | C14: 1 | D14: 2 | E14: 3 | F14: 4 | G14: 5 | H14: 6 | I14: 7 | J14: 8 | K14: 9 | L14: 10 | M14: 11 | N14: 12 | O14: 13 | P14: 14 | Q14: 15 | R14: 16 | S14: 17 | T14: 18 | U14: 19 | V14: 20 | W14: 21 | X14: 22 | Y14: 23 | Z14: 24 | AA14: 25 | AB14: 26 | AC14: 27 | AD14: 28 | AE14: 29 | AF14: 30
B15: Prévu | C15: Pâques | F15: 1 | I15: 1 | J15: 1 | M15: 1 | P15: 1 | Q15: 1 | T15: 1 | W15: 1 | X15: 1 | AA15: 1 | AD15: 1 | AE15: 1 | AH15: =SUM(C15:AG15) -> 12
B16: Note
A17: MAI | C17: 1 | D17: 2 | E17: 3 | F17: 4 | G17: 5 | H17: 6 | I17: 7 | J17: 8 | K17: 9 | L17: 10 | M17: 11 | N17: 12 | O17: 13 | P17: 14 | Q17: 15 | R17: 16 | S17: 17 | T17: 18 | U17: 19 | V17: 20 | W17: 21 | X17: 22 | Y17: 23 | Z17: 24 | AA17: 25 | AB17: 26 | AC17: 27 | AD17: 28 | AE17: 29 | AF17: 30 | AG17: 31
B18: Prévu | D18: 1 | G18: Ascension | K18: 1 | N18: 1 | O18: 1 | U18: 1 | V18: 1 | Y18: 1 | AB18: 1 | AC18: 1 | AF18: 1 | AH18: =SUM(C18:AG18) -> 10
B19: Note
A20: JUIN | C20: 1 | D20: 2 | E20: 3 | F20: 4 | G20: 5 | H20: 6 | I20: 7 | J20: 8 | K20: 9 | L20: 10 | M20: 11 | N20: 12 | O20: 13 | P20: 14 | Q20: 15 | R20: 16 | S20: 17 | T20: 18 | U20: 19 | V20: 20 | W20: 21 | X20: 22 | Y20: 23 | Z20: 24 | AA20: 25 | AB20: 26 | AC20: 27 | AD20: 28 | AE20: 29 | AF20: 30
B21: Prévu | D21: 1 | E21: 1 | H21: 1 | K21: 1 | L21: 1 | O21: 1 | R21: 1 | S21: 1 | V21: 1 | Y21: 1 | Z21: 1 | AC21: 1 | AF21: 1 | AH21: =SUM(C21:AG21) -> 13
B22: Note
A23: JUILLET | C23: 1 | D23: 2 | E23: 3 | F23: 4 | G23: 5 | H23: 6 | I23: 7 | J23: 8 | K23: 9 | L23: 10 | M23: 11 | N23: 12 | O23: 13 | P23: 14 | Q23: 15 | R23: 16 | S23: 17 | T23: 18 | U23: 19 | V23: 20 | W23: 21 | X23: 22 | Y23: 23 | Z23: 24 | AA23: 25 | AB23: 26 | AC23: 27 | AD23: 28 | AE23: 29 | AF23: 30 | AG23: 31
B24: Prévu | C24: 1 | F24: 1 | I24: 1 | J24: 1 | M24: 1 | P24: 1 | Q24: 1 | T24: 1 | W24: 1 | X24: 1 | AA24: 1 | AD24: 1 | AE24: 1 | AH24: =SUM(C24:AG24) -> 13
B25: Note
A26: AOÛT | C26: 1 | D26: 2 | E26: 3 | F26: 4 | G26: 5 | H26: 6 | I26: 7 | J26: 8 | K26: 9 | L26: 10 | M26: 11 | N26: 12 | O26: 13 | P26: 14 | Q26: 15 | R26: 16 | S26: 17 | T26: 18 | U26: 19 | V26: 20 | W26: 21 | X26: 22 | Y26: 23 | Z26: 24 | AA26: 25 | AB26: 26 | AC26: 27 | AD26: 28 | AE26: 29 | AF26: 30 | AG26: 31
B27: Prévu | C27: 1 | F27: 1 | G27: 1 | J27: Grandes vacances | Q27: Grandes vacances | X27: Grandes vacances | AE27: Grandes vacances | AH27: =SUM(C27:AG27) -> 3
B28: Note
A29: SEPTEMBRE | C29: 1 | D29: 2 | E29: 3 | F29: 4 | G29: 5 | H29: 6 | I29: 7 | J29: 8 | K29: 9 | L29: 10 | M29: 11 | N29: 12 | O29: 13 | P29: 14 | Q29: 15 | R29: 16 | S29: 17 | T29: 18 | U29: 19 | V29: 20 | W29: 21 | X29: 22 | Y29: 23 | Z29: 24 | AA29: 25 | AB29: 26 | AC29: 27 | AD29: 28 | AE29: 29 | AF29: 30
B30: Prévu | C30: Grandes vacances | G30: 1 | J30: 1 | K30: 1 | N30: 1 | Q30: 1 | R30: 1 | U30: 1 | X30: 1 | Y30: 1 | AB30: 1 | AE30: 1 | AF30: 1 | AH30: =SUM(C30:AG30) -> 12
B31: Note
A32: OCTOBRE | C32: 1 | D32: 2 | E32: 3 | F32: 4 | G32: 5 | H32: 6 | I32: 7 | J32: 8 | K32: 9 | L32: 10 | M32: 11 | N32: 12 | O32: 13 | P32: 14 | Q32: 15 | R32: 16 | S32: 17 | T32: 18 | U32: 19 | V32: 20 | W32: 21 | X32: 22 | Y32: 23 | Z32: 24 | AA32: 25 | AB32: 26 | AC32: 27 | AD32: 28 | AE32: 29 | AF32: 30 | AG32: 31
B33: Prévu | E33: 1 | H33: 1 | I33: 1 | L33: 1 | O33: 1 | P33: 1 | S33: 1 | V33: 1 | W33: 1 | Z33: 1 | AC33: 1 | AD33: 1 | AG33: Toussaint | AH33: =SUM(C33:AG33) -> 12
B34: Note
A35: NOVEMBRE | C35: 1 | D35: 2 | E35: 3 | F35: 4 | G35: 5 | H35: 6 | I35: 7 | J35: 8 | K35: 9 | L35: 10 | M35: 11 | N35: 12 | O35: 13 | P35: 14 | Q35: 15 | R35: 16 | S35: 17 | T35: 18 | U35: 19 | V35: 20 | W35: 21 | X35: 22 | Y35: 23 | Z35: 24 | AA35: 25 | AB35: 26 | AC35: 27 | AD35: 28 | AE35: 29 | AF35: 30
B36: Prévu | C36: Toussaint | I36: 1 | L36: 1 | P36: 1 | S36: 1 | T36: 1 | W36: 1 | Z36: 1 | AA36: 1 | AD36: 1 | AH36: =SUM(C36:AG36) -> 9
B37: Note
A38: DÉCEMBRE | C38: 1 | D38: 2 | E38: 3 | F38: 4 | G38: 5 | H38: 6 | I38: 7 | J38: 8 | K38: 9 | L38: 10 | M38: 11 | N38: 12 | O38: 13 | P38: 14 | Q38: 15 | R38: 16 | S38: 17 | T38: 18 | U38: 19 | V38: 20 | W38: 21 | X38: 22 | Y38: 23 | Z38: 24 | AA38: 25 | AB38: 26 | AC38: 27 | AD38: 28 | AE38: 29 | AF38: 30 | AG38: 31
B39: Prévu | C39: 1 | D39: 1 | G39: 1 | J39: 1 | K39: 1 | N39: 1 | Q39: 1 | R39: 1 | U39: 1 | X39: 1 | Y39: 1 | AB39: Noël - Nouvel An | AH39: =SUM(C39:AG39) -> 11
B40: Note
AD42: Présences annuelle: | AH42: =SUM(AH6,AH9,AH12,AH15,AH18,AH21,AH24,AH27,AH30,AH33,AH36,AH39) -> 106

Sheet Camille
AE2: Rentrées annuelles:
A3: 2016 | B3: Camille | J3: 380 | R3: L | S3: M | U3: J | V3: V | X3: Mois de présence sur l'année: | AC3: 8 | AE3: =J3*AC3 -> 3040 | AH3: Total
A5: JANVIER | C5: 1 | D5: 2 | E5: 3 | F5: 4 | G5: 5 | H5: 6 | I5: 7 | J5: 8 | K5: 9 | L5: 10 | M5: 11 | N5: 12 | O5: 13 | P5: 14 | Q5: 15 | R5: 16 | S5: 17 | T5: 18 | U5: 19 | V5: 20 | W5: 21 | X5: 22 | Y5: 23 | Z5: 24 | AA5: 25 | AB5: 26 | AC5: 27 | AD5: 28 | AE5: 29 | AF5: 30 | AG5: 31
B6: Prévu | F6: 1 | G6: 1 | I6: 1 | J6: 1 | M6: 1 | N6: 1 | P6: 1 | Q6: 1 | T6: 1 | U6: 1 | W6: 1 | X6: 1 | AA6: 1 | AB6: 1 | AD6: 1 | AE6: 1 | AH6: =SUM(C6:AG6) -> 16
B7: Note
A8: FÉVRIER | C8: 1 | D8: 2 | E8: 3 | F8: 4 | G8: 5 | H8: 6 | I8: 7 | J8: 8 | K8: 9 | L8: 10 | M8: 11 | N8: 12 | O8: 13 | P8: 14 | Q8: 15 | R8: 16 | S8: 17 | T8: 18 | U8: 19 | V8: 20 | W8: 21 | X8: 22 | Y8: 23 | Z8: 24 | AA8: 25 | AB8: 26 | AC8: 27 | AD8: 28 | AE8: 29
B9: Prévu | F9: 1 | G9: 1 | J9: 1 | K9: 1 | M9: 1 | N9: 1 | Q9: 1 | R9: 1 | T9: 1 | U9: 1 | X9: 1 | Y9: 1 | AA9: 1 | AB9: 1 | AE9: 1 | AH9: =SUM(C9:AG9) -> 15
B10: Note
A11: MARS | C11: 1 | D11: 2 | E11: 3 | F11: 4 | G11: 5 | H11: 6 | I11: 7 | J11: 8 | K11: 9 | L11: 10 | M11: 11 | N11: 12 | O11: 13 | P11: 14 | Q11: 15 | R11: 16 | S11: 17 | T11: 18 | U11: 19 | V11: 20 | W11: 21 | X11: 22 | Y11: 23 | Z11: 24 | AA11: 25 | AB11: 26 | AC11: 27 | AD11: 28 | AE11: 29 | AF11: 30 | AG11: 31
B12: Prévu | C12: 1 | E12: 1 | F12: 1 | I12: 1 | J12: 1 | L12: 1 | M12: 1 | P12: 1 | Q12: 1 | S12: 1 | T12: 1 | W12: 1 | X12: 1 | Z12: 1 | AA12: 1 | AD12: Pâques | AH12: =SUM(C12:AG12) -> 15
B13: Note
A14: AVRIL | C14: 1 | D14: 2 | E14: 3 | F14: 4 | G14: 5 | H14: 6 | I14: 7 | J14: 8 | K14: 9 | L14: 10 | M14: 11 | N14: 12 | O14: 13 | P14: 14 | Q14: 15 | R14: 16 | S14: 17 | T14: 18 | U14: 19 | V14: 20 | W14: 21 | X14: 22 | Y14: 23 | Z14: 24 | AA14: 25 | AB14: 26 | AC14: 27 | AD14: 28 | AE14: 29 | AF14: 30
B15: Prévu | C15: Pâques | F15: 1 | G15: 1 | I15: 1 | J15: 1 | M15: 1 | N15: 1 | P15: 1 | Q15: 1 | T15: 1 | U15: 1 | W15: 1 | X15: 1 | AA15: 1 | AB15: 1 | AD15: 1 | AE15: 1 | AH15: =SUM(C15:AG15) -> 16
B16: Note
A17: MAI | C17: 1 | D17: 2 | E17: 3 | F17: 4 | G17: 5 | H17: 6 | I17: 7 | J17: 8 | K17: 9 | L17: 10 | M17: 11 | N17: 12 | O17: 13 | P17: 14 | Q17: 15 | R17: 16 | S17: 17 | T17: 18 | U17: 19 | V17: 20 | W17: 21 | X17: 22 | Y17: 23 | Z17: 24 | AA17: 25 | AB17: 26 | AC17: 27 | AD17: 28 | AE17: 29 | AF17: 30 | AG17: 31
B18: Prévu | D18: 1 | E18: 1 | G18: Ascension | K18: 1 | L18: 1 | N18: 1 | O18: 1 | S18: 1 | U18: 1 | V18: 1 | Y18: 1 | Z18: 1 | AB18: 1 | AC18: 1 | AF18: 1 | AG18: 1 | AH18: =SUM(C18:AG18) -> 15
B19: Note
A20: JUIN | C20: 1 | D20: 2 | E20: 3 | F20: 4 | G20: 5 | H20: 6 | I20: 7 | J20: 8 | K20: 9 | L20: 10 | M20: 11 | N20: 12 | O20: 13 | P20: 14 | Q20: 15 | R20: 16 | S20: 17 | T20: 18 | U20: 19 | V20: 20 | W20: 21 | X20: 22 | Y20: 23 | Z20: 24 | AA20: 25 | AB20: 26 | AC20: 27 | AD20: 28 | AE20: 29 | AF20: 30
B21: Prévu | C21: 1 | D21: 1 | E21: 1 | H21: 1 | I21: 1 | K21: 1 | L21: 1 | O21: 1 | P21: 1 | R21: 1 | S21: 1 | V21: 1 | W21: 1 | Y21: 1 | Z21: 1 | AC21: 1 | AD21: 1 | AF21: 1 | AH21: =SUM(C21:AG21) -> 18
B22: Note
A23: JUILLET | C23: 1 | D23: 2 | E23: 3 | F23: 4 | G23: 5 | H23: 6 | I23: 7 | J23: 8 | K23: 9 | L23: 10 | M23: 11 | N23: 12 | O23: 13 | P23: 14 | Q23: 15 | R23: 16 | S23: 17 | T23: 18 | U23: 19 | V23: 20 | W23: 21 | X23: 22 | Y23: 23 | Z23: 24 | AA23: 25 | AB23: 26 | AC23: 27 | AD23: 28 | AE23: 29 | AF23: 30 | AG23: 31
B24: Prévu | C24: 1 | F24: 1 | G24: 1 | I24: 1 | J24: 1 | M24: 1 | N24: 1 | P24: 1 | Q24: 1 | T24: 1 | U24: 1 | W24: 1 | X24: 1 | AA24: 1 | AB24: 1 | AD24: 1 | AE24: 1 | AH24: =SUM(C24:AG24) -> 17
B25: Note
A26: AOÛT | C26: 1 | D26: 2 | E26: 3 | F26: 4 | G26: 5 | H26: 6 | I26: 7 | J26: 8 | K26: 9 | L26: 10 | M26: 11 | N26: 12 | O26: 13 | P26: 14 | Q26: 15 | R26: 16 | S26: 17 | T26: 18 | U26: 19 | V26: 20 | W26: 21 | X26: 22 | Y26: 23 | Z26: 24 | AA26: 25 | AB26: 26 | AC26: 27 | AD26: 28 | AE26: 29 | AF26: 30 | AG26: 31
B27: Prévu | C27: 1 | D27: 1 | F27: 1 | G27: 1 | J27: Grandes vacances | Q27: Grandes vacances | X27: Grandes vacances | AE27: Grandes vacances | AH27: =SUM(C27:AG27) -> 4
B28: Note
A29: SEPTEMBRE | C29: 1 | D29: 2 | E29: 3 | F29: 4 | G29: 5 | H29: 6 | I29: 7 | J29: 8 | K29: 9 | L29: 10 | M29: 11 | N29: 12 | O29: 13 | P29: 14 | Q29: 15 | R29: 16 | S29: 17 | T29: 18 | U29: 19 | V29: 20 | W29: 21 | X29: 22 | Y29: 23 | Z29: 24 | AA29: 25 | AB29: 26 | AC29: 27 | AD29: 28 | AE29: 29 | AF29: 30
B30: Prévu | C30: Grandes vacances | AH30: =SUM(C30:AG30) -> 0
B31: Note
A32: OCTOBRE | C32: 1 | D32: 2 | E32: 3 | F32: 4 | G32: 5 | H32: 6 | I32: 7 | J32: 8 | K32: 9 | L32: 10 | M32: 11 | N32: 12 | O32: 13 | P32: 14 | Q32: 15 | R32: 16 | S32: 17 | T32: 18 | U32: 19 | V32: 20 | W32: 21 | X32: 22 | Y32: 23 | Z32: 24 | AA32: 25 | AB32: 26 | AC32: 27 | AD32: 28 | AE32: 29 | AF32: 30 | AG32: 31
B33: Prévu | AG33: Toussaint | AH33: =SUM(C33:AG33) -> 0
B34: Note
A35: NOVEMBRE | C35: 1 | D35: 2 | E35: 3 | F35: 4 | G35: 5 | H35: 6 | I35: 7 | J35: 8 | K35: 9 | L35: 10 | M35: 11 | N35: 12 | O35: 13 | P35: 14 | Q35: 15 | R35: 16 | S35: 17 | T35: 18 | U35: 19 | V35: 20 | W35: 21 | X35: 22 | Y35: 23 | Z35: 24 | AA35: 25 | AB35: 26 | AC35: 27 | AD35: 28 | AE35: 29 | AF35: 30
B36: Prévu | C36: Toussaint | AH36: =SUM(C36:AG36) -> 0
B37: Note
A38: DÉCEMBRE | C38: 1 | D38: 2 | E38: 3 | F38: 4 | G38: 5 | H38: 6 | I38: 7 | J38: 8 | K38: 9 | L38: 10 | M38: 11 | N38: 12 | O38: 13 | P38: 14 | Q38: 15 | R38: 16 | S38: 17 | T38: 18 | U38: 19 | V38: 20 | W38: 21 | X38: 22 | Y38: 23 | Z38: 24 | AA38: 25 | AB38: 26 | AC38: 27 | AD38: 28 | AE38: 29 | AF38: 30 | AG38: 31
B39: Prévu | AB39: Noël - Nouvel An | AH39: =SUM(C39:AG39) -> 0
B40: Note
AD42: Présences annuelle: | AH42: =SUM(AH6,AH9,AH12,AH15,AH18,AH21,AH24,AH27,AH30,AH33,AH36,AH39) -> 116

Sheet Eliot
AE2: Rentrées annuelles:
A3: 2016 | B3: Eliot | J3: 308 | R3: L | S3: M | U3: J | V3: V | X3: Mois de présence sur l'année: | AC3: 11 | AE3: =J3*AC3 -> 3388 | AH3: Total
A5: JANVIER | C5: 1 | D5: 2 | E5: 3 | F5: 4 | G5: 5 | H5: 6 | I5: 7 | J5: 8 | K5: 9 | L5: 10 | M5: 11 | N5: 12 | O5: 13 | P5: 14 | Q5: 15 | R5: 16 | S5: 17 | T5: 18 | U5: 19 | V5: 20 | W5: 21 | X5: 22 | Y5: 23 | Z5: 24 | AA5: 25 | AB5: 26 | AC5: 27 | AD5: 28 | AE5: 29 | AF5: 30 | AG5: 31
B6: Prévu | F6: 1 | G6: 1 | I6: 1 | M6: 1 | N6: 1 | P6: 1 | T6: 1 | U6: 1 | W6: 1 | AA6: 1 | AB6: 1 | AD6: 1 | AH6: =SUM(C6:AG6) -> 12
B7: Note
A8: FÉVRIER | C8: 1 | D8: 2 | E8: 3 | F8: 4 | G8: 5 | H8: 6 | I8: 7 | J8: 8 | K8: 9 | L8: 10 | M8: 11 | N8: 12 | O8: 13 | P8: 14 | Q8: 15 | R8: 16 | S8: 17 | T8: 18 | U8: 19 | V8: 20 | W8: 21 | X8: 22 | Y8: 23 | Z8: 24 | AA8: 25 | AB8: 26 | AC8: 27 | AD8: 28 | AE8: 29
B9: Prévu | C9: 1 | D9: 1 | F9: 1 | J9: 1 | K9: 1 | M9: 1 | Q9: 1 | R9: 1 | T9: 1 | X9: 1 | Y9: 1 | AA9: 1 | AE9: 1 | AH9: =SUM(C9:AG9) -> 13
B10: Note
A11: MARS | C11: 1 | D11: 2 | E11: 3 | F11: 4 | G11: 5 | H11: 6 | I11: 7 | J11: 8 | K11: 9 | L11: 10 | M11: 11 | N11: 12 | O11: 13 | P11: 14 | Q11: 15 | R11: 16 | S11: 17 | T11: 18 | U11: 19 | V11: 20 | W11: 21 | X11: 22 | Y11: 23 | Z11: 24 | AA11: 25 | AB11: 26 | AC11: 27 | AD11: 28 | AE11: 29 | AF11: 30 | AG11: 31
B12: Prévu | C12: 1 | E12: 1 | I12: 1 | J12: 1 | L12: 1 | P12: 1 | Q12: 1 | S12: 1 | W12: 1 | X12: 1 | Z12: 1 | AD12: Pâques | AH12: =SUM(C12:AG12) -> 11
B13: Note
A14: AVRIL | C14: 1 | D14: 2 | E14: 3 | F14: 4 | G14: 5 | H14: 6 | I14: 7 | J14: 8 | K14: 9 | L14: 10 | M14: 11 | N14: 12 | O14: 13 | P14: 14 | Q14: 15 | R14: 16 | S14: 17 | T14: 18 | U14: 19 | V14: 20 | W14: 21 | X14: 22 | Y14: 23 | Z14: 24 | AA14: 25 | AB14: 26 | AC14: 27 | AD14: 28 | AE14: 29 | AF14: 30
B15: Prévu | C15: Pâques | F15: 1 | G15: 1 | I15: 1 | M15: 1 | N15: 1 | P15: 1 | T15: 1 | U15: 1 | W15: 1 | AA15: 1 | AB15: 1 | AD15: 1 | AH15: =SUM(C15:AG15) -> 12
B16: Note
A17: MAI | C17: 1 | D17: 2 | E17: 3 | F17: 4 | G17: 5 | H17: 6 | I17: 7 | J17: 8 | K17: 9 | L17: 10 | M17: 11 | N17: 12 | O17: 13 | P17: 14 | Q17: 15 | R17: 16 | S17: 17 | T17: 18 | U17: 19 | V17: 20 | W17: 21 | X17: 22 | Y17: 23 | Z17: 24 | AA17: 25 | AB17: 26 | AC17: 27 | AD17: 28 | AE17: 29 | AF17: 30 | AG17: 31
B18: Prévu | D18: 1 | E18: 1 | G18: Ascension | K18: 1 | L18: 1 | N18: 1 | S18: 1 | U18: 1 | Y18: 1 | Z18: 1 | AB18: 1 | AF18: 1 | AG18: 1 | AH18: =SUM(C18:AG18) -> 12
B19: Note
A20: JUIN | C20: 1 | D20: 2 | E20: 3 | F20: 4 | G20: 5 | H20: 6 | I20: 7 | J20: 8 | K20: 9 | L20: 10 | M20: 11 | N20: 12 | O20: 13 | P20: 14 | Q20: 15 | R20: 16 | S20: 17 | T20: 18 | U20: 19 | V20: 20 | W20: 21 | X20: 22 | Y20: 23 | Z20: 24 | AA20: 25 | AB20: 26 | AC20: 27 | AD20: 28 | AE20: 29 | AF20: 30
B21: Prévu | D21: 1 | H21: 1 | I21: 1 | K21: 1 | O21: 1 | P21: 1 | R21: 1 | V21: 1 | W21: 1 | Y21: 1 | AC21: 1 | AD21: 1 | AF21: 1 | AH21: =SUM(C21:AG21) -> 13
B22: Note
A23: JUILLET | C23: 1 | D23: 2 | E23: 3 | F23: 4 | G23: 5 | H23: 6 | I23: 7 | J23: 8 | K23: 9 | L23: 10 | M23: 11 | N23: 12 | O23: 13 | P23: 14 | Q23: 15 | R23: 16 | S23: 17 | T23: 18 | U23: 19 | V23: 20 | W23: 21 | X23: 22 | Y23: 23 | Z23: 24 | AA23: 25 | AB23: 26 | AC23: 27 | AD23: 28 | AE23: 29 | AF23: 30 | AG23: 31
B24: Prévu | F24: 1 | G24: 1 | I24: 1 | M24: 1 | N24: 1 | P24: 1 | T24: 1 | U24: 1 | W24: 1 | AA24: 1 | AB24: 1 | AD24: 1 | AH24: =SUM(C24:AG24) -> 12
B25: Note
A26: AOÛT | C26: 1 | D26: 2 | E26: 3 | F26: 4 | G26: 5 | H26: 6 | I26: 7 | J26: 8 | K26: 9 | L26: 10 | M26: 11 | N26: 12 | O26: 13 | P26: 14 | Q26: 15 | R26: 16 | S26: 17 | T26: 18 | U26: 19 | V26: 20 | W26: 21 | X26: 22 | Y26: 23 | Z26: 24 | AA26: 25 | AB26: 26 | AC26: 27 | AD26: 28 | AE26: 29 | AF26: 30 | AG26: 31
B27: Prévu | C27: 1 | D27: 1 | F27: 1 | J27: Grandes vacances | Q27: Grandes vacances | X27: Grandes vacances | AE27: Grandes vacances | AH27: =SUM(C27:AG27) -> 3
B28: Note
A29: SEPTEMBRE | C29: 1 | D29: 2 | E29: 3 | F29: 4 | G29: 5 | H29: 6 | I29: 7 | J29: 8 | K29: 9 | L29: 10 | M29: 11 | N29: 12 | O29: 13 | P29: 14 | Q29: 15 | R29: 16 | S29: 17 | T29: 18 | U29: 19 | V29: 20 | W29: 21 | X29: 22 | Y29: 23 | Z29: 24 | AA29: 25 | AB29: 26 | AC29: 27 | AD29: 28 | AE29: 29 | AF29: 30
B30: Prévu | C30: Grandes vacances | G30: 1 | H30: 1 | J30: 1 | N30: 1 | O30: 1 | Q30: 1 | U30: 1 | V30: 1 | X30: 1 | AB30: 1 | AC30: 1 | AE30: 1 | AH30: =SUM(C30:AG30) -> 12
B31: Note
A32: OCTOBRE | C32: 1 | D32: 2 | E32: 3 | F32: 4 | G32: 5 | H32: 6 | I32: 7 | J32: 8 | K32: 9 | L32: 10 | M32: 11 | N32: 12 | O32: 13 | P32: 14 | Q32: 15 | R32: 16 | S32: 17 | T32: 18 | U32: 19 | V32: 20 | W32: 21 | X32: 22 | Y32: 23 | Z32: 24 | AA32: 25 | AB32: 26 | AC32: 27 | AD32: 28 | AE32: 29 | AF32: 30 | AG32: 31
B33: Prévu | E33: 1 | F33: 1 | H33: 1 | L33: 1 | M33: 1 | O33: 1 | S33: 1 | T33: 1 | V33: 1 | Z33: 1 | AA33: 1 | AC33: 1 | AG33: Toussaint | AH33: =SUM(C33:AG33) -> 12
B34: Note
A35: NOVEMBRE | C35: 1 | D35: 2 | E35: 3 | F35: 4 | G35: 5 | H35: 6 | I35: 7 | J35: 8 | K35: 9 | L35: 10 | M35: 11 | N35: 12 | O35: 13 | P35: 14 | Q35: 15 | R35: 16 | S35: 17 | T35: 18 | U35: 19 | V35: 20 | W35: 21 | X35: 22 | Y35: 23 | Z35: 24 | AA35: 25 | AB35: 26 | AC35: 27 | AD35: 28 | AE35: 29 | AF35: 30
B36: Prévu | C36: Toussaint | I36: 1 | J36: 1 | L36: 1 | P36: 1 | Q36: 1 | S36: 1 | W36: 1 | X36: 1 | Z36: 1 | AH36: =SUM(C36:AG36) -> 9
B37: Note
A38: DÉCEMBRE | C38: 1 | D38: 2 | E38: 3 | F38: 4 | G38: 5 | H38: 6 | I38: 7 | J38: 8 | K38: 9 | L38: 10 | M38: 11 | N38: 12 | O38: 13 | P38: 14 | Q38: 15 | R38: 16 | S38: 17 | T38: 18 | U38: 19 | V38: 20 | W38: 21 | X38: 22 | Y38: 23 | Z38: 24 | AA38: 25 | AB38: 26 | AC38: 27 | AD38: 28 | AE38: 29 | AF38: 30 | AG38: 31
B39: Prévu | AB39: Noël - Nouvel An | AH39: =SUM(C39:AG39) -> 0
B40: Note
AD42: Présences annuelle: | AH42: =SUM(AH6,AH9,AH12,AH15,AH18,AH21,AH24,AH27,AH30,AH33,AH36,AH39) -> 121

Sheet Julien
AE2: Rentrées annuelles:
A3: 2016 | B3: Eliot 2 | J3: 308 | R3: L | S3: M | U3: J | V3: V | X3: Mois de présence sur l'année: | AC3: 4 | AE3: =J3*AC3 -> 1232 | AH3: Total
A5: JANVIER | C5: 1 | D5: 2 | E5: 3 | F5: 4 | G5: 5 | H5: 6 | I5: 7 | J5: 8 | K5: 9 | L5: 10 | M5: 11 | N5: 12 | O5: 13 | P5: 14 | Q5: 15 | R5: 16 | S5: 17 | T5: 18 | U5: 19 | V5: 20 | W5: 21 | X5: 22 | Y5: 23 | Z5: 24 | AA5: 25 | AB5: 26 | AC5: 27 | AD5: 28 | AE5: 29 | AF5: 30 | AG5: 31
B6: Prévu | AH6: =SUM(C6:AG6) -> 0
B7: Note
A8: FÉVRIER | C8: 1 | D8: 2 | E8: 3 | F8: 4 | G8: 5 | H8: 6 | I8: 7 | J8: 8 | K8: 9 | L8: 10 | M8: 11 | N8: 12 | O8: 13 | P8: 14 | Q8: 15 | R8: 16 | S8: 17 | T8: 18 | U8: 19 | V8: 20 | W8: 21 | X8: 22 | Y8: 23 | Z8: 24 | AA8: 25 | AB8: 26 | AC8: 27 | AD8: 28 | AE8: 29
B9: Prévu | AH9: =SUM(C9:AG9) -> 0
B10: Note
A11: MARS | C11: 1 | D11: 2 | E11: 3 | F11: 4 | G11: 5 | H11: 6 | I11: 7 | J11: 8 | K11: 9 | L11: 10 | M11: 11 | N11: 12 | O11: 13 | P11: 14 | Q11: 15 | R11: 16 | S11: 17 | T11: 18 | U11: 19 | V11: 20 | W11: 21 | X11: 22 | Y11: 23 | Z11: 24 | AA11: 25 | AB11: 26 | AC11: 27 | AD11: 28 | AE11: 29 | AF11: 30 | AG11: 31
B12: Prévu | AD12: Pâques | AH12: =SUM(C12:AG12) -> 0
B13: Note
A14: AVRIL | C14: 1 | D14: 2 | E14: 3 | F14: 4 | G14: 5 | H14: 6 | I14: 7 | J14: 8 | K14: 9 | L14: 10 | M14: 11 | N14: 12 | O14: 13 | P14: 14 | Q14: 15 | R14: 16 | S14: 17 | T14: 18 | U14: 19 | V14: 20 | W14: 21 | X14: 22 | Y14: 23 | Z14: 24 | AA14: 25 | AB14: 26 | AC14: 27 | AD14: 28 | AE14: 29 | AF14: 30
B15: Prévu | C15: Pâques | AH15: =SUM(C15:AG15) -> 0
B16: Note
A17: MAI | C17: 1 | D17: 2 | E17: 3 | F17: 4 | G17: 5 | H17: 6 | I17: 7 | J17: 8 | K17: 9 | L17: 10 | M17: 11 | N17: 12 | O17: 13 | P17: 14 | Q17: 15 | R17: 16 | S17: 17 | T17: 18 | U17: 19 | V17: 20 | W17: 21 | X17: 22 | Y17: 23 | Z17: 24 | AA17: 25 | AB17: 26 | AC17: 27 | AD17: 28 | AE17: 29 | AF17: 30 | AG17: 31
B18: Prévu | G18: Ascension | AH18: =SUM(C18:AG18) -> 0
B19: Note
A20: JUIN | C20: 1 | D20: 2 | E20: 3 | F20: 4 | G20: 5 | H20: 6 | I20: 7 | J20: 8 | K20: 9 | L20: 10 | M20: 11 | N20: 12 | O20: 13 | P20: 14 | Q20: 15 | R20: 16 | S20: 17 | T20: 18 | U20: 19 | V20: 20 | W20: 21 | X20: 22 | Y20: 23 | Z20: 24 | AA20: 25 | AB20: 26 | AC20: 27 | AD20: 28 | AE20: 29 | AF20: 30
B21: Prévu | AH21: =SUM(C21:AG21) -> 0
B22: Note
A23: JUILLET | C23: 1 | D23: 2 | E23: 3 | F23: 4 | G23: 5 | H23: 6 | I23: 7 | J23: 8 | K23: 9 | L23: 10 | M23: 11 | N23: 12 | O23: 13 | P23: 14 | Q23: 15 | R23: 16 | S23: 17 | T23: 18 | U23: 19 | V23: 20 | W23: 21 | X23: 22 | Y23: 23 | Z23: 24 | AA23: 25 | AB23: 26 | AC23: 27 | AD23: 28 | AE23: 29 | AF23: 30 | AG23: 31
B24: Prévu | AH24: =SUM(C24:AG24) -> 0
B25: Note
A26: AOÛT | C26: 1 | D26: 2 | E26: 3 | F26: 4 | G26: 5 | H26: 6 | I26: 7 | J26: 8 | K26: 9 | L26: 10 | M26: 11 | N26: 12 | O26: 13 | P26: 14 | Q26: 15 | R26: 16 | S26: 17 | T26: 18 | U26: 19 | V26: 20 | W26: 21 | X26: 22 | Y26: 23 | Z26: 24 | AA26: 25 | AB26: 26 | AC26: 27 | AD26: 28 | AE26: 29 | AF26: 30 | AG26: 31
B27: Prévu | J27: Grandes vacances | Q27: Grandes vacances | X27: Grandes vacances | AE27: Grandes vacances | AH27: =SUM(C27:AG27) -> 0
B28: Note
A29: SEPTEMBRE | C29: 1 | D29: 2 | E29: 3 | F29: 4 | G29: 5 | H29: 6 | I29: 7 | J29: 8 | K29: 9 | L29: 10 | M29: 11 | N29: 12 | O29: 13 | P29: 14 | Q29: 15 | R29: 16 | S29: 17 | T29: 18 | U29: 19 | V29: 20 | W29: 21 | X29: 22 | Y29: 23 | Z29: 24 | AA29: 25 | AB29: 26 | AC29: 27 | AD29: 28 | AE29: 29 | AF29: 30
B30: Prévu | C30: Grandes vacances | G30: 1 | H30: 1 | J30: 1 | N30: 1 | O30: 1 | Q30: 1 | U30: 1 | V30: 1 | X30: 1 | AB30: 1 | AC30: 1 | AE30: 1 | AH30: =SUM(C30:AG30) -> 12
B31: Note
A32: OCTOBRE | C32: 1 | D32: 2 | E32: 3 | F32: 4 | G32: 5 | H32: 6 | I32: 7 | J32: 8 | K32: 9 | L32: 10 | M32: 11 | N32: 12 | O32: 13 | P32: 14 | Q32: 15 | R32: 16 | S32: 17 | T32: 18 | U32: 19 | V32: 20 | W32: 21 | X32: 22 | Y32: 23 | Z32: 24 | AA32: 25 | AB32: 26 | AC32: 27 | AD32: 28 | AE32: 29 | AF32: 30 | AG32: 31
B33: Prévu | E33: 1 | F33: 1 | H33: 1 | L33: 1 | M33: 1 | O33: 1 | S33: 1 | T33: 1 | V33: 1 | Z33: 1 | AA33: 1 | AC33: 1 | AG33: Toussaint | AH33: =SUM(C33:AG33) -> 12
B34: Note
A35: NOVEMBRE | C35: 1 | D35: 2 | E35: 3 | F35: 4 | G35: 5 | H35: 6 | I35: 7 | J35: 8 | K35: 9 | L35: 10 | M35: 11 | N35: 12 | O35: 13 | P35: 14 | Q35: 15 | R35: 16 | S35: 17 | T35: 18 | U35: 19 | V35: 20 | W35: 21 | X35: 22 | Y35: 23 | Z35: 24 | AA35: 25 | AB35: 26 | AC35: 27 | AD35: 28 | AE35: 29 | AF35: 30
B36: Prévu | C36: Toussaint | I36: 1 | J36: 1 | L36: 1 | P36: 1 | Q36: 1 | S36: 1 | W36: 1 | X36: 1 | Z36: 1 | AH36: =SUM(C36:AG36) -> 9
B37: Note
A38: DÉCEMBRE | C38: 1 | D38: 2 | E38: 3 | F38: 4 | G38: 5 | H38: 6 | I38: 7 | J38: 8 | K38: 9 | L38: 10 | M38: 11 | N38: 12 | O38: 13 | P38: 14 | Q38: 15 | R38: 16 | S38: 17 | T38: 18 | U38: 19 | V38: 20 | W38: 21 | X38: 22 | Y38: 23 | Z38: 24 | AA38: 25 | AB38: 26 | AC38: 27 | AD38: 28 | AE38: 29 | AF38: 30 | AG38: 31
B39: Prévu | C39: 1 | G39: 1 | H39: 1 | J39: 1 | N39: 1 | O39: 1 | Q39: 1 | U39: 1 | V39: 1 | X39: 1 | AB39: Noël - Nouvel An | AH39: =SUM(C39:AG39) -> 10
B40: Note
AD42: Présences annuelle: | AH42: =SUM(AH6,AH9,AH12,AH15,AH18,AH21,AH24,AH27,AH30,AH33,AH36,AH39) -> 43

Sheet Clément
AE2: Rentrées annuelles:
A3: 2016 | B3: Clément | J3: 102.67 | R3: L | S3: M | U3: J | V3: V | X3: Mois de présence sur l'année: | AC3: 11 | AE3: =J3*AC3 -> 1129.37 | AH3: Total
A5: JANVIER | C5: 1 | D5: 2 | E5: 3 | F5: 4 | G5: 5 | H5: 6 | I5: 7 | J5: 8 | K5: 9 | L5: 10 | M5: 11 | N5: 12 | O5: 13 | P5: 14 | Q5: 15 | R5: 16 | S5: 17 | T5: 18 | U5: 19 | V5: 20 | W5: 21 | X5: 22 | Y5: 23 | Z5: 24 | AA5: 25 | AB5: 26 | AC5: 27 | AD5: 28 | AE5: 29 | AF5: 30 | AG5: 31
B6: Prévu | G6: 1 | N6: 1 | U6: 1 | AB6: 1 | AH6: =SUM(C6:AG6) -> 4
B7: Note
A8: FÉVRIER | C8: 1 | D8: 2 | E8: 3 | F8: 4 | G8: 5 | H8: 6 | I8: 7 | J8: 8 | K8: 9 | L8: 10 | M8: 11 | N8: 12 | O8: 13 | P8: 14 | Q8: 15 | R8: 16 | S8: 17 | T8: 18 | U8: 19 | V8: 20 | W8: 21 | X8: 22 | Y8: 23 | Z8: 24 | AA8: 25 | AB8: 26 | AC8: 27 | AD8: 28 | AE8: 29
B9: Prévu | D9: 1 | K9: 1 | R9: 1 | Y9: 1 | AH9: =SUM(C9:AG9) -> 4
B10: Note
A11: MARS | C11: 1 | D11: 2 | E11: 3 | F11: 4 | G11: 5 | H11: 6 | I11: 7 | J11: 8 | K11: 9 | L11: 10 | M11: 11 | N11: 12 | O11: 13 | P11: 14 | Q11: 15 | R11: 16 | S11: 17 | T11: 18 | U11: 19 | V11: 20 | W11: 21 | X11: 22 | Y11: 23 | Z11: 24 | AA11: 25 | AB11: 26 | AC11: 27 | AD11: 28 | AE11: 29 | AF11: 30 | AG11: 31
B12: Prévu | C12: 1 | J12: 1 | Q12: 1 | X12: 1 | AD12: Pâques | AH12: =SUM(C12:AG12) -> 4
B13: Note
A14: AVRIL | C14: 1 | D14: 2 | E14: 3 | F14: 4 | G14: 5 | H14: 6 | I14: 7 | J14: 8 | K14: 9 | L14: 10 | M14: 11 | N14: 12 | O14: 13 | P14: 14 | Q14: 15 | R14: 16 | S14: 17 | T14: 18 | U14: 19 | V14: 20 | W14: 21 | X14: 22 | Y14: 23 | Z14: 24 | AA14: 25 | AB14: 26 | AC14: 27 | AD14: 28 | AE14: 29 | AF14: 30
B15: Prévu | C15: Pâques | G15: 1 | N15: 1 | U15: 1 | AB15: 1 | AH15: =SUM(C15:AG15) -> 4
B16: Note
A17: MAI | C17: 1 | D17: 2 | E17: 3 | F17: 4 | G17: 5 | H17: 6 | I17: 7 | J17: 8 | K17: 9 | L17: 10 | M17: 11 | N17: 12 | O17: 13 | P17: 14 | Q17: 15 | R17: 16 | S17: 17 | T17: 18 | U17: 19 | V17: 20 | W17: 21 | X17: 22 | Y17: 23 | Z17: 24 | AA17: 25 | AB17: 26 | AC17: 27 | AD17: 28 | AE17: 29 | AF17: 30 | AG17: 31
B18: Prévu | E18: 1 | G18: Ascension | L18: 1 | S18: 1 | Z18: 1 | AG18: 1 | AH18: =SUM(C18:AG18) -> 5
B19: Note
A20: JUIN | C20: 1 | D20: 2 | E20: 3 | F20: 4 | G20: 5 | H20: 6 | I20: 7 | J20: 8 | K20: 9 | L20: 10 | M20: 11 | N20: 12 | O20: 13 | P20: 14 | Q20: 15 | R20: 16 | S20: 17 | T20: 18 | U20: 19 | V20: 20 | W20: 21 | X20: 22 | Y20: 23 | Z20: 24 | AA20: 25 | AB20: 26 | AC20: 27 | AD20: 28 | AE20: 29 | AF20: 30
B21: Prévu | I21: 1 | P21: 1 | W21: 1 | AD21: 1 | AH21: =SUM(C21:AG21) -> 4
B22: Note
A23: JUILLET | C23: 1 | D23: 2 | E23: 3 | F23: 4 | G23: 5 | H23: 6 | I23: 7 | J23: 8 | K23: 9 | L23: 10 | M23: 11 | N23: 12 | O23: 13 | P23: 14 | Q23: 15 | R23: 16 | S23: 17 | T23: 18 | U23: 19 | V23: 20 | W23: 21 | X23: 22 | Y23: 23 | Z23: 24 | AA23: 25 | AB23: 26 | AC23: 27 | AD23: 28 | AE23: 29 | AF23: 30 | AG23: 31
B24: Prévu | G24: 1 | N24: 1 | U24: 1 | AB24: 1 | AH24: =SUM(C24:AG24) -> 4
B25: Note
A26: AOÛT | C26: 1 | D26: 2 | E26: 3 | F26: 4 | G26: 5 | H26: 6 | I26: 7 | J26: 8 | K26: 9 | L26: 10 | M26: 11 | N26: 12 | O26: 13 | P26: 14 | Q26: 15 | R26: 16 | S26: 17 | T26: 18 | U26: 19 | V26: 20 | W26: 21 | X26: 22 | Y26: 23 | Z26: 24 | AA26: 25 | AB26: 26 | AC26: 27 | AD26: 28 | AE26: 29 | AF26: 30 | AG26: 31
B27: Prévu | D27: 1 | J27: Grandes vacances | Q27: Grandes vacances | X27: Grandes vacances | AE27: Grandes vacances | AH27: =SUM(C27:AG27) -> 1
B28: Note
A29: SEPTEMBRE | C29: 1 | D29: 2 | E29: 3 | F29: 4 | G29: 5 | H29: 6 | I29: 7 | J29: 8 | K29: 9 | L29: 10 | M29: 11 | N29: 12 | O29: 13 | P29: 14 | Q29: 15 | R29: 16 | S29: 17 | T29: 18 | U29: 19 | V29: 20 | W29: 21 | X29: 22 | Y29: 23 | Z29: 24 | AA29: 25 | AB29: 26 | AC29: 27 | AD29: 28 | AE29: 29 | AF29: 30
B30: Prévu | C30: Grandes vacances | H30: 1 | O30: 1 | V30: 1 | AC30: 1 | AH30: =SUM(C30:AG30) -> 4
B31: Note
A32: OCTOBRE | C32: 1 | D32: 2 | E32: 3 | F32: 4 | G32: 5 | H32: 6 | I32: 7 | J32: 8 | K32: 9 | L32: 10 | M32: 11 | N32: 12 | O32: 13 | P32: 14 | Q32: 15 | R32: 16 | S32: 17 | T32: 18 | U32: 19 | V32: 20 | W32: 21 | X32: 22 | Y32: 23 | Z32: 24 | AA32: 25 | AB32: 26 | AC32: 27 | AD32: 28 | AE32: 29 | AF32: 30 | AG32: 31
B33: Prévu | F33: 1 | M33: 1 | T33: 1 | AA33: 1 | AG33: Toussaint | AH33: =SUM(C33:AG33) -> 4
B34: Note
A35: NOVEMBRE | C35: 1 | D35: 2 | E35: 3 | F35: 4 | G35: 5 | H35: 6 | I35: 7 | J35: 8 | K35: 9 | L35: 10 | M35: 11 | N35: 12 | O35: 13 | P35: 14 | Q35: 15 | R35: 16 | S35: 17 | T35: 18 | U35: 19 | V35: 20 | W35: 21 | X35: 22 | Y35: 23 | Z35: 24 | AA35: 25 | AB35: 26 | AC35: 27 | AD35: 28 | AE35: 29 | AF35: 30
B36: Prévu | C36: Toussaint | J36: 1 | Q36: 1 | AH36: =SUM(C36:AG36) -> 2
B37: Note
A38: DÉCEMBRE | C38: 1 | D38: 2 | E38: 3 | F38: 4 | G38: 5 | H38: 6 | I38: 7 | J38: 8 | K38: 9 | L38: 10 | M38: 11 | N38: 12 | O38: 13 | P38: 14 | Q38: 15 | R38: 16 | S38: 17 | T38: 18 | U38: 19 | V38: 20 | W38: 21 | X38: 22 | Y38: 23 | Z38: 24 | AA38: 25 | AB38: 26 | AC38: 27 | AD38: 28 | AE38: 29 | AF38: 30 | AG38: 31
B39: Prévu | AB39: Noël - Nouvel An | AH39: =SUM(C39:AG39) -> 0
B40: Note
AD42: Présences annuelle: | AH42: =SUM(AH6,AH9,AH12,AH15,AH18,AH21,AH24,AH27,AH30,AH33,AH36,AH39) -> 40

Sheet Alix
AE2: Rentrées annuelles:
A3: 2016 | B3: Alix | J3: 308 | R3: L | S3: M | U3: J | V3: V | X3: Mois de présence sur l'année: | AC3: 12 | AE3: =J3*AC3 -> 3696 | AH3: Total
A5: JANVIER | C5: 1 | D5: 2 | E5: 3 | F5: 4 | G5: 5 | H5: 6 | I5: 7 | J5: 8 | K5: 9 | L5: 10 | M5: 11 | N5: 12 | O5: 13 | P5: 14 | Q5: 15 | R5: 16 | S5: 17 | T5: 18 | U5: 19 | V5: 20 | W5: 21 | X5: 22 | Y5: 23 | Z5: 24 | AA5: 25 | AB5: 26 | AC5: 27 | AD5: 28 | AE5: 29 | AF5: 30 | AG5: 31
B6: Prévu | G6: 1 | I6: 1 | J6: 1 | N6: 1 | P6: 1 | Q6: 1 | U6: 1 | W6: 1 | X6: 1 | AB6: 1 | AD6: 1 | AE6: 1 | AH6: =SUM(C6:AG6) -> 12
B7: Note
A8: FÉVRIER | C8: 1 | D8: 2 | E8: 3 | F8: 4 | G8: 5 | H8: 6 | I8: 7 | J8: 8 | K8: 9 | L8: 10 | M8: 11 | N8: 12 | O8: 13 | P8: 14 | Q8: 15 | R8: 16 | S8: 17 | T8: 18 | U8: 19 | V8: 20 | W8: 21 | X8: 22 | Y8: 23 | Z8: 24 | AA8: 25 | AB8: 26 | AC8: 27 | AD8: 28 | AE8: 29
B9: Prévu | D9: 1 | F9: 1 | G9: 1 | K9: 1 | M9: 1 | N9: 1 | R9: 1 | T9: 1 | U9: 1 | Y9: 1 | AA9: 1 | AB9: 1 | AH9: =SUM(C9:AG9) -> 12
B10: Note
A11: MARS | C11: 1 | D11: 2 | E11: 3 | F11: 4 | G11: 5 | H11: 6 | I11: 7 | J11: 8 | K11: 9 | L11: 10 | M11: 11 | N11: 12 | O11: 13 | P11: 14 | Q11: 15 | R11: 16 | S11: 17 | T11: 18 | U11: 19 | V11: 20 | W11: 21 | X11: 22 | Y11: 23 | Z11: 24 | AA11: 25 | AB11: 26 | AC11: 27 | AD11: 28 | AE11: 29 | AF11: 30 | AG11: 31
B12: Prévu | C12: 1 | E12: 1 | F12: 1 | J12: 1 | L12: 1 | M12: 1 | Q12: 1 | S12: 1 | T12: 1 | X12: 1 | Z12: 1 | AA12: 1 | AD12: Pâques | AH12: =SUM(C12:AG12) -> 12
B13: Note
A14: AVRIL | C14: 1 | D14: 2 | E14: 3 | F14: 4 | G14: 5 | H14: 6 | I14: 7 | J14: 8 | K14: 9 | L14: 10 | M14: 11 | N14: 12 | O14: 13 | P14: 14 | Q14: 15 | R14: 16 | S14: 17 | T14: 18 | U14: 19 | V14: 20 | W14: 21 | X14: 22 | Y14: 23 | Z14: 24 | AA14: 25 | AB14: 26 | AC14: 27 | AD14: 28 | AE14: 29 | AF14: 30
B15: Prévu | C15: Pâques | G15: 1 | I15: 1 | J15: 1 | N15: 1 | P15: 1 | Q15: 1 | U15: 1 | W15: 1 | X15: 1 | AB15: 1 | AD15: 1 | AE15: 1 | AH15: =SUM(C15:AG15) -> 12
B16: Note
A17: MAI | C17: 1 | D17: 2 | E17: 3 | F17: 4 | G17: 5 | H17: 6 | I17: 7 | J17: 8 | K17: 9 | L17: 10 | M17: 11 | N17: 12 | O17: 13 | P17: 14 | Q17: 15 | R17: 16 | S17: 17 | T17: 18 | U17: 19 | V17: 20 | W17: 21 | X17: 22 | Y17: 23 | Z17: 24 | AA17: 25 | AB17: 26 | AC17: 27 | AD17: 28 | AE17: 29 | AF17: 30 | AG17: 31
B18: Prévu | E18: 1 | G18: Ascension | L18: 1 | N18: 1 | O18: 1 | S18: 1 | U18: 1 | V18: 1 | Z18: 1 | AB18: 1 | AC18: 1 | AG18: 1 | AH18: =SUM(C18:AG18) -> 11
B19: Note
A20: JUIN | C20: 1 | D20: 2 | E20: 3 | F20: 4 | G20: 5 | H20: 6 | I20: 7 | J20: 8 | K20: 9 | L20: 10 | M20: 11 | N20: 12 | O20: 13 | P20: 14 | Q20: 15 | R20: 16 | S20: 17 | T20: 18 | U20: 19 | V20: 20 | W20: 21 | X20: 22 | Y20: 23 | Z20: 24 | AA20: 25 | AB20: 26 | AC20: 27 | AD20: 28 | AE20: 29 | AF20: 30
B21: Prévu | D21: 1 | E21: 1 | I21: 1 | K21: 1 | L21: 1 | P21: 1 | R21: 1 | S21: 1 | W21: 1 | Y21: 1 | Z21: 1 | AD21: 1 | AF21: 1 | AH21: =SUM(C21:AG21) -> 13
B22: Note
A23: JUILLET | C23: 1 | D23: 2 | E23: 3 | F23: 4 | G23: 5 | H23: 6 | I23: 7 | J23: 8 | K23: 9 | L23: 10 | M23: 11 | N23: 12 | O23: 13 | P23: 14 | Q23: 15 | R23: 16 | S23: 17 | T23: 18 | U23: 19 | V23: 20 | W23: 21 | X23: 22 | Y23: 23 | Z23: 24 | AA23: 25 | AB23: 26 | AC23: 27 | AD23: 28 | AE23: 29 | AF23: 30 | AG23: 31
B24: Prévu | C24: 1 | G24: 1 | I24: 1 | J24: 1 | N24: 1 | P24: 1 | Q24: 1 | U24: 1 | W24: 1 | X24: 1 | AB24: 1 | AD24: 1 | AE24: 1 | AH24: =SUM(C24:AG24) -> 13
B25: Note
A26: AOÛT | C26: 1 | D26: 2 | E26: 3 | F26: 4 | G26: 5 | H26: 6 | I26: 7 | J26: 8 | K26: 9 | L26: 10 | M26: 11 | N26: 12 | O26: 13 | P26: 14 | Q26: 15 | R26: 16 | S26: 17 | T26: 18 | U26: 19 | V26: 20 | W26: 21 | X26: 22 | Y26: 23 | Z26: 24 | AA26: 25 | AB26: 26 | AC26: 27 | AD26: 28 | AE26: 29 | AF26: 30 | AG26: 31
B27: Prévu | D27: 1 | F27: 1 | G27: 1 | J27: Grandes vacances | Q27: Grandes vacances | X27: Grandes vacances | AE27: Grandes vacances | AH27: =SUM(C27:AG27) -> 3
B28: Note
A29: SEPTEMBRE | C29: 1 | D29: 2 | E29: 3 | F29: 4 | G29: 5 | H29: 6 | I29: 7 | J29: 8 | K29: 9 | L29: 10 | M29: 11 | N29: 12 | O29: 13 | P29: 14 | Q29: 15 | R29: 16 | S29: 17 | T29: 18 | U29: 19 | V29: 20 | W29: 21 | X29: 22 | Y29: 23 | Z29: 24 | AA29: 25 | AB29: 26 | AC29: 27 | AD29: 28 | AE29: 29 | AF29: 30
B30: Prévu | C30: Grandes vacances | H30: 1 | J30: 1 | K30: 1 | O30: 1 | Q30: 1 | R30: 1 | V30: 1 | X30: 1 | Y30: 1 | AC30: 1 | AE30: 1 | AF30: 1 | AH30: =SUM(C30:AG30) -> 12
B31: Note
A32: OCTOBRE | C32: 1 | D32: 2 | E32: 3 | F32: 4 | G32: 5 | H32: 6 | I32: 7 | J32: 8 | K32: 9 | L32: 10 | M32: 11 | N32: 12 | O32: 13 | P32: 14 | Q32: 15 | R32: 16 | S32: 17 | T32: 18 | U32: 19 | V32: 20 | W32: 21 | X32: 22 | Y32: 23 | Z32: 24 | AA32: 25 | AB32: 26 | AC32: 27 | AD32: 28 | AE32: 29 | AF32: 30 | AG32: 31
B33: Prévu | F33: 1 | H33: 1 | I33: 1 | M33: 1 | O33: 1 | P33: 1 | T33: 1 | V33: 1 | W33: 1 | AA33: 1 | AC33: 1 | AD33: 1 | AG33: Toussaint | AH33: =SUM(C33:AG33) -> 12
B34: Note
A35: NOVEMBRE | C35: 1 | D35: 2 | E35: 3 | F35: 4 | G35: 5 | H35: 6 | I35: 7 | J35: 8 | K35: 9 | L35: 10 | M35: 11 | N35: 12 | O35: 13 | P35: 14 | Q35: 15 | R35: 16 | S35: 17 | T35: 18 | U35: 19 | V35: 20 | W35: 21 | X35: 22 | Y35: 23 | Z35: 24 | AA35: 25 | AB35: 26 | AC35: 27 | AD35: 28 | AE35: 29 | AF35: 30
B36: Prévu | C36: Toussaint | J36: 1 | L36: 1 | Q36: 1 | S36: 1 | T36: 1 | X36: 1 | Z36: 1 | AA36: 1 | AE36: 1 | AH36: =SUM(C36:AG36) -> 9
B37: Note
A38: DÉCEMBRE | C38: 1 | D38: 2 | E38: 3 | F38: 4 | G38: 5 | H38: 6 | I38: 7 | J38: 8 | K38: 9 | L38: 10 | M38: 11 | N38: 12 | O38: 13 | P38: 14 | Q38: 15 | R38: 16 | S38: 17 | T38: 18 | U38: 19 | V38: 20 | W38: 21 | X38: 22 | Y38: 23 | Z38: 24 | AA38: 25 | AB38: 26 | AC38: 27 | AD38: 28 | AE38: 29 | AF38: 30 | AG38: 31
B39: Prévu | C39: 1 | D39: 1 | H39: 1 | J39: 1 | K39: 1 | O39: 1 | Q39: 1 | R39: 1 | V39: 1 | X39: 1 | Y39: 1 | AB39: Noël - Nouvel An | AH39: =SUM(C39:AG39) -> 11
B40: Note
AD42: Présences annuelle: | AH42: =SUM(AH6,AH9,AH12,AH15,AH18,AH21,AH24,AH27,AH30,AH33,AH36,AH39) -> 132

Sheet Vadacca
AE2: Rentrées annuelles:
A3: 2016 | B3: Vadacca | J3: 205.33 | R3: L | S3: M | U3: J | V3: V | X3: Mois de présence sur l'année: | AC3: 12 | AE3: =J3*AC3 -> 2463.96 | AH3: Total
A5: JANVIER | C5: 1 | D5: 2 | E5: 3 | F5: 4 | G5: 5 | H5: 6 | I5: 7 | J5: 8 | K5: 9 | L5: 10 | M5: 11 | N5: 12 | O5: 13 | P5: 14 | Q5: 15 | R5: 16 | S5: 17 | T5: 18 | U5: 19 | V5: 20 | W5: 21 | X5: 22 | Y5: 23 | Z5: 24 | AA5: 25 | AB5: 26 | AC5: 27 | AD5: 28 | AE5: 29 | AF5: 30 | AG5: 31
B6: Prévu | AH6: =SUM(C6:AG6) -> 0
B7: Note
A8: FÉVRIER | C8: 1 | D8: 2 | E8: 3 | F8: 4 | G8: 5 | H8: 6 | I8: 7 | J8: 8 | K8: 9 | L8: 10 | M8: 11 | N8: 12 | O8: 13 | P8: 14 | Q8: 15 | R8: 16 | S8: 17 | T8: 18 | U8: 19 | V8: 20 | W8: 21 | X8: 22 | Y8: 23 | Z8: 24 | AA8: 25 | AB8: 26 | AC8: 27 | AD8: 28 | AE8: 29
B9: Prévu | AH9: =SUM(C9:AG9) -> 0
B10: Note
A11: MARS | C11: 1 | D11: 2 | E11: 3 | F11: 4 | G11: 5 | H11: 6 | I11: 7 | J11: 8 | K11: 9 | L11: 10 | M11: 11 | N11: 12 | O11: 13 | P11: 14 | Q11: 15 | R11: 16 | S11: 17 | T11: 18 | U11: 19 | V11: 20 | W11: 21 | X11: 22 | Y11: 23 | Z11: 24 | AA11: 25 | AB11: 26 | AC11: 27 | AD11: 28 | AE11: 29 | AF11: 30 | AG11: 31
B12: Prévu | C12: 1 | I12: 1 | J12: 1 | P12: 1 | Q12: 1 | W12: 1 | X12: 1 | AD12: Pâques | AH12: =SUM(C12:AG12) -> 7
B13: Note
A14: AVRIL | C14: 1 | D14: 2 | E14: 3 | F14: 4 | G14: 5 | H14: 6 | I14: 7 | J14: 8 | K14: 9 | L14: 10 | M14: 11 | N14: 12 | O14: 13 | P14: 14 | Q14: 15 | R14: 16 | S14: 17 | T14: 18 | U14: 19 | V14: 20 | W14: 21 | X14: 22 | Y14: 23 | Z14: 24 | AA14: 25 | AB14: 26 | AC14: 27 | AD14: 28 | AE14: 29 | AF14: 30
B15: Prévu | C15: Pâques | F15: 1 | G15: 1 | M15: 1 | N15: 1 | T15: 1 | U15: 1 | AA15: 1 | AB15: 1 | AH15: =SUM(C15:AG15) -> 8
B16: Note
A17: MAI | C17: 1 | D17: 2 | E17: 3 | F17: 4 | G17: 5 | H17: 6 | I17: 7 | J17: 8 | K17: 9 | L17: 10 | M17: 11 | N17: 12 | O17: 13 | P17: 14 | Q17: 15 | R17: 16 | S17: 17 | T17: 18 | U17: 19 | V17: 20 | W17: 21 | X17: 22 | Y17: 23 | Z17: 24 | AA17: 25 | AB17: 26 | AC17: 27 | AD17: 28 | AE17: 29 | AF17: 30 | AG17: 31
B18: Prévu | D18: 1 | E18: 1 | G18: Ascension | K18: 1 | L18: 1 | S18: 1 | Y18: 1 | Z18: 1 | AF18: 1 | AG18: 1 | AH18: =SUM(C18:AG18) -> 9
B19: Note
A20: JUIN | C20: 1 | D20: 2 | E20: 3 | F20: 4 | G20: 5 | H20: 6 | I20: 7 | J20: 8 | K20: 9 | L20: 10 | M20: 11 | N20: 12 | O20: 13 | P20: 14 | Q20: 15 | R20: 16 | S20: 17 | T20: 18 | U20: 19 | V20: 20 | W20: 21 | X20: 22 | Y20: 23 | Z20: 24 | AA20: 25 | AB20: 26 | AC20: 27 | AD20: 28 | AE20: 29 | AF20: 30
B21: Prévu | H21: 1 | I21: 1 | O21: 1 | P21: 1 | V21: 1 | W21: 1 | AC21: 1 | AD21: 1 | AH21: =SUM(C21:AG21) -> 8
B22: Note
A23: JUILLET | C23: 1 | D23: 2 | E23: 3 | F23: 4 | G23: 5 | H23: 6 | I23: 7 | J23: 8 | K23: 9 | L23: 10 | M23: 11 | N23: 12 | O23: 13 | P23: 14 | Q23: 15 | R23: 16 | S23: 17 | T23: 18 | U23: 19 | V23: 20 | W23: 21 | X23: 22 | Y23: 23 | Z23: 24 | AA23: 25 | AB23: 26 | AC23: 27 | AD23: 28 | AE23: 29 | AF23: 30 | AG23: 31
B24: Prévu | F24: 1 | G24: 1 | M24: 1 | N24: 1 | T24: 1 | U24: 1 | AA24: 1 | AB24: 1 | AH24: =SUM(C24:AG24) -> 8
B25: Note
A26: AOÛT | C26: 1 | D26: 2 | E26: 3 | F26: 4 | G26: 5 | H26: 6 | I26: 7 | J26: 8 | K26: 9 | L26: 10 | M26: 11 | N26: 12 | O26: 13 | P26: 14 | Q26: 15 | R26: 16 | S26: 17 | T26: 18 | U26: 19 | V26: 20 | W26: 21 | X26: 22 | Y26: 23 | Z26: 24 | AA26: 25 | AB26: 26 | AC26: 27 | AD26: 28 | AE26: 29 | AF26: 30 | AG26: 31
B27: Prévu | C27: 1 | D27: 1 | J27: Grandes vacances | Q27: Grandes vacances | X27: Grandes vacances | AE27: Grandes vacances | AH27: =SUM(C27:AG27) -> 2
B28: Note
A29: SEPTEMBRE | C29: 1 | D29: 2 | E29: 3 | F29: 4 | G29: 5 | H29: 6 | I29: 7 | J29: 8 | K29: 9 | L29: 10 | M29: 11 | N29: 12 | O29: 13 | P29: 14 | Q29: 15 | R29: 16 | S29: 17 | T29: 18 | U29: 19 | V29: 20 | W29: 21 | X29: 22 | Y29: 23 | Z29: 24 | AA29: 25 | AB29: 26 | AC29: 27 | AD29: 28 | AE29: 29 | AF29: 30
B30: Prévu | C30: Grandes vacances | G30: 1 | H30: 1 | N30: 1 | O30: 1 | U30: 1 | V30: 1 | AB30: 1 | AC30: 1 | AH30: =SUM(C30:AG30) -> 8
B31: Note
A32: OCTOBRE | C32: 1 | D32: 2 | E32: 3 | F32: 4 | G32: 5 | H32: 6 | I32: 7 | J32: 8 | K32: 9 | L32: 10 | M32: 11 | N32: 12 | O32: 13 | P32: 14 | Q32: 15 | R32: 16 | S32: 17 | T32: 18 | U32: 19 | V32: 20 | W32: 21 | X32: 22 | Y32: 23 | Z32: 24 | AA32: 25 | AB32: 26 | AC32: 27 | AD32: 28 | AE32: 29 | AF32: 30 | AG32: 31
B33: Prévu | E33: 1 | F33: 1 | L33: 1 | M33: 1 | S33: 1 | T33: 1 | Z33: 1 | AA33: 1 | AG33: Toussaint | AH33: =SUM(C33:AG33) -> 8
B34: Note
A35: NOVEMBRE | C35: 1 | D35: 2 | E35: 3 | F35: 4 | G35: 5 | H35: 6 | I35: 7 | J35: 8 | K35: 9 | L35: 10 | M35: 11 | N35: 12 | O35: 13 | P35: 14 | Q35: 15 | R35: 16 | S35: 17 | T35: 18 | U35: 19 | V35: 20 | W35: 21 | X35: 22 | Y35: 23 | Z35: 24 | AA35: 25 | AB35: 26 | AC35: 27 | AD35: 28 | AE35: 29 | AF35: 30
B36: Prévu | C36: Toussaint | I36: 1 | J36: 1 | P36: 1 | Q36: 1 | W36: 1 | X36: 1 | AD36: 1 | AE36: 1 | AH36: =SUM(C36:AG36) -> 8
B37: Note
A38: DÉCEMBRE | C38: 1 | D38: 2 | E38: 3 | F38: 4 | G38: 5 | H38: 6 | I38: 7 | J38: 8 | K38: 9 | L38: 10 | M38: 11 | N38: 12 | O38: 13 | P38: 14 | Q38: 15 | R38: 16 | S38: 17 | T38: 18 | U38: 19 | V38: 20 | W38: 21 | X38: 22 | Y38: 23 | Z38: 24 | AA38: 25 | AB38: 26 | AC38: 27 | AD38: 28 | AE38: 29 | AF38: 30 | AG38: 31
B39: Prévu | G39: 1 | H39: 1 | N39: 1 | O39: 1 | U39: 1 | V39: 1 | AB39: Noël - Nouvel An | AH39: =SUM(C39:AG39) -> 6
B40: Note
AD42: Présences annuelle: | AH42: =SUM(AH6,AH9,AH12,AH15,AH18,AH21,AH24,AH27,AH30,AH33,AH36,AH39) -> 72

Sheet ansamuller
AE2: Rentrées annuelles:
A3: 2016 | B3: Anso Muller | J3: 205.33 | R3: L | S3: M | U3: J | V3: V | X3: Mois de présence sur l'année: | AC3: 2 | AE3: =J3*AC3 -> 410.66 | AH3: Total
A5: JANVIER | C5: 1 | D5: 2 | E5: 3 | F5: 4 | G5: 5 | H5: 6 | I5: 7 | J5: 8 | K5: 9 | L5: 10 | M5: 11 | N5: 12 | O5: 13 | P5: 14 | Q5: 15 | R5: 16 | S5: 17 | T5: 18 | U5: 19 | V5: 20 | W5: 21 | X5: 22 | Y5: 23 | Z5: 24 | AA5: 25 | AB5: 26 | AC5: 27 | AD5: 28 | AE5: 29 | AF5: 30 | AG5: 31
B6: Prévu | AH6: =SUM(C6:AG6) -> 0
B7: Note
A8: FÉVRIER | C8: 1 | D8: 2 | E8: 3 | F8: 4 | G8: 5 | H8: 6 | I8: 7 | J8: 8 | K8: 9 | L8: 10 | M8: 11 | N8: 12 | O8: 13 | P8: 14 | Q8: 15 | R8: 16 | S8: 17 | T8: 18 | U8: 19 | V8: 20 | W8: 21 | X8: 22 | Y8: 23 | Z8: 24 | AA8: 25 | AB8: 26 | AC8: 27 | AD8: 28 | AE8: 29
B9: Prévu | AH9: =SUM(C9:AG9) -> 0
B10: Note
A11: MARS | C11: 1 | D11: 2 | E11: 3 | F11: 4 | G11: 5 | H11: 6 | I11: 7 | J11: 8 | K11: 9 | L11: 10 | M11: 11 | N11: 12 | O11: 13 | P11: 14 | Q11: 15 | R11: 16 | S11: 17 | T11: 18 | U11: 19 | V11: 20 | W11: 21 | X11: 22 | Y11: 23 | Z11: 24 | AA11: 25 | AB11: 26 | AC11: 27 | AD11: 28 | AE11: 29 | AF11: 30 | AG11: 31
B12: Prévu | AD12: Pâques | AH12: =SUM(C12:AG12) -> 0
B13: Note
A14: AVRIL | C14: 1 | D14: 2 | E14: 3 | F14: 4 | G14: 5 | H14: 6 | I14: 7 | J14: 8 | K14: 9 | L14: 10 | M14: 11 | N14: 12 | O14: 13 | P14: 14 | Q14: 15 | R14: 16 | S14: 17 | T14: 18 | U14: 19 | V14: 20 | W14: 21 | X14: 22 | Y14: 23 | Z14: 24 | AA14: 25 | AB14: 26 | AC14: 27 | AD14: 28 | AE14: 29 | AF14: 30
B15: Prévu | C15: Pâques | AH15: =SUM(C15:AG15) -> 0
B16: Note
A17: MAI | C17: 1 | D17: 2 | E17: 3 | F17: 4 | G17: 5 | H17: 6 | I17: 7 | J17: 8 | K17: 9 | L17: 10 | M17: 11 | N17: 12 | O17: 13 | P17: 14 | Q17: 15 | R17: 16 | S17: 17 | T17: 18 | U17: 19 | V17: 20 | W17: 21 | X17: 22 | Y17: 23 | Z17: 24 | AA17: 25 | AB17: 26 | AC17: 27 | AD17: 28 | AE17: 29 | AF17: 30 | AG17: 31
B18: Prévu | G18: Ascension | AH18: =SUM(C18:AG18) -> 0
B19: Note
A20: JUIN | C20: 1 | D20: 2 | E20: 3 | F20: 4 | G20: 5 | H20: 6 | I20: 7 | J20: 8 | K20: 9 | L20: 10 | M20: 11 | N20: 12 | O20: 13 | P20: 14 | Q20: 15 | R20: 16 | S20: 17 | T20: 18 | U20: 19 | V20: 20 | W20: 21 | X20: 22 | Y20: 23 | Z20: 24 | AA20: 25 | AB20: 26 | AC20: 27 | AD20: 28 | AE20: 29 | AF20: 30
B21: Prévu | AH21: =SUM(C21:AG21) -> 0
B22: Note
A23: JUILLET | C23: 1 | D23: 2 | E23: 3 | F23: 4 | G23: 5 | H23: 6 | I23: 7 | J23: 8 | K23: 9 | L23: 10 | M23: 11 | N23: 12 | O23: 13 | P23: 14 | Q23: 15 | R23: 16 | S23: 17 | T23: 18 | U23: 19 | V23: 20 | W23: 21 | X23: 22 | Y23: 23 | Z23: 24 | AA23: 25 | AB23: 26 | AC23: 27 | AD23: 28 | AE23: 29 | AF23: 30 | AG23: 31
B24: Prévu | AH24: =SUM(C24:AG24) -> 0
B25: Note
A26: AOÛT | C26: 1 | D26: 2 | E26: 3 | F26: 4 | G26: 5 | H26: 6 | I26: 7 | J26: 8 | K26: 9 | L26: 10 | M26: 11 | N26: 12 | O26: 13 | P26: 14 | Q26: 15 | R26: 16 | S26: 17 | T26: 18 | U26: 19 | V26: 20 | W26: 21 | X26: 22 | Y26: 23 | Z26: 24 | AA26: 25 | AB26: 26 | AC26: 27 | AD26: 28 | AE26: 29 | AF26: 30 | AG26: 31
B27: Prévu | J27: Grandes vacances | Q27: Grandes vacances | X27: Grandes vacances | AE27: Grandes vacances | AH27: =SUM(C27:AG27) -> 0
B28: Note
A29: SEPTEMBRE | C29: 1 | D29: 2 | E29: 3 | F29: 4 | G29: 5 | H29: 6 | I29: 7 | J29: 8 | K29: 9 | L29: 10 | M29: 11 | N29: 12 | O29: 13 | P29: 14 | Q29: 15 | R29: 16 | S29: 17 | T29: 18 | U29: 19 | V29: 20 | W29: 21 | X29: 22 | Y29: 23 | Z29: 24 | AA29: 25 | AB29: 26 | AC29: 27 | AD29: 28 | AE29: 29 | AF29: 30
B30: Prévu | C30: Grandes vacances | AH30: =SUM(C30:AG30) -> 0
B31: Note
A32: OCTOBRE | C32: 1 | D32: 2 | E32: 3 | F32: 4 | G32: 5 | H32: 6 | I32: 7 | J32: 8 | K32: 9 | L32: 10 | M32: 11 | N32: 12 | O32: 13 | P32: 14 | Q32: 15 | R32: 16 | S32: 17 | T32: 18 | U32: 19 | V32: 20 | W32: 21 | X32: 22 | Y32: 23 | Z32: 24 | AA32: 25 | AB32: 26 | AC32: 27 | AD32: 28 | AE32: 29 | AF32: 30 | AG32: 31
B33: Prévu | F33: 1 | I33: 1 | M33: 1 | P33: 1 | T33: 1 | W33: 1 | AA33: 1 | AD33: 1 | AG33: Toussaint | AH33: =SUM(C33:AG33) -> 8
B34: Note
A35: NOVEMBRE | C35: 1 | D35: 2 | E35: 3 | F35: 4 | G35: 5 | H35: 6 | I35: 7 | J35: 8 | K35: 9 | L35: 10 | M35: 11 | N35: 12 | O35: 13 | P35: 14 | Q35: 15 | R35: 16 | S35: 17 | T35: 18 | U35: 19 | V35: 20 | W35: 21 | X35: 22 | Y35: 23 | Z35: 24 | AA35: 25 | AB35: 26 | AC35: 27 | AD35: 28 | AE35: 29 | AF35: 30
B36: Prévu | C36: Toussaint | J36: 1 | Q36: 1 | T36: 1 | X36: 1 | AA36: 1 | AE36: 1 | AH36: =SUM(C36:AG36) -> 6
B37: Note
A38: DÉCEMBRE | C38: 1 | D38: 2 | E38: 3 | F38: 4 | G38: 5 | H38: 6 | I38: 7 | J38: 8 | K38: 9 | L38: 10 | M38: 11 | N38: 12 | O38: 13 | P38: 14 | Q38: 15 | R38: 16 | S38: 17 | T38: 18 | U38: 19 | V38: 20 | W38: 21 | X38: 22 | Y38: 23 | Z38: 24 | AA38: 25 | AB38: 26 | AC38: 27 | AD38: 28 | AE38: 29 | AF38: 30 | AG38: 31
B39: Prévu | D39: 1 | H39: 1 | K39: 1 | O39: 1 | R39: 1 | V39: 1 | Y39: 1 | AB39: Noël - Nouvel An | AH39: =SUM(C39:AG39) -> 7
B40: Note
AD42: Présences annuelle: | AH42: =SUM(AH6,AH9,AH12,AH15,AH18,AH21,AH24,AH27,AH30,AH33,AH36,AH39) -> 21

Sheet Calendrier de base
AE2: Rentrées annuelles:
A3: 2016 | B3: Nom | J3: Tarif | R3: L | S3: M | U3: J | V3: V | X3: Mois de présence sur l'année: | AC3: 0 | AE3: =J3*AC3 -> #VALUE! | AH3: Total
A5: JANVIER | C5: 1 | D5: 2 | E5: 3 | F5: 4 | G5: 5 | H5: 6 | I5: 7 | J5: 8 | K5: 9 | L5: 10 | M5: 11 | N5: 12 | O5: 13 | P5: 14 | Q5: 15 | R5: 16 | S5: 17 | T5: 18 | U5: 19 | V5: 20 | W5: 21 | X5: 22 | Y5: 23 | Z5: 24 | AA5: 25 | AB5: 26 | AC5: 27 | AD5: 28 | AE5: 29 | AF5: 30 | AG5: 31
B6: Prévu | AH6: =SUM(C6:AG6) -> 0
B7: Note
A8: FÉVRIER | C8: 1 | D8: 2 | E8: 3 | F8: 4 | G8: 5 | H8: 6 | I8: 7 | J8: 8 | K8: 9 | L8: 10 | M8: 11 | N8: 12 | O8: 13 | P8: 14 | Q8: 15 | R8: 16 | S8: 17 | T8: 18 | U8: 19 | V8: 20 | W8: 21 | X8: 22 | Y8: 23 | Z8: 24 | AA8: 25 | AB8: 26 | AC8: 27 | AD8: 28 | AE8: 29
B9: Prévu | AH9: =SUM(C9:AG9) -> 0
B10: Note
A11: MARS | C11: 1 | D11: 2 | E11: 3 | F11: 4 | G11: 5 | H11: 6 | I11: 7 | J11: 8 | K11: 9 | L11: 10 | M11: 11 | N11: 12 | O11: 13 | P11: 14 | Q11: 15 | R11: 16 | S11: 17 | T11: 18 | U11: 19 | V11: 20 | W11: 21 | X11: 22 | Y11: 23 | Z11: 24 | AA11: 25 | AB11: 26 | AC11: 27 | AD11: 28 | AE11: 29 | AF11: 30 | AG11: 31
B12: Prévu | AD12: Pâques | AH12: =SUM(C12:AG12) -> 0
B13: Note
A14: AVRIL | C14: 1 | D14: 2 | E14: 3 | F14: 4 | G14: 5 | H14: 6 | I14: 7 | J14: 8 | K14: 9 | L14: 10 | M14: 11 | N14: 12 | O14: 13 | P14: 14 | Q14: 15 | R14: 16 | S14: 17 | T14: 18 | U14: 19 | V14: 20 | W14: 21 | X14: 22 | Y14: 23 | Z14: 24 | AA14: 25 | AB14: 26 | AC14: 27 | AD14: 28 | AE14: 29 | AF14: 30
B15: Prévu | C15: Pâques | AH15: =SUM(C15:AG15) -> 0
B16: Note
A17: MAI | C17: 1 | D17: 2 | E17: 3 | F17: 4 | G17: 5 | H17: 6 | I17: 7 | J17: 8 | K17: 9 | L17: 10 | M17: 11 | N17: 12 | O17: 13 | P17: 14 | Q17: 15 | R17: 16 | S17: 17 | T17: 18 | U17: 19 | V17: 20 | W17: 21 | X17: 22 | Y17: 23 | Z17: 24 | AA17: 25 | AB17: 26 | AC17: 27 | AD17: 28 | AE17: 29 | AF17: 30 | AG17: 31
B18: Prévu | G18: Ascension | AH18: =SUM(C18:AG18) -> 0
B19: Note
A20: JUIN | C20: 1 | D20: 2 | E20: 3 | F20: 4 | G20: 5 | H20: 6 | I20: 7 | J20: 8 | K20: 9 | L20: 10 | M20: 11 | N20: 12 | O20: 13 | P20: 14 | Q20: 15 | R20: 16 | S20: 17 | T20: 18 | U20: 19 | V20: 20 | W20: 21 | X20: 22 | Y20: 23 | Z20: 24 | AA20: 25 | AB20: 26 | AC20: 27 | AD20: 28 | AE20: 29 | AF20: 30
B21: Prévu | AH21: =SUM(C21:AG21) -> 0
B22: Note
A23: JUILLET | C23: 1 | D23: 2 | E23: 3 | F23: 4 | G23: 5 | H23: 6 | I23: 7 | J23: 8 | K23: 9 | L23: 10 | M23: 11 | N23: 12 | O23: 13 | P23: 14 | Q23: 15 | R23: 16 | S23: 17 | T23: 18 | U23: 19 | V23: 20 | W23: 21 | X23: 22 | Y23: 23 | Z23: 24 | AA23: 25 | AB23: 26 | AC23: 27 | AD23: 28 | AE23: 29 | AF23: 30 | AG23: 31
B24: Prévu | AH24: =SUM(C24:AG24) -> 0
B25: Note
A26: AOÛT | C26: 1 | D26: 2 | E26: 3 | F26: 4 | G26: 5 | H26: 6 | I26: 7 | J26: 8 | K26: 9 | L26: 10 | M26: 11 | N26: 12 | O26: 13 | P26: 14 | Q26: 15 | R26: 16 | S26: 17 | T26: 18 | U26: 19 | V26: 20 | W26: 21 | X26: 22 | Y26: 23 | Z26: 24 | AA26: 25 | AB26: 26 | AC26: 27 | AD26: 28 | AE26: 29 | AF26: 30 | AG26: 31
B27: Prévu | J27: Grandes vacances | Q27: Grandes vacances | X27: Grandes vacances | AE27: Grandes vacances | AH27: =SUM(C27:AG27) -> 0
B28: Note
A29: SEPTEMBRE | C29: 1 | D29: 2 | E29: 3 | F29: 4 | G29: 5 | H29: 6 | I29: 7 | J29: 8 | K29: 9 | L29: 10 | M29: 11 | N29: 12 | O29: 13 | P29: 14 | Q29: 15 | R29: 16 | S29: 17 | T29: 18 | U29: 19 | V29: 20 | W29: 21 | X29: 22 | Y29: 23 | Z29: 24 | AA29: 25 | AB29: 26 | AC29: 27 | AD29: 28 | AE29: 29 | AF29: 30
B30: Prévu | C30: Grandes vacances | AH30: =SUM(C30:AG30) -> 0
B31: Note
A32: OCTOBRE | C32: 1 | D32: 2 | E32: 3 | F32: 4 | G32: 5 | H32: 6 | I32: 7 | J32: 8 | K32: 9 | L32: 10 | M32: 11 | N32: 12 | O32: 13 | P32: 14 | Q32: 15 | R32: 16 | S32: 17 | T32: 18 | U32: 19 | V32: 20 | W32: 21 | X32: 22 | Y32: 23 | Z32: 24 | AA32: 25 | AB32: 26 | AC32: 27 | AD32: 28 | AE32: 29 | AF32: 30 | AG32: 31
B33: Prévu | AG33: Toussaint | AH33: =SUM(C33:AG33) -> 0
B34: Note
A35: NOVEMBRE | C35: 1 | D35: 2 | E35: 3 | F35: 4 | G35: 5 | H35: 6 | I35: 7 | J35: 8 | K35: 9 | L35: 10 | M35: 11 | N35: 12 | O35: 13 | P35: 14 | Q35: 15 | R35: 16 | S35: 17 | T35: 18 | U35: 19 | V35: 20 | W35: 21 | X35: 22 | Y35: 23 | Z35: 24 | AA35: 25 | AB35: 26 | AC35: 27 | AD35: 28 | AE35: 29 | AF35: 30
B36: Prévu | C36: Toussaint | AH36: =SUM(C36:AG36) -> 0
B37: Note
A38: DÉCEMBRE | C38: 1 | D38: 2 | E38: 3 | F38: 4 | G38: 5 | H38: 6 | I38: 7 | J38: 8 | K38: 9 | L38: 10 | M38: 11 | N38: 12 | O38: 13 | P38: 14 | Q38: 15 | R38: 16 | S38: 17 | T38: 18 | U38: 19 | V38: 20 | W38: 21 | X38: 22 | Y38: 23 | Z38: 24 | AA38: 25 | AB38: 26 | AC38: 27 | AD38: 28 | AE38: 29 | AF38: 30 | AG38: 31
B39: Prévu | AB39: Noël - Nouvel An | AH39: =SUM(C39:AG39) -> 0
B40: Note
AD42: Présences annuelle: | AH42: =SUM(AH6,AH9,AH12,AH15,AH18,AH21,AH24,AH27,AH30,AH33,AH36,AH39) -> 0
