Workbook

Sheet Planning
A1: RESERVATIONS | C1: =C2 -> 40971.375 | X1: =X2 -> 40972.375 | AS1: =AS2 -> 40973.375 | BN1: =BN2 -> 40974.375 | CI1: =CI2 -> 40975.375 | DD1: =DD2 -> 40976.375 | DY1: =DY2 -> 40977.375 | ET1: =ET2 -> 40978.375 | FO1: =FO2 -> 40979.375 | GJ1: =GJ2 -> 40980.375 | HE1: =HE2 -> 40981.375 | HZ1: =HZ2 -> 40982.375 | IU1: =IU2 -> 40983.375
C2: 40971.375 | D2: 40971.396 | E2: 40971.417 | F2: 40971.438 | G2: 40971.458 | H2: 40971.479 | I2: 40971.5 | J2: 40971.521 | K2: 40971.542 | L2: 40971.562 | M2: 40971.583 | N2: 40971.604 | O2: 40971.625 | P2: 40971.646 | Q2: 40971.667 | R2: 40971.688 | S2: 40971.708 | T2: 40971.729 | U2: 40971.75 | V2: 40971.771 | X2: 40972.375 | Y2: 40972.396 | Z2: 40972.417 | AA2: 40972.438 | AB2: 40972.458 | AC2: 40972.479 | AD2: 40972.5 | AE2: 40972.521 | AF2: 40972.542 | AG2: 40972.562 | AH2: 40972.583 | AI2: 40972.604 | AJ2: 40972.625 | AK2: 40972.646 | AL2: 40972.667 | AM2: 40972.688 | AN2: 40972.708 | AO2: 40972.729 | AP2: 40972.75 | AQ2: 40972.771 | AS2: 40973.375 | AT2: 40973.396 | AU2: 40973.417 | AV2: 40973.438 | AW2: 40973.458 | AX2: 40973.479 | AY2: 40973.5 | AZ2: 40973.521 | BA2: 40973.542 | BB2: 40973.562 | BC2: 40973.583 | BD2: 40973.604 | BE2: 40973.625 | BF2: 40973.646 | BG2: 40973.667 | BH2: 40973.688 | BI2: 40973.708 | BJ2: 40973.729 | BK2: 40973.75 | BL2: 40973.771 | BN2: 40974.375 | BO2: 40974.396 | BP2: 40974.417 | BQ2: 40974.438 | BR2: 40974.458 | BS2: 40974.479 | BT2: 40974.5 | BU2: 40974.521 | BV2: 40974.542 | BW2: 40974.562 | BX2: 40974.583 | BY2: 40974.604 | BZ2: 40974.625 | CA2: 40974.646 | CB2: 40974.667 | CC2: 40974.688 | CD2: 40974.708 | CE2: 40974.729 | CF2: 40974.75 | CG2: 40974.771 | CI2: 40975.375 | CJ2: 40975.396 | CK2: 40975.417 | CL2: 40975.438 | CM2: 40975.458 | CN2: 40975.479 | CO2: 40975.5 | CP2: 40975.521 | CQ2: 40975.542 | CR2: 40975.562 | CS2: 40975.583 | CT2: 40975.604 | CU2: 40975.625 | CV2: 40975.646 | CW2: 40975.667 | CX2: 40975.688 | CY2: 40975.708 | CZ2: 40975.729 | DA2: 40975.75 | DB2: 40975.771 | DD2: 40976.375 | DE2: 40976.396 | DF2: 40976.417 | DG2: 40976.438 | DH2: 40976.458 | DI2: 40976.479 | DJ2: 40976.5 | DK2: 40976.521 | DL2: 40976.542 | DM2: 40976.562 | DN2: 40976.583 | DO2: 40976.604 | DP2: 40976.625 | DQ2: 40976.646 | DR2: 40976.667 | DS2: 40976.688 | DT2: 40976.708 | DU2: 40976.729 | DV2: 40976.75 | DW2: 40976.771 | DY2: 40977.375 | DZ2: 40977.396 | EA2: 40977.417 | EB2: 40977.438 | EC2: 40977.458 | ED2: 40977.479 | EE2: 40977.5 | EF2: 40977.521 | EG2: 40977.542 | EH2: 40977.562 | EI2: 40977.583 | EJ2: 40977.604 | EK2: 40977.625 | EL2: 40977.646 | EM2: 40977.667 | EN2: 40977.688 | EO2: 40977.708 | EP2: 40977.729 | EQ2: 40977.75 | ER2: 40977.771 | ET2: 40978.375 | EU2: 40978.396 | EV2: 40978.417 | EW2: 40978.438 | EX2: 40978.458 | EY2: 40978.479 | EZ2: 40978.5 | FA2: 40978.521 | FB2: 40978.542 | FC2: 40978.562 | FD2: 40978.583 | FE2: 40978.604 | FF2: 40978.625 | FG2: 40978.646 | FH2: 40978.667 | FI2: 40978.688 | FJ2: 40978.708 | FK2: 40978.729 | FL2: 40978.75 | FM2: 40978.771 | FO2: 40979.375 | FP2: 40979.396 | FQ2: 40979.417 | FR2: 40979.438 | FS2: 40979.458 | FT2: 40979.479 | FU2: 40979.5 | FV2: 40979.521 | FW2: 40979.542 | FX2: 40979.562 | FY2: 40979.583 | FZ2: 40979.604 | GA2: 40979.625 | GB2: 40979.646 | GC2: 40979.667 | GD2: 40979.688 | GE2: 40979.708 | GF2: 40979.729 | GG2: 40979.75 | GH2: 40979.771 | GJ2: 40980.375 | GK2: 40980.396 | GL2: 40980.417 | GM2: 40980.438 | GN2: 40980.458 | GO2: 40980.479 | GP2: 40980.5 | GQ2: 40980.521 | GR2: 40980.542 | GS2: 40980.562 | GT2: 40980.583 | GU2: 40980.604 | GV2: 40980.625 | GW2: 40980.646 | GX2: 40980.667 | GY2: 40980.688 | GZ2: 40980.708 | HA2: 40980.729 | HB2: 40980.75 | HC2: 40980.771 | HE2: 40981.375 | HF2: 40981.396 | HG2: 40981.417 | HH2: 40981.438 | HI2: 40981.458 | HJ2: 40981.479 | HK2: 40981.5 | HL2: 40981.521 | HM2: 40981.542 | HN2: 40981.562 | HO2: 40981.583 | HP2: 40981.604 | HQ2: 40981.625 | HR2: 40981.646 | HS2: 40981.667 | HT2: 40981.688 | HU2: 40981.708 | HV2: 40981.729 | HW2: 40981.75 | HX2: 40981.771 | HZ2: 40982.375 | IA2: 40982.396 | IB2: 40982.417 | IC2: 40982.438 | ID2: 40982.458 | IE2: 40982.479 | IF2: 40982.5 | IG2: 40982.521 | IH2: 40982.542 | II2: 40982.562 | IJ2: 40982.583 | IK2: 40982.604 | IL2: 40982.625 | IM2: 40982.646 | IN2: 40982.667 | IO2: 40982.688 | IP2: 40982.708 | IQ2: 40982.729 | IR2: 40982.75 | IS2: 40982.771 | IU2: 40983.375 | IV2: 40983.396 | IW2: 40983.417 | IX2: 40983.438 | IY2: 40983.458 | IZ2: 40983.479 | JA2: 40983.5 | JB2: 40983.521 | JC2: 40983.542 | JD2: 40983.562 | JE2: 40983.583 | JF2: 40983.604 | JG2: 40983.625 | JH2: 40983.646 | JI2: 40983.667 | JJ2: 40983.688 | JK2: 40983.708 | JL2: 40983.729 | JM2: 40983.75 | JN2: 40983.771
A3: S3W52LC150727001 | C3: {=REPT("n",SUMPRODUCT((INDIRECT("Réservation!$e$2:$n$"&COUNTA(Réservation!$E:$E))=$A3)*(INDIRECT("Réservation!$h$2:$h$"&COUNTA(Réservation!$E:$E))<=C$2)*(INDIRECT("Réservation!$i$2:$i$"&COUNTA(Réservation!$E:$E))>=C$2)))} | D3: {=REPT("n",SUMPRODUCT((INDIRECT("Réservation!$e$2:$n$"&COUNTA(Réservation!$E:$E))=$A3)*(INDIRECT("Réservation!$h$2:$h$"&COUNTA(Réservation!$E:$E))<=D$2)*(INDIRECT("Réservation!$i$2:$i$"&COUNTA(Réservation!$E:$E))>=D$2)))} | E3: {=REPT("n",SUMPRODUCT((INDIRECT("Réservation!$e$2:$n$"&COUNTA(Réservation!$E:$E))=$A3)*(INDIRECT("Réservation!$h$2:$h$"&COUNTA(Réservation!$E:$E))<=E$2)*(INDIRECT("Réservation!$i$2:$i$"&COUNTA(Réservation!$E:$E))>=E$2)))} | F3: {=REPT("n",SUMPRODUCT((INDIRECT("Réservation!$e$2:$n$"&COUNTA(Réservation!$E:$E))=$A3)*(INDIRECT("Réservation!$h$2:$h$"&COUNTA(Réservation!$E:$E))<=F$2)*(INDIRECT("Réservation!$i$2:$i$"&COUNTA(Réservation!$E:$E))>=F$2)))} | G3: {=REPT("n",SUMPRODUCT((INDIRECT("Réservation!$e$2:$n$"&COUNTA(Réservation!$E:$E))=$A3)*(INDIRECT("Réservation!$h$2:$h$"&COUNTA(Réservation!$E:$E))<=G$2)*(INDIRECT("Réservation!$i$2:$i$"&COUNTA(Réservation!$E:$E))>=G$2)))} | H3: {=REPT("n",SUMPRODUCT((INDIRECT("Réservation!$e$2:$n$"&COUNTA(Réservation!$E:$E))=$A3)*(INDIRECT("Réservation!$h$2:$h$"&COUNTA(Réservation!$E:$E))<=H$2)*(INDIRECT("Réservation!$i$2:$i$"&COUNTA(Réservation!$E:$E))>=H$2)))} | I3: {=REPT("n",SUMPRODUCT((INDIRECT("Réservation!$e$2:$n$"&COUNTA(Réservation!$E:$E))=$A3)*(INDIRECT("Réservation!$h$2:$h$"&COUNTA(Réservation!$E:$E))<=I$2)*(INDIRECT("Réservation!$i$2:$i$"&COUNTA(Réservation!$E:$E))>=I$2)))} | J3: {=REPT("n",SUMPRODUCT((INDIRECT("Réservation!$e$2:$n$"&COUNTA(Réservation!$E:$E))=$A3)*(INDIRECT("Réservation!$h$2:$h$"&COUNTA(Réservation!$E:$E))<=J$2)*(INDIRECT("Réservation!$i$2:$i$"&COUNTA(Réservation!$E:$E))>=J$2)))} | ... V3: {=REPT("n",SUMPRODUCT((INDIRECT("Réservation!$e$2:$n$"&COUNTA(Réservation!$E:$E))=$A3)*(INDIRECT("Réservation!$h$2:$h$"&COUNTA(Réservation!$E:$E))<=V$2)*(INDIRECT("Réservation!$i$2:$i$"&COUNTA(Réservation!$E:$E))>=V$2)))} | X3: {=REPT("n",SUMPRODUCT((INDIRECT("Réservation!$e$2:$n$"&COUNTA(Réservation!$E:$E))=$A3)*(INDIRECT("Réservation!$h$2:$h$"&COUNTA(Réservation!$E:$E))<=X$2)*(INDIRECT("Réservation!$i$2:$i$"&COUNTA(Réservation!$E:$E))>=X$2)))} | Y3: {=REPT("n",SUMPRODUCT((INDIRECT("Réservation!$e$2:$n$"&COUNTA(Réservation!$E:$E))=$A3)*(INDIRECT("Réservation!$h$2:$h$"&COUNTA(Réservation!$E:$E))<=Y$2)*(INDIRECT("Réservation!$i$2:$i$"&COUNTA(Réservation!$E:$E))>=Y$2)))} | Z3: {=REPT("n",SUMPRODUCT((INDIRECT("Réservation!$e$2:$n$"&COUNTA(Réservation!$E:$E))=$A3)*(INDIRECT("Réservation!$h$2:$h$"&COUNTA(Réservation!$E:$E))<=Z$2)*(INDIRECT("Réservation!$i$2:$i$"&COUNTA(Réservation!$E:$E))>=Z$2)))} | AA3: {=REPT("n",SUMPRODUCT((INDIRECT("Réservation!$e$2:$n$"&COUNTA(Réservation!$E:$E))=$A3)*(INDIRECT("Réservation!$h$2:$h$"&COUNTA(Réservation!$E:$E))<=AA$2)*(INDIRECT("Réservation!$i$2:$i$"&COUNTA(Réservation!$E:$E))>=AA$2)))} | AB3: {=REPT("n",SUMPRODUCT((INDIRECT("Réservation!$e$2:$n$"&COUNTA(Réservation!$E:$E))=$A3)*(INDIRECT("Réservation!$h$2:$h$"&COUNTA(Réservation!$E:$E))<=AB$2)*(INDIRECT("Réservation!$i$2:$i$"&COUNTA(Réservation!$E:$E))>=AB$2)))} | AC3: {=REPT("n",SUMPRODUCT((INDIRECT("Réservation!$e$2:$n$"&COUNTA(Réservation!$E:$E))=$A3)*(INDIRECT("Réservation!$h$2:$h$"&COUNTA(Réservation!$E:$E))<=AC$2)*(INDIRECT("Réservation!$i$2:$i$"&COUNTA(Réservation!$E:$E))>=AC$2)))} | AD3: {=REPT("n",SUMPRODUCT((INDIRECT("Réservation!$e$2:$n$"&COUNTA(Réservation!$E:$E))=$A3)*(INDIRECT("Réservation!$h$2:$h$"&COUNTA(Réservation!$E:$E))<=AD$2)*(INDIRECT("Réservation!$i$2:$i$"&COUNTA(Réservation!$E:$E))>=AD$2)))} | AE3: {=REPT("n",SUMPRODUCT((INDIRECT("Réservation!$e$2:$n$"&COUNTA(Réservation!$E:$E))=$A3)*(INDIRECT("Réservation!$h$2:$h$"&COUNTA(Réservation!$E:$E))<=AE$2)*(INDIRECT("Réservation!$i$2:$i$"&COUNTA(Réservation!$E:$E))>=AE$2)))} | ... AQ3: {=REPT("n",SUMPRODUCT((INDIRECT("Réservation!$e$2:$n$"&COUNTA(Réservation!$E:$E))=$A3)*(INDIRECT("Réservation!$h$2:$h$"&COUNTA(Réservation!$E:$E))<=AQ$2)*(INDIRECT("Réservation!$i$2:$i$"&COUNTA(Réservation!$E:$E))>=AQ$2)))} | AS3: {=REPT("n",SUMPRODUCT((INDIRECT("Réservation!$e$2:$n$"&COUNTA(Réservation!$E:$E))=$A3)*(INDIRECT("Réservation!$h$2:$h$"&COUNTA(Réservation!$E:$E))<=AS$2)*(INDIRECT("Réservation!$i$2:$i$"&COUNTA(Réservation!$E:$E))>=AS$2)))} | AT3: {=REPT("n",SUMPRODUCT((INDIRECT("Réservation!$e$2:$n$"&COUNTA(Réservation!$E:$E))=$A3)*(INDIRECT("Réservation!$h$2:$h$"&COUNTA(Réservation!$E:$E))<=AT$2)*(INDIRECT("Réservation!$i$2:$i$"&COUNTA(Réservation!$E:$E))>=AT$2)))} | AU3: {=REPT("n",SUMPRODUCT((INDIRECT("Réservation!$e$2:$n$"&COUNTA(Réservation!$E:$E))=$A3)*(INDIRECT("Réservation!$h$2:$h$"&COUNTA(Réservation!$E:$E))<=AU$2)*(INDIRECT("Réservation!$i$2:$i$"&COUNTA(Réservation!$E:$E))>=AU$2)))} | AV3: {=REPT("n",SUMPRODUCT((INDIRECT("Réservation!$e$2:$n$"&COUNTA(Réservation!$E:$E))=$A3)*(INDIRECT("Réservation!$h$2:$h$"&COUNTA(Réservation!$E:$E))<=AV$2)*(INDIRECT("Réservation!$i$2:$i$"&COUNTA(Réservation!$E:$E))>=AV$2)))} | AW3: {=REPT("n",SUMPRODUCT((INDIRECT("Réservation!$e$2:$n$"&COUNTA(Réservation!$E:$E))=$A3)*(INDIRECT("Réservation!$h$2:$h$"&COUNTA(Réservation!$E:$E))<=AW$2)*(INDIRECT("Réservation!$i$2:$i$"&COUNTA(Réservation!$E:$E))>=AW$2)))} | AX3: {=REPT("n",SUMPRODUCT((INDIRECT("Réservation!$e$2:$n$"&COUNTA(Réservation!$E:$E))=$A3)*(INDIRECT("Réservation!$h$2:$h$"&COUNTA(Réservation!$E:$E))<=AX$2)*(INDIRECT("Réservation!$i$2:$i$"&COUNTA(Réservation!$E:$E))>=AX$2)))} | AY3: {=REPT("n",SUMPRODUCT((INDIRECT("Réservation!$e$2:$n$"&COUNTA(Réservation!$E:$E))=$A3)*(INDIRECT("Réservation!$h$2:$h$"&COUNTA(Réservation!$E:$E))<=AY$2)*(INDIRECT("Réservation!$i$2:$i$"&COUNTA(Réservation!$E:$E))>=AY$2)))} | AZ3: {=REPT("n",SUMPRODUCT((INDIRECT("Réservation!$e$2:$n$"&COUNTA(Réservation!$E:$E))=$A3)*(INDIRECT("Réservation!$h$2:$h$"&COUNTA(Réservation!$E:$E))<=AZ$2)*(INDIRECT("Réservation!$i$2:$i$"&COUNTA(Réservation!$E:$E))>=AZ$2)))} | ... BL3: {=REPT("n",SUMPRODUCT((INDIRECT("Réservation!$e$2:$n$"&COUNTA(Réservation!$E:$E))=$A3)*(INDIRECT("Réservation!$h$2:$h$"&COUNTA(Réservation!$E:$E))<=BL$2)*(INDIRECT("Réservation!$i$2:$i$"&COUNTA(Réservation!$E:$E))>=BL$2)))} | BN3: {=REPT("n",SUMPRODUCT((INDIRECT("Réservation!$e$2:$n$"&COUNTA(Réservation!$E:$E))=$A3)*(INDIRECT("Réservation!$h$2:$h$"&COUNTA(Réservation!$E:$E))<=BN$2)*(INDIRECT("Réservation!$i$2:$i$"&COUNTA(Réservation!$E:$E))>=BN$2)))} | BO3: {=REPT("n",SUMPRODUCT((INDIRECT("Réservation!$e$2:$n$"&COUNTA(Réservation!$E:$E))=$A3)*(INDIRECT("Réservation!$h$2:$h$"&COUNTA(Réservation!$E:$E))<=BO$2)*(INDIRECT("Réservation!$i$2:$i$"&COUNTA(Réservation!$E:$E))>=BO$2)))} | BP3: {=REPT("n",SUMPRODUCT((INDIRECT("Réservation!$e$2:$n$"&COUNTA(Réservation!$E:$E))=$A3)*(INDIRECT("Réservation!$h$2:$h$"&COUNTA(Réservation!$E:$E))<=BP$2)*(INDIRECT("Réservation!$i$2:$i$"&COUNTA(Réservation!$E:$E))>=BP$2)))} | BQ3: {=REPT("n",SUMPRODUCT((INDIRECT("Réservation!$e$2:$n$"&COUNTA(Réservation!$E:$E))=$A3)*(INDIRECT("Réservation!$h$2:$h$"&COUNTA(Réservation!$E:$E))<=BQ$2)*(INDIRECT("Réservation!$i$2:$i$"&COUNTA(Réservation!$E:$E))>=BQ$2)))} | BR3: {=REPT("n",SUMPRODUCT((INDIRECT("Réservation!$e$2:$n$"&COUNTA(Réservation!$E:$E))=$A3)*(INDIRECT("Réservation!$h$2:$h$"&COUNTA(Réservation!$E:$E))<=BR$2)*(INDIRECT("Réservation!$i$2:$i$"&COUNTA(Réservation!$E:$E))>=BR$2)))} | BS3: {=REPT("n",SUMPRODUCT((INDIRECT("Réservation!$e$2:$n$"&COUNTA(Réservation!$E:$E))=$A3)*(INDIRECT("Réservation!$h$2:$h$"&COUNTA(Réservation!$E:$E))<=BS$2)*(INDIRECT("Réservation!$i$2:$i$"&COUNTA(Réservation!$E:$E))>=BS$2)))} | BT3: {=REPT("n",SUMPRODUCT((INDIRECT("Réservation!$e$2:$n$"&COUNTA(Réservation!$E:$E))=$A3)*(INDIRECT("Réservation!$h$2:$h$"&COUNTA(Réservation!$E:$E))<=BT$2)*(INDIRECT("Réservation!$i$2:$i$"&COUNTA(Réservation!$E:$E))>=BT$2)))} | BU3: {=REPT("n",SUMPRODUCT((INDIRECT("Réservation!$e$2:$n$"&COUNTA(Réservation!$E:$E))=$A3)*(INDIRECT("Réservation!$h$2:$h$"&COUNTA(Réservation!$E:$E))<=BU$2)*(INDIRECT("Réservation!$i$2:$i$"&COUNTA(Réservation!$E:$E))>=BU$2)))} | ... CG3: {=REPT("n",SUMPRODUCT((INDIRECT("Réservation!$e$2:$n$"&COUNTA(Réservation!$E:$E))=$A3)*(INDIRECT("Réservation!$h$2:$h$"&COUNTA(Réservation!$E:$E))<=CG$2)*(INDIRECT("Réservation!$i$2:$i$"&COUNTA(Réservation!$E:$E))>=CG$2)))} | CI3: {=REPT("n",SUMPRODUCT((INDIRECT("Réservation!$e$2:$n$"&COUNTA(Réservation!$E:$E))=$A3)*(INDIRECT("Réservation!$h$2:$h$"&COUNTA(Réservation!$E:$E))<=CI$2)*(INDIRECT("Réservation!$i$2:$i$"&COUNTA(Réservation!$E:$E))>=CI$2)))} | CJ3: {=REPT("n",SUMPRODUCT((INDIRECT("Réservation!$e$2:$n$"&COUNTA(Réservation!$E:$E))=$A3)*(INDIRECT("Réservation!$h$2:$h$"&COUNTA(Réservation!$E:$E))<=CJ$2)*(INDIRECT("Réservation!$i$2:$i$"&COUNTA(Réservation!$E:$E))>=CJ$2)))} | CK3: {=REPT("n",SUMPRODUCT((INDIRECT("Réservation!$e$2:$n$"&COUNTA(Réservation!$E:$E))=$A3)*(INDIRECT("Réservation!$h$2:$h$"&COUNTA(Réservation!$E:$E))<=CK$2)*(INDIRECT("Réservation!$i$2:$i$"&COUNTA(Réservation!$E:$E))>=CK$2)))} | CL3: {=REPT("n",SUMPRODUCT((INDIRECT("Réservation!$e$2:$n$"&COUNTA(Réservation!$E:$E))=$A3)*(INDIRECT("Réservation!$h$2:$h$"&COUNTA(Réservation!$E:$E))<=CL$2)*(INDIRECT("Réservation!$i$2:$i$"&COUNTA(Réservation!$E:$E))>=CL$2)))} | CM3: {=REPT("n",SUMPRODUCT((INDIRECT("Réservation!$e$2:$n$"&COUNTA(Réservation!$E:$E))=$A3)*(INDIRECT("Réservation!$h$2:$h$"&COUNTA(Réservation!$E:$E))<=CM$2)*(INDIRECT("Réservation!$i$2:$i$"&COUNTA(Réservation!$E:$E))>=CM$2)))} | CN3: {=REPT("n",SUMPRODUCT((INDIRECT("Réservation!$e$2:$n$"&COUNTA(Réservation!$E:$E))=$A3)*(INDIRECT("Réservation!$h$2:$h$"&COUNTA(Réservation!$E:$E))<=CN$2)*(INDIRECT("Réservation!$i$2:$i$"&COUNTA(Réservation!$E:$E))>=CN$2)))} | CO3: {=REPT("n",SUMPRODUCT((INDIRECT("Réservation!$e$2:$n$"&COUNTA(Réservation!$E:$E))=$A3)*(INDIRECT("Réservation!$h$2:$h$"&COUNTA(Réservation!$E:$E))<=CO$2)*(INDIRECT("Réservation!$i$2:$i$"&COUNTA(Réservation!$E:$E))>=CO$2)))} | CP3: {=REPT("n",SUMPRODUCT((INDIRECT("Réservation!$e$2:$n$"&COUNTA(Réservation!$E:$E))=$A3)*(INDIRECT("Réservation!$h$2:$h$"&COUNTA(Réservation!$E:$E))<=CP$2)*(INDIRECT("Réservation!$i$2:$i$"&COUNTA(Réservation!$E:$E))>=CP$2)))} | ... DB3: {=REPT("n",SUMPRODUCT((INDIRECT("Réservation!$e$2:$n$"&COUNTA(Réservation!$E:$E))=$A3)*(INDIRECT("Réservation!$h$2:$h$"&COUNTA(Réservation!$E:$E))<=DB$2)*(INDIRECT("Réservation!$i$2:$i$"&COUNTA(Réservation!$E:$E))>=DB$2)))} | DD3: {=REPT("n",SUMPRODUCT((INDIRECT("Réservation!$e$2:$n$"&COUNTA(Réservation!$E:$E))=$A3)*(INDIRECT("Réservation!$h$2:$h$"&COUNTA(Réservation!$E:$E))<=DD$2)*(INDIRECT("Réservation!$i$2:$i$"&COUNTA(Réservation!$E:$E))>=DD$2)))} | DE3: {=REPT("n",SUMPRODUCT((INDIRECT("Réservation!$e$2:$n$"&COUNTA(Réservation!$E:$E))=$A3)*(INDIRECT("Réservation!$h$2:$h$"&COUNTA(Réservation!$E:$E))<=DE$2)*(INDIRECT("Réservation!$i$2:$i$"&COUNTA(Réservation!$E:$E))>=DE$2)))} | DF3: {=REPT("n",SUMPRODUCT((INDIRECT("Réservation!$e$2:$n$"&COUNTA(Réservation!$E:$E))=$A3)*(INDIRECT("Réservation!$h$2:$h$"&COUNTA(Réservation!$E:$E))<=DF$2)*(INDIRECT("Réservation!$i$2:$i$"&COUNTA(Réservation!$E:$E))>=DF$2)))} | DG3: {=REPT("n",SUMPRODUCT((INDIRECT("Réservation!$e$2:$n$"&COUNTA(Réservation!$E:$E))=$A3)*(INDIRECT("Réservation!$h$2:$h$"&COUNTA(Réservation!$E:$E))<=DG$2)*(INDIRECT("Réservation!$i$2:$i$"&COUNTA(Réservation!$E:$E))>=DG$2)))} | DH3: {=REPT("n",SUMPRODUCT((INDIRECT("Réservation!$e$2:$n$"&COUNTA(Réservation!$E:$E))=$A3)*(INDIRECT("Réservation!$h$2:$h$"&COUNTA(Réservation!$E:$E))<=DH$2)*(INDIRECT("Réservation!$i$2:$i$"&COUNTA(Réservation!$E:$E))>=DH$2)))} | DI3: {=REPT("n",SUMPRODUCT((INDIRECT("Réservation!$e$2:$n$"&COUNTA(Réservation!$E:$E))=$A3)*(INDIRECT("Réservation!$h$2:$h$"&COUNTA(Réservation!$E:$E))<=DI$2)*(INDIRECT("Réservation!$i$2:$i$"&COUNTA(Réservation!$E:$E))>=DI$2)))} | DJ3: {=REPT("n",SUMPRODUCT((INDIRECT("Réservation!$e$2:$n$"&COUNTA(Réservation!$E:$E))=$A3)*(INDIRECT("Réservation!$h$2:$h$"&COUNTA(Réservation!$E:$E))<=DJ$2)*(INDIRECT("Réservation!$i$2:$i$"&COUNTA(Réservation!$E:$E))>=DJ$2)))} | DK3: {=REPT("n",SUMPRODUCT((INDIRECT("Réservation!$e$2:$n$"&COUNTA(Réservation!$E:$E))=$A3)*(INDIRECT("Réservation!$h$2:$h$"&COUNTA(Réservation!$E:$E))<=DK$2)*(INDIRECT("Réservation!$i$2:$i$"&COUNTA(Réservation!$E:$E))>=DK$2)))} | ... DW3: {=REPT("n",SUMPRODUCT((INDIRECT("Réservation!$e$2:$n$"&COUNTA(Réservation!$E:$E))=$A3)*(INDIRECT("Réservation!$h$2:$h$"&COUNTA(Réservation!$E:$E))<=DW$2)*(INDIRECT("Réservation!$i$2:$i$"&COUNTA(Réservation!$E:$E))>=DW$2)))} | DY3: {=REPT("n",SUMPRODUCT((INDIRECT("Réservation!$e$2:$n$"&COUNTA(Réservation!$E:$E))=$A3)*(INDIRECT("Réservation!$h$2:$h$"&COUNTA(Réservation!$E:$E))<=DY$2)*(INDIRECT("Réservation!$i$2:$i$"&COUNTA(Réservation!$E:$E))>=DY$2)))} | DZ3: {=REPT("n",SUMPRODUCT((INDIRECT("Réservation!$e$2:$n$"&COUNTA(Réservation!$E:$E))=$A3)*(INDIRECT("Réservation!$h$2:$h$"&COUNTA(Réservation!$E:$E))<=DZ$2)*(INDIRECT("Réservation!$i$2:$i$"&COUNTA(Réservation!$E:$E))>=DZ$2)))} | EA3: {=REPT("n",SUMPRODUCT((INDIRECT("Réservation!$e$2:$n$"&COUNTA(Réservation!$E:$E))=$A3)*(INDIRECT("Réservation!$h$2:$h$"&COUNTA(Réservation!$E:$E))<=EA$2)*(INDIRECT("Réservation!$i$2:$i$"&COUNTA(Réservation!$E:$E))>=EA$2)))} | EB3: {=REPT("n",SUMPRODUCT((INDIRECT("Réservation!$e$2:$n$"&COUNTA(Réservation!$E:$E))=$A3)*(INDIRECT("Réservation!$h$2:$h$"&COUNTA(Réservation!$E:$E))<=EB$2)*(INDIRECT("Réservation!$i$2:$i$"&COUNTA(Réservation!$E:$E))>=EB$2)))} | EC3: {=REPT("n",SUMPRODUCT((INDIRECT("Réservation!$e$2:$n$"&COUNTA(Réservation!$E:$E))=$A3)*(INDIRECT("Réservation!$h$2:$h$"&COUNTA(Réservation!$E:$E))<=EC$2)*(INDIRECT("Réservation!$i$2:$i$"&COUNTA(Réservation!$E:$E))>=EC$2)))} | ED3: {=REPT("n",SUMPRODUCT((INDIRECT("Réservation!$e$2:$n$"&COUNTA(Réservation!$E:$E))=$A3)*(INDIRECT("Réservation!$h$2:$h$"&COUNTA(Réservation!$E:$E))<=ED$2)*(INDIRECT("Réservation!$i$2:$i$"&COUNTA(Réservation!$E:$E))>=ED$2)))} | EE3: {=REPT("n",SUMPRODUCT((INDIRECT("Réservation!$e$2:$n$"&COUNTA(Réservation!$E:$E))=$A3)*(INDIRECT("Réservation!$h$2:$h$"&COUNTA(Réservation!$E:$E))<=EE$2)*(INDIRECT("Réservation!$i$2:$i$"&COUNTA(Réservation!$E:$E))>=EE$2)))} | EF3: {=REPT("n",SUMPRODUCT((INDIRECT("Réservation!$e$2:$n$"&COUNTA(Réservation!$E:$E))=$A3)*(INDIRECT("Réservation!$h$2:$h$"&COUNTA(Réservation!$E:$E))<=EF$2)*(INDIRECT("Réservation!$i$2:$i$"&COUNTA(Réservation!$E:$E))>=EF$2)))} | ... ER3: {=REPT("n",SUMPRODUCT((INDIRECT("Réservation!$e$2:$n$"&COUNTA(Réservation!$E:$E))=$A3)*(INDIRECT("Réservation!$h$2:$h$"&COUNTA(Réservation!$E:$E))<=ER$2)*(INDIRECT("Réservation!$i$2:$i$"&COUNTA(Réservation!$E:$E))>=ER$2)))} | ET3: {=REPT("n",SUMPRODUCT((INDIRECT("Réservation!$e$2:$n$"&COUNTA(Réservation!$E:$E))=$A3)*(INDIRECT("Réservation!$h$2:$h$"&COUNTA(Réservation!$E:$E))<=ET$2)*(INDIRECT("Réservation!$i$2:$i$"&COUNTA(Réservation!$E:$E))>=ET$2)))} | EU3: {=REPT("n",SUMPRODUCT((INDIRECT("Réservation!$e$2:$n$"&COUNTA(Réservation!$E:$E))=$A3)*(INDIRECT("Réservation!$h$2:$h$"&COUNTA(Réservation!$E:$E))<=EU$2)*(INDIRECT("Réservation!$i$2:$i$"&COUNTA(Réservation!$E:$E))>=EU$2)))} | EV3: {=REPT("n",SUMPRODUCT((INDIRECT("Réservation!$e$2:$n$"&COUNTA(Réservation!$E:$E))=$A3)*(INDIRECT("Réservation!$h$2:$h$"&COUNTA(Réservation!$E:$E))<=EV$2)*(INDIRECT("Réservation!$i$2:$i$"&COUNTA(Réservation!$E:$E))>=EV$2)))} | EW3: {=REPT("n",SUMPRODUCT((INDIRECT("Réservation!$e$2:$n$"&COUNTA(Réservation!$E:$E))=$A3)*(INDIRECT("Réservation!$h$2:$h$"&COUNTA(Réservation!$E:$E))<=EW$2)*(INDIRECT("Réservation!$i$2:$i$"&COUNTA(Réservation!$E:$E))>=EW$2)))} | EX3: {=REPT("n",SUMPRODUCT((INDIRECT("Réservation!$e$2:$n$"&COUNTA(Réservation!$E:$E))=$A3)*(INDIRECT("Réservation!$h$2:$h$"&COUNTA(Réservation!$E:$E))<=EX$2)*(INDIRECT("Réservation!$i$2:$i$"&COUNTA(Réservation!$E:$E))>=EX$2)))} | EY3: {=REPT("n",SUMPRODUCT((INDIRECT("Réservation!$e$2:$n$"&COUNTA(Réservation!$E:$E))=$A3)*(INDIRECT("Réservation!$h$2:$h$"&COUNTA(Réservation!$E:$E))<=EY$2)*(INDIRECT("Réservation!$i$2:$i$"&COUNTA(Réservation!$E:$E))>=EY$2)))} | EZ3: {=REPT("n",SUMPRODUCT((INDIRECT("Réservation!$e$2:$n$"&COUNTA(Réservation!$E:$E))=$A3)*(INDIRECT("Réservation!$h$2:$h$"&COUNTA(Réservation!$E:$E))<=EZ$2)*(INDIRECT("Réservation!$i$2:$i$"&COUNTA(Réservation!$E:$E))>=EZ$2)))} | FA3: {=REPT("n",SUMPRODUCT((INDIRECT("Réservation!$e$2:$n$"&COUNTA(Réservation!$E:$E))=$A3)*(INDIRECT("Réservation!$h$2:$h$"&COUNTA(Réservation!$E:$E))<=FA$2)*(INDIRECT("Réservation!$i$2:$i$"&COUNTA(Réservation!$E:$E))>=FA$2)))} | ... FM3: {=REPT("n",SUMPRODUCT((INDIRECT("Réservation!$e$2:$n$"&COUNTA(Réservation!$E:$E))=$A3)*(INDIRECT("Réservation!$h$2:$h$"&COUNTA(Réservation!$E:$E))<=FM$2)*(INDIRECT("Réservation!$i$2:$i$"&COUNTA(Réservation!$E:$E))>=FM$2)))} | FO3: {=REPT("n",SUMPRODUCT((INDIRECT("Réservation!$e$2:$n$"&COUNTA(Réservation!$E:$E))=$A3)*(INDIRECT("Réservation!$h$2:$h$"&COUNTA(Réservation!$E:$E))<=FO$2)*(INDIRECT("Réservation!$i$2:$i$"&COUNTA(Réservation!$E:$E))>=FO$2)))} | FP3: {=REPT("n",SUMPRODUCT((INDIRECT("Réservation!$e$2:$n$"&COUNTA(Réservation!$E:$E))=$A3)*(INDIRECT("Réservation!$h$2:$h$"&COUNTA(Réservation!$E:$E))<=FP$2)*(INDIRECT("Réservation!$i$2:$i$"&COUNTA(Réservation!$E:$E))>=FP$2)))} | FQ3: {=REPT("n",SUMPRODUCT((INDIRECT("Réservation!$e$2:$n$"&COUNTA(Réservation!$E:$E))=$A3)*(INDIRECT("Réservation!$h$2:$h$"&COUNTA(Réservation!$E:$E))<=FQ$2)*(INDIRECT("Réservation!$i$2:$i$"&COUNTA(Réservation!$E:$E))>=FQ$2)))} | FR3: {=REPT("n",SUMPRODUCT((INDIRECT("Réservation!$e$2:$n$"&COUNTA(Réservation!$E:$E))=$A3)*(INDIRECT("Réservation!$h$2:$h$"&COUNTA(Réservation!$E:$E))<=FR$2)*(INDIRECT("Réservation!$i$2:$i$"&COUNTA(Réservation!$E:$E))>=FR$2)))} | FS3: {=REPT("n",SUMPRODUCT((INDIRECT("Réservation!$e$2:$n$"&COUNTA(Réservation!$E:$E))=$A3)*(INDIRECT("Réservation!$h$2:$h$"&COUNTA(Réservation!$E:$E))<=FS$2)*(INDIRECT("Réservation!$i$2:$i$"&COUNTA(Réservation!$E:$E))>=FS$2)))} | FT3: {=REPT("n",SUMPRODUCT((INDIRECT("Réservation!$e$2:$n$"&COUNTA(Réservation!$E:$E))=$A3)*(INDIRECT("Réservation!$h$2:$h$"&COUNTA(Réservation!$E:$E))<=FT$2)*(INDIRECT("Réservation!$i$2:$i$"&COUNTA(Réservation!$E:$E))>=FT$2)))} | FU3: {=REPT("n",SUMPRODUCT((INDIRECT("Réservation!$e$2:$n$"&COUNTA(Réservation!$E:$E))=$A3)*(INDIRECT("Réservation!$h$2:$h$"&COUNTA(Réservation!$E:$E))<=FU$2)*(INDIRECT("Réservation!$i$2:$i$"&COUNTA(Réservation!$E:$E))>=FU$2)))} | FV3: {=REPT("n",SUMPRODUCT((INDIRECT("Réservation!$e$2:$n$"&COUNTA(Réservation!$E:$E))=$A3)*(INDIRECT("Réservation!$h$2:$h$"&COUNTA(Réservation!$E:$E))<=FV$2)*(INDIRECT("Réservation!$i$2:$i$"&COUNTA(Réservation!$E:$E))>=FV$2)))} | ... GH3: {=REPT("n",SUMPRODUCT((INDIRECT("Réservation!$e$2:$n$"&COUNTA(Réservation!$E:$E))=$A3)*(INDIRECT("Réservation!$h$2:$h$"&COUNTA(Réservation!$E:$E))<=GH$2)*(INDIRECT("Réservation!$i$2:$i$"&COUNTA(Réservation!$E:$E))>=GH$2)))} | GJ3: {=REPT("n",SUMPRODUCT((INDIRECT("Réservation!$e$2:$n$"&COUNTA(Réservation!$E:$E))=$A3)*(INDIRECT("Réservation!$h$2:$h$"&COUNTA(Réservation!$E:$E))<=GJ$2)*(INDIRECT("Réservation!$i$2:$i$"&COUNTA(Réservation!$E:$E))>=GJ$2)))} | GK3: {=REPT("n",SUMPRODUCT((INDIRECT("Réservation!$e$2:$n$"&COUNTA(Réservation!$E:$E))=$A3)*(INDIRECT("Réservation!$h$2:$h$"&COUNTA(Réservation!$E:$E))<=GK$2)*(INDIRECT("Réservation!$i$2:$i$"&COUNTA(Réservation!$E:$E))>=GK$2)))} | GL3: {=REPT("n",SUMPRODUCT((INDIRECT("Réservation!$e$2:$n$"&COUNTA(Réservation!$E:$E))=$A3)*(INDIRECT("Réservation!$h$2:$h$"&COUNTA(Réservation!$E:$E))<=GL$2)*(INDIRECT("Réservation!$i$2:$i$"&COUNTA(Réservation!$E:$E))>=GL$2)))} | GM3: {=REPT("n",SUMPRODUCT((INDIRECT("Réservation!$e$2:$n$"&COUNTA(Réservation!$E:$E))=$A3)*(INDIRECT("Réservation!$h$2:$h$"&COUNTA(Réservation!$E:$E))<=GM$2)*(INDIRECT("Réservation!$i$2:$i$"&COUNTA(Réservation!$E:$E))>=GM$2)))} | GN3: {=REPT("n",SUMPRODUCT((INDIRECT("Réservation!$e$2:$n$"&COUNTA(Réservation!$E:$E))=$A3)*(INDIRECT("Réservation!$h$2:$h$"&COUNTA(Réservation!$E:$E))<=GN$2)*(INDIRECT("Réservation!$i$2:$i$"&COUNTA(Réservation!$E:$E))>=GN$2)))} | GO3: {=REPT("n",SUMPRODUCT((INDIRECT("Réservation!$e$2:$n$"&COUNTA(Réservation!$E:$E))=$A3)*(INDIRECT("Réservation!$h$2:$h$"&COUNTA(Réservation!$E:$E))<=GO$2)*(INDIRECT("Réservation!$i$2:$i$"&COUNTA(Réservation!$E:$E))>=GO$2)))} | GP3: {=REPT("n",SUMPRODUCT((INDIRECT("Réservation!$e$2:$n$"&COUNTA(Réservation!$E:$E))=$A3)*(INDIRECT("Réservation!$h$2:$h$"&COUNTA(Réservation!$E:$E))<=GP$2)*(INDIRECT("Réservation!$i$2:$i$"&COUNTA(Réservation!$E:$E))>=GP$2)))} | GQ3: {=REPT("n",SUMPRODUCT((INDIRECT("Réservation!$e$2:$n$"&COUNTA(Réservation!$E:$E))=$A3)*(INDIRECT("Réservation!$h$2:$h$"&COUNTA(Réservation!$E:$E))<=GQ$2)*(INDIRECT("Réservation!$i$2:$i$"&COUNTA(Réservation!$E:$E))>=GQ$2)))} | ... HC3: {=REPT("n",SUMPRODUCT((INDIRECT("Réservation!$e$2:$n$"&COUNTA(Réservation!$E:$E))=$A3)*(INDIRECT("Réservation!$h$2:$h$"&COUNTA(Réservation!$E:$E))<=HC$2)*(INDIRECT("Réservation!$i$2:$i$"&COUNTA(Réservation!$E:$E))>=HC$2)))} | HE3: {=REPT("n",SUMPRODUCT((INDIRECT("Réservation!$e$2:$n$"&COUNTA(Réservation!$E:$E))=$A3)*(INDIRECT("Réservation!$h$2:$h$"&COUNTA(Réservation!$E:$E))<=HE$2)*(INDIRECT("Réservation!$i$2:$i$"&COUNTA(Réservation!$E:$E))>=HE$2)))} | HF3: {=REPT("n",SUMPRODUCT((INDIRECT("Réservation!$e$2:$n$"&COUNTA(Réservation!$E:$E))=$A3)*(INDIRECT("Réservation!$h$2:$h$"&COUNTA(Réservation!$E:$E))<=HF$2)*(INDIRECT("Réservation!$i$2:$i$"&COUNTA(Réservation!$E:$E))>=HF$2)))} | HG3: {=REPT("n",SUMPRODUCT((INDIRECT("Réservation!$e$2:$n$"&COUNTA(Réservation!$E:$E))=$A3)*(INDIRECT("Réservation!$h$2:$h$"&COUNTA(Réservation!$E:$E))<=HG$2)*(INDIRECT("Réservation!$i$2:$i$"&COUNTA(Réservation!$E:$E))>=HG$2)))} | HH3: {=REPT("n",SUMPRODUCT((INDIRECT("Réservation!$e$2:$n$"&COUNTA(Réservation!$E:$E))=$A3)*(INDIRECT("Réservation!$h$2:$h$"&COUNTA(Réservation!$E:$E))<=HH$2)*(INDIRECT("Réservation!$i$2:$i$"&COUNTA(Réservation!$E:$E))>=HH$2)))} | HI3: {=REPT("n",SUMPRODUCT((INDIRECT("Réservation!$e$2:$n$"&COUNTA(Réservation!$E:$E))=$A3)*(INDIRECT("Réservation!$h$2:$h$"&COUNTA(Réservation!$E:$E))<=HI$2)*(INDIRECT("Réservation!$i$2:$i$"&COUNTA(Réservation!$E:$E))>=HI$2)))} | HJ3: {=REPT("n",SUMPRODUCT((INDIRECT("Réservation!$e$2:$n$"&COUNTA(Réservation!$E:$E))=$A3)*(INDIRECT("Réservation!$h$2:$h$"&COUNTA(Réservation!$E:$E))<=HJ$2)*(INDIRECT("Réservation!$i$2:$i$"&COUNTA(Réservation!$E:$E))>=HJ$2)))} | HK3: {=REPT("n",SUMPRODUCT((INDIRECT("Réservation!$e$2:$n$"&COUNTA(Réservation!$E:$E))=$A3)*(INDIRECT("Réservation!$h$2:$h$"&COUNTA(Réservation!$E:$E))<=HK$2)*(INDIRECT("Réservation!$i$2:$i$"&COUNTA(Réservation!$E:$E))>=HK$2)))} | HL3: {=REPT("n",SUMPRODUCT((INDIRECT("Réservation!$e$2:$n$"&COUNTA(Réservation!$E:$E))=$A3)*(INDIRECT("Réservation!$h$2:$h$"&COUNTA(Réservation!$E:$E))<=HL$2)*(INDIRECT("Réservation!$i$2:$i$"&COUNTA(Réservation!$E:$E))>=HL$2)))} | ... HX3: {=REPT("n",SUMPRODUCT((INDIRECT("Réservation!$e$2:$n$"&COUNTA(Réservation!$E:$E))=$A3)*(INDIRECT("Réservation!$h$2:$h$"&COUNTA(Réservation!$E:$E))<=HX$2)*(INDIRECT("Réservation!$i$2:$i$"&COUNTA(Réservation!$E:$E))>=HX$2)))} | HZ3: {=REPT("n",SUMPRODUCT((INDIRECT("Réservation!$e$2:$n$"&COUNTA(Réservation!$E:$E))=$A3)*(INDIRECT("Réservation!$h$2:$h$"&COUNTA(Réservation!$E:$E))<=HZ$2)*(INDIRECT("Réservation!$i$2:$i$"&COUNTA(Réservation!$E:$E))>=HZ$2)))} | IA3: {=REPT("n",SUMPRODUCT((INDIRECT("Réservation!$e$2:$n$"&COUNTA(Réservation!$E:$E))=$A3)*(INDIRECT("Réservation!$h$2:$h$"&COUNTA(Réservation!$E:$E))<=IA$2)*(INDIRECT("Réservation!$i$2:$i$"&COUNTA(Réservation!$E:$E))>=IA$2)))} | IB3: {=REPT("n",SUMPRODUCT((INDIRECT("Réservation!$e$2:$n$"&COUNTA(Réservation!$E:$E))=$A3)*(INDIRECT("Réservation!$h$2:$h$"&COUNTA(Réservation!$E:$E))<=IB$2)*(INDIRECT("Réservation!$i$2:$i$"&COUNTA(Réservation!$E:$E))>=IB$2)))} | IC3: {=REPT("n",SUMPRODUCT((INDIRECT("Réservation!$e$2:$n$"&COUNTA(Réservation!$E:$E))=$A3)*(INDIRECT("Réservation!$h$2:$h$"&COUNTA(Réservation!$E:$E))<=IC$2)*(INDIRECT("Réservation!$i$2:$i$"&COUNTA(Réservation!$E:$E))>=IC$2)))} | ID3: {=REPT("n",SUMPRODUCT((INDIRECT("Réservation!$e$2:$n$"&COUNTA(Réservation!$E:$E))=$A3)*(INDIRECT("Réservation!$h$2:$h$"&COUNTA(Réservation!$E:$E))<=ID$2)*(INDIRECT("Réservation!$i$2:$i$"&COUNTA(Réservation!$E:$E))>=ID$2)))} | IE3: {=REPT("n",SUMPRODUCT((INDIRECT("Réservation!$e$2:$n$"&COUNTA(Réservation!$E:$E))=$A3)*(INDIRECT("Réservation!$h$2:$h$"&COUNTA(Réservation!$E:$E))<=IE$2)*(INDIRECT("Réservation!$i$2:$i$"&COUNTA(Réservation!$E:$E))>=IE$2)))} | IF3: {=REPT("n",SUMPRODUCT((INDIRECT("Réservation!$e$2:$n$"&COUNTA(Réservation!$E:$E))=$A3)*(INDIRECT("Réservation!$h$2:$h$"&COUNTA(Réservation!$E:$E))<=IF$2)*(INDIRECT("Réservation!$i$2:$i$"&COUNTA(Réservation!$E:$E))>=IF$2)))} | IG3: {=REPT("n",SUMPRODUCT((INDIRECT("Réservation!$e$2:$n$"&COUNTA(Réservation!$E:$E))=$A3)*(INDIRECT("Réservation!$h$2:$h$"&COUNTA(Réservation!$E:$E))<=IG$2)*(INDIRECT("Réservation!$i$2:$i$"&COUNTA(Réservation!$E:$E))>=IG$2)))} | ... IS3: {=REPT("n",SUMPRODUCT((INDIRECT("Réservation!$e$2:$n$"&COUNTA(Réservation!$E:$E))=$A3)*(INDIRECT("Réservation!$h$2:$h$"&COUNTA(Réservation!$E:$E))<=IS$2)*(INDIRECT("Réservation!$i$2:$i$"&COUNTA(Réservation!$E:$E))>=IS$2)))} | IU3: {=REPT("n",SUMPRODUCT((INDIRECT("Réservation!$e$2:$n$"&COUNTA(Réservation!$E:$E))=$A3)*(INDIRECT("Réservation!$h$2:$h$"&COUNTA(Réservation!$E:$E))<=IU$2)*(INDIRECT("Réservation!$i$2:$i$"&COUNTA(Réservation!$E:$E))>=IU$2)))} | IV3: {=REPT("n",SUMPRODUCT((INDIRECT("Réservation!$e$2:$n$"&COUNTA(Réservation!$E:$E))=$A3)*(INDIRECT("Réservation!$h$2:$h$"&COUNTA(Réservation!$E:$E))<=IV$2)*(INDIRECT("Réservation!$i$2:$i$"&COUNTA(Réservation!$E:$E))>=IV$2)))} | IW3: {=REPT("n",SUMPRODUCT((INDIRECT("Réservation!$e$2:$n$"&COUNTA(Réservation!$E:$E))=$A3)*(INDIRECT("Réservation!$h$2:$h$"&COUNTA(Réservation!$E:$E))<=IW$2)*(INDIRECT("Réservation!$i$2:$i$"&COUNTA(Réservation!$E:$E))>=IW$2)))} | IX3: {=REPT("n",SUMPRODUCT((INDIRECT("Réservation!$e$2:$n$"&COUNTA(Réservation!$E:$E))=$A3)*(INDIRECT("Réservation!$h$2:$h$"&COUNTA(Réservation!$E:$E))<=IX$2)*(INDIRECT("Réservation!$i$2:$i$"&COUNTA(Réservation!$E:$E))>=IX$2)))} | IY3: {=REPT("n",SUMPRODUCT((INDIRECT("Réservation!$e$2:$n$"&COUNTA(Réservation!$E:$E))=$A3)*(INDIRECT("Réservation!$h$2:$h$"&COUNTA(Réservation!$E:$E))<=IY$2)*(INDIRECT("Réservation!$i$2:$i$"&COUNTA(Réservation!$E:$E))>=IY$2)))} | IZ3: {=REPT("n",SUMPRODUCT((INDIRECT("Réservation!$e$2:$n$"&COUNTA(Réservation!$E:$E))=$A3)*(INDIRECT("Réservation!$h$2:$h$"&COUNTA(Réservation!$E:$E))<=IZ$2)*(INDIRECT("Réservation!$i$2:$i$"&COUNTA(Réservation!$E:$E))>=IZ$2)))} | JA3: {=REPT("n",SUMPRODUCT((INDIRECT("Réservation!$e$2:$n$"&COUNTA(Réservation!$E:$E))=$A3)*(INDIRECT("Réservation!$h$2:$h$"&COUNTA(Réservation!$E:$E))<=JA$2)*(INDIRECT("Réservation!$i$2:$i$"&COUNTA(Réservation!$E:$E))>=JA$2)))} | JB3: {=REPT("n",SUMPRODUCT((INDIRECT("Réservation!$e$2:$n$"&COUNTA(Réservation!$E:$E))=$A3)*(INDIRECT("Réservation!$h$2:$h$"&COUNTA(Réservation!$E:$E))<=JB$2)*(INDIRECT("Réservation!$i$2:$i$"&COUNTA(Réservation!$E:$E))>=JB$2)))} | ... JN3: {=REPT("n",SUMPRODUCT((INDIRECT("Réservation!$e$2:$n$"&COUNTA(Réservation!$E:$E))=$A3)*(INDIRECT("Réservation!$h$2:$h$"&COUNTA(Réservation!$E:$E))<=JN$2)*(INDIRECT("Réservation!$i$2:$i$"&COUNTA(Réservation!$E:$E))>=JN$2)))}
A4: S3W52LC150727002 | C4: {=REPT("n",SUMPRODUCT((INDIRECT("Réservation!$e$2:$n$"&COUNTA(Réservation!$E:$E))=$A4)*(INDIRECT("Réservation!$h$2:$h$"&COUNTA(Réservation!$E:$E))<=C$2)*(INDIRECT("Réservation!$i$2:$i$"&COUNTA(Réservation!$E:$E))>=C$2)))} | D4: {=REPT("n",SUMPRODUCT((INDIRECT("Réservation!$e$2:$n$"&COUNTA(Réservation!$E:$E))=$A4)*(INDIRECT("Réservation!$h$2:$h$"&COUNTA(Réservation!$E:$E))<=D$2)*(INDIRECT("Réservation!$i$2:$i$"&COUNTA(Réservation!$E:$E))>=D$2)))} | E4: {=REPT("n",SUMPRODUCT((INDIRECT("Réservation!$e$2:$n$"&COUNTA(Réservation!$E:$E))=$A4)*(INDIRECT("Réservation!$h$2:$h$"&COUNTA(Réservation!$E:$E))<=E$2)*(INDIRECT("Réservation!$i$2:$i$"&COUNTA(Réservation!$E:$E))>=E$2)))} | F4: {=REPT("n",SUMPRODUCT((INDIRECT("Réservation!$e$2:$n$"&COUNTA(Réservation!$E:$E))=$A4)*(INDIRECT("Réservation!$h$2:$h$"&COUNTA(Réservation!$E:$E))<=F$2)*(INDIRECT("Réservation!$i$2:$i$"&COUNTA(Réservation!$E:$E))>=F$2)))} | G4: {=REPT("n",SUMPRODUCT((INDIRECT("Réservation!$e$2:$n$"&COUNTA(Réservation!$E:$E))=$A4)*(INDIRECT("Réservation!$h$2:$h$"&COUNTA(Réservation!$E:$E))<=G$2)*(INDIRECT("Réservation!$i$2:$i$"&COUNTA(Réservation!$E:$E))>=G$2)))} | H4: {=REPT("n",SUMPRODUCT((INDIRECT("Réservation!$e$2:$n$"&COUNTA(Réservation!$E:$E))=$A4)*(INDIRECT("Réservation!$h$2:$h$"&COUNTA(Réservation!$E:$E))<=H$2)*(INDIRECT("Réservation!$i$2:$i$"&COUNTA(Réservation!$E:$E))>=H$2)))} | I4: {=REPT("n",SUMPRODUCT((INDIRECT("Réservation!$e$2:$n$"&COUNTA(Réservation!$E:$E))=$A4)*(INDIRECT("Réservation!$h$2:$h$"&COUNTA(Réservation!$E:$E))<=I$2)*(INDIRECT("Réservation!$i$2:$i$"&COUNTA(Réservation!$E:$E))>=I$2)))} | J4: {=REPT("n",SUMPRODUCT((INDIRECT("Réservation!$e$2:$n$"&COUNTA(Réservation!$E:$E))=$A4)*(INDIRECT("Réservation!$h$2:$h$"&COUNTA(Réservation!$E:$E))<=J$2)*(INDIRECT("Réservation!$i$2:$i$"&COUNTA(Réservation!$E:$E))>=J$2)))} | ... V4: {=REPT("n",SUMPRODUCT((INDIRECT("Réservation!$e$2:$n$"&COUNTA(Réservation!$E:$E))=$A4)*(INDIRECT("Réservation!$h$2:$h$"&COUNTA(Réservation!$E:$E))<=V$2)*(INDIRECT("Réservation!$i$2:$i$"&COUNTA(Réservation!$E:$E))>=V$2)))} | X4: {=REPT("n",SUMPRODUCT((INDIRECT("Réservation!$e$2:$n$"&COUNTA(Réservation!$E:$E))=$A4)*(INDIRECT("Réservation!$h$2:$h$"&COUNTA(Réservation!$E:$E))<=X$2)*(INDIRECT("Réservation!$i$2:$i$"&COUNTA(Réservation!$E:$E))>=X$2)))} | Y4: {=REPT("n",SUMPRODUCT((INDIRECT("Réservation!$e$2:$n$"&COUNTA(Réservation!$E:$E))=$A4)*(INDIRECT("Réservation!$h$2:$h$"&COUNTA(Réservation!$E:$E))<=Y$2)*(INDIRECT("Réservation!$i$2:$i$"&COUNTA(Réservation!$E:$E))>=Y$2)))} | Z4: {=REPT("n",SUMPRODUCT((INDIRECT("Réservation!$e$2:$n$"&COUNTA(Réservation!$E:$E))=$A4)*(INDIRECT("Réservation!$h$2:$h$"&COUNTA(Réservation!$E:$E))<=Z$2)*(INDIRECT("Réservation!$i$2:$i$"&COUNTA(Réservation!$E:$E))>=Z$2)))} | AA4: {=REPT("n",SUMPRODUCT((INDIRECT("Réservation!$e$2:$n$"&COUNTA(Réservation!$E:$E))=$A4)*(INDIRECT("Réservation!$h$2:$h$"&COUNTA(Réservation!$E:$E))<=AA$2)*(INDIRECT("Réservation!$i$2:$i$"&COUNTA(Réservation!$E:$E))>=AA$2)))} | AB4: {=REPT("n",SUMPRODUCT((INDIRECT("Réservation!$e$2:$n$"&COUNTA(Réservation!$E:$E))=$A4)*(INDIRECT("Réservation!$h$2:$h$"&COUNTA(Réservation!$E:$E))<=AB$2)*(INDIRECT("Réservation!$i$2:$i$"&COUNTA(Réservation!$E:$E))>=AB$2)))} | AC4: {=REPT("n",SUMPRODUCT((INDIRECT("Réservation!$e$2:$n$"&COUNTA(Réservation!$E:$E))=$A4)*(INDIRECT("Réservation!$h$2:$h$"&COUNTA(Réservation!$E:$E))<=AC$2)*(INDIRECT("Réservation!$i$2:$i$"&COUNTA(Réservation!$E:$E))>=AC$2)))} | AD4: {=REPT("n",SUMPRODUCT((INDIRECT("Réservation!$e$2:$n$"&COUNTA(Réservation!$E:$E))=$A4)*(INDIRECT("Réservation!$h$2:$h$"&COUNTA(Réservation!$E:$E))<=AD$2)*(INDIRECT("Réservation!$i$2:$i$"&COUNTA(Réservation!$E:$E))>=AD$2)))} | AE4: {=REPT("n",SUMPRODUCT((INDIRECT("Réservation!$e$2:$n$"&COUNTA(Réservation!$E:$E))=$A4)*(INDIRECT("Réservation!$h$2:$h$"&COUNTA(Réservation!$E:$E))<=AE$2)*(INDIRECT("Réservation!$i$2:$i$"&COUNTA(Réservation!$E:$E))>=AE$2)))} | ... AQ4: {=REPT("n",SUMPRODUCT((INDIRECT("Réservation!$e$2:$n$"&COUNTA(Réservation!$E:$E))=$A4)*(INDIRECT("Réservation!$h$2:$h$"&COUNTA(Réservation!$E:$E))<=AQ$2)*(INDIRECT("Réservation!$i$2:$i$"&COUNTA(Réservation!$E:$E))>=AQ$2)))} | AS4: {=REPT("n",SUMPRODUCT((INDIRECT("Réservation!$e$2:$n$"&COUNTA(Réservation!$E:$E))=$A4)*(INDIRECT("Réservation!$h$2:$h$"&COUNTA(Réservation!$E:$E))<=AS$2)*(INDIRECT("Réservation!$i$2:$i$"&COUNTA(Réservation!$E:$E))>=AS$2)))} | AT4: {=REPT("n",SUMPRODUCT((INDIRECT("Réservation!$e$2:$n$"&COUNTA(Réservation!$E:$E))=$A4)*(INDIRECT("Réservation!$h$2:$h$"&COUNTA(Réservation!$E:$E))<=AT$2)*(INDIRECT("Réservation!$i$2:$i$"&COUNTA(Réservation!$E:$E))>=AT$2)))} | AU4: {=REPT("n",SUMPRODUCT((INDIRECT("Réservation!$e$2:$n$"&COUNTA(Réservation!$E:$E))=$A4)*(INDIRECT("Réservation!$h$2:$h$"&COUNTA(Réservation!$E:$E))<=AU$2)*(INDIRECT("Réservation!$i$2:$i$"&COUNTA(Réservation!$E:$E))>=AU$2)))} | AV4: {=REPT("n",SUMPRODUCT((INDIRECT("Réservation!$e$2:$n$"&COUNTA(Réservation!$E:$E))=$A4)*(INDIRECT("Réservation!$h$2:$h$"&COUNTA(Réservation!$E:$E))<=AV$2)*(INDIRECT("Réservation!$i$2:$i$"&COUNTA(Réservation!$E:$E))>=AV$2)))} | AW4: {=REPT("n",SUMPRODUCT((INDIRECT("Réservation!$e$2:$n$"&COUNTA(Réservation!$E:$E))=$A4)*(INDIRECT("Réservation!$h$2:$h$"&COUNTA(Réservation!$E:$E))<=AW$2)*(INDIRECT("Réservation!$i$2:$i$"&COUNTA(Réservation!$E:$E))>=AW$2)))} | AX4: {=REPT("n",SUMPRODUCT((INDIRECT("Réservation!$e$2:$n$"&COUNTA(Réservation!$E:$E))=$A4)*(INDIRECT("Réservation!$h$2:$h$"&COUNTA(Réservation!$E:$E))<=AX$2)*(INDIRECT("Réservation!$i$2:$i$"&COUNTA(Réservation!$E:$E))>=AX$2)))} | AY4: {=REPT("n",SUMPRODUCT((INDIRECT("Réservation!$e$2:$n$"&COUNTA(Réservation!$E:$E))=$A4)*(INDIRECT("Réservation!$h$2:$h$"&COUNTA(Réservation!$E:$E))<=AY$2)*(INDIRECT("Réservation!$i$2:$i$"&COUNTA(Réservation!$E:$E))>=AY$2)))} | AZ4: {=REPT("n",SUMPRODUCT((INDIRECT("Réservation!$e$2:$n$"&COUNTA(Réservation!$E:$E))=$A4)*(INDIRECT("Réservation!$h$2:$h$"&COUNTA(Réservation!$E:$E))<=AZ$2)*(INDIRECT("Réservation!$i$2:$i$"&COUNTA(Réservation!$E:$E))>=AZ$2)))} | ... BL4: {=REPT("n",SUMPRODUCT((INDIRECT("Réservation!$e$2:$n$"&COUNTA(Réservation!$E:$E))=$A4)*(INDIRECT("Réservation!$h$2:$h$"&COUNTA(Réservation!$E:$E))<=BL$2)*(INDIRECT("Réservation!$i$2:$i$"&COUNTA(Réservation!$E:$E))>=BL$2)))} | BN4: {=REPT("n",SUMPRODUCT((INDIRECT("Réservation!$e$2:$n$"&COUNTA(Réservation!$E:$E))=$A4)*(INDIRECT("Réservation!$h$2:$h$"&COUNTA(Réservation!$E:$E))<=BN$2)*(INDIRECT("Réservation!$i$2:$i$"&COUNTA(Réservation!$E:$E))>=BN$2)))} | BO4: {=REPT("n",SUMPRODUCT((INDIRECT("Réservation!$e$2:$n$"&COUNTA(Réservation!$E:$E))=$A4)*(INDIRECT("Réservation!$h$2:$h$"&COUNTA(Réservation!$E:$E))<=BO$2)*(INDIRECT("Réservation!$i$2:$i$"&COUNTA(Réservation!$E:$E))>=BO$2)))} | BP4: {=REPT("n",SUMPRODUCT((INDIRECT("Réservation!$e$2:$n$"&COUNTA(Réservation!$E:$E))=$A4)*(INDIRECT("Réservation!$h$2:$h$"&COUNTA(Réservation!$E:$E))<=BP$2)*(INDIRECT("Réservation!$i$2:$i$"&COUNTA(Réservation!$E:$E))>=BP$2)))} | BQ4: {=REPT("n",SUMPRODUCT((INDIRECT("Réservation!$e$2:$n$"&COUNTA(Réservation!$E:$E))=$A4)*(INDIRECT("Réservation!$h$2:$h$"&COUNTA(Réservation!$E:$E))<=BQ$2)*(INDIRECT("Réservation!$i$2:$i$"&COUNTA(Réservation!$E:$E))>=BQ$2)))} | BR4: {=REPT("n",SUMPRODUCT((INDIRECT("Réservation!$e$2:$n$"&COUNTA(Réservation!$E:$E))=$A4)*(INDIRECT("Réservation!$h$2:$h$"&COUNTA(Réservation!$E:$E))<=BR$2)*(INDIRECT("Réservation!$i$2:$i$"&COUNTA(Réservation!$E:$E))>=BR$2)))} | BS4: {=REPT("n",SUMPRODUCT((INDIRECT("Réservation!$e$2:$n$"&COUNTA(Réservation!$E:$E))=$A4)*(INDIRECT("Réservation!$h$2:$h$"&COUNTA(Réservation!$E:$E))<=BS$2)*(INDIRECT("Réservation!$i$2:$i$"&COUNTA(Réservation!$E:$E))>=BS$2)))} | BT4: {=REPT("n",SUMPRODUCT((INDIRECT("Réservation!$e$2:$n$"&COUNTA(Réservation!$E:$E))=$A4)*(INDIRECT("Réservation!$h$2:$h$"&COUNTA(Réservation!$E:$E))<=BT$2)*(INDIRECT("Réservation!$i$2:$i$"&COUNTA(Réservation!$E:$E))>=BT$2)))} | BU4: {=REPT("n",SUMPRODUCT((INDIRECT("Réservation!$e$2:$n$"&COUNTA(Réservation!$E:$E))=$A4)*(INDIRECT("Réservation!$h$2:$h$"&COUNTA(Réservation!$E:$E))<=BU$2)*(INDIRECT("Réservation!$i$2:$i$"&COUNTA(Réservation!$E:$E))>=BU$2)))} | ... CG4: {=REPT("n",SUMPRODUCT((INDIRECT("Réservation!$e$2:$n$"&COUNTA(Réservation!$E:$E))=$A4)*(INDIRECT("Réservation!$h$2:$h$"&COUNTA(Réservation!$E:$E))<=CG$2)*(INDIRECT("Réservation!$i$2:$i$"&COUNTA(Réservation!$E:$E))>=CG$2)))} | CI4: {=REPT("n",SUMPRODUCT((INDIRECT("Réservation!$e$2:$n$"&COUNTA(Réservation!$E:$E))=$A4)*(INDIRECT("Réservation!$h$2:$h$"&COUNTA(Réservation!$E:$E))<=CI$2)*(INDIRECT("Réservation!$i$2:$i$"&COUNTA(Réservation!$E:$E))>=CI$2)))} | CJ4: {=REPT("n",SUMPRODUCT((INDIRECT("Réservation!$e$2:$n$"&COUNTA(Réservation!$E:$E))=$A4)*(INDIRECT("Réservation!$h$2:$h$"&COUNTA(Réservation!$E:$E))<=CJ$2)*(INDIRECT("Réservation!$i$2:$i$"&COUNTA(Réservation!$E:$E))>=CJ$2)))} | CK4: {=REPT("n",SUMPRODUCT((INDIRECT("Réservation!$e$2:$n$"&COUNTA(Réservation!$E:$E))=$A4)*(INDIRECT("Réservation!$h$2:$h$"&COUNTA(Réservation!$E:$E))<=CK$2)*(INDIRECT("Réservation!$i$2:$i$"&COUNTA(Réservation!$E:$E))>=CK$2)))} | CL4: {=REPT("n",SUMPRODUCT((INDIRECT("Réservation!$e$2:$n$"&COUNTA(Réservation!$E:$E))=$A4)*(INDIRECT("Réservation!$h$2:$h$"&COUNTA(Réservation!$E:$E))<=CL$2)*(INDIRECT("Réservation!$i$2:$i$"&COUNTA(Réservation!$E:$E))>=CL$2)))} | CM4: {=REPT("n",SUMPRODUCT((INDIRECT("Réservation!$e$2:$n$"&COUNTA(Réservation!$E:$E))=$A4)*(INDIRECT("Réservation!$h$2:$h$"&COUNTA(Réservation!$E:$E))<=CM$2)*(INDIRECT("Réservation!$i$2:$i$"&COUNTA(Réservation!$E:$E))>=CM$2)))} | CN4: {=REPT("n",SUMPRODUCT((INDIRECT("Réservation!$e$2:$n$"&COUNTA(Réservation!$E:$E))=$A4)*(INDIRECT("Réservation!$h$2:$h$"&COUNTA(Réservation!$E:$E))<=CN$2)*(INDIRECT("Réservation!$i$2:$i$"&COUNTA(Réservation!$E:$E))>=CN$2)))} | CO4: {=REPT("n",SUMPRODUCT((INDIRECT("Réservation!$e$2:$n$"&COUNTA(Réservation!$E:$E))=$A4)*(INDIRECT("Réservation!$h$2:$h$"&COUNTA(Réservation!$E:$E))<=CO$2)*(INDIRECT("Réservation!$i$2:$i$"&COUNTA(Réservation!$E:$E))>=CO$2)))} | CP4: {=REPT("n",SUMPRODUCT((INDIRECT("Réservation!$e$2:$n$"&COUNTA(Réservation!$E:$E))=$A4)*(INDIRECT("Réservation!$h$2:$h$"&COUNTA(Réservation!$E:$E))<=CP$2)*(INDIRECT("Réservation!$i$2:$i$"&COUNTA(Réservation!$E:$E))>=CP$2)))} | ... DB4: {=REPT("n",SUMPRODUCT((INDIRECT("Réservation!$e$2:$n$"&COUNTA(Réservation!$E:$E))=$A4)*(INDIRECT("Réservation!$h$2:$h$"&COUNTA(Réservation!$E:$E))<=DB$2)*(INDIRECT("Réservation!$i$2:$i$"&COUNTA(Réservation!$E:$E))>=DB$2)))} | DD4: {=REPT("n",SUMPRODUCT((INDIRECT("Réservation!$e$2:$n$"&COUNTA(Réservation!$E:$E))=$A4)*(INDIRECT("Réservation!$h$2:$h$"&COUNTA(Réservation!$E:$E))<=DD$2)*(INDIRECT("Réservation!$i$2:$i$"&COUNTA(Réservation!$E:$E))>=DD$2)))} | DE4: {=REPT("n",SUMPRODUCT((INDIRECT("Réservation!$e$2:$n$"&COUNTA(Réservation!$E:$E))=$A4)*(INDIRECT("Réservation!$h$2:$h$"&COUNTA(Réservation!$E:$E))<=DE$2)*(INDIRECT("Réservation!$i$2:$i$"&COUNTA(Réservation!$E:$E))>=DE$2)))} | DF4: {=REPT("n",SUMPRODUCT((INDIRECT("Réservation!$e$2:$n$"&COUNTA(Réservation!$E:$E))=$A4)*(INDIRECT("Réservation!$h$2:$h$"&COUNTA(Réservation!$E:$E))<=DF$2)*(INDIRECT("Réservation!$i$2:$i$"&COUNTA(Réservation!$E:$E))>=DF$2)))} | DG4: {=REPT("n",SUMPRODUCT((INDIRECT("Réservation!$e$2:$n$"&COUNTA(Réservation!$E:$E))=$A4)*(INDIRECT("Réservation!$h$2:$h$"&COUNTA(Réservation!$E:$E))<=DG$2)*(INDIRECT("Réservation!$i$2:$i$"&COUNTA(Réservation!$E:$E))>=DG$2)))} | DH4: {=REPT("n",SUMPRODUCT((INDIRECT("Réservation!$e$2:$n$"&COUNTA(Réservation!$E:$E))=$A4)*(INDIRECT("Réservation!$h$2:$h$"&COUNTA(Réservation!$E:$E))<=DH$2)*(INDIRECT("Réservation!$i$2:$i$"&COUNTA(Réservation!$E:$E))>=DH$2)))} | DI4: {=REPT("n",SUMPRODUCT((INDIRECT("Réservation!$e$2:$n$"&COUNTA(Réservation!$E:$E))=$A4)*(INDIRECT("Réservation!$h$2:$h$"&COUNTA(Réservation!$E:$E))<=DI$2)*(INDIRECT("Réservation!$i$2:$i$"&COUNTA(Réservation!$E:$E))>=DI$2)))} | DJ4: {=REPT("n",SUMPRODUCT((INDIRECT("Réservation!$e$2:$n$"&COUNTA(Réservation!$E:$E))=$A4)*(INDIRECT("Réservation!$h$2:$h$"&COUNTA(Réservation!$E:$E))<=DJ$2)*(INDIRECT("Réservation!$i$2:$i$"&COUNTA(Réservation!$E:$E))>=DJ$2)))} | DK4: {=REPT("n",SUMPRODUCT((INDIRECT("Réservation!$e$2:$n$"&COUNTA(Réservation!$E:$E))=$A4)*(INDIRECT("Réservation!$h$2:$h$"&COUNTA(Réservation!$E:$E))<=DK$2)*(INDIRECT("Réservation!$i$2:$i$"&COUNTA(Réservation!$E:$E))>=DK$2)))} | ... DW4: {=REPT("n",SUMPRODUCT((INDIRECT("Réservation!$e$2:$n$"&COUNTA(Réservation!$E:$E))=$A4)*(INDIRECT("Réservation!$h$2:$h$"&COUNTA(Réservation!$E:$E))<=DW$2)*(INDIRECT("Réservation!$i$2:$i$"&COUNTA(Réservation!$E:$E))>=DW$2)))} | DY4: {=REPT("n",SUMPRODUCT((INDIRECT("Réservation!$e$2:$n$"&COUNTA(Réservation!$E:$E))=$A4)*(INDIRECT("Réservation!$h$2:$h$"&COUNTA(Réservation!$E:$E))<=DY$2)*(INDIRECT("Réservation!$i$2:$i$"&COUNTA(Réservation!$E:$E))>=DY$2)))} | DZ4: {=REPT("n",SUMPRODUCT((INDIRECT("Réservation!$e$2:$n$"&COUNTA(Réservation!$E:$E))=$A4)*(INDIRECT("Réservation!$h$2:$h$"&COUNTA(Réservation!$E:$E))<=DZ$2)*(INDIRECT("Réservation!$i$2:$i$"&COUNTA(Réservation!$E:$E))>=DZ$2)))} | EA4: {=REPT("n",SUMPRODUCT((INDIRECT("Réservation!$e$2:$n$"&COUNTA(Réservation!$E:$E))=$A4)*(INDIRECT("Réservation!$h$2:$h$"&COUNTA(Réservation!$E:$E))<=EA$2)*(INDIRECT("Réservation!$i$2:$i$"&COUNTA(Réservation!$E:$E))>=EA$2)))} | EB4: {=REPT("n",SUMPRODUCT((INDIRECT("Réservation!$e$2:$n$"&COUNTA(Réservation!$E:$E))=$A4)*(INDIRECT("Réservation!$h$2:$h$"&COUNTA(Réservation!$E:$E))<=EB$2)*(INDIRECT("Réservation!$i$2:$i$"&COUNTA(Réservation!$E:$E))>=EB$2)))} | EC4: {=REPT("n",SUMPRODUCT((INDIRECT("Réservation!$e$2:$n$"&COUNTA(Réservation!$E:$E))=$A4)*(INDIRECT("Réservation!$h$2:$h$"&COUNTA(Réservation!$E:$E))<=EC$2)*(INDIRECT("Réservation!$i$2:$i$"&COUNTA(Réservation!$E:$E))>=EC$2)))} | ED4: {=REPT("n",SUMPRODUCT((INDIRECT("Réservation!$e$2:$n$"&COUNTA(Réservation!$E:$E))=$A4)*(INDIRECT("Réservation!$h$2:$h$"&COUNTA(Réservation!$E:$E))<=ED$2)*(INDIRECT("Réservation!$i$2:$i$"&COUNTA(Réservation!$E:$E))>=ED$2)))} | EE4: {=REPT("n",SUMPRODUCT((INDIRECT("Réservation!$e$2:$n$"&COUNTA(Réservation!$E:$E))=$A4)*(INDIRECT("Réservation!$h$2:$h$"&COUNTA(Réservation!$E:$E))<=EE$2)*(INDIRECT("Réservation!$i$2:$i$"&COUNTA(Réservation!$E:$E))>=EE$2)))} | EF4: {=REPT("n",SUMPRODUCT((INDIRECT("Réservation!$e$2:$n$"&COUNTA(Réservation!$E:$E))=$A4)*(INDIRECT("Réservation!$h$2:$h$"&COUNTA(Réservation!$E:$E))<=EF$2)*(INDIRECT("Réservation!$i$2:$i$"&COUNTA(Réservation!$E:$E))>=EF$2)))} | ... ER4: {=REPT("n",SUMPRODUCT((INDIRECT("Réservation!$e$2:$n$"&COUNTA(Réservation!$E:$E))=$A4)*(INDIRECT("Réservation!$h$2:$h$"&COUNTA(Réservation!$E:$E))<=ER$2)*(INDIRECT("Réservation!$i$2:$i$"&COUNTA(Réservation!$E:$E))>=ER$2)))} | ET4: {=REPT("n",SUMPRODUCT((INDIRECT("Réservation!$e$2:$n$"&COUNTA(Réservation!$E:$E))=$A4)*(INDIRECT("Réservation!$h$2:$h$"&COUNTA(Réservation!$E:$E))<=ET$2)*(INDIRECT("Réservation!$i$2:$i$"&COUNTA(Réservation!$E:$E))>=ET$2)))} | EU4: {=REPT("n",SUMPRODUCT((INDIRECT("Réservation!$e$2:$n$"&COUNTA(Réservation!$E:$E))=$A4)*(INDIRECT("Réservation!$h$2:$h$"&COUNTA(Réservation!$E:$E))<=EU$2)*(INDIRECT("Réservation!$i$2:$i$"&COUNTA(Réservation!$E:$E))>=EU$2)))} | EV4: {=REPT("n",SUMPRODUCT((INDIRECT("Réservation!$e$2:$n$"&COUNTA(Réservation!$E:$E))=$A4)*(INDIRECT("Réservation!$h$2:$h$"&COUNTA(Réservation!$E:$E))<=EV$2)*(INDIRECT("Réservation!$i$2:$i$"&COUNTA(Réservation!$E:$E))>=EV$2)))} | EW4: {=REPT("n",SUMPRODUCT((INDIRECT("Réservation!$e$2:$n$"&COUNTA(Réservation!$E:$E))=$A4)*(INDIRECT("Réservation!$h$2:$h$"&COUNTA(Réservation!$E:$E))<=EW$2)*(INDIRECT("Réservation!$i$2:$i$"&COUNTA(Réservation!$E:$E))>=EW$2)))} | EX4: {=REPT("n",SUMPRODUCT((INDIRECT("Réservation!$e$2:$n$"&COUNTA(Réservation!$E:$E))=$A4)*(INDIRECT("Réservation!$h$2:$h$"&COUNTA(Réservation!$E:$E))<=EX$2)*(INDIRECT("Réservation!$i$2:$i$"&COUNTA(Réservation!$E:$E))>=EX$2)))} | EY4: {=REPT("n",SUMPRODUCT((INDIRECT("Réservation!$e$2:$n$"&COUNTA(Réservation!$E:$E))=$A4)*(INDIRECT("Réservation!$h$2:$h$"&COUNTA(Réservation!$E:$E))<=EY$2)*(INDIRECT("Réservation!$i$2:$i$"&COUNTA(Réservation!$E:$E))>=EY$2)))} | EZ4: {=REPT("n",SUMPRODUCT((INDIRECT("Réservation!$e$2:$n$"&COUNTA(Réservation!$E:$E))=$A4)*(INDIRECT("Réservation!$h$2:$h$"&COUNTA(Réservation!$E:$E))<=EZ$2)*(INDIRECT("Réservation!$i$2:$i$"&COUNTA(Réservation!$E:$E))>=EZ$2)))} | FA4: {=REPT("n",SUMPRODUCT((INDIRECT("Réservation!$e$2:$n$"&COUNTA(Réservation!$E:$E))=$A4)*(INDIRECT("Réservation!$h$2:$h$"&COUNTA(Réservation!$E:$E))<=FA$2)*(INDIRECT("Réservation!$i$2:$i$"&COUNTA(Réservation!$E:$E))>=FA$2)))} | ... FM4: {=REPT("n",SUMPRODUCT((INDIRECT("Réservation!$e$2:$n$"&COUNTA(Réservation!$E:$E))=$A4)*(INDIRECT("Réservation!$h$2:$h$"&COUNTA(Réservation!$E:$E))<=FM$2)*(INDIRECT("Réservation!$i$2:$i$"&COUNTA(Réservation!$E:$E))>=FM$2)))} | FO4: {=REPT("n",SUMPRODUCT((INDIRECT("Réservation!$e$2:$n$"&COUNTA(Réservation!$E:$E))=$A4)*(INDIRECT("Réservation!$h$2:$h$"&COUNTA(Réservation!$E:$E))<=FO$2)*(INDIRECT("Réservation!$i$2:$i$"&COUNTA(Réservation!$E:$E))>=FO$2)))} | FP4: {=REPT("n",SUMPRODUCT((INDIRECT("Réservation!$e$2:$n$"&COUNTA(Réservation!$E:$E))=$A4)*(INDIRECT("Réservation!$h$2:$h$"&COUNTA(Réservation!$E:$E))<=FP$2)*(INDIRECT("Réservation!$i$2:$i$"&COUNTA(Réservation!$E:$E))>=FP$2)))} | FQ4: {=REPT("n",SUMPRODUCT((INDIRECT("Réservation!$e$2:$n$"&COUNTA(Réservation!$E:$E))=$A4)*(INDIRECT("Réservation!$h$2:$h$"&COUNTA(Réservation!$E:$E))<=FQ$2)*(INDIRECT("Réservation!$i$2:$i$"&COUNTA(Réservation!$E:$E))>=FQ$2)))} | FR4: {=REPT("n",SUMPRODUCT((INDIRECT("Réservation!$e$2:$n$"&COUNTA(Réservation!$E:$E))=$A4)*(INDIRECT("Réservation!$h$2:$h$"&COUNTA(Réservation!$E:$E))<=FR$2)*(INDIRECT("Réservation!$i$2:$i$"&COUNTA(Réservation!$E:$E))>=FR$2)))} | FS4: {=REPT("n",SUMPRODUCT((INDIRECT("Réservation!$e$2:$n$"&COUNTA(Réservation!$E:$E))=$A4)*(INDIRECT("Réservation!$h$2:$h$"&COUNTA(Réservation!$E:$E))<=FS$2)*(INDIRECT("Réservation!$i$2:$i$"&COUNTA(Réservation!$E:$E))>=FS$2)))} | FT4: {=REPT("n",SUMPRODUCT((INDIRECT("Réservation!$e$2:$n$"&COUNTA(Réservation!$E:$E))=$A4)*(INDIRECT("Réservation!$h$2:$h$"&COUNTA(Réservation!$E:$E))<=FT$2)*(INDIRECT("Réservation!$i$2:$i$"&COUNTA(Réservation!$E:$E))>=FT$2)))} | FU4: {=REPT("n",SUMPRODUCT((INDIRECT("Réservation!$e$2:$n$"&COUNTA(Réservation!$E:$E))=$A4)*(INDIRECT("Réservation!$h$2:$h$"&COUNTA(Réservation!$E:$E))<=FU$2)*(INDIRECT("Réservation!$i$2:$i$"&COUNTA(Réservation!$E:$E))>=FU$2)))} | FV4: {=REPT("n",SUMPRODUCT((INDIRECT("Réservation!$e$2:$n$"&COUNTA(Réservation!$E:$E))=$A4)*(INDIRECT("Réservation!$h$2:$h$"&COUNTA(Réservation!$E:$E))<=FV$2)*(INDIRECT("Réservation!$i$2:$i$"&COUNTA(Réservation!$E:$E))>=FV$2)))} | ... GH4: {=REPT("n",SUMPRODUCT((INDIRECT("Réservation!$e$2:$n$"&COUNTA(Réservation!$E:$E))=$A4)*(INDIRECT("Réservation!$h$2:$h$"&COUNTA(Réservation!$E:$E))<=GH$2)*(INDIRECT("Réservation!$i$2:$i$"&COUNTA(Réservation!$E:$E))>=GH$2)))} | GJ4: {=REPT("n",SUMPRODUCT((INDIRECT("Réservation!$e$2:$n$"&COUNTA(Réservation!$E:$E))=$A4)*(INDIRECT("Réservation!$h$2:$h$"&COUNTA(Réservation!$E:$E))<=GJ$2)*(INDIRECT("Réservation!$i$2:$i$"&COUNTA(Réservation!$E:$E))>=GJ$2)))} | GK4: {=REPT("n",SUMPRODUCT((INDIRECT("Réservation!$e$2:$n$"&COUNTA(Réservation!$E:$E))=$A4)*(INDIRECT("Réservation!$h$2:$h$"&COUNTA(Réservation!$E:$E))<=GK$2)*(INDIRECT("Réservation!$i$2:$i$"&COUNTA(Réservation!$E:$E))>=GK$2)))} | GL4: {=REPT("n",SUMPRODUCT((INDIRECT("Réservation!$e$2:$n$"&COUNTA(Réservation!$E:$E))=$A4)*(INDIRECT("Réservation!$h$2:$h$"&COUNTA(Réservation!$E:$E))<=GL$2)*(INDIRECT("Réservation!$i$2:$i$"&COUNTA(Réservation!$E:$E))>=GL$2)))} | GM4: {=REPT("n",SUMPRODUCT((INDIRECT("Réservation!$e$2:$n$"&COUNTA(Réservation!$E:$E))=$A4)*(INDIRECT("Réservation!$h$2:$h$"&COUNTA(Réservation!$E:$E))<=GM$2)*(INDIRECT("Réservation!$i$2:$i$"&COUNTA(Réservation!$E:$E))>=GM$2)))} | GN4: {=REPT("n",SUMPRODUCT((INDIRECT("Réservation!$e$2:$n$"&COUNTA(Réservation!$E:$E))=$A4)*(INDIRECT("Réservation!$h$2:$h$"&COUNTA(Réservation!$E:$E))<=GN$2)*(INDIRECT("Réservation!$i$2:$i$"&COUNTA(Réservation!$E:$E))>=GN$2)))} | GO4: {=REPT("n",SUMPRODUCT((INDIRECT("Réservation!$e$2:$n$"&COUNTA(Réservation!$E:$E))=$A4)*(INDIRECT("Réservation!$h$2:$h$"&COUNTA(Réservation!$E:$E))<=GO$2)*(INDIRECT("Réservation!$i$2:$i$"&COUNTA(Réservation!$E:$E))>=GO$2)))} | GP4: {=REPT("n",SUMPRODUCT((INDIRECT("Réservation!$e$2:$n$"&COUNTA(Réservation!$E:$E))=$A4)*(INDIRECT("Réservation!$h$2:$h$"&COUNTA(Réservation!$E:$E))<=GP$2)*(INDIRECT("Réservation!$i$2:$i$"&COUNTA(Réservation!$E:$E))>=GP$2)))} | GQ4: {=REPT("n",SUMPRODUCT((INDIRECT("Réservation!$e$2:$n$"&COUNTA(Réservation!$E:$E))=$A4)*(INDIRECT("Réservation!$h$2:$h$"&COUNTA(Réservation!$E:$E))<=GQ$2)*(INDIRECT("Réservation!$i$2:$i$"&COUNTA(Réservation!$E:$E))>=GQ$2)))} | ... HC4: {=REPT("n",SUMPRODUCT((INDIRECT("Réservation!$e$2:$n$"&COUNTA(Réservation!$E:$E))=$A4)*(INDIRECT("Réservation!$h$2:$h$"&COUNTA(Réservation!$E:$E))<=HC$2)*(INDIRECT("Réservation!$i$2:$i$"&COUNTA(Réservation!$E:$E))>=HC$2)))} | HE4: {=REPT("n",SUMPRODUCT((INDIRECT("Réservation!$e$2:$n$"&COUNTA(Réservation!$E:$E))=$A4)*(INDIRECT("Réservation!$h$2:$h$"&COUNTA(Réservation!$E:$E))<=HE$2)*(INDIRECT("Réservation!$i$2:$i$"&COUNTA(Réservation!$E:$E))>=HE$2)))} | HF4: {=REPT("n",SUMPRODUCT((INDIRECT("Réservation!$e$2:$n$"&COUNTA(Réservation!$E:$E))=$A4)*(INDIRECT("Réservation!$h$2:$h$"&COUNTA(Réservation!$E:$E))<=HF$2)*(INDIRECT("Réservation!$i$2:$i$"&COUNTA(Réservation!$E:$E))>=HF$2)))} | HG4: {=REPT("n",SUMPRODUCT((INDIRECT("Réservation!$e$2:$n$"&COUNTA(Réservation!$E:$E))=$A4)*(INDIRECT("Réservation!$h$2:$h$"&COUNTA(Réservation!$E:$E))<=HG$2)*(INDIRECT("Réservation!$i$2:$i$"&COUNTA(Réservation!$E:$E))>=HG$2)))} | HH4: {=REPT("n",SUMPRODUCT((INDIRECT("Réservation!$e$2:$n$"&COUNTA(Réservation!$E:$E))=$A4)*(INDIRECT("Réservation!$h$2:$h$"&COUNTA(Réservation!$E:$E))<=HH$2)*(INDIRECT("Réservation!$i$2:$i$"&COUNTA(Réservation!$E:$E))>=HH$2)))} | HI4: {=REPT("n",SUMPRODUCT((INDIRECT("Réservation!$e$2:$n$"&COUNTA(Réservation!$E:$E))=$A4)*(INDIRECT("Réservation!$h$2:$h$"&COUNTA(Réservation!$E:$E))<=HI$2)*(INDIRECT("Réservation!$i$2:$i$"&COUNTA(Réservation!$E:$E))>=HI$2)))} | HJ4: {=REPT("n",SUMPRODUCT((INDIRECT("Réservation!$e$2:$n$"&COUNTA(Réservation!$E:$E))=$A4)*(INDIRECT("Réservation!$h$2:$h$"&COUNTA(Réservation!$E:$E))<=HJ$2)*(INDIRECT("Réservation!$i$2:$i$"&COUNTA(Réservation!$E:$E))>=HJ$2)))} | HK4: {=REPT("n",SUMPRODUCT((INDIRECT("Réservation!$e$2:$n$"&COUNTA(Réservation!$E:$E))=$A4)*(INDIRECT("Réservation!$h$2:$h$"&COUNTA(Réservation!$E:$E))<=HK$2)*(INDIRECT("Réservation!$i$2:$i$"&COUNTA(Réservation!$E:$E))>=HK$2)))} | HL4: {=REPT("n",SUMPRODUCT((INDIRECT("Réservation!$e$2:$n$"&COUNTA(Réservation!$E:$E))=$A4)*(INDIRECT("Réservation!$h$2:$h$"&COUNTA(Réservation!$E:$E))<=HL$2)*(INDIRECT("Réservation!$i$2:$i$"&COUNTA(Réservation!$E:$E))>=HL$2)))} | ... HX4: {=REPT("n",SUMPRODUCT((INDIRECT("Réservation!$e$2:$n$"&COUNTA(Réservation!$E:$E))=$A4)*(INDIRECT("Réservation!$h$2:$h$"&COUNTA(Réservation!$E:$E))<=HX$2)*(INDIRECT("Réservation!$i$2:$i$"&COUNTA(Réservation!$E:$E))>=HX$2)))} | HZ4: {=REPT("n",SUMPRODUCT((INDIRECT("Réservation!$e$2:$n$"&COUNTA(Réservation!$E:$E))=$A4)*(INDIRECT("Réservation!$h$2:$h$"&COUNTA(Réservation!$E:$E))<=HZ$2)*(INDIRECT("Réservation!$i$2:$i$"&COUNTA(Réservation!$E:$E))>=HZ$2)))} | IA4: {=REPT("n",SUMPRODUCT((INDIRECT("Réservation!$e$2:$n$"&COUNTA(Réservation!$E:$E))=$A4)*(INDIRECT("Réservation!$h$2:$h$"&COUNTA(Réservation!$E:$E))<=IA$2)*(INDIRECT("Réservation!$i$2:$i$"&COUNTA(Réservation!$E:$E))>=IA$2)))} | IB4: {=REPT("n",SUMPRODUCT((INDIRECT("Réservation!$e$2:$n$"&COUNTA(Réservation!$E:$E))=$A4)*(INDIRECT("Réservation!$h$2:$h$"&COUNTA(Réservation!$E:$E))<=IB$2)*(INDIRECT("Réservation!$i$2:$i$"&COUNTA(Réservation!$E:$E))>=IB$2)))} | IC4: {=REPT("n",SUMPRODUCT((INDIRECT("Réservation!$e$2:$n$"&COUNTA(Réservation!$E:$E))=$A4)*(INDIRECT("Réservation!$h$2:$h$"&COUNTA(Réservation!$E:$E))<=IC$2)*(INDIRECT("Réservation!$i$2:$i$"&COUNTA(Réservation!$E:$E))>=IC$2)))} | ID4: {=REPT("n",SUMPRODUCT((INDIRECT("Réservation!$e$2:$n$"&COUNTA(Réservation!$E:$E))=$A4)*(INDIRECT("Réservation!$h$2:$h$"&COUNTA(Réservation!$E:$E))<=ID$2)*(INDIRECT("Réservation!$i$2:$i$"&COUNTA(Réservation!$E:$E))>=ID$2)))} | IE4: {=REPT("n",SUMPRODUCT((INDIRECT("Réservation!$e$2:$n$"&COUNTA(Réservation!$E:$E))=$A4)*(INDIRECT("Réservation!$h$2:$h$"&COUNTA(Réservation!$E:$E))<=IE$2)*(INDIRECT("Réservation!$i$2:$i$"&COUNTA(Réservation!$E:$E))>=IE$2)))} | IF4: {=REPT("n",SUMPRODUCT((INDIRECT("Réservation!$e$2:$n$"&COUNTA(Réservation!$E:$E))=$A4)*(INDIRECT("Réservation!$h$2:$h$"&COUNTA(Réservation!$E:$E))<=IF$2)*(INDIRECT("Réservation!$i$2:$i$"&COUNTA(Réservation!$E:$E))>=IF$2)))} | IG4: {=REPT("n",SUMPRODUCT((INDIRECT("Réservation!$e$2:$n$"&COUNTA(Réservation!$E:$E))=$A4)*(INDIRECT("Réservation!$h$2:$h$"&COUNTA(Réservation!$E:$E))<=IG$2)*(INDIRECT("Réservation!$i$2:$i$"&COUNTA(Réservation!$E:$E))>=IG$2)))} | ... IS4: {=REPT("n",SUMPRODUCT((INDIRECT("Réservation!$e$2:$n$"&COUNTA(Réservation!$E:$E))=$A4)*(INDIRECT("Réservation!$h$2:$h$"&COUNTA(Réservation!$E:$E))<=IS$2)*(INDIRECT("Réservation!$i$2:$i$"&COUNTA(Réservation!$E:$E))>=IS$2)))} | IU4: {=REPT("n",SUMPRODUCT((INDIRECT("Réservation!$e$2:$n$"&COUNTA(Réservation!$E:$E))=$A4)*(INDIRECT("Réservation!$h$2:$h$"&COUNTA(Réservation!$E:$E))<=IU$2)*(INDIRECT("Réservation!$i$2:$i$"&COUNTA(Réservation!$E:$E))>=IU$2)))} | IV4: {=REPT("n",SUMPRODUCT((INDIRECT("Réservation!$e$2:$n$"&COUNTA(Réservation!$E:$E))=$A4)*(INDIRECT("Réservation!$h$2:$h$"&COUNTA(Réservation!$E:$E))<=IV$2)*(INDIRECT("Réservation!$i$2:$i$"&COUNTA(Réservation!$E:$E))>=IV$2)))} | IW4: {=REPT("n",SUMPRODUCT((INDIRECT("Réservation!$e$2:$n$"&COUNTA(Réservation!$E:$E))=$A4)*(INDIRECT("Réservation!$h$2:$h$"&COUNTA(Réservation!$E:$E))<=IW$2)*(INDIRECT("Réservation!$i$2:$i$"&COUNTA(Réservation!$E:$E))>=IW$2)))} | IX4: {=REPT("n",SUMPRODUCT((INDIRECT("Réservation!$e$2:$n$"&COUNTA(Réservation!$E:$E))=$A4)*(INDIRECT("Réservation!$h$2:$h$"&COUNTA(Réservation!$E:$E))<=IX$2)*(INDIRECT("Réservation!$i$2:$i$"&COUNTA(Réservation!$E:$E))>=IX$2)))} | IY4: {=REPT("n",SUMPRODUCT((INDIRECT("Réservation!$e$2:$n$"&COUNTA(Réservation!$E:$E))=$A4)*(INDIRECT("Réservation!$h$2:$h$"&COUNTA(Réservation!$E:$E))<=IY$2)*(INDIRECT("Réservation!$i$2:$i$"&COUNTA(Réservation!$E:$E))>=IY$2)))} | IZ4: {=REPT("n",SUMPRODUCT((INDIRECT("Réservation!$e$2:$n$"&COUNTA(Réservation!$E:$E))=$A4)*(INDIRECT("Réservation!$h$2:$h$"&COUNTA(Réservation!$E:$E))<=IZ$2)*(INDIRECT("Réservation!$i$2:$i$"&COUNTA(Réservation!$E:$E))>=IZ$2)))} | JA4: {=REPT("n",SUMPRODUCT((INDIRECT("Réservation!$e$2:$n$"&COUNTA(Réservation!$E:$E))=$A4)*(INDIRECT("Réservation!$h$2:$h$"&COUNTA(Réservation!$E:$E))<=JA$2)*(INDIRECT("Réservation!$i$2:$i$"&COUNTA(Réservation!$E:$E))>=JA$2)))} | JB4: {=REPT("n",SUMPRODUCT((INDIRECT("Réservation!$e$2:$n$"&COUNTA(Réservation!$E:$E))=$A4)*(INDIRECT("Réservation!$h$2:$h$"&COUNTA(Réservation!$E:$E))<=JB$2)*(INDIRECT("Réservation!$i$2:$i$"&COUNTA(Réservation!$E:$E))>=JB$2)))} | ... JN4: {=REPT("n",SUMPRODUCT((INDIRECT("Réservation!$e$2:$n$"&COUNTA(Réservation!$E:$E))=$A4)*(INDIRECT("Réservation!$h$2:$h$"&COUNTA(Réservation!$E:$E))<=JN$2)*(INDIRECT("Réservation!$i$2:$i$"&COUNTA(Réservation!$E:$E))>=JN$2)))}

Sheet Réservation
A1: Nom Prénom client | B1: Date | C1: Date départ | D1: date retour | E1: Immatriculation | F1: heure départ | G1: heure arrivée | H1: départ | I1: retour | J1: 1 | K1: 2 | L1: 3
A2: DOZIEN | C2: 40971 | D2: 40971 | E2: S3W52LC150727001 | F2: 0.58333333 | G2: 0.64583333 | H2: 40971.583 | I2: 40971.646 | J2: S3W52LC150727001 | K2: S3W52LC150727002
A3: VICTOR | C3: 40975 | D3: 40975 | E3: S3W52LC150727002 | F3: 0.58333333 | G3: 0.64583333 | H3: 40975.583 | I3: 40975.646 | J3: S3W52LC150727002 | K3: S3W52LC150727001
A4: HYACINTHA | C4: 40982 | D4: 40982 | E4: S3W52LC150727001 | F4: 0.58333333 | G4: 0.6875 | H4: 40982.583 | I4: 40982.688 | J4: S3W52LC150727001 | K4: S3W52LC150727002
A5: HYACINTHA | C5: 40976 | D5: 40976 | E5: S3W52LC150727002 | F5: 0.58333333 | G5: 0.6875 | H5: 40976.583 | I5: 40976.688 | J5: S3W52LC150727002
A6: GERALD | C6: 40973 | D6: 40973 | E6: S3W52LC150727001 | F6: 0.58333333 | G6: 0.64583333 | H6: 40973.583 | I6: 40973.646 | J6: S3W52LC150727001 | K6: S3W52LC150727002
