Workbook
Name Article: 'Base de donnée articles'!$A$8:$A$498
Name bdd: 'Base de donnée articles'!$B$7:$B$498
Name joachim: 'Base de donnée articles'!$B$8:$B$498
Name joachim1: 'Base de donnée articles'!$B$8:$B$498
Name joachim333: 'Base de donnée articles'!$B$8:$B$498
Name joachimm: 'Base de donnée articles'!$B$8:$B$498
Name joachimme: 'Base de donnée articles'!$B$8:$B$498
Name joachimmej: 'Base de donnée articles'!$B$7:$B$498
Name joachimmejean: 'Base de donnée articles'!$B$8:$B$498
Name joachimmm: 'Base de donnée articles'!$B$8:$B$498
Name joachimmmm: 'Base de donnée articles'!$B$7:$B$498
Name joo: 'Base de donnée articles'!$B$8:$B$498
Name lara: 'Base de donnée articles'!$B$7:$B$498
Name Liste_Article: Feuil1!$A$2:$A$492
Name liste1: 'Base de donnée articles'!$B$7:$B$498
Name listejo: 'Base de donnée articles'!$B$8:$B$498
Name LISTEPIECE: 'Base de donnée articles'!$C$7:$C$306
Name maliste: 'Base de donnée articles'!$B$8:$B$498
Name Ref: 'Base de donnée articles'!$C$8:$C$498
Name STOCK: 'Base de donnée articles'!$A$8:$C$358
Name stock10: 'Base de donnée articles'!$B$8:$B$407
Name stock11: 'Base de donnée articles'!$B$8:$B$425
Name stock1jo: 'Base de donnée articles'!$B$7:$B$472
Name stock4: 'Base de donnée articles'!$B$8:$B$425
Name stockjo: 'Base de donnée articles'!$B$8:$B$425
Name stockjo1: 'Base de donnée articles'!$B$8:$B$425
Name stockjoh: 'Base de donnée articles'!$B$8:$B$434
Name stocklara: 'Base de donnée articles'!$B$7:$B$434
Name STOCKPIECE: 'Base de donnée articles'!$C$8:$C$306
Name stockref: 'Base de donnée articles'!$B$8:$B$406
Name stockref1: 'Base de donnée articles'!$B$8:$B$406
Name stockref3: 'Base de donnée articles'!$B$8:$B$406
Name STOCKS: 'Base de donnée articles'!$C$8:$C$358
Name STOCKS1: 'Base de donnée articles'!$C$8:$C$359
Name STOCKS2: 'Base de donnée articles'!$C$8:$C$367
Name stockstock: 'Base de donnée articles'!$B$8:$B$425

Sheet Base de donnée articles
A2: BASE DE DONNÉES ARTICLES
A7: Article | B7: ref ok | C7: Ref | D7: Tarif | E7: Fournisseur | F7: emplacement
A8: Amortisseur anti retour | B8: =CONCATENATE(A8,"/",C8) -> Amortisseur anti retour/RB1007 RB0A17 | C8: RB1007 RB0A17 | D8: 10
A9: Arbre 1 | B9: =CONCATENATE(A9,"/",C9) -> Arbre 1/carré 22mm | C9: carré 22mm | D9: 10
A10: Arbre 2 | B10: =CONCATENATE(A10,"/",C10) -> Arbre 2/Carré pour retourneur | C10: Carré pour retourneur | D10: 10
A11: Arbre 3 | B11: =CONCATENATE(A11,"/",C11) -> Arbre 3/DDA L1 | C11: DDA L1 | D11: 10
A12: Arbre 4 | B12: =CONCATENATE(A12,"/",C12) -> Arbre 4/DDA L2 OU L3 | C12: DDA L2 OU L3 | D12: 10
A13: Arbre 5 | B13: =CONCATENATE(A13,"/",C13) -> Arbre 5/demi axe empileur/depileur | C13: demi axe empileur/depileur | D13: 10
A14: Arbre 6 | B14: =CONCATENATE(A14,"/",C14) -> Arbre 6/LIGNE 1 CL 1 OU 2 | C14: LIGNE 1 CL 1 OU 2 | D14: 10
A15: arbre cannelé | B15: =CONCATENATE(A15,"/",C15) -> arbre cannelé/arbre cannelé introducteur | C15: arbre cannelé introducteur | D15: 10
A16: axe chromé | B16: =CONCATENATE(A16,"/",C16) -> axe chromé/diam 16x260mm | C16: diam 16x260mm | D16: 10
A17: Bagues (laiton) CORALI pour distribution pointes | B17: =CONCATENATE(A17,"/",C17) -> Bagues (laiton) CORALI pour distribution pointes/dimensions: diam ext 12 x diam int 8 x longueur 12mm | C17: dimensions: diam ext 12 x diam int 8 x longueur 12mm | D17: 10
A18: bobine 1 | B18: =CONCATENATE(A18,"/",C18) -> bobine 1/type MSFG-24/42-50/60-OD 24V DC et 42V AC ref 809 35 014 | C18: type MSFG-24/42-50/60-OD 24V DC et 42V AC ref 809 35 014 | D18: 10
A19: bobine 2 | B19: =CONCATENATE(A19,"/",C19) -> bobine 2/Type 115-120V AC ref 430 041 54 | C19: Type 115-120V AC ref 430 041 54 | D19: 10
... A92: Détecteur annulaire | B92: =CONCATENATE(A92,"/",C92) -> Détecteur annulaire/BO1AN30POC5T=100MS | C92: BO1AN30POC5T=100MS | D92: 10
A93: Distributeur pneumatique 1 | B93: =CONCATENATE(A93,"/",C93) -> Distributeur pneumatique 1/54191023 | C93: 54191023 | D93: 10
A94: Distributeur pneumatique 2 | B94: =CONCATENATE(A94,"/",C94) -> Distributeur pneumatique 2/54292028 | C94: 54292028 | D94: 10
A95: Distributeurs 1 | B95: =CONCATENATE(A95,"/",C95) -> Distributeurs 1/MD1D-2TA/50 | C95: MD1D-2TA/50 | D95: 10
A96: Distributeurs 2 | B96: =CONCATENATE(A96,"/",C96) -> Distributeurs 2/MD1D-R/50 | C96: MD1D-R/50 | D96: 10
A97: Distributeurs 3 | B97: =CONCATENATE(A97,"/",C97) -> Distributeurs 3/SDHI-0610 23 | C97: SDHI-0610 23 | D97: 10
A98: Diviseur de flux hydraulique | B98: =CONCATENATE(A98,"/",C98) -> Diviseur de flux hydraulique/810 180 05 | C98: 810 180 05 | D98: 10
A99: Diviseur de flux hydraulique | B99: =CONCATENATE(A99,"/",C99) -> Diviseur de flux hydraulique/81018005 | C99: 81018005 | D99: 10
A100: ecrous 1 | B100: =CONCATENATE(A100,"/",C100) -> ecrous 1/M8 | C100: M8 | D100: 10
A101: ecrous 10 | B101: =CONCATENATE(A101,"/",C101) -> ecrous 10/M4 | C101: M4 | D101: 10
A102: ecrous 11 | B102: =CONCATENATE(A102,"/",C102) -> ecrous 11/M4 | C102: M4 | D102: 10
A103: ecrous 12 | B103: =CONCATENATE(A103,"/",C103) -> ecrous 12/M5 | C103: M5 | D103: 10
A104: ecrous 13 | B104: =CONCATENATE(A104,"/",C104) -> ecrous 13/M5 | C104: M5 | D104: 10
A105: ecrous 14 | B105: =CONCATENATE(A105,"/",C105) -> ecrous 14/M6 | C105: M6 | D105: 10
A106: ecrous 15 | B106: =CONCATENATE(A106,"/",C106) -> ecrous 15/M6 | C106: M6 | D106: 10
... A188: pignon | B188: =CONCATENATE(A188,"/",C188) -> pignon/pignon cremaillere introducteur | C188: pignon cremaillere introducteur | D188: 10
A189: pousseur planches | B189: =CONCATENATE(A189,"/",C189) -> pousseur planches /234030058 | C189: 234030058 | D189: 10
A190: Prise élec scpéciale | B190: =CONCATENATE(A190,"/",C190) -> Prise élec scpéciale/10 pins pour en/codeur ref 804 02 026 | C190: 10 pins pour en/codeur ref 804 02 026 | D190: 10
A191: Rabateur de traverses | B191: =CONCATENATE(A191,"/",C191) -> Rabateur de traverses/24227108 dx | C191: 24227108 dx | D191: 10
A192: Rabateur de traverses | B192: =CONCATENATE(A192,"/",C192) -> Rabateur de traverses/24227108 sx | C192: 24227108 sx | D192: 10
A193: raccord air 1 | B193: =CONCATENATE(A193,"/",C193) -> raccord air 1/Banjo d6 1/4 | C193: Banjo d6 1/4 | D193: 10
A194: raccord air 10 | B194: =CONCATENATE(A194,"/",C194) -> raccord air 10/Droit d6m 4f | C194: Droit d6m 4f | D194: 10
A195: raccord air 11 | B195: =CONCATENATE(A195,"/",C195) -> raccord air 11/Droit d8 1/4 | C195: Droit d8 1/4 | D195: 10
A196: raccord air 12 | B196: =CONCATENATE(A196,"/",C196) -> raccord air 12/Droit d8f 6m | C196: Droit d8f 6m | D196: 10
A197: raccord air 13 | B197: =CONCATENATE(A197,"/",C197) -> raccord air 13/Droit d8m 6f | C197: Droit d8m 6f | D197: 10
A198: raccord air 14 | B198: =CONCATENATE(A198,"/",C198) -> raccord air 14/Equerre d4 1/8 | C198: Equerre d4 1/8 | D198: 10
A199: raccord air 15 | B199: =CONCATENATE(A199,"/",C199) -> raccord air 15/Equerre d4 1/8 | C199: Equerre d4 1/8 | D199: 10
A200: raccord air 16 | B200: =CONCATENATE(A200,"/",C200) -> raccord air 16/Equerre d6 1/4 | C200: Equerre d6 1/4 | D200: 10
A201: raccord air 17 | B201: =CONCATENATE(A201,"/",C201) -> raccord air 17/Equerre d6 1/8 | C201: Equerre d6 1/8 | D201: 10
... A252: roulement 81 | B252: =CONCATENATE(A252,"/",C252) -> roulement 81/60908 | C252: 60908 | D252: 10
A253: roulement 1 | B253: =CONCATENATE(A253,"/",C253) -> roulement 1/6002 | C253: 6002 | D253: 10
A254: roulement 10 | B254: =CONCATENATE(A254,"/",C254) -> roulement 10/6015 | C254: 6015 | D254: 10
A255: roulement 12 | B255: =CONCATENATE(A255,"/",C255) -> roulement 12/6202 | C255: 6202 | D255: 10
A256: roulement 13 | B256: =CONCATENATE(A256,"/",C256) -> roulement 13/6203 | C256: 6203 | D256: 10
A257: roulement 14 | B257: =CONCATENATE(A257,"/",C257) -> roulement 14/6204 | C257: 6204 | D257: 10
A258: roulement 16 | B258: =CONCATENATE(A258,"/",C258) -> roulement 16/6205 2RS | C258: 6205 2RS | D258: 10
A259: roulement 17 | B259: =CONCATENATE(A259,"/",C259) -> roulement 17/6206 | C259: 6206 | D259: 10
A260: roulement 18 | B260: =CONCATENATE(A260,"/",C260) -> roulement 18/6207 | C260: 6207 | D260: 10
A261: roulement 19 | B261: =CONCATENATE(A261,"/",C261) -> roulement 19/6208 | C261: 6208 | D261: 10
A262: roulement 2 | B262: =CONCATENATE(A262,"/",C262) -> roulement 2/6004 | C262: 6004 | D262: 10
A263: roulement 23 | B263: =CONCATENATE(A263,"/",C263) -> roulement 23/6209DDU CM | C263: 6209DDU CM | D263: 10
A264: roulement 25 | B264: =CONCATENATE(A264,"/",C264) -> roulement 25/6210ZZCM | C264: 6210ZZCM | D264: 10
A265: roulement 26 | B265: =CONCATENATE(A265,"/",C265) -> roulement 26/6211 | C265: 6211 | D265: 10
A266: roulement 29 | B266: =CONCATENATE(A266,"/",C266) -> roulement 29/6212 | C266: 6212 | D266: 10
A267: roulement 3 | B267: =CONCATENATE(A267,"/",C267) -> roulement 3/6005 | C267: 6005 | D267: 10
A268: roulement 32 | B268: =CONCATENATE(A268,"/",C268) -> roulement 32/6213 | C268: 6213 | D268: 10
A269: roulement 34 | B269: =CONCATENATE(A269,"/",C269) -> roulement 34/6217CM | C269: 6217CM | D269: 10
A270: roulement 35 | B270: =CONCATENATE(A270,"/",C270) -> roulement 35/6301 | C270: 6301 | D270: 10
A271: roulement 37 | B271: =CONCATENATE(A271,"/",C271) -> roulement 37/6302 | C271: 6302 | D271: 10
A272: roulement 38 | B272: =CONCATENATE(A272,"/",C272) -> roulement 38/6303 | C272: 6303 | D272: 10
A273: roulement 39 | B273: =CONCATENATE(A273,"/",C273) -> roulement 39/6304 | C273: 6304 | D273: 10
A274: roulement 4 | B274: =CONCATENATE(A274,"/",C274) -> roulement 4/6008 | C274: 6008 | D274: 10
A275: roulement 40 | B275: =CONCATENATE(A275,"/",C275) -> roulement 40/6306 | C275: 6306 | D275: 10
A276: roulement 45 | B276: =CONCATENATE(A276,"/",C276) -> roulement 45/6307ZZ J30 | C276: 6307ZZ J30 | D276: 10
A277: roulement 50 | B277: =CONCATENATE(A277,"/",C277) -> roulement 50/6308DDU B AS2S | C277: 6308DDU B AS2S | D277: 10
A278: roulement 51 | B278: =CONCATENATE(A278,"/",C278) -> roulement 51/6309 | C278: 6309 | D278: 10
A279: roulement 53 | B279: =CONCATENATE(A279,"/",C279) -> roulement 53/6312DDU CM NS7S | C279: 6312DDU CM NS7S | D279: 10
A280: roulement 54 | B280: =CONCATENATE(A280,"/",C280) -> roulement 54/6408 | C280: 6408 | D280: 10
A281: roulement 56 | B281: =CONCATENATE(A281,"/",C281) -> roulement 56/6804 | C281: 6804 | D281: 10
A282: roulement 57 | B282: =CONCATENATE(A282,"/",C282) -> roulement 57/Type 6207.2RSR | C282: Type 6207.2RSR | D282: 10
A283: roulement 58 | B283: =CONCATENATE(A283,"/",C283) -> roulement 58/6002-C-2HRS | C283: 6002-C-2HRS | D283: 10
A284: roulement 59 | B284: =CONCATENATE(A284,"/",C284) -> roulement 59/6003-2RSR | C284: 6003-2RSR | D284: 10
A285: roulement 6 | B285: =CONCATENATE(A285,"/",C285) -> roulement 6/6010 | C285: 6010 | D285: 10
A286: roulement 65 | B286: =CONCATENATE(A286,"/",C286) -> roulement 65/6005DU | C286: 6005DU | D286: 10
A287: roulement 7 | B287: =CONCATENATE(A287,"/",C287) -> roulement 7/6010CM | C287: 6010CM | D287: 10
A288: roulement 75 | B288: =CONCATENATE(A288,"/",C288) -> roulement 75/6205DDU | C288: 6205DDU | D288: 10
A289: roulement 76 | B289: =CONCATENATE(A289,"/",C289) -> roulement 76/6206.2RS | C289: 6206.2RS | D289: 10
A290: roulement 77 | B290: =CONCATENATE(A290,"/",C290) -> roulement 77/6207.2RSR | C290: 6207.2RSR | D290: 10
A291: roulement 78 | B291: =CONCATENATE(A291,"/",C291) -> roulement 78/6303DU | C291: 6303DU | D291: 10
A292: roulement 8 | B292: =CONCATENATE(A292,"/",C292) -> roulement 8/6012 | C292: 6012 | D292: 10
A293: roulement 80 | B293: =CONCATENATE(A293,"/",C293) -> roulement 80/6304.2ZR | C293: 6304.2ZR | D293: 10
A294: Support pince CAPE | B294: =CONCATENATE(A294,"/",C294) -> Support pince CAPE/DX ET SX | C294: DX ET SX | D294: 10
A295: Support relais 1 | B295: =CONCATENATE(A295,"/",C295) -> Support relais 1/2571W1 | C295: 2571W1 | D295: 10
A296: Support relais 2 | B296: =CONCATENATE(A296,"/",C296) -> Support relais 2/94.44.1 | C296: 94.44.1 | D296: 10
A297: Support relais 6-24V DC | B297: =CONCATENATE(A297,"/",C297) -> Support relais 6-24V DC/9902.9024.99 | C297: 9902.9024.99 | D297: 10
A298: Tapis DDA ligne 3 | B298: =CONCATENATE(A298,"/",C298) -> Tapis DDA ligne 3 /bande transporteuse B212 V15 vert 7400mm x 1150mm sans fin | C298: bande transporteuse B212 V15 vert 7400mm x 1150mm sans fin | D298: 10
A299: Tapis ligne 2 apres 1/4 de tour | B299: =CONCATENATE(A299,"/",C299) -> Tapis ligne 2 apres 1/4 de tour/bande transporteuse | C299: bande transporteuse | D299: 10
A300: Tapis ligne 3 liaison retourneur/écornage | B300: =CONCATENATE(A300,"/",C300) -> Tapis ligne 3 liaison retourneur/écornage/Bande transporteuse 620mm x 8850mm sans fin | C300: Bande transporteuse 620mm x 8850mm sans fin | D300: 10
A301: Tranfo 400 ou 230/ 24-48V | B301: =CONCATENATE(A301,"/",C301) -> Tranfo 400 ou 230/ 24-48V/T100.24/48 | C301: T100.24/48 | D301: 10
A302: TRANSFO | B302: =CONCATENATE(A302,"/",C302) -> TRANSFO/804 01 090 | C302: 804 01 090 | D302: 10
A303: Transfo 400 ou 230/24V | B303: =CONCATENATE(A303,"/",C303) -> Transfo 400 ou 230/24V/AS CS 6864 N | C303: AS CS 6864 N | D303: 10
A304: Tube polyamide diametre 6 | B304: =CONCATENATE(A304,"/",C304) -> Tube polyamide diametre 6/1025 P0600 31090610 | C304: 1025 P0600 31090610 | D304: 10
... A408: vis tete H 9 | B408: =CONCATENATE(A408,"/",C408) -> vis tete H 9/M6 X20 | C408: M6 X20 | D408: 10
A409: cellule | B409: =CONCATENATE(A409,"/",C409) -> cellule/804821163 | C409: 804821163 | D409: 10
A410: bouton arrêt d'urgence zb4bc4 | B410: =CONCATENATE(A410,"/",C410) -> bouton arrêt d'urgence zb4bc4 / zb4bc4 | C410: zb4bc4 | D410: 10
A411: axe réglage butée empileur | B411: =CONCATENATE(A411,"/",C411) -> axe réglage butée empileur/axe vis trapézoidale | C411: axe vis trapézoidale | D411: 10
...

Sheet Journal entrées et sorties
B2: JOURNAL D'ENTRÉES ET SORTIES
B7: Date | C7: Ref | D7: Entrée | E7: Sortie
B8: 42400 | C8: VERINS PNEUMATIQUES 1/G453A3SK0160A00-032 x 0160 | E8: 1
B9: 42440 | C9: Amortisseur anti retour/RB1007 RB0A17 | D9: 2
B10: 42450 | C10: verin 33/G449A5SM0050A00 | E10: 1
B11: 42450 | C11: cellule 4/QS18VP6AF100Q5 | E11: 1
B12: 42450 | C12: moteurs 17/Taille 90 1,5KW B14 4P | E12: 1
B13: 42451 | C13: moteurs 14/Taille 100 3kw B3 4P | E13: 1
B14: 42451 | C14: Courroie codeur poutre clouage/808 06 499 type 390XL S191 AG | D14: 1
B15: 42458 | C15: Palier 3/palier phuse 25 | D15: 3
B16: 42458 | C16: Palier 3/palier phuse 25 | E16: 1
B17: 42458 | C17: cellule 3/Ni8UM12AP6XH1141 | E17: 1
B18: 42465 | C18: cellule 4/QS18VP6AF100Q5 | D18: 2
B19: 42465 | C19: b0an30dis460 | D19: 2 | E19: 1
B20: 42467 | C20: moteur frein/taille 80 4p b5 0,75 kw | E20: 1
B21: 42467 | C21: capteur position/xckt1587922 | E21: 1
B22: 42467 | C22: Tuyau enroulé/809 54 019 diam 20 ext diam 16 int | E22: 1
B23: 42468 | C23: axe réglage butée empileur/axe vis trapézoidale | D23: 1
B24: 42472 | C24: moteur électrique/taille 90 4p 1,5 kw b14 | D24: 1
B25: 42472 | C25: moteur électrique/Taille 100 3kw B3 4P | D25: 1
B26: 42472 | C26: VERINS PNEUMATIQUES 1/G453A3SK0160A00-032 x 0160 | D26: 1
B27: 42472 | C27: verin 32/G441AM2G0050A00-025 x 0050 | D27: 3
B28: 42472 | C28: raccord air 9/Droit d6 m5 | D28: 1
B29: 42472 | C29: raccord air 17/Equerre d6 1/8 | D29: 1
B30: 42473 | C30: contacteur lc1d18b7/lc1d18b7 | E30: 1
B31: 42479 | C31: moteurs 14/Taille 100 3kw B3 4P | E31: 1
B32: 42479 | C32: moteur/taille 80 4p 0,75kw b5 | D32: 1
B33: 42480 | C33: lame scie carbure /z100 d30 diametre 305 | D33: 6
B34: 42480 | C34: contacteur lc1d18b7/lc1d18b7 | D34: 1
B35: 42480 | C35: gaine aspiration/gaine d125 polyurethane | D35: 25
B36: 42480 | C36: bride reducteur/bride k4 t80 b14 | D36: 2
B37: 42480 | C37: moteur electrique/moteur t71 4p 0,37kw | D37: 1
B38: 42481 | C38: cellule 6/QS18VP6DQ8 | E38: 1
B39: 42481 | C39: verin 35/G453A4SK0080A00-040 x 0080 | E39: 1
B40: 42481 | C40: verin 28/CP96SDB40-80 | E40: 1
B41: 42481 | C41: axe distribution pointes/axe corali 165 25 24 | D41: 1
B42: 42482 | C42: enclume rivetage/riveur cape | D42: 1 | E42: 1
B43: 42485 | C43: verin 32/G441AM2G0050A00-025 x 0050 | E43: 1
B44: 42486 | C44: Codeur/GHM406-1000-006 | E44: 1
B45: 42486 | C45: cellule 3/Ni8UM12AP6XH1141 | D45: 2
B46: 42486 | C46: cellule 1/Ni12UM18AP6Xh1141 | D46: 2
B47: 42486 | C47: cellule 6/QS18VP6DQ8 | D47: 2
B48: 42486 | C48: vis CHC 8/M10 X60 | D48: 1
B49: 42486 | C49: tuyau tressé /tricoclair 10*16 | D49: 1
B50: 42486 | C50: raccord olive /diametre 4 01110400 | D50: 1
B51: 42486 | C51: cellule 7/QS18VP6LPQ8 | D51: 1
B52: 42487 | C52: cellule/cellule sick wt150-p460 | E52: 1
B53: 42488 | C53: reflecteur rond/reflecteur brt 84 | E53: 1
B54: 42486 | C54: fourrure/diametre 2,7 01270427 | D54: 1
B55: 42493 | C55: axe chromé/diam 16x260mm | D55: 10
B56: 42494 | C56: raccord air 28/Manchon d8 | E56: 1
B57: 42495 | C57: Moteur frein/motovario t100 4p 2,2 kw frein 3 | E57: 1
B58: 42500 | C58: cellule 6/QS18VP6DQ8 | E58: 1
B59: 42501 | C59: raccord air 28/Manchon d8 | D59: 1
B60: 42501 | C60: Contacteur 26/3RT1026-1B..0 | E60: 1
B61: 42502 | C61: Capteurs de position tiges vérins 8/REED-FL2-00 | D61: 3 | E61: 3
B62: 42502 | C62: verin 33/G449A5SM0050A00 | D62: 3 | E62: 3
B63: 42507 | C63: Roue crantée motrice fenwick gerbeur/roue motrice 5 trous | D63: 2 | E63: 1
B64: 42514 | C64: cellule/datalogic s3z-pr-5-m01-pl | D64: 2
B65: 42514 | C65: reducteur 1/SRT040 | E65: 1
B66: 42514 | C66: axe chromé/diam 16x260mm | E66: 4
B67: 42515 | C67: cellule 3/Ni8UM12AP6XH1141 | E67: 1
B68: 42520 | C68: douille à billes/ kb20-pp | D68: 3
B69: 42520 | C69: lame /scie a metaux | D69: 10
B70: 42520 | C70: attache rapide/demi maillon 16b1 | D70: 3
B71: 42522 | C71: cable et connecteur/WC4T-5/TEL | E71: 1
B72: 42528 | C72: cellule capte noir/datalogic s62-pa-5-m21-pp | E72: 1
B73: 42531 | C73: bagues/enclume guide 24202312 | D73: 2
B74: 42535 | C74: vis 12/chc m12*50 | D74: 1
B75: 42535 | C75: vis 14/chc m14*40 | D75: 1
B76: 42535 | C76: vis 6/chc m6*90 | D76: 1
B77: 42535 | C77: reducteur/varvel srt04015g319 | D77: 1
B78: 42535 | C78: moteur four/taille 100 3kw B3 4P | D78: 1
B79: 42538 | C79: Codeur/GHM406-1000-006 | D79: 1
B80: 42543 | C80: reflecteur rond/reflecteur brt 84 | D80: 4
B81: 42543 | C81: cellule 3/Ni8UM12AP6XH1141 | D81: 2
B82: 42543 | C82: cellule clou/bi30rq20ap6xh1141 | D82: 2
B83: 42544 | C83: chaine/8b1 | D83: 1
B84: 42544 | C84: vis CHC 29/M8 X30 | D84: 1
... B86: 42545 | C86: verin 32/G441AM2G0050A00-025 x 0050 | D86: 1
B87: 42552 | C87: palier/ucf204 | D87: 2 | E87: 1
B88: 42552 | C88: patin/hiwin HGW35HCZ0H | D88: 3
B89: 42557 | C89: moyeu amovible/2012AL35 | D89: 2
B90: 42557 | C90: moteur frein/taille 100 4p 2,2 kw b5 | D90: 1
B91: 42557 | C91: chaine/10b1 | D91: 1
B92: 42557 | C92: chaine/12b1 | D92: 1
B93: 42557 | C93: vis/fhc10*40 | D93: 1
B94: 42557 | C94: rail/hgr35 | D94: 1
B95: 42557 | C95: disque /pignon 70 dents 12b1 | D95: 1
B96: 42557 | C96: pignon /32 dents/moyeu 2012 | D96: 2
B97: 42557 | C97: distributeur hydraulique/dhi071100 | D97: 1
B98: 42557 | C98: bobine /48 vac | D98: 2
B99: 42559 | C99: verin 35/G453A4SK0080A00-040 x 0080 | D99: 2
... B104: 42571 | C104: pilote pneumatique/1890001 | D104: 3
B105: 42577 | C105: frein moteur/seipee t132 9,2kw | E105: 1
B106: 42578 | C106: moteur 13/Type ZKF90L 4 B14-1,5kW en 230/400V-1425 tr/min | E106: 1
B107: 42583 | C107: moteur 13/Type ZKF90L 4 B14-1,5kW en 230/400V-1425 tr/min | D107: 1
B108: 42583 | C108: codeur corali/poutre 80402046 | D108: 1
B109: 42583 | C109: verin pointe corali/bloqueur 809057041 | D109: 2
B110: 42583 | C110: capteur corali/clou 804821163 | D110: 2
...

Sheet Etat des stocks
B2: ÉTAT DES STOCKS
B4: Valeur du stock : | C4: =SUM(I8:I471) -> 11590
B7: Article | C7: Ref | D7: Stock initial | E7: Entrées | F7: Sorties | G7: Stock Final | H7: tarif | I7: valorisation
B8: =IF('Base de donnée articles'!A480="","",'Base de donnée articles'!A480) -> accouplement et flector | C8: =IF('Base de donnée articles'!B480="","",'Base de donnée articles'!B480) -> accouplement et flector/l3cl1/2 groupe hydraulique | D8: 0 | E8: =IF(B8="","",SUMIFS('Journal entrées et sorties'!D$8:D$415,'Journal entrées et sorties'!C$8:C$415,C8)) -> 0 | F8: =IF(C8="","",SUMIFS('Journal entrées et sorties'!E$8:E$515,'Journal entrées et sorties'!C$8:C$515,C8)) -> 0 | G8: =IF(C8="","",D8+E8-F8) -> 0 | H8: =VLOOKUP(B8,'Base de donnée articles'!A480:F540,4,0) -> 10 | I8: =H8*G8 -> 0
B9: =IF('Base de donnée articles'!A8="","",'Base de donnée articles'!A8) -> Amortisseur anti retour | C9: =IF('Base de donnée articles'!B8="","",'Base de donnée articles'!B8) -> Amortisseur anti retour/RB1007 RB0A17 | D9: 2 | E9: =IF(B9="","",SUMIFS('Journal entrées et sorties'!D$8:D$415,'Journal entrées et sorties'!C$8:C$415,C9)) -> 5 | F9: =IF(C9="","",SUMIFS('Journal entrées et sorties'!E$8:E$515,'Journal entrées et sorties'!C$8:C$515,C9)) -> 1 | G9: =IF(C9="","",D9+E9-F9) -> 6 | H9: =VLOOKUP(B9,'Base de donnée articles'!A8:F15,4,0) -> 10 | I9: =H9*G9 -> 60
B10: =IF('Base de donnée articles'!A9="","",'Base de donnée articles'!A9) -> Arbre 1 | C10: =IF('Base de donnée articles'!B9="","",'Base de donnée articles'!B9) -> Arbre 1/carré 22mm | D10: 4 | E10: =IF(B10="","",SUMIFS('Journal entrées et sorties'!D$8:D$415,'Journal entrées et sorties'!C$8:C$415,C10)) -> 0 | F10: =IF(C10="","",SUMIFS('Journal entrées et sorties'!E$8:E$515,'Journal entrées et sorties'!C$8:C$515,C10)) -> 0 | G10: =IF(C10="","",D10+E10-F10) -> 4 | H10: =VLOOKUP(B10,'Base de donnée articles'!A9:F16,4,0) -> 10 | I10: =H10*G10 -> 40
B11: =IF('Base de donnée articles'!A10="","",'Base de donnée articles'!A10) -> Arbre 2 | C11: =IF('Base de donnée articles'!B10="","",'Base de donnée articles'!B10) -> Arbre 2/Carré pour retourneur | D11: 1 | E11: =IF(B11="","",SUMIFS('Journal entrées et sorties'!D$8:D$415,'Journal entrées et sorties'!C$8:C$415,C11)) -> 0 | F11: =IF(C11="","",SUMIFS('Journal entrées et sorties'!E$8:E$515,'Journal entrées et sorties'!C$8:C$515,C11)) -> 0 | G11: =IF(C11="","",D11+E11-F11) -> 1 | H11: =VLOOKUP(B11,'Base de donnée articles'!A10:F17,4,0) -> 10 | I11: =H11*G11 -> 10
B12: =IF('Base de donnée articles'!A11="","",'Base de donnée articles'!A11) -> Arbre 3 | C12: =IF('Base de donnée articles'!B11="","",'Base de donnée articles'!B11) -> Arbre 3/DDA L1 | D12: 1 | E12: =IF(B12="","",SUMIFS('Journal entrées et sorties'!D$8:D$415,'Journal entrées et sorties'!C$8:C$415,C12)) -> 0 | F12: =IF(C12="","",SUMIFS('Journal entrées et sorties'!E$8:E$515,'Journal entrées et sorties'!C$8:C$515,C12)) -> 0 | G12: =IF(C12="","",D12+E12-F12) -> 1 | H12: =VLOOKUP(B12,'Base de donnée articles'!A11:F18,4,0) -> 10 | I12: =H12*G12 -> 10
B13: =IF('Base de donnée articles'!A12="","",'Base de donnée articles'!A12) -> Arbre 4 | C13: =IF('Base de donnée articles'!B12="","",'Base de donnée articles'!B12) -> Arbre 4/DDA L2 OU L3 | D13: 1 | E13: =IF(B13="","",SUMIFS('Journal entrées et sorties'!D$8:D$415,'Journal entrées et sorties'!C$8:C$415,C13)) -> 1 | F13: =IF(C13="","",SUMIFS('Journal entrées et sorties'!E$8:E$515,'Journal entrées et sorties'!C$8:C$515,C13)) -> 1 | G13: =IF(C13="","",D13+E13-F13) -> 1 | H13: =VLOOKUP(B13,'Base de donnée articles'!A12:F19,4,0) -> 10 | I13: =H13*G13 -> 10
B14: =IF('Base de donnée articles'!A13="","",'Base de donnée articles'!A13) -> Arbre 5 | C14: =IF('Base de donnée articles'!B13="","",'Base de donnée articles'!B13) -> Arbre 5/demi axe empileur/depileur | D14: 2 | E14: =IF(B14="","",SUMIFS('Journal entrées et sorties'!D$8:D$415,'Journal entrées et sorties'!C$8:C$415,C14)) -> 0 | F14: =IF(C14="","",SUMIFS('Journal entrées et sorties'!E$8:E$515,'Journal entrées et sorties'!C$8:C$515,C14)) -> 0 | G14: =IF(C14="","",D14+E14-F14) -> 2 | H14: =VLOOKUP(B14,'Base de donnée articles'!A13:F20,4,0) -> 10 | I14: =H14*G14 -> 20
B15: =IF('Base de donnée articles'!A14="","",'Base de donnée articles'!A14) -> Arbre 6 | C15: =IF('Base de donnée articles'!B14="","",'Base de donnée articles'!B14) -> Arbre 6/LIGNE 1 CL 1 OU 2 | D15: 1 | E15: =IF(B15="","",SUMIFS('Journal entrées et sorties'!D$8:D$415,'Journal entrées et sorties'!C$8:C$415,C15)) -> 0 | F15: =IF(C15="","",SUMIFS('Journal entrées et sorties'!E$8:E$515,'Journal entrées et sorties'!C$8:C$515,C15)) -> 0 | G15: =IF(C15="","",D15+E15-F15) -> 1 | H15: =VLOOKUP(B15,'Base de donnée articles'!A14:F21,4,0) -> 10 | I15: =H15*G15 -> 10
B16: =IF('Base de donnée articles'!A15="","",'Base de donnée articles'!A15) -> arbre cannelé | C16: =IF('Base de donnée articles'!B15="","",'Base de donnée articles'!B15) -> arbre cannelé/arbre cannelé introducteur | D16: 1 | E16: =IF(B16="","",SUMIFS('Journal entrées et sorties'!D$8:D$415,'Journal entrées et sorties'!C$8:C$415,C16)) -> 0 | F16: =IF(C16="","",SUMIFS('Journal entrées et sorties'!E$8:E$515,'Journal entrées et sorties'!C$8:C$515,C16)) -> 0 | G16: =IF(C16="","",D16+E16-F16) -> 1 | H16: =VLOOKUP(B16,'Base de donnée articles'!A15:F22,4,0) -> 10 | I16: =H16*G16 -> 10
B17: =IF('Base de donnée articles'!A482="","",'Base de donnée articles'!A482) -> attache rapide | C17: =IF('Base de donnée articles'!B482="","",'Base de donnée articles'!B482) -> attache rapide/chaine 12b1 | D17: 0 | E17: =IF(B17="","",SUMIFS('Journal entrées et sorties'!D$8:D$415,'Journal entrées et sorties'!C$8:C$415,C17)) -> 10 | F17: =IF(C17="","",SUMIFS('Journal entrées et sorties'!E$8:E$515,'Journal entrées et sorties'!C$8:C$515,C17)) -> 0 | G17: =IF(C17="","",D17+E17-F17) -> 10 | H17: =VLOOKUP(B17,'Base de donnée articles'!A482:F542,4,0) -> 10 | I17: =H17*G17 -> 100
B18: =IF('Base de donnée articles'!A481="","",'Base de donnée articles'!A481) -> attache rapide | C18: =IF('Base de donnée articles'!B481="","",'Base de donnée articles'!B481) -> attache rapide /chaine 10b1 | D18: 0 | E18: =IF(B18="","",SUMIFS('Journal entrées et sorties'!D$8:D$415,'Journal entrées et sorties'!C$8:C$415,C18)) -> 10 | F18: =IF(C18="","",SUMIFS('Journal entrées et sorties'!E$8:E$515,'Journal entrées et sorties'!C$8:C$515,C18)) -> 0 | G18: =IF(C18="","",D18+E18-F18) -> 10 | H18: =VLOOKUP(B18,'Base de donnée articles'!A481:F541,4,0) -> 10 | I18: =H18*G18 -> 100
B19: =IF('Base de donnée articles'!A16="","",'Base de donnée articles'!A16) -> axe chromé | C19: =IF('Base de donnée articles'!B16="","",'Base de donnée articles'!B16) -> axe chromé/diam 16x260mm | D19: 2 | E19: =IF(B19="","",SUMIFS('Journal entrées et sorties'!D$8:D$415,'Journal entrées et sorties'!C$8:C$415,C19)) -> 10 | F19: =IF(C19="","",SUMIFS('Journal entrées et sorties'!E$8:E$515,'Journal entrées et sorties'!C$8:C$515,C19)) -> 4 | G19: =IF(C19="","",D19+E19-F19) -> 8 | H19: =VLOOKUP(B19,'Base de donnée articles'!A16:F23,4,0) -> 10 | I19: =H19*G19 -> 80
B20: =IF('Base de donnée articles'!A422="","",'Base de donnée articles'!A422) -> axe distribution pointes | C20: =IF('Base de donnée articles'!B422="","",'Base de donnée articles'!B422) -> axe distribution pointes/axe corali 165 25 24 | D20: 0 | E20: =IF(B20="","",SUMIFS('Journal entrées et sorties'!D$8:D$415,'Journal entrées et sorties'!C$8:C$415,C20)) -> 1 | F20: =IF(C20="","",SUMIFS('Journal entrées et sorties'!E$8:E$515,'Journal entrées et sorties'!C$8:C$515,C20)) -> 0 | G20: =IF(C20="","",D20+E20-F20) -> 1 | H20: =VLOOKUP(B20,'Base de donnée articles'!A422:F498,4,0) -> 10 | I20: =H20*G20 -> 10
B21: =IF('Base de donnée articles'!A478="","",'Base de donnée articles'!A478) -> axe reducteur | C21: =IF('Base de donnée articles'!B478="","",'Base de donnée articles'!B478) -> axe reducteur/cape bac a pointes | D21: 0 | E21: =IF(B21="","",SUMIFS('Journal entrées et sorties'!D$8:D$415,'Journal entrées et sorties'!C$8:C$415,C21)) -> 0 | F21: =IF(C21="","",SUMIFS('Journal entrées et sorties'!E$8:E$515,'Journal entrées et sorties'!C$8:C$515,C21)) -> 0 | G21: =IF(C21="","",D21+E21-F21) -> 0 | H21: =VLOOKUP(B21,'Base de donnée articles'!A478:F538,4,0) -> 10 | I21: =H21*G21 -> 0
B22: =IF('Base de donnée articles'!A411="","",'Base de donnée articles'!A411) -> axe réglage butée empileur | C22: =IF('Base de donnée articles'!B411="","",'Base de donnée articles'!B411) -> axe réglage butée empileur/axe vis trapézoidale | D22: 0 | E22: =IF(B22="","",SUMIFS('Journal entrées et sorties'!D$8:D$415,'Journal entrées et sorties'!C$8:C$415,C22)) -> 1 | F22: =IF(C22="","",SUMIFS('Journal entrées et sorties'!E$8:E$515,'Journal entrées et sorties'!C$8:C$515,C22)) -> 0 | G22: =IF(C22="","",D22+E22-F22) -> 1 | H22: =VLOOKUP(B22,'Base de donnée articles'!A411:F449,4,0) -> 10 | I22: =H22*G22 -> 10
B23: =IF('Base de donnée articles'!A439="","",'Base de donnée articles'!A439) -> bagues | C23: =IF('Base de donnée articles'!B439="","",'Base de donnée articles'!B439) -> bagues/enclume guide 24202312 | D23: 0 | E23: =IF(B23="","",SUMIFS('Journal entrées et sorties'!D$8:D$415,'Journal entrées et sorties'!C$8:C$415,C23)) -> 2 | F23: =IF(C23="","",SUMIFS('Journal entrées et sorties'!E$8:E$515,'Journal entrées et sorties'!C$8:C$515,C23)) -> 0 | G23: =IF(C23="","",D23+E23-F23) -> 2 | H23: =VLOOKUP(B23,'Base de donnée articles'!A430:F506,4,0) -> 10 | I23: =H23*G23 -> 20
B24: =IF('Base de donnée articles'!A17="","",'Base de donnée articles'!A17) -> Bagues (laiton) CORALI pour distribution pointes | C24: =IF('Base de donnée articles'!B17="","",'Base de donnée articles'!B17) -> Bagues (laiton) CORALI pour distribution pointes/dimensions: diam ext 12 x diam int 8 x longueur 12mm | D24: 12 | E24: =IF(B24="","",SUMIFS('Journal entrées et sorties'!D$8:D$415,'Journal entrées et sorties'!C$8:C$415,C24)) -> 0 | F24: =IF(C24="","",SUMIFS('Journal entrées et sorties'!E$8:E$515,'Journal entrées et sorties'!C$8:C$515,C24)) -> 0 | G24: =IF(C24="","",D24+E24-F24) -> 12 | H24: =VLOOKUP(B24,'Base de donnée articles'!A17:F24,4,0) -> 10 | I24: =H24*G24 -> 120
B25: =IF('Base de donnée articles'!A461="","",'Base de donnée articles'!A461) -> bobine | C25: =IF('Base de donnée articles'!B461="","",'Base de donnée articles'!B461) -> bobine /48 vac | D25: 0 | E25: =IF(B25="","",SUMIFS('Journal entrées et sorties'!D$8:D$415,'Journal entrées et sorties'!C$8:C$415,C25)) -> 2 | F25: =IF(C25="","",SUMIFS('Journal entrées et sorties'!E$8:E$515,'Journal entrées et sorties'!C$8:C$515,C25)) -> 0 | G25: =IF(C25="","",D25+E25-F25) -> 2 | H25: =VLOOKUP(B25,'Base de donnée articles'!A461:F521,4,0) -> 10 | I25: =H25*G25 -> 20
B26: =IF('Base de donnée articles'!A18="","",'Base de donnée articles'!A18) -> bobine 1 | C26: =IF('Base de donnée articles'!B18="","",'Base de donnée articles'!B18) -> bobine 1/type MSFG-24/42-50/60-OD 24V DC et 42V AC ref 809 35 014 | D26: 5 | E26: =IF(B26="","",SUMIFS('Journal entrées et sorties'!D$8:D$415,'Journal entrées et sorties'!C$8:C$415,C26)) -> 0 | F26: =IF(C26="","",SUMIFS('Journal entrées et sorties'!E$8:E$515,'Journal entrées et sorties'!C$8:C$515,C26)) -> 0 | G26: =IF(C26="","",D26+E26-F26) -> 5 | H26: =VLOOKUP(B26,'Base de donnée articles'!A18:F25,4,0) -> 10 | I26: =H26*G26 -> 50
B27: =IF('Base de donnée articles'!A19="","",'Base de donnée articles'!A19) -> bobine 2 | C27: =IF('Base de donnée articles'!B19="","",'Base de donnée articles'!B19) -> bobine 2/Type 115-120V AC ref 430 041 54 | D27: 5 | E27: =IF(B27="","",SUMIFS('Journal entrées et sorties'!D$8:D$415,'Journal entrées et sorties'!C$8:C$415,C27)) -> 0 | F27: =IF(C27="","",SUMIFS('Journal entrées et sorties'!E$8:E$515,'Journal entrées et sorties'!C$8:C$515,C27)) -> 0 | G27: =IF(C27="","",D27+E27-F27) -> 5 | H27: =VLOOKUP(B27,'Base de donnée articles'!A19:F26,4,0) -> 10 | I27: =H27*G27 -> 50
B28: =IF('Base de donnée articles'!A20="","",'Base de donnée articles'!A20) -> bobine 3 | C28: =IF('Base de donnée articles'!B20="","",'Base de donnée articles'!B20) -> bobine 3/Type 230V AC ref 430 044 22 | D28: 5 | E28: =IF(B28="","",SUMIFS('Journal entrées et sorties'!D$8:D$415,'Journal entrées et sorties'!C$8:C$415,C28)) -> 0 | F28: =IF(C28="","",SUMIFS('Journal entrées et sorties'!E$8:E$515,'Journal entrées et sorties'!C$8:C$515,C28)) -> 0 | G28: =IF(C28="","",D28+E28-F28) -> 5 | H28: =VLOOKUP(B28,'Base de donnée articles'!A20:F27,4,0) -> 10 | I28: =H28*G28 -> 50
B29: =IF('Base de donnée articles'!A21="","",'Base de donnée articles'!A21) -> bobine 4 | C29: =IF('Base de donnée articles'!B21="","",'Base de donnée articles'!B21) -> bobine 4/Type 240V ref 1 824 210 220 ou 1 824 210 234 | D29: 5 | E29: =IF(B29="","",SUMIFS('Journal entrées et sorties'!D$8:D$415,'Journal entrées et sorties'!C$8:C$415,C29)) -> 0 | F29: =IF(C29="","",SUMIFS('Journal entrées et sorties'!E$8:E$515,'Journal entrées et sorties'!C$8:C$515,C29)) -> 0 | G29: =IF(C29="","",D29+E29-F29) -> 5 | H29: =VLOOKUP(B29,'Base de donnée articles'!A21:F28,4,0) -> 10 | I29: =H29*G29 -> 50
B30: =IF('Base de donnée articles'!A22="","",'Base de donnée articles'!A22) -> bobine 5 | C30: =IF('Base de donnée articles'!B22="","",'Base de donnée articles'!B22) -> bobine 5/type 24V AC ref 430 044 16 ou 430 04 181 | D30: 5 | E30: =IF(B30="","",SUMIFS('Journal entrées et sorties'!D$8:D$415,'Journal entrées et sorties'!C$8:C$415,C30)) -> 0 | F30: =IF(C30="","",SUMIFS('Journal entrées et sorties'!E$8:E$515,'Journal entrées et sorties'!C$8:C$515,C30)) -> 0 | G30: =IF(C30="","",D30+E30-F30) -> 5 | H30: =VLOOKUP(B30,'Base de donnée articles'!A22:F29,4,0) -> 10 | I30: =H30*G30 -> 50
B31: =IF('Base de donnée articles'!A23="","",'Base de donnée articles'!A23) -> bobine 6 | C31: =IF('Base de donnée articles'!B23="","",'Base de donnée articles'!B23) -> bobine 6/Type 24V DC ref 430 041 66 ou 400 904 -042 | D31: 5 | E31: =IF(B31="","",SUMIFS('Journal entrées et sorties'!D$8:D$415,'Journal entrées et sorties'!C$8:C$415,C31)) -> 0 | F31: =IF(C31="","",SUMIFS('Journal entrées et sorties'!E$8:E$515,'Journal entrées et sorties'!C$8:C$515,C31)) -> 0 | G31: =IF(C31="","",D31+E31-F31) -> 5 | H31: =VLOOKUP(B31,'Base de donnée articles'!A23:F30,4,0) -> 10 | I31: =H31*G31 -> 50
B32: =IF('Base de donnée articles'!A24="","",'Base de donnée articles'!A24) -> bobine 7 | C32: =IF('Base de donnée articles'!B24="","",'Base de donnée articles'!B24) -> bobine 7/Type 48V AC ref 430 044 17 | D32: 5 | E32: =IF(B32="","",SUMIFS('Journal entrées et sorties'!D$8:D$415,'Journal entrées et sorties'!C$8:C$415,C32)) -> 0 | F32: =IF(C32="","",SUMIFS('Journal entrées et sorties'!E$8:E$515,'Journal entrées et sorties'!C$8:C$515,C32)) -> 0 | G32: =IF(C32="","",D32+E32-F32) -> 5 | H32: =VLOOKUP(B32,'Base de donnée articles'!A24:F31,4,0) -> 10 | I32: =H32*G32 -> 50
B33: =IF('Base de donnée articles'!A410="","",'Base de donnée articles'!A410) -> bouton arrêt d'urgence zb4bc4 | C33: =IF('Base de donnée articles'!B410="","",'Base de donnée articles'!B410) -> bouton arrêt d'urgence zb4bc4 / zb4bc4 | D33: 0 | E33: =IF(B33="","",SUMIFS('Journal entrées et sorties'!D$8:D$415,'Journal entrées et sorties'!C$8:C$415,C33)) -> 0 | F33: =IF(C33="","",SUMIFS('Journal entrées et sorties'!E$8:E$515,'Journal entrées et sorties'!C$8:C$515,C33)) -> 0 | G33: =IF(C33="","",D33+E33-F33) -> 0 | H33: =VLOOKUP(B33,'Base de donnée articles'!A410:F448,4,0) -> 10 | I33: =H33*G33 -> 0
B34: =IF('Base de donnée articles'!A25="","",'Base de donnée articles'!A25) -> Bride 1 | C34: =IF('Base de donnée articles'!B25="","",'Base de donnée articles'!B25) -> Bride 1/Diam 105 | D34: 1 | E34: =IF(B34="","",SUMIFS('Journal entrées et sorties'!D$8:D$415,'Journal entrées et sorties'!C$8:C$415,C34)) -> 0 | F34: =IF(C34="","",SUMIFS('Journal entrées et sorties'!E$8:E$515,'Journal entrées et sorties'!C$8:C$515,C34)) -> 0 | G34: =IF(C34="","",D34+E34-F34) -> 1 | H34: =VLOOKUP(B34,'Base de donnée articles'!A25:F32,4,0) -> 10 | I34: =H34*G34 -> 10
B35: =IF('Base de donnée articles'!A26="","",'Base de donnée articles'!A26) -> Bride 10 | C35: =IF('Base de donnée articles'!B26="","",'Base de donnée articles'!B26) -> Bride 10/K534.206.200 | D35: 1 | E35: =IF(B35="","",SUMIFS('Journal entrées et sorties'!D$8:D$415,'Journal entrées et sorties'!C$8:C$415,C35)) -> 0 | F35: =IF(C35="","",SUMIFS('Journal entrées et sorties'!E$8:E$515,'Journal entrées et sorties'!C$8:C$515,C35)) -> 0 | G35: =IF(C35="","",D35+E35-F35) -> 1 | H35: =VLOOKUP(B35,'Base de donnée articles'!A26:F33,4,0) -> 10 | I35: =H35*G35 -> 10
B36: =IF('Base de donnée articles'!A27="","",'Base de donnée articles'!A27) -> Bride 2 | C36: =IF('Base de donnée articles'!B27="","",'Base de donnée articles'!B27) -> Bride 2/Diam 120 | D36: 1 | E36: =IF(B36="","",SUMIFS('Journal entrées et sorties'!D$8:D$415,'Journal entrées et sorties'!C$8:C$415,C36)) -> 0 | F36: =IF(C36="","",SUMIFS('Journal entrées et sorties'!E$8:E$515,'Journal entrées et sorties'!C$8:C$515,C36)) -> 0 | G36: =IF(C36="","",D36+E36-F36) -> 1 | H36: =VLOOKUP(B36,'Base de donnée articles'!A27:F34,4,0) -> 10 | I36: =H36*G36 -> 10
B37: =IF('Base de donnée articles'!A28="","",'Base de donnée articles'!A28) -> Bride 3 | C37: =IF('Base de donnée articles'!B28="","",'Base de donnée articles'!B28) -> Bride 3/Diam 140 | D37: 1 | E37: =IF(B37="","",SUMIFS('Journal entrées et sorties'!D$8:D$415,'Journal entrées et sorties'!C$8:C$415,C37)) -> 0 | F37: =IF(C37="","",SUMIFS('Journal entrées et sorties'!E$8:E$515,'Journal entrées et sorties'!C$8:C$515,C37)) -> 0 | G37: =IF(C37="","",D37+E37-F37) -> 1 | H37: =VLOOKUP(B37,'Base de donnée articles'!A28:F35,4,0) -> 10 | I37: =H37*G37 -> 10
B38: =IF('Base de donnée articles'!A29="","",'Base de donnée articles'!A29) -> Bride 4 | C38: =IF('Base de donnée articles'!B29="","",'Base de donnée articles'!B29) -> Bride 4/Diam 160 | D38: 1 | E38: =IF(B38="","",SUMIFS('Journal entrées et sorties'!D$8:D$415,'Journal entrées et sorties'!C$8:C$415,C38)) -> 0 | F38: =IF(C38="","",SUMIFS('Journal entrées et sorties'!E$8:E$515,'Journal entrées et sorties'!C$8:C$515,C38)) -> 0 | G38: =IF(C38="","",D38+E38-F38) -> 1 | H38: =VLOOKUP(B38,'Base de donnée articles'!A29:F36,4,0) -> 10 | I38: =H38*G38 -> 10
B39: =IF('Base de donnée articles'!A30="","",'Base de donnée articles'!A30) -> Bride 5 | C39: =IF('Base de donnée articles'!B30="","",'Base de donnée articles'!B30) -> Bride 5/K531.203 | D39: 1 | E39: =IF(B39="","",SUMIFS('Journal entrées et sorties'!D$8:D$415,'Journal entrées et sorties'!C$8:C$415,C39)) -> 0 | F39: =IF(C39="","",SUMIFS('Journal entrées et sorties'!E$8:E$515,'Journal entrées et sorties'!C$8:C$515,C39)) -> 0 | G39: =IF(C39="","",D39+E39-F39) -> 1 | H39: =VLOOKUP(B39,'Base de donnée articles'!A30:F37,4,0) -> 10 | I39: =H39*G39 -> 10
B40: =IF('Base de donnée articles'!A31="","",'Base de donnée articles'!A31) -> Bride 6 | C40: =IF('Base de donnée articles'!B31="","",'Base de donnée articles'!B31) -> Bride 6/K532.203 | D40: 1 | E40: =IF(B40="","",SUMIFS('Journal entrées et sorties'!D$8:D$415,'Journal entrées et sorties'!C$8:C$415,C40)) -> 0 | F40: =IF(C40="","",SUMIFS('Journal entrées et sorties'!E$8:E$515,'Journal entrées et sorties'!C$8:C$515,C40)) -> 0 | G40: =IF(C40="","",D40+E40-F40) -> 1 | H40: =VLOOKUP(B40,'Base de donnée articles'!A31:F38,4,0) -> 10 | I40: =H40*G40 -> 10
B41: =IF('Base de donnée articles'!A32="","",'Base de donnée articles'!A32) -> Bride 7 | C41: =IF('Base de donnée articles'!B32="","",'Base de donnée articles'!B32) -> Bride 7/K532.203 | D41: 1 | E41: =IF(B41="","",SUMIFS('Journal entrées et sorties'!D$8:D$415,'Journal entrées et sorties'!C$8:C$415,C41)) -> 0 | F41: =IF(C41="","",SUMIFS('Journal entrées et sorties'!E$8:E$515,'Journal entrées et sorties'!C$8:C$515,C41)) -> 0 | G41: =IF(C41="","",D41+E41-F41) -> 1 | H41: =VLOOKUP(B41,'Base de donnée articles'!A32:F39,4,0) -> 10 | I41: =H41*G41 -> 10
B42: =IF('Base de donnée articles'!A33="","",'Base de donnée articles'!A33) -> Bride 8 | C42: =IF('Base de donnée articles'!B33="","",'Base de donnée articles'!B33) -> Bride 8/K532.206.120 | D42: 1 | E42: =IF(B42="","",SUMIFS('Journal entrées et sorties'!D$8:D$415,'Journal entrées et sorties'!C$8:C$415,C42)) -> 0 | F42: =IF(C42="","",SUMIFS('Journal entrées et sorties'!E$8:E$515,'Journal entrées et sorties'!C$8:C$515,C42)) -> 0 | G42: =IF(C42="","",D42+E42-F42) -> 1 | H42: =VLOOKUP(B42,'Base de donnée articles'!A33:F40,4,0) -> 10 | I42: =H42*G42 -> 10
B43: =IF('Base de donnée articles'!A34="","",'Base de donnée articles'!A34) -> Bride 9 | C43: =IF('Base de donnée articles'!B34="","",'Base de donnée articles'!B34) -> Bride 9/K533.206.140 | D43: 1 | E43: =IF(B43="","",SUMIFS('Journal entrées et sorties'!D$8:D$415,'Journal entrées et sorties'!C$8:C$415,C43)) -> 0 | F43: =IF(C43="","",SUMIFS('Journal entrées et sorties'!E$8:E$515,'Journal entrées et sorties'!C$8:C$515,C43)) -> 0 | G43: =IF(C43="","",D43+E43-F43) -> 1 | H43: =VLOOKUP(B43,'Base de donnée articles'!A34:F41,4,0) -> 10 | I43: =H43*G43 -> 10
B44: =IF('Base de donnée articles'!A35="","",'Base de donnée articles'!A35) -> Bride B5 | C44: =IF('Base de donnée articles'!B35="","",'Base de donnée articles'!B35) -> Bride B5/Diam 200 | D44: 1 | E44: =IF(B44="","",SUMIFS('Journal entrées et sorties'!D$8:D$415,'Journal entrées et sorties'!C$8:C$415,C44)) -> 0 | F44: =IF(C44="","",SUMIFS('Journal entrées et sorties'!E$8:E$515,'Journal entrées et sorties'!C$8:C$515,C44)) -> 0 | G44: =IF(C44="","",D44+E44-F44) -> 1 | H44: =VLOOKUP(B44,'Base de donnée articles'!A35:F42,4,0) -> 10 | I44: =H44*G44 -> 10
B45: =IF('Base de donnée articles'!A486="","",'Base de donnée articles'!A486) -> bride ho32fa | C45: =IF('Base de donnée articles'!B486="","",'Base de donnée articles'!B486) -> bride ho32fa/dpa1/4t | D45: 0 | E45: =IF(B45="","",SUMIFS('Journal entrées et sorties'!D$8:D$415,'Journal entrées et sorties'!C$8:C$415,C45)) -> 2 | F45: =IF(C45="","",SUMIFS('Journal entrées et sorties'!E$8:E$515,'Journal entrées et sorties'!C$8:C$515,C45)) -> 0 | G45: =IF(C45="","",D45+E45-F45) -> 2 | H45: =VLOOKUP(B45,'Base de donnée articles'!A486:F546,4,0) -> 10 | I45: =H45*G45 -> 20
B46: =IF('Base de donnée articles'!A420="","",'Base de donnée articles'!A420) -> bride reducteur | C46: =IF('Base de donnée articles'!B420="","",'Base de donnée articles'!B420) -> bride reducteur/bride k4 t80 b14 | D46: 0 | E46: =IF(B46="","",SUMIFS('Journal entrées et sorties'!D$8:D$415,'Journal entrées et sorties'!C$8:C$415,C46)) -> 2 | F46: =IF(C46="","",SUMIFS('Journal entrées et sorties'!E$8:E$515,'Journal entrées et sorties'!C$8:C$515,C46)) -> 0 | G46: =IF(C46="","",D46+E46-F46) -> 2 | H46: =VLOOKUP(B46,'Base de donnée articles'!A420:F496,4,0) -> 10 | I46: =H46*G46 -> 20
B47: =IF('Base de donnée articles'!A475="","",'Base de donnée articles'!A475) -> cable electrique | C47: =IF('Base de donnée articles'!B475="","",'Base de donnée articles'!B475) -> cable electrique/4g1,5 | D47: 0 | E47: =IF(B47="","",SUMIFS('Journal entrées et sorties'!D$8:D$415,'Journal entrées et sorties'!C$8:C$415,C47)) -> 25 | F47: =IF(C47="","",SUMIFS('Journal entrées et sorties'!E$8:E$515,'Journal entrées et sorties'!C$8:C$515,C47)) -> 0 | G47: =IF(C47="","",D47+E47-F47) -> 25 | H47: =VLOOKUP(B47,'Base de donnée articles'!A475:F535,4,0) -> 10 | I47: =H47*G47 -> 250
B48: =IF('Base de donnée articles'!A476="","",'Base de donnée articles'!A476) -> cable electrique | C48: =IF('Base de donnée articles'!B476="","",'Base de donnée articles'!B476) -> cable electrique/5g1 | D48: 0 | E48: =IF(B48="","",SUMIFS('Journal entrées et sorties'!D$8:D$415,'Journal entrées et sorties'!C$8:C$415,C48)) -> 25 | F48: =IF(C48="","",SUMIFS('Journal entrées et sorties'!E$8:E$515,'Journal entrées et sorties'!C$8:C$515,C48)) -> 0 | G48: =IF(C48="","",D48+E48-F48) -> 25 | H48: =VLOOKUP(B48,'Base de donnée articles'!A476:F536,4,0) -> 10 | I48: =H48*G48 -> 250
B49: =IF('Base de donnée articles'!A36="","",'Base de donnée articles'!A36) -> cable et connecteur | C49: =IF('Base de donnée articles'!B36="","",'Base de donnée articles'!B36) -> cable et connecteur/WC4T-5/TEL | D49: 2 | E49: =IF(B49="","",SUMIFS('Journal entrées et sorties'!D$8:D$415,'Journal entrées et sorties'!C$8:C$415,C49)) -> 0 | F49: =IF(C49="","",SUMIFS('Journal entrées et sorties'!E$8:E$515,'Journal entrées et sorties'!C$8:C$515,C49)) -> 1 | G49: =IF(C49="","",D49+E49-F49) -> 1 | H49: =VLOOKUP(B49,'Base de donnée articles'!A36:F43,4,0) -> 10 | I49: =H49*G49 -> 10
B50: =IF('Base de donnée articles'!A37="","",'Base de donnée articles'!A37) -> Capteur 1 | C50: =IF('Base de donnée articles'!B37="","",'Base de donnée articles'!B37) -> Capteur 1/804 82 041 | D50: 1 | E50: =IF(B50="","",SUMIFS('Journal entrées et sorties'!D$8:D$415,'Journal entrées et sorties'!C$8:C$415,C50)) -> 0 | F50: =IF(C50="","",SUMIFS('Journal entrées et sorties'!E$8:E$515,'Journal entrées et sorties'!C$8:C$515,C50)) -> 0 | G50: =IF(C50="","",D50+E50-F50) -> 1 | H50: =VLOOKUP(B50,'Base de donnée articles'!A37:F44,4,0) -> 10 | I50: =H50*G50 -> 10
B51: =IF('Base de donnée articles'!A38="","",'Base de donnée articles'!A38) -> Capteur 2 | C51: =IF('Base de donnée articles'!B38="","",'Base de donnée articles'!B38) -> Capteur 2/805 13 520 | D51: 1 | E51: =IF(B51="","",SUMIFS('Journal entrées et sorties'!D$8:D$415,'Journal entrées et sorties'!C$8:C$415,C51)) -> 0 | F51: =IF(C51="","",SUMIFS('Journal entrées et sorties'!E$8:E$515,'Journal entrées et sorties'!C$8:C$515,C51)) -> 0 | G51: =IF(C51="","",D51+E51-F51) -> 1 | H51: =VLOOKUP(B51,'Base de donnée articles'!A38:F45,4,0) -> 10 | I51: =H51*G51 -> 10
B52: =IF('Base de donnée articles'!A469="","",'Base de donnée articles'!A469) -> capteur corali | C52: =IF('Base de donnée articles'!B469="","",'Base de donnée articles'!B469) -> capteur corali/clou 804821163 | D52: 0 | E52: =IF(B52="","",SUMIFS('Journal entrées et sorties'!D$8:D$415,'Journal entrées et sorties'!C$8:C$415,C52)) -> 2 | F52: =IF(C52="","",SUMIFS('Journal entrées et sorties'!E$8:E$515,'Journal entrées et sorties'!C$8:C$515,C52)) -> 0 | G52: =IF(C52="","",D52+E52-F52) -> 2 | H52: =VLOOKUP(B52,'Base de donnée articles'!A469:F529,4,0) -> 10 | I52: =H52*G52 -> 20
B53: =IF('Base de donnée articles'!A39="","",'Base de donnée articles'!A39) -> Capteur magnétique position vérin | C53: =IF('Base de donnée articles'!B39="","",'Base de donnée articles'!B39) -> Capteur magnétique position vérin/REED-FL5-00 | D53: 3 | E53: =IF(B53="","",SUMIFS('Journal entrées et sorties'!D$8:D$415,'Journal entrées et sorties'!C$8:C$415,C53)) -> 3 | F53: =IF(C53="","",SUMIFS('Journal entrées et sorties'!E$8:E$515,'Journal entrées et sorties'!C$8:C$515,C53)) -> 0 | G53: =IF(C53="","",D53+E53-F53) -> 6 | H53: =VLOOKUP(B53,'Base de donnée articles'!A39:F46,4,0) -> 10 | I53: =H53*G53 -> 60
B54: =IF('Base de donnée articles'!A470="","",'Base de donnée articles'!A470) -> capteur pointes | C54: =IF('Base de donnée articles'!B470="","",'Base de donnée articles'!B470) -> capteur pointes/cape b01an22pscv8 | D54: 0 | E54: =IF(B54="","",SUMIFS('Journal entrées et sorties'!D$8:D$415,'Journal entrées et sorties'!C$8:C$415,C54)) -> 2 | F54: =IF(C54="","",SUMIFS('Journal entrées et sorties'!E$8:E$515,'Journal entrées et sorties'!C$8:C$515,C54)) -> 0 | G54: =IF(C54="","",D54+E54-F54) -> 2 | H54: =VLOOKUP(B54,'Base de donnée articles'!A470:F530,4,0) -> 10 | I54: =H54*G54 -> 20
B55: =IF('Base de donnée articles'!A414="","",'Base de donnée articles'!A414) -> capteur position | C55: =IF('Base de donnée articles'!B414="","",'Base de donnée articles'!B414) -> capteur position/xckt1587922 | D55: 1 | E55: =IF(B55="","",SUMIFS('Journal entrées et sorties'!D$8:D$415,'Journal entrées et sorties'!C$8:C$415,C55)) -> 0 | F55: =IF(C55="","",SUMIFS('Journal entrées et sorties'!E$8:E$515,'Journal entrées et sorties'!C$8:C$515,C55)) -> 1 | G55: =IF(C55="","",D55+E55-F55) -> 0 | H55: =VLOOKUP(B55,'Base de donnée articles'!A414:F474,4,0) -> 10 | I55: =H55*G55 -> 0
B56: =IF('Base de donnée articles'!A40="","",'Base de donnée articles'!A40) -> Capteurs de position tiges vérins 1 | C56: =IF('Base de donnée articles'!B40="","",'Base de donnée articles'!B40) -> Capteurs de position tiges vérins 1/322-20 0311 | D56: 1 | E56: =IF(B56="","",SUMIFS('Journal entrées et sorties'!D$8:D$415,'Journal entrées et sorties'!C$8:C$415,C56)) -> 0 | F56: =IF(C56="","",SUMIFS('Journal entrées et sorties'!E$8:E$515,'Journal entrées et sorties'!C$8:C$515,C56)) -> 0 | G56: =IF(C56="","",D56+E56-F56) -> 1 | H56: =VLOOKUP(B56,'Base de donnée articles'!A40:F47,4,0) -> 10 | I56: =H56*G56 -> 10
B57: =IF('Base de donnée articles'!A41="","",'Base de donnée articles'!A41) -> Capteurs de position tiges vérins 2 | C57: =IF('Base de donnée articles'!B41="","",'Base de donnée articles'!B41) -> Capteurs de position tiges vérins 2/88100142 | D57: 1 | E57: =IF(B57="","",SUMIFS('Journal entrées et sorties'!D$8:D$415,'Journal entrées et sorties'!C$8:C$415,C57)) -> 0 | F57: =IF(C57="","",SUMIFS('Journal entrées et sorties'!E$8:E$515,'Journal entrées et sorties'!C$8:C$515,C57)) -> 0 | G57: =IF(C57="","",D57+E57-F57) -> 1 | H57: =VLOOKUP(B57,'Base de donnée articles'!A41:F48,4,0) -> 10 | I57: =H57*G57 -> 10
B58: =IF('Base de donnée articles'!A42="","",'Base de donnée articles'!A42) -> Capteurs de position tiges vérins 3 | C58: =IF('Base de donnée articles'!B42="","",'Base de donnée articles'!B42) -> Capteurs de position tiges vérins 3/88100144 | D58: 1 | E58: =IF(B58="","",SUMIFS('Journal entrées et sorties'!D$8:D$415,'Journal entrées et sorties'!C$8:C$415,C58)) -> 0 | F58: =IF(C58="","",SUMIFS('Journal entrées et sorties'!E$8:E$515,'Journal entrées et sorties'!C$8:C$515,C58)) -> 0 | G58: =IF(C58="","",D58+E58-F58) -> 1 | H58: =VLOOKUP(B58,'Base de donnée articles'!A42:F49,4,0) -> 10 | I58: =H58*G58 -> 10
B59: =IF('Base de donnée articles'!A43="","",'Base de donnée articles'!A43) -> Capteurs de position tiges vérins 4 | C59: =IF('Base de donnée articles'!B43="","",'Base de donnée articles'!B43) -> Capteurs de position tiges vérins 4/88100186 | D59: 1 | E59: =IF(B59="","",SUMIFS('Journal entrées et sorties'!D$8:D$415,'Journal entrées et sorties'!C$8:C$415,C59)) -> 0 | F59: =IF(C59="","",SUMIFS('Journal entrées et sorties'!E$8:E$515,'Journal entrées et sorties'!C$8:C$515,C59)) -> 0 | G59: =IF(C59="","",D59+E59-F59) -> 1 | H59: =VLOOKUP(B59,'Base de donnée articles'!A43:F50,4,0) -> 10 | I59: =H59*G59 -> 10
B60: =IF('Base de donnée articles'!A44="","",'Base de donnée articles'!A44) -> Capteurs de position tiges vérins 5 | C60: =IF('Base de donnée articles'!B44="","",'Base de donnée articles'!B44) -> Capteurs de position tiges vérins 5/88100417 | D60: 1 | E60: =IF(B60="","",SUMIFS('Journal entrées et sorties'!D$8:D$415,'Journal entrées et sorties'!C$8:C$415,C60)) -> 0 | F60: =IF(C60="","",SUMIFS('Journal entrées et sorties'!E$8:E$515,'Journal entrées et sorties'!C$8:C$515,C60)) -> 0 | G60: =IF(C60="","",D60+E60-F60) -> 1 | H60: =VLOOKUP(B60,'Base de donnée articles'!A44:F51,4,0) -> 10 | I60: =H60*G60 -> 10
B61: =IF('Base de donnée articles'!A45="","",'Base de donnée articles'!A45) -> Capteurs de position tiges vérins 6 | C61: =IF('Base de donnée articles'!B45="","",'Base de donnée articles'!B45) -> Capteurs de position tiges vérins 6/88144201 | D61: 1 | E61: =IF(B61="","",SUMIFS('Journal entrées et sorties'!D$8:D$415,'Journal entrées et sorties'!C$8:C$415,C61)) -> 0 | F61: =IF(C61="","",SUMIFS('Journal entrées et sorties'!E$8:E$515,'Journal entrées et sorties'!C$8:C$515,C61)) -> 0 | G61: =IF(C61="","",D61+E61-F61) -> 1 | H61: =VLOOKUP(B61,'Base de donnée articles'!A45:F52,4,0) -> 10 | I61: =H61*G61 -> 10
B62: =IF('Base de donnée articles'!A46="","",'Base de donnée articles'!A46) -> Capteurs de position tiges vérins 7 | C62: =IF('Base de donnée articles'!B46="","",'Base de donnée articles'!B46) -> Capteurs de position tiges vérins 7/88144203 | D62: 1 | E62: =IF(B62="","",SUMIFS('Journal entrées et sorties'!D$8:D$415,'Journal entrées et sorties'!C$8:C$415,C62)) -> 0 | F62: =IF(C62="","",SUMIFS('Journal entrées et sorties'!E$8:E$515,'Journal entrées et sorties'!C$8:C$515,C62)) -> 0 | G62: =IF(C62="","",D62+E62-F62) -> 1 | H62: =VLOOKUP(B62,'Base de donnée articles'!A46:F53,4,0) -> 10 | I62: =H62*G62 -> 10
B63: =IF('Base de donnée articles'!A47="","",'Base de donnée articles'!A47) -> Capteurs de position tiges vérins 8 | C63: =IF('Base de donnée articles'!B47="","",'Base de donnée articles'!B47) -> Capteurs de position tiges vérins 8/REED-FL2-00 | D63: 1 | E63: =IF(B63="","",SUMIFS('Journal entrées et sorties'!D$8:D$415,'Journal entrées et sorties'!C$8:C$415,C63)) -> 3 | F63: =IF(C63="","",SUMIFS('Journal entrées et sorties'!E$8:E$515,'Journal entrées et sorties'!C$8:C$515,C63)) -> 3 | G63: =IF(C63="","",D63+E63-F63) -> 1 | H63: =VLOOKUP(B63,'Base de donnée articles'!A47:F54,4,0) -> 10 | I63: =H63*G63 -> 10
B64: =IF('Base de donnée articles'!A48="","",'Base de donnée articles'!A48) -> Carte communication CORALI | C64: =IF('Base de donnée articles'!B48="","",'Base de donnée articles'!B48) -> Carte communication CORALI/1P6ES7 151-1AA05-OABO | D64: 1 | E64: =IF(B64="","",SUMIFS('Journal entrées et sorties'!D$8:D$415,'Journal entrées et sorties'!C$8:C$415,C64)) -> 0 | F64: =IF(C64="","",SUMIFS('Journal entrées et sorties'!E$8:E$515,'Journal entrées et sorties'!C$8:C$515,C64)) -> 0 | G64: =IF(C64="","",D64+E64-F64) -> 1 | H64: =VLOOKUP(B64,'Base de donnée articles'!A48:F55,4,0) -> 10 | I64: =H64*G64 -> 10
B65: =IF('Base de donnée articles'!A409="","",'Base de donnée articles'!A409) -> cellule | C65: =IF('Base de donnée articles'!B409="","",'Base de donnée articles'!B409) -> cellule/804821163 | D65: 2 | E65: =IF(B65="","",SUMIFS('Journal entrées et sorties'!D$8:D$415,'Journal entrées et sorties'!C$8:C$415,C65)) -> 0 | F65: =IF(C65="","",SUMIFS('Journal entrées et sorties'!E$8:E$515,'Journal entrées et sorties'!C$8:C$515,C65)) -> 0 | G65: =IF(C65="","",D65+E65-F65) -> 2 | H65: =VLOOKUP(B65,'Base de donnée articles'!A409:F441,4,0) -> 10 | I65: =H65*G65 -> 20
B66: =IF('Base de donnée articles'!A427="","",'Base de donnée articles'!A427) -> cellule | C66: =IF('Base de donnée articles'!B427="","",'Base de donnée articles'!B427) -> cellule/cellule sick wt150-p460 | D66: 2 | E66: =IF(B66="","",SUMIFS('Journal entrées et sorties'!D$8:D$415,'Journal entrées et sorties'!C$8:C$415,C66)) -> 0 | F66: =IF(C66="","",SUMIFS('Journal entrées et sorties'!E$8:E$515,'Journal entrées et sorties'!C$8:C$515,C66)) -> 1 | G66: =IF(C66="","",D66+E66-F66) -> 1 | H66: =VLOOKUP(B66,'Base de donnée articles'!A427:F503,4,0) -> 10 | I66: =H66*G66 -> 10
B67: =IF('Base de donnée articles'!A49="","",'Base de donnée articles'!A49) -> cellule 1 | C67: =IF('Base de donnée articles'!B49="","",'Base de donnée articles'!B49) -> cellule 1/Ni12UM18AP6Xh1141 | D67: 1 | E67: =IF(B67="","",SUMIFS('Journal entrées et sorties'!D$8:D$415,'Journal entrées et sorties'!C$8:C$415,C67)) -> 2 | F67: =IF(C67="","",SUMIFS('Journal entrées et sorties'!E$8:E$515,'Journal entrées et sorties'!C$8:C$515,C67)) -> 0 | G67: =IF(C67="","",D67+E67-F67) -> 3 | H67: =VLOOKUP(B67,'Base de donnée articles'!A49:F56,4,0) -> 10 | I67: =H67*G67 -> 30
B68: =IF('Base de donnée articles'!A50="","",'Base de donnée articles'!A50) -> cellule 10 | C68: =IF('Base de donnée articles'!B50="","",'Base de donnée articles'!B50) -> cellule 10/type WT18-2P410 ref 804 82 053 | D68: 1 | E68: =IF(B68="","",SUMIFS('Journal entrées et sorties'!D$8:D$415,'Journal entrées et sorties'!C$8:C$415,C68)) -> 0 | F68: =IF(C68="","",SUMIFS('Journal entrées et sorties'!E$8:E$515,'Journal entrées et sorties'!C$8:C$515,C68)) -> 0 | G68: =IF(C68="","",D68+E68-F68) -> 1 | H68: =VLOOKUP(B68,'Base de donnée articles'!A50:F57,4,0) -> 10 | I68: =H68*G68 -> 10
B69: =IF('Base de donnée articles'!A51="","",'Base de donnée articles'!A51) -> cellule 2 | C69: =IF('Base de donnée articles'!B51="","",'Base de donnée articles'!B51) -> cellule 2/type WT18-3P410 ref 804 82 053 | D69: 1 | E69: =IF(B69="","",SUMIFS('Journal entrées et sorties'!D$8:D$415,'Journal entrées et sorties'!C$8:C$415,C69)) -> 0 | F69: =IF(C69="","",SUMIFS('Journal entrées et sorties'!E$8:E$515,'Journal entrées et sorties'!C$8:C$515,C69)) -> 0 | G69: =IF(C69="","",D69+E69-F69) -> 1 | H69: =VLOOKUP(B69,'Base de donnée articles'!A51:F58,4,0) -> 10 | I69: =H69*G69 -> 10
B70: =IF('Base de donnée articles'!A52="","",'Base de donnée articles'!A52) -> cellule 3 | C70: =IF('Base de donnée articles'!B52="","",'Base de donnée articles'!B52) -> cellule 3/Ni8UM12AP6XH1141 | D70: 1 | E70: =IF(B70="","",SUMIFS('Journal entrées et sorties'!D$8:D$415,'Journal entrées et sorties'!C$8:C$415,C70)) -> 6 | F70: =IF(C70="","",SUMIFS('Journal entrées et sorties'!E$8:E$515,'Journal entrées et sorties'!C$8:C$515,C70)) -> 5 | G70: =IF(C70="","",D70+E70-F70) -> 2 | H70: =VLOOKUP(B70,'Base de donnée articles'!A52:F59,4,0) -> 10 | I70: =H70*G70 -> 20
B71: =IF('Base de donnée articles'!A53="","",'Base de donnée articles'!A53) -> cellule 4 | C71: =IF('Base de donnée articles'!B53="","",'Base de donnée articles'!B53) -> cellule 4/QS18VP6AF100Q5 | D71: 1 | E71: =IF(B71="","",SUMIFS('Journal entrées et sorties'!D$8:D$415,'Journal entrées et sorties'!C$8:C$415,C71)) -> 3 | F71: =IF(C71="","",SUMIFS('Journal entrées et sorties'!E$8:E$515,'Journal entrées et sorties'!C$8:C$515,C71)) -> 4 | G71: =IF(C71="","",D71+E71-F71) -> 0 | H71: =VLOOKUP(B71,'Base de donnée articles'!A53:F60,4,0) -> 10 | I71: =H71*G71 -> 0
B72: =IF('Base de donnée articles'!A54="","",'Base de donnée articles'!A54) -> cellule 5 | C72: =IF('Base de donnée articles'!B54="","",'Base de donnée articles'!B54) -> cellule 5/QS18VP6AF50Q8 | D72: 1 | E72: =IF(B72="","",SUMIFS('Journal entrées et sorties'!D$8:D$415,'Journal entrées et sorties'!C$8:C$415,C72)) -> 0 | F72: =IF(C72="","",SUMIFS('Journal entrées et sorties'!E$8:E$515,'Journal entrées et sorties'!C$8:C$515,C72)) -> 1 | G72: =IF(C72="","",D72+E72-F72) -> 0 | H72: =VLOOKUP(B72,'Base de donnée articles'!A54:F61,4,0) -> 10 | I72: =H72*G72 -> 0
B73: =IF('Base de donnée articles'!A55="","",'Base de donnée articles'!A55) -> cellule 6 | C73: =IF('Base de donnée articles'!B55="","",'Base de donnée articles'!B55) -> cellule 6/QS18VP6DQ8 | D73: 1 | E73: =IF(B73="","",SUMIFS('Journal entrées et sorties'!D$8:D$415,'Journal entrées et sorties'!C$8:C$415,C73)) -> 2 | F73: =IF(C73="","",SUMIFS('Journal entrées et sorties'!E$8:E$515,'Journal entrées et sorties'!C$8:C$515,C73)) -> 2 | G73: =IF(C73="","",D73+E73-F73) -> 1 | H73: =VLOOKUP(B73,'Base de donnée articles'!A55:F62,4,0) -> 10 | I73: =H73*G73 -> 10
B74: =IF('Base de donnée articles'!A56="","",'Base de donnée articles'!A56) -> cellule 7 | C74: =IF('Base de donnée articles'!B56="","",'Base de donnée articles'!B56) -> cellule 7/QS18VP6LPQ8 | D74: 1 | E74: =IF(B74="","",SUMIFS('Journal entrées et sorties'!D$8:D$415,'Journal entrées et sorties'!C$8:C$415,C74)) -> 1 | F74: =IF(C74="","",SUMIFS('Journal entrées et sorties'!E$8:E$515,'Journal entrées et sorties'!C$8:C$515,C74)) -> 0 | G74: =IF(C74="","",D74+E74-F74) -> 2 | H74: =VLOOKUP(B74,'Base de donnée articles'!A56:F63,4,0) -> 10 | I74: =H74*G74 -> 20
B75: =IF('Base de donnée articles'!A57="","",'Base de donnée articles'!A57) -> cellule 8 | C75: =IF('Base de donnée articles'!B57="","",'Base de donnée articles'!B57) -> cellule 8/QS18VP6WQ8 | D75: 1 | E75: =IF(B75="","",SUMIFS('Journal entrées et sorties'!D$8:D$415,'Journal entrées et sorties'!C$8:C$415,C75)) -> 0 | F75: =IF(C75="","",SUMIFS('Journal entrées et sorties'!E$8:E$515,'Journal entrées et sorties'!C$8:C$515,C75)) -> 0 | G75: =IF(C75="","",D75+E75-F75) -> 1 | H75: =VLOOKUP(B75,'Base de donnée articles'!A57:F64,4,0) -> 10 | I75: =H75*G75 -> 10
B76: =IF('Base de donnée articles'!A58="","",'Base de donnée articles'!A58) -> cellule 9 | C76: =IF('Base de donnée articles'!B58="","",'Base de donnée articles'!B58) -> cellule 9/type WT150-P460 ref 804 81 102 | D76: 1 | E76: =IF(B76="","",SUMIFS('Journal entrées et sorties'!D$8:D$415,'Journal entrées et sorties'!C$8:C$415,C76)) -> 0 | F76: =IF(C76="","",SUMIFS('Journal entrées et sorties'!E$8:E$515,'Journal entrées et sorties'!C$8:C$515,C76)) -> 0 | G76: =IF(C76="","",D76+E76-F76) -> 1 | H76: =VLOOKUP(B76,'Base de donnée articles'!A58:F65,4,0) -> 10 | I76: =H76*G76 -> 10
B77: =IF('Base de donnée articles'!A434="","",'Base de donnée articles'!A434) -> cellule capte noir | C77: =IF('Base de donnée articles'!B434="","",'Base de donnée articles'!B434) -> cellule capte noir/datalogic s62-pa-5-m21-pp | D77: 1 | E77: =IF(B77="","",SUMIFS('Journal entrées et sorties'!D$8:D$415,'Journal entrées et sorties'!C$8:C$415,C77)) -> 0 | F77: =IF(C77="","",SUMIFS('Journal entrées et sorties'!E$8:E$515,'Journal entrées et sorties'!C$8:C$515,C77)) -> 1 | G77: =IF(C77="","",D77+E77-F77) -> 0 | H77: =VLOOKUP(B77,'Base de donnée articles'!A429:F505,4,0) -> 10 | I77: =H77*G77 -> 0
B78: =IF('Base de donnée articles'!A441="","",'Base de donnée articles'!A441) -> cellule s62 pa5m21pp | C78: =IF('Base de donnée articles'!B441="","",'Base de donnée articles'!B441) -> cellule s62 pa5m21pp/capte noi datalogic | D78: 1 | E78: =IF(B78="","",SUMIFS('Journal entrées et sorties'!D$8:D$415,'Journal entrées et sorties'!C$8:C$415,C78)) -> 0 | F78: =IF(C78="","",SUMIFS('Journal entrées et sorties'!E$8:E$515,'Journal entrées et sorties'!C$8:C$515,C78)) -> 1 | G78: =IF(C78="","",D78+E78-F78) -> 0 | H78: =VLOOKUP(B78,'Base de donnée articles'!A431:F507,4,0) -> 10 | I78: =H78*G78 -> 0
B79: =IF('Base de donnée articles'!A59="","",'Base de donnée articles'!A59) -> cellule taquet | C79: =IF('Base de donnée articles'!B59="","",'Base de donnée articles'!B59) -> cellule taquet/80482041 | D79: 1 | E79: =IF(B79="","",SUMIFS('Journal entrées et sorties'!D$8:D$415,'Journal entrées et sorties'!C$8:C$415,C79)) -> 0 | F79: =IF(C79="","",SUMIFS('Journal entrées et sorties'!E$8:E$515,'Journal entrées et sorties'!C$8:C$515,C79)) -> 0 | G79: =IF(C79="","",D79+E79-F79) -> 1 | H79: =VLOOKUP(B79,'Base de donnée articles'!A59:F66,4,0) -> 10 | I79: =H79*G79 -> 10
B80: =IF('Base de donnée articles'!A60="","",'Base de donnée articles'!A60) -> Chaine | C80: =IF('Base de donnée articles'!B60="","",'Base de donnée articles'!B60) -> Chaine/12b2 5ml | D80: 1 | E80: =IF(B80="","",SUMIFS('Journal entrées et sorties'!D$8:D$415,'Journal entrées et sorties'!C$8:C$415,C80)) -> 0 | F80: =IF(C80="","",SUMIFS('Journal entrées et sorties'!E$8:E$515,'Journal entrées et sorties'!C$8:C$515,C80)) -> 0 | G80: =IF(C80="","",D80+E80-F80) -> 1 | H80: =VLOOKUP(B80,'Base de donnée articles'!A60:F67,4,0) -> 10 | I80: =H80*G80 -> 10
B81: =IF('Base de donnée articles'!A448="","",'Base de donnée articles'!A448) -> chaine | C81: =IF('Base de donnée articles'!B448="","",'Base de donnée articles'!B448) -> chaine/8b1 | D81: 0 | E81: =IF(B81="","",SUMIFS('Journal entrées et sorties'!D$8:D$415,'Journal entrées et sorties'!C$8:C$415,C81)) -> 1 | F81: =IF(C81="","",SUMIFS('Journal entrées et sorties'!E$8:E$515,'Journal entrées et sorties'!C$8:C$515,C81)) -> 0 | G81: =IF(C81="","",D81+E81-F81) -> 1 | H81: =VLOOKUP(B81,'Base de donnée articles'!A448:F508,4,0) -> 10 | I81: =H81*G81 -> 10
B82: =IF('Base de donnée articles'!A454="","",'Base de donnée articles'!A454) -> chaine | C82: =IF('Base de donnée articles'!B454="","",'Base de donnée articles'!B454) -> chaine/10b1 | D82: 0 | E82: =IF(B82="","",SUMIFS('Journal entrées et sorties'!D$8:D$415,'Journal entrées et sorties'!C$8:C$415,C82)) -> 1 | F82: =IF(C82="","",SUMIFS('Journal entrées et sorties'!E$8:E$515,'Journal entrées et sorties'!C$8:C$515,C82)) -> 0 | G82: =IF(C82="","",D82+E82-F82) -> 1 | H82: =VLOOKUP(B82,'Base de donnée articles'!A454:F514,4,0) -> 10 | I82: =H82*G82 -> 10
B83: =IF('Base de donnée articles'!A455="","",'Base de donnée articles'!A455) -> chaine | C83: =IF('Base de donnée articles'!B455="","",'Base de donnée articles'!B455) -> chaine/12b1 | D83: 0 | E83: =IF(B83="","",SUMIFS('Journal entrées et sorties'!D$8:D$415,'Journal entrées et sorties'!C$8:C$415,C83)) -> 1 | F83: =IF(C83="","",SUMIFS('Journal entrées et sorties'!E$8:E$515,'Journal entrées et sorties'!C$8:C$515,C83)) -> 0 | G83: =IF(C83="","",D83+E83-F83) -> 1 | H83: =VLOOKUP(B83,'Base de donnée articles'!A455:F515,4,0) -> 10 | I83: =H83*G83 -> 10
B84: =IF('Base de donnée articles'!A61="","",'Base de donnée articles'!A61) -> Cloueur complet | C84: =IF('Base de donnée articles'!B61="","",'Base de donnée articles'!B61) -> Cloueur complet/cloueur complet | D84: 1 | E84: =IF(B84="","",SUMIFS('Journal entrées et sorties'!D$8:D$415,'Journal entrées et sorties'!C$8:C$415,C84)) -> 0 | F84: =IF(C84="","",SUMIFS('Journal entrées et sorties'!E$8:E$515,'Journal entrées et sorties'!C$8:C$515,C84)) -> 0 | G84: =IF(C84="","",D84+E84-F84) -> 1 | H84: =VLOOKUP(B84,'Base de donnée articles'!A61:F68,4,0) -> 10 | I84: =H84*G84 -> 10
B85: =IF('Base de donnée articles'!A62="","",'Base de donnée articles'!A62) -> Codeur | C85: =IF('Base de donnée articles'!B62="","",'Base de donnée articles'!B62) -> Codeur/GHM406-1000-006 | D85: 1 | E85: =IF(B85="","",SUMIFS('Journal entrées et sorties'!D$8:D$415,'Journal entrées et sorties'!C$8:C$415,C85)) -> 1 | F85: =IF(C85="","",SUMIFS('Journal entrées et sorties'!E$8:E$515,'Journal entrées et sorties'!C$8:C$515,C85)) -> 1 | G85: =IF(C85="","",D85+E85-F85) -> 1 | H85: =VLOOKUP(B85,'Base de donnée articles'!A62:F69,4,0) -> 10 | I85: =H85*G85 -> 10
B86: =IF('Base de donnée articles'!A63="","",'Base de donnée articles'!A63) -> codeur | C86: =IF('Base de donnée articles'!B63="","",'Base de donnée articles'!B63) -> codeur/hohner | D86: 1 | E86: =IF(B86="","",SUMIFS('Journal entrées et sorties'!D$8:D$415,'Journal entrées et sorties'!C$8:C$415,C86)) -> 0 | F86: =IF(C86="","",SUMIFS('Journal entrées et sorties'!E$8:E$515,'Journal entrées et sorties'!C$8:C$515,C86)) -> 0 | G86: =IF(C86="","",D86+E86-F86) -> 1 | H86: =VLOOKUP(B86,'Base de donnée articles'!A63:F70,4,0) -> 10 | I86: =H86*G86 -> 10
B87: =IF('Base de donnée articles'!A467="","",'Base de donnée articles'!A467) -> codeur corali | C87: =IF('Base de donnée articles'!B467="","",'Base de donnée articles'!B467) -> codeur corali/poutre 80402046 | D87: 0 | E87: =IF(B87="","",SUMIFS('Journal entrées et sorties'!D$8:D$415,'Journal entrées et sorties'!C$8:C$415,C87)) -> 1 | F87: =IF(C87="","",SUMIFS('Journal entrées et sorties'!E$8:E$515,'Journal entrées et sorties'!C$8:C$515,C87)) -> 0 | G87: =IF(C87="","",D87+E87-F87) -> 1 | H87: =VLOOKUP(B87,'Base de donnée articles'!A467:F527,4,0) -> 10 | I87: =H87*G87 -> 10
B88: =IF('Base de donnée articles'!A64="","",'Base de donnée articles'!A64) -> Compteur | C88: =IF('Base de donnée articles'!B64="","",'Base de donnée articles'!B64) -> Compteur/KALIA-d111 | D88: 1 | E88: =IF(B88="","",SUMIFS('Journal entrées et sorties'!D$8:D$415,'Journal entrées et sorties'!C$8:C$415,C88)) -> 0 | F88: =IF(C88="","",SUMIFS('Journal entrées et sorties'!E$8:E$515,'Journal entrées et sorties'!C$8:C$515,C88)) -> 0 | G88: =IF(C88="","",D88+E88-F88) -> 1 | H88: =VLOOKUP(B88,'Base de donnée articles'!A64:F71,4,0) -> 10 | I88: =H88*G88 -> 10
B89: =IF('Base de donnée articles'!A65="","",'Base de donnée articles'!A65) -> Connecteur droit 4 fils | C89: =IF('Base de donnée articles'!B65="","",'Base de donnée articles'!B65) -> Connecteur droit 4 fils /RKC4.4T-5/TEL | D89: 2 | E89: =IF(B89="","",SUMIFS('Journal entrées et sorties'!D$8:D$415,'Journal entrées et sorties'!C$8:C$415,C89)) -> 0 | F89: =IF(C89="","",SUMIFS('Journal entrées et sorties'!E$8:E$515,'Journal entrées et sorties'!C$8:C$515,C89)) -> 0 | G89: =IF(C89="","",D89+E89-F89) -> 2 | H89: =VLOOKUP(B89,'Base de donnée articles'!A65:F72,4,0) -> 10 | I89: =H89*G89 -> 20
B90: =IF('Base de donnée articles'!A66="","",'Base de donnée articles'!A66) -> Connecteur équerre 3 fils | C90: =IF('Base de donnée articles'!B66="","",'Base de donnée articles'!B66) -> Connecteur équerre 3 fils /WKC4T-5/TEL | D90: 2 | E90: =IF(B90="","",SUMIFS('Journal entrées et sorties'!D$8:D$415,'Journal entrées et sorties'!C$8:C$415,C90)) -> 0 | F90: =IF(C90="","",SUMIFS('Journal entrées et sorties'!E$8:E$515,'Journal entrées et sorties'!C$8:C$515,C90)) -> 0 | G90: =IF(C90="","",D90+E90-F90) -> 2 | H90: =VLOOKUP(B90,'Base de donnée articles'!A66:F73,4,0) -> 10 | I90: =H90*G90 -> 20
B91: =IF('Base de donnée articles'!A67="","",'Base de donnée articles'!A67) -> Contact instantané 1 | C91: =IF('Base de donnée articles'!B67="","",'Base de donnée articles'!B67) -> Contact instantané 1/GV1-M20 | D91: 1 | E91: =IF(B91="","",SUMIFS('Journal entrées et sorties'!D$8:D$415,'Journal entrées et sorties'!C$8:C$415,C91)) -> 0 | F91: =IF(C91="","",SUMIFS('Journal entrées et sorties'!E$8:E$515,'Journal entrées et sorties'!C$8:C$515,C91)) -> 0 | G91: =IF(C91="","",D91+E91-F91) -> 1 | H91: =VLOOKUP(B91,'Base de donnée articles'!A67:F74,4,0) -> 10 | I91: =H91*G91 -> 10
B92: =IF('Base de donnée articles'!A68="","",'Base de donnée articles'!A68) -> Contact instantané 2 | C92: =IF('Base de donnée articles'!B68="","",'Base de donnée articles'!B68) -> Contact instantané 2/LA1 DN 11 | D92: 1 | E92: =IF(B92="","",SUMIFS('Journal entrées et sorties'!D$8:D$415,'Journal entrées et sorties'!C$8:C$415,C92)) -> 0 | F92: =IF(C92="","",SUMIFS('Journal entrées et sorties'!E$8:E$515,'Journal entrées et sorties'!C$8:C$515,C92)) -> 0 | G92: =IF(C92="","",D92+E92-F92) -> 1 | H92: =VLOOKUP(B92,'Base de donnée articles'!A68:F75,4,0) -> 10 | I92: =H92*G92 -> 10
B93: =IF('Base de donnée articles'!A69="","",'Base de donnée articles'!A69) -> Contact instantané 3 | C93: =IF('Base de donnée articles'!B69="","",'Base de donnée articles'!B69) -> Contact instantané 3/LADN11 | D93: 1 | E93: =IF(B93="","",SUMIFS('Journal entrées et sorties'!D$8:D$415,'Journal entrées et sorties'!C$8:C$415,C93)) -> 0 | F93: =IF(C93="","",SUMIFS('Journal entrées et sorties'!E$8:E$515,'Journal entrées et sorties'!C$8:C$515,C93)) -> 0 | G93: =IF(C93="","",D93+E93-F93) -> 1 | H93: =VLOOKUP(B93,'Base de donnée articles'!A69:F76,4,0) -> 10 | I93: =H93*G93 -> 10
B94: =IF('Base de donnée articles'!A70="","",'Base de donnée articles'!A70) -> Contacteur 11 | C94: =IF('Base de donnée articles'!B70="","",'Base de donnée articles'!B70) -> Contacteur 11/CA2 DN31 E7 | D94: 1 | E94: =IF(B94="","",SUMIFS('Journal entrées et sorties'!D$8:D$415,'Journal entrées et sorties'!C$8:C$415,C94)) -> 0 | F94: =IF(C94="","",SUMIFS('Journal entrées et sorties'!E$8:E$515,'Journal entrées et sorties'!C$8:C$515,C94)) -> 0 | G94: =IF(C94="","",D94+E94-F94) -> 1 | H94: =VLOOKUP(B94,'Base de donnée articles'!A70:F77,4,0) -> 10 | I94: =H94*G94 -> 10
B95: =IF('Base de donnée articles'!A71="","",'Base de donnée articles'!A71) -> Contacteur 12 | C95: =IF('Base de donnée articles'!B71="","",'Base de donnée articles'!B71) -> Contacteur 12/CA2 DN40 40E | D95: 1 | E95: =IF(B95="","",SUMIFS('Journal entrées et sorties'!D$8:D$415,'Journal entrées et sorties'!C$8:C$415,C95)) -> 0 | F95: =IF(C95="","",SUMIFS('Journal entrées et sorties'!E$8:E$515,'Journal entrées et sorties'!C$8:C$515,C95)) -> 0 | G95: =IF(C95="","",D95+E95-F95) -> 1 | H95: =VLOOKUP(B95,'Base de donnée articles'!A71:F78,4,0) -> 10 | I95: =H95*G95 -> 10
B96: =IF('Base de donnée articles'!A72="","",'Base de donnée articles'!A72) -> Contacteur 13 | C96: =IF('Base de donnée articles'!B72="","",'Base de donnée articles'!B72) -> Contacteur 13/CAD32 | D96: 1 | E96: =IF(B96="","",SUMIFS('Journal entrées et sorties'!D$8:D$415,'Journal entrées et sorties'!C$8:C$415,C96)) -> 0 | F96: =IF(C96="","",SUMIFS('Journal entrées et sorties'!E$8:E$515,'Journal entrées et sorties'!C$8:C$515,C96)) -> 0 | G96: =IF(C96="","",D96+E96-F96) -> 1 | H96: =VLOOKUP(B96,'Base de donnée articles'!A72:F79,4,0) -> 10 | I96: =H96*G96 -> 10
B97: =IF('Base de donnée articles'!A73="","",'Base de donnée articles'!A73) -> Contacteur 14 | C97: =IF('Base de donnée articles'!B73="","",'Base de donnée articles'!B73) -> Contacteur 14/LC1 D09 | D97: 1 | E97: =IF(B97="","",SUMIFS('Journal entrées et sorties'!D$8:D$415,'Journal entrées et sorties'!C$8:C$415,C97)) -> 0 | F97: =IF(C97="","",SUMIFS('Journal entrées et sorties'!E$8:E$515,'Journal entrées et sorties'!C$8:C$515,C97)) -> 1 | G97: =IF(C97="","",D97+E97-F97) -> 0 | H97: =VLOOKUP(B97,'Base de donnée articles'!A73:F80,4,0) -> 10 | I97: =H97*G97 -> 0
B98: =IF('Base de donnée articles'!A74="","",'Base de donnée articles'!A74) -> Contacteur 15 | C98: =IF('Base de donnée articles'!B74="","",'Base de donnée articles'!B74) -> Contacteur 15/LC1 D09 10 | D98: 1 | E98: =IF(B98="","",SUMIFS('Journal entrées et sorties'!D$8:D$415,'Journal entrées et sorties'!C$8:C$415,C98)) -> 0 | F98: =IF(C98="","",SUMIFS('Journal entrées et sorties'!E$8:E$515,'Journal entrées et sorties'!C$8:C$515,C98)) -> 0 | G98: =IF(C98="","",D98+E98-F98) -> 1 | H98: =VLOOKUP(B98,'Base de donnée articles'!A74:F81,4,0) -> 10 | I98: =H98*G98 -> 10
B99: =IF('Base de donnée articles'!A75="","",'Base de donnée articles'!A75) -> Contacteur 16 | C99: =IF('Base de donnée articles'!B75="","",'Base de donnée articles'!B75) -> Contacteur 16/LC1 D18 | D99: 1 | E99: =IF(B99="","",SUMIFS('Journal entrées et sorties'!D$8:D$415,'Journal entrées et sorties'!C$8:C$415,C99)) -> 0 | F99: =IF(C99="","",SUMIFS('Journal entrées et sorties'!E$8:E$515,'Journal entrées et sorties'!C$8:C$515,C99)) -> 0 | G99: =IF(C99="","",D99+E99-F99) -> 1 | H99: =VLOOKUP(B99,'Base de donnée articles'!A75:F82,4,0) -> 10 | I99: =H99*G99 -> 10
... B111: =IF('Base de donnée articles'!A87="","",'Base de donnée articles'!A87) -> Contacteur 28 | C111: =IF('Base de donnée articles'!B87="","",'Base de donnée articles'!B87) -> Contacteur 28/CA2 DN31 31E | D111: 1 | E111: =IF(B111="","",SUMIFS('Journal entrées et sorties'!D$8:D$415,'Journal entrées et sorties'!C$8:C$415,C111)) -> 0 | F111: =IF(C111="","",SUMIFS('Journal entrées et sorties'!E$8:E$515,'Journal entrées et sorties'!C$8:C$515,C111)) -> 0 | G111: =IF(C111="","",D111+E111-F111) -> 1 | H111: =VLOOKUP(B111,'Base de donnée articles'!A87:F94,4,0) -> 10 | I111: =H111*G111 -> 10
B112: =IF('Base de donnée articles'!A416="","",'Base de donnée articles'!A416) -> contacteur lc1d18b7 | C112: =IF('Base de donnée articles'!B416="","",'Base de donnée articles'!B416) -> contacteur lc1d18b7/lc1d18b7 | D112: 1 | E112: =IF(B112="","",SUMIFS('Journal entrées et sorties'!D$8:D$415,'Journal entrées et sorties'!C$8:C$415,C112)) -> 1 | F112: =IF(C112="","",SUMIFS('Journal entrées et sorties'!E$8:E$515,'Journal entrées et sorties'!C$8:C$515,C112)) -> 1 | G112: =IF(C112="","",D112+E112-F112) -> 1 | H112: =VLOOKUP(B112,'Base de donnée articles'!A416:F476,4,0) -> 10 | I112: =H112*G112 -> 10
B113: =IF('Base de donnée articles'!A88="","",'Base de donnée articles'!A88) -> Courroie codeur poutre clouage | C113: =IF('Base de donnée articles'!B88="","",'Base de donnée articles'!B88) -> Courroie codeur poutre clouage/808 06 499 type 390XL S191 AG | D113: 1 | E113: =IF(B113="","",SUMIFS('Journal entrées et sorties'!D$8:D$415,'Journal entrées et sorties'!C$8:C$415,C113)) -> 1 | F113: =IF(C113="","",SUMIFS('Journal entrées et sorties'!E$8:E$515,'Journal entrées et sorties'!C$8:C$515,C113)) -> 0 | G113: =IF(C113="","",D113+E113-F113) -> 2 | H113: =VLOOKUP(B113,'Base de donnée articles'!A88:F95,4,0) -> 10 | I113: =H113*G113 -> 20
B114: =IF('Base de donnée articles'!A89="","",'Base de donnée articles'!A89) -> Courroie crantée | C114: =IF('Base de donnée articles'!B89="","",'Base de donnée articles'!B89) -> Courroie crantée/510 H 4064 | D114: 4 | E114: =IF(B114="","",SUMIFS('Journal entrées et sorties'!D$8:D$415,'Journal entrées et sorties'!C$8:C$415,C114)) -> 4 | F114: =IF(C114="","",SUMIFS('Journal entrées et sorties'!E$8:E$515,'Journal entrées et sorties'!C$8:C$515,C114)) -> 0 | G114: =IF(C114="","",D114+E114-F114) -> 8 | H114: =VLOOKUP(B114,'Base de donnée articles'!A89:F96,4,0) -> 10 | I114: =H114*G114 -> 80
B115: =IF('Base de donnée articles'!A90="","",'Base de donnée articles'!A90) -> cremaillere introducteur | C115: =IF('Base de donnée articles'!B90="","",'Base de donnée articles'!B90) -> cremaillere introducteur/module 4 | D115: 2 | E115: =IF(B115="","",SUMIFS('Journal entrées et sorties'!D$8:D$415,'Journal entrées et sorties'!C$8:C$415,C115)) -> 0 | F115: =IF(C115="","",SUMIFS('Journal entrées et sorties'!E$8:E$515,'Journal entrées et sorties'!C$8:C$515,C115)) -> 0 | G115: =IF(C115="","",D115+E115-F115) -> 2 | H115: =VLOOKUP(B115,'Base de donnée articles'!A90:F97,4,0) -> 10 | I115: =H115*G115 -> 20
...

Sheet Feuil1
A1: Liste
A2: ='Base de donnée articles'!B480 -> accouplement et flector/l3cl1/2 groupe hydraulique
A3: ='Base de donnée articles'!B8 -> Amortisseur anti retour/RB1007 RB0A17
A4: ='Base de donnée articles'!B9 -> Arbre 1/carré 22mm
A5: ='Base de donnée articles'!B10 -> Arbre 2/Carré pour retourneur
A6: ='Base de donnée articles'!B11 -> Arbre 3/DDA L1
A7: ='Base de donnée articles'!B12 -> Arbre 4/DDA L2 OU L3
A8: ='Base de donnée articles'!B13 -> Arbre 5/demi axe empileur/depileur
A9: ='Base de donnée articles'!B14 -> Arbre 6/LIGNE 1 CL 1 OU 2
A10: ='Base de donnée articles'!B15 -> arbre cannelé/arbre cannelé introducteur
A11: ='Base de donnée articles'!B481 -> attache rapide /chaine 10b1
A12: ='Base de donnée articles'!B482 -> attache rapide/chaine 12b1
A13: ='Base de donnée articles'!B433 -> attache rapide/demi maillon 16b1
A14: ='Base de donnée articles'!B16 -> axe chromé/diam 16x260mm
A15: ='Base de donnée articles'!B422 -> axe distribution pointes/axe corali 165 25 24
A16: ='Base de donnée articles'!B437 -> axe enclume/corali 81334225
A17: ='Base de donnée articles'!B478 -> axe reducteur/cape bac a pointes
A18: ='Base de donnée articles'!B411 -> axe réglage butée empileur/axe vis trapézoidale
A19: ='Base de donnée articles'!B17 -> Bagues (laiton) CORALI pour distribution pointes/dimensions: diam ext 12 x diam int 8 x longueur 12mm
A20: ='Base de donnée articles'!B435 -> bagues riveur /corali 24202312
A21: ='Base de donnée articles'!B439 -> bagues/enclume guide 24202312
A22: ='Base de donnée articles'!B461 -> bobine /48 vac
A23: ='Base de donnée articles'!B18 -> bobine 1/type MSFG-24/42-50/60-OD 24V DC et 42V AC ref 809 35 014
A24: ='Base de donnée articles'!B19 -> bobine 2/Type 115-120V AC ref 430 041 54
A25: ='Base de donnée articles'!B20 -> bobine 3/Type 230V AC ref 430 044 22
A26: ='Base de donnée articles'!B21 -> bobine 4/Type 240V ref 1 824 210 220 ou 1 824 210 234
A27: ='Base de donnée articles'!B22 -> bobine 5/type 24V AC ref 430 044 16 ou 430 04 181
A28: ='Base de donnée articles'!B23 -> bobine 6/Type 24V DC ref 430 041 66 ou 400 904 -042
A29: ='Base de donnée articles'!B24 -> bobine 7/Type 48V AC ref 430 044 17
A30: ='Base de donnée articles'!B410 -> bouton arrêt d'urgence zb4bc4 / zb4bc4
A31: ='Base de donnée articles'!B25 -> Bride 1/Diam 105
A32: ='Base de donnée articles'!B26 -> Bride 10/K534.206.200
A33: ='Base de donnée articles'!B27 -> Bride 2/Diam 120
A34: ='Base de donnée articles'!B28 -> Bride 3/Diam 140
A35: ='Base de donnée articles'!B29 -> Bride 4/Diam 160
A36: ='Base de donnée articles'!B30 -> Bride 5/K531.203
A37: ='Base de donnée articles'!B31 -> Bride 6/K532.203
A38: ='Base de donnée articles'!B32 -> Bride 7/K532.203
A39: ='Base de donnée articles'!B33 -> Bride 8/K532.206.120
A40: ='Base de donnée articles'!B34 -> Bride 9/K533.206.140
A41: ='Base de donnée articles'!B35 -> Bride B5/Diam 200
A42: ='Base de donnée articles'!B486 -> bride ho32fa/dpa1/4t
A43: ='Base de donnée articles'!B420 -> bride reducteur/bride k4 t80 b14
A44: ='Base de donnée articles'!B475 -> cable electrique/4g1,5
A45: ='Base de donnée articles'!B476 -> cable electrique/5g1
A46: ='Base de donnée articles'!B36 -> cable et connecteur/WC4T-5/TEL
A47: ='Base de donnée articles'!B37 -> Capteur 1/804 82 041
A48: ='Base de donnée articles'!B38 -> Capteur 2/805 13 520
A49: ='Base de donnée articles'!B469 -> capteur corali/clou 804821163
A50: ='Base de donnée articles'!B39 -> Capteur magnétique position vérin/REED-FL5-00
A51: ='Base de donnée articles'!B470 -> capteur pointes/cape b01an22pscv8
A52: ='Base de donnée articles'!B414 -> capteur position/xckt1587922
A53: ='Base de donnée articles'!B40 -> Capteurs de position tiges vérins 1/322-20 0311
A54: ='Base de donnée articles'!B41 -> Capteurs de position tiges vérins 2/88100142
A55: ='Base de donnée articles'!B42 -> Capteurs de position tiges vérins 3/88100144
A56: ='Base de donnée articles'!B43 -> Capteurs de position tiges vérins 4/88100186
A57: ='Base de donnée articles'!B44 -> Capteurs de position tiges vérins 5/88100417
A58: ='Base de donnée articles'!B45 -> Capteurs de position tiges vérins 6/88144201
A59: ='Base de donnée articles'!B46 -> Capteurs de position tiges vérins 7/88144203
A60: ='Base de donnée articles'!B47 -> Capteurs de position tiges vérins 8/REED-FL2-00
A61: ='Base de donnée articles'!B48 -> Carte communication CORALI/1P6ES7 151-1AA05-OABO
A62: ='Base de donnée articles'!B49 -> cellule 1/Ni12UM18AP6Xh1141
A63: ='Base de donnée articles'!B50 -> cellule 10/type WT18-2P410 ref 804 82 053
A64: ='Base de donnée articles'!B51 -> cellule 2/type WT18-3P410 ref 804 82 053
... A71: ='Base de donnée articles'!B58 -> cellule 9/type WT150-P460 ref 804 81 102
A72: ='Base de donnée articles'!B434 -> cellule capte noir/datalogic s62-pa-5-m21-pp
A73: ='Base de donnée articles'!B447 -> cellule clou/bi30rq20ap6xh1141
A74: ='Base de donnée articles'!B441 -> cellule s62 pa5m21pp/capte noi datalogic
A75: ='Base de donnée articles'!B59 -> cellule taquet/80482041
A76: ='Base de donnée articles'!B409 -> cellule/804821163
A77: ='Base de donnée articles'!B427 -> cellule/cellule sick wt150-p460
A78: ='Base de donnée articles'!B430 -> cellule/datalogic s3z-pr-5-m01-pl
A79: ='Base de donnée articles'!B454 -> chaine/10b1
A80: ='Base de donnée articles'!B455 -> chaine/12b1
A81: ='Base de donnée articles'!B60 -> Chaine/12b2 5ml
A82: ='Base de donnée articles'!B448 -> chaine/8b1
A83: ='Base de donnée articles'!B61 -> Cloueur complet/cloueur complet
A84: ='Base de donnée articles'!B467 -> codeur corali/poutre 80402046
A85: ='Base de donnée articles'!B62 -> Codeur/GHM406-1000-006
A86: ='Base de donnée articles'!B63 -> codeur/hohner
A87: ='Base de donnée articles'!B64 -> Compteur/KALIA-d111
A88: ='Base de donnée articles'!B65 -> Connecteur droit 4 fils /RKC4.4T-5/TEL
A89: ='Base de donnée articles'!B66 -> Connecteur équerre 3 fils /WKC4T-5/TEL
A90: ='Base de donnée articles'!B67 -> Contact instantané 1/GV1-M20
A91: ='Base de donnée articles'!B68 -> Contact instantané 2/LA1 DN 11
A92: ='Base de donnée articles'!B69 -> Contact instantané 3/LADN11
A93: ='Base de donnée articles'!B70 -> Contacteur 11/CA2 DN31 E7
A94: ='Base de donnée articles'!B71 -> Contacteur 12/CA2 DN40 40E
A95: ='Base de donnée articles'!B72 -> Contacteur 13/CAD32
A96: ='Base de donnée articles'!B73 -> Contacteur 14/LC1 D09
... A110: ='Base de donnée articles'!B87 -> Contacteur 28/CA2 DN31 31E
A111: ='Base de donnée articles'!B416 -> contacteur lc1d18b7/lc1d18b7
A112: ='Base de donnée articles'!B88 -> Courroie codeur poutre clouage/808 06 499 type 390XL S191 AG
A113: ='Base de donnée articles'!B89 -> Courroie crantée/510 H 4064
A114: ='Base de donnée articles'!B90 -> cremaillere introducteur/module 4
A115: ='Base de donnée articles'!B91 -> Détecteur annulaire/Bi30R-Q20-AP6X2-H1141
A116: ='Base de donnée articles'!B92 -> Détecteur annulaire/BO1AN30POC5T=100MS
A117: ='Base de donnée articles'!B458 -> disque /pignon 70 dents 12b1
A118: ='Base de donnée articles'!B460 -> distributeur hydraulique/dhi071100
A119: ='Base de donnée articles'!B474 -> distributeur hydraulique/t3dhi071300
...
