Workbook
Name Article: 'Base de donnée articles'!$A$8:$A$498
Name bdd: 'Base de donnée articles'!$B$7:$B$498
Name joachim: 'Base de donnée articles'!$B$8:$B$498
Name joachim1: 'Base de donnée articles'!$B$8:$B$498
Name joachim333: 'Base de donnée articles'!$B$8:$B$498
Name joachimm: 'Base de donnée articles'!$B$8:$B$498
Name joachimme: 'Base de donnée articles'!$B$8:$B$498
Name joachimmej: 'Base de donnée articles'!$B$7:$B$498
Name joachimmejean: 'Base de donnée articles'!$B$8:$B$498
Name joachimmm: 'Base de donnée articles'!$B$8:$B$498
Name joachimmmm: 'Base de donnée articles'!$B$7:$B$498
Name joo: 'Base de donnée articles'!$B$8:$B$498
Name lara: 'Base de donnée articles'!$B$7:$B$498
Name Liste_Article: Feuil1!$A$2:$A$492
Name liste1: 'Base de donnée articles'!$B$7:$B$498
Name listejo: 'Base de donnée articles'!$B$8:$B$498
Name LISTEPIECE: 'Base de donnée articles'!$C$7:$C$306
Name maliste: 'Base de donnée articles'!$B$8:$B$498
Name Ref: 'Base de donnée articles'!$C$8:$C$498
Name STOCK: 'Base de donnée articles'!$A$8:$C$358
Name stock10: 'Base de donnée articles'!$B$8:$B$407
Name stock11: 'Base de donnée articles'!$B$8:$B$425
Name stock1jo: 'Base de donnée articles'!$B$7:$B$472
Name stock4: 'Base de donnée articles'!$B$8:$B$425
Name stockjo: 'Base de donnée articles'!$B$8:$B$425
Name stockjo1: 'Base de donnée articles'!$B$8:$B$425
Name stockjoh: 'Base de donnée articles'!$B$8:$B$434
Name stocklara: 'Base de donnée articles'!$B$7:$B$434
Name STOCKPIECE: 'Base de donnée articles'!$C$8:$C$306
Name stockref: 'Base de donnée articles'!$B$8:$B$406
Name stockref1: 'Base de donnée articles'!$B$8:$B$406
Name stockref3: 'Base de donnée articles'!$B$8:$B$406
Name STOCKS: 'Base de donnée articles'!$C$8:$C$358
Name STOCKS1: 'Base de donnée articles'!$C$8:$C$359
Name STOCKS2: 'Base de donnée articles'!$C$8:$C$367
Name stockstock: 'Base de donnée articles'!$B$8:$B$425

Sheet Base de donnée articles
A2: BASE DE DONNÉES ARTICLES
A7: Article | B7: ref ok | C7: Ref | D7: Tarif | E7: Fournisseur | F7: emplacement
A8: Amortisseur anti retour | B8: =CONCATENATE(A8,"/",C8) -> Amortisseur anti retour/RB1007 RB0A17 | C8: RB1007 RB0A17 | D8: 10
A9: Arbre 1 | B9: =CONCATENATE(A9,"/",C9) -> Arbre 1/carré 22mm | C9: carré 22mm | D9: 10
A10: Arbre 2 | B10: =CONCATENATE(A10,"/",C10) -> Arbre 2/Carré pour retourneur | C10: Carré pour retourneur | D10: 10
A11: Arbre 3 | B11: =CONCATENATE(A11,"/",C11) -> Arbre 3/DDA L1 | C11: DDA L1 | D11: 10
A12: Arbre 4 | B12: =CONCATENATE(A12,"/",C12) -> Arbre 4/DDA L2 OU L3 | C12: DDA L2 OU L3 | D12: 10
A13: Arbre 5 | B13: =CONCATENATE(A13,"/",C13) -> Arbre 5/demi axe empileur/depileur | C13: demi axe empileur/depileur | D13: 10
A14: Arbre 6 | B14: =CONCATENATE(A14,"/",C14) -> Arbre 6/LIGNE 1 CL 1 OU 2 | C14: LIGNE 1 CL 1 OU 2 | D14: 10
A15: arbre cannelé | B15: =CONCATENATE(A15,"/",C15) -> arbre cannelé/arbre cannelé introducteur | C15: arbre cannelé introducteur | D15: 10
A16: axe chromé | B16: =CONCATENATE(A16,"/",C16) -> axe chromé/diam 16x260mm | C16: diam 16x260mm | D16: 10
A17: Bagues (laiton) CORALI pour distribution pointes | B17: =CONCATENATE(A17,"/",C17) -> Bagues (laiton) CORALI pour distribution pointes/dimensions: diam ext 12 x diam int 8 x longueur 12mm | C17: dimensions: diam ext 12 x diam int 8 x longueur 12mm | D17: 10
A18: bobine 1 | B18: =CONCATENATE(A18,"/",C18) -> bobine 1/type MSFG-24/42-50/60-OD 24V DC et 42V AC ref 809 35 014 | C18: type MSFG-24/42-50/60-OD 24V DC et 42V AC ref 809 35 014 | D18: 10
A19: bobine 2 | B19: =CONCATENATE(A19,"/",C19) -> bobine 2/Type 115-120V AC ref 430 041 54 | C19: Type 115-120V AC ref 430 041 54 | D19: 10
... A92: Détecteur annulaire | B92: =CONCATENATE(A92,"/",C92) -> Détecteur annulaire/BO1AN30POC5T=100MS | C92: BO1AN30POC5T=100MS | D92: 10
A93: Distributeur pneumatique 1 | B93: =CONCATENATE(A93,"/",C93) -> Distributeur pneumatique 1/54191023 | C93: 54191023 | D93: 10
A94: Distributeur pneumatique 2 | B94: =CONCATENATE(A94,"/",C94) -> Distributeur pneumatique 2/54292028 | C94: 54292028 | D94: 10
A95: Distributeurs 1 | B95: =CONCATENATE(A95,"/",C95) -> Distributeurs 1/MD1D-2TA/50 | C95: MD1D-2TA/50 | D95: 10
A96: Distributeurs 2 | B96: =CONCATENATE(A96,"/",C96) -> Distributeurs 2/MD1D-R/50 | C96: MD1D-R/50 | D96: 10
A97: Distributeurs 3 | B97: =CONCATENATE(A97,"/",C97) -> Distributeurs 3/SDHI-0610 23 | C97: SDHI-0610 23 | D97: 10
A98: Diviseur de flux hydraulique | B98: =CONCATENATE(A98,"/",C98) -> Diviseur de flux hydraulique/810 180 05 | C98: 810 180 05 | D98: 10
A99: Diviseur de flux hydraulique | B99: =CONCATENATE(A99,"/",C99) -> Diviseur de flux hydraulique/81018005 | C99: 81018005 | D99: 10
A100: ecrous 1 | B100: =CONCATENATE(A100,"/",C100) -> ecrous 1/M8 | C100: M8 | D100: 10
A101: ecrous 10 | B101: =CONCATENATE(A101,"/",C101) -> ecrous 10/M4 | C101: M4 | D101: 10
A102: ecrous 11 | B102: =CONCATENATE(A102,"/",C102) -> ecrous 11/M4 | C102: M4 | D102: 10
A103: ecrous 12 | B103: =CONCATENATE(A103,"/",C103) -> ecrous 12/M5 | C103: M5 | D103: 10
A104: ecrous 13 | B104: =CONCATENATE(A104,"/",C104) -> ecrous 13/M5 | C104: M5 | D104: 10
A105: ecrous 14 | B105: =CONCATENATE(A105,"/",C105) -> ecrous 14/M6 | C105: M6 | D105: 10
A106: ecrous 15 | B106: =CONCATENATE(A106,"/",C106) -> ecrous 15/M6 | C106: M6 | D106: 10
... A188: pignon | B188: =CONCATENATE(A188,"/",C188) -> pignon/pignon cremaillere introducteur | C188: pignon cremaillere introducteur | D188: 10
A189: pousseur planches | B189: =CONCATENATE(A189,"/",C189) -> pousseur planches /234030058 | C189: 234030058 | D189: 10
A190: Prise élec scpéciale | B190: =CONCATENATE(A190,"/",C190) -> Prise élec scpéciale/10 pins pour en/codeur ref 804 02 026 | C190: 10 pins pour en/codeur ref 804 02 026 | D190: 10
A191: Rabateur de traverses | B191: =CONCATENATE(A191,"/",C191) -> Rabateur de traverses/24227108 dx | C191: 24227108 dx | D191: 10
A192: Rabateur de traverses | B192: =CONCATENATE(A192,"/",C192) -> Rabateur de traverses/24227108 sx | C192: 24227108 sx | D192: 10
A193: raccord air 1 | B193: =CONCATENATE(A193,"/",C193) -> raccord air 1/Banjo d6 1/4 | C193: Banjo d6 1/4 | D193: 10
A194: raccord air 10 | B194: =CONCATENATE(A194,"/",C194) -> raccord air 10/Droit d6m 4f | C194: Droit d6m 4f | D194: 10
A195: raccord air 11 | B195: =CONCATENATE(A195,"/",C195) -> raccord air 11/Droit d8 1/4 | C195: Droit d8 1/4 | D195: 10
A196: raccord air 12 | B196: =CONCATENATE(A196,"/",C196) -> raccord air 12/Droit d8f 6m | C196: Droit d8f 6m | D196: 10
A197: raccord air 13 | B197: =CONCATENATE(A197,"/",C197) -> raccord air 13/Droit d8m 6f | C197: Droit d8m 6f | D197: 10
A198: raccord air 14 | B198: =CONCATENATE(A198,"/",C198) -> raccord air 14/Equerre d4 1/8 | C198: Equerre d4 1/8 | D198: 10
...

Sheet Journal entrées et sorties
B2: JOURNAL D'ENTRÉES ET SORTIES
B7: Date | C7: Ref | D7: Entrée | E7: Sortie
B8: 42400 | C8: VERINS PNEUMATIQUES 1/G453A3SK0160A00-032 x 0160 | E8: 1
B9: 42440 | C9: Amortisseur anti retour/RB1007 RB0A17 | D9: 2
B10: 42450 | C10: verin 33/G449A5SM0050A00 | E10: 1
B11: 42450 | C11: cellule 4/QS18VP6AF100Q5 | E11: 1
B12: 42450 | C12: moteurs 17/Taille 90 1,5KW B14 4P | E12: 1
B13: 42451 | C13: moteurs 14/Taille 100 3kw B3 4P | E13: 1
B14: 42451 | C14: Courroie codeur poutre clouage/808 06 499 type 390XL S191 AG | D14: 1
B15: 42458 | C15: Palier 3/palier phuse 25 | D15: 3
B16: 42458 | C16: Palier 3/palier phuse 25 | E16: 1
B17: 42458 | C17: cellule 3/Ni8UM12AP6XH1141 | E17: 1
B18: 42465 | C18: cellule 4/QS18VP6AF100Q5 | D18: 2
B19: 42465 | C19: b0an30dis460 | D19: 2 | E19: 1
B20: 42467 | C20: moteur frein/taille 80 4p b5 0,75 kw | E20: 1
B21: 42467 | C21: capteur position/xckt1587922 | E21: 1
B22: 42467 | C22: Tuyau enroulé/809 54 019 diam 20 ext diam 16 int | E22: 1
B23: 42468 | C23: axe réglage butée empileur/axe vis trapézoidale | D23: 1
B24: 42472 | C24: moteur électrique/taille 90 4p 1,5 kw b14 | D24: 1
B25: 42472 | C25: moteur électrique/Taille 100 3kw B3 4P | D25: 1
B26: 42472 | C26: VERINS PNEUMATIQUES 1/G453A3SK0160A00-032 x 0160 | D26: 1
B27: 42472 | C27: verin 32/G441AM2G0050A00-025 x 0050 | D27: 3
B28: 42472 | C28: raccord air 9/Droit d6 m5 | D28: 1
B29: 42472 | C29: raccord air 17/Equerre d6 1/8 | D29: 1
B30: 42473 | C30: contacteur lc1d18b7/lc1d18b7 | E30: 1
B31: 42479 | C31: moteurs 14/Taille 100 3kw B3 4P | E31: 1
B32: 42479 | C32: moteur/taille 80 4p 0,75kw b5 | D32: 1
B33: 42480 | C33: lame scie carbure /z100 d30 diametre 305 | D33: 6
B34: 42480 | C34: contacteur lc1d18b7/lc1d18b7 | D34: 1
B35: 42480 | C35: gaine aspiration/gaine d125 polyurethane | D35: 25
B36: 42480 | C36: bride reducteur/bride k4 t80 b14 | D36: 2
B37: 42480 | C37: moteur electrique/moteur t71 4p 0,37kw | D37: 1
B38: 42481 | C38: cellule 6/QS18VP6DQ8 | E38: 1
B39: 42481 | C39: verin 35/G453A4SK0080A00-040 x 0080 | E39: 1
B40: 42481 | C40: verin 28/CP96SDB40-80 | E40: 1
B41: 42481 | C41: axe distribution pointes/axe corali 165 25 24 | D41: 1
B42: 42482 | C42: enclume rivetage/riveur cape | D42: 1 | E42: 1
B43: 42485 | C43: verin 32/G441AM2G0050A00-025 x 0050 | E43: 1
B44: 42486 | C44: Codeur/GHM406-1000-006 | E44: 1
B45: 42486 | C45: cellule 3/Ni8UM12AP6XH1141 | D45: 2
...

Sheet Etat des stocks
B2: ÉTAT DES STOCKS
B4: Valeur du stock : | C4: =SUM(I8:I471) -> 11590
B7: Article | C7: Ref | D7: Stock initial | E7: Entrées | F7: Sorties | G7: Stock Final | H7: tarif | I7: valorisation
B8: =IF('Base de donnée articles'!A480="","",'Base de donnée articles'!A480) -> accouplement et flector | C8: =IF('Base de donnée articles'!B480="","",'Base de donnée articles'!B480) -> accouplement et flector/l3cl1/2 groupe hydraulique | D8: 0 | E8: =IF(B8="","",SUMIFS('Journal entrées et sorties'!D$8:D$415,'Journal entrées et sorties'!C$8:C$415,C8)) -> 0 | F8: =IF(C8="","",SUMIFS('Journal entrées et sorties'!E$8:E$515,'Journal entrées et sorties'!C$8:C$515,C8)) -> 0 | G8: =IF(C8="","",D8+E8-F8) -> 0 | H8: =VLOOKUP(B8,'Base de donnée articles'!A480:F540,4,0) -> 10 | I8: =H8*G8 -> 0
B9: =IF('Base de donnée articles'!A8="","",'Base de donnée articles'!A8) -> Amortisseur anti retour | C9: =IF('Base de donnée articles'!B8="","",'Base de donnée articles'!B8) -> Amortisseur anti retour/RB1007 RB0A17 | D9: 2 | E9: =IF(B9="","",SUMIFS('Journal entrées et sorties'!D$8:D$415,'Journal entrées et sorties'!C$8:C$415,C9)) -> 5 | F9: =IF(C9="","",SUMIFS('Journal entrées et sorties'!E$8:E$515,'Journal entrées et sorties'!C$8:C$515,C9)) -> 1 | G9: =IF(C9="","",D9+E9-F9) -> 6 | H9: =VLOOKUP(B9,'Base de donnée articles'!A8:F15,4,0) -> 10 | I9: =H9*G9 -> 60
B10: =IF('Base de donnée articles'!A9="","",'Base de donnée articles'!A9) -> Arbre 1 | C10: =IF('Base de donnée articles'!B9="","",'Base de donnée articles'!B9) -> Arbre 1/carré 22mm | D10: 4 | E10: =IF(B10="","",SUMIFS('Journal entrées et sorties'!D$8:D$415,'Journal entrées et sorties'!C$8:C$415,C10)) -> 0 | F10: =IF(C10="","",SUMIFS('Journal entrées et sorties'!E$8:E$515,'Journal entrées et sorties'!C$8:C$515,C10)) -> 0 | G10: =IF(C10="","",D10+E10-F10) -> 4 | H10: =VLOOKUP(B10,'Base de donnée articles'!A9:F16,4,0) -> 10 | I10: =H10*G10 -> 40
B11: =IF('Base de donnée articles'!A10="","",'Base de donnée articles'!A10) -> Arbre 2 | C11: =IF('Base de donnée articles'!B10="","",'Base de donnée articles'!B10) -> Arbre 2/Carré pour retourneur | D11: 1 | E11: =IF(B11="","",SUMIFS('Journal entrées et sorties'!D$8:D$415,'Journal entrées et sorties'!C$8:C$415,C11)) -> 0 | F11: =IF(C11="","",SUMIFS('Journal entrées et sorties'!E$8:E$515,'Journal entrées et sorties'!C$8:C$515,C11)) -> 0 | G11: =IF(C11="","",D11+E11-F11) -> 1 | H11: =VLOOKUP(B11,'Base de donnée articles'!A10:F17,4,0) -> 10 | I11: =H11*G11 -> 10
B12: =IF('Base de donnée articles'!A11="","",'Base de donnée articles'!A11) -> Arbre 3 | C12: =IF('Base de donnée articles'!B11="","",'Base de donnée articles'!B11) -> Arbre 3/DDA L1 | D12: 1 | E12: =IF(B12="","",SUMIFS('Journal entrées et sorties'!D$8:D$415,'Journal entrées et sorties'!C$8:C$415,C12)) -> 0 | F12: =IF(C12="","",SUMIFS('Journal entrées et sorties'!E$8:E$515,'Journal entrées et sorties'!C$8:C$515,C12)) -> 0 | G12: =IF(C12="","",D12+E12-F12) -> 1 | H12: =VLOOKUP(B12,'Base de donnée articles'!A11:F18,4,0) -> 10 | I12: =H12*G12 -> 10
B13: =IF('Base de donnée articles'!A12="","",'Base de donnée articles'!A12) -> Arbre 4 | C13: =IF('Base de donnée articles'!B12="","",'Base de donnée articles'!B12) -> Arbre 4/DDA L2 OU L3 | D13: 1 | E13: =IF(B13="","",SUMIFS('Journal entrées et sorties'!D$8:D$415,'Journal entrées et sorties'!C$8:C$415,C13)) -> 1 | F13: =IF(C13="","",SUMIFS('Journal entrées et sorties'!E$8:E$515,'Journal entrées et sorties'!C$8:C$515,C13)) -> 1 | G13: =IF(C13="","",D13+E13-F13) -> 1 | H13: =VLOOKUP(B13,'Base de donnée articles'!A12:F19,4,0) -> 10 | I13: =H13*G13 -> 10
B14: =IF('Base de donnée articles'!A13="","",'Base de donnée articles'!A13) -> Arbre 5 | C14: =IF('Base de donnée articles'!B13="","",'Base de donnée articles'!B13) -> Arbre 5/demi axe empileur/depileur | D14: 2 | E14: =IF(B14="","",SUMIFS('Journal entrées et sorties'!D$8:D$415,'Journal entrées et sorties'!C$8:C$415,C14)) -> 0 | F14: =IF(C14="","",SUMIFS('Journal entrées et sorties'!E$8:E$515,'Journal entrées et sorties'!C$8:C$515,C14)) -> 0 | G14: =IF(C14="","",D14+E14-F14) -> 2 | H14: =VLOOKUP(B14,'Base de donnée articles'!A13:F20,4,0) -> 10 | I14: =H14*G14 -> 20
B15: =IF('Base de donnée articles'!A14="","",'Base de donnée articles'!A14) -> Arbre 6 | C15: =IF('Base de donnée articles'!B14="","",'Base de donnée articles'!B14) -> Arbre 6/LIGNE 1 CL 1 OU 2 | D15: 1 | E15: =IF(B15="","",SUMIFS('Journal entrées et sorties'!D$8:D$415,'Journal entrées et sorties'!C$8:C$415,C15)) -> 0 | F15: =IF(C15="","",SUMIFS('Journal entrées et sorties'!E$8:E$515,'Journal entrées et sorties'!C$8:C$515,C15)) -> 0 | G15: =IF(C15="","",D15+E15-F15) -> 1 | H15: =VLOOKUP(B15,'Base de donnée articles'!A14:F21,4,0) -> 10 | I15: =H15*G15 -> 10
B16: =IF('Base de donnée articles'!A15="","",'Base de donnée articles'!A15) -> arbre cannelé | C16: =IF('Base de donnée articles'!B15="","",'Base de donnée articles'!B15) -> arbre cannelé/arbre cannelé introducteur | D16: 1 | E16: =IF(B16="","",SUMIFS('Journal entrées et sorties'!D$8:D$415,'Journal entrées et sorties'!C$8:C$415,C16)) -> 0 | F16: =IF(C16="","",SUMIFS('Journal entrées et sorties'!E$8:E$515,'Journal entrées et sorties'!C$8:C$515,C16)) -> 0 | G16: =IF(C16="","",D16+E16-F16) -> 1 | H16: =VLOOKUP(B16,'Base de donnée articles'!A15:F22,4,0) -> 10 | I16: =H16*G16 -> 10
B17: =IF('Base de donnée articles'!A482="","",'Base de donnée articles'!A482) -> attache rapide | C17: =IF('Base de donnée articles'!B482="","",'Base de donnée articles'!B482) -> attache rapide/chaine 12b1 | D17: 0 | E17: =IF(B17="","",SUMIFS('Journal entrées et sorties'!D$8:D$415,'Journal entrées et sorties'!C$8:C$415,C17)) -> 10 | F17: =IF(C17="","",SUMIFS('Journal entrées et sorties'!E$8:E$515,'Journal entrées et sorties'!C$8:C$515,C17)) -> 0 | G17: =IF(C17="","",D17+E17-F17) -> 10 | H17: =VLOOKUP(B17,'Base de donnée articles'!A482:F542,4,0) -> 10 | I17: =H17*G17 -> 100
B18: =IF('Base de donnée articles'!A481="","",'Base de donnée articles'!A481) -> attache rapide | C18: =IF('Base de donnée articles'!B481="","",'Base de donnée articles'!B481) -> attache rapide /chaine 10b1 | D18: 0 | E18: =IF(B18="","",SUMIFS('Journal entrées et sorties'!D$8:D$415,'Journal entrées et sorties'!C$8:C$415,C18)) -> 10 | F18: =IF(C18="","",SUMIFS('Journal entrées et sorties'!E$8:E$515,'Journal entrées et sorties'!C$8:C$515,C18)) -> 0 | G18: =IF(C18="","",D18+E18-F18) -> 10 | H18: =VLOOKUP(B18,'Base de donnée articles'!A481:F541,4,0) -> 10 | I18: =H18*G18 -> 100
B19: =IF('Base de donnée articles'!A16="","",'Base de donnée articles'!A16) -> axe chromé | C19: =IF('Base de donnée articles'!B16="","",'Base de donnée articles'!B16) -> axe chromé/diam 16x260mm | D19: 2 | E19: =IF(B19="","",SUMIFS('Journal entrées et sorties'!D$8:D$415,'Journal entrées et sorties'!C$8:C$415,C19)) -> 10 | F19: =IF(C19="","",SUMIFS('Journal entrées et sorties'!E$8:E$515,'Journal entrées et sorties'!C$8:C$515,C19)) -> 4 | G19: =IF(C19="","",D19+E19-F19) -> 8 | H19: =VLOOKUP(B19,'Base de donnée articles'!A16:F23,4,0) -> 10 | I19: =H19*G19 -> 80
B20: =IF('Base de donnée articles'!A422="","",'Base de donnée articles'!A422) -> axe distribution pointes | C20: =IF('Base de donnée articles'!B422="","",'Base de donnée articles'!B422) -> axe distribution pointes/axe corali 165 25 24 | D20: 0 | E20: =IF(B20="","",SUMIFS('Journal entrées et sorties'!D$8:D$415,'Journal entrées et sorties'!C$8:C$415,C20)) -> 1 | F20: =IF(C20="","",SUMIFS('Journal entrées et sorties'!E$8:E$515,'Journal entrées et sorties'!C$8:C$515,C20)) -> 0 | G20: =IF(C20="","",D20+E20-F20) -> 1 | H20: =VLOOKUP(B20,'Base de donnée articles'!A422:F498,4,0) -> 10 | I20: =H20*G20 -> 10
B21: =IF('Base de donnée articles'!A478="","",'Base de donnée articles'!A478) -> axe reducteur | C21: =IF('Base de donnée articles'!B478="","",'Base de donnée articles'!B478) -> axe reducteur/cape bac a pointes | D21: 0 | E21: =IF(B21="","",SUMIFS('Journal entrées et sorties'!D$8:D$415,'Journal entrées et sorties'!C$8:C$415,C21)) -> 0 | F21: =IF(C21="","",SUMIFS('Journal entrées et sorties'!E$8:E$515,'Journal entrées et sorties'!C$8:C$515,C21)) -> 0 | G21: =IF(C21="","",D21+E21-F21) -> 0 | H21: =VLOOKUP(B21,'Base de donnée articles'!A478:F538,4,0) -> 10 | I21: =H21*G21 -> 0
B22: =IF('Base de donnée articles'!A411="","",'Base de donnée articles'!A411) -> axe réglage butée empileur | C22: =IF('Base de donnée articles'!B411="","",'Base de donnée articles'!B411) -> axe réglage butée empileur/axe vis trapézoidale | D22: 0 | E22: =IF(B22="","",SUMIFS('Journal entrées et sorties'!D$8:D$415,'Journal entrées et sorties'!C$8:C$415,C22)) -> 1 | F22: =IF(C22="","",SUMIFS('Journal entrées et sorties'!E$8:E$515,'Journal entrées et sorties'!C$8:C$515,C22)) -> 0 | G22: =IF(C22="","",D22+E22-F22) -> 1 | H22: =VLOOKUP(B22,'Base de donnée articles'!A411:F449,4,0) -> 10 | I22: =H22*G22 -> 10
B23: =IF('Base de donnée articles'!A439="","",'Base de donnée articles'!A439) -> bagues | C23: =IF('Base de donnée articles'!B439="","",'Base de donnée articles'!B439) -> bagues/enclume guide 24202312 | D23: 0 | E23: =IF(B23="","",SUMIFS('Journal entrées et sorties'!D$8:D$415,'Journal entrées et sorties'!C$8:C$415,C23)) -> 2 | F23: =IF(C23="","",SUMIFS('Journal entrées et sorties'!E$8:E$515,'Journal entrées et sorties'!C$8:C$515,C23)) -> 0 | G23: =IF(C23="","",D23+E23-F23) -> 2 | H23: =VLOOKUP(B23,'Base de donnée articles'!A430:F506,4,0) -> 10 | I23: =H23*G23 -> 20
B24: =IF('Base de donnée articles'!A17="","",'Base de donnée articles'!A17) -> Bagues (laiton) CORALI pour distribution pointes | C24: =IF('Base de donnée articles'!B17="","",'Base de donnée articles'!B17) -> Bagues (laiton) CORALI pour distribution pointes/dimensions: diam ext 12 x diam int 8 x longueur 12mm | D24: 12 | E24: =IF(B24="","",SUMIFS('Journal entrées et sorties'!D$8:D$415,'Journal entrées et sorties'!C$8:C$415,C24)) -> 0 | F24: =IF(C24="","",SUMIFS('Journal entrées et sorties'!E$8:E$515,'Journal entrées et sorties'!C$8:C$515,C24)) -> 0 | G24: =IF(C24="","",D24+E24-F24) -> 12 | H24: =VLOOKUP(B24,'Base de donnée articles'!A17:F24,4,0) -> 10 | I24: =H24*G24 -> 120
B25: =IF('Base de donnée articles'!A461="","",'Base de donnée articles'!A461) -> bobine | C25: =IF('Base de donnée articles'!B461="","",'Base de donnée articles'!B461) -> bobine /48 vac | D25: 0 | E25: =IF(B25="","",SUMIFS('Journal entrées et sorties'!D$8:D$415,'Journal entrées et sorties'!C$8:C$415,C25)) -> 2 | F25: =IF(C25="","",SUMIFS('Journal entrées et sorties'!E$8:E$515,'Journal entrées et sorties'!C$8:C$515,C25)) -> 0 | G25: =IF(C25="","",D25+E25-F25) -> 2 | H25: =VLOOKUP(B25,'Base de donnée articles'!A461:F521,4,0) -> 10 | I25: =H25*G25 -> 20
B26: =IF('Base de donnée articles'!A18="","",'Base de donnée articles'!A18) -> bobine 1 | C26: =IF('Base de donnée articles'!B18="","",'Base de donnée articles'!B18) -> bobine 1/type MSFG-24/42-50/60-OD 24V DC et 42V AC ref 809 35 014 | D26: 5 | E26: =IF(B26="","",SUMIFS('Journal entrées et sorties'!D$8:D$415,'Journal entrées et sorties'!C$8:C$415,C26)) -> 0 | F26: =IF(C26="","",SUMIFS('Journal entrées et sorties'!E$8:E$515,'Journal entrées et sorties'!C$8:C$515,C26)) -> 0 | G26: =IF(C26="","",D26+E26-F26) -> 5 | H26: =VLOOKUP(B26,'Base de donnée articles'!A18:F25,4,0) -> 10 | I26: =H26*G26 -> 50
B27: =IF('Base de donnée articles'!A19="","",'Base de donnée articles'!A19) -> bobine 2 | C27: =IF('Base de donnée articles'!B19="","",'Base de donnée articles'!B19) -> bobine 2/Type 115-120V AC ref 430 041 54 | D27: 5 | E27: =IF(B27="","",SUMIFS('Journal entrées et sorties'!D$8:D$415,'Journal entrées et sorties'!C$8:C$415,C27)) -> 0 | F27: =IF(C27="","",SUMIFS('Journal entrées et sorties'!E$8:E$515,'Journal entrées et sorties'!C$8:C$515,C27)) -> 0 | G27: =IF(C27="","",D27+E27-F27) -> 5 | H27: =VLOOKUP(B27,'Base de donnée articles'!A19:F26,4,0) -> 10 | I27: =H27*G27 -> 50
B28: =IF('Base de donnée articles'!A20="","",'Base de donnée articles'!A20) -> bobine 3 | C28: =IF('Base de donnée articles'!B20="","",'Base de donnée articles'!B20) -> bobine 3/Type 230V AC ref 430 044 22 | D28: 5 | E28: =IF(B28="","",SUMIFS('Journal entrées et sorties'!D$8:D$415,'Journal entrées et sorties'!C$8:C$415,C28)) -> 0 | F28: =IF(C28="","",SUMIFS('Journal entrées et sorties'!E$8:E$515,'Journal entrées et sorties'!C$8:C$515,C28)) -> 0 | G28: =IF(C28="","",D28+E28-F28) -> 5 | H28: =VLOOKUP(B28,'Base de donnée articles'!A20:F27,4,0) -> 10 | I28: =H28*G28 -> 50
B29: =IF('Base de donnée articles'!A21="","",'Base de donnée articles'!A21) -> bobine 4 | C29: =IF('Base de donnée articles'!B21="","",'Base de donnée articles'!B21) -> bobine 4/Type 240V ref 1 824 210 220 ou 1 824 210 234 | D29: 5 | E29: =IF(B29="","",SUMIFS('Journal entrées et sorties'!D$8:D$415,'Journal entrées et sorties'!C$8:C$415,C29)) -> 0 | F29: =IF(C29="","",SUMIFS('Journal entrées et sorties'!E$8:E$515,'Journal entrées et sorties'!C$8:C$515,C29)) -> 0 | G29: =IF(C29="","",D29+E29-F29) -> 5 | H29: =VLOOKUP(B29,'Base de donnée articles'!A21:F28,4,0) -> 10 | I29: =H29*G29 -> 50
B30: =IF('Base de donnée articles'!A22="","",'Base de donnée articles'!A22) -> bobine 5 | C30: =IF('Base de donnée articles'!B22="","",'Base de donnée articles'!B22) -> bobine 5/type 24V AC ref 430 044 16 ou 430 04 181 | D30: 5 | E30: =IF(B30="","",SUMIFS('Journal entrées et sorties'!D$8:D$415,'Journal entrées et sorties'!C$8:C$415,C30)) -> 0 | F30: =IF(C30="","",SUMIFS('Journal entrées et sorties'!E$8:E$515,'Journal entrées et sorties'!C$8:C$515,C30)) -> 0 | G30: =IF(C30="","",D30+E30-F30) -> 5 | H30: =VLOOKUP(B30,'Base de donnée articles'!A22:F29,4,0) -> 10 | I30: =H30*G30 -> 50
B31: =IF('Base de donnée articles'!A23="","",'Base de donnée articles'!A23) -> bobine 6 | C31: =IF('Base de donnée articles'!B23="","",'Base de donnée articles'!B23) -> bobine 6/Type 24V DC ref 430 041 66 ou 400 904 -042 | D31: 5 | E31: =IF(B31="","",SUMIFS('Journal entrées et sorties'!D$8:D$415,'Journal entrées et sorties'!C$8:C$415,C31)) -> 0 | F31: =IF(C31="","",SUMIFS('Journal entrées et sorties'!E$8:E$515,'Journal entrées et sorties'!C$8:C$515,C31)) -> 0 | G31: =IF(C31="","",D31+E31-F31) -> 5 | H31: =VLOOKUP(B31,'Base de donnée articles'!A23:F30,4,0) -> 10 | I31: =H31*G31 -> 50
B32: =IF('Base de donnée articles'!A24="","",'Base de donnée articles'!A24) -> bobine 7 | C32: =IF('Base de donnée articles'!B24="","",'Base de donnée articles'!B24) -> bobine 7/Type 48V AC ref 430 044 17 | D32: 5 | E32: =IF(B32="","",SUMIFS('Journal entrées et sorties'!D$8:D$415,'Journal entrées et sorties'!C$8:C$415,C32)) -> 0 | F32: =IF(C32="","",SUMIFS('Journal entrées et sorties'!E$8:E$515,'Journal entrées et sorties'!C$8:C$515,C32)) -> 0 | G32: =IF(C32="","",D32+E32-F32) -> 5 | H32: =VLOOKUP(B32,'Base de donnée articles'!A24:F31,4,0) -> 10 | I32: =H32*G32 -> 50
B33: =IF('Base de donnée articles'!A410="","",'Base de donnée articles'!A410) -> bouton arrêt d'urgence zb4bc4 | C33: =IF('Base de donnée articles'!B410="","",'Base de donnée articles'!B410) -> bouton arrêt d'urgence zb4bc4 / zb4bc4 | D33: 0 | E33: =IF(B33="","",SUMIFS('Journal entrées et sorties'!D$8:D$415,'Journal entrées et sorties'!C$8:C$415,C33)) -> 0 | F33: =IF(C33="","",SUMIFS('Journal entrées et sorties'!E$8:E$515,'Journal entrées et sorties'!C$8:C$515,C33)) -> 0 | G33: =IF(C33="","",D33+E33-F33) -> 0 | H33: =VLOOKUP(B33,'Base de donnée articles'!A410:F448,4,0) -> 10 | I33: =H33*G33 -> 0
B34: =IF('Base de donnée articles'!A25="","",'Base de donnée articles'!A25) -> Bride 1 | C34: =IF('Base de donnée articles'!B25="","",'Base de donnée articles'!B25) -> Bride 1/Diam 105 | D34: 1 | E34: =IF(B34="","",SUMIFS('Journal entrées et sorties'!D$8:D$415,'Journal entrées et sorties'!C$8:C$415,C34)) -> 0 | F34: =IF(C34="","",SUMIFS('Journal entrées et sorties'!E$8:E$515,'Journal entrées et sorties'!C$8:C$515,C34)) -> 0 | G34: =IF(C34="","",D34+E34-F34) -> 1 | H34: =VLOOKUP(B34,'Base de donnée articles'!A25:F32,4,0) -> 10 | I34: =H34*G34 -> 10
B35: =IF('Base de donnée articles'!A26="","",'Base de donnée articles'!A26) -> Bride 10 | C35: =IF('Base de donnée articles'!B26="","",'Base de donnée articles'!B26) -> Bride 10/K534.206.200 | D35: 1 | E35: =IF(B35="","",SUMIFS('Journal entrées et sorties'!D$8:D$415,'Journal entrées et sorties'!C$8:C$415,C35)) -> 0 | F35: =IF(C35="","",SUMIFS('Journal entrées et sorties'!E$8:E$515,'Journal entrées et sorties'!C$8:C$515,C35)) -> 0 | G35: =IF(C35="","",D35+E35-F35) -> 1 | H35: =VLOOKUP(B35,'Base de donnée articles'!A26:F33,4,0) -> 10 | I35: =H35*G35 -> 10
B36: =IF('Base de donnée articles'!A27="","",'Base de donnée articles'!A27) -> Bride 2 | C36: =IF('Base de donnée articles'!B27="","",'Base de donnée articles'!B27) -> Bride 2/Diam 120 | D36: 1 | E36: =IF(B36="","",SUMIFS('Journal entrées et sorties'!D$8:D$415,'Journal entrées et sorties'!C$8:C$415,C36)) -> 0 | F36: =IF(C36="","",SUMIFS('Journal entrées et sorties'!E$8:E$515,'Journal entrées et sorties'!C$8:C$515,C36)) -> 0 | G36: =IF(C36="","",D36+E36-F36) -> 1 | H36: =VLOOKUP(B36,'Base de donnée articles'!A27:F34,4,0) -> 10 | I36: =H36*G36 -> 10
B37: =IF('Base de donnée articles'!A28="","",'Base de donnée articles'!A28) -> Bride 3 | C37: =IF('Base de donnée articles'!B28="","",'Base de donnée articles'!B28) -> Bride 3/Diam 140 | D37: 1 | E37: =IF(B37="","",SUMIFS('Journal entrées et sorties'!D$8:D$415,'Journal entrées et sorties'!C$8:C$415,C37)) -> 0 | F37: =IF(C37="","",SUMIFS('Journal entrées et sorties'!E$8:E$515,'Journal entrées et sorties'!C$8:C$515,C37)) -> 0 | G37: =IF(C37="","",D37+E37-F37) -> 1 | H37: =VLOOKUP(B37,'Base de donnée articles'!A28:F35,4,0) -> 10 | I37: =H37*G37 -> 10
B38: =IF('Base de donnée articles'!A29="","",'Base de donnée articles'!A29) -> Bride 4 | C38: =IF('Base de donnée articles'!B29="","",'Base de donnée articles'!B29) -> Bride 4/Diam 160 | D38: 1 | E38: =IF(B38="","",SUMIFS('Journal entrées et sorties'!D$8:D$415,'Journal entrées et sorties'!C$8:C$415,C38)) -> 0 | F38: =IF(C38="","",SUMIFS('Journal entrées et sorties'!E$8:E$515,'Journal entrées et sorties'!C$8:C$515,C38)) -> 0 | G38: =IF(C38="","",D38+E38-F38) -> 1 | H38: =VLOOKUP(B38,'Base de donnée articles'!A29:F36,4,0) -> 10 | I38: =H38*G38 -> 10
B39: =IF('Base de donnée articles'!A30="","",'Base de donnée articles'!A30) -> Bride 5 | C39: =IF('Base de donnée articles'!B30="","",'Base de donnée articles'!B30) -> Bride 5/K531.203 | D39: 1 | E39: =IF(B39="","",SUMIFS('Journal entrées et sorties'!D$8:D$415,'Journal entrées et sorties'!C$8:C$415,C39)) -> 0 | F39: =IF(C39="","",SUMIFS('Journal entrées et sorties'!E$8:E$515,'Journal entrées et sorties'!C$8:C$515,C39)) -> 0 | G39: =IF(C39="","",D39+E39-F39) -> 1 | H39: =VLOOKUP(B39,'Base de donnée articles'!A30:F37,4,0) -> 10 | I39: =H39*G39 -> 10
B40: =IF('Base de donnée articles'!A31="","",'Base de donnée articles'!A31) -> Bride 6 | C40: =IF('Base de donnée articles'!B31="","",'Base de donnée articles'!B31) -> Bride 6/K532.203 | D40: 1 | E40: =IF(B40="","",SUMIFS('Journal entrées et sorties'!D$8:D$415,'Journal entrées et sorties'!C$8:C$415,C40)) -> 0 | F40: =IF(C40="","",SUMIFS('Journal entrées et sorties'!E$8:E$515,'Journal entrées et sorties'!C$8:C$515,C40)) -> 0 | G40: =IF(C40="","",D40+E40-F40) -> 1 | H40: =VLOOKUP(B40,'Base de donnée articles'!A31:F38,4,0) -> 10 | I40: =H40*G40 -> 10
B41: =IF('Base de donnée articles'!A32="","",'Base de donnée articles'!A32) -> Bride 7 | C41: =IF('Base de donnée articles'!B32="","",'Base de donnée articles'!B32) -> Bride 7/K532.203 | D41: 1 | E41: =IF(B41="","",SUMIFS('Journal entrées et sorties'!D$8:D$415,'Journal entrées et sorties'!C$8:C$415,C41)) -> 0 | F41: =IF(C41="","",SUMIFS('Journal entrées et sorties'!E$8:E$515,'Journal entrées et sorties'!C$8:C$515,C41)) -> 0 | G41: =IF(C41="","",D41+E41-F41) -> 1 | H41: =VLOOKUP(B41,'Base de donnée articles'!A32:F39,4,0) -> 10 | I41: =H41*G41 -> 10
B42: =IF('Base de donnée articles'!A33="","",'Base de donnée articles'!A33) -> Bride 8 | C42: =IF('Base de donnée articles'!B33="","",'Base de donnée articles'!B33) -> Bride 8/K532.206.120 | D42: 1 | E42: =IF(B42="","",SUMIFS('Journal entrées et sorties'!D$8:D$415,'Journal entrées et sorties'!C$8:C$415,C42)) -> 0 | F42: =IF(C42="","",SUMIFS('Journal entrées et sorties'!E$8:E$515,'Journal entrées et sorties'!C$8:C$515,C42)) -> 0 | G42: =IF(C42="","",D42+E42-F42) -> 1 | H42: =VLOOKUP(B42,'Base de donnée articles'!A33:F40,4,0) -> 10 | I42: =H42*G42 -> 10
B43: =IF('Base de donnée articles'!A34="","",'Base de donnée articles'!A34) -> Bride 9 | C43: =IF('Base de donnée articles'!B34="","",'Base de donnée articles'!B34) -> Bride 9/K533.206.140 | D43: 1 | E43: =IF(B43="","",SUMIFS('Journal entrées et sorties'!D$8:D$415,'Journal entrées et sorties'!C$8:C$415,C43)) -> 0 | F43: =IF(C43="","",SUMIFS('Journal entrées et sorties'!E$8:E$515,'Journal entrées et sorties'!C$8:C$515,C43)) -> 0 | G43: =IF(C43="","",D43+E43-F43) -> 1 | H43: =VLOOKUP(B43,'Base de donnée articles'!A34:F41,4,0) -> 10 | I43: =H43*G43 -> 10
B44: =IF('Base de donnée articles'!A35="","",'Base de donnée articles'!A35) -> Bride B5 | C44: =IF('Base de donnée articles'!B35="","",'Base de donnée articles'!B35) -> Bride B5/Diam 200 | D44: 1 | E44: =IF(B44="","",SUMIFS('Journal entrées et sorties'!D$8:D$415,'Journal entrées et sorties'!C$8:C$415,C44)) -> 0 | F44: =IF(C44="","",SUMIFS('Journal entrées et sorties'!E$8:E$515,'Journal entrées et sorties'!C$8:C$515,C44)) -> 0 | G44: =IF(C44="","",D44+E44-F44) -> 1 | H44: =VLOOKUP(B44,'Base de donnée articles'!A35:F42,4,0) -> 10 | I44: =H44*G44 -> 10
...

Sheet Feuil1
A1: Liste
A2: ='Base de donnée articles'!B480 -> accouplement et flector/l3cl1/2 groupe hydraulique
A3: ='Base de donnée articles'!B8 -> Amortisseur anti retour/RB1007 RB0A17
A4: ='Base de donnée articles'!B9 -> Arbre 1/carré 22mm
A5: ='Base de donnée articles'!B10 -> Arbre 2/Carré pour retourneur
A6: ='Base de donnée articles'!B11 -> Arbre 3/DDA L1
A7: ='Base de donnée articles'!B12 -> Arbre 4/DDA L2 OU L3
A8: ='Base de donnée articles'!B13 -> Arbre 5/demi axe empileur/depileur
A9: ='Base de donnée articles'!B14 -> Arbre 6/LIGNE 1 CL 1 OU 2
A10: ='Base de donnée articles'!B15 -> arbre cannelé/arbre cannelé introducteur
A11: ='Base de donnée articles'!B481 -> attache rapide /chaine 10b1
A12: ='Base de donnée articles'!B482 -> attache rapide/chaine 12b1
A13: ='Base de donnée articles'!B433 -> attache rapide/demi maillon 16b1
A14: ='Base de donnée articles'!B16 -> axe chromé/diam 16x260mm
A15: ='Base de donnée articles'!B422 -> axe distribution pointes/axe corali 165 25 24
A16: ='Base de donnée articles'!B437 -> axe enclume/corali 81334225
A17: ='Base de donnée articles'!B478 -> axe reducteur/cape bac a pointes
A18: ='Base de donnée articles'!B411 -> axe réglage butée empileur/axe vis trapézoidale
A19: ='Base de donnée articles'!B17 -> Bagues (laiton) CORALI pour distribution pointes/dimensions: diam ext 12 x diam int 8 x longueur 12mm
A20: ='Base de donnée articles'!B435 -> bagues riveur /corali 24202312
A21: ='Base de donnée articles'!B439 -> bagues/enclume guide 24202312
A22: ='Base de donnée articles'!B461 -> bobine /48 vac
A23: ='Base de donnée articles'!B18 -> bobine 1/type MSFG-24/42-50/60-OD 24V DC et 42V AC ref 809 35 014
A24: ='Base de donnée articles'!B19 -> bobine 2/Type 115-120V AC ref 430 041 54
A25: ='Base de donnée articles'!B20 -> bobine 3/Type 230V AC ref 430 044 22
A26: ='Base de donnée articles'!B21 -> bobine 4/Type 240V ref 1 824 210 220 ou 1 824 210 234
A27: ='Base de donnée articles'!B22 -> bobine 5/type 24V AC ref 430 044 16 ou 430 04 181
A28: ='Base de donnée articles'!B23 -> bobine 6/Type 24V DC ref 430 041 66 ou 400 904 -042
A29: ='Base de donnée articles'!B24 -> bobine 7/Type 48V AC ref 430 044 17
A30: ='Base de donnée articles'!B410 -> bouton arrêt d'urgence zb4bc4 / zb4bc4
A31: ='Base de donnée articles'!B25 -> Bride 1/Diam 105
A32: ='Base de donnée articles'!B26 -> Bride 10/K534.206.200
A33: ='Base de donnée articles'!B27 -> Bride 2/Diam 120
A34: ='Base de donnée articles'!B28 -> Bride 3/Diam 140
A35: ='Base de donnée articles'!B29 -> Bride 4/Diam 160
A36: ='Base de donnée articles'!B30 -> Bride 5/K531.203
A37: ='Base de donnée articles'!B31 -> Bride 6/K532.203
A38: ='Base de donnée articles'!B32 -> Bride 7/K532.203
A39: ='Base de donnée articles'!B33 -> Bride 8/K532.206.120
A40: ='Base de donnée articles'!B34 -> Bride 9/K533.206.140
...
