Workbook

Sheet Données brutes
A1: Annee | B1: Mois Lib | C1: Date Jour | D1: Heure | E1: Deaprt | F1: Arrivées prévues | G1: Arrivées effectives | H1: Montants | I1: Moyenne
A2: 2015 | B2: aout | C2: 42360 | D2: 6 | E2: 2 | F2: 0 | G2: 23 | H2: 89 | I2: =H2/(G2+E2) -> 3.56
C3: 42360 | D3: 7 | E3: 5 | F3: 1 | G3: 1 | H3: 1211 | I3: =H3/(G3+E3) -> 201.83333
C4: 42360 | D4: 8 | E4: 2 | F4: 5 | G4: 5 | H4: 2850 | I4: =H4/(G4+E4) -> 407.14286
C5: 42360 | D5: 9 | E5: 3 | F5: 21 | G5: 19 | H5: 7630 | I5: =H5/(G5+E5) -> 346.81818
C6: 42360 | D6: 10 | E6: 6 | F6: 23 | G6: 21 | H6: 9437 | I6: =H6/(G6+E6) -> 349.51852
C7: 42360 | D7: 11 | E7: 9 | F7: 19 | G7: 17 | H7: 10220 | I7: =H7/(G7+E7) -> 393.07692
C8: 42360 | D8: 12 | E8: 1 | F8: 1 | G8: 1 | H8: 813 | I8: =H8/(G8+E8) -> 406.5
C9: 42360 | D9: 13 | E9: 3 | F9: 2 | G9: 2 | H9: 2651 | I9: =H9/(G9+E9) -> 530.2
C10: 42360 | D10: 14 | E10: 8 | F10: 8 | G10: 7 | H10: 7129 | I10: =H10/(G10+E10) -> 475.26667
C11: 42360 | D11: 15 | E11: 2 | F11: 11 | G11: 10 | H11: 7878 | I11: =H11/(G11+E11) -> 656.5
C12: 42360 | D12: 16 | E12: 9 | F12: 13 | G12: 12 | H12: 13002 | I12: =H12/(G12+E12) -> 619.14286
C13: 42360 | D13: 17 | E13: 2 | F13: 3 | G13: 2 | H13: 1164 | I13: =H13/(G13+E13) -> 291
C14: 42360 | D14: 18 | E14: 2 | F14: 4 | G14: 4 | H14: 1918 | I14: =H14/(G14+E14) -> 319.66667
... C20: 42361 | D20: 11 | E20: 3 | F20: 14 | G20: 14 | H20: 5326 | I20: =H20/(G20+E20) -> 313.29412
C21: 42361 | D21: 12 | E21: 0 | F21: 0 | G21: 0 | H21: 394 | I21: 0
C22: 42361 | D22: 13 | E22: 1 | F22: 1 | G22: 1 | H22: 635 | I22: =H22/(G22+E22) -> 317.5
C23: 42361 | D23: 14 | E23: 10 | F23: 4 | G23: 4 | H23: 4341 | I23: =H23/(G23+E23) -> 310.07143
C24: 42361 | D24: 15 | E24: 4 | F24: 7 | G24: 6 | H24: 8910 | I24: =H24/(G24+E24) -> 891
C25: 42361 | D25: 16 | E25: 3 | F25: 8 | G25: 8 | H25: 8756 | I25: =H25/(G25+E25) -> 796
C26: 42361 | D26: 17 | E26: 4 | F26: 7 | G26: 6 | H26: 2272 | I26: =H26/(G26+E26) -> 227.2
C27: 42361 | D27: 18 | E27: 2 | F27: 0 | G27: 0 | H27: 163 | I27: =H27/(G27+E27) -> 81.5
D34: Je voudrais reporter les données se trouvant en D et G dans la cible.
D35: Mais que cela se fasse automatiquement et correspondant aux jours.
D36: Donc si nous sommes le 03/08/2016 les données du 03/08/2015 iront se coller dans le tableau. Et le 04/08/2016, automtiquement ce sont les données du 04/08/2016 qui y seront.

Sheet Cible
A1: 6 | B1: =SUMPRODUCT(('Données brutes'!$C$2:$C$27=TODAY()-366)*('Données brutes'!$D$2:$D$27=Cible!A1)*('Données brutes'!$G$2:$G$27)) -> 23
A2: 7 | B2: =SUMPRODUCT(('Données brutes'!$C$2:$C$27=TODAY()-366)*('Données brutes'!$D$2:$D$27=Cible!A2)*('Données brutes'!$G$2:$G$27)) -> 1
A3: 8 | B3: =SUMPRODUCT(('Données brutes'!$C$2:$C$27=TODAY()-366)*('Données brutes'!$D$2:$D$27=Cible!A3)*('Données brutes'!$G$2:$G$27)) -> 5
A4: 9 | B4: =SUMPRODUCT(('Données brutes'!$C$2:$C$27=TODAY()-366)*('Données brutes'!$D$2:$D$27=Cible!A4)*('Données brutes'!$G$2:$G$27)) -> 19 | D4: =SOMMEPROD(('Données brutes'!$C$2:$C$27=AUJOURDHUI()-366)*('Données brutes'!$D$2:$D$27=Cible!A1)*('Données brutes'!$G$2:$G$27))
A5: 10 | B5: =SUMPRODUCT(('Données brutes'!$C$2:$C$27=TODAY()-366)*('Données brutes'!$D$2:$D$27=Cible!A5)*('Données brutes'!$G$2:$G$27)) -> 21
A6: 11 | B6: =SUMPRODUCT(('Données brutes'!$C$2:$C$27=TODAY()-366)*('Données brutes'!$D$2:$D$27=Cible!A6)*('Données brutes'!$G$2:$G$27)) -> 17
A7: 12 | B7: =SUMPRODUCT(('Données brutes'!$C$2:$C$27=TODAY()-366)*('Données brutes'!$D$2:$D$27=Cible!A7)*('Données brutes'!$G$2:$G$27)) -> 1
A8: 13 | B8: =SUMPRODUCT(('Données brutes'!$C$2:$C$27=TODAY()-366)*('Données brutes'!$D$2:$D$27=Cible!A8)*('Données brutes'!$G$2:$G$27)) -> 2
A9: 14 | B9: =SUMPRODUCT(('Données brutes'!$C$2:$C$27=TODAY()-366)*('Données brutes'!$D$2:$D$27=Cible!A9)*('Données brutes'!$G$2:$G$27)) -> 7
A10: 15 | B10: =SUMPRODUCT(('Données brutes'!$C$2:$C$27=TODAY()-366)*('Données brutes'!$D$2:$D$27=Cible!A10)*('Données brutes'!$G$2:$G$27)) -> 10
A11: 16 | B11: =SUMPRODUCT(('Données brutes'!$C$2:$C$27=TODAY()-366)*('Données brutes'!$D$2:$D$27=Cible!A11)*('Données brutes'!$G$2:$G$27)) -> 12
A12: 17 | B12: =SUMPRODUCT(('Données brutes'!$C$2:$C$27=TODAY()-366)*('Données brutes'!$D$2:$D$27=Cible!A12)*('Données brutes'!$G$2:$G$27)) -> 2
A13: 18 | B13: =SUMPRODUCT(('Données brutes'!$C$2:$C$27=TODAY()-366)*('Données brutes'!$D$2:$D$27=Cible!A13)*('Données brutes'!$G$2:$G$27)) -> 4
