Workbook

Sheet Tableaux de données
B2: GRAPHE 1
B3: Indicateur Qualité | C3: Gravité | D3: Fréquence | E3: Détection | F3: Criticité | G3: Objectifs | H3: seuils critiques
B4: Validation de lecture | C4: 5 | D4: 3 | E4: 1 | F4: =C4*D4*E4 -> 15 | G4: 0.96 | H4: 0.6
B5: Utilisation des docs | C5: 4 | D5: 3 | E5: 2 | F5: =C5*D5*E5 -> 24 | G5: 0.9 | H5: 0.55
B6: Diffusion des docs | C6: 3 | D6: 1 | E6: 2 | F6: =C6*D6*E6 -> 6 | G6: 0.9 | H6: 0.5
B7: Révision des documents | C7: 4 | D7: 2 | E7: 1 | F7: =C7*D7*E7 -> 8 | G7: 1 | H7: 0.4
B8: Mises à jour | C8: 2 | D8: 3 | E8: 3 | F8: =C8*D8*E8 -> 18 | G8: 0.9 | H8: 0.45
B9: archivage informatique | C9: 3 | D9: 2 | E9: 2 | F9: =C9*D9*E9 -> 12 | G9: 0.95 | H9: 0.5
B18: GRAPHE 2
C19: Validation de lecture | D19: Utilisation des docs | E19: Diffusion des docs | F19: Révision des documents | G19: Mises à jour | H19: archivage informatique | I19: futur indicateur 1 | J19: futur indicateur 2 | K19: futur indicateur 3 | L19: futur indicateur 4
B20: 42005 | C20: 0.8875 | D20: 0.7 | E20: 0.92 | F20: 0.9 | G20: 0.775 | H20: 0.85
B21: 42064 | C21: 0.9 | D21: 0.7 | E21: 0.93 | F21: 0.9 | G21: 0.7 | H21: 0.85
B22: 42125 | C22: 0.85 | D22: 0.72 | E22: 0.96 | F22: 0.93 | G22: 0.75 | H22: 0.88
B23: 42186 | C23: 0.91 | D23: 0.75 | E23: 0.96 | F23: 0.95 | G23: 0.8 | H23: 0.9
B24: 42248 | C24: 0.95 | D24: 0.8 | E24: 0.95 | F24: 0.95 | G24: 0.8 | H24: 0.92
B25: 42309 | C25: 0.95 | D25: 0.83 | E25: 0.9 | F25: 0.98 | G25: 0.85 | H25: 0.96
B26: 42370 | C26: 0.97 | D26: 0.85 | E26: 0.95 | F26: 0.99 | G26: 0.88 | H26: 0.98
B27: 42430
B28: 42491
B29: 42552
B30: 42614
B31: 42675
B32: 42736
B33: 42795
B34: 42856
B35: 42917
B36: 42979
B37: 43040
B38: 43101
... B56: 44197

Sheet Tableaux de calculs des graph
B2: GRAPHE 1
B3: Indicateur Qualité | C3: Gravité | D3: Fréquence | E3: Détection | F3: Criticité | G3: % de criticité | H3: % | I3: Objectif | J3: seuil critique
B4: =('Tableaux de données'!B4) -> Validation de lecture | C4: =IF('Tableaux de données'!C4>0,'Tableaux de données'!C4,"") -> 5 | D4: =IF('Tableaux de données'!D4>0,'Tableaux de données'!D4,"") -> 3 | E4: =IF('Tableaux de données'!E4>0,'Tableaux de données'!E4,"") -> 1 | F4: =IF('Tableaux de données'!F4>0,'Tableaux de données'!F4,"") -> 15 | G4: =(QUOTIENT((F4*100),80))/100 -> 0.18 | H4: =1-G4 -> 0.82 | I4: =IF('Tableaux de données'!G4>0,'Tableaux de données'!G4,"") -> 0.96 | J4: =IF('Tableaux de données'!H4>0,'Tableaux de données'!H4,"") -> 0.6
B5: =('Tableaux de données'!B5) -> Utilisation des docs | C5: =IF('Tableaux de données'!C5>0,'Tableaux de données'!C5,"") -> 4 | D5: =IF('Tableaux de données'!D5>0,'Tableaux de données'!D5,"") -> 3 | E5: =IF('Tableaux de données'!E5>0,'Tableaux de données'!E5,"") -> 2 | F5: =IF('Tableaux de données'!F5>0,'Tableaux de données'!F5,"") -> 24 | G5: =(QUOTIENT((F5*100),80))/100 -> 0.3 | H5: =1-G5 -> 0.7 | I5: =IF('Tableaux de données'!G5>0,'Tableaux de données'!G5,"") -> 0.9 | J5: =IF('Tableaux de données'!H5>0,'Tableaux de données'!H5,"") -> 0.55
B6: =('Tableaux de données'!B6) -> Diffusion des docs | C6: =IF('Tableaux de données'!C6>0,'Tableaux de données'!C6,"") -> 3 | D6: =IF('Tableaux de données'!D6>0,'Tableaux de données'!D6,"") -> 1 | E6: =IF('Tableaux de données'!E6>0,'Tableaux de données'!E6,"") -> 2 | F6: =IF('Tableaux de données'!F6>0,'Tableaux de données'!F6,"") -> 6 | G6: =(QUOTIENT((F6*100),80))/100 -> 0.07 | H6: =1-G6 -> 0.93 | I6: =IF('Tableaux de données'!G6>0,'Tableaux de données'!G6,"") -> 0.9 | J6: =IF('Tableaux de données'!H6>0,'Tableaux de données'!H6,"") -> 0.5
B7: =('Tableaux de données'!B7) -> Révision des documents | C7: =IF('Tableaux de données'!C7>0,'Tableaux de données'!C7,"") -> 4 | D7: =IF('Tableaux de données'!D7>0,'Tableaux de données'!D7,"") -> 2 | E7: =IF('Tableaux de données'!E7>0,'Tableaux de données'!E7,"") -> 1 | F7: =IF('Tableaux de données'!F7>0,'Tableaux de données'!F7,"") -> 8 | G7: =(QUOTIENT((F7*100),80))/100 -> 0.1 | H7: =1-G7 -> 0.9 | I7: =IF('Tableaux de données'!G7>0,'Tableaux de données'!G7,"") -> 1 | J7: =IF('Tableaux de données'!H7>0,'Tableaux de données'!H7,"") -> 0.4
B8: =('Tableaux de données'!B8) -> Mises à jour | C8: =IF('Tableaux de données'!C8>0,'Tableaux de données'!C8,"") -> 2 | D8: =IF('Tableaux de données'!D8>0,'Tableaux de données'!D8,"") -> 3 | E8: =IF('Tableaux de données'!E8>0,'Tableaux de données'!E8,"") -> 3 | F8: =IF('Tableaux de données'!F8>0,'Tableaux de données'!F8,"") -> 18 | G8: =(QUOTIENT((F8*100),80))/100 -> 0.22 | H8: =1-G8 -> 0.78 | I8: =IF('Tableaux de données'!G8>0,'Tableaux de données'!G8,"") -> 0.9 | J8: =IF('Tableaux de données'!H8>0,'Tableaux de données'!H8,"") -> 0.45
B9: =('Tableaux de données'!B9) -> archivage informatique | C9: =IF('Tableaux de données'!C9>0,'Tableaux de données'!C9,"") -> 3 | D9: =IF('Tableaux de données'!D9>0,'Tableaux de données'!D9,"") -> 2 | E9: =IF('Tableaux de données'!E9>0,'Tableaux de données'!E9,"") -> 2 | F9: =IF('Tableaux de données'!F9>0,'Tableaux de données'!F9,"") -> 12 | G9: =(QUOTIENT((F9*100),80))/100 -> 0.15 | H9: =1-G9 -> 0.85 | I9: =IF('Tableaux de données'!G9>0,'Tableaux de données'!G9,"") -> 0.95 | J9: =IF('Tableaux de données'!H9>0,'Tableaux de données'!H9,"") -> 0.5
B10: =('Tableaux de données'!B10) -> 0 | C10: =IF('Tableaux de données'!C10>0,'Tableaux de données'!C10,"") | D10: =IF('Tableaux de données'!D10>0,'Tableaux de données'!D10,"") | E10: =IF('Tableaux de données'!E10>0,'Tableaux de données'!E10,"") | F10: =IF('Tableaux de données'!F10>0,'Tableaux de données'!F10,"") | G10: =(QUOTIENT((F10*100),80))/100 -> #VALUE! | H10: =1-G10 -> #VALUE! | I10: =IF('Tableaux de données'!G10>0,'Tableaux de données'!G10,"") | J10: =IF('Tableaux de données'!H10>0,'Tableaux de données'!H10,"")
B11: =('Tableaux de données'!B11) -> 0 | C11: =IF('Tableaux de données'!C11>0,'Tableaux de données'!C11,"") | D11: =IF('Tableaux de données'!D11>0,'Tableaux de données'!D11,"") | E11: =IF('Tableaux de données'!E11>0,'Tableaux de données'!E11,"") | F11: =IF('Tableaux de données'!F11>0,'Tableaux de données'!F11,"") | G11: =(QUOTIENT((F11*100),80))/100 -> #VALUE! | H11: =1-G11 -> #VALUE! | I11: =IF('Tableaux de données'!G11>0,'Tableaux de données'!G11,"") | J11: =IF('Tableaux de données'!H11>0,'Tableaux de données'!H11,"")
B12: =('Tableaux de données'!B12) -> 0 | C12: =IF('Tableaux de données'!C12>0,'Tableaux de données'!C12,"") | D12: =IF('Tableaux de données'!D12>0,'Tableaux de données'!D12,"") | E12: =IF('Tableaux de données'!E12>0,'Tableaux de données'!E12,"") | F12: =IF('Tableaux de données'!F12>0,'Tableaux de données'!F12,"") | G12: =(QUOTIENT((F12*100),80))/100 -> #VALUE! | H12: =1-G12 -> #VALUE! | I12: =IF('Tableaux de données'!G12>0,'Tableaux de données'!G12,"") | J12: =IF('Tableaux de données'!H12>0,'Tableaux de données'!H12,"")
B13: =('Tableaux de données'!B13) -> 0 | C13: =IF('Tableaux de données'!C13>0,'Tableaux de données'!C13,"") | D13: =IF('Tableaux de données'!D13>0,'Tableaux de données'!D13,"") | E13: =IF('Tableaux de données'!E13>0,'Tableaux de données'!E13,"") | F13: =IF('Tableaux de données'!F13>0,'Tableaux de données'!F13,"") | G13: =(QUOTIENT((F13*100),80))/100 -> #VALUE! | H13: =1-G13 -> #VALUE! | I13: =IF('Tableaux de données'!G13>0,'Tableaux de données'!G13,"") | J13: =IF('Tableaux de données'!H13>0,'Tableaux de données'!H13,"")
B21: GRAPHE 2
C23: ='Tableaux de données'!C19 -> Validation de lecture | D23: ='Tableaux de données'!D19 -> Utilisation des docs | E23: ='Tableaux de données'!E19 -> Diffusion des docs | F23: ='Tableaux de données'!F19 -> Révision des documents | G23: ='Tableaux de données'!G19 -> Mises à jour | H23: ='Tableaux de données'!H19 -> archivage informatique | I23: ='Tableaux de données'!I19 -> futur indicateur 1 | J23: ='Tableaux de données'!J19 -> futur indicateur 2 | ... L23: ='Tableaux de données'!L19 -> futur indicateur 4
B24: ='Tableaux de données'!B20 -> 42005 | C24: ='Tableaux de données'!C20 -> 0.8875 | D24: ='Tableaux de données'!D20 -> 0.7 | E24: ='Tableaux de données'!E20 -> 0.92 | F24: ='Tableaux de données'!F20 -> 0.9 | G24: ='Tableaux de données'!G20 -> 0.775 | H24: ='Tableaux de données'!H20 -> 0.85 | I24: ='Tableaux de données'!I20 -> 0 | ... L24: ='Tableaux de données'!L20 -> 0
B25: 42064 | C25: ='Tableaux de données'!C21 -> 0.9 | D25: ='Tableaux de données'!D21 -> 0.7 | E25: ='Tableaux de données'!E21 -> 0.93 | F25: ='Tableaux de données'!F21 -> 0.9 | G25: ='Tableaux de données'!G21 -> 0.7 | H25: ='Tableaux de données'!H21 -> 0.85 | I25: ='Tableaux de données'!I21 -> 0 | J25: ='Tableaux de données'!J21 -> 0 | ... L25: ='Tableaux de données'!L21 -> 0
B26: 42125 | C26: ='Tableaux de données'!C22 -> 0.85 | D26: ='Tableaux de données'!D22 -> 0.72 | E26: ='Tableaux de données'!E22 -> 0.96 | F26: ='Tableaux de données'!F22 -> 0.93 | G26: ='Tableaux de données'!G22 -> 0.75 | H26: ='Tableaux de données'!H22 -> 0.88 | I26: ='Tableaux de données'!I22 -> 0 | J26: ='Tableaux de données'!J22 -> 0 | ... L26: ='Tableaux de données'!L22 -> 0
B27: 42186 | C27: ='Tableaux de données'!C23 -> 0.91 | D27: ='Tableaux de données'!D23 -> 0.75 | E27: ='Tableaux de données'!E23 -> 0.96 | F27: ='Tableaux de données'!F23 -> 0.95 | G27: ='Tableaux de données'!G23 -> 0.8 | H27: ='Tableaux de données'!H23 -> 0.9 | I27: ='Tableaux de données'!I23 -> 0 | J27: ='Tableaux de données'!J23 -> 0 | ... L27: ='Tableaux de données'!L23 -> 0
B28: 42248 | C28: ='Tableaux de données'!C24 -> 0.95 | D28: ='Tableaux de données'!D24 -> 0.8 | E28: ='Tableaux de données'!E24 -> 0.95 | F28: ='Tableaux de données'!F24 -> 0.95 | G28: ='Tableaux de données'!G24 -> 0.8 | H28: ='Tableaux de données'!H24 -> 0.92 | I28: ='Tableaux de données'!I24 -> 0 | J28: ='Tableaux de données'!J24 -> 0 | ... L28: ='Tableaux de données'!L24 -> 0
B29: 42309 | C29: ='Tableaux de données'!C25 -> 0.95 | D29: ='Tableaux de données'!D25 -> 0.83 | E29: ='Tableaux de données'!E25 -> 0.9 | F29: ='Tableaux de données'!F25 -> 0.98 | G29: ='Tableaux de données'!G25 -> 0.85 | H29: ='Tableaux de données'!H25 -> 0.96 | I29: ='Tableaux de données'!I25 -> 0 | J29: ='Tableaux de données'!J25 -> 0 | ... L29: ='Tableaux de données'!L25 -> 0
B30: 42370 | C30: ='Tableaux de données'!C26 -> 0.97 | D30: ='Tableaux de données'!D26 -> 0.85 | E30: ='Tableaux de données'!E26 -> 0.95 | F30: ='Tableaux de données'!F26 -> 0.99 | G30: ='Tableaux de données'!G26 -> 0.88 | H30: ='Tableaux de données'!H26 -> 0.98 | I30: ='Tableaux de données'!I26 -> 0 | J30: ='Tableaux de données'!J26 -> 0 | ... L30: ='Tableaux de données'!L26 -> 0
B36: GRAPHE 3
C37: Mains d'œuvre | D37: Méthode | E37: Matériel | F37: matière | H37: milieu
B38: moyenne | C38: 15 | D38: 11 | E38: 8 | F38: 0 | H38: 1

Sheet feuille de graph
A22: Nom du processus
A23: Gestion documentaire
A24: Objectif du processus
A25: assurer la diffusion des informations au sein des différents services
A26: Nom du pilote
A27: Responsable qualité
