Workbook
Name Août: #REF!
Name Avril: #REF!
Name Décembre: #REF!
Name Février: #REF!
Name Janvier: #REF!
Name Juillet: #REF!
Name Juin: #REF!
Name Mai: #REF!
Name Mars: #REF!
Name Novembre: #REF!
Name Octobre: #REF!
Name Segment_Mois: #N/A
Name Septembre: #REF!
Name table: #REF!

Sheet Liste personnel
A4: Matricule | B4: Nom & prénom
A5: 1 | B5: Sébastien
A6: 2 | B6: Lora
A7: 3 | B7: David
A8: 4 | B8: Sirine
A9: 5 | B9: Ivon
A10: 6 | B10: Patricia

Sheet Saisie Prêt
A3: Matricule | B3: Nom | C3: Date | D3: Mois | E3: Montant | F3: Janv | G3: Févr. | H3: Mars | I3: Avr. | J3: Mai | K3: Juin | L3: Juil. | M3: Août | N3: Sept. | O3: Oct. | P3: Nov. | Q3: Déc. | R3: Solde
A4: 1 | B4: =IFERROR(VLOOKUP(Tableau1[Matricule],Tableau3[#All],2,FALSE),"") -> Sébastien | C4: 42005 | D4: =IF(Tableau1[[#This Row],[Date]]="","",PROPER(TEXT(Tableau1[[#This Row],[Date]],"mmm"))) -> Janv | E4: 1000 | G4: 150 | H4: 100 | R4: =E4-SUM(F4:Q4) -> 750
A5: 2 | B5: =IFERROR(VLOOKUP(Tableau1[Matricule],Tableau3[#All],2,FALSE),"") -> Lora | C5: 42005 | D5: =IF(Tableau1[[#This Row],[Date]]="","",PROPER(TEXT(Tableau1[[#This Row],[Date]],"mmm"))) -> Janv | E5: 500 | I5: 100 | R5: =E5-SUM(F5:Q5) -> 400
A6: 3 | B6: =IFERROR(VLOOKUP(Tableau1[Matricule],Tableau3[#All],2,FALSE),"") -> David | C6: 42036 | D6: =IF(Tableau1[[#This Row],[Date]]="","",PROPER(TEXT(Tableau1[[#This Row],[Date]],"mmm"))) -> Févr | E6: 350 | I6: 200 | R6: =E6-SUM(F6:Q6) -> 150
A7: 3 | B7: =IFERROR(VLOOKUP(Tableau1[Matricule],Tableau3[#All],2,FALSE),"") -> David | C7: 42095 | D7: =IF(Tableau1[[#This Row],[Date]]="","",PROPER(TEXT(Tableau1[[#This Row],[Date]],"mmm"))) -> Avr | E7: 250 | I7: 100 | J7: 100 | R7: =E7-SUM(F7:Q7) -> 50
A8: 4 | B8: =IFERROR(VLOOKUP(Tableau1[Matricule],Tableau3[#All],2,FALSE),"") -> Sirine | C8: 42125 | D8: =IF(Tableau1[[#This Row],[Date]]="","",PROPER(TEXT(Tableau1[[#This Row],[Date]],"mmm"))) -> Mai | E8: 580 | K8: 150 | L8: 150 | M8: 100 | N8: 50 | R8: =E8-SUM(F8:Q8) -> 130
A9: 5 | B9: =IFERROR(VLOOKUP(Tableau1[Matricule],Tableau3[#All],2,FALSE),"") -> Ivon | C9: 42036 | D9: =IF(Tableau1[[#This Row],[Date]]="","",PROPER(TEXT(Tableau1[[#This Row],[Date]],"mmm"))) -> Févr | E9: 1000 | G9: 100 | H9: 100 | I9: 100 | J9: 100 | L9: 100 | M9: 100 | N9: 100 | O9: 100 | P9: 100 | Q9: 50 | R9: =E9-SUM(F9:Q9) -> 50
A10: 1 | B10: =IFERROR(VLOOKUP(Tableau1[Matricule],Tableau3[#All],2,FALSE),"") -> Sébastien | C10: 42217 | D10: =IF(Tableau1[[#This Row],[Date]]="","",PROPER(TEXT(Tableau1[[#This Row],[Date]],"mmm"))) -> Août | E10: 450 | N10: 150 | O10: 100 | Q10: 100 | R10: =E10-SUM(F10:Q10) -> 100
A11: 2 | B11: =IFERROR(VLOOKUP(Tableau1[Matricule],Tableau3[#All],2,FALSE),"") -> Lora | C11: 42095 | D11: =IF(Tableau1[[#This Row],[Date]]="","",PROPER(TEXT(Tableau1[[#This Row],[Date]],"mmm"))) -> Avr | E11: 250 | J11: 100 | K11: 50 | L11: 50 | R11: =E11-SUM(F11:Q11) -> 50
A12: 3 | B12: =IFERROR(VLOOKUP(Tableau1[Matricule],Tableau3[#All],2,FALSE),"") -> David | C12: 42248 | D12: =IF(Tableau1[[#This Row],[Date]]="","",PROPER(TEXT(Tableau1[[#This Row],[Date]],"mmm"))) -> Sept | E12: 460 | O12: 250 | P12: 150 | R12: =E12-SUM(F12:Q12) -> 60
A13: 5 | B13: =IFERROR(VLOOKUP(Tableau1[Matricule],Tableau3[#All],2,FALSE),"") -> Ivon | C13: 42156 | D13: =IF(Tableau1[[#This Row],[Date]]="","",PROPER(TEXT(Tableau1[[#This Row],[Date]],"mmm"))) -> Juin | E13: 800 | L13: 150 | M13: 150 | N13: 150 | O13: 100 | P13: 50 | Q13: 50 | R13: =E13-SUM(F13:Q13) -> 150

Sheet TCD Prêt
A8: Matricule | B8: Nom | C8: Montant | D8: Solde | E8: Janv | G8: =A8 -> Matricule | H8: =B8 -> Nom | I8: =C8 -> Montant | J8: =D8 -> Solde
A9: 2 | B9: Sonia | C9: 250 | D9: 50 | E9: (vide) | G9: =IF(A9="","",A9) -> 2 | H9: =IF(B9="","",B9) -> Sonia | I9: =IF(C9="","",C9) -> 250 | J9: =IF(D9="","",D9) -> 50
A10: 4 | B10: Sihem | C10: 2000 | D10: 850 | E10: (vide) | G10: =IF(A10="","",A10) -> 4 | H10: =IF(B10="","",B10) -> Sihem | I10: =IF(C10="","",C10) -> 2000 | J10: =IF(D10="","",D10) -> 850
G11: =IF(A11="","",A11) | H11: =IF(B11="","",B11) | I11: =IF(C11="","",C11) | J11: =IF(D11="","",D11)
G12: =IF(A12="","",A12) | H12: =IF(B12="","",B12) | I12: =IF(C12="","",C12) | J12: =IF(D12="","",D12)
G13: =IF(A13="","",A13) | H13: =IF(B13="","",B13) | I13: =IF(C13="","",C13) | J13: =IF(D13="","",D13)
G14: =IF(A14="","",A14) | H14: =IF(B14="","",B14) | I14: =IF(C14="","",C14) | J14: =IF(D14="","",D14)
G15: =IF(A15="","",A15) | H15: =IF(B15="","",B15) | I15: =IF(C15="","",C15) | J15: =IF(D15="","",D15)
G16: =IF(A16="","",A16) | H16: =IF(B16="","",B16) | I16: =IF(C16="","",C16) | J16: =IF(D16="","",D16)
G17: =IF(A17="","",A17) | H17: =IF(B17="","",B17) | I17: =IF(C17="","",C17) | J17: =IF(D17="","",D17)
G18: =IF(A18="","",A18) | H18: =IF(B18="","",B18) | I18: =IF(C18="","",C18) | J18: =IF(D18="","",D18)
G19: =IF(A19="","",A19) | H19: =IF(B19="","",B19) | I19: =IF(C19="","",C19) | J19: =IF(D19="","",D19)
G20: =IF(A20="","",A20) | H20: =IF(B20="","",B20) | I20: =IF(C20="","",C20) | J20: =IF(D20="","",D20)
G21: =IF(A21="","",A21) | H21: =IF(B21="","",B21) | I21: =IF(C21="","",C21) | J21: =IF(D21="","",D21)
G22: =IF(A22="","",A22) | H22: =IF(B22="","",B22) | I22: =IF(C22="","",C22) | J22: =IF(D22="","",D22)
... G25: =IF(A25="","",A25) | H25: =IF(B25="","",B25) | I25: =IF(C25="","",C25) | J25: =IF(D25="","",D25)
G26: =IF(A26="","",A26) | H26: =IF(B26="","",B26)
G27: =IF(A27="","",A27) | H27: =IF(B27="","",B27)
G28: =IF(A28="","",A28) | H28: =IF(B28="","",B28)
G29: =IF(A29="","",A29)
G30: =IF(A30="","",A30)
G31: =IF(A31="","",A31)
G32: =IF(A32="","",A32)
G33: =IF(A33="","",A33)
G34: =IF(A34="","",A34)
G35: =IF(A35="","",A35)
G36: =IF(A36="","",A36)
G37: =IF(A37="","",A37)
G38: =IF(A38="","",A38)
G39: =IF(A39="","",A39)
G40: =IF(A40="","",A40)
... G212: =IF(A212="","",A212)

Sheet synthèse
A1: Tableau à completer en utilisant la fomule sommeprod
A3: Matricule | B3: Nom | C3: Janv | D3: Févr. | E3: Mars | F3: Avr. | G3: Mai | H3: Juin | I3: Juil. | J3: Août | K3: Sept. | L3: Oct. | M3: Nov. | N3: Déc.
A4: 1 | B4: =VLOOKUP(A4,'Liste personnel'!A4:B10,2,0) -> Sébastien
A5: 2 | B5: =VLOOKUP(A5,'Liste personnel'!A5:B11,2,0) -> Lora
A6: 3 | B6: =VLOOKUP(A6,'Liste personnel'!A6:B12,2,0) -> David
A7: 4 | B7: =VLOOKUP(A7,'Liste personnel'!A7:B13,2,0) -> Sirine
A8: 5 | B8: =VLOOKUP(A8,'Liste personnel'!A8:B14,2,0) -> Ivon
