Workbook
Name Liste: OFFSET(Liste!$A$1,,,COUNTIF(Liste!$A:$A,">"&0))
Name Liste1: COUNTA(Valeurs1!$A:$A)
Name Liste2: Liste1+COUNTA(Valeurs2!$A:$A)

Sheet Feuil1
A1: 15

Sheet Valeurs1
A1: 15
A2: 23
A3: 98
A4: 65
A5: 95

Sheet Valeurs2
A1: 65
A2: 56
A3: 421
A4: 32
A5: 51
A6: 54
A7: 98

Sheet Liste
A1: {=IF(ROW()>Liste2,"",IF(ROW()>Liste1,OFFSET(Valeurs2!$A$1,ROW()-Liste1-1,,),Valeurs1!A1))} -> 15 | F1: NOMS DEFINIS
A2: {=IF(ROW()>Liste2,"",IF(ROW()>Liste1,OFFSET(Valeurs2!$A$1,ROW()-Liste1-1,,),Valeurs1!A2))} -> 23 | F2: Liste1 | G2: =NBVAL(Valeurs1!$A:$A)
A3: {=IF(ROW()>Liste2,"",IF(ROW()>Liste1,OFFSET(Valeurs2!$A$1,ROW()-Liste1-1,,),Valeurs1!A3))} -> 98 | F3: Liste2 | G3: =Liste1+NBVAL(Valeurs2!$A:$A)
A4: {=IF(ROW()>Liste2,"",IF(ROW()>Liste1,OFFSET(Valeurs2!$A$1,ROW()-Liste1-1,,),Valeurs1!A4))} -> 65 | F4: Liste | G4: =DECALER(Liste!$A$1;;;NB.SI(Liste!$A:$A;">"&0))
A5: {=IF(ROW()>Liste2,"",IF(ROW()>Liste1,OFFSET(Valeurs2!$A$1,ROW()-Liste1-1,,),Valeurs1!A5))} -> 95
A6: {=IF(ROW()>Liste2,"",IF(ROW()>Liste1,OFFSET(Valeurs2!$A$1,ROW()-Liste1-1,,),Valeurs1!A6))} -> 65
A7: {=IF(ROW()>Liste2,"",IF(ROW()>Liste1,OFFSET(Valeurs2!$A$1,ROW()-Liste1-1,,),Valeurs1!A7))} -> 56
A8: {=IF(ROW()>Liste2,"",IF(ROW()>Liste1,OFFSET(Valeurs2!$A$1,ROW()-Liste1-1,,),Valeurs1!A8))} -> 421
A9: {=IF(ROW()>Liste2,"",IF(ROW()>Liste1,OFFSET(Valeurs2!$A$1,ROW()-Liste1-1,,),Valeurs1!A9))} -> 32
A10: {=IF(ROW()>Liste2,"",IF(ROW()>Liste1,OFFSET(Valeurs2!$A$1,ROW()-Liste1-1,,),Valeurs1!A10))} -> 51
A11: {=IF(ROW()>Liste2,"",IF(ROW()>Liste1,OFFSET(Valeurs2!$A$1,ROW()-Liste1-1,,),Valeurs1!A11))} -> 54
A12: {=IF(ROW()>Liste2,"",IF(ROW()>Liste1,OFFSET(Valeurs2!$A$1,ROW()-Liste1-1,,),Valeurs1!A12))} -> 98
A13: {=IF(ROW()>Liste2,"",IF(ROW()>Liste1,OFFSET(Valeurs2!$A$1,ROW()-Liste1-1,,),Valeurs1!A13))}
A14: {=IF(ROW()>Liste2,"",IF(ROW()>Liste1,OFFSET(Valeurs2!$A$1,ROW()-Liste1-1,,),Valeurs1!A14))}
A15: {=IF(ROW()>Liste2,"",IF(ROW()>Liste1,OFFSET(Valeurs2!$A$1,ROW()-Liste1-1,,),Valeurs1!A15))}
A16: {=IF(ROW()>Liste2,"",IF(ROW()>Liste1,OFFSET(Valeurs2!$A$1,ROW()-Liste1-1,,),Valeurs1!A16))}
... A30: {=IF(ROW()>Liste2,"",IF(ROW()>Liste1,OFFSET(Valeurs2!$A$1,ROW()-Liste1-1,,),Valeurs1!A30))}
