Workbook
Name Tableproduit: OFFSET(#REF!,,,COUNTA(#REF!)-1,1)

Sheet BDD Cost Price
A1: ITEM | B1: Effective Date | C1: Currency | D1: Material Costs | E1: Operation Costs | F1: Cost Price
A2: K0043MU9004500001000 | B2: 05-01-13 08:27:17 | C2: EUR | D2: 15325.998 | E2: 3149.4779 | F2: 18475.476
A3: K0043MU9004500006000 | B3: 05-01-13 08:27:17 | C3: EUR | D3: 16519.818 | E3: 4947.6129 | F3: 21467.43
A4: K0043MU9004500012000 | B4: 05-01-13 08:27:17 | C4: EUR | D4: 16542.518 | E4: 4947.6129 | F4: 21490.131
A5: K0043MU9004500013000 | B5: 05-01-13 08:27:17 | C5: EUR | D5: 16599.345 | E5: 4947.6129 | F5: 21546.958
A6: K0043MU9004500021000 | B6: 05-01-13 08:27:17 | C6: EUR | D6: 13687.404 | E6: 2110.5171 | F6: 15797.921
A7: K0043MU9004500022000 | B7: 05-01-13 08:27:17 | C7: EUR | D7: 1020.0318 | E7: 681.6531 | F7: 1701.6849
A8: K0043MU9005500001000 | B8: 05-01-13 08:27:17 | C8: EUR | D8: 16599.345 | E8: 6867.0955 | F8: 23466.44
A9: K0043MU9005500002000 | B9: 05-01-13 08:27:17 | C9: EUR | D9: 16599.345 | E9: 6221.6342 | F9: 22820.979
A10: K0043MU9005500003000 | B10: 05-01-13 08:27:17 | C10: EUR | D10: 16.8582 | E10: 1301.1673 | F10: 1318.0255
A11: K0043MU9082482392000 | B11: 05-01-13 08:27:17 | C11: EUR | D11: 0 | E11: 2.039 | F11: 2.039
A12: K0043MU9092562166000 | B12: 05-01-13 08:27:17 | C12: EUR | D12: 0 | E12: 2.039 | F12: 2.039
A13: K0043MU9092562583000 | B13: 05-01-13 08:27:17 | C13: EUR | D13: 0 | E13: 2.039 | F13: 2.039
... A637: K1963MU9082705529000 | B637: 04-01-13 10:33:28 | C637: EUR | D637: 0 | E637: 0 | F637: 0

Sheet Extraction 2013
A1: Article | B1: Standard C achat | C1: Standard C opé
A2: 1021702200 | B2: {=IFERROR(VLOOKUP(SUBSTITUTE($A2,CHAR(32),"")&"*",SUBSTITUTE('BDD Cost Price'!$A$2:$E$700,CHAR(32),""),4,0),"")} | C2: {=IFERROR(VLOOKUP(SUBSTITUTE($A2,CHAR(32),"")&"*",SUBSTITUTE('BDD Cost Price'!$A$2:$E$700,CHAR(32),""),5,0),"")}
A3: K1369 8245766000 | B3: {=IFERROR(VLOOKUP(SUBSTITUTE($A3,CHAR(32),"")&"*",SUBSTITUTE('BDD Cost Price'!$A$2:$E$700,CHAR(32),""),4,0),"")} -> 5.3778 | C3: {=IFERROR(VLOOKUP(SUBSTITUTE($A3,CHAR(32),"")&"*",SUBSTITUTE('BDD Cost Price'!$A$2:$E$700,CHAR(32),""),5,0),"")} -> 21.7817
A4: 8199997400 | B4: {=IFERROR(VLOOKUP(SUBSTITUTE($A4,CHAR(32),"")&"*",SUBSTITUTE('BDD Cost Price'!$A$2:$E$700,CHAR(32),""),4,0),"")} | C4: {=IFERROR(VLOOKUP(SUBSTITUTE($A4,CHAR(32),"")&"*",SUBSTITUTE('BDD Cost Price'!$A$2:$E$700,CHAR(32),""),5,0),"")}
A5: K1282 1063034000 | B5: {=IFERROR(VLOOKUP(SUBSTITUTE($A5,CHAR(32),"")&"*",SUBSTITUTE('BDD Cost Price'!$A$2:$E$700,CHAR(32),""),4,0),"")} -> 24.6541 | C5: {=IFERROR(VLOOKUP(SUBSTITUTE($A5,CHAR(32),"")&"*",SUBSTITUTE('BDD Cost Price'!$A$2:$E$700,CHAR(32),""),5,0),"")} -> 192.0369
A6: 8140156700 | B6: {=IFERROR(VLOOKUP(SUBSTITUTE($A6,CHAR(32),"")&"*",SUBSTITUTE('BDD Cost Price'!$A$2:$E$700,CHAR(32),""),4,0),"")} | C6: {=IFERROR(VLOOKUP(SUBSTITUTE($A6,CHAR(32),"")&"*",SUBSTITUTE('BDD Cost Price'!$A$2:$E$700,CHAR(32),""),5,0),"")}
A7: 1012665500 | B7: {=IFERROR(VLOOKUP(SUBSTITUTE($A7,CHAR(32),"")&"*",SUBSTITUTE('BDD Cost Price'!$A$2:$E$700,CHAR(32),""),4,0),"")} | C7: {=IFERROR(VLOOKUP(SUBSTITUTE($A7,CHAR(32),"")&"*",SUBSTITUTE('BDD Cost Price'!$A$2:$E$700,CHAR(32),""),5,0),"")}
A8: 1027468000 | B8: {=IFERROR(VLOOKUP(SUBSTITUTE($A8,CHAR(32),"")&"*",SUBSTITUTE('BDD Cost Price'!$A$2:$E$700,CHAR(32),""),4,0),"")} | C8: {=IFERROR(VLOOKUP(SUBSTITUTE($A8,CHAR(32),"")&"*",SUBSTITUTE('BDD Cost Price'!$A$2:$E$700,CHAR(32),""),5,0),"")}
A9: 8248410800 | B9: {=IFERROR(VLOOKUP(SUBSTITUTE($A9,CHAR(32),"")&"*",SUBSTITUTE('BDD Cost Price'!$A$2:$E$700,CHAR(32),""),4,0),"")} | C9: {=IFERROR(VLOOKUP(SUBSTITUTE($A9,CHAR(32),"")&"*",SUBSTITUTE('BDD Cost Price'!$A$2:$E$700,CHAR(32),""),5,0),"")}
A10: 1052179700 | B10: {=IFERROR(VLOOKUP(SUBSTITUTE($A10,CHAR(32),"")&"*",SUBSTITUTE('BDD Cost Price'!$A$2:$E$700,CHAR(32),""),4,0),"")} | C10: {=IFERROR(VLOOKUP(SUBSTITUTE($A10,CHAR(32),"")&"*",SUBSTITUTE('BDD Cost Price'!$A$2:$E$700,CHAR(32),""),5,0),"")}
A11: 8248410800 | B11: {=IFERROR(VLOOKUP(SUBSTITUTE($A11,CHAR(32),"")&"*",SUBSTITUTE('BDD Cost Price'!$A$2:$E$700,CHAR(32),""),4,0),"")} | C11: {=IFERROR(VLOOKUP(SUBSTITUTE($A11,CHAR(32),"")&"*",SUBSTITUTE('BDD Cost Price'!$A$2:$E$700,CHAR(32),""),5,0),"")}
A12: 8248410800 | B12: {=IFERROR(VLOOKUP(SUBSTITUTE($A12,CHAR(32),"")&"*",SUBSTITUTE('BDD Cost Price'!$A$2:$E$700,CHAR(32),""),4,0),"")} | C12: {=IFERROR(VLOOKUP(SUBSTITUTE($A12,CHAR(32),"")&"*",SUBSTITUTE('BDD Cost Price'!$A$2:$E$700,CHAR(32),""),5,0),"")}
A13: 8265490700 | B13: {=IFERROR(VLOOKUP(SUBSTITUTE($A13,CHAR(32),"")&"*",SUBSTITUTE('BDD Cost Price'!$A$2:$E$700,CHAR(32),""),4,0),"")} | C13: {=IFERROR(VLOOKUP(SUBSTITUTE($A13,CHAR(32),"")&"*",SUBSTITUTE('BDD Cost Price'!$A$2:$E$700,CHAR(32),""),5,0),"")}
A14: 8145075900 | B14: {=IFERROR(VLOOKUP(SUBSTITUTE($A14,CHAR(32),"")&"*",SUBSTITUTE('BDD Cost Price'!$A$2:$E$700,CHAR(32),""),4,0),"")} | C14: {=IFERROR(VLOOKUP(SUBSTITUTE($A14,CHAR(32),"")&"*",SUBSTITUTE('BDD Cost Price'!$A$2:$E$700,CHAR(32),""),5,0),"")}
A15: 8245411500 | B15: {=IFERROR(VLOOKUP(SUBSTITUTE($A15,CHAR(32),"")&"*",SUBSTITUTE('BDD Cost Price'!$A$2:$E$700,CHAR(32),""),4,0),"")} | C15: {=IFERROR(VLOOKUP(SUBSTITUTE($A15,CHAR(32),"")&"*",SUBSTITUTE('BDD Cost Price'!$A$2:$E$700,CHAR(32),""),5,0),"")}
A16: 13775300 | B16: {=IFERROR(VLOOKUP(SUBSTITUTE($A16,CHAR(32),"")&"*",SUBSTITUTE('BDD Cost Price'!$A$2:$E$700,CHAR(32),""),4,0),"")} | C16: {=IFERROR(VLOOKUP(SUBSTITUTE($A16,CHAR(32),"")&"*",SUBSTITUTE('BDD Cost Price'!$A$2:$E$700,CHAR(32),""),5,0),"")}
A17: K1282 9255784400 | B17: {=IFERROR(VLOOKUP(SUBSTITUTE($A17,CHAR(32),"")&"*",SUBSTITUTE('BDD Cost Price'!$A$2:$E$700,CHAR(32),""),4,0),"")} -> 27.425 | C17: {=IFERROR(VLOOKUP(SUBSTITUTE($A17,CHAR(32),"")&"*",SUBSTITUTE('BDD Cost Price'!$A$2:$E$700,CHAR(32),""),5,0),"")} -> 272.1387
A18: 8144988400 | B18: {=IFERROR(VLOOKUP(SUBSTITUTE($A18,CHAR(32),"")&"*",SUBSTITUTE('BDD Cost Price'!$A$2:$E$700,CHAR(32),""),4,0),"")} | C18: {=IFERROR(VLOOKUP(SUBSTITUTE($A18,CHAR(32),"")&"*",SUBSTITUTE('BDD Cost Price'!$A$2:$E$700,CHAR(32),""),5,0),"")}
A19: K1822 8145104600 | B19: {=IFERROR(VLOOKUP(SUBSTITUTE($A19,CHAR(32),"")&"*",SUBSTITUTE('BDD Cost Price'!$A$2:$E$700,CHAR(32),""),4,0),"")} -> 9.5871 | C19: {=IFERROR(VLOOKUP(SUBSTITUTE($A19,CHAR(32),"")&"*",SUBSTITUTE('BDD Cost Price'!$A$2:$E$700,CHAR(32),""),5,0),"")} -> 28.8336
A20: 8145115600 | B20: {=IFERROR(VLOOKUP(SUBSTITUTE($A20,CHAR(32),"")&"*",SUBSTITUTE('BDD Cost Price'!$A$2:$E$700,CHAR(32),""),4,0),"")} | C20: {=IFERROR(VLOOKUP(SUBSTITUTE($A20,CHAR(32),"")&"*",SUBSTITUTE('BDD Cost Price'!$A$2:$E$700,CHAR(32),""),5,0),"")}
A21: K1892TOA6 8249721200 | B21: {=IFERROR(VLOOKUP(SUBSTITUTE($A21,CHAR(32),"")&"*",SUBSTITUTE('BDD Cost Price'!$A$2:$E$700,CHAR(32),""),4,0),"")} -> 3.186 | C21: {=IFERROR(VLOOKUP(SUBSTITUTE($A21,CHAR(32),"")&"*",SUBSTITUTE('BDD Cost Price'!$A$2:$E$700,CHAR(32),""),5,0),"")} -> 7.4607
A22: K1893TOA6 8249721200 | B22: {=IFERROR(VLOOKUP(SUBSTITUTE($A22,CHAR(32),"")&"*",SUBSTITUTE('BDD Cost Price'!$A$2:$E$700,CHAR(32),""),4,0),"")} -> 3.186 | C22: {=IFERROR(VLOOKUP(SUBSTITUTE($A22,CHAR(32),"")&"*",SUBSTITUTE('BDD Cost Price'!$A$2:$E$700,CHAR(32),""),5,0),"")} -> 7.4607
A23: 1060614500 | B23: {=IFERROR(VLOOKUP(SUBSTITUTE($A23,CHAR(32),"")&"*",SUBSTITUTE('BDD Cost Price'!$A$2:$E$700,CHAR(32),""),4,0),"")} | C23: {=IFERROR(VLOOKUP(SUBSTITUTE($A23,CHAR(32),"")&"*",SUBSTITUTE('BDD Cost Price'!$A$2:$E$700,CHAR(32),""),5,0),"")}
A24: 8144969800 | B24: {=IFERROR(VLOOKUP(SUBSTITUTE($A24,CHAR(32),"")&"*",SUBSTITUTE('BDD Cost Price'!$A$2:$E$700,CHAR(32),""),4,0),"")} | C24: {=IFERROR(VLOOKUP(SUBSTITUTE($A24,CHAR(32),"")&"*",SUBSTITUTE('BDD Cost Price'!$A$2:$E$700,CHAR(32),""),5,0),"")}
A25: K1824 8144406400 | B25: {=IFERROR(VLOOKUP(SUBSTITUTE($A25,CHAR(32),"")&"*",SUBSTITUTE('BDD Cost Price'!$A$2:$E$700,CHAR(32),""),4,0),"")} -> 88.8189 | C25: {=IFERROR(VLOOKUP(SUBSTITUTE($A25,CHAR(32),"")&"*",SUBSTITUTE('BDD Cost Price'!$A$2:$E$700,CHAR(32),""),5,0),"")} -> 51.8432
A26: K1822 8144997900 | B26: {=IFERROR(VLOOKUP(SUBSTITUTE($A26,CHAR(32),"")&"*",SUBSTITUTE('BDD Cost Price'!$A$2:$E$700,CHAR(32),""),4,0),"")} -> 0.2176 | C26: {=IFERROR(VLOOKUP(SUBSTITUTE($A26,CHAR(32),"")&"*",SUBSTITUTE('BDD Cost Price'!$A$2:$E$700,CHAR(32),""),5,0),"")} -> 7.0179
A27: 1064159300 | B27: {=IFERROR(VLOOKUP(SUBSTITUTE($A27,CHAR(32),"")&"*",SUBSTITUTE('BDD Cost Price'!$A$2:$E$700,CHAR(32),""),4,0),"")} | C27: {=IFERROR(VLOOKUP(SUBSTITUTE($A27,CHAR(32),"")&"*",SUBSTITUTE('BDD Cost Price'!$A$2:$E$700,CHAR(32),""),5,0),"")}
A28: 8248410800 | B28: {=IFERROR(VLOOKUP(SUBSTITUTE($A28,CHAR(32),"")&"*",SUBSTITUTE('BDD Cost Price'!$A$2:$E$700,CHAR(32),""),4,0),"")} | C28: {=IFERROR(VLOOKUP(SUBSTITUTE($A28,CHAR(32),"")&"*",SUBSTITUTE('BDD Cost Price'!$A$2:$E$700,CHAR(32),""),5,0),"")}
A29: 8144856700 | B29: {=IFERROR(VLOOKUP(SUBSTITUTE($A29,CHAR(32),"")&"*",SUBSTITUTE('BDD Cost Price'!$A$2:$E$700,CHAR(32),""),4,0),"")} | C29: {=IFERROR(VLOOKUP(SUBSTITUTE($A29,CHAR(32),"")&"*",SUBSTITUTE('BDD Cost Price'!$A$2:$E$700,CHAR(32),""),5,0),"")}
A30: 1025719200 | B30: {=IFERROR(VLOOKUP(SUBSTITUTE($A30,CHAR(32),"")&"*",SUBSTITUTE('BDD Cost Price'!$A$2:$E$700,CHAR(32),""),4,0),"")} | C30: {=IFERROR(VLOOKUP(SUBSTITUTE($A30,CHAR(32),"")&"*",SUBSTITUTE('BDD Cost Price'!$A$2:$E$700,CHAR(32),""),5,0),"")}
A31: 1014581800 | B31: {=IFERROR(VLOOKUP(SUBSTITUTE($A31,CHAR(32),"")&"*",SUBSTITUTE('BDD Cost Price'!$A$2:$E$700,CHAR(32),""),4,0),"")} | C31: {=IFERROR(VLOOKUP(SUBSTITUTE($A31,CHAR(32),"")&"*",SUBSTITUTE('BDD Cost Price'!$A$2:$E$700,CHAR(32),""),5,0),"")}
A32: 8160230300 | B32: {=IFERROR(VLOOKUP(SUBSTITUTE($A32,CHAR(32),"")&"*",SUBSTITUTE('BDD Cost Price'!$A$2:$E$700,CHAR(32),""),4,0),"")} | C32: {=IFERROR(VLOOKUP(SUBSTITUTE($A32,CHAR(32),"")&"*",SUBSTITUTE('BDD Cost Price'!$A$2:$E$700,CHAR(32),""),5,0),"")}
A33: 8239687000 | B33: {=IFERROR(VLOOKUP(SUBSTITUTE($A33,CHAR(32),"")&"*",SUBSTITUTE('BDD Cost Price'!$A$2:$E$700,CHAR(32),""),4,0),"")} | C33: {=IFERROR(VLOOKUP(SUBSTITUTE($A33,CHAR(32),"")&"*",SUBSTITUTE('BDD Cost Price'!$A$2:$E$700,CHAR(32),""),5,0),"")}
A34: 9258145600 | B34: {=IFERROR(VLOOKUP(SUBSTITUTE($A34,CHAR(32),"")&"*",SUBSTITUTE('BDD Cost Price'!$A$2:$E$700,CHAR(32),""),4,0),"")} | C34: {=IFERROR(VLOOKUP(SUBSTITUTE($A34,CHAR(32),"")&"*",SUBSTITUTE('BDD Cost Price'!$A$2:$E$700,CHAR(32),""),5,0),"")}
A35: 12837800 | B35: {=IFERROR(VLOOKUP(SUBSTITUTE($A35,CHAR(32),"")&"*",SUBSTITUTE('BDD Cost Price'!$A$2:$E$700,CHAR(32),""),4,0),"")} | C35: {=IFERROR(VLOOKUP(SUBSTITUTE($A35,CHAR(32),"")&"*",SUBSTITUTE('BDD Cost Price'!$A$2:$E$700,CHAR(32),""),5,0),"")}
A36: 8216712900 | B36: {=IFERROR(VLOOKUP(SUBSTITUTE($A36,CHAR(32),"")&"*",SUBSTITUTE('BDD Cost Price'!$A$2:$E$700,CHAR(32),""),4,0),"")} | C36: {=IFERROR(VLOOKUP(SUBSTITUTE($A36,CHAR(32),"")&"*",SUBSTITUTE('BDD Cost Price'!$A$2:$E$700,CHAR(32),""),5,0),"")}
A37: 8248410800 | B37: {=IFERROR(VLOOKUP(SUBSTITUTE($A37,CHAR(32),"")&"*",SUBSTITUTE('BDD Cost Price'!$A$2:$E$700,CHAR(32),""),4,0),"")} | C37: {=IFERROR(VLOOKUP(SUBSTITUTE($A37,CHAR(32),"")&"*",SUBSTITUTE('BDD Cost Price'!$A$2:$E$700,CHAR(32),""),5,0),"")}
A38: 8266445400 | B38: {=IFERROR(VLOOKUP(SUBSTITUTE($A38,CHAR(32),"")&"*",SUBSTITUTE('BDD Cost Price'!$A$2:$E$700,CHAR(32),""),4,0),"")} | C38: {=IFERROR(VLOOKUP(SUBSTITUTE($A38,CHAR(32),"")&"*",SUBSTITUTE('BDD Cost Price'!$A$2:$E$700,CHAR(32),""),5,0),"")}
A39: 8145034900 | B39: {=IFERROR(VLOOKUP(SUBSTITUTE($A39,CHAR(32),"")&"*",SUBSTITUTE('BDD Cost Price'!$A$2:$E$700,CHAR(32),""),4,0),"")} | C39: {=IFERROR(VLOOKUP(SUBSTITUTE($A39,CHAR(32),"")&"*",SUBSTITUTE('BDD Cost Price'!$A$2:$E$700,CHAR(32),""),5,0),"")}
A40: K1673TEF1 8249721200 | B40: {=IFERROR(VLOOKUP(SUBSTITUTE($A40,CHAR(32),"")&"*",SUBSTITUTE('BDD Cost Price'!$A$2:$E$700,CHAR(32),""),4,0),"")} -> 3.186 | C40: {=IFERROR(VLOOKUP(SUBSTITUTE($A40,CHAR(32),"")&"*",SUBSTITUTE('BDD Cost Price'!$A$2:$E$700,CHAR(32),""),5,0),"")} -> 7.3901
...
