Workbook

Sheet Feuil1
A1: QTE | B1: DESCRIPTION | C1: P.U | D1: MONTANT
B2: DESCRIPTION1 | C2: 1 | D2: =A2*C2 -> 0 | E2: =COUNTIF($A$2:A2,">0") -> 0
A3: 3 | B3: DESCRIPTION2 | C3: 2 | D3: =A3*C3 -> 6 | E3: =COUNTIF($A$2:A3,">0") -> 1
B4: DESCRIPTION3 | C4: 3 | D4: =A4*C4 -> 0 | E4: =COUNTIF($A$2:A4,">0") -> 1
A5: 5 | B5: DESCRIPTION4 | C5: 4 | D5: =A5*C5 -> 20 | E5: =COUNTIF($A$2:A5,">0") -> 2
B6: DESCRIPTION5 | C6: 5 | D6: =A6*C6 -> 0 | E6: =COUNTIF($A$2:A6,">0") -> 2
B7: DESCRIPTION6 | C7: 6 | D7: =A7*C7 -> 0 | E7: =COUNTIF($A$2:A7,">0") -> 2
A8: 1 | B8: DESCRIPTION7 | C8: 7 | D8: =A8*C8 -> 7 | E8: =COUNTIF($A$2:A8,">0") -> 3
B9: DESCRIPTION8 | C9: 8 | D9: =A9*C9 -> 0 | E9: =COUNTIF($A$2:A9,">0") -> 3
B10: DESCRIPTION9 | C10: 9 | D10: =A10*C10 -> 0 | E10: =COUNTIF($A$2:A10,">0") -> 3
B11: DESCRIPTION10 | C11: 10 | D11: =A11*C11 -> 0 | E11: =COUNTIF($A$2:A11,">0") -> 3

Sheet Feuil2
A1: QTE | B1: DESCRIPTION | C1: P.U | D1: MONTANT
A2: =IF(B2="","",INDEX(Feuil1!A:A,MATCH(ROWS($1:1),Feuil1!E:E,0))) -> 3 | B2: =IF(COUNTIF(Feuil1!E:E,ROWS($1:1)),INDEX(Feuil1!B:B,MATCH(ROWS($1:1),Feuil1!E:E,0)),"") -> DESCRIPTION2 | C2: =IF($B2="","",INDEX(Feuil1!C:C,MATCH(ROWS($1:1),Feuil1!E:E,0))) -> 2 | D2: =IF(B2="","",C2*A2) -> 6
A3: =IF(B3="","",INDEX(Feuil1!A:A,MATCH(ROWS($1:2),Feuil1!E:E,0))) -> 5 | B3: =IF(COUNTIF(Feuil1!E:E,ROWS($1:2)),INDEX(Feuil1!B:B,MATCH(ROWS($1:2),Feuil1!E:E,0)),"") -> DESCRIPTION4 | C3: =IF($B3="","",INDEX(Feuil1!C:C,MATCH(ROWS($1:2),Feuil1!E:E,0))) -> 4 | D3: =IF(B3="","",C3*A3) -> 20
A4: =IF(B4="","",INDEX(Feuil1!A:A,MATCH(ROWS($1:3),Feuil1!E:E,0))) -> 1 | B4: =IF(COUNTIF(Feuil1!E:E,ROWS($1:3)),INDEX(Feuil1!B:B,MATCH(ROWS($1:3),Feuil1!E:E,0)),"") -> DESCRIPTION7 | C4: =IF($B4="","",INDEX(Feuil1!C:C,MATCH(ROWS($1:3),Feuil1!E:E,0))) -> 7 | D4: =IF(B4="","",C4*A4) -> 7
A5: =IF(B5="","",INDEX(Feuil1!A:A,MATCH(ROWS($1:4),Feuil1!E:E,0))) | B5: =IF(COUNTIF(Feuil1!E:E,ROWS($1:4)),INDEX(Feuil1!B:B,MATCH(ROWS($1:4),Feuil1!E:E,0)),"") | C5: =IF($B5="","",INDEX(Feuil1!C:C,MATCH(ROWS($1:4),Feuil1!E:E,0))) | D5: =IF(B5="","",C5*A5)
A6: =IF(B6="","",INDEX(Feuil1!A:A,MATCH(ROWS($1:5),Feuil1!E:E,0))) | B6: =IF(COUNTIF(Feuil1!E:E,ROWS($1:5)),INDEX(Feuil1!B:B,MATCH(ROWS($1:5),Feuil1!E:E,0)),"") | C6: =IF($B6="","",INDEX(Feuil1!C:C,MATCH(ROWS($1:5),Feuil1!E:E,0))) | D6: =IF(B6="","",C6*A6)
A7: =IF(B7="","",INDEX(Feuil1!A:A,MATCH(ROWS($1:6),Feuil1!E:E,0))) | B7: =IF(COUNTIF(Feuil1!E:E,ROWS($1:6)),INDEX(Feuil1!B:B,MATCH(ROWS($1:6),Feuil1!E:E,0)),"") | C7: =IF($B7="","",INDEX(Feuil1!C:C,MATCH(ROWS($1:6),Feuil1!E:E,0))) | D7: =IF(B7="","",C7*A7)
A8: =IF(B8="","",INDEX(Feuil1!A:A,MATCH(ROWS($1:7),Feuil1!E:E,0))) | B8: =IF(COUNTIF(Feuil1!E:E,ROWS($1:7)),INDEX(Feuil1!B:B,MATCH(ROWS($1:7),Feuil1!E:E,0)),"") | C8: =IF($B8="","",INDEX(Feuil1!C:C,MATCH(ROWS($1:7),Feuil1!E:E,0))) | D8: =IF(B8="","",C8*A8)
A9: =IF(B9="","",INDEX(Feuil1!A:A,MATCH(ROWS($1:8),Feuil1!E:E,0))) | B9: =IF(COUNTIF(Feuil1!E:E,ROWS($1:8)),INDEX(Feuil1!B:B,MATCH(ROWS($1:8),Feuil1!E:E,0)),"") | C9: =IF($B9="","",INDEX(Feuil1!C:C,MATCH(ROWS($1:8),Feuil1!E:E,0))) | D9: =IF(B9="","",C9*A9)
A10: =IF(B10="","",INDEX(Feuil1!A:A,MATCH(ROWS($1:9),Feuil1!E:E,0))) | B10: =IF(COUNTIF(Feuil1!E:E,ROWS($1:9)),INDEX(Feuil1!B:B,MATCH(ROWS($1:9),Feuil1!E:E,0)),"") | C10: =IF($B10="","",INDEX(Feuil1!C:C,MATCH(ROWS($1:9),Feuil1!E:E,0))) | D10: =IF(B10="","",C10*A10)
