Workbook

Sheet Feuil1
ET1: partie à remplir uniquement par les personnes qui utilisent les services liés à l'enfance : écoles, accueil périscolaire, …)
AM2: 1 | AQ2: 2 | AS2: 3 | AW2: 4 | BC2: 5 | BE2: 6 | BN2: 7 | BU2: 8 | BW2: 9 | CA2: 10 | CG2: 11 | CK2: 12 | CQ2: 13 | CW2: 14 | DA2: 15 | DE2: 16 | DK2: 17 | DN2: 18 | DT2: 19 | DX2: 20 | ED2: 21 | EJ2: 22 | EN2: 23 | ET2: 24 | EZ2: 25 | FD2: 26 | FH2: 27 | FK2: 28 | FQ2: 29 | FU2: 30 | FY2: 31 | GE2: 32 | GO2: 33 | GY2: 34 | HE2: 35 | HK2: 36 | HL2: 37
A3: n°/questions | B3: Vous êtes : | D3: Votre âge : | J3: Vous résidez au Taillan-Médoc depuis : | N3: Dans quel quartier résidez-vous ? | V3: A quelle catégorie socioprofessionnelle appartenez-vous ? | AH3: Si vous avez une activité professionnelle, vous travaillez sur : | AM3: Selon vous, combien d'habitants compte le Taillan-Médoc ? | AQ3: Avez-vous choisi d'habiter le Taillan-Médoc ? | AS3: Si oui, pourquoi ? | AW3: Etes-vous attaché à votre ville ? (sur une échelle de 1 à 6) | BC3: Êtes-vous fier d'habiter le Taillan-Médoc ? | BE3: Parmi les expressions suivantes, lesquelles, selon vous, semblent caractériser le mieux votre ville ? | BN3: Comment vous informez-vous sur l'actualité de la commune ? | BU3: Lisez-vous le magazine municipal ? | BW3: Si oui, trouvez-vous le magazine municipal : | CA3: Considérez-vous que la municipalité associe suffisamment les habitants aux décisions concernant la commune ? (sur une échelle de 1 à 6) | CG3: L'entretien et l'aménagement du domaine forestier et des espaces verts vous semble : | CK3: Jugez-vous la commune bien desservie en cheminements doux (sur une échelle de 1 à 6) | CQ3: Etes-vous satisfait(e) des actions de la municipalité en matière de propreté de la ville (espaces verts, voies, trottoirs, etc) ? (sur une échelle de 1 à 6) | CW3: Pour vous, quelle est la première conséquence de l'arrivée du tramway au Taillan-Médoc ? | DA3: Le nouveau réseau TBC (bus de la Cub) vous semble : | DE3: Selon vous, l'attention que porte la municipalité sur votre quartier est-elle suffisante ? (sur une échelle de 1 à 6) | DK3: Selon vous, le Taillan-Médoc est une commune : | DN3: La construction d'un pôle culturel sur la commune (médiathèque, école de musique…) est : (sur une échelle de 1 à 6) | DT3: Le nombre et la qualité des rendez-vous culturels au Taillan-Médoc vous semblent : | DX3: Comment jugez-vous l'action de la municipalité en faveur des jeunes ? (sur une échelle de 1 à 6) | ED3: Etes-vous satisfait(e) des actions de la municipalité en matière d'animation de la ville (manifestations, marchés, etc) ? | EJ3: L'investissement de la commune en faveur du sport vous semble : | EN3: Diriez-vous que la salle Palio correspond aux besoins des habitants ? | ET3: Comment jugez-vous l'action municipale en faveur des écoles ? | EZ3: Faire garder ses enfants au Taillan-Médoc est-ce : | FD3: Comment jugez-vous l'accueil au sein des accueils périscolaires ? | FH3: Selon vous, pour une personne âgée, vivre au Taillan-Médoc c'est : | FK3: Jugez-vous satisfaisante l'action de la municipalité en faveur de la solidarité ? | FQ3: La création d'une maison de retraite "type EPHAD" au Taillan-Médoc vous semble : | FU3: L'accompagnement de la municipalité en terme de soutien à l'emploi vous semble : | FY3: L'offre en commerce de proximité vous semble : | GE3: Quelle note donneriez-vous à la qualité des services de la ville (compétences, disponibilité, réactivité, accueil) ? | GO3: Quelle note donneriez-vous à l'action de l'équipe municipale ? | GY3: Considérez-vous que les élus du Taillan-Médoc sont présents sur la commune : | HE3: Considérez-vous que les élus du Taillan-Médoc sont disponibles : | HK3: Qui est le maire du Taillan-Médoc ? | HL3: Pouvez-vous citer d'autres élus du Conseil municipal ou élus locaux hors municipalité ?
B4: un homme | C4: une femme | D4: 18-29 ans | E4: 30-44 ans | F4: 45-59 ans | G4: 60-74 ans | H4: 75-89 ans | I4: 90 ans et plus | J4: moins de 3 ans | K4: de 3 à 5 ans | L4: 5 à 10 ans | M4: plus de 10 ans | N4: B1 | O4: B2 | P4: B3 | Q4: B4 | R4: B5 | S4: B6 | T4: B7 | U4: B8 | V4: agriculteur | W4: cadre supérieur | X4: artisan/commerçant | Y4: profession libérale | Z4: profession intermédiaire | AA4: enseignant/fonctionnaire | AB4: employé | AC4: ouvrier | AD4: retraité | AE4: étudiant | AF4: sans profession | AG4: autre | AH4: la commune du Taillan-Médoc | AI4: une commune limitrophe (St Médard, Eysines, Blanquefort, St-Aubin) | AJ4: sur la CUB | AK4: en Gironde (hors CUB) | AL4: sur un autre département | AM4: moins de 8000 | AN4: 8000 habitants | AO4: 9000 habitants | AP4: plus de 9000 | AQ4: oui | AR4: non | AS4: l'équilibre entre urbain et espaces naturels | AT4: la commune est bien équipée (sport/scolaire/culture) | AU4: son positionnement géographique | AV4: autre | AW4: 1 (pas du tout attaché) | AX4: 2 | AY4: 3 | AZ4: 4 | BA4: 5 | BB4: 6 (très attaché) | BC4: oui | BD4: non | BE4: ville à la campagne | BF4: ville en mutation | BG4: ville animée | BH4: ville populaire | BI4: ville rue | BJ4: ville sans identité | BK4: ville dortoir | BL4: ville bourgeoise | BM4: ville en devenir | BN4: magazine municipal | BO4: site internet | BP4: réseaux sociaux (facebook) | BQ4: presse locale (sud-ouest) | BR4: réunions publiques | BS4: affichage | BT4: autre | BU4: oui | BV4: non | BW4: très intéressant | BX4: intéressant | BY4: pas intéressant | BZ4: pas du tout intéressant | CA4: 1 (très insuffisamment) | CB4: 2 | CC4: 3 | CD4: 4 | CE4: 5 | CF4: 6 (très suffisamment) | CG4: très satisfaisant | CH4: satisfaisant | CI4: pas satisfaiant | CJ4: pas du tout satisfaisant | CK4: 1(pas du tout desservie) | CL4: 2 | CM4: 3 | CN4: 4 | CO4: 5 | CP4: 6 (très bien desservie) | CQ4: 1 (pas du tout) | CR4: 2 | CS4: 3 | CT4: 4 | CU4: 5 | CV4: 6 (tout à fait) | CW4: synonyme d'un nouvel aménagement de la ville | CX4: un lien plus fort entre notre commune et le reste de l'agglomération | CY4: la fin de notre identité rurale | CZ4: la mutation concrète d'un bourg rural qui va devenir "ville" | DA4: pas du tout pratique | DB4: pas pratique | DC4: pratique | DD4: très pratique | DE4: 1 (pas du tout suffisante) | DF4: 2 | DG4: 3 | DH4: 4 | DI4: 5 | DJ4: 6 (très suffisante) | DK4: avec peu voir pas de problèmes de délinquance et d'insécurité | DL4: avec des problèmes comparables aux autres communes du territoire | DM4: avec des problèmes de plus importants qu'ailleurs | DN4: 1 (pas du tout importante) | DO4: 2 | DP4: 3 | DQ4: 4 | DR4: 5 | DS4: 6 (très importante) | DT4: tout à fait suffisant | DU4: suffisant | DV4: peu suffisant | DW4: pas du tout suffisant | DX4: 1 (pas du tout satisfaisante) | DY4: 2 | DZ4: 3 | EA4: 4 | EB4: 5 | EC4: 6 (très satisfaisante) | ED4: 1 (pas du tout) | EE4: 2 | EF4: 3 | EG4: 4 | EH4: 5 | EI4: 6 (tout à fait) | EJ4: tout à fait suffisant | EK4: suffisant | EL4: peu suffisant | EM4: pas du tout suffisant | EN4: 1 (pas du tout) | EO4: 2 | EP4: 3 | EQ4: 4 | ER4: 5 | ES4: 6 (tout à fait) | ET4: 1 (pas du tout satisfaisante | EU4: 2 | EV4: 3 | EW4: 4 | EX4: 5 | EY4: 6 (très satisfaisante) | EZ4: très difficle | FA4: difficile | FB4: facile | FC4: très facile | FD4: très satisfaisant | FE4: satisfaisant | FF4: pas satisfaisant | FG4: pas du tout satisfaisant | FH4: particulièrement agréable | FI4: similaire aux autres communes de la CUB | FJ4: difficile | FK4: 1 (pas du tout satisfaisante) | FL4: 2 | FM4: 3 | FN4: 4 | FO4: 5 | FP4: 6 (très satisfaisante) | FQ4: tout à fait nécessaire | FR4: nécessaire | FS4: peu nécessaire | FT4: pas du tout nécessaire | FU4: très efficace | FV4: efficace | FW4: peu efficace | FX4: inefficace | FY4: 1 (pas du tout satisfaisante) | FZ4: 2 | GA4: 3 | GB4: 4 | GC4: 5 | GD4: 6 (très satisfaisante) | GE4: 1 | GF4: 2 | GG4: 3 | GH4: 4 | GI4: 5 | GJ4: 6 | GK4: 7 | GL4: 8 | GM4: 9 | GN4: 10 | GO4: 1 | GP4: 2 | GQ4: 3 | GR4: 4 | GS4: 5 | GT4: 6 | GU4: 7 | GV4: 8 | GW4: 9 | GX4: 10 | GY4: 1 (pas du tout) | GZ4: 2 | HA4: 3 | HB4: 4 | HC4: 5 | HD4: 6 (tout à fait) | HE4: 1 (pas du tout) | HF4: 2 | HG4: 3 | HH4: 4 | HI4: 5 | HJ4: 6 (tout à fait)
A6: 1 | B6: x | E6: x | K6: x | Q6: x | W6: x | AI6: x | AR6: x | AS6: x | AX6: x | BD6: x | BE6: x | BN6: x | BU6: x | BZ6: x | CB6: x | CG6: x | CL6: x | CQ6: x | CX6: x | DB6: x | DF6: x | DK6: x | DN6: x | DT6: x | DY6: x | EE6: x | EJ6: x | EN6: x | ET6: x | EZ6: x | FD6: x | FH6: x | FQ6: x | FU6: x | GC6: x | GE6: x | GS6: x | HA6: x | HH6: x
A7: 2 | C7: x | D7: x | J7: x | R7: x | V7: x | AH7: x | AQ7: x | AT7: x | AW7: x | BC7: x | BF7: x | BO7: x | BV7: x | BY7: x | CA7: x | CH7: x | CK7: x | CR7: x | CW7: x | DA7: x | DE7: x | DL7: x | DO7: x | DU7: x | DX7: x | ED7: x | EK7: x | EO7: x | EU7: x | FA7: x | FE7: x | FI7: x | FR7: x | FV7: x | GD7: x | GF7: x | GR7: x | HB7: x | HI7: x
A8: 3
A9: 4
A10: 5
A11: 6
A12: 7
A13: 8
A14: 9
A15: 10

Sheet Feuil2
A3: n°/questions | B3: Vous êtes : | C3: Votre âge : | D3: Vous résidez au Taillan-Médoc depuis : | E3: Dans quel quartier résidez-vous ? | F3: A quelle catégorie socioprofessionnelle appartenez-vous ? | G3: Si vous avez une activité professionnelle, vous travaillez sur : | H3: Selon vous, combien d'habitants compte le Taillan-Médoc ? | I3: Avez-vous choisi d'habiter le Taillan-Médoc ? | J3: Si oui, pourquoi ? | K3: Etes-vous attaché à votre ville ? (sur une échelle de 1 à 6) | L3: Êtes-vous fier d'habiter le Taillan-Médoc ? | M3: Parmi les expressions suivantes, lesquelles, selon vous, semblent caractériser le mieux votre ville ? | N3: Comment vous informez-vous sur l'actualité de la commune ? | O3: Lisez-vous le magazine municipal ? | P3: Si oui, trouvez-vous le magazine municipal : | Q3: Considérez-vous que la municipalité associe suffisamment les habitants aux décisions concernant la commune ? (sur une échelle de 1 à 6) | R3: L'entretien et l'aménagement du domaine forestier et des espaces verts vous semble : | S3: Jugez-vous la commune bien desservie en cheminements doux (sur une échelle de 1 à 6) | T3: Etes-vous satisfait(e) des actions de la municipalité en matière de propreté de la ville (espaces verts, voies, trottoirs, etc) ? (sur une échelle de 1 à 6) | U3: Pour vous, quelle est la première conséquence de l'arrivée du tramway au Taillan-Médoc ? | V3: Le nouveau réseau TBC (bus de la Cub) vous semble : | W3: Selon vous, l'attention que porte la municipalité sur votre quartier est-elle suffisante ? (sur une échelle de 1 à 6) | X3: Selon vous, le Taillan-Médoc est une commune : | Y3: La construction d'un pôle culturel sur la commune (médiathèque, école de musique…) est : (sur une échelle de 1 à 6) | Z3: Le nombre et la qualité des rendez-vous culturels au Taillan-Médoc vous semblent : | AA3: Comment jugez-vous l'action de la municipalité en faveur des jeunes ? (sur une échelle de 1 à 6) | AB3: Etes-vous satisfait(e) des actions de la municipalité en matière d'animation de la ville (manifestations, marchés, etc) ? | AC3: L'investissement de la commune en faveur du sport vous semble : | AD3: Diriez-vous que la salle Palio correspond aux besoins des habitants ? | AE3: Comment jugez-vous l'action municipale en faveur des écoles ? | AF3: Faire garder ses enfants au Taillan-Médoc est-ce : | AG3: Comment jugez-vous l'accueil au sein des accueils périscolaires ? | AH3: Selon vous, pour une personne âgée, vivre au Taillan-Médoc c'est : | AI3: Jugez-vous satisfaisante l'action de la municipalité en faveur de la solidarité ? | AJ3: La création d'une maison de retraite "type EPHAD" au Taillan-Médoc vous semble : | AK3: L'accompagnement de la municipalité en terme de soutien à l'emploi vous semble : | AL3: L'offre en commerce de proximité vous semble : | AM3: Quelle note donneriez-vous à la qualité des services de la ville (compétences, disponibilité, réactivité, accueil) ? | AN3: Quelle note donneriez-vous à l'action de l'équipe municipale ? | AO3: Considérez-vous que les élus du Taillan-Médoc sont présents sur la commune : | AP3: Considérez-vous que les élus du Taillan-Médoc sont disponibles : | AQ3: Qui est le maire du Taillan-Médoc ? | AR3: Pouvez-vous citer d'autres élus du Conseil municipal ou élus locaux hors municipalité ?
A4: 1 | B4: =INDEX(Feuil1!B$4:C$4,MATCH("X",Feuil1!B6:C6,0)) -> un homme | C4: =INDEX(Feuil1!D$4:I$4,MATCH("X",Feuil1!D6:I6,0)) -> 30-44 ans | D4: =INDEX(Feuil1!J$4:M$4,MATCH("X",Feuil1!J6:M6,0)) -> de 3 à 5 ans | E4: =INDEX(Feuil1!N$4:U$4,MATCH("X",Feuil1!N6:U6,0)) -> B4
A5: 2 | B5: =INDEX(Feuil1!B$4:C$4,MATCH("X",Feuil1!B7:C7,0)) -> une femme | C5: =INDEX(Feuil1!D$4:I$4,MATCH("X",Feuil1!D7:I7,0)) -> 18-29 ans | D5: =INDEX(Feuil1!J$4:M$4,MATCH("X",Feuil1!J7:M7,0)) -> moins de 3 ans | E5: =INDEX(Feuil1!N$4:U$4,MATCH("X",Feuil1!N7:U7,0)) -> B5
A6: 3 | B6: =INDEX(Feuil1!B$4:C$4,MATCH("X",Feuil1!B8:C8,0)) -> #N/A | C6: =INDEX(Feuil1!D$4:I$4,MATCH("X",Feuil1!D8:I8,0)) -> #N/A | D6: =INDEX(Feuil1!J$4:M$4,MATCH("X",Feuil1!J8:M8,0)) -> #N/A | E6: =INDEX(Feuil1!N$4:U$4,MATCH("X",Feuil1!N8:U8,0)) -> #N/A
A7: 4 | B7: =INDEX(Feuil1!B$4:C$4,MATCH("X",Feuil1!B9:C9,0)) -> #N/A | C7: =INDEX(Feuil1!D$4:I$4,MATCH("X",Feuil1!D9:I9,0)) -> #N/A | D7: =INDEX(Feuil1!J$4:M$4,MATCH("X",Feuil1!J9:M9,0)) -> #N/A | E7: =INDEX(Feuil1!N$4:U$4,MATCH("X",Feuil1!N9:U9,0)) -> #N/A
A8: 5 | B8: =INDEX(Feuil1!B$4:C$4,MATCH("X",Feuil1!B10:C10,0)) -> #N/A | C8: =INDEX(Feuil1!D$4:I$4,MATCH("X",Feuil1!D10:I10,0)) -> #N/A | D8: =INDEX(Feuil1!J$4:M$4,MATCH("X",Feuil1!J10:M10,0)) -> #N/A | E8: =INDEX(Feuil1!N$4:U$4,MATCH("X",Feuil1!N10:U10,0)) -> #N/A
A9: 6 | B9: =INDEX(Feuil1!B$4:C$4,MATCH("X",Feuil1!B11:C11,0)) -> #N/A | C9: =INDEX(Feuil1!D$4:I$4,MATCH("X",Feuil1!D11:I11,0)) -> #N/A | D9: =INDEX(Feuil1!J$4:M$4,MATCH("X",Feuil1!J11:M11,0)) -> #N/A | E9: =INDEX(Feuil1!N$4:U$4,MATCH("X",Feuil1!N11:U11,0)) -> #N/A
A10: 7 | B10: =INDEX(Feuil1!B$4:C$4,MATCH("X",Feuil1!B12:C12,0)) -> #N/A | C10: =INDEX(Feuil1!D$4:I$4,MATCH("X",Feuil1!D12:I12,0)) -> #N/A | D10: =INDEX(Feuil1!J$4:M$4,MATCH("X",Feuil1!J12:M12,0)) -> #N/A | E10: =INDEX(Feuil1!N$4:U$4,MATCH("X",Feuil1!N12:U12,0)) -> #N/A
A11: 8 | B11: =INDEX(Feuil1!B$4:C$4,MATCH("X",Feuil1!B13:C13,0)) -> #N/A | C11: =INDEX(Feuil1!D$4:I$4,MATCH("X",Feuil1!D13:I13,0)) -> #N/A | D11: =INDEX(Feuil1!J$4:M$4,MATCH("X",Feuil1!J13:M13,0)) -> #N/A | E11: =INDEX(Feuil1!N$4:U$4,MATCH("X",Feuil1!N13:U13,0)) -> #N/A
A12: 9 | B12: =INDEX(Feuil1!B$4:C$4,MATCH("X",Feuil1!B14:C14,0)) -> #N/A | C12: =INDEX(Feuil1!D$4:I$4,MATCH("X",Feuil1!D14:I14,0)) -> #N/A | D12: =INDEX(Feuil1!J$4:M$4,MATCH("X",Feuil1!J14:M14,0)) -> #N/A | E12: =INDEX(Feuil1!N$4:U$4,MATCH("X",Feuil1!N14:U14,0)) -> #N/A
A13: 10 | B13: =INDEX(Feuil1!B$4:C$4,MATCH("X",Feuil1!B15:C15,0)) -> #N/A | C13: =INDEX(Feuil1!D$4:I$4,MATCH("X",Feuil1!D15:I15,0)) -> #N/A | D13: =INDEX(Feuil1!J$4:M$4,MATCH("X",Feuil1!J15:M15,0)) -> #N/A | E13: =INDEX(Feuil1!N$4:U$4,MATCH("X",Feuil1!N15:U15,0)) -> #N/A
