Workbook
Name INTRUMENTS: DONNEES!$A$15:$A$30
Name Location: DONNEES!$G$15:$G$16
Name NIVEAU: DONNEES!$I$15:$I$20
Name Plage: DONNEES!$B$6:$G$12
Name SOLFEGE: DONNEES!$A$6:$A$12
Name TABLO: DONNEES!$A$6:$I$12
Name Tranche: DONNEES!$B$5:$F$5
Name TRANCHES: DONNEES!$B$15:$B$18

Sheet LISTE INSCRITS
A1: NOM | B1: PRENOM | C1: ADRESSE | D1: INSTRUMENT | E1: LOCATION INSTRUMENT | F1: SOLFEGE | G1: TRANCHE | H1: NIVEAU | I1: MONTANT | J1: TOTAL CHQ | K1: PRATIQUE COLLECTIVE OBLIGATOIRE | L1: PRATIQUES COLLECTIVES FACULTATIVES
A2: Duboit | B2: Elsa | D2: Guitare | E2: oui | F2: Instrument seul | G2: Hors Commune | H2: 2ème A | I2: =IF(F2="","",IF(AND(G2="Hors Commune",OR(D2="Piano",D2="Guitare")),VLOOKUP(F2,TABLO,9,0)+(E2="OUI")*DONNEES!$H$12,IF(G2="Hors Commune",ECHERCHEV(F2,TABLO,8,0)+(E2="OUI")*DONNEES!$H$12,IF(OR(D2="Piano",D2="Guitare"),INDEX(Plage,MATCH(F2,SOLFEGE,0),MATCH(G2,Tranche,0)+1),INDEX(Plage,MATCH(F2,SOLFEGE,0),MATCH(G2,Tranche,0)))+(E2="OUI")*INDEX(Plage,7,MATCH(G2,Tranche,0))))) -> 705
A3: CLEMENT | B3: Nathalie | D3: Guitare | E3: non | F3: Instrument seul | G3: Hors Commune | H3: 3ème A | I3: =IF(F3="","",IF(AND(G3="Hors Commune",OR(D3="Piano",D3="Guitare")),VLOOKUP(F3,TABLO,9,0)+(E3="OUI")*DONNEES!$H$12,IF(G3="Hors Commune",ECHERCHEV(F3,TABLO,8,0)+(E3="OUI")*DONNEES!$H$12,IF(OR(D3="Piano",D3="Guitare"),INDEX(Plage,MATCH(F3,SOLFEGE,0),MATCH(G3,Tranche,0)+1),INDEX(Plage,MATCH(F3,SOLFEGE,0),MATCH(G3,Tranche,0)))+(E3="OUI")*INDEX(Plage,7,MATCH(G3,Tranche,0))))) -> 600
B4: marc | D4: Hautbois | E4: oui | F4: Instrument seul | G4: ABC (0 à 710) | H4: 4ème | I4: =IF(F4="","",IF(AND(G4="Hors Commune",OR(D4="Piano",D4="Guitare")),VLOOKUP(F4,TABLO,9,0)+(E4="OUI")*DONNEES!$H$12,IF(G4="Hors Commune",ECHERCHEV(F4,TABLO,8,0)+(E4="OUI")*DONNEES!$H$12,IF(OR(D4="Piano",D4="Guitare"),INDEX(Plage,MATCH(F4,SOLFEGE,0),MATCH(G4,Tranche,0)+1),INDEX(Plage,MATCH(F4,SOLFEGE,0),MATCH(G4,Tranche,0)))+(E4="OUI")*INDEX(Plage,7,MATCH(G4,Tranche,0))))) -> 171
D5: Cor d'Harmonie | E5: non | F5: Instrument seul | G5: ABC (0 à 710) | H5: 1re | I5: =IF(F5="","",IF(AND(G5="Hors Commune",OR(D5="Piano",D5="Guitare")),VLOOKUP(F5,TABLO,9,0)+(E5="OUI")*DONNEES!$H$12,IF(G5="Hors Commune",ECHERCHEV(F5,TABLO,8,0)+(E5="OUI")*DONNEES!$H$12,IF(OR(D5="Piano",D5="Guitare"),INDEX(Plage,MATCH(F5,SOLFEGE,0),MATCH(G5,Tranche,0)+1),INDEX(Plage,MATCH(F5,SOLFEGE,0),MATCH(G5,Tranche,0)))+(E5="OUI")*INDEX(Plage,7,MATCH(G5,Tranche,0))))) -> 82
D6: Guitare | E6: non | F6: Solfège seul | G6: ABC (0 à 710) | H6: 4ème | I6: =IF(F6="","",IF(AND(G6="Hors Commune",OR(D6="Piano",D6="Guitare")),VLOOKUP(F6,TABLO,9,0)+(E6="OUI")*DONNEES!$H$12,IF(G6="Hors Commune",ECHERCHEV(F6,TABLO,8,0)+(E6="OUI")*DONNEES!$H$12,IF(OR(D6="Piano",D6="Guitare"),INDEX(Plage,MATCH(F6,SOLFEGE,0),MATCH(G6,Tranche,0)+1),INDEX(Plage,MATCH(F6,SOLFEGE,0),MATCH(G6,Tranche,0)))+(E6="OUI")*INDEX(Plage,7,MATCH(G6,Tranche,0))))) -> 0
D7: Guitare | E7: oui | F7: Solfège seul | G7: ABC (0 à 710) | H7: 4ème | I7: =IF(F7="","",IF(AND(G7="Hors Commune",OR(D7="Piano",D7="Guitare")),VLOOKUP(F7,TABLO,9,0)+(E7="OUI")*DONNEES!$H$12,IF(G7="Hors Commune",ECHERCHEV(F7,TABLO,8,0)+(E7="OUI")*DONNEES!$H$12,IF(OR(D7="Piano",D7="Guitare"),INDEX(Plage,MATCH(F7,SOLFEGE,0),MATCH(G7,Tranche,0)+1),INDEX(Plage,MATCH(F7,SOLFEGE,0),MATCH(G7,Tranche,0)))+(E7="OUI")*INDEX(Plage,7,MATCH(G7,Tranche,0))))) -> 89
I8: =IF(F8="","",IF(AND(G8="Hors Commune",OR(D8="Piano",D8="Guitare")),VLOOKUP(F8,TABLO,9,0)+(E8="OUI")*DONNEES!$H$12,IF(G8="Hors Commune",ECHERCHEV(F8,TABLO,8,0)+(E8="OUI")*DONNEES!$H$12,IF(OR(D8="Piano",D8="Guitare"),INDEX(Plage,MATCH(F8,SOLFEGE,0),MATCH(G8,Tranche,0)+1),INDEX(Plage,MATCH(F8,SOLFEGE,0),MATCH(G8,Tranche,0)))+(E8="OUI")*INDEX(Plage,7,MATCH(G8,Tranche,0)))))
I9: =IF(F9="","",IF(AND(G9="Hors Commune",OR(D9="Piano",D9="Guitare")),VLOOKUP(F9,TABLO,9,0)+(E9="OUI")*DONNEES!$H$12,IF(G9="Hors Commune",ECHERCHEV(F9,TABLO,8,0)+(E9="OUI")*DONNEES!$H$12,IF(OR(D9="Piano",D9="Guitare"),INDEX(Plage,MATCH(F9,SOLFEGE,0),MATCH(G9,Tranche,0)+1),INDEX(Plage,MATCH(F9,SOLFEGE,0),MATCH(G9,Tranche,0)))+(E9="OUI")*INDEX(Plage,7,MATCH(G9,Tranche,0)))))
I10: =IF(F10="","",IF(AND(G10="Hors Commune",OR(D10="Piano",D10="Guitare")),VLOOKUP(F10,TABLO,9,0)+(E10="OUI")*DONNEES!$H$12,IF(G10="Hors Commune",ECHERCHEV(F10,TABLO,8,0)+(E10="OUI")*DONNEES!$H$12,IF(OR(D10="Piano",D10="Guitare"),INDEX(Plage,MATCH(F10,SOLFEGE,0),MATCH(G10,Tranche,0)+1),INDEX(Plage,MATCH(F10,SOLFEGE,0),MATCH(G10,Tranche,0)))+(E10="OUI")*INDEX(Plage,7,MATCH(G10,Tranche,0)))))
I11: =IF(F11="","",IF(AND(G11="Hors Commune",OR(D11="Piano",D11="Guitare")),VLOOKUP(F11,TABLO,9,0)+(E11="OUI")*DONNEES!$H$12,IF(G11="Hors Commune",ECHERCHEV(F11,TABLO,8,0)+(E11="OUI")*DONNEES!$H$12,IF(OR(D11="Piano",D11="Guitare"),INDEX(Plage,MATCH(F11,SOLFEGE,0),MATCH(G11,Tranche,0)+1),INDEX(Plage,MATCH(F11,SOLFEGE,0),MATCH(G11,Tranche,0)))+(E11="OUI")*INDEX(Plage,7,MATCH(G11,Tranche,0)))))
I12: =IF(F12="","",IF(AND(G12="Hors Commune",OR(D12="Piano",D12="Guitare")),VLOOKUP(F12,TABLO,9,0)+(E12="OUI")*DONNEES!$H$12,IF(G12="Hors Commune",ECHERCHEV(F12,TABLO,8,0)+(E12="OUI")*DONNEES!$H$12,IF(OR(D12="Piano",D12="Guitare"),INDEX(Plage,MATCH(F12,SOLFEGE,0),MATCH(G12,Tranche,0)+1),INDEX(Plage,MATCH(F12,SOLFEGE,0),MATCH(G12,Tranche,0)))+(E12="OUI")*INDEX(Plage,7,MATCH(G12,Tranche,0)))))
I13: =IF(F13="","",IF(AND(G13="Hors Commune",OR(D13="Piano",D13="Guitare")),VLOOKUP(F13,TABLO,9,0)+(E13="OUI")*DONNEES!$H$12,IF(G13="Hors Commune",ECHERCHEV(F13,TABLO,8,0)+(E13="OUI")*DONNEES!$H$12,IF(OR(D13="Piano",D13="Guitare"),INDEX(Plage,MATCH(F13,SOLFEGE,0),MATCH(G13,Tranche,0)+1),INDEX(Plage,MATCH(F13,SOLFEGE,0),MATCH(G13,Tranche,0)))+(E13="OUI")*INDEX(Plage,7,MATCH(G13,Tranche,0)))))
I14: =IF(F14="","",IF(AND(G14="Hors Commune",OR(D14="Piano",D14="Guitare")),VLOOKUP(F14,TABLO,9,0)+(E14="OUI")*DONNEES!$H$12,IF(G14="Hors Commune",ECHERCHEV(F14,TABLO,8,0)+(E14="OUI")*DONNEES!$H$12,IF(OR(D14="Piano",D14="Guitare"),INDEX(Plage,MATCH(F14,SOLFEGE,0),MATCH(G14,Tranche,0)+1),INDEX(Plage,MATCH(F14,SOLFEGE,0),MATCH(G14,Tranche,0)))+(E14="OUI")*INDEX(Plage,7,MATCH(G14,Tranche,0)))))
I15: =IF(F15="","",IF(AND(G15="Hors Commune",OR(D15="Piano",D15="Guitare")),VLOOKUP(F15,TABLO,9,0)+(E15="OUI")*DONNEES!$H$12,IF(G15="Hors Commune",ECHERCHEV(F15,TABLO,8,0)+(E15="OUI")*DONNEES!$H$12,IF(OR(D15="Piano",D15="Guitare"),INDEX(Plage,MATCH(F15,SOLFEGE,0),MATCH(G15,Tranche,0)+1),INDEX(Plage,MATCH(F15,SOLFEGE,0),MATCH(G15,Tranche,0)))+(E15="OUI")*INDEX(Plage,7,MATCH(G15,Tranche,0)))))
I16: =IF(F16="","",IF(AND(G16="Hors Commune",OR(D16="Piano",D16="Guitare")),VLOOKUP(F16,TABLO,9,0)+(E16="OUI")*DONNEES!$H$12,IF(G16="Hors Commune",ECHERCHEV(F16,TABLO,8,0)+(E16="OUI")*DONNEES!$H$12,IF(OR(D16="Piano",D16="Guitare"),INDEX(Plage,MATCH(F16,SOLFEGE,0),MATCH(G16,Tranche,0)+1),INDEX(Plage,MATCH(F16,SOLFEGE,0),MATCH(G16,Tranche,0)))+(E16="OUI")*INDEX(Plage,7,MATCH(G16,Tranche,0)))))
I17: =IF(F17="","",IF(AND(G17="Hors Commune",OR(D17="Piano",D17="Guitare")),VLOOKUP(F17,TABLO,9,0)+(E17="OUI")*DONNEES!$H$12,IF(G17="Hors Commune",ECHERCHEV(F17,TABLO,8,0)+(E17="OUI")*DONNEES!$H$12,IF(OR(D17="Piano",D17="Guitare"),INDEX(Plage,MATCH(F17,SOLFEGE,0),MATCH(G17,Tranche,0)+1),INDEX(Plage,MATCH(F17,SOLFEGE,0),MATCH(G17,Tranche,0)))+(E17="OUI")*INDEX(Plage,7,MATCH(G17,Tranche,0)))))
I18: =IF(F18="","",IF(AND(G18="Hors Commune",OR(D18="Piano",D18="Guitare")),VLOOKUP(F18,TABLO,9,0)+(E18="OUI")*DONNEES!$H$12,IF(G18="Hors Commune",ECHERCHEV(F18,TABLO,8,0)+(E18="OUI")*DONNEES!$H$12,IF(OR(D18="Piano",D18="Guitare"),INDEX(Plage,MATCH(F18,SOLFEGE,0),MATCH(G18,Tranche,0)+1),INDEX(Plage,MATCH(F18,SOLFEGE,0),MATCH(G18,Tranche,0)))+(E18="OUI")*INDEX(Plage,7,MATCH(G18,Tranche,0)))))
I19: =IF(F19="","",IF(AND(G19="Hors Commune",OR(D19="Piano",D19="Guitare")),VLOOKUP(F19,TABLO,9,0)+(E19="OUI")*DONNEES!$H$12,IF(G19="Hors Commune",ECHERCHEV(F19,TABLO,8,0)+(E19="OUI")*DONNEES!$H$12,IF(OR(D19="Piano",D19="Guitare"),INDEX(Plage,MATCH(F19,SOLFEGE,0),MATCH(G19,Tranche,0)+1),INDEX(Plage,MATCH(F19,SOLFEGE,0),MATCH(G19,Tranche,0)))+(E19="OUI")*INDEX(Plage,7,MATCH(G19,Tranche,0)))))
... I99: =IF(F99="","",IF(AND(G99="Hors Commune",OR(D99="Piano",D99="Guitare")),VLOOKUP(F99,TABLO,9,0)+(E99="OUI")*DONNEES!$H$12,IF(G99="Hors Commune",ECHERCHEV(F99,TABLO,8,0)+(E99="OUI")*DONNEES!$H$12,IF(OR(D99="Piano",D99="Guitare"),INDEX(Plage,MATCH(F99,SOLFEGE,0),MATCH(G99,Tranche,0)+1),INDEX(Plage,MATCH(F99,SOLFEGE,0),MATCH(G99,Tranche,0)))+(E99="OUI")*INDEX(Plage,7,MATCH(G99,Tranche,0)))))

Sheet DONNEES
A1: Classe d'orchestre junior | B1: Ensemble de cordes | D1: Opus 45 | F1: Orchestre d'harmonie
A2: Ensemble de percussions | B2: Ensemble de guitare | D2: Ensemble de vents
A5: MUSIQUE | B5: ABC (0 à 710) | C5: TRANCHE ABC PIANO GUITARE | D5: DEF (711 à 1100) | E5: TRANCHE DEF PIANO GUITARE | F5: GHIJ (1101 et +) | G5: TRANCHE GHIJ PIANO GUITARE | H5: Hors Commune | I5: PIANO GUITARE HORS COMMUNE
A6: Solfège seul | B6: 53 | D6: 75 | F6: 93 | H6: 150
A7: Instrument seul | B7: 82 | C7: 90 | D7: 99 | E7: 109 | F7: 133 | G7: 146 | H7: 333 | I7: 600
A8: Solfège + instrument | B8: 125 | C8: 133 | D8: 151 | E8: 161 | F8: 203 | G8: 216 | H8: 458 | I8: 693
A9: Solfège -50% | B9: 27 | D9: 38 | F9: 47
A10: Instrument -50% | B10: 41 | C10: 45 | D10: 50 | E10: 55 | F10: 67 | G10: 73
A11: Solfège + instrument -50% | B11: 62 | C11: 66 | D11: 76 | E11: 81 | F11: 102 | G11: 108
A12: location instrument | B12: 89 | D12: 95 | F12: 100 | H12: 105
A14: INTRUMENTS | B14: TRANCHES | D14: SOLFEGE | G14: LOCATION INSTRUMENT | I14: NIVEAU
A15: Alto | B15: ABC (0 à 710) | D15: Solfège seul | G15: non | I15: 1re
A16: Chant | B16: DEF (711 à 1100) | D16: Instrument seul | G16: oui | I16: 2ème
A17: Clarinette | B17: GHIJ (1101 et +) | D17: Solfège + instrument | I17: 3ème
A18: Cor d'Harmonie | B18: Hors Commune | D18: Solfège -50% | I18: 4ème
A19: Flûte traversière | D19: Instrument -50% | I19: 5ème
A20: Guitare | D20: Solfège + instrument -50% | I20: 6ème
A21: Hautbois
A22: Orgue d'Eglise
A23: Percussions + Batterie
A24: Piano
A25: Saxophone
A26: Trombone
A27: Trompette
A28: Tuba
A29: Violon
A30: Violoncelle

Sheet Feuil3
