Workbook

Sheet Feuil1
G3: Challenge 2010-2011
D4: Place | E4: Nom | F4: Total Parties | G4: Total Points | H4: Moyenne Points | I4: Argent Joué | J4: Argent Gagné | K4: Gain | L4: Gain / Partie | M4: Place Parties
D5: 1 | E5: Fabio | F5: 34 | G5: 226 | H5: =G5/F5 -> 6.6470588 | I5: =F5*10 -> 340 | J5: 510 | K5: =J5-I5 -> 170 | L5: =K5/F5 -> 5 | M5: =RANK(F5,$F$5:$F$15,0)+COUNTIF($F$5:F5,F5)-1 -> 3
D6: 2 | E6: Nico | F6: 18 | G6: 119 | H6: =G6/F6 -> 6.6111111 | I6: =F6*10 -> 180 | J6: 310 | K6: =J6-I6 -> 130 | L6: =K6/F6 -> 7.2222222 | M6: =RANK(F6,$F$5:$F$15,0)+COUNTIF($F$5:F6,F6)-1 -> 9
D7: 3 | E7: Thierry | F7: 30 | G7: 183 | H7: =G7/F7 -> 6.1 | I7: =F7*10 -> 300 | J7: 435 | K7: =J7-I7 -> 135 | L7: =K7/F7 -> 4.5 | M7: =RANK(F7,$F$5:$F$15,0)+COUNTIF($F$5:F7,F7)-1 -> 4
D8: 4 | E8: Tony | F8: 41 | G8: 214 | H8: =G8/F8 -> 5.2195122 | I8: =F8*10 -> 410 | J8: 445 | K8: =J8-I8 -> 35 | L8: =K8/F8 -> 0.85365854 | M8: =RANK(F8,$F$5:$F$15,0)+COUNTIF($F$5:F8,F8)-1 -> 2
D9: 5 | E9: Didier | F9: 43 | G9: 209 | H9: =G9/F9 -> 4.8604651 | I9: =F9*10 -> 430 | J9: 455 | K9: =J9-I9 -> 25 | L9: =K9/F9 -> 0.58139535 | M9: =RANK(F9,$F$5:$F$15,0)+COUNTIF($F$5:F9,F9)-1 -> 1
D10: 6 | E10: Virginie | F10: 16 | G10: 74 | H10: =G10/F10 -> 4.625 | I10: =F10*10 -> 160 | J10: 130 | K10: =J10-I10 -> -30 | L10: =K10/F10 -> -1.875 | M10: =RANK(F10,$F$5:$F$15,0)+COUNTIF($F$5:F10,F10)-1 -> 11
D11: 7 | E11: Severin | F11: 22 | G11: 94 | H11: =G11/F11 -> 4.2727273 | I11: =F11*10 -> 220 | J11: 175 | K11: =J11-I11 -> -45 | L11: =K11/F11 -> -2.0454545 | M11: =RANK(F11,$F$5:$F$15,0)+COUNTIF($F$5:F11,F11)-1 -> 7
D12: 8 | E12: Sebastien | F12: 24 | G12: 95 | H12: =G12/F12 -> 3.9583333 | I12: =F12*10 -> 240 | J12: 205 | K12: =J12-I12 -> -35 | L12: =K12/F12 -> -1.4583333 | M12: =RANK(F12,$F$5:$F$15,0)+COUNTIF($F$5:F12,F12)-1 -> 6
D13: 9 | E13: Lionel | F13: 19 | G13: 72 | H13: =G13/F13 -> 3.7894737 | I13: =F13*10 -> 190 | J13: 115 | K13: =J13-I13 -> -75 | L13: =K13/F13 -> -3.9473684 | M13: =RANK(F13,$F$5:$F$15,0)+COUNTIF($F$5:F13,F13)-1 -> 8
D14: 10 | E14: Pedro | F14: 30 | G14: 95 | H14: =G14/F14 -> 3.1666667 | I14: =F14*10 -> 300 | J14: 165 | K14: =J14-I14 -> -135 | L14: =K14/F14 -> -4.5 | M14: =RANK(F14,$F$5:$F$15,0)+COUNTIF($F$5:F14,F14)-1 -> 5
D15: 11 | E15: Rodrigue | F15: 18 | G15: 48 | H15: =G15/F15 -> 2.6666667 | I15: =F15*10 -> 180 | J15: 45 | K15: =J15-I15 -> -135 | L15: =K15/F15 -> -7.5 | M15: =RANK(F15,$F$5:$F$15,0)+COUNTIF($F$5:F15,F15)-1 -> 10

Sheet Classement
C1: Place | D1: Nom | E1: MOYENNE
A2: =IF(LARGE(Feuil1!$F$5:$F$15,ROWS($1:1))>=MAX(Feuil1!$F$5:$F$15)*60%,INDEX(Feuil1!$H$5:$H$15,MATCH(C2,Feuil1!$M$5:$M$15,0)),"") -> 4.8604651 | C2: 1 | D2: =IF(E2="","",INDEX(Feuil1!$E$5:$E$15,MATCH(E2,Feuil1!$H$5:$H$15,0))) -> Fabio | E2: =IF(A2="","",LARGE($A$2:$A$12,ROWS($1:1))) -> 6.6470588
A3: =IF(LARGE(Feuil1!$F$5:$F$15,ROWS($1:2))>=MAX(Feuil1!$F$5:$F$15)*60%,INDEX(Feuil1!$H$5:$H$15,MATCH(C3,Feuil1!$M$5:$M$15,0)),"") -> 5.2195122 | C3: 2 | D3: =IF(E3="","",INDEX(Feuil1!$E$5:$E$15,MATCH(E3,Feuil1!$H$5:$H$15,0))) -> Thierry | E3: =IF(A3="","",LARGE($A$2:$A$12,ROWS($1:2))) -> 6.1
A4: =IF(LARGE(Feuil1!$F$5:$F$15,ROWS($1:3))>=MAX(Feuil1!$F$5:$F$15)*60%,INDEX(Feuil1!$H$5:$H$15,MATCH(C4,Feuil1!$M$5:$M$15,0)),"") -> 6.6470588 | C4: 3 | D4: =IF(E4="","",INDEX(Feuil1!$E$5:$E$15,MATCH(E4,Feuil1!$H$5:$H$15,0))) -> Tony | E4: =IF(A4="","",LARGE($A$2:$A$12,ROWS($1:3))) -> 5.2195122
A5: =IF(LARGE(Feuil1!$F$5:$F$15,ROWS($1:4))>=MAX(Feuil1!$F$5:$F$15)*60%,INDEX(Feuil1!$H$5:$H$15,MATCH(C5,Feuil1!$M$5:$M$15,0)),"") -> 6.1 | C5: 4 | D5: =IF(E5="","",INDEX(Feuil1!$E$5:$E$15,MATCH(E5,Feuil1!$H$5:$H$15,0))) -> Didier | E5: =IF(A5="","",LARGE($A$2:$A$12,ROWS($1:4))) -> 4.8604651
A6: =IF(LARGE(Feuil1!$F$5:$F$15,ROWS($1:5))>=MAX(Feuil1!$F$5:$F$15)*60%,INDEX(Feuil1!$H$5:$H$15,MATCH(C6,Feuil1!$M$5:$M$15,0)),"") -> 3.1666667 | C6: 5 | D6: =IF(E6="","",INDEX(Feuil1!$E$5:$E$15,MATCH(E6,Feuil1!$H$5:$H$15,0))) -> Pedro | E6: =IF(A6="","",LARGE($A$2:$A$12,ROWS($1:5))) -> 3.1666667
A7: =IF(LARGE(Feuil1!$F$5:$F$15,ROWS($1:6))>=MAX(Feuil1!$F$5:$F$15)*60%,INDEX(Feuil1!$H$5:$H$15,MATCH(C7,Feuil1!$M$5:$M$15,0)),"") | C7: 6 | D7: =IF(E7="","",INDEX(Feuil1!$E$5:$E$15,MATCH(E7,Feuil1!$H$5:$H$15,0))) | E7: =IF(A7="","",LARGE($A$2:$A$12,ROWS($1:6)))
A8: =IF(LARGE(Feuil1!$F$5:$F$15,ROWS($1:7))>=MAX(Feuil1!$F$5:$F$15)*60%,INDEX(Feuil1!$H$5:$H$15,MATCH(C8,Feuil1!$M$5:$M$15,0)),"") | C8: 7 | D8: =IF(E8="","",INDEX(Feuil1!$E$5:$E$15,MATCH(E8,Feuil1!$H$5:$H$15,0))) | E8: =IF(A8="","",LARGE($A$2:$A$12,ROWS($1:7)))
A9: =IF(LARGE(Feuil1!$F$5:$F$15,ROWS($1:8))>=MAX(Feuil1!$F$5:$F$15)*60%,INDEX(Feuil1!$H$5:$H$15,MATCH(C9,Feuil1!$M$5:$M$15,0)),"") | C9: 8 | D9: =IF(E9="","",INDEX(Feuil1!$E$5:$E$15,MATCH(E9,Feuil1!$H$5:$H$15,0))) | E9: =IF(A9="","",LARGE($A$2:$A$12,ROWS($1:8)))
A10: =IF(LARGE(Feuil1!$F$5:$F$15,ROWS($1:9))>=MAX(Feuil1!$F$5:$F$15)*60%,INDEX(Feuil1!$H$5:$H$15,MATCH(C10,Feuil1!$M$5:$M$15,0)),"") | C10: 9 | D10: =IF(E10="","",INDEX(Feuil1!$E$5:$E$15,MATCH(E10,Feuil1!$H$5:$H$15,0))) | E10: =IF(A10="","",LARGE($A$2:$A$12,ROWS($1:9)))
A11: =IF(LARGE(Feuil1!$F$5:$F$15,ROWS($1:10))>=MAX(Feuil1!$F$5:$F$15)*60%,INDEX(Feuil1!$H$5:$H$15,MATCH(C11,Feuil1!$M$5:$M$15,0)),"") | C11: 10 | D11: =IF(E11="","",INDEX(Feuil1!$E$5:$E$15,MATCH(E11,Feuil1!$H$5:$H$15,0))) | E11: =IF(A11="","",LARGE($A$2:$A$12,ROWS($1:10)))
A12: =IF(LARGE(Feuil1!$F$5:$F$15,ROWS($1:11))>=MAX(Feuil1!$F$5:$F$15)*60%,INDEX(Feuil1!$H$5:$H$15,MATCH(C12,Feuil1!$M$5:$M$15,0)),"") | C12: 11 | D12: =IF(E12="","",INDEX(Feuil1!$E$5:$E$15,MATCH(E12,Feuil1!$H$5:$H$15,0))) | E12: =IF(A12="","",LARGE($A$2:$A$12,ROWS($1:11)))
