Workbook
Name ColGroupe: OFFSET(ColRef,,1)
Name ColRef: OFFSET(Feuil1!$A$1,,,COUNTA(Feuil1!$A:$A))
Name Groupe: OFFSET(ColGroupe,1,,COUNTA(ColGroupe)-1)

Sheet Feuil1
A1: REF | B1: GROUPE | D1: Formule en B2 à tirer vers le bas
A2: 10300-12 | B2: =LEFT(A2,5) -> 10300 | D2: =GAUCHE(A2;5)
A3: 10300-13 | B3: =LEFT(A3,5) -> 10300
A4: 10300-14 | B4: =LEFT(A4,5) -> 10300
A5: 22500-11 | B5: =LEFT(A5,5) -> 22500
A6: 22500-12 | B6: =LEFT(A6,5) -> 22500
A7: 32500-11 | B7: =LEFT(A7,5) -> 32500
A8: 32500-15 | B8: =LEFT(A8,5) -> 32500
A9: 85800-10 | B9: =LEFT(A9,5) -> 85800
A10: 85800-16 | B10: =LEFT(A10,5) -> 85800
A11: 91011-18 | B11: =LEFT(A11,5) -> 91011
A12: 12345-01 | B12: =LEFT(A12,5) -> 12345
A13: 34567-02 | B13: =LEFT(A13,5) -> 34567

Sheet Feuil2
A1: GROUPE | I1: NOMS DEFINIS
A2: {=IFERROR(OFFSET(Feuil1!$B$1,MATCH(0,COUNTIF(A$1:A1,Groupe),0),),"")} -> 10300 | B2: =IF(COUNTIF(ColGroupe,$A2)<COLUMN(A:A),"",INDEX(ColRef,MATCH($A2,ColGroupe,0)+COLUMN(A:A)-1)) -> 10300-12 | C2: =IF(COUNTIF(ColGroupe,$A2)<COLUMN(B:B),"",INDEX(ColRef,MATCH($A2,ColGroupe,0)+COLUMN(B:B)-1)) -> 10300-13 | D2: =IF(COUNTIF(ColGroupe,$A2)<COLUMN(C:C),"",INDEX(ColRef,MATCH($A2,ColGroupe,0)+COLUMN(C:C)-1)) -> 10300-14 | E2: =IF(COUNTIF(ColGroupe,$A2)<COLUMN(D:D),"",INDEX(ColRef,MATCH($A2,ColGroupe,0)+COLUMN(D:D)-1)) | F2: =IF(COUNTIF(ColGroupe,$A2)<COLUMN(E:E),"",INDEX(ColRef,MATCH($A2,ColGroupe,0)+COLUMN(E:E)-1)) | G2: =IF(COUNTIF(ColGroupe,$A2)<COLUMN(F:F),"",INDEX(ColRef,MATCH($A2,ColGroupe,0)+COLUMN(F:F)-1)) | H2: =IF(COUNTIF(ColGroupe,$A2)<COLUMN(G:G),"",INDEX(ColRef,MATCH($A2,ColGroupe,0)+COLUMN(G:G))) | I2: ColRef | J2: =DECALER(Feuil1!$A$1;;;NBVAL(Feuil1!$A:$A))
A3: {=IFERROR(OFFSET(Feuil1!$B$1,MATCH(0,COUNTIF(A$1:A2,Groupe),0),),"")} -> 22500 | B3: =IF(COUNTIF(ColGroupe,$A3)<COLUMN(A:A),"",INDEX(ColRef,MATCH($A3,ColGroupe,0)+COLUMN(A:A)-1)) -> 22500-11 | C3: =IF(COUNTIF(ColGroupe,$A3)<COLUMN(B:B),"",INDEX(ColRef,MATCH($A3,ColGroupe,0)+COLUMN(B:B)-1)) -> 22500-12 | D3: =IF(COUNTIF(ColGroupe,$A3)<COLUMN(C:C),"",INDEX(ColRef,MATCH($A3,ColGroupe,0)+COLUMN(C:C)-1)) | E3: =IF(COUNTIF(ColGroupe,$A3)<COLUMN(D:D),"",INDEX(ColRef,MATCH($A3,ColGroupe,0)+COLUMN(D:D)-1)) | F3: =IF(COUNTIF(ColGroupe,$A3)<COLUMN(E:E),"",INDEX(ColRef,MATCH($A3,ColGroupe,0)+COLUMN(E:E)-1)) | G3: =IF(COUNTIF(ColGroupe,$A3)<COLUMN(F:F),"",INDEX(ColRef,MATCH($A3,ColGroupe,0)+COLUMN(F:F)-1)) | I3: ColGroupe | J3: =DECALER(ColRef;;1)
A4: {=IFERROR(OFFSET(Feuil1!$B$1,MATCH(0,COUNTIF(A$1:A3,Groupe),0),),"")} -> 32500 | B4: =IF(COUNTIF(ColGroupe,$A4)<COLUMN(A:A),"",INDEX(ColRef,MATCH($A4,ColGroupe,0)+COLUMN(A:A)-1)) -> 32500-11 | C4: =IF(COUNTIF(ColGroupe,$A4)<COLUMN(B:B),"",INDEX(ColRef,MATCH($A4,ColGroupe,0)+COLUMN(B:B)-1)) -> 32500-15 | D4: =IF(COUNTIF(ColGroupe,$A4)<COLUMN(C:C),"",INDEX(ColRef,MATCH($A4,ColGroupe,0)+COLUMN(C:C)-1)) | E4: =IF(COUNTIF(ColGroupe,$A4)<COLUMN(D:D),"",INDEX(ColRef,MATCH($A4,ColGroupe,0)+COLUMN(D:D)-1)) | F4: =IF(COUNTIF(ColGroupe,$A4)<COLUMN(E:E),"",INDEX(ColRef,MATCH($A4,ColGroupe,0)+COLUMN(E:E)-1)) | G4: =IF(COUNTIF(ColGroupe,$A4)<COLUMN(F:F),"",INDEX(ColRef,MATCH($A4,ColGroupe,0)+COLUMN(F:F)-1)) | I4: Groupe | J4: =DECALER(ColGroupe;1;;NBVAL(ColGroupe)-1)
A5: {=IFERROR(OFFSET(Feuil1!$B$1,MATCH(0,COUNTIF(A$1:A4,Groupe),0),),"")} -> 85800 | B5: =IF(COUNTIF(ColGroupe,$A5)<COLUMN(A:A),"",INDEX(ColRef,MATCH($A5,ColGroupe,0)+COLUMN(A:A)-1)) -> 85800-10 | C5: =IF(COUNTIF(ColGroupe,$A5)<COLUMN(B:B),"",INDEX(ColRef,MATCH($A5,ColGroupe,0)+COLUMN(B:B)-1)) -> 85800-16 | D5: =IF(COUNTIF(ColGroupe,$A5)<COLUMN(C:C),"",INDEX(ColRef,MATCH($A5,ColGroupe,0)+COLUMN(C:C)-1)) | E5: =IF(COUNTIF(ColGroupe,$A5)<COLUMN(D:D),"",INDEX(ColRef,MATCH($A5,ColGroupe,0)+COLUMN(D:D)-1)) | F5: =IF(COUNTIF(ColGroupe,$A5)<COLUMN(E:E),"",INDEX(ColRef,MATCH($A5,ColGroupe,0)+COLUMN(E:E)-1)) | G5: =IF(COUNTIF(ColGroupe,$A5)<COLUMN(F:F),"",INDEX(ColRef,MATCH($A5,ColGroupe,0)+COLUMN(F:F)-1))
A6: {=IFERROR(OFFSET(Feuil1!$B$1,MATCH(0,COUNTIF(A$1:A5,Groupe),0),),"")} -> 91011 | B6: =IF(COUNTIF(ColGroupe,$A6)<COLUMN(A:A),"",INDEX(ColRef,MATCH($A6,ColGroupe,0)+COLUMN(A:A)-1)) -> 91011-18 | C6: =IF(COUNTIF(ColGroupe,$A6)<COLUMN(B:B),"",INDEX(ColRef,MATCH($A6,ColGroupe,0)+COLUMN(B:B)-1)) | D6: =IF(COUNTIF(ColGroupe,$A6)<COLUMN(C:C),"",INDEX(ColRef,MATCH($A6,ColGroupe,0)+COLUMN(C:C)-1)) | E6: =IF(COUNTIF(ColGroupe,$A6)<COLUMN(D:D),"",INDEX(ColRef,MATCH($A6,ColGroupe,0)+COLUMN(D:D)-1)) | F6: =IF(COUNTIF(ColGroupe,$A6)<COLUMN(E:E),"",INDEX(ColRef,MATCH($A6,ColGroupe,0)+COLUMN(E:E)-1)) | G6: =IF(COUNTIF(ColGroupe,$A6)<COLUMN(F:F),"",INDEX(ColRef,MATCH($A6,ColGroupe,0)+COLUMN(F:F)-1)) | I6: Formule en A2 à tirer vers le bas
A7: {=IFERROR(OFFSET(Feuil1!$B$1,MATCH(0,COUNTIF(A$1:A6,Groupe),0),),"")} -> 12345 | B7: =IF(COUNTIF(ColGroupe,$A7)<COLUMN(A:A),"",INDEX(ColRef,MATCH($A7,ColGroupe,0)+COLUMN(A:A)-1)) -> 12345-01 | C7: =IF(COUNTIF(ColGroupe,$A7)<COLUMN(B:B),"",INDEX(ColRef,MATCH($A7,ColGroupe,0)+COLUMN(B:B)-1)) | D7: =IF(COUNTIF(ColGroupe,$A7)<COLUMN(C:C),"",INDEX(ColRef,MATCH($A7,ColGroupe,0)+COLUMN(C:C)-1)) | E7: =IF(COUNTIF(ColGroupe,$A7)<COLUMN(D:D),"",INDEX(ColRef,MATCH($A7,ColGroupe,0)+COLUMN(D:D)-1)) | F7: =IF(COUNTIF(ColGroupe,$A7)<COLUMN(E:E),"",INDEX(ColRef,MATCH($A7,ColGroupe,0)+COLUMN(E:E)-1)) | G7: =IF(COUNTIF(ColGroupe,$A7)<COLUMN(F:F),"",INDEX(ColRef,MATCH($A7,ColGroupe,0)+COLUMN(F:F)-1)) | I7: =SIERREUR(DECALER(Feuil1!$B$1;EQUIV(0;NB.SI(A$1:A1;Groupe);0););"") Validation Matricielle
A8: {=IFERROR(OFFSET(Feuil1!$B$1,MATCH(0,COUNTIF(A$1:A7,Groupe),0),),"")} -> 34567 | B8: =IF(COUNTIF(ColGroupe,$A8)<COLUMN(A:A),"",INDEX(ColRef,MATCH($A8,ColGroupe,0)+COLUMN(A:A)-1)) -> 34567-02 | C8: =IF(COUNTIF(ColGroupe,$A8)<COLUMN(B:B),"",INDEX(ColRef,MATCH($A8,ColGroupe,0)+COLUMN(B:B)-1)) | D8: =IF(COUNTIF(ColGroupe,$A8)<COLUMN(C:C),"",INDEX(ColRef,MATCH($A8,ColGroupe,0)+COLUMN(C:C)-1)) | E8: =IF(COUNTIF(ColGroupe,$A8)<COLUMN(D:D),"",INDEX(ColRef,MATCH($A8,ColGroupe,0)+COLUMN(D:D)-1)) | F8: =IF(COUNTIF(ColGroupe,$A8)<COLUMN(E:E),"",INDEX(ColRef,MATCH($A8,ColGroupe,0)+COLUMN(E:E)-1)) | G8: =IF(COUNTIF(ColGroupe,$A8)<COLUMN(F:F),"",INDEX(ColRef,MATCH($A8,ColGroupe,0)+COLUMN(F:F)-1))
A9: {=IFERROR(OFFSET(Feuil1!$B$1,MATCH(0,COUNTIF(A$1:A8,Groupe),0),),"")} | B9: =IF(COUNTIF(ColGroupe,$A9)<COLUMN(A:A),"",INDEX(ColRef,MATCH($A9,ColGroupe,0)+COLUMN(A:A)-1)) | C9: =IF(COUNTIF(ColGroupe,$A9)<COLUMN(B:B),"",INDEX(ColRef,MATCH($A9,ColGroupe,0)+COLUMN(B:B)-1)) | D9: =IF(COUNTIF(ColGroupe,$A9)<COLUMN(C:C),"",INDEX(ColRef,MATCH($A9,ColGroupe,0)+COLUMN(C:C)-1)) | E9: =IF(COUNTIF(ColGroupe,$A9)<COLUMN(D:D),"",INDEX(ColRef,MATCH($A9,ColGroupe,0)+COLUMN(D:D)-1)) | F9: =IF(COUNTIF(ColGroupe,$A9)<COLUMN(E:E),"",INDEX(ColRef,MATCH($A9,ColGroupe,0)+COLUMN(E:E)-1)) | G9: =IF(COUNTIF(ColGroupe,$A9)<COLUMN(F:F),"",INDEX(ColRef,MATCH($A9,ColGroupe,0)+COLUMN(F:F)-1))
A10: {=IFERROR(OFFSET(Feuil1!$B$1,MATCH(0,COUNTIF(A$1:A9,Groupe),0),),"")} | B10: =IF(COUNTIF(ColGroupe,$A10)<COLUMN(A:A),"",INDEX(ColRef,MATCH($A10,ColGroupe,0)+COLUMN(A:A)-1)) | C10: =IF(COUNTIF(ColGroupe,$A10)<COLUMN(B:B),"",INDEX(ColRef,MATCH($A10,ColGroupe,0)+COLUMN(B:B)-1)) | D10: =IF(COUNTIF(ColGroupe,$A10)<COLUMN(C:C),"",INDEX(ColRef,MATCH($A10,ColGroupe,0)+COLUMN(C:C)-1)) | E10: =IF(COUNTIF(ColGroupe,$A10)<COLUMN(D:D),"",INDEX(ColRef,MATCH($A10,ColGroupe,0)+COLUMN(D:D)-1)) | F10: =IF(COUNTIF(ColGroupe,$A10)<COLUMN(E:E),"",INDEX(ColRef,MATCH($A10,ColGroupe,0)+COLUMN(E:E)-1)) | G10: =IF(COUNTIF(ColGroupe,$A10)<COLUMN(F:F),"",INDEX(ColRef,MATCH($A10,ColGroupe,0)+COLUMN(F:F)-1)) | I10: Formule en B2 à tirer vers la droite et vers le bas
A11: {=IFERROR(OFFSET(Feuil1!$B$1,MATCH(0,COUNTIF(A$1:A10,Groupe),0),),"")} | B11: =IF(COUNTIF(ColGroupe,$A11)<COLUMN(A:A),"",INDEX(ColRef,MATCH($A11,ColGroupe,0)+COLUMN(A:A)-1)) | C11: =IF(COUNTIF(ColGroupe,$A11)<COLUMN(B:B),"",INDEX(ColRef,MATCH($A11,ColGroupe,0)+COLUMN(B:B)-1)) | D11: =IF(COUNTIF(ColGroupe,$A11)<COLUMN(C:C),"",INDEX(ColRef,MATCH($A11,ColGroupe,0)+COLUMN(C:C)-1)) | E11: =IF(COUNTIF(ColGroupe,$A11)<COLUMN(D:D),"",INDEX(ColRef,MATCH($A11,ColGroupe,0)+COLUMN(D:D)-1)) | F11: =IF(COUNTIF(ColGroupe,$A11)<COLUMN(E:E),"",INDEX(ColRef,MATCH($A11,ColGroupe,0)+COLUMN(E:E)-1)) | G11: =IF(COUNTIF(ColGroupe,$A11)<COLUMN(F:F),"",INDEX(ColRef,MATCH($A11,ColGroupe,0)+COLUMN(F:F)-1)) | I11: =SI(NB.SI(ColGroupe;$A2)<COLONNE(A:A);"";INDEX(ColRef;EQUIV($A2;ColGroupe;0)+COLONNE(A:A)-1))
A12: {=IFERROR(OFFSET(Feuil1!$B$1,MATCH(0,COUNTIF(A$1:A11,Groupe),0),),"")} | B12: =IF(COUNTIF(ColGroupe,$A12)<COLUMN(A:A),"",INDEX(ColRef,MATCH($A12,ColGroupe,0)+COLUMN(A:A)-1)) | C12: =IF(COUNTIF(ColGroupe,$A12)<COLUMN(B:B),"",INDEX(ColRef,MATCH($A12,ColGroupe,0)+COLUMN(B:B)-1)) | D12: =IF(COUNTIF(ColGroupe,$A12)<COLUMN(C:C),"",INDEX(ColRef,MATCH($A12,ColGroupe,0)+COLUMN(C:C)-1)) | E12: =IF(COUNTIF(ColGroupe,$A12)<COLUMN(D:D),"",INDEX(ColRef,MATCH($A12,ColGroupe,0)+COLUMN(D:D)-1)) | F12: =IF(COUNTIF(ColGroupe,$A12)<COLUMN(E:E),"",INDEX(ColRef,MATCH($A12,ColGroupe,0)+COLUMN(E:E)-1)) | G12: =IF(COUNTIF(ColGroupe,$A12)<COLUMN(F:F),"",INDEX(ColRef,MATCH($A12,ColGroupe,0)+COLUMN(F:F)-1))
A13: {=IFERROR(OFFSET(Feuil1!$B$1,MATCH(0,COUNTIF(A$1:A12,Groupe),0),),"")} | B13: =IF(COUNTIF(ColGroupe,$A13)<COLUMN(A:A),"",INDEX(ColRef,MATCH($A13,ColGroupe,0)+COLUMN(A:A)-1)) | C13: =IF(COUNTIF(ColGroupe,$A13)<COLUMN(B:B),"",INDEX(ColRef,MATCH($A13,ColGroupe,0)+COLUMN(B:B)-1)) | D13: =IF(COUNTIF(ColGroupe,$A13)<COLUMN(C:C),"",INDEX(ColRef,MATCH($A13,ColGroupe,0)+COLUMN(C:C)-1)) | E13: =IF(COUNTIF(ColGroupe,$A13)<COLUMN(D:D),"",INDEX(ColRef,MATCH($A13,ColGroupe,0)+COLUMN(D:D)-1)) | F13: =IF(COUNTIF(ColGroupe,$A13)<COLUMN(E:E),"",INDEX(ColRef,MATCH($A13,ColGroupe,0)+COLUMN(E:E)-1)) | G13: =IF(COUNTIF(ColGroupe,$A13)<COLUMN(F:F),"",INDEX(ColRef,MATCH($A13,ColGroupe,0)+COLUMN(F:F)-1))
A14: {=IFERROR(OFFSET(Feuil1!$B$1,MATCH(0,COUNTIF(A$1:A13,Groupe),0),),"")} | B14: =IF(COUNTIF(ColGroupe,$A14)<COLUMN(A:A),"",INDEX(ColRef,MATCH($A14,ColGroupe,0)+COLUMN(A:A)-1)) | C14: =IF(COUNTIF(ColGroupe,$A14)<COLUMN(B:B),"",INDEX(ColRef,MATCH($A14,ColGroupe,0)+COLUMN(B:B)-1)) | D14: =IF(COUNTIF(ColGroupe,$A14)<COLUMN(C:C),"",INDEX(ColRef,MATCH($A14,ColGroupe,0)+COLUMN(C:C)-1)) | E14: =IF(COUNTIF(ColGroupe,$A14)<COLUMN(D:D),"",INDEX(ColRef,MATCH($A14,ColGroupe,0)+COLUMN(D:D)-1)) | F14: =IF(COUNTIF(ColGroupe,$A14)<COLUMN(E:E),"",INDEX(ColRef,MATCH($A14,ColGroupe,0)+COLUMN(E:E)-1)) | G14: =IF(COUNTIF(ColGroupe,$A14)<COLUMN(F:F),"",INDEX(ColRef,MATCH($A14,ColGroupe,0)+COLUMN(F:F)-1))
A15: {=IFERROR(OFFSET(Feuil1!$B$1,MATCH(0,COUNTIF(A$1:A14,Groupe),0),),"")} | B15: =IF(COUNTIF(ColGroupe,$A15)<COLUMN(A:A),"",INDEX(ColRef,MATCH($A15,ColGroupe,0)+COLUMN(A:A)-1)) | C15: =IF(COUNTIF(ColGroupe,$A15)<COLUMN(B:B),"",INDEX(ColRef,MATCH($A15,ColGroupe,0)+COLUMN(B:B)-1)) | D15: =IF(COUNTIF(ColGroupe,$A15)<COLUMN(C:C),"",INDEX(ColRef,MATCH($A15,ColGroupe,0)+COLUMN(C:C)-1)) | E15: =IF(COUNTIF(ColGroupe,$A15)<COLUMN(D:D),"",INDEX(ColRef,MATCH($A15,ColGroupe,0)+COLUMN(D:D)-1)) | F15: =IF(COUNTIF(ColGroupe,$A15)<COLUMN(E:E),"",INDEX(ColRef,MATCH($A15,ColGroupe,0)+COLUMN(E:E)-1)) | G15: =IF(COUNTIF(ColGroupe,$A15)<COLUMN(F:F),"",INDEX(ColRef,MATCH($A15,ColGroupe,0)+COLUMN(F:F)-1))
A16: {=IFERROR(OFFSET(Feuil1!$B$1,MATCH(0,COUNTIF(A$1:A15,Groupe),0),),"")} | B16: =IF(COUNTIF(ColGroupe,$A16)<COLUMN(A:A),"",INDEX(ColRef,MATCH($A16,ColGroupe,0)+COLUMN(A:A)-1)) | C16: =IF(COUNTIF(ColGroupe,$A16)<COLUMN(B:B),"",INDEX(ColRef,MATCH($A16,ColGroupe,0)+COLUMN(B:B)-1)) | D16: =IF(COUNTIF(ColGroupe,$A16)<COLUMN(C:C),"",INDEX(ColRef,MATCH($A16,ColGroupe,0)+COLUMN(C:C)-1)) | E16: =IF(COUNTIF(ColGroupe,$A16)<COLUMN(D:D),"",INDEX(ColRef,MATCH($A16,ColGroupe,0)+COLUMN(D:D)-1)) | F16: =IF(COUNTIF(ColGroupe,$A16)<COLUMN(E:E),"",INDEX(ColRef,MATCH($A16,ColGroupe,0)+COLUMN(E:E)-1)) | G16: =IF(COUNTIF(ColGroupe,$A16)<COLUMN(F:F),"",INDEX(ColRef,MATCH($A16,ColGroupe,0)+COLUMN(F:F)-1))
A17: {=IFERROR(OFFSET(Feuil1!$B$1,MATCH(0,COUNTIF(A$1:A16,Groupe),0),),"")} | B17: =IF(COUNTIF(ColGroupe,$A17)<COLUMN(A:A),"",INDEX(ColRef,MATCH($A17,ColGroupe,0)+COLUMN(A:A)-1)) | C17: =IF(COUNTIF(ColGroupe,$A17)<COLUMN(B:B),"",INDEX(ColRef,MATCH($A17,ColGroupe,0)+COLUMN(B:B)-1)) | D17: =IF(COUNTIF(ColGroupe,$A17)<COLUMN(C:C),"",INDEX(ColRef,MATCH($A17,ColGroupe,0)+COLUMN(C:C)-1)) | E17: =IF(COUNTIF(ColGroupe,$A17)<COLUMN(D:D),"",INDEX(ColRef,MATCH($A17,ColGroupe,0)+COLUMN(D:D)-1)) | F17: =IF(COUNTIF(ColGroupe,$A17)<COLUMN(E:E),"",INDEX(ColRef,MATCH($A17,ColGroupe,0)+COLUMN(E:E)-1)) | G17: =IF(COUNTIF(ColGroupe,$A17)<COLUMN(F:F),"",INDEX(ColRef,MATCH($A17,ColGroupe,0)+COLUMN(F:F)-1))
A18: {=IFERROR(OFFSET(Feuil1!$B$1,MATCH(0,COUNTIF(A$1:A17,Groupe),0),),"")} | B18: =IF(COUNTIF(ColGroupe,$A18)<COLUMN(A:A),"",INDEX(ColRef,MATCH($A18,ColGroupe,0)+COLUMN(A:A)-1)) | C18: =IF(COUNTIF(ColGroupe,$A18)<COLUMN(B:B),"",INDEX(ColRef,MATCH($A18,ColGroupe,0)+COLUMN(B:B)-1)) | D18: =IF(COUNTIF(ColGroupe,$A18)<COLUMN(C:C),"",INDEX(ColRef,MATCH($A18,ColGroupe,0)+COLUMN(C:C)-1)) | E18: =IF(COUNTIF(ColGroupe,$A18)<COLUMN(D:D),"",INDEX(ColRef,MATCH($A18,ColGroupe,0)+COLUMN(D:D)-1)) | F18: =IF(COUNTIF(ColGroupe,$A18)<COLUMN(E:E),"",INDEX(ColRef,MATCH($A18,ColGroupe,0)+COLUMN(E:E)-1)) | G18: =IF(COUNTIF(ColGroupe,$A18)<COLUMN(F:F),"",INDEX(ColRef,MATCH($A18,ColGroupe,0)+COLUMN(F:F)-1))
A19: {=IFERROR(OFFSET(Feuil1!$B$1,MATCH(0,COUNTIF(A$1:A18,Groupe),0),),"")} | B19: =IF(COUNTIF(ColGroupe,$A19)<COLUMN(A:A),"",INDEX(ColRef,MATCH($A19,ColGroupe,0)+COLUMN(A:A)-1)) | C19: =IF(COUNTIF(ColGroupe,$A19)<COLUMN(B:B),"",INDEX(ColRef,MATCH($A19,ColGroupe,0)+COLUMN(B:B)-1)) | D19: =IF(COUNTIF(ColGroupe,$A19)<COLUMN(C:C),"",INDEX(ColRef,MATCH($A19,ColGroupe,0)+COLUMN(C:C)-1)) | E19: =IF(COUNTIF(ColGroupe,$A19)<COLUMN(D:D),"",INDEX(ColRef,MATCH($A19,ColGroupe,0)+COLUMN(D:D)-1)) | F19: =IF(COUNTIF(ColGroupe,$A19)<COLUMN(E:E),"",INDEX(ColRef,MATCH($A19,ColGroupe,0)+COLUMN(E:E)-1)) | G19: =IF(COUNTIF(ColGroupe,$A19)<COLUMN(F:F),"",INDEX(ColRef,MATCH($A19,ColGroupe,0)+COLUMN(F:F)-1))
A20: {=IFERROR(OFFSET(Feuil1!$B$1,MATCH(0,COUNTIF(A$1:A19,Groupe),0),),"")} | B20: =IF(COUNTIF(ColGroupe,$A20)<COLUMN(A:A),"",INDEX(ColRef,MATCH($A20,ColGroupe,0)+COLUMN(A:A)-1)) | C20: =IF(COUNTIF(ColGroupe,$A20)<COLUMN(B:B),"",INDEX(ColRef,MATCH($A20,ColGroupe,0)+COLUMN(B:B)-1)) | D20: =IF(COUNTIF(ColGroupe,$A20)<COLUMN(C:C),"",INDEX(ColRef,MATCH($A20,ColGroupe,0)+COLUMN(C:C)-1)) | E20: =IF(COUNTIF(ColGroupe,$A20)<COLUMN(D:D),"",INDEX(ColRef,MATCH($A20,ColGroupe,0)+COLUMN(D:D)-1)) | F20: =IF(COUNTIF(ColGroupe,$A20)<COLUMN(E:E),"",INDEX(ColRef,MATCH($A20,ColGroupe,0)+COLUMN(E:E)-1)) | G20: =IF(COUNTIF(ColGroupe,$A20)<COLUMN(F:F),"",INDEX(ColRef,MATCH($A20,ColGroupe,0)+COLUMN(F:F)-1))
