Workbook
Name d_inventaire: [1]Bilan!$A$62
Name date_debut: [1]Paramêtres!$B$1
Name f_inventaire: [1]Bilan!$A$63

Sheet Feuil1
D1: Nb
D2: fabriquer
A3: 40599
A4: =A3+1 -> 40600 | D4: =IF([1]Bilan!$B4<>0,'[1]S-33000'!L11-'[1]S-33000'!L10,"")
A5: =A4+1 -> 40601 | D5: =IF([1]Bilan!$B5<>0,'[1]S-33000'!L12-'[1]S-33000'!L11,"") -> 0
A6: =A5+1 -> 40602 | D6: =IF([1]Bilan!$B6<>0,'[1]S-33000'!L13-'[1]S-33000'!L12,"")
A7: =A6+1 -> 40603 | D7: =IF([1]Bilan!$B7<>0,'[1]S-33000'!L14-'[1]S-33000'!L13,"")
A8: =A7+1 -> 40604 | D8: =IF([1]Bilan!$B8<>0,'[1]S-33000'!L15-'[1]S-33000'!L14,"") -> 825475
A9: =A8+1 -> 40605 | D9: =IF([1]Bilan!$B9<>0,'[1]S-33000'!L16-'[1]S-33000'!L15,"") -> 11975.312
A10: =A9+1 -> 40606 | D10: =IF([1]Bilan!$B10<>0,'[1]S-33000'!L17-'[1]S-33000'!L16,"") -> 16271.812
A11: =A10+1 -> 40607 | D11: =IF([1]Bilan!$B11<>0,'[1]S-33000'!L18-'[1]S-33000'!L17,"") -> 12334.812
A12: =A11+1 -> 40608 | D12: =IF([1]Bilan!$B12<>0,'[1]S-33000'!L19-'[1]S-33000'!L18,"") -> 16223.125
A13: =A12+1 -> 40609 | D13: =IF([1]Bilan!$B13<>0,'[1]S-33000'!L20-'[1]S-33000'!L19,"") -> 12164.438
A14: =A13+1 -> 40610 | D14: =IF([1]Bilan!$B14<>0,'[1]S-33000'!L21-'[1]S-33000'!L20,"") -> 12350.75
A15: =A14+1 -> 40611 | D15: =IF([1]Bilan!$B15<>0,'[1]S-33000'!L22-'[1]S-33000'!L21,"") -> 11766.25
... A43: =A42+1 -> 40639 | D43: =IF([1]Bilan!$B43<>0,'[1]S-33000'!L50-'[1]S-33000'!L49,"")
A44: =A43+1 -> 40640

Sheet Feuil2
D1: Nb | G1: Du | H1: Au
D2: fabriquer | G2: 40603 | H2: 40608 | I2: <<== Entrer les dates
A3: 40599 | D3: =IF(AND(A3>=$G$2,A3<=$H$2),INDEX(Feuil1!D:D,MATCH(A3,Feuil1!A:A,0)),"")
A4: =A3+1 -> 40600 | D4: =IF(AND(A4>=$G$2,A4<=$H$2),INDEX(Feuil1!D:D,MATCH(A4,Feuil1!A:A,0)),"")
A5: =A4+1 -> 40601 | D5: =IF(AND(A5>=$G$2,A5<=$H$2),INDEX(Feuil1!D:D,MATCH(A5,Feuil1!A:A,0)),"")
A6: =A5+1 -> 40602 | D6: =IF(AND(A6>=$G$2,A6<=$H$2),INDEX(Feuil1!D:D,MATCH(A6,Feuil1!A:A,0)),"")
A7: =A6+1 -> 40603 | D7: =IF(AND(A7>=$G$2,A7<=$H$2),INDEX(Feuil1!D:D,MATCH(A7,Feuil1!A:A,0)),"")
A8: =A7+1 -> 40604 | D8: =IF(AND(A8>=$G$2,A8<=$H$2),INDEX(Feuil1!D:D,MATCH(A8,Feuil1!A:A,0)),"") -> 825475
A9: =A8+1 -> 40605 | D9: =IF(AND(A9>=$G$2,A9<=$H$2),INDEX(Feuil1!D:D,MATCH(A9,Feuil1!A:A,0)),"") -> 11975.312
A10: =A9+1 -> 40606 | D10: =IF(AND(A10>=$G$2,A10<=$H$2),INDEX(Feuil1!D:D,MATCH(A10,Feuil1!A:A,0)),"") -> 16271.812
A11: =A10+1 -> 40607 | D11: =IF(AND(A11>=$G$2,A11<=$H$2),INDEX(Feuil1!D:D,MATCH(A11,Feuil1!A:A,0)),"") -> 12334.812
A12: =A11+1 -> 40608 | D12: =IF(AND(A12>=$G$2,A12<=$H$2),INDEX(Feuil1!D:D,MATCH(A12,Feuil1!A:A,0)),"") -> 16223.125
A13: =A12+1 -> 40609 | D13: =IF(AND(A13>=$G$2,A13<=$H$2),INDEX(Feuil1!D:D,MATCH(A13,Feuil1!A:A,0)),"")
A14: =A13+1 -> 40610 | D14: =IF(AND(A14>=$G$2,A14<=$H$2),INDEX(Feuil1!D:D,MATCH(A14,Feuil1!A:A,0)),"")
A15: =A14+1 -> 40611 | D15: =IF(AND(A15>=$G$2,A15<=$H$2),INDEX(Feuil1!D:D,MATCH(A15,Feuil1!A:A,0)),"")
... A44: =A43+1 -> 40640 | D44: =IF(AND(A44>=$G$2,A44<=$H$2),INDEX(Feuil1!D:D,MATCH(A44,Feuil1!A:A,0)),"")

Sheet Feuil3
