Workbook
Name CODES_RECETTES: DONNEES!$A$2:$A$141
Name Codesdesrecettes: DONNEES!$A$2:$A$141

Sheet DONNEES
A1: Code | B1: Libellé | C1: ttc1
A2: EF10 | B2: Coupe - 10 ans | C2: 13
A3: EF15 | B3: Coupe - 15 ans | C3: 17
A4: EF18 | B4: Coupe - 18 ans | C4: 21
A5: EF5 | B5: Coupe - 5 ans | C5: 9
A6: EG10 | B6: Coupe - 10 ans | C6: 11
A7: EG18 | B7: Coupe - 18 ans | C7: 14
A8: EG5 | B8: Coupe - 5 ans | C8: 9
A9: FARGILE | B9: 1 FORFAIT ARGILE (4 SOINS -5%) | C9: 179
A10: FRITUEL | B10: 1 FORFAIT RITUEL HUILES 4 SOINS (-5%) | C10: 120
A11: FPOSHUIL | B11: 1 POSE huiles gaia | C11: 5.3
A12: FPOSARG | B12: 1 POSE ARGILE | C12: 21
A13: FRITARG | B13: 1 RITUEL ARGILE | C13: 47
... A141: DOUCShamp.desfamilles | B141: DOUCE NATURE Shampooing des familles | C141: 1

Sheet Tableaux Recettes
A1: Jour | B1: Nom du Client | C1: P/R | D1: Code | E1: Libellé | F1: Prix TTC U | G1: Unité | H1: Total TTC | I1: Mode Rglt | J1: Total Rglt | K1: RECETTES | L1: TOTAL | M1: MODE RGLT | N1: TOTAL
A2: 41760 | B2: DUPONT | C2: P | D2: EF18 | E2: =IF(D2>0,VLOOKUP(D2,DONNEES!$A$2:$C$300,2,0),"") -> Coupe - 18 ans | F2: =IF(D2>0,VLOOKUP(D2,DONNEES!$A$2:$C$300,3,0),"") -> 21 | G2: 3 | H2: =IF(G2>0,F2*G2,"") -> 63 | J2: =IF(I2>0,SUM(H$1:H2)-SUM(J$1:J1),"") | K2: PRESTATION | L2: =SUMIF($C$2:$J$350,"P",$H$2:$H$350) -> 155 | M2: CHQ | N2: =SUMIF($I$2:$I$350,M2,$J$2:$J$350) -> 87
C3: P | D3: EF18 | E3: =IF(D3>0,VLOOKUP(D3,DONNEES!$A$2:$C$300,2,0),"") -> Coupe - 18 ans | F3: =IF(D3>0,VLOOKUP(D3,DONNEES!$A$2:$C$300,3,0),"") -> 21 | G3: 1 | H3: =IF(G3>0,F3*G3,"") -> 21 | J3: =IF(I3>0,SUM(H$1:H3)-SUM(J$1:J2),"") | K3: REVENTE | L3: =SUMIF($C$2:$J$350,"R",$H$2:$H$350) -> 3 | M3: C.B | N3: =SUMIF($I$2:$I$350,M3,$J$2:$J$350) -> 47
C4: R | D4: DOUCFleurdeShamp. | E4: =IF(D4>0,VLOOKUP(D4,DONNEES!$A$2:$C$300,2,0),"") -> DOUCE NATURE Fleur de shampooing | F4: =IF(D4>0,VLOOKUP(D4,DONNEES!$A$2:$C$300,3,0),"") -> 1 | G4: 3 | H4: =IF(G4>0,F4*G4,"") -> 3 | I4: CHQ | J4: =IF(I4>0,SUM(H$1:H4)-SUM(J$1:J3),"") -> 87 | L4: =L2+L3 -> 158 | M4: ESP | N4: =SUMIF($I$2:$I$350,M4,$J$2:$J$350) -> 24 | O4: =SUM(N2:N4) -> 158
A5: 41760 | B5: DURANT | C5: P | D5: EG10 | E5: =IF(D5>0,VLOOKUP(D5,DONNEES!$A$2:$C$300,2,0),"") -> Coupe - 10 ans | F5: =IF(D5>0,VLOOKUP(D5,DONNEES!$A$2:$C$300,3,0),"") -> 11 | G5: 1 | H5: =IF(G5>0,F5*G5,"") -> 11 | J5: =IF(I5>0,SUM(H$1:H5)-SUM(J$1:J4),"")
C6: P | D6: EF10 | E6: =IF(D6>0,VLOOKUP(D6,DONNEES!$A$2:$C$300,2,0),"") -> Coupe - 10 ans | F6: =IF(D6>0,VLOOKUP(D6,DONNEES!$A$2:$C$300,3,0),"") -> 13 | G6: 1 | H6: =IF(G6>0,F6*G6,"") -> 13 | I6: ESP | J6: =IF(I6>0,SUM(H$1:H6)-SUM(J$1:J5),"") -> 24
A7: 41760 | B7: TAARTEMPION | C7: P | D7: FRITARG | E7: =IF(D7>0,VLOOKUP(D7,DONNEES!$A$2:$C$300,2,0),"") -> 1 RITUEL ARGILE | F7: =IF(D7>0,VLOOKUP(D7,DONNEES!$A$2:$C$300,3,0),"") -> 47 | G7: 1 | H7: =IF(G7>0,F7*G7,"") -> 47 | I7: C.B | J7: =IF(I7>0,SUM(H$1:H7)-SUM(J$1:J6),"") -> 47
E8: =IF(D8>0,VLOOKUP(D8,DONNEES!$A$2:$C$300,2,0),"") | F8: =IF(D8>0,VLOOKUP(D8,DONNEES!$A$2:$C$300,3,0),"") | H8: =IF(G8>0,F8*G8,"") | J8: =IF(I8>0,SUM(H$1:H8)-SUM(J$1:J7),"")
E9: =IF(D9>0,VLOOKUP(D9,DONNEES!$A$2:$C$300,2,0),"") | F9: =IF(D9>0,VLOOKUP(D9,DONNEES!$A$2:$C$300,3,0),"") | H9: =IF(G9>0,F9*G9,"") | J9: =IF(I9>0,SUM(H$1:H9)-SUM(J$1:J8),"")
E10: =IF(D10>0,VLOOKUP(D10,DONNEES!$A$2:$C$300,2,0),"") | F10: =IF(D10>0,VLOOKUP(D10,DONNEES!$A$2:$C$300,3,0),"") | H10: =IF(G10>0,F10*G10,"") | J10: =IF(I10>0,SUM(H$1:H10)-SUM(J$1:J9),"")
E11: =IF(D11>0,VLOOKUP(D11,DONNEES!$A$2:$C$300,2,0),"") | F11: =IF(D11>0,VLOOKUP(D11,DONNEES!$A$2:$C$300,3,0),"") | H11: =IF(G11>0,F11*G11,"") | J11: =IF(I11>0,SUM(H$1:H11)-SUM(J$1:J10),"")
E12: =IF(D12>0,VLOOKUP(D12,DONNEES!$A$2:$C$300,2,0),"") | F12: =IF(D12>0,VLOOKUP(D12,DONNEES!$A$2:$C$300,3,0),"") | H12: =IF(G12>0,F12*G12,"") | J12: =IF(I12>0,SUM(H$1:H12)-SUM(J$1:J11),"")
E13: =IF(D13>0,VLOOKUP(D13,DONNEES!$A$2:$C$300,2,0),"") | F13: =IF(D13>0,VLOOKUP(D13,DONNEES!$A$2:$C$300,3,0),"") | H13: =IF(G13>0,F13*G13,"") | J13: =IF(I13>0,SUM(H$1:H13)-SUM(J$1:J12),"")
E14: =IF(D14>0,VLOOKUP(D14,DONNEES!$A$2:$C$300,2,0),"") | F14: =IF(D14>0,VLOOKUP(D14,DONNEES!$A$2:$C$300,3,0),"") | H14: =IF(G14>0,F14*G14,"") | J14: =IF(I14>0,SUM(H$1:H14)-SUM(J$1:J13),"")
E15: =IF(D15>0,VLOOKUP(D15,DONNEES!$A$2:$C$300,2,0),"") | F15: =IF(D15>0,VLOOKUP(D15,DONNEES!$A$2:$C$300,3,0),"") | H15: =IF(G15>0,F15*G15,"") | J15: =IF(I15>0,SUM(H$1:H15)-SUM(J$1:J14),"")
E16: =IF(D16>0,VLOOKUP(D16,DONNEES!$A$2:$C$300,2,0),"") | F16: =IF(D16>0,VLOOKUP(D16,DONNEES!$A$2:$C$300,3,0),"") | H16: =IF(G16>0,F16*G16,"") | J16: =IF(I16>0,SUM(H$1:H16)-SUM(J$1:J15),"")
E17: =IF(D17>0,VLOOKUP(D17,DONNEES!$A$2:$C$300,2,0),"") | F17: =IF(D17>0,VLOOKUP(D17,DONNEES!$A$2:$C$300,3,0),"") | H17: =IF(G17>0,F17*G17,"") | J17: =IF(I17>0,SUM(H$1:H17)-SUM(J$1:J16),"")
E18: =IF(D18>0,VLOOKUP(D18,DONNEES!$A$2:$C$300,2,0),"") | F18: =IF(D18>0,VLOOKUP(D18,DONNEES!$A$2:$C$300,3,0),"") | H18: =IF(G18>0,F18*G18,"") | J18: =IF(I18>0,SUM(H$1:H18)-SUM(J$1:J17),"")
E19: =IF(D19>0,VLOOKUP(D19,DONNEES!$A$2:$C$300,2,0),"") | F19: =IF(D19>0,VLOOKUP(D19,DONNEES!$A$2:$C$300,3,0),"") | H19: =IF(G19>0,F19*G19,"") | J19: =IF(I19>0,SUM(H$1:H19)-SUM(J$1:J18),"")
... E350: =IF(D350>0,VLOOKUP(D350,DONNEES!$A$2:$C$300,2,0),"") | F350: =IF(D350>0,VLOOKUP(D350,DONNEES!$A$2:$C$300,3,0),"") | H350: =IF(G350>0,F350*G350,"") | J350: =IF(I350>0,SUM(H$1:H350)-SUM(J$1:J349),"")

Sheet Feuil2

Sheet Feuil3
