Workbook

Sheet donées Brutes
A1: Sexe | B1: Je souhaite particper à l'étude | C1: Je me sens de bonne humeur, aimable. | D1: Je me sens nerveux (nerveuse) et agité(e) | E1: Je me sens content(e) de moi. | F1: Je voudrais être aussi heureux (heureuse) que les autres semblent l'être. | G1: J'ai un sentiment d'échec. | H1: Je me sens reposé(e). | I1: J'ai tout mon sang-froid. | J1: J'ai l'impression que les difficultés s'accumulent à un tel point que je peux plus les surmonter. | K1: Je m'inquiète à propos de choses sans importance. | L1: Je suis heureux(se). | M1: J'ai des pensées qui me pertubent. | N1: Je manque de confiance en moi. | O1: Je me sens sans inquiétude, en sécurité, en sûreté. | P1: Je prends facilement des décisions. | Q1: Je me sens incompétent(e), pas à la hauteur. | R1: Je suis satisfait(e). | S1: Des idées sans importance trottent dans ma tête, me dérangent. | T1: Je prends les déceptions tellement à coeur que je les oublie difficilement. | U1: Je suis une personne posée, solide, stable. | V1: Je deviens tendu(e) et agité(e) quand je réfléchis à mes soucis.
A2: Femme | B2: Oui | C2: Presque toujours | D2: Parfois | E2: Souvent | F2: Presque jamais | G2: Parfois | H2: Parfois | I2: Presque toujours | J2: Presque jamais | K2: Presque jamais | L2: Souvent | M2: Presque jamais | N2: Parfois | O2: Parfois | P2: Souvent | Q2: Parfois | R2: Souvent | S2: Presque jamais | T2: Presque jamais | U2: Presque toujours | V2: Presque jamais
A3: Homme | B3: Oui | C3: Souvent | D3: Presque jamais | E3: Souvent | F3: Souvent | G3: Presque jamais | H3: Souvent | I3: Presque toujours | J3: Parfois | K3: Presque jamais | L3: Souvent | M3: Parfois | N3: Parfois | O3: Parfois | P3: Souvent | Q3: Presque toujours | R3: Parfois | S3: Parfois | T3: Souvent | U3: Souvent | V3: Presque jamais

Sheet données numérique
A1: Sujet 1 | B1: sujet 2 | C1: Sujet 3 | D1: Sujet 4 | E1: Sujet 5
A2: =VLOOKUP(INDIRECT("'donées Brutes"&"'!"&ADDRESS(COLUMN()+1,ROW()+1)),'données numérique'!$G$24:$H$27,2,0) -> 1 | B2: =VLOOKUP(INDIRECT("'donées Brutes"&"'!"&ADDRESS(COLUMN()+1,ROW()+1)),'données numérique'!$G$24:$H$27,2,0) -> 3 | C2: =VLOOKUP(INDIRECT("'donées Brutes"&"'!"&ADDRESS(COLUMN()+1,ROW()+1)),'données numérique'!$G$24:$H$27,2,0) -> #N/A | D2: =VLOOKUP(INDIRECT("'donées Brutes"&"'!"&ADDRESS(COLUMN()+1,ROW()+1)),'données numérique'!$G$24:$H$27,2,0) -> #N/A | E2: =VLOOKUP(INDIRECT("'donées Brutes"&"'!"&ADDRESS(COLUMN()+1,ROW()+1)),'données numérique'!$G$24:$H$27,2,0) -> #N/A
A3: =VLOOKUP(INDIRECT("'donées Brutes"&"'!"&ADDRESS(COLUMN()+1,ROW()+1)),'données numérique'!$G$24:$H$27,2,0) -> 2 | B3: =VLOOKUP(INDIRECT("'donées Brutes"&"'!"&ADDRESS(COLUMN()+1,ROW()+1)),'données numérique'!$G$24:$H$27,2,0) -> 4 | C3: =VLOOKUP(INDIRECT("'donées Brutes"&"'!"&ADDRESS(COLUMN()+1,ROW()+1)),'données numérique'!$G$24:$H$27,2,0) -> #N/A | D3: =VLOOKUP(INDIRECT("'donées Brutes"&"'!"&ADDRESS(COLUMN()+1,ROW()+1)),'données numérique'!$G$24:$H$27,2,0) -> #N/A | E3: =VLOOKUP(INDIRECT("'donées Brutes"&"'!"&ADDRESS(COLUMN()+1,ROW()+1)),'données numérique'!$G$24:$H$27,2,0) -> #N/A
A4: =VLOOKUP(INDIRECT("'donées Brutes"&"'!"&ADDRESS(COLUMN()+1,ROW()+1)),'données numérique'!$G$24:$H$27,2,0) -> 3 | B4: =VLOOKUP(INDIRECT("'donées Brutes"&"'!"&ADDRESS(COLUMN()+1,ROW()+1)),'données numérique'!$G$24:$H$27,2,0) -> 3 | C4: =VLOOKUP(INDIRECT("'donées Brutes"&"'!"&ADDRESS(COLUMN()+1,ROW()+1)),'données numérique'!$G$24:$H$27,2,0) -> #N/A | D4: =VLOOKUP(INDIRECT("'donées Brutes"&"'!"&ADDRESS(COLUMN()+1,ROW()+1)),'données numérique'!$G$24:$H$27,2,0) -> #N/A | E4: =VLOOKUP(INDIRECT("'donées Brutes"&"'!"&ADDRESS(COLUMN()+1,ROW()+1)),'données numérique'!$G$24:$H$27,2,0) -> #N/A
A5: =VLOOKUP(INDIRECT("'donées Brutes"&"'!"&ADDRESS(COLUMN()+1,ROW()+1)),'données numérique'!$G$24:$H$27,2,0) -> 4 | B5: =VLOOKUP(INDIRECT("'donées Brutes"&"'!"&ADDRESS(COLUMN()+1,ROW()+1)),'données numérique'!$G$24:$H$27,2,0) -> 3 | C5: =VLOOKUP(INDIRECT("'donées Brutes"&"'!"&ADDRESS(COLUMN()+1,ROW()+1)),'données numérique'!$G$24:$H$27,2,0) -> #N/A | D5: =VLOOKUP(INDIRECT("'donées Brutes"&"'!"&ADDRESS(COLUMN()+1,ROW()+1)),'données numérique'!$G$24:$H$27,2,0) -> #N/A | E5: =VLOOKUP(INDIRECT("'donées Brutes"&"'!"&ADDRESS(COLUMN()+1,ROW()+1)),'données numérique'!$G$24:$H$27,2,0) -> #N/A
A6: =VLOOKUP(INDIRECT("'donées Brutes"&"'!"&ADDRESS(COLUMN()+1,ROW()+1)),'données numérique'!$G$24:$H$27,2,0) -> 2 | B6: =VLOOKUP(INDIRECT("'donées Brutes"&"'!"&ADDRESS(COLUMN()+1,ROW()+1)),'données numérique'!$G$24:$H$27,2,0) -> 4 | C6: =VLOOKUP(INDIRECT("'donées Brutes"&"'!"&ADDRESS(COLUMN()+1,ROW()+1)),'données numérique'!$G$24:$H$27,2,0) -> #N/A | D6: =VLOOKUP(INDIRECT("'donées Brutes"&"'!"&ADDRESS(COLUMN()+1,ROW()+1)),'données numérique'!$G$24:$H$27,2,0) -> #N/A | E6: =VLOOKUP(INDIRECT("'donées Brutes"&"'!"&ADDRESS(COLUMN()+1,ROW()+1)),'données numérique'!$G$24:$H$27,2,0) -> #N/A
A7: =VLOOKUP(INDIRECT("'donées Brutes"&"'!"&ADDRESS(COLUMN()+1,ROW()+1)),'données numérique'!$G$24:$H$27,2,0) -> 2 | B7: =VLOOKUP(INDIRECT("'donées Brutes"&"'!"&ADDRESS(COLUMN()+1,ROW()+1)),'données numérique'!$G$24:$H$27,2,0) -> 3 | C7: =VLOOKUP(INDIRECT("'donées Brutes"&"'!"&ADDRESS(COLUMN()+1,ROW()+1)),'données numérique'!$G$24:$H$27,2,0) -> #N/A | D7: =VLOOKUP(INDIRECT("'donées Brutes"&"'!"&ADDRESS(COLUMN()+1,ROW()+1)),'données numérique'!$G$24:$H$27,2,0) -> #N/A | E7: =VLOOKUP(INDIRECT("'donées Brutes"&"'!"&ADDRESS(COLUMN()+1,ROW()+1)),'données numérique'!$G$24:$H$27,2,0) -> #N/A
A8: =VLOOKUP(INDIRECT("'donées Brutes"&"'!"&ADDRESS(COLUMN()+1,ROW()+1)),'données numérique'!$G$24:$H$27,2,0) -> 1 | B8: =VLOOKUP(INDIRECT("'donées Brutes"&"'!"&ADDRESS(COLUMN()+1,ROW()+1)),'données numérique'!$G$24:$H$27,2,0) -> 1 | C8: =VLOOKUP(INDIRECT("'donées Brutes"&"'!"&ADDRESS(COLUMN()+1,ROW()+1)),'données numérique'!$G$24:$H$27,2,0) -> #N/A | D8: =VLOOKUP(INDIRECT("'donées Brutes"&"'!"&ADDRESS(COLUMN()+1,ROW()+1)),'données numérique'!$G$24:$H$27,2,0) -> #N/A | E8: =VLOOKUP(INDIRECT("'donées Brutes"&"'!"&ADDRESS(COLUMN()+1,ROW()+1)),'données numérique'!$G$24:$H$27,2,0) -> #N/A
A9: =VLOOKUP(INDIRECT("'donées Brutes"&"'!"&ADDRESS(COLUMN()+1,ROW()+1)),'données numérique'!$G$24:$H$27,2,0) -> 4 | B9: =VLOOKUP(INDIRECT("'donées Brutes"&"'!"&ADDRESS(COLUMN()+1,ROW()+1)),'données numérique'!$G$24:$H$27,2,0) -> 2 | C9: =VLOOKUP(INDIRECT("'donées Brutes"&"'!"&ADDRESS(COLUMN()+1,ROW()+1)),'données numérique'!$G$24:$H$27,2,0) -> #N/A | D9: =VLOOKUP(INDIRECT("'donées Brutes"&"'!"&ADDRESS(COLUMN()+1,ROW()+1)),'données numérique'!$G$24:$H$27,2,0) -> #N/A | E9: =VLOOKUP(INDIRECT("'donées Brutes"&"'!"&ADDRESS(COLUMN()+1,ROW()+1)),'données numérique'!$G$24:$H$27,2,0) -> #N/A
A10: =VLOOKUP(INDIRECT("'donées Brutes"&"'!"&ADDRESS(COLUMN()+1,ROW()+1)),'données numérique'!$G$24:$H$27,2,0) -> 4 | B10: =VLOOKUP(INDIRECT("'donées Brutes"&"'!"&ADDRESS(COLUMN()+1,ROW()+1)),'données numérique'!$G$24:$H$27,2,0) -> 4 | C10: =VLOOKUP(INDIRECT("'donées Brutes"&"'!"&ADDRESS(COLUMN()+1,ROW()+1)),'données numérique'!$G$24:$H$27,2,0) -> #N/A | D10: =VLOOKUP(INDIRECT("'donées Brutes"&"'!"&ADDRESS(COLUMN()+1,ROW()+1)),'données numérique'!$G$24:$H$27,2,0) -> #N/A | E10: =VLOOKUP(INDIRECT("'donées Brutes"&"'!"&ADDRESS(COLUMN()+1,ROW()+1)),'données numérique'!$G$24:$H$27,2,0) -> #N/A
A11: =VLOOKUP(INDIRECT("'donées Brutes"&"'!"&ADDRESS(COLUMN()+1,ROW()+1)),'données numérique'!$G$24:$H$27,2,0) -> 3 | B11: =VLOOKUP(INDIRECT("'donées Brutes"&"'!"&ADDRESS(COLUMN()+1,ROW()+1)),'données numérique'!$G$24:$H$27,2,0) -> 3 | C11: =VLOOKUP(INDIRECT("'donées Brutes"&"'!"&ADDRESS(COLUMN()+1,ROW()+1)),'données numérique'!$G$24:$H$27,2,0) -> #N/A | D11: =VLOOKUP(INDIRECT("'donées Brutes"&"'!"&ADDRESS(COLUMN()+1,ROW()+1)),'données numérique'!$G$24:$H$27,2,0) -> #N/A | E11: =VLOOKUP(INDIRECT("'donées Brutes"&"'!"&ADDRESS(COLUMN()+1,ROW()+1)),'données numérique'!$G$24:$H$27,2,0) -> #N/A
A12: =VLOOKUP(INDIRECT("'donées Brutes"&"'!"&ADDRESS(COLUMN()+1,ROW()+1)),'données numérique'!$G$24:$H$27,2,0) -> 4 | B12: =VLOOKUP(INDIRECT("'donées Brutes"&"'!"&ADDRESS(COLUMN()+1,ROW()+1)),'données numérique'!$G$24:$H$27,2,0) -> 2 | C12: =VLOOKUP(INDIRECT("'donées Brutes"&"'!"&ADDRESS(COLUMN()+1,ROW()+1)),'données numérique'!$G$24:$H$27,2,0) -> #N/A | D12: =VLOOKUP(INDIRECT("'donées Brutes"&"'!"&ADDRESS(COLUMN()+1,ROW()+1)),'données numérique'!$G$24:$H$27,2,0) -> #N/A | E12: =VLOOKUP(INDIRECT("'donées Brutes"&"'!"&ADDRESS(COLUMN()+1,ROW()+1)),'données numérique'!$G$24:$H$27,2,0) -> #N/A
A13: =VLOOKUP(INDIRECT("'donées Brutes"&"'!"&ADDRESS(COLUMN()+1,ROW()+1)),'données numérique'!$G$24:$H$27,2,0) -> 2 | B13: =VLOOKUP(INDIRECT("'donées Brutes"&"'!"&ADDRESS(COLUMN()+1,ROW()+1)),'données numérique'!$G$24:$H$27,2,0) -> 2 | C13: =VLOOKUP(INDIRECT("'donées Brutes"&"'!"&ADDRESS(COLUMN()+1,ROW()+1)),'données numérique'!$G$24:$H$27,2,0) -> #N/A | D13: =VLOOKUP(INDIRECT("'donées Brutes"&"'!"&ADDRESS(COLUMN()+1,ROW()+1)),'données numérique'!$G$24:$H$27,2,0) -> #N/A | E13: =VLOOKUP(INDIRECT("'donées Brutes"&"'!"&ADDRESS(COLUMN()+1,ROW()+1)),'données numérique'!$G$24:$H$27,2,0) -> #N/A
... A21: =VLOOKUP(INDIRECT("'donées Brutes"&"'!"&ADDRESS(COLUMN()+1,ROW()+1)),'données numérique'!$G$24:$H$27,2,0) -> 4 | B21: =VLOOKUP(INDIRECT("'donées Brutes"&"'!"&ADDRESS(COLUMN()+1,ROW()+1)),'données numérique'!$G$24:$H$27,2,0) -> 4 | C21: =VLOOKUP(INDIRECT("'donées Brutes"&"'!"&ADDRESS(COLUMN()+1,ROW()+1)),'données numérique'!$G$24:$H$27,2,0) -> #N/A | D21: =VLOOKUP(INDIRECT("'donées Brutes"&"'!"&ADDRESS(COLUMN()+1,ROW()+1)),'données numérique'!$G$24:$H$27,2,0) -> #N/A | E21: =VLOOKUP(INDIRECT("'donées Brutes"&"'!"&ADDRESS(COLUMN()+1,ROW()+1)),'données numérique'!$G$24:$H$27,2,0) -> #N/A
G24: Presque toujours | H24: 1
G25: parfois | H25: 2
G26: souvent | H26: 3
G27: presque jamais | H27: 4
