Workbook

Sheet Feuil1
G3: Challenge 2010-2011
D4: Place | E4: Nom | F4: Total Parties | G4: Total Points | H4: Moyenne Points | I4: Argent Joué | J4: Argent Gagné | K4: Gain | L4: Gain / Partie | M4: Place Parties
D5: 1 | E5: Fabio | F5: 34 | G5: 226 | H5: =G5/F5 -> 6.6470588 | I5: =F5*10 -> 340 | J5: 510 | K5: =J5-I5 -> 170 | L5: =K5/F5 -> 5 | M5: =RANK(F5,$F$5:$F$15,0)+COUNTIF($F$5:F5,F5)-1 -> 3
D6: 2 | E6: Nico | F6: 18 | G6: 119 | H6: =G6/F6 -> 6.6111111 | I6: =F6*10 -> 180 | J6: 310 | K6: =J6-I6 -> 130 | L6: =K6/F6 -> 7.2222222 | M6: =RANK(F6,$F$5:$F$15,0)+COUNTIF($F$5:F6,F6)-1 -> 9
D7: 3 | E7: Thierry | F7: 30 | G7: 183 | H7: =G7/F7 -> 6.1 | I7: =F7*10 -> 300 | J7: 435 | K7: =J7-I7 -> 135 | L7: =K7/F7 -> 4.5 | M7: =RANK(F7,$F$5:$F$15,0)+COUNTIF($F$5:F7,F7)-1 -> 4
D8: 4 | E8: Tony | F8: 41 | G8: 214 | H8: =G8/F8 -> 5.2195122 | I8: =F8*10 -> 410 | J8: 445 | K8: =J8-I8 -> 35 | L8: =K8/F8 -> 0.85365854 | M8: =RANK(F8,$F$5:$F$15,0)+COUNTIF($F$5:F8,F8)-1 -> 2
D9: 5 | E9: Didier | F9: 43 | G9: 209 | H9: =G9/F9 -> 4.8604651 | I9: =F9*10 -> 430 | J9: 455 | K9: =J9-I9 -> 25 | L9: =K9/F9 -> 0.58139535 | M9: =RANK(F9,$F$5:$F$15,0)+COUNTIF($F$5:F9,F9)-1 -> 1
D10: 6 | E10: Virginie | F10: 16 | G10: 74 | H10: =G10/F10 -> 4.625 | I10: =F10*10 -> 160 | J10: 130 | K10: =J10-I10 -> -30 | L10: =K10/F10 -> -1.875 | M10: =RANK(F10,$F$5:$F$15,0)+COUNTIF($F$5:F10,F10)-1 -> 11
D11: 7 | E11: Severin | F11: 22 | G11: 94 | H11: =G11/F11 -> 4.2727273 | I11: =F11*10 -> 220 | J11: 175 | K11: =J11-I11 -> -45 | L11: =K11/F11 -> -2.0454545 | M11: =RANK(F11,$F$5:$F$15,0)+COUNTIF($F$5:F11,F11)-1 -> 7
D12: 8 | E12: Sebastien | F12: 24 | G12: 95 | H12: =G12/F12 -> 3.9583333 | I12: =F12*10 -> 240 | J12: 205 | K12: =J12-I12 -> -35 | L12: =K12/F12 -> -1.4583333 | M12: =RANK(F12,$F$5:$F$15,0)+COUNTIF($F$5:F12,F12)-1 -> 6
D13: 9 | E13: Lionel | F13: 19 | G13: 72 | H13: =G13/F13 -> 3.7894737 | I13: =F13*10 -> 190 | J13: 115 | K13: =J13-I13 -> -75 | L13: =K13/F13 -> -3.9473684 | M13: =RANK(F13,$F$5:$F$15,0)+COUNTIF($F$5:F13,F13)-1 -> 8
D14: 10 | E14: Pedro | F14: 30 | G14: 95 | H14: =G14/F14 -> 3.1666667 | I14: =F14*10 -> 300 | J14: 165 | K14: =J14-I14 -> -135 | L14: =K14/F14 -> -4.5 | M14: =RANK(F14,$F$5:$F$15,0)+COUNTIF($F$5:F14,F14)-1 -> 5
D15: 11 | E15: Rodrigue | F15: 18 | G15: 48 | H15: =G15/F15 -> 2.6666667 | I15: =F15*10 -> 180 | J15: 45 | K15: =J15-I15 -> -135 | L15: =K15/F15 -> -7.5 | M15: =RANK(F15,$F$5:$F$15,0)+COUNTIF($F$5:F15,F15)-1 -> 10
D20: TOUT | E20: 0.6 | F20: AUTRES | I20: Place | J20: Nom | K20: MOYENNE
D21: =INDEX($H$5:$H$15,MATCH(I21,$M$5:$M$15,0)) -> 4.8604651 | E21: =IF(LARGE($F$5:$F$15,ROWS($1:1))>=MAX($F$5:$F$15)*60%,INDEX($H$5:$H$15,MATCH(I21,$M$5:$M$15,0)),"") -> 4.8604651 | F21: =IF(ISERROR(INDEX($D$21:$D$31,IF(COUNTIF($D$21:$E$31,D21)>1,"",ROWS($1:1)))),"",INDEX($D$21:$D$31,IF(COUNTIF($D$21:$E$31,D21)>1,"",ROWS($1:1)))) | I21: 1 | J21: =IF(K21="","",INDEX($E$5:$E$15,MATCH(K21,$H$5:$H$15,0))) -> Fabio | K21: =IF(E21="",LARGE($F$21:$F$31,ROWS($1:1)-COUNTIF($E$21:$E$31,">0")),LARGE($E$21:$E$31,ROWS($1:1))) -> 6.6470588
D22: =INDEX(Feuil1!$H$5:$H$15,MATCH(I22,Feuil1!$M$5:$M$15,0)) -> 5.2195122 | E22: =IF(LARGE($F$5:$F$15,ROWS($1:2))>=MAX($F$5:$F$15)*60%,INDEX($H$5:$H$15,MATCH(I22,$M$5:$M$15,0)),"") -> 5.2195122 | F22: =IF(ISERROR(INDEX($D$21:$D$31,IF(COUNTIF($D$21:$E$31,D22)>1,"",ROWS($1:2)))),"",INDEX($D$21:$D$31,IF(COUNTIF($D$21:$E$31,D22)>1,"",ROWS($1:2)))) | I22: 2 | J22: =IF(K22="","",INDEX(Feuil1!$E$5:$E$15,MATCH(K22,Feuil1!$H$5:$H$15,0))) -> Thierry | K22: =IF(E22="",LARGE($F$21:$F$31,ROWS($1:2)-COUNTIF($E$21:$E$31,">0")),LARGE($E$21:$E$31,ROWS($1:2))) -> 6.1
D23: =INDEX(Feuil1!$H$5:$H$15,MATCH(I23,Feuil1!$M$5:$M$15,0)) -> 6.6470588 | E23: =IF(LARGE($F$5:$F$15,ROWS($1:3))>=MAX($F$5:$F$15)*60%,INDEX($H$5:$H$15,MATCH(I23,$M$5:$M$15,0)),"") -> 6.6470588 | F23: =IF(ISERROR(INDEX($D$21:$D$31,IF(COUNTIF($D$21:$E$31,D23)>1,"",ROWS($1:3)))),"",INDEX($D$21:$D$31,IF(COUNTIF($D$21:$E$31,D23)>1,"",ROWS($1:3)))) | I23: 3 | J23: =IF(K23="","",INDEX(Feuil1!$E$5:$E$15,MATCH(K23,Feuil1!$H$5:$H$15,0))) -> Tony | K23: =IF(E23="",LARGE($F$21:$F$31,ROWS($1:3)-COUNTIF($E$21:$E$31,">0")),LARGE($E$21:$E$31,ROWS($1:3))) -> 5.2195122
D24: =INDEX(Feuil1!$H$5:$H$15,MATCH(I24,Feuil1!$M$5:$M$15,0)) -> 6.1 | E24: =IF(LARGE($F$5:$F$15,ROWS($1:4))>=MAX($F$5:$F$15)*60%,INDEX($H$5:$H$15,MATCH(I24,$M$5:$M$15,0)),"") -> 6.1 | F24: =IF(ISERROR(INDEX($D$21:$D$31,IF(COUNTIF($D$21:$E$31,D24)>1,"",ROWS($1:4)))),"",INDEX($D$21:$D$31,IF(COUNTIF($D$21:$E$31,D24)>1,"",ROWS($1:4)))) | I24: 4 | J24: =IF(K24="","",INDEX(Feuil1!$E$5:$E$15,MATCH(K24,Feuil1!$H$5:$H$15,0))) -> Didier | K24: =IF(E24="",LARGE($F$21:$F$31,ROWS($1:4)-COUNTIF($E$21:$E$31,">0")),LARGE($E$21:$E$31,ROWS($1:4))) -> 4.8604651
D25: =INDEX(Feuil1!$H$5:$H$15,MATCH(I25,Feuil1!$M$5:$M$15,0)) -> 3.1666667 | E25: =IF(LARGE($F$5:$F$15,ROWS($1:5))>=MAX($F$5:$F$15)*60%,INDEX($H$5:$H$15,MATCH(I25,$M$5:$M$15,0)),"") -> 3.1666667 | F25: =IF(ISERROR(INDEX($D$21:$D$31,IF(COUNTIF($D$21:$E$31,D25)>1,"",ROWS($1:5)))),"",INDEX($D$21:$D$31,IF(COUNTIF($D$21:$E$31,D25)>1,"",ROWS($1:5)))) | I25: 5 | J25: =IF(K25="","",INDEX(Feuil1!$E$5:$E$15,MATCH(K25,Feuil1!$H$5:$H$15,0))) -> Pedro | K25: =IF(E25="",LARGE($F$21:$F$31,ROWS($1:5)-COUNTIF($E$21:$E$31,">0")),LARGE($E$21:$E$31,ROWS($1:5))) -> 3.1666667
D26: =INDEX(Feuil1!$H$5:$H$15,MATCH(I26,Feuil1!$M$5:$M$15,0)) -> 3.9583333 | E26: =IF(LARGE($F$5:$F$15,ROWS($1:6))>=MAX($F$5:$F$15)*60%,INDEX($H$5:$H$15,MATCH(I26,$M$5:$M$15,0)),"") | F26: =IF(ISERROR(INDEX($D$21:$D$31,IF(COUNTIF($D$21:$E$31,D26)>1,"",ROWS($1:6)))),"",INDEX($D$21:$D$31,IF(COUNTIF($D$21:$E$31,D26)>1,"",ROWS($1:6)))) -> 3.9583333 | I26: 6 | J26: =IF(K26="","",INDEX(Feuil1!$E$5:$E$15,MATCH(K26,Feuil1!$H$5:$H$15,0))) -> Nico | K26: =IF(E26="",LARGE($F$21:$F$31,ROWS($1:6)-COUNTIF($E$21:$E$31,">0")),LARGE($E$21:$E$31,ROWS($1:6))) -> 6.6111111
D27: =INDEX(Feuil1!$H$5:$H$15,MATCH(I27,Feuil1!$M$5:$M$15,0)) -> 4.2727273 | E27: =IF(LARGE($F$5:$F$15,ROWS($1:7))>=MAX($F$5:$F$15)*60%,INDEX($H$5:$H$15,MATCH(I27,$M$5:$M$15,0)),"") | F27: =IF(ISERROR(INDEX($D$21:$D$31,IF(COUNTIF($D$21:$E$31,D27)>1,"",ROWS($1:7)))),"",INDEX($D$21:$D$31,IF(COUNTIF($D$21:$E$31,D27)>1,"",ROWS($1:7)))) -> 4.2727273 | I27: 7 | J27: =IF(K27="","",INDEX(Feuil1!$E$5:$E$15,MATCH(K27,Feuil1!$H$5:$H$15,0))) -> Virginie | K27: =IF(E27="",LARGE($F$21:$F$31,ROWS($1:7)-COUNTIF($E$21:$E$31,">0")),LARGE($E$21:$E$31,ROWS($1:7))) -> 4.625
D28: =INDEX(Feuil1!$H$5:$H$15,MATCH(I28,Feuil1!$M$5:$M$15,0)) -> 3.7894737 | E28: =IF(LARGE($F$5:$F$15,ROWS($1:8))>=MAX($F$5:$F$15)*60%,INDEX($H$5:$H$15,MATCH(I28,$M$5:$M$15,0)),"") | F28: =IF(ISERROR(INDEX($D$21:$D$31,IF(COUNTIF($D$21:$E$31,D28)>1,"",ROWS($1:8)))),"",INDEX($D$21:$D$31,IF(COUNTIF($D$21:$E$31,D28)>1,"",ROWS($1:8)))) -> 3.7894737 | I28: 8 | J28: =IF(K28="","",INDEX(Feuil1!$E$5:$E$15,MATCH(K28,Feuil1!$H$5:$H$15,0))) -> Severin | K28: =IF(E28="",LARGE($F$21:$F$31,ROWS($1:8)-COUNTIF($E$21:$E$31,">0")),LARGE($E$21:$E$31,ROWS($1:8))) -> 4.2727273
D29: =INDEX(Feuil1!$H$5:$H$15,MATCH(I29,Feuil1!$M$5:$M$15,0)) -> 6.6111111 | E29: =IF(LARGE($F$5:$F$15,ROWS($1:9))>=MAX($F$5:$F$15)*60%,INDEX($H$5:$H$15,MATCH(I29,$M$5:$M$15,0)),"") | F29: =IF(ISERROR(INDEX($D$21:$D$31,IF(COUNTIF($D$21:$E$31,D29)>1,"",ROWS($1:9)))),"",INDEX($D$21:$D$31,IF(COUNTIF($D$21:$E$31,D29)>1,"",ROWS($1:9)))) -> 6.6111111 | I29: 9 | J29: =IF(K29="","",INDEX(Feuil1!$E$5:$E$15,MATCH(K29,Feuil1!$H$5:$H$15,0))) -> Sebastien | K29: =IF(E29="",LARGE($F$21:$F$31,ROWS($1:9)-COUNTIF($E$21:$E$31,">0")),LARGE($E$21:$E$31,ROWS($1:9))) -> 3.9583333
D30: =INDEX(Feuil1!$H$5:$H$15,MATCH(I30,Feuil1!$M$5:$M$15,0)) -> 2.6666667 | E30: =IF(LARGE($F$5:$F$15,ROWS($1:10))>=MAX($F$5:$F$15)*60%,INDEX($H$5:$H$15,MATCH(I30,$M$5:$M$15,0)),"") | F30: =IF(ISERROR(INDEX($D$21:$D$31,IF(COUNTIF($D$21:$E$31,D30)>1,"",ROWS($1:10)))),"",INDEX($D$21:$D$31,IF(COUNTIF($D$21:$E$31,D30)>1,"",ROWS($1:10)))) -> 2.6666667 | I30: 10 | J30: =IF(K30="","",INDEX(Feuil1!$E$5:$E$15,MATCH(K30,Feuil1!$H$5:$H$15,0))) -> Lionel | K30: =IF(E30="",LARGE($F$21:$F$31,ROWS($1:10)-COUNTIF($E$21:$E$31,">0")),LARGE($E$21:$E$31,ROWS($1:10))) -> 3.7894737
D31: =INDEX(Feuil1!$H$5:$H$15,MATCH(I31,Feuil1!$M$5:$M$15,0)) -> 4.625 | E31: =IF(LARGE($F$5:$F$15,ROWS($1:11))>=MAX($F$5:$F$15)*60%,INDEX($H$5:$H$15,MATCH(I31,$M$5:$M$15,0)),"") | F31: =IF(ISERROR(INDEX($D$21:$D$31,IF(COUNTIF($D$21:$E$31,D31)>1,"",ROWS($1:11)))),"",INDEX($D$21:$D$31,IF(COUNTIF($D$21:$E$31,D31)>1,"",ROWS($1:11)))) -> 4.625 | I31: 11 | J31: =IF(K31="","",INDEX(Feuil1!$E$5:$E$15,MATCH(K31,Feuil1!$H$5:$H$15,0))) -> Rodrigue | K31: =IF(E31="",LARGE($F$21:$F$31,ROWS($1:11)-COUNTIF($E$21:$E$31,">0")),LARGE($E$21:$E$31,ROWS($1:11))) -> 2.6666667
