Workbook

Sheet Feuille1
A1: SITE | B1: Entite | C1: SDA | D1: SDA | F1: 0
A2: MONTROUGE | B2: Site 1 | C2: 142310236 | D2: 142310239 | E2: =IF(A2="",0,D2-C2+1) -> 4 | F2: =E2+F1 -> 4
A3: BEGLES | B3: Site 2 | C3: 557590496 | D3: 557590502 | E3: =IF(A3="",0,D3-C3+1) -> 7 | F3: =E3+F2 -> 11
E4: =IF(A4="",0,D4-C4+1) -> 0 | F4: =E4+F3 -> 11
E5: =IF(A5="",0,D5-C5+1) -> 0 | F5: =E5+F4 -> 11
E6: =IF(A6="",0,D6-C6+1) -> 0 | F6: =E6+F5 -> 11
E7: =IF(A7="",0,D7-C7+1) -> 0 | F7: =E7+F6 -> 11
E8: =IF(A8="",0,D8-C8+1) -> 0 | F8: =E8+F7 -> 11
E9: =IF(A9="",0,D9-C9+1) -> 0 | F9: =E9+F8 -> 11
E10: =IF(A10="",0,D10-C10+1) -> 0 | F10: =E10+F9 -> 11
E11: =IF(A11="",0,D11-C11+1) -> 0 | F11: =E11+F10 -> 11
E12: =IF(A12="",0,D12-C12+1) -> 0 | F12: =E12+F11 -> 11
E13: =IF(A13="",0,D13-C13+1) -> 0 | F13: =E13+F12 -> 11
E14: =IF(A14="",0,D14-C14+1) -> 0 | F14: =E14+F13 -> 11
E15: =IF(A15="",0,D15-C15+1) -> 0 | F15: =E15+F14 -> 11
... E21: =IF(A21="",0,D21-C21+1) -> 0 | F21: =E21+F20 -> 11

Sheet Ensemble_SDA
A1: SITE | B1: Entite | C1: Ensemble SDA
A2: =IF(ROW()>SUM(Feuille1!$E:$E)+1,"",INDEX(Feuille1!A:A,MATCH(VLOOKUP(ROW()-2,Feuille1!$F:$F,1,1),Feuille1!$F:$F)+1,1)) -> MONTROUGE | B2: =IF(ROW()>SUM(Feuille1!$E:$E)+1,"",INDEX(Feuille1!B:B,MATCH(VLOOKUP(ROW()-2,Feuille1!$F:$F,1,1),Feuille1!$F:$F)+1,1)) -> Site 1 | C2: =IF(ROW()>SUM(Feuille1!$E:$E)+1,"",(INDEX(Feuille1!D:D,MATCH(VLOOKUP(ROW()-2,Feuille1!$F:$F,1,1),Feuille1!$F:$F)+1,1))-(INDEX(Feuille1!E:E,MATCH(VLOOKUP(ROW()-2,Feuille1!$F:$F,1,1),Feuille1!$F:$F)+1,1)-1)+SUMPRODUCT(--($A$1:A1=A2)*($B$1:B1=B2))) -> 142310236
A3: =IF(ROW()>SUM(Feuille1!$E:$E)+1,"",INDEX(Feuille1!A:A,MATCH(VLOOKUP(ROW()-2,Feuille1!$F:$F,1,1),Feuille1!$F:$F)+1,1)) -> MONTROUGE | B3: =IF(ROW()>SUM(Feuille1!$E:$E)+1,"",INDEX(Feuille1!B:B,MATCH(VLOOKUP(ROW()-2,Feuille1!$F:$F,1,1),Feuille1!$F:$F)+1,1)) -> Site 1 | C3: =IF(ROW()>SUM(Feuille1!$E:$E)+1,"",(INDEX(Feuille1!D:D,MATCH(VLOOKUP(ROW()-2,Feuille1!$F:$F,1,1),Feuille1!$F:$F)+1,1))-(INDEX(Feuille1!E:E,MATCH(VLOOKUP(ROW()-2,Feuille1!$F:$F,1,1),Feuille1!$F:$F)+1,1)-1)+SUMPRODUCT(--($A$1:A2=A3)*($B$1:B2=B3))) -> 142310237
A4: =IF(ROW()>SUM(Feuille1!$E:$E)+1,"",INDEX(Feuille1!A:A,MATCH(VLOOKUP(ROW()-2,Feuille1!$F:$F,1,1),Feuille1!$F:$F)+1,1)) -> MONTROUGE | B4: =IF(ROW()>SUM(Feuille1!$E:$E)+1,"",INDEX(Feuille1!B:B,MATCH(VLOOKUP(ROW()-2,Feuille1!$F:$F,1,1),Feuille1!$F:$F)+1,1)) -> Site 1 | C4: =IF(ROW()>SUM(Feuille1!$E:$E)+1,"",(INDEX(Feuille1!D:D,MATCH(VLOOKUP(ROW()-2,Feuille1!$F:$F,1,1),Feuille1!$F:$F)+1,1))-(INDEX(Feuille1!E:E,MATCH(VLOOKUP(ROW()-2,Feuille1!$F:$F,1,1),Feuille1!$F:$F)+1,1)-1)+SUMPRODUCT(--($A$1:A3=A4)*($B$1:B3=B4))) -> 142310238
A5: =IF(ROW()>SUM(Feuille1!$E:$E)+1,"",INDEX(Feuille1!A:A,MATCH(VLOOKUP(ROW()-2,Feuille1!$F:$F,1,1),Feuille1!$F:$F)+1,1)) -> MONTROUGE | B5: =IF(ROW()>SUM(Feuille1!$E:$E)+1,"",INDEX(Feuille1!B:B,MATCH(VLOOKUP(ROW()-2,Feuille1!$F:$F,1,1),Feuille1!$F:$F)+1,1)) -> Site 1 | C5: =IF(ROW()>SUM(Feuille1!$E:$E)+1,"",(INDEX(Feuille1!D:D,MATCH(VLOOKUP(ROW()-2,Feuille1!$F:$F,1,1),Feuille1!$F:$F)+1,1))-(INDEX(Feuille1!E:E,MATCH(VLOOKUP(ROW()-2,Feuille1!$F:$F,1,1),Feuille1!$F:$F)+1,1)-1)+SUMPRODUCT(--($A$1:A4=A5)*($B$1:B4=B5))) -> 142310239
A6: =IF(ROW()>SUM(Feuille1!$E:$E)+1,"",INDEX(Feuille1!A:A,MATCH(VLOOKUP(ROW()-2,Feuille1!$F:$F,1,1),Feuille1!$F:$F)+1,1)) -> BEGLES | B6: =IF(ROW()>SUM(Feuille1!$E:$E)+1,"",INDEX(Feuille1!B:B,MATCH(VLOOKUP(ROW()-2,Feuille1!$F:$F,1,1),Feuille1!$F:$F)+1,1)) -> Site 2 | C6: =IF(ROW()>SUM(Feuille1!$E:$E)+1,"",(INDEX(Feuille1!D:D,MATCH(VLOOKUP(ROW()-2,Feuille1!$F:$F,1,1),Feuille1!$F:$F)+1,1))-(INDEX(Feuille1!E:E,MATCH(VLOOKUP(ROW()-2,Feuille1!$F:$F,1,1),Feuille1!$F:$F)+1,1)-1)+SUMPRODUCT(--($A$1:A5=A6)*($B$1:B5=B6))) -> 557590496
A7: =IF(ROW()>SUM(Feuille1!$E:$E)+1,"",INDEX(Feuille1!A:A,MATCH(VLOOKUP(ROW()-2,Feuille1!$F:$F,1,1),Feuille1!$F:$F)+1,1)) -> BEGLES | B7: =IF(ROW()>SUM(Feuille1!$E:$E)+1,"",INDEX(Feuille1!B:B,MATCH(VLOOKUP(ROW()-2,Feuille1!$F:$F,1,1),Feuille1!$F:$F)+1,1)) -> Site 2 | C7: =IF(ROW()>SUM(Feuille1!$E:$E)+1,"",(INDEX(Feuille1!D:D,MATCH(VLOOKUP(ROW()-2,Feuille1!$F:$F,1,1),Feuille1!$F:$F)+1,1))-(INDEX(Feuille1!E:E,MATCH(VLOOKUP(ROW()-2,Feuille1!$F:$F,1,1),Feuille1!$F:$F)+1,1)-1)+SUMPRODUCT(--($A$1:A6=A7)*($B$1:B6=B7))) -> 557590497
A8: =IF(ROW()>SUM(Feuille1!$E:$E)+1,"",INDEX(Feuille1!A:A,MATCH(VLOOKUP(ROW()-2,Feuille1!$F:$F,1,1),Feuille1!$F:$F)+1,1)) -> BEGLES | B8: =IF(ROW()>SUM(Feuille1!$E:$E)+1,"",INDEX(Feuille1!B:B,MATCH(VLOOKUP(ROW()-2,Feuille1!$F:$F,1,1),Feuille1!$F:$F)+1,1)) -> Site 2 | C8: =IF(ROW()>SUM(Feuille1!$E:$E)+1,"",(INDEX(Feuille1!D:D,MATCH(VLOOKUP(ROW()-2,Feuille1!$F:$F,1,1),Feuille1!$F:$F)+1,1))-(INDEX(Feuille1!E:E,MATCH(VLOOKUP(ROW()-2,Feuille1!$F:$F,1,1),Feuille1!$F:$F)+1,1)-1)+SUMPRODUCT(--($A$1:A7=A8)*($B$1:B7=B8))) -> 557590498
A9: =IF(ROW()>SUM(Feuille1!$E:$E)+1,"",INDEX(Feuille1!A:A,MATCH(VLOOKUP(ROW()-2,Feuille1!$F:$F,1,1),Feuille1!$F:$F)+1,1)) -> BEGLES | B9: =IF(ROW()>SUM(Feuille1!$E:$E)+1,"",INDEX(Feuille1!B:B,MATCH(VLOOKUP(ROW()-2,Feuille1!$F:$F,1,1),Feuille1!$F:$F)+1,1)) -> Site 2 | C9: =IF(ROW()>SUM(Feuille1!$E:$E)+1,"",(INDEX(Feuille1!D:D,MATCH(VLOOKUP(ROW()-2,Feuille1!$F:$F,1,1),Feuille1!$F:$F)+1,1))-(INDEX(Feuille1!E:E,MATCH(VLOOKUP(ROW()-2,Feuille1!$F:$F,1,1),Feuille1!$F:$F)+1,1)-1)+SUMPRODUCT(--($A$1:A8=A9)*($B$1:B8=B9))) -> 557590499
A10: =IF(ROW()>SUM(Feuille1!$E:$E)+1,"",INDEX(Feuille1!A:A,MATCH(VLOOKUP(ROW()-2,Feuille1!$F:$F,1,1),Feuille1!$F:$F)+1,1)) -> BEGLES | B10: =IF(ROW()>SUM(Feuille1!$E:$E)+1,"",INDEX(Feuille1!B:B,MATCH(VLOOKUP(ROW()-2,Feuille1!$F:$F,1,1),Feuille1!$F:$F)+1,1)) -> Site 2 | C10: =IF(ROW()>SUM(Feuille1!$E:$E)+1,"",(INDEX(Feuille1!D:D,MATCH(VLOOKUP(ROW()-2,Feuille1!$F:$F,1,1),Feuille1!$F:$F)+1,1))-(INDEX(Feuille1!E:E,MATCH(VLOOKUP(ROW()-2,Feuille1!$F:$F,1,1),Feuille1!$F:$F)+1,1)-1)+SUMPRODUCT(--($A$1:A9=A10)*($B$1:B9=B10))) -> 557590500
A11: =IF(ROW()>SUM(Feuille1!$E:$E)+1,"",INDEX(Feuille1!A:A,MATCH(VLOOKUP(ROW()-2,Feuille1!$F:$F,1,1),Feuille1!$F:$F)+1,1)) -> BEGLES | B11: =IF(ROW()>SUM(Feuille1!$E:$E)+1,"",INDEX(Feuille1!B:B,MATCH(VLOOKUP(ROW()-2,Feuille1!$F:$F,1,1),Feuille1!$F:$F)+1,1)) -> Site 2 | C11: =IF(ROW()>SUM(Feuille1!$E:$E)+1,"",(INDEX(Feuille1!D:D,MATCH(VLOOKUP(ROW()-2,Feuille1!$F:$F,1,1),Feuille1!$F:$F)+1,1))-(INDEX(Feuille1!E:E,MATCH(VLOOKUP(ROW()-2,Feuille1!$F:$F,1,1),Feuille1!$F:$F)+1,1)-1)+SUMPRODUCT(--($A$1:A10=A11)*($B$1:B10=B11))) -> 557590501
A12: =IF(ROW()>SUM(Feuille1!$E:$E)+1,"",INDEX(Feuille1!A:A,MATCH(VLOOKUP(ROW()-2,Feuille1!$F:$F,1,1),Feuille1!$F:$F)+1,1)) -> BEGLES | B12: =IF(ROW()>SUM(Feuille1!$E:$E)+1,"",INDEX(Feuille1!B:B,MATCH(VLOOKUP(ROW()-2,Feuille1!$F:$F,1,1),Feuille1!$F:$F)+1,1)) -> Site 2 | C12: =IF(ROW()>SUM(Feuille1!$E:$E)+1,"",(INDEX(Feuille1!D:D,MATCH(VLOOKUP(ROW()-2,Feuille1!$F:$F,1,1),Feuille1!$F:$F)+1,1))-(INDEX(Feuille1!E:E,MATCH(VLOOKUP(ROW()-2,Feuille1!$F:$F,1,1),Feuille1!$F:$F)+1,1)-1)+SUMPRODUCT(--($A$1:A11=A12)*($B$1:B11=B12))) -> 557590502
A13: =IF(ROW()>SUM(Feuille1!$E:$E)+1,"",INDEX(Feuille1!A:A,MATCH(VLOOKUP(ROW()-2,Feuille1!$F:$F,1,1),Feuille1!$F:$F)+1,1)) | B13: =IF(ROW()>SUM(Feuille1!$E:$E)+1,"",INDEX(Feuille1!B:B,MATCH(VLOOKUP(ROW()-2,Feuille1!$F:$F,1,1),Feuille1!$F:$F)+1,1)) | C13: =IF(ROW()>SUM(Feuille1!$E:$E)+1,"",(INDEX(Feuille1!D:D,MATCH(VLOOKUP(ROW()-2,Feuille1!$F:$F,1,1),Feuille1!$F:$F)+1,1))-(INDEX(Feuille1!E:E,MATCH(VLOOKUP(ROW()-2,Feuille1!$F:$F,1,1),Feuille1!$F:$F)+1,1)-1)+SUMPRODUCT(--($A$1:A12=A13)*($B$1:B12=B13)))
... A27: =IF(ROW()>SUM(Feuille1!$E:$E)+1,"",INDEX(Feuille1!A:A,MATCH(VLOOKUP(ROW()-2,Feuille1!$F:$F,1,1),Feuille1!$F:$F)+1,1)) | B27: =IF(ROW()>SUM(Feuille1!$E:$E)+1,"",INDEX(Feuille1!B:B,MATCH(VLOOKUP(ROW()-2,Feuille1!$F:$F,1,1),Feuille1!$F:$F)+1,1)) | C27: =IF(ROW()>SUM(Feuille1!$E:$E)+1,"",(INDEX(Feuille1!D:D,MATCH(VLOOKUP(ROW()-2,Feuille1!$F:$F,1,1),Feuille1!$F:$F)+1,1))-(INDEX(Feuille1!E:E,MATCH(VLOOKUP(ROW()-2,Feuille1!$F:$F,1,1),Feuille1!$F:$F)+1,1)-1)+SUMPRODUCT(--($A$1:A26=A27)*($B$1:B26=B27)))
