Workbook

Sheet Feuil1
A1: REF | B1: QTITATIF | C1: PRIX NET HT unitaire
A2: 0502 161 | B2: 1 | C2: 0.14
A3: 0502 161 | B3: 300 | C3: 0.11
A4: 0502 161 | B4: 600 | C4: 0.08
A5: 0585 330 100 | B5: 1 | C5: 8.06
A6: 0585 330 100 | B6: 20 | C6: 7.32
A7: 0585 330 100 | B7: 30 | C7: 6.66
A8: 0614 176 92 | B8: 1 | C8: 7.16
A9: 0614 176 92 | B9: 10 | C9: 5.16
A10: 0625 95 | B10: 1 | C10: 5.18
A11: 0625 95 | B11: 30 | C11: 3.57
A12: 0625 95 | B12: 50 | C12: 3.06
A13: 0830 80 50 | B13: 1 | C13: 0.82
... A22: 0914 048 24 | B22: 5000 | C22: 0.09

Sheet Feuil2
A2: Réf | B2: Quantité | C2: Quantité tarif inférieur ou égal | D2: Quantitatif supérieur | E2: Prix d'HA unitaire Pour Qté inférieure ou égale | F2: Prix d'HA unitaire Pour Qté supérieure | G2: Total pour Qté inférieure ou égale | H2: Montant pour Qté supérieure
A4: 0502 161 | B4: 550 | C4: {=MAX(IF((Feuil1!A:A=A4)*(Feuil1!B:B<=B4),Feuil1!B:B))} -> 300 | D4: {=MAX(IF((Feuil1!A:A=A4)*(Feuil1!B:B>B4),Feuil1!B:B))} -> 600 | E4: {=INDEX(Feuil1!C:C,MATCH(A4&C4,Feuil1!A:A&Feuil1!B:B,0))} -> 0.11 | F4: {=IF(D4=0,0,INDEX(Feuil1!C:C,MATCH(A4&D4,Feuil1!A:A&Feuil1!B:B,0)))} -> 0.08 | G4: =B4*E4 -> 60.5 | H4: =D4*F4 -> 48
A5: 0585 330 100 | B5: 30 | C5: {=MAX(IF((Feuil1!A:A=A5)*(Feuil1!B:B<=B5),Feuil1!B:B))} -> 30 | D5: {=MAX(IF((Feuil1!A:A=A5)*(Feuil1!B:B>B5),Feuil1!B:B))} -> 0 | E5: {=INDEX(Feuil1!C:C,MATCH(A5&C5,Feuil1!A:A&Feuil1!B:B,0))} -> 6.66 | F5: {=IF(D5=0,0,INDEX(Feuil1!C:C,MATCH(A5&D5,Feuil1!A:A&Feuil1!B:B,0)))} -> 0 | G5: =B5*E5 -> 199.8 | H5: =D5*F5 -> 0
A6: 0625 95 | B6: 100 | C6: {=MAX(IF((Feuil1!A:A=A6)*(Feuil1!B:B<=B6),Feuil1!B:B))} -> 50 | D6: {=MAX(IF((Feuil1!A:A=A6)*(Feuil1!B:B>B6),Feuil1!B:B))} -> 0 | E6: {=INDEX(Feuil1!C:C,MATCH(A6&C6,Feuil1!A:A&Feuil1!B:B,0))} -> 3.06 | F6: {=IF(D6=0,0,INDEX(Feuil1!C:C,MATCH(A6&D6,Feuil1!A:A&Feuil1!B:B,0)))} -> 0 | G6: =B6*E6 -> 306 | H6: =D6*F6 -> 0
A7: 0830 80 50 | B7: 1200 | C7: {=MAX(IF((Feuil1!A:A=A7)*(Feuil1!B:B<=B7),Feuil1!B:B))} -> 1000 | D7: {=MAX(IF((Feuil1!A:A=A7)*(Feuil1!B:B>B7),Feuil1!B:B))} -> 0 | E7: {=INDEX(Feuil1!C:C,MATCH(A7&C7,Feuil1!A:A&Feuil1!B:B,0))} -> 0.44 | F7: {=IF(D7=0,0,INDEX(Feuil1!C:C,MATCH(A7&D7,Feuil1!A:A&Feuil1!B:B,0)))} -> 0 | G7: =B7*E7 -> 528 | H7: =D7*F7 -> 0
A8: 0893 15 | B8: 6 | C8: {=MAX(IF((Feuil1!A:A=A8)*(Feuil1!B:B<=B8),Feuil1!B:B))} -> 3 | D8: {=MAX(IF((Feuil1!A:A=A8)*(Feuil1!B:B>B8),Feuil1!B:B))} -> 12 | E8: {=INDEX(Feuil1!C:C,MATCH(A8&C8,Feuil1!A:A&Feuil1!B:B,0))} -> 16.23 | F8: {=IF(D8=0,0,INDEX(Feuil1!C:C,MATCH(A8&D8,Feuil1!A:A&Feuil1!B:B,0)))} -> 14.14 | G8: =B8*E8 -> 97.38 | H8: =D8*F8 -> 169.68
A9: 0914 048 24 | B9: 1500 | C9: {=MAX(IF((Feuil1!A:A=A9)*(Feuil1!B:B<=B9),Feuil1!B:B))} -> 1000 | D9: {=MAX(IF((Feuil1!A:A=A9)*(Feuil1!B:B>B9),Feuil1!B:B))} -> 5000 | E9: {=INDEX(Feuil1!C:C,MATCH(A9&C9,Feuil1!A:A&Feuil1!B:B,0))} -> 0.1 | F9: {=IF(D9=0,0,INDEX(Feuil1!C:C,MATCH(A9&D9,Feuil1!A:A&Feuil1!B:B,0)))} -> 0.09 | G9: =B9*E9 -> 150 | H9: =D9*F9 -> 450

Sheet Feuil3
