Workbook
Name Base: matrice!$A$2:$A$32
Name Liste_Mois: matrice!$A$1:$X$1
Name Mois: Feuil2!$AN$2:$AN$13

Sheet matrice
A1: janvier | C1: février | E1: mars | G1: avril | I1: mai | K1: juin | M1: juillet | O1: août | Q1: septembre | S1: octobre | U1: novembre | W1: décembre | Z1: T1 | AA1: 4.5
A2: dim | B2: 1 | C2: mer | D2: 1 | E2: jeu | F2: 1 | G2: dim | H2: 1 | I2: mar | J2: 1 | K2: ven | L2: 1 | M2: dim | N2: 1 | O2: mer | P2: 1 | Q2: sam | R2: 1 | S2: lun | T2: 1 | U2: jeu | V2: 1 | W2: sam | X2: 1 | Z2: T2 | AA2: 4.5
A3: lun | B3: 2 | C3: jeu | D3: 2 | E3: ven | F3: 2 | G3: lun | H3: 2 | I3: mer | J3: 2 | K3: sam | L3: 2 | M3: lun | N3: 2 | O3: jeu | P3: 2 | Q3: dim | R3: 2 | S3: mar | T3: 2 | U3: ven | V3: 2 | W3: dim | X3: 2 | Z3: T3 | AA3: 4.5
A4: mar | B4: 3 | C4: ven | D4: 3 | E4: sam | F4: 3 | G4: mar | H4: 3 | I4: jeu | J4: 3 | K4: dim | L4: 3 | M4: mar | N4: 3 | O4: ven | P4: 3 | Q4: lun | R4: 3 | S4: mer | T4: 3 | U4: sam | V4: 3 | W4: lun | X4: 3 | Z4: T4 | AA4: 4.5
A5: mer | B5: 4 | C5: sam | D5: 4 | E5: dim | F5: 4 | G5: mer | H5: 4 | I5: ven | J5: 4 | K5: lun | L5: 4 | M5: mer | N5: 4 | O5: sam | P5: 4 | Q5: mar | R5: 4 | S5: jeu | T5: 4 | U5: dim | V5: 4 | W5: mar | X5: 4 | Z5: S1 | AA5: 2
A6: jeu | B6: 5 | C6: dim | D6: 5 | E6: lun | F6: 5 | G6: jeu | H6: 5 | I6: sam | J6: 5 | K6: mar | L6: 5 | M6: jeu | N6: 5 | O6: dim | P6: 5 | Q6: mer | R6: 5 | S6: ven | T6: 5 | U6: lun | V6: 5 | W6: mer | X6: 5 | Z6: S2 | AA6: 2.5
A7: ven | B7: 6 | C7: lun | D7: 6 | E7: mar | F7: 6 | G7: ven | H7: 6 | I7: dim | J7: 6 | K7: mer | L7: 6 | M7: ven | N7: 6 | O7: lun | P7: 6 | Q7: jeu | R7: 6 | S7: sam | T7: 6 | U7: mar | V7: 6 | W7: jeu | X7: 6 | Z7: mar | AA7: 1.5
A8: sam | B8: 7 | C8: mar | D8: 7 | E8: mer | F8: 7 | G8: sam | H8: 7 | I8: lun | J8: 7 | K8: jeu | L8: 7 | M8: sam | N8: 7 | O8: mar | P8: 7 | Q8: ven | R8: 7 | S8: dim | T8: 7 | U8: mer | V8: 7 | W8: ven | X8: 7
A9: dim | B9: 8 | C9: mer | D9: 8 | E9: jeu | F9: 8 | G9: dim | H9: 8 | I9: mar | J9: 8 | K9: ven | L9: 8 | M9: dim | N9: 8 | O9: mer | P9: 8 | Q9: sam | R9: 8 | S9: lun | T9: 8 | U9: jeu | V9: 8 | W9: sam | X9: 8
A10: lun | B10: 9 | C10: jeu | D10: 9 | E10: ven | F10: 9 | G10: lun | H10: 9 | I10: mer | J10: 9 | K10: sam | L10: 9 | M10: lun | N10: 9 | O10: jeu | P10: 9 | Q10: dim | R10: 9 | S10: mar | T10: 9 | U10: ven | V10: 9 | W10: dim | X10: 9
A11: mar | B11: 10 | C11: ven | D11: 10 | E11: sam | F11: 10 | G11: mar | H11: 10 | I11: jeu | J11: 10 | K11: dim | L11: 10 | M11: mar | N11: 10 | O11: ven | P11: 10 | Q11: lun | R11: 10 | S11: mer | T11: 10 | U11: sam | V11: 10 | W11: lun | X11: 10
A12: mer | B12: 11 | C12: sam | D12: 11 | E12: dim | F12: 11 | G12: mer | H12: 11 | I12: ven | J12: 11 | K12: lun | L12: 11 | M12: mer | N12: 11 | O12: sam | P12: 11 | Q12: mar | R12: 11 | S12: jeu | T12: 11 | U12: dim | V12: 11 | W12: mar | X12: 11
A13: jeu | B13: 12 | C13: dim | D13: 12 | E13: lun | F13: 12 | G13: jeu | H13: 12 | I13: sam | J13: 12 | K13: mar | L13: 12 | M13: jeu | N13: 12 | O13: dim | P13: 12 | Q13: mer | R13: 12 | S13: ven | T13: 12 | U13: lun | V13: 12 | W13: mer | X13: 12
A14: ven | B14: 13 | C14: lun | D14: 13 | E14: mar | F14: 13 | G14: ven | H14: 13 | I14: dim | J14: 13 | K14: mer | L14: 13 | M14: ven | N14: 13 | O14: lun | P14: 13 | Q14: jeu | R14: 13 | S14: sam | T14: 13 | U14: mar | V14: 13 | W14: jeu | X14: 13 | AD14: Zones nommées
A15: sam | B15: 14 | C15: mar | D15: 14 | E15: mer | F15: 14 | G15: sam | H15: 14 | I15: lun | J15: 14 | K15: jeu | L15: 14 | M15: sam | N15: 14 | O15: mar | P15: 14 | Q15: ven | R15: 14 | S15: dim | T15: 14 | U15: mer | V15: 14 | W15: ven | X15: 14 | AD15: Base | AE15: =matrice!$A$2:$A$32
A16: dim | B16: 15 | C16: mer | D16: 15 | E16: jeu | F16: 15 | G16: dim | H16: 15 | I16: mar | J16: 15 | K16: ven | L16: 15 | M16: dim | N16: 15 | O16: mer | P16: 15 | Q16: sam | R16: 15 | S16: lun | T16: 15 | U16: jeu | V16: 15 | W16: sam | X16: 15 | AD16: Liste_Mois | AE16: =matrice!$A$1:$X$1
A17: lun | B17: 16 | C17: jeu | D17: 16 | E17: ven | F17: 16 | G17: lun | H17: 16 | I17: mer | J17: 16 | K17: sam | L17: 16 | M17: lun | N17: 16 | O17: jeu | P17: 16 | Q17: dim | R17: 16 | S17: mar | T17: 16 | U17: ven | V17: 16 | W17: dim | X17: 16 | AD17: Mois | AE17: =Feuil2!$AN$2:$AN$13
A18: mar | B18: 17 | C18: ven | D18: 17 | E18: sam | F18: 17 | G18: mar | H18: 17 | I18: jeu | J18: 17 | K18: dim | L18: 17 | M18: mar | N18: 17 | O18: ven | P18: 17 | Q18: lun | R18: 17 | S18: mer | T18: 17 | U18: sam | V18: 17 | W18: lun | X18: 17
A19: mer | B19: 18 | C19: sam | D19: 18 | E19: dim | F19: 18 | G19: mer | H19: 18 | I19: ven | J19: 18 | K19: lun | L19: 18 | M19: mer | N19: 18 | O19: sam | P19: 18 | Q19: mar | R19: 18 | S19: jeu | T19: 18 | U19: dim | V19: 18 | W19: mar | X19: 18
A20: jeu | B20: 19 | C20: dim | D20: 19 | E20: lun | F20: 19 | G20: jeu | H20: 19 | I20: sam | J20: 19 | K20: mar | L20: 19 | M20: jeu | N20: 19 | O20: dim | P20: 19 | Q20: mer | R20: 19 | S20: ven | T20: 19 | U20: lun | V20: 19 | W20: mer | X20: 19
A21: ven | B21: 20 | C21: lun | D21: 20 | E21: mar | F21: 20 | G21: ven | H21: 20 | I21: dim | J21: 20 | K21: mer | L21: 20 | M21: ven | N21: 20 | O21: lun | P21: 20 | Q21: jeu | R21: 20 | S21: sam | T21: 20 | U21: mar | V21: 20 | W21: jeu | X21: 20
A22: sam | B22: 21 | C22: mar | D22: 21 | E22: mer | F22: 21 | G22: sam | H22: 21 | I22: lun | J22: 21 | K22: jeu | L22: 21 | M22: sam | N22: 21 | O22: mar | P22: 21 | Q22: ven | R22: 21 | S22: dim | T22: 21 | U22: mer | V22: 21 | W22: ven | X22: 21
A23: dim | B23: 22 | C23: mer | D23: 22 | E23: jeu | F23: 22 | G23: dim | H23: 22 | I23: mar | J23: 22 | K23: ven | L23: 22 | M23: dim | N23: 22 | O23: mer | P23: 22 | Q23: sam | R23: 22 | S23: lun | T23: 22 | U23: jeu | V23: 22 | W23: sam | X23: 22
A24: lun | B24: 23 | C24: jeu | D24: 23 | E24: ven | F24: 23 | G24: lun | H24: 23 | I24: mer | J24: 23 | K24: sam | L24: 23 | M24: lun | N24: 23 | O24: jeu | P24: 23 | Q24: dim | R24: 23 | S24: mar | T24: 23 | U24: ven | V24: 23 | W24: dim | X24: 23
A25: mar | B25: 24 | C25: ven | D25: 24 | E25: sam | F25: 24 | G25: mar | H25: 24 | I25: jeu | J25: 24 | K25: dim | L25: 24 | M25: mar | N25: 24 | O25: ven | P25: 24 | Q25: lun | R25: 24 | S25: mer | T25: 24 | U25: sam | V25: 24 | W25: lun | X25: 24
A26: mer | B26: 25 | C26: sam | D26: 25 | E26: dim | F26: 25 | G26: mer | H26: 25 | I26: ven | J26: 25 | K26: lun | L26: 25 | M26: mer | N26: 25 | O26: sam | P26: 25 | Q26: mar | R26: 25 | S26: jeu | T26: 25 | U26: dim | V26: 25 | W26: mar | X26: 25
A27: jeu | B27: 26 | C27: dim | D27: 26 | E27: lun | F27: 26 | G27: jeu | H27: 26 | I27: sam | J27: 26 | K27: mar | L27: 26 | M27: jeu | N27: 26 | O27: dim | P27: 26 | Q27: mer | R27: 26 | S27: ven | T27: 26 | U27: lun | V27: 26 | W27: mer | X27: 26
A28: ven | B28: 27 | C28: lun | D28: 27 | E28: mar | F28: 27 | G28: ven | H28: 27 | I28: dim | J28: 27 | K28: mer | L28: 27 | M28: ven | N28: 27 | O28: lun | P28: 27 | Q28: jeu | R28: 27 | S28: sam | T28: 27 | U28: mar | V28: 27 | W28: jeu | X28: 27
A29: sam | B29: 28 | C29: mar | D29: 28 | E29: mer | F29: 28 | G29: sam | H29: 28 | I29: lun | J29: 28 | K29: jeu | L29: 28 | M29: sam | N29: 28 | O29: mar | P29: 28 | Q29: ven | R29: 28 | S29: dim | T29: 28 | U29: mer | V29: 28 | W29: ven | X29: 28
A30: dim | B30: 29 | C30: mer | D30: 29 | E30: jeu | F30: 29 | G30: dim | H30: 29 | I30: mar | J30: 29 | K30: ven | L30: 29 | M30: dim | N30: 29 | O30: mer | P30: 29 | Q30: sam | R30: 29 | S30: lun | T30: 29 | U30: jeu | V30: 29 | W30: sam | X30: 29
A31: lun | B31: 30 | E31: ven | F31: 30 | G31: lun | H31: 30 | I31: mer | J31: 30 | K31: sam | L31: 30 | M31: lun | N31: 30 | O31: jeu | P31: 30 | Q31: dim | R31: 30 | S31: mar | T31: 30 | U31: ven | V31: 30 | W31: dim | X31: 30
A32: mar | B32: 31 | E32: sam | F32: 31 | I32: jeu | J32: 31 | M32: mar | N32: 31 | O32: ven | P32: 31 | S32: mer | T32: 31 | W32: lun | X32: 31

Sheet Feuil2
AN1: Mois
AM2: 1 | AN2: Janvier
D3: 3 | AM3: 2 | AN3: Février
AM4: 3 | AN4: Mars
D5: =VLOOKUP(D3,AM2:AN13,2,0) -> Mars | AM5: 4 | AN5: Avril
D6: 4 | AM6: 5 | AN6: Mai
AM7: 6 | AN7: Juin
AM8: 7 | AN8: Juillet
AM9: 8 | AN9: Août
D10: =INDEX(OFFSET(Base,,MATCH($D$5,Liste_Mois,0)-1),COLUMN()-3) -> jeu | E10: =INDEX(OFFSET(Base,,MATCH($D$5,Liste_Mois,0)-1),COLUMN()-3) -> ven | F10: =INDEX(OFFSET(Base,,MATCH($D$5,Liste_Mois,0)-1),COLUMN()-3) -> sam | G10: =INDEX(OFFSET(Base,,MATCH($D$5,Liste_Mois,0)-1),COLUMN()-3) -> dim | H10: =INDEX(OFFSET(Base,,MATCH($D$5,Liste_Mois,0)-1),COLUMN()-3) -> lun | I10: =INDEX(OFFSET(Base,,MATCH($D$5,Liste_Mois,0)-1),COLUMN()-3) -> mar | J10: =INDEX(OFFSET(Base,,MATCH($D$5,Liste_Mois,0)-1),COLUMN()-3) -> mer | K10: =INDEX(OFFSET(Base,,MATCH($D$5,Liste_Mois,0)-1),COLUMN()-3) -> jeu | ... AH10: =INDEX(OFFSET(Base,,MATCH($D$5,Liste_Mois,0)-1),COLUMN()-3) -> sam | AM10: 9 | AN10: Septembre
D11: =INDEX(OFFSET(Base,,MATCH($D$5,Liste_Mois,0)),COLUMN()-3) -> 1 | E11: =INDEX(OFFSET(Base,,MATCH($D$5,Liste_Mois,0)),COLUMN()-3) -> 2 | F11: =INDEX(OFFSET(Base,,MATCH($D$5,Liste_Mois,0)),COLUMN()-3) -> 3 | G11: =INDEX(OFFSET(Base,,MATCH($D$5,Liste_Mois,0)),COLUMN()-3) -> 4 | H11: =INDEX(OFFSET(Base,,MATCH($D$5,Liste_Mois,0)),COLUMN()-3) -> 5 | I11: =INDEX(OFFSET(Base,,MATCH($D$5,Liste_Mois,0)),COLUMN()-3) -> 6 | J11: =INDEX(OFFSET(Base,,MATCH($D$5,Liste_Mois,0)),COLUMN()-3) -> 7 | K11: =INDEX(OFFSET(Base,,MATCH($D$5,Liste_Mois,0)),COLUMN()-3) -> 8 | ... AH11: =INDEX(OFFSET(Base,,MATCH($D$5,Liste_Mois,0)),COLUMN()-3) -> 31 | AM11: 10 | AN11: Octobre
D12: T1 | F12: T2 | AA12: T4 | AM12: 11 | AN12: Novembre
F13: S1 | AA13: S2 | AM13: 12 | AN13: Décembre
D14: =IF(D12="","",VLOOKUP(D12,matrice!$Z$1:$AA$7,2,0)+(D10="mar")*1.5+IF(ISERROR(VLOOKUP(D13,matrice!$Z$1:$AA$7,2,0)),0,VLOOKUP(D13,matrice!$Z$1:$AA$7,2,0))) -> 4.5 | E14: =IF(E12="","",VLOOKUP(E12,matrice!$Z$1:$AA$7,2,0)+(E10="mar")*1.5+IF(ISERROR(VLOOKUP(E13,matrice!$Z$1:$AA$7,2,0)),0,VLOOKUP(E13,matrice!$Z$1:$AA$7,2,0))) | F14: =IF(F12="","",VLOOKUP(F12,matrice!$Z$1:$AA$7,2,0)+(F10="mar")*1.5+IF(ISERROR(VLOOKUP(F13,matrice!$Z$1:$AA$7,2,0)),0,VLOOKUP(F13,matrice!$Z$1:$AA$7,2,0))) -> 6.5 | G14: =IF(G12="","",VLOOKUP(G12,matrice!$Z$1:$AA$7,2,0)+(G10="mar")*1.5+IF(ISERROR(VLOOKUP(G13,matrice!$Z$1:$AA$7,2,0)),0,VLOOKUP(G13,matrice!$Z$1:$AA$7,2,0))) | H14: =IF(H12="","",VLOOKUP(H12,matrice!$Z$1:$AA$7,2,0)+(H10="mar")*1.5+IF(ISERROR(VLOOKUP(H13,matrice!$Z$1:$AA$7,2,0)),0,VLOOKUP(H13,matrice!$Z$1:$AA$7,2,0))) | I14: =IF(I12="","",VLOOKUP(I12,matrice!$Z$1:$AA$7,2,0)+(I10="mar")*1.5+IF(ISERROR(VLOOKUP(I13,matrice!$Z$1:$AA$7,2,0)),0,VLOOKUP(I13,matrice!$Z$1:$AA$7,2,0))) | J14: =IF(J12="","",VLOOKUP(J12,matrice!$Z$1:$AA$7,2,0)+(J10="mar")*1.5+IF(ISERROR(VLOOKUP(J13,matrice!$Z$1:$AA$7,2,0)),0,VLOOKUP(J13,matrice!$Z$1:$AA$7,2,0))) | K14: =IF(K12="","",VLOOKUP(K12,matrice!$Z$1:$AA$7,2,0)+(K10="mar")*1.5+IF(ISERROR(VLOOKUP(K13,matrice!$Z$1:$AA$7,2,0)),0,VLOOKUP(K13,matrice!$Z$1:$AA$7,2,0))) | ... AH14: =IF(AH12="","",VLOOKUP(AH12,matrice!$Z$1:$AA$7,2,0)+(AH10="mar")*1.5+IF(ISERROR(VLOOKUP(AH13,matrice!$Z$1:$AA$7,2,0)),0,VLOOKUP(AH13,matrice!$Z$1:$AA$7,2,0)))

Sheet Feuil3
