Workbook
Name ColA: Feuil1!$A:$A
Name Employes: Feuil1!$A$3:$A$65000

Sheet Feuil1
B1: Planning de travail des employés I (liste) (Catégorie Planning ): 01/03/2010 - 31/03/2010
A3: =IF(LEFT(B3,2)="Em",MID(B3,10,99),"") -> Emy ALEX | B3: Employé: Emy ALEX
A4: =IF(LEFT(B4,2)="Em",MID(B4,10,99),"")
A5: =IF(LEFT(B5,2)="Em",MID(B5,10,99),"") | B5: Date | C5: Planning de travail | H5: Somme
A6: =IF(LEFT(B6,2)="Em",MID(B6,10,99),"")
A7: =IF(LEFT(B7,2)="Em",MID(B7,10,99),"") | B7: Mar 09/03/2010 8:00 - 17:00 | C7: CIEL - Commercial 8:00 - 12:00 | D7: CIEL - Commercial 13:00 - 17:00 | H7: 0.33333333
A8: =IF(LEFT(B8,2)="Em",MID(B8,10,99),"") | B8: Mer 10/03/2010 8:00 - 17:00 | C8: CIEL - Commercial 8:00 - 12:00 | D8: CIEL - Commercial 13:00 - 17:00 | H8: 0.33333333
A9: =IF(LEFT(B9,2)="Em",MID(B9,10,99),"") | B9: Jeu 11/03/2010 8:00 - 17:00 | C9: CIEL - Commercial 8:00 - 12:00 | D9: CIEL - Commercial 13:00 - 17:00 | H9: 0.33333333
A10: =IF(LEFT(B10,2)="Em",MID(B10,10,99),"") | B10: Ven 12/03/2010 8:00 - 16:00 | C10: CIEL - Commercial 8:00 - 12:00 | D10: CIEL - Commercial 13:00 - 16:00 | H10: 0.29166667
A11: =IF(LEFT(B11,2)="Em",MID(B11,10,99),"") | B11: Lun 15/03/2010 8:00 - 17:00 | C11: CIEL - Commercial 8:00 - 12:00 | D11: CIEL - Commercial 13:00 - 17:00 | H11: 0.33333333
A12: =IF(LEFT(B12,2)="Em",MID(B12,10,99),"") | B12: Mar 16/03/2010 8:00 - 17:00 | C12: CIEL - Commercial 8:00 - 12:00 | D12: CIEL - Commercial 13:00 - 17:00 | H12: 0.33333333
A13: =IF(LEFT(B13,2)="Em",MID(B13,10,99),"") | B13: Mer 17/03/2010 8:00 - 17:00 | C13: CIEL - Commercial 8:00 - 12:00 | D13: CIEL - Commercial 13:00 - 17:00 | H13: 0.33333333
A14: =IF(LEFT(B14,2)="Em",MID(B14,10,99),"") | B14: Jeu 18/03/2010 8:00 - 17:00 | C14: CIEL - Commercial 8:00 - 12:00 | D14: CIEL - Commercial 13:00 - 17:00 | H14: 0.33333333
A15: =IF(LEFT(B15,2)="Em",MID(B15,10,99),"") | B15: Ven 19/03/2010 8:00 - 16:00 | C15: CIEL - Commercial 8:00 - 12:00 | D15: CIEL - Commercial 13:00 - 16:00 | H15: 0.29166667
A16: =IF(LEFT(B16,2)="Em",MID(B16,10,99),"") | B16: Lun 22/03/2010 8:00 - 17:00 | C16: CIEL - Commercial 8:00 - 12:00 | D16: CIEL - Commercial 13:00 - 17:00 | H16: 0.33333333
A17: =IF(LEFT(B17,2)="Em",MID(B17,10,99),"") | B17: Mar 23/03/2010 8:00 - 17:00 | C17: CIEL - Commercial 8:00 - 12:00 | D17: CIEL - Commercial 13:00 - 17:00 | H17: 0.33333333
A18: =IF(LEFT(B18,2)="Em",MID(B18,10,99),"") | B18: Mer 24/03/2010 8:00 - 17:00 | C18: CIEL - Commercial 8:00 - 12:00 | D18: CIEL - Commercial 13:00 - 17:00 | H18: 0.33333333
... A23: =IF(LEFT(B23,2)="Em",MID(B23,10,99),"") | B23: Mer 31/03/2010 7:00 - 16:00 | C23: CIEL - Commercial 7:00 - 11:00 | D23: CIEL - Commercial 12:00 - 16:00 | H23: 0.33333333
A24: =IF(LEFT(B24,2)="Em",MID(B24,10,99),"")
A25: =IF(LEFT(B25,2)="Em",MID(B25,10,99),"") -> Jean MICOUS | B25: Employé: Jean MICOUS
A26: =IF(LEFT(B26,2)="Em",MID(B26,10,99),"")
A27: =IF(LEFT(B27,2)="Em",MID(B27,10,99),"") | B27: Date | C27: Planning de travail | H27: Somme
A28: =IF(LEFT(B28,2)="Em",MID(B28,10,99),"")
A29: =IF(LEFT(B29,2)="Em",MID(B29,10,99),"") | B29: Mar 09/03/2010 0:00 - 24:00 | C29: Congé payé 0:00 - 24:00 | H29: 0.30555556
A30: =IF(LEFT(B30,2)="Em",MID(B30,10,99),"") | B30: Mer 10/03/2010 0:00 - 24:00 | C30: Congé payé 0:00 - 24:00 | H30: 0.30555556
A31: =IF(LEFT(B31,2)="Em",MID(B31,10,99),"") | B31: Jeu 11/03/2010 0:00 - 24:00 | C31: Congé payé 0:00 - 24:00 | H31: 0.30555556
A32: =IF(LEFT(B32,2)="Em",MID(B32,10,99),"") | B32: Ven 12/03/2010 8:00 - 16:00 | C32: CIEL - Commercial 8:00 - 12:00 | D32: CIEL - Commercial 13:00 - 16:00 | H32: 0.29166667
A33: =IF(LEFT(B33,2)="Em",MID(B33,10,99),"") | B33: Lun 15/03/2010 8:00 - 17:00 | C33: CIEL - Commercial 8:00 - 12:00 | D33: CIEL - Commercial 13:00 - 17:00 | H33: 0.33333333
A34: =IF(LEFT(B34,2)="Em",MID(B34,10,99),"") | B34: Mar 16/03/2010 8:00 - 17:00 | C34: CIEL - Commercial 8:00 - 12:00 | D34: CIEL - Commercial 13:00 - 17:00 | H34: 0.33333333
A35: =IF(LEFT(B35,2)="Em",MID(B35,10,99),"") | B35: Mer 17/03/2010 8:00 - 17:00 | C35: CIEL - Commercial 8:00 - 12:00 | D35: CIEL - Commercial 13:00 - 17:00 | H35: 0.33333333
A36: =IF(LEFT(B36,2)="Em",MID(B36,10,99),"") | B36: Jeu 18/03/2010 8:00 - 17:00 | C36: CIEL - Commercial 8:00 - 12:00 | D36: CIEL - Commercial 13:00 - 17:00 | H36: 0.33333333
A37: =IF(LEFT(B37,2)="Em",MID(B37,10,99),"") | B37: Ven 19/03/2010 8:00 - 16:00 | C37: CIEL - Commercial 8:00 - 12:00 | D37: CIEL - Commercial 13:00 - 16:00 | H37: 0.29166667
A38: =IF(LEFT(B38,2)="Em",MID(B38,10,99),"") | B38: Lun 22/03/2010 8:00 - 17:00 | C38: CIEL - Commercial 8:00 - 12:00 | D38: CIEL - Commercial 13:00 - 17:00 | H38: 0.33333333
A39: =IF(LEFT(B39,2)="Em",MID(B39,10,99),"") | B39: Mar 23/03/2010 8:00 - 17:00 | C39: CIEL - Commercial 8:00 - 12:00 | D39: CIEL - Commercial 13:00 - 17:00 | H39: 0.33333333
A40: =IF(LEFT(B40,2)="Em",MID(B40,10,99),"") | B40: Mer 24/03/2010 8:00 - 17:00 | C40: CIEL - Commercial 8:00 - 12:00 | D40: CIEL - Commercial 13:00 - 17:00 | H40: 0.33333333
A41: =IF(LEFT(B41,2)="Em",MID(B41,10,99),"") | B41: Jeu 25/03/2010 8:00 - 17:00 | C41: CIEL - Commercial 8:00 - 12:00 | D41: CIEL - Commercial 13:00 - 17:00 | H41: 0.33333333
A42: =IF(LEFT(B42,2)="Em",MID(B42,10,99),"") | B42: Ven 26/03/2010 8:00 - 16:00 | C42: CIEL - Commercial 8:00 - 12:00 | D42: CIEL - Commercial 13:00 - 16:00 | H42: 0.29166667
A43: =IF(LEFT(B43,2)="Em",MID(B43,10,99),"") | B43: Lun 29/03/2010 7:00 - 16:00 | C43: CIEL - Commercial 7:00 - 11:00 | D43: CIEL - Commercial 12:00 - 16:00 | H43: 0.33333333
... A45: =IF(LEFT(B45,2)="Em",MID(B45,10,99),"") | B45: Mer 31/03/2010 7:00 - 16:00 | C45: CIEL - Commercial 7:00 - 11:00 | D45: CIEL - Commercial 12:00 - 16:00 | H45: 0.33333333
A46: =IF(LEFT(B46,2)="Em",MID(B46,10,99),"")
...

Sheet Feuil2
A2: Employé | B2: heures plannifiées
A3: {=INDEX(ColA,MIN(IF(COUNTIF(A$2:A2,Employes)=0,IF(Employes<>"",ROW(Employes)))))&""} -> Emy ALEX | B3: {=IF(A3="","",SUM(INDIRECT("Feuil1!H"&MATCH(A3,Feuil1!A:A,0)&IF(A4="",":H65000",":H"&MATCH(A4,Feuil1!A:A,0)))))} -> 5.5416667
A4: {=INDEX(ColA,MIN(IF(COUNTIF(A$2:A3,Employes)=0,IF(Employes<>"",ROW(Employes)))))&""} -> Jean MICOUS | B4: {=IF(A4="","",SUM(INDIRECT("Feuil1!H"&MATCH(A4,Feuil1!A:A,0)&IF(A5="",":H65000",":H"&MATCH(A5,Feuil1!A:A,0)))))} -> 5.4583333
A5: {=INDEX(ColA,MIN(IF(COUNTIF(A$2:A4,Employes)=0,IF(Employes<>"",ROW(Employes)))))&""} -> David BOUA | B5: {=IF(A5="","",SUM(INDIRECT("Feuil1!H"&MATCH(A5,Feuil1!A:A,0)&IF(A6="",":H65000",":H"&MATCH(A6,Feuil1!A:A,0)))))} -> 5.6388889
A6: {=INDEX(ColA,MIN(IF(COUNTIF(A$2:A5,Employes)=0,IF(Employes<>"",ROW(Employes)))))&""} | B6: {=IF(A6="","",SUM(INDIRECT("Feuil1!H"&MATCH(A6,Feuil1!A:A,0)&IF(A7="",":H65000",":H"&MATCH(A7,Feuil1!A:A,0)))))}
A7: {=INDEX(ColA,MIN(IF(COUNTIF(A$2:A6,Employes)=0,IF(Employes<>"",ROW(Employes)))))&""} | B7: {=IF(A7="","",SUM(INDIRECT("Feuil1!H"&MATCH(A7,Feuil1!A:A,0)&IF(A8="",":H65000",":H"&MATCH(A8,Feuil1!A:A,0)))))}
A8: {=INDEX(ColA,MIN(IF(COUNTIF(A$2:A7,Employes)=0,IF(Employes<>"",ROW(Employes)))))&""} | B8: {=IF(A8="","",SUM(INDIRECT("Feuil1!H"&MATCH(A8,Feuil1!A:A,0)&IF(A9="",":H65000",":H"&MATCH(A9,Feuil1!A:A,0)))))}
A9: {=INDEX(ColA,MIN(IF(COUNTIF(A$2:A8,Employes)=0,IF(Employes<>"",ROW(Employes)))))&""} | B9: {=IF(A9="","",SUM(INDIRECT("Feuil1!H"&MATCH(A9,Feuil1!A:A,0)&IF(A10="",":H65000",":H"&MATCH(A10,Feuil1!A:A,0)))))}
A10: {=INDEX(ColA,MIN(IF(COUNTIF(A$2:A9,Employes)=0,IF(Employes<>"",ROW(Employes)))))&""} | B10: {=IF(A10="","",SUM(INDIRECT("Feuil1!H"&MATCH(A10,Feuil1!A:A,0)&IF(A11="",":H65000",":H"&MATCH(A11,Feuil1!A:A,0)))))}
A11: {=INDEX(ColA,MIN(IF(COUNTIF(A$2:A10,Employes)=0,IF(Employes<>"",ROW(Employes)))))&""} | B11: {=IF(A11="","",SUM(INDIRECT("Feuil1!H"&MATCH(A11,Feuil1!A:A,0)&IF(A12="",":H65000",":H"&MATCH(A12,Feuil1!A:A,0)))))}
