Workbook

Sheet Feuil1
A2: Date | B2: Semaine | C2: Hairon 1 | D2: Belle Fontaines 2 | E2: Durelle 3 | F2: Friquets 4 | G2: Brulée 5 | H2: Malaiserie 6 | I2: Malades 7 | J2: Les Fontaines 8 | K2: TOTAL
A3: 39085 | B3: ="Semaine"&INT(MOD(INT((A3-2)/7)+0.6,52+5/28))+1&"-"&YEAR(A3) -> Semaine1-2007 | C3: 701.1 | D3: =C3+0.1 -> 701.2 | E3: =D3+0.1 -> 701.3 | F3: =E3+0.1 -> 701.4 | G3: =F3+0.1 -> 701.5 | H3: =G3+0.1 -> 701.6 | I3: =H3+0.1 -> 701.7 | J3: =I3+0.1 -> 701.8 | K3: =SUM(C3:J3) -> 5611.6
A4: =A3+7 -> 39092 | B4: ="Semaine"&INT(MOD(INT((A4-2)/7)+0.6,52+5/28))+1&"-"&IF(AND(MONTH(A4)=12,INT(MOD(INT((A4-2)/7)+0.6,52+5/28))+1<INT(MOD(INT((A3-2)/7)+0.6,52+5/28))+1),YEAR(A4)+1,YEAR(A4)) -> Semaine2-2007 | C4: =C3+1 -> 702.1 | D4: =C4+0.1 -> 702.2 | E4: =D4+0.1 -> 702.3 | F4: =E4+0.1 -> 702.4 | G4: =F4+0.1 -> 702.5 | H4: =G4+0.1 -> 702.6 | I4: =H4+0.1 -> 702.7 | J4: =I4+0.1 -> 702.8 | K4: =SUM(C4:J4) -> 5619.6
A5: =A4+7 -> 39099 | B5: ="Semaine"&INT(MOD(INT((A5-2)/7)+0.6,52+5/28))+1&"-"&IF(AND(MONTH(A5)=12,INT(MOD(INT((A5-2)/7)+0.6,52+5/28))+1<INT(MOD(INT((A4-2)/7)+0.6,52+5/28))+1),YEAR(A5)+1,YEAR(A5)) -> Semaine3-2007 | C5: =C4+1 -> 703.1 | D5: =C5+0.1 -> 703.2 | E5: =D5+0.1 -> 703.3 | F5: =E5+0.1 -> 703.4 | G5: =F5+0.1 -> 703.5 | H5: =G5+0.1 -> 703.6 | I5: =H5+0.1 -> 703.7 | J5: =I5+0.1 -> 703.8 | K5: =SUM(C5:J5) -> 5627.6
A6: =A5+7 -> 39106 | B6: ="Semaine"&INT(MOD(INT((A6-2)/7)+0.6,52+5/28))+1&"-"&IF(AND(MONTH(A6)=12,INT(MOD(INT((A6-2)/7)+0.6,52+5/28))+1<INT(MOD(INT((A5-2)/7)+0.6,52+5/28))+1),YEAR(A6)+1,YEAR(A6)) -> Semaine4-2007 | C6: =C5+1 -> 704.1 | D6: =C6+0.1 -> 704.2 | E6: =D6+0.1 -> 704.3 | F6: =E6+0.1 -> 704.4 | G6: =F6+0.1 -> 704.5 | H6: =G6+0.1 -> 704.6 | I6: =H6+0.1 -> 704.7 | J6: =I6+0.1 -> 704.8 | K6: =SUM(C6:J6) -> 5635.6
A7: =A6+7 -> 39113 | B7: ="Semaine"&INT(MOD(INT((A7-2)/7)+0.6,52+5/28))+1&"-"&IF(AND(MONTH(A7)=12,INT(MOD(INT((A7-2)/7)+0.6,52+5/28))+1<INT(MOD(INT((A6-2)/7)+0.6,52+5/28))+1),YEAR(A7)+1,YEAR(A7)) -> Semaine5-2007 | C7: =C6+1 -> 705.1 | D7: =C7+0.1 -> 705.2 | E7: =D7+0.1 -> 705.3 | F7: =E7+0.1 -> 705.4 | G7: =F7+0.1 -> 705.5 | H7: =G7+0.1 -> 705.6 | I7: =H7+0.1 -> 705.7 | J7: =I7+0.1 -> 705.8 | K7: =SUM(C7:J7) -> 5643.6
A8: =A7+7 -> 39120 | B8: ="Semaine"&INT(MOD(INT((A8-2)/7)+0.6,52+5/28))+1&"-"&IF(AND(MONTH(A8)=12,INT(MOD(INT((A8-2)/7)+0.6,52+5/28))+1<INT(MOD(INT((A7-2)/7)+0.6,52+5/28))+1),YEAR(A8)+1,YEAR(A8)) -> Semaine6-2007 | C8: =C7+1 -> 706.1 | D8: =C8+0.1 -> 706.2 | E8: =D8+0.1 -> 706.3 | F8: =E8+0.1 -> 706.4 | G8: =F8+0.1 -> 706.5 | H8: =G8+0.1 -> 706.6 | I8: =H8+0.1 -> 706.7 | J8: =I8+0.1 -> 706.8 | K8: =SUM(C8:J8) -> 5651.6
A9: =A8+7 -> 39127 | B9: ="Semaine"&INT(MOD(INT((A9-2)/7)+0.6,52+5/28))+1&"-"&IF(AND(MONTH(A9)=12,INT(MOD(INT((A9-2)/7)+0.6,52+5/28))+1<INT(MOD(INT((A8-2)/7)+0.6,52+5/28))+1),YEAR(A9)+1,YEAR(A9)) -> Semaine7-2007 | C9: =C8+1 -> 707.1 | D9: =C9+0.1 -> 707.2 | E9: =D9+0.1 -> 707.3 | F9: =E9+0.1 -> 707.4 | G9: =F9+0.1 -> 707.5 | H9: =G9+0.1 -> 707.6 | I9: =H9+0.1 -> 707.7 | J9: =I9+0.1 -> 707.8 | K9: =SUM(C9:J9) -> 5659.6
A10: =A9+7 -> 39134 | B10: ="Semaine"&INT(MOD(INT((A10-2)/7)+0.6,52+5/28))+1&"-"&IF(AND(MONTH(A10)=12,INT(MOD(INT((A10-2)/7)+0.6,52+5/28))+1<INT(MOD(INT((A9-2)/7)+0.6,52+5/28))+1),YEAR(A10)+1,YEAR(A10)) -> Semaine8-2007 | C10: =C9+1 -> 708.1 | D10: =C10+0.1 -> 708.2 | E10: =D10+0.1 -> 708.3 | F10: =E10+0.1 -> 708.4 | G10: =F10+0.1 -> 708.5 | H10: =G10+0.1 -> 708.6 | I10: =H10+0.1 -> 708.7 | J10: =I10+0.1 -> 708.8 | K10: =SUM(C10:J10) -> 5667.6
A11: =A10+7 -> 39141 | B11: ="Semaine"&INT(MOD(INT((A11-2)/7)+0.6,52+5/28))+1&"-"&IF(AND(MONTH(A11)=12,INT(MOD(INT((A11-2)/7)+0.6,52+5/28))+1<INT(MOD(INT((A10-2)/7)+0.6,52+5/28))+1),YEAR(A11)+1,YEAR(A11)) -> Semaine9-2007 | C11: =C10+1 -> 709.1 | D11: =C11+0.1 -> 709.2 | E11: =D11+0.1 -> 709.3 | F11: =E11+0.1 -> 709.4 | G11: =F11+0.1 -> 709.5 | H11: =G11+0.1 -> 709.6 | I11: =H11+0.1 -> 709.7 | J11: =I11+0.1 -> 709.8 | K11: =SUM(C11:J11) -> 5675.6
A12: =A11+7 -> 39148 | B12: ="Semaine"&INT(MOD(INT((A12-2)/7)+0.6,52+5/28))+1&"-"&IF(AND(MONTH(A12)=12,INT(MOD(INT((A12-2)/7)+0.6,52+5/28))+1<INT(MOD(INT((A11-2)/7)+0.6,52+5/28))+1),YEAR(A12)+1,YEAR(A12)) -> Semaine10-2007 | C12: =C11+1 -> 710.1 | D12: =C12+0.1 -> 710.2 | E12: =D12+0.1 -> 710.3 | F12: =E12+0.1 -> 710.4 | G12: =F12+0.1 -> 710.5 | H12: =G12+0.1 -> 710.6 | I12: =H12+0.1 -> 710.7 | J12: =I12+0.1 -> 710.8 | K12: =SUM(C12:J12) -> 5683.6
A13: =A12+7 -> 39155 | B13: ="Semaine"&INT(MOD(INT((A13-2)/7)+0.6,52+5/28))+1&"-"&IF(AND(MONTH(A13)=12,INT(MOD(INT((A13-2)/7)+0.6,52+5/28))+1<INT(MOD(INT((A12-2)/7)+0.6,52+5/28))+1),YEAR(A13)+1,YEAR(A13)) -> Semaine11-2007 | C13: =C12+1 -> 711.1 | D13: =C13+0.1 -> 711.2 | E13: =D13+0.1 -> 711.3 | F13: =E13+0.1 -> 711.4 | G13: =F13+0.1 -> 711.5 | H13: =G13+0.1 -> 711.6 | I13: =H13+0.1 -> 711.7 | J13: =I13+0.1 -> 711.8 | K13: =SUM(C13:J13) -> 5691.6
A14: =A13+7 -> 39162 | B14: ="Semaine"&INT(MOD(INT((A14-2)/7)+0.6,52+5/28))+1&"-"&IF(AND(MONTH(A14)=12,INT(MOD(INT((A14-2)/7)+0.6,52+5/28))+1<INT(MOD(INT((A13-2)/7)+0.6,52+5/28))+1),YEAR(A14)+1,YEAR(A14)) -> Semaine12-2007 | C14: =C13+1 -> 712.1 | D14: =C14+0.1 -> 712.2 | E14: =D14+0.1 -> 712.3 | F14: =E14+0.1 -> 712.4 | G14: =F14+0.1 -> 712.5 | H14: =G14+0.1 -> 712.6 | I14: =H14+0.1 -> 712.7 | J14: =I14+0.1 -> 712.8 | K14: =SUM(C14:J14) -> 5699.6
A15: =A14+7 -> 39169 | B15: ="Semaine"&INT(MOD(INT((A15-2)/7)+0.6,52+5/28))+1&"-"&IF(AND(MONTH(A15)=12,INT(MOD(INT((A15-2)/7)+0.6,52+5/28))+1<INT(MOD(INT((A14-2)/7)+0.6,52+5/28))+1),YEAR(A15)+1,YEAR(A15)) -> Semaine13-2007 | C15: =C14+1 -> 713.1 | D15: =C15+0.1 -> 713.2 | E15: =D15+0.1 -> 713.3 | F15: =E15+0.1 -> 713.4 | G15: =F15+0.1 -> 713.5 | H15: =G15+0.1 -> 713.6 | I15: =H15+0.1 -> 713.7 | J15: =I15+0.1 -> 713.8 | K15: =SUM(C15:J15) -> 5707.6
... A54: =A53+7 -> 39442 | B54: ="Semaine"&INT(MOD(INT((A54-2)/7)+0.6,52+5/28))+1&"-"&IF(AND(MONTH(A54)=12,INT(MOD(INT((A54-2)/7)+0.6,52+5/28))+1<INT(MOD(INT((A53-2)/7)+0.6,52+5/28))+1),YEAR(A54)+1,YEAR(A54)) -> Semaine52-2007 | C54: =C53+1 -> 752.1 | D54: =C54+0.1 -> 752.2 | E54: =D54+0.1 -> 752.3 | F54: =E54+0.1 -> 752.4 | G54: =F54+0.1 -> 752.5 | H54: =G54+0.1 -> 752.6 | I54: =H54+0.1 -> 752.7 | J54: =I54+0.1 -> 752.8 | K54: =SUM(C54:J54) -> 6019.6
A55: =A54+7 -> 39449 | B55: ="Semaine"&INT(MOD(INT((A55-2)/7)+0.6,52+5/28))+1&"-"&IF(AND(MONTH(A55)=12,INT(MOD(INT((A55-2)/7)+0.6,52+5/28))+1<INT(MOD(INT((A54-2)/7)+0.6,52+5/28))+1),YEAR(A55)+1,YEAR(A55)) -> Semaine1-2008 | C55: 801.1 | D55: =C55+0.1 -> 801.2 | E55: =D55+0.1 -> 801.3 | F55: =E55+0.1 -> 801.4 | G55: =F55+0.1 -> 801.5 | H55: =G55+0.1 -> 801.6 | I55: =H55+0.1 -> 801.7 | J55: =I55+0.1 -> 801.8 | K55: =SUM(C55:J55) -> 6411.6
A56: =A55+7 -> 39456 | B56: ="Semaine"&INT(MOD(INT((A56-2)/7)+0.6,52+5/28))+1&"-"&IF(AND(MONTH(A56)=12,INT(MOD(INT((A56-2)/7)+0.6,52+5/28))+1<INT(MOD(INT((A55-2)/7)+0.6,52+5/28))+1),YEAR(A56)+1,YEAR(A56)) -> Semaine2-2008 | C56: 802.1 | D56: =C56+0.1 -> 802.2 | E56: =D56+0.1 -> 802.3 | F56: =E56+0.1 -> 802.4 | G56: =F56+0.1 -> 802.5 | H56: =G56+0.1 -> 802.6 | I56: =H56+0.1 -> 802.7 | J56: =I56+0.1 -> 802.8 | K56: =SUM(C56:J56) -> 6419.6
A57: =A56+7 -> 39463 | B57: ="Semaine"&INT(MOD(INT((A57-2)/7)+0.6,52+5/28))+1&"-"&IF(AND(MONTH(A57)=12,INT(MOD(INT((A57-2)/7)+0.6,52+5/28))+1<INT(MOD(INT((A56-2)/7)+0.6,52+5/28))+1),YEAR(A57)+1,YEAR(A57)) -> Semaine3-2008 | C57: 803.1 | D57: =C57+0.1 -> 803.2 | E57: =D57+0.1 -> 803.3 | F57: =E57+0.1 -> 803.4 | G57: =F57+0.1 -> 803.5 | H57: =G57+0.1 -> 803.6 | I57: =H57+0.1 -> 803.7 | J57: =I57+0.1 -> 803.8 | K57: =SUM(C57:J57) -> 6427.6
A58: =A57+7 -> 39470 | B58: ="Semaine"&INT(MOD(INT((A58-2)/7)+0.6,52+5/28))+1&"-"&IF(AND(MONTH(A58)=12,INT(MOD(INT((A58-2)/7)+0.6,52+5/28))+1<INT(MOD(INT((A57-2)/7)+0.6,52+5/28))+1),YEAR(A58)+1,YEAR(A58)) -> Semaine4-2008 | C58: 804.1 | D58: =C58+0.1 -> 804.2 | E58: =D58+0.1 -> 804.3 | F58: =E58+0.1 -> 804.4 | G58: =F58+0.1 -> 804.5 | H58: =G58+0.1 -> 804.6 | I58: =H58+0.1 -> 804.7 | J58: =I58+0.1 -> 804.8 | K58: =SUM(C58:J58) -> 6435.6
A59: =A58+7 -> 39477 | B59: ="Semaine"&INT(MOD(INT((A59-2)/7)+0.6,52+5/28))+1&"-"&IF(AND(MONTH(A59)=12,INT(MOD(INT((A59-2)/7)+0.6,52+5/28))+1<INT(MOD(INT((A58-2)/7)+0.6,52+5/28))+1),YEAR(A59)+1,YEAR(A59)) -> Semaine5-2008 | C59: 805.1 | D59: =C59+0.1 -> 805.2 | E59: =D59+0.1 -> 805.3 | F59: =E59+0.1 -> 805.4 | G59: =F59+0.1 -> 805.5 | H59: =G59+0.1 -> 805.6 | I59: =H59+0.1 -> 805.7 | J59: =I59+0.1 -> 805.8 | K59: =SUM(C59:J59) -> 6443.6
A60: =A59+7 -> 39484 | B60: ="Semaine"&INT(MOD(INT((A60-2)/7)+0.6,52+5/28))+1&"-"&IF(AND(MONTH(A60)=12,INT(MOD(INT((A60-2)/7)+0.6,52+5/28))+1<INT(MOD(INT((A59-2)/7)+0.6,52+5/28))+1),YEAR(A60)+1,YEAR(A60)) -> Semaine6-2008 | C60: 806.1 | D60: =C60+0.1 -> 806.2 | E60: =D60+0.1 -> 806.3 | F60: =E60+0.1 -> 806.4 | G60: =F60+0.1 -> 806.5 | H60: =G60+0.1 -> 806.6 | I60: =H60+0.1 -> 806.7 | J60: =I60+0.1 -> 806.8 | K60: =SUM(C60:J60) -> 6451.6
A61: =A60+7 -> 39491 | B61: ="Semaine"&INT(MOD(INT((A61-2)/7)+0.6,52+5/28))+1&"-"&IF(AND(MONTH(A61)=12,INT(MOD(INT((A61-2)/7)+0.6,52+5/28))+1<INT(MOD(INT((A60-2)/7)+0.6,52+5/28))+1),YEAR(A61)+1,YEAR(A61)) -> Semaine7-2008 | C61: 807.1 | D61: =C61+0.1 -> 807.2 | E61: =D61+0.1 -> 807.3 | F61: =E61+0.1 -> 807.4 | G61: =F61+0.1 -> 807.5 | H61: =G61+0.1 -> 807.6 | I61: =H61+0.1 -> 807.7 | J61: =I61+0.1 -> 807.8 | K61: =SUM(C61:J61) -> 6459.6
A62: =A61+7 -> 39498 | B62: ="Semaine"&INT(MOD(INT((A62-2)/7)+0.6,52+5/28))+1&"-"&IF(AND(MONTH(A62)=12,INT(MOD(INT((A62-2)/7)+0.6,52+5/28))+1<INT(MOD(INT((A61-2)/7)+0.6,52+5/28))+1),YEAR(A62)+1,YEAR(A62)) -> Semaine8-2008 | C62: 808.1 | D62: =C62+0.1 -> 808.2 | E62: =D62+0.1 -> 808.3 | F62: =E62+0.1 -> 808.4 | G62: =F62+0.1 -> 808.5 | H62: =G62+0.1 -> 808.6 | I62: =H62+0.1 -> 808.7 | J62: =I62+0.1 -> 808.8 | K62: =SUM(C62:J62) -> 6467.6
A63: =A62+7 -> 39505 | B63: ="Semaine"&INT(MOD(INT((A63-2)/7)+0.6,52+5/28))+1&"-"&IF(AND(MONTH(A63)=12,INT(MOD(INT((A63-2)/7)+0.6,52+5/28))+1<INT(MOD(INT((A62-2)/7)+0.6,52+5/28))+1),YEAR(A63)+1,YEAR(A63)) -> Semaine9-2008 | C63: 809.1 | D63: =C63+0.1 -> 809.2 | E63: =D63+0.1 -> 809.3 | F63: =E63+0.1 -> 809.4 | G63: =F63+0.1 -> 809.5 | H63: =G63+0.1 -> 809.6 | I63: =H63+0.1 -> 809.7 | J63: =I63+0.1 -> 809.8 | K63: =SUM(C63:J63) -> 6475.6
A64: =A63+7 -> 39512 | B64: ="Semaine"&INT(MOD(INT((A64-2)/7)+0.6,52+5/28))+1&"-"&IF(AND(MONTH(A64)=12,INT(MOD(INT((A64-2)/7)+0.6,52+5/28))+1<INT(MOD(INT((A63-2)/7)+0.6,52+5/28))+1),YEAR(A64)+1,YEAR(A64)) -> Semaine10-2008 | C64: 810.1 | D64: =C64+0.1 -> 810.2 | E64: =D64+0.1 -> 810.3 | F64: =E64+0.1 -> 810.4 | G64: =F64+0.1 -> 810.5 | H64: =G64+0.1 -> 810.6 | I64: =H64+0.1 -> 810.7 | J64: =I64+0.1 -> 810.8 | K64: =SUM(C64:J64) -> 6483.6
A65: =A64+7 -> 39519 | B65: ="Semaine"&INT(MOD(INT((A65-2)/7)+0.6,52+5/28))+1&"-"&IF(AND(MONTH(A65)=12,INT(MOD(INT((A65-2)/7)+0.6,52+5/28))+1<INT(MOD(INT((A64-2)/7)+0.6,52+5/28))+1),YEAR(A65)+1,YEAR(A65)) -> Semaine11-2008 | C65: 811.1 | D65: =C65+0.1 -> 811.2 | E65: =D65+0.1 -> 811.3 | F65: =E65+0.1 -> 811.4 | G65: =F65+0.1 -> 811.5 | H65: =G65+0.1 -> 811.6 | I65: =H65+0.1 -> 811.7 | J65: =I65+0.1 -> 811.8 | K65: =SUM(C65:J65) -> 6491.6
A66: =A65+7 -> 39526 | B66: ="Semaine"&INT(MOD(INT((A66-2)/7)+0.6,52+5/28))+1&"-"&IF(AND(MONTH(A66)=12,INT(MOD(INT((A66-2)/7)+0.6,52+5/28))+1<INT(MOD(INT((A65-2)/7)+0.6,52+5/28))+1),YEAR(A66)+1,YEAR(A66)) -> Semaine12-2008 | C66: 812.1 | D66: =C66+0.1 -> 812.2 | E66: =D66+0.1 -> 812.3 | F66: =E66+0.1 -> 812.4 | G66: =F66+0.1 -> 812.5 | H66: =G66+0.1 -> 812.6 | I66: =H66+0.1 -> 812.7 | J66: =I66+0.1 -> 812.8 | K66: =SUM(C66:J66) -> 6499.6
... A472: =A471+7 -> 42368 | B472: ="Semaine"&INT(MOD(INT((A472-2)/7)+0.6,52+5/28))+1&"-"&IF(AND(MONTH(A472)=12,INT(MOD(INT((A472-2)/7)+0.6,52+5/28))+1<INT(MOD(INT((A471-2)/7)+0.6,52+5/28))+1),YEAR(A472)+1,YEAR(A472)) -> Semaine53-2015 | C472: 1553.1 | D472: =C472+0.1 -> 1553.2 | E472: =D472+0.1 -> 1553.3 | F472: =E472+0.1 -> 1553.4 | G472: =F472+0.1 -> 1553.5 | H472: =G472+0.1 -> 1553.6 | I472: =H472+0.1 -> 1553.7 | J472: =I472+0.1 -> 1553.8 | K472: =SUM(C472:J472) -> 12427.6

Sheet Feuil2
A1: Année | B1: 2009
N2: ="année " &B1 -> année 2009
B3: Hairon | C3: Belle Fontaines | D3: Durelle | E3: Friquets | F3: Brulée | G3: Malaiserie | H3: Malades | I3: Les Fontaines | J3: TOTAL | N3: ="année " &B1-1 -> année 2008
A4: ="Semaine"&ROWS($1:1)&"-"&$B$1 -> Semaine1-2009 | B4: =IF(COUNTIF(Feuil1!$B:$B,$A4)=0,0,VLOOKUP($A4,Feuil1!$B:$K,COLUMN(),0)) -> 901.1 | C4: =IF(COUNTIF(Feuil1!$B:$B,$A4)=0,0,VLOOKUP($A4,Feuil1!$B:$K,COLUMN(),0)) -> 901.2 | D4: =IF(COUNTIF(Feuil1!$B:$B,$A4)=0,0,VLOOKUP($A4,Feuil1!$B:$K,COLUMN(),0)) -> 901.3 | E4: =IF(COUNTIF(Feuil1!$B:$B,$A4)=0,0,VLOOKUP($A4,Feuil1!$B:$K,COLUMN(),0)) -> 901.4 | F4: =IF(COUNTIF(Feuil1!$B:$B,$A4)=0,0,VLOOKUP($A4,Feuil1!$B:$K,COLUMN(),0)) -> 901.5 | G4: =IF(COUNTIF(Feuil1!$B:$B,$A4)=0,0,VLOOKUP($A4,Feuil1!$B:$K,COLUMN(),0)) -> 901.6 | H4: =IF(COUNTIF(Feuil1!$B:$B,$A4)=0,0,VLOOKUP($A4,Feuil1!$B:$K,COLUMN(),0)) -> 901.7 | I4: =IF(COUNTIF(Feuil1!$B:$B,$A4)=0,0,VLOOKUP($A4,Feuil1!$B:$K,COLUMN(),0)) -> 901.8 | J4: =IF(COUNTIF(Feuil1!$B:$B,$A4)=0,0,VLOOKUP($A4,Feuil1!$B:$K,COLUMN(),0)) -> 7211.6
A5: ="Semaine"&ROWS($1:2)&"-"&$B$1 -> Semaine2-2009 | B5: =IF(COUNTIF(Feuil1!$B:$B,$A5)=0,0,VLOOKUP($A5,Feuil1!$B:$K,COLUMN(),0)) -> 902.1 | C5: =IF(COUNTIF(Feuil1!$B:$B,$A5)=0,0,VLOOKUP($A5,Feuil1!$B:$K,COLUMN(),0)) -> 902.2 | D5: =IF(COUNTIF(Feuil1!$B:$B,$A5)=0,0,VLOOKUP($A5,Feuil1!$B:$K,COLUMN(),0)) -> 902.3 | E5: =IF(COUNTIF(Feuil1!$B:$B,$A5)=0,0,VLOOKUP($A5,Feuil1!$B:$K,COLUMN(),0)) -> 902.4 | F5: =IF(COUNTIF(Feuil1!$B:$B,$A5)=0,0,VLOOKUP($A5,Feuil1!$B:$K,COLUMN(),0)) -> 902.5 | G5: =IF(COUNTIF(Feuil1!$B:$B,$A5)=0,0,VLOOKUP($A5,Feuil1!$B:$K,COLUMN(),0)) -> 902.6 | H5: =IF(COUNTIF(Feuil1!$B:$B,$A5)=0,0,VLOOKUP($A5,Feuil1!$B:$K,COLUMN(),0)) -> 902.7 | I5: =IF(COUNTIF(Feuil1!$B:$B,$A5)=0,0,VLOOKUP($A5,Feuil1!$B:$K,COLUMN(),0)) -> 902.8 | J5: =IF(COUNTIF(Feuil1!$B:$B,$A5)=0,0,VLOOKUP($A5,Feuil1!$B:$K,COLUMN(),0)) -> 7219.6
A6: ="Semaine"&ROWS($1:3)&"-"&$B$1 -> Semaine3-2009 | B6: =IF(COUNTIF(Feuil1!$B:$B,$A6)=0,0,VLOOKUP($A6,Feuil1!$B:$K,COLUMN(),0)) -> 903.1 | C6: =IF(COUNTIF(Feuil1!$B:$B,$A6)=0,0,VLOOKUP($A6,Feuil1!$B:$K,COLUMN(),0)) -> 903.2 | D6: =IF(COUNTIF(Feuil1!$B:$B,$A6)=0,0,VLOOKUP($A6,Feuil1!$B:$K,COLUMN(),0)) -> 903.3 | E6: =IF(COUNTIF(Feuil1!$B:$B,$A6)=0,0,VLOOKUP($A6,Feuil1!$B:$K,COLUMN(),0)) -> 903.4 | F6: =IF(COUNTIF(Feuil1!$B:$B,$A6)=0,0,VLOOKUP($A6,Feuil1!$B:$K,COLUMN(),0)) -> 903.5 | G6: =IF(COUNTIF(Feuil1!$B:$B,$A6)=0,0,VLOOKUP($A6,Feuil1!$B:$K,COLUMN(),0)) -> 903.6 | H6: =IF(COUNTIF(Feuil1!$B:$B,$A6)=0,0,VLOOKUP($A6,Feuil1!$B:$K,COLUMN(),0)) -> 903.7 | I6: =IF(COUNTIF(Feuil1!$B:$B,$A6)=0,0,VLOOKUP($A6,Feuil1!$B:$K,COLUMN(),0)) -> 903.8 | J6: =IF(COUNTIF(Feuil1!$B:$B,$A6)=0,0,VLOOKUP($A6,Feuil1!$B:$K,COLUMN(),0)) -> 7227.6
A7: ="Semaine"&ROWS($1:4)&"-"&$B$1 -> Semaine4-2009 | B7: =IF(COUNTIF(Feuil1!$B:$B,$A7)=0,0,VLOOKUP($A7,Feuil1!$B:$K,COLUMN(),0)) -> 904.1 | C7: =IF(COUNTIF(Feuil1!$B:$B,$A7)=0,0,VLOOKUP($A7,Feuil1!$B:$K,COLUMN(),0)) -> 904.2 | D7: =IF(COUNTIF(Feuil1!$B:$B,$A7)=0,0,VLOOKUP($A7,Feuil1!$B:$K,COLUMN(),0)) -> 904.3 | E7: =IF(COUNTIF(Feuil1!$B:$B,$A7)=0,0,VLOOKUP($A7,Feuil1!$B:$K,COLUMN(),0)) -> 904.4 | F7: =IF(COUNTIF(Feuil1!$B:$B,$A7)=0,0,VLOOKUP($A7,Feuil1!$B:$K,COLUMN(),0)) -> 904.5 | G7: =IF(COUNTIF(Feuil1!$B:$B,$A7)=0,0,VLOOKUP($A7,Feuil1!$B:$K,COLUMN(),0)) -> 904.6 | H7: =IF(COUNTIF(Feuil1!$B:$B,$A7)=0,0,VLOOKUP($A7,Feuil1!$B:$K,COLUMN(),0)) -> 904.7 | I7: =IF(COUNTIF(Feuil1!$B:$B,$A7)=0,0,VLOOKUP($A7,Feuil1!$B:$K,COLUMN(),0)) -> 904.8 | J7: =IF(COUNTIF(Feuil1!$B:$B,$A7)=0,0,VLOOKUP($A7,Feuil1!$B:$K,COLUMN(),0)) -> 7235.6
A8: ="Semaine"&ROWS($1:5)&"-"&$B$1 -> Semaine5-2009 | B8: =IF(COUNTIF(Feuil1!$B:$B,$A8)=0,0,VLOOKUP($A8,Feuil1!$B:$K,COLUMN(),0)) -> 905.1 | C8: =IF(COUNTIF(Feuil1!$B:$B,$A8)=0,0,VLOOKUP($A8,Feuil1!$B:$K,COLUMN(),0)) -> 905.2 | D8: =IF(COUNTIF(Feuil1!$B:$B,$A8)=0,0,VLOOKUP($A8,Feuil1!$B:$K,COLUMN(),0)) -> 905.3 | E8: =IF(COUNTIF(Feuil1!$B:$B,$A8)=0,0,VLOOKUP($A8,Feuil1!$B:$K,COLUMN(),0)) -> 905.4 | F8: =IF(COUNTIF(Feuil1!$B:$B,$A8)=0,0,VLOOKUP($A8,Feuil1!$B:$K,COLUMN(),0)) -> 905.5 | G8: =IF(COUNTIF(Feuil1!$B:$B,$A8)=0,0,VLOOKUP($A8,Feuil1!$B:$K,COLUMN(),0)) -> 905.6 | H8: =IF(COUNTIF(Feuil1!$B:$B,$A8)=0,0,VLOOKUP($A8,Feuil1!$B:$K,COLUMN(),0)) -> 905.7 | I8: =IF(COUNTIF(Feuil1!$B:$B,$A8)=0,0,VLOOKUP($A8,Feuil1!$B:$K,COLUMN(),0)) -> 905.8 | J8: =IF(COUNTIF(Feuil1!$B:$B,$A8)=0,0,VLOOKUP($A8,Feuil1!$B:$K,COLUMN(),0)) -> 7243.6
A9: ="Semaine"&ROWS($1:6)&"-"&$B$1 -> Semaine6-2009 | B9: =IF(COUNTIF(Feuil1!$B:$B,$A9)=0,0,VLOOKUP($A9,Feuil1!$B:$K,COLUMN(),0)) -> 906.1 | C9: =IF(COUNTIF(Feuil1!$B:$B,$A9)=0,0,VLOOKUP($A9,Feuil1!$B:$K,COLUMN(),0)) -> 906.2 | D9: =IF(COUNTIF(Feuil1!$B:$B,$A9)=0,0,VLOOKUP($A9,Feuil1!$B:$K,COLUMN(),0)) -> 906.3 | E9: =IF(COUNTIF(Feuil1!$B:$B,$A9)=0,0,VLOOKUP($A9,Feuil1!$B:$K,COLUMN(),0)) -> 906.4 | F9: =IF(COUNTIF(Feuil1!$B:$B,$A9)=0,0,VLOOKUP($A9,Feuil1!$B:$K,COLUMN(),0)) -> 906.5 | G9: =IF(COUNTIF(Feuil1!$B:$B,$A9)=0,0,VLOOKUP($A9,Feuil1!$B:$K,COLUMN(),0)) -> 906.6 | H9: =IF(COUNTIF(Feuil1!$B:$B,$A9)=0,0,VLOOKUP($A9,Feuil1!$B:$K,COLUMN(),0)) -> 906.7 | I9: =IF(COUNTIF(Feuil1!$B:$B,$A9)=0,0,VLOOKUP($A9,Feuil1!$B:$K,COLUMN(),0)) -> 906.8 | J9: =IF(COUNTIF(Feuil1!$B:$B,$A9)=0,0,VLOOKUP($A9,Feuil1!$B:$K,COLUMN(),0)) -> 7251.6
A10: ="Semaine"&ROWS($1:7)&"-"&$B$1 -> Semaine7-2009 | B10: =IF(COUNTIF(Feuil1!$B:$B,$A10)=0,0,VLOOKUP($A10,Feuil1!$B:$K,COLUMN(),0)) -> 907.1 | C10: =IF(COUNTIF(Feuil1!$B:$B,$A10)=0,0,VLOOKUP($A10,Feuil1!$B:$K,COLUMN(),0)) -> 907.2 | D10: =IF(COUNTIF(Feuil1!$B:$B,$A10)=0,0,VLOOKUP($A10,Feuil1!$B:$K,COLUMN(),0)) -> 907.3 | E10: =IF(COUNTIF(Feuil1!$B:$B,$A10)=0,0,VLOOKUP($A10,Feuil1!$B:$K,COLUMN(),0)) -> 907.4 | F10: =IF(COUNTIF(Feuil1!$B:$B,$A10)=0,0,VLOOKUP($A10,Feuil1!$B:$K,COLUMN(),0)) -> 907.5 | G10: =IF(COUNTIF(Feuil1!$B:$B,$A10)=0,0,VLOOKUP($A10,Feuil1!$B:$K,COLUMN(),0)) -> 907.6 | H10: =IF(COUNTIF(Feuil1!$B:$B,$A10)=0,0,VLOOKUP($A10,Feuil1!$B:$K,COLUMN(),0)) -> 907.7 | I10: =IF(COUNTIF(Feuil1!$B:$B,$A10)=0,0,VLOOKUP($A10,Feuil1!$B:$K,COLUMN(),0)) -> 907.8 | J10: =IF(COUNTIF(Feuil1!$B:$B,$A10)=0,0,VLOOKUP($A10,Feuil1!$B:$K,COLUMN(),0)) -> 7259.6
A11: ="Semaine"&ROWS($1:8)&"-"&$B$1 -> Semaine8-2009 | B11: =IF(COUNTIF(Feuil1!$B:$B,$A11)=0,0,VLOOKUP($A11,Feuil1!$B:$K,COLUMN(),0)) -> 908.1 | C11: =IF(COUNTIF(Feuil1!$B:$B,$A11)=0,0,VLOOKUP($A11,Feuil1!$B:$K,COLUMN(),0)) -> 908.2 | D11: =IF(COUNTIF(Feuil1!$B:$B,$A11)=0,0,VLOOKUP($A11,Feuil1!$B:$K,COLUMN(),0)) -> 908.3 | E11: =IF(COUNTIF(Feuil1!$B:$B,$A11)=0,0,VLOOKUP($A11,Feuil1!$B:$K,COLUMN(),0)) -> 908.4 | F11: =IF(COUNTIF(Feuil1!$B:$B,$A11)=0,0,VLOOKUP($A11,Feuil1!$B:$K,COLUMN(),0)) -> 908.5 | G11: =IF(COUNTIF(Feuil1!$B:$B,$A11)=0,0,VLOOKUP($A11,Feuil1!$B:$K,COLUMN(),0)) -> 908.6 | H11: =IF(COUNTIF(Feuil1!$B:$B,$A11)=0,0,VLOOKUP($A11,Feuil1!$B:$K,COLUMN(),0)) -> 908.7 | I11: =IF(COUNTIF(Feuil1!$B:$B,$A11)=0,0,VLOOKUP($A11,Feuil1!$B:$K,COLUMN(),0)) -> 908.8 | J11: =IF(COUNTIF(Feuil1!$B:$B,$A11)=0,0,VLOOKUP($A11,Feuil1!$B:$K,COLUMN(),0)) -> 7267.6
A12: ="Semaine"&ROWS($1:9)&"-"&$B$1 -> Semaine9-2009 | B12: =IF(COUNTIF(Feuil1!$B:$B,$A12)=0,0,VLOOKUP($A12,Feuil1!$B:$K,COLUMN(),0)) -> 909.1 | C12: =IF(COUNTIF(Feuil1!$B:$B,$A12)=0,0,VLOOKUP($A12,Feuil1!$B:$K,COLUMN(),0)) -> 909.2 | D12: =IF(COUNTIF(Feuil1!$B:$B,$A12)=0,0,VLOOKUP($A12,Feuil1!$B:$K,COLUMN(),0)) -> 909.3 | E12: =IF(COUNTIF(Feuil1!$B:$B,$A12)=0,0,VLOOKUP($A12,Feuil1!$B:$K,COLUMN(),0)) -> 909.4 | F12: =IF(COUNTIF(Feuil1!$B:$B,$A12)=0,0,VLOOKUP($A12,Feuil1!$B:$K,COLUMN(),0)) -> 909.5 | G12: =IF(COUNTIF(Feuil1!$B:$B,$A12)=0,0,VLOOKUP($A12,Feuil1!$B:$K,COLUMN(),0)) -> 909.6 | H12: =IF(COUNTIF(Feuil1!$B:$B,$A12)=0,0,VLOOKUP($A12,Feuil1!$B:$K,COLUMN(),0)) -> 909.7 | I12: =IF(COUNTIF(Feuil1!$B:$B,$A12)=0,0,VLOOKUP($A12,Feuil1!$B:$K,COLUMN(),0)) -> 909.8 | J12: =IF(COUNTIF(Feuil1!$B:$B,$A12)=0,0,VLOOKUP($A12,Feuil1!$B:$K,COLUMN(),0)) -> 7275.6
A13: ="Semaine"&ROWS($1:10)&"-"&$B$1 -> Semaine10-2009 | B13: =IF(COUNTIF(Feuil1!$B:$B,$A13)=0,0,VLOOKUP($A13,Feuil1!$B:$K,COLUMN(),0)) -> 910.1 | C13: =IF(COUNTIF(Feuil1!$B:$B,$A13)=0,0,VLOOKUP($A13,Feuil1!$B:$K,COLUMN(),0)) -> 910.2 | D13: =IF(COUNTIF(Feuil1!$B:$B,$A13)=0,0,VLOOKUP($A13,Feuil1!$B:$K,COLUMN(),0)) -> 910.3 | E13: =IF(COUNTIF(Feuil1!$B:$B,$A13)=0,0,VLOOKUP($A13,Feuil1!$B:$K,COLUMN(),0)) -> 910.4 | F13: =IF(COUNTIF(Feuil1!$B:$B,$A13)=0,0,VLOOKUP($A13,Feuil1!$B:$K,COLUMN(),0)) -> 910.5 | G13: =IF(COUNTIF(Feuil1!$B:$B,$A13)=0,0,VLOOKUP($A13,Feuil1!$B:$K,COLUMN(),0)) -> 910.6 | H13: =IF(COUNTIF(Feuil1!$B:$B,$A13)=0,0,VLOOKUP($A13,Feuil1!$B:$K,COLUMN(),0)) -> 910.7 | I13: =IF(COUNTIF(Feuil1!$B:$B,$A13)=0,0,VLOOKUP($A13,Feuil1!$B:$K,COLUMN(),0)) -> 910.8 | J13: =IF(COUNTIF(Feuil1!$B:$B,$A13)=0,0,VLOOKUP($A13,Feuil1!$B:$K,COLUMN(),0)) -> 7283.6
A14: ="Semaine"&ROWS($1:11)&"-"&$B$1 -> Semaine11-2009 | B14: =IF(COUNTIF(Feuil1!$B:$B,$A14)=0,0,VLOOKUP($A14,Feuil1!$B:$K,COLUMN(),0)) -> 911.1 | C14: =IF(COUNTIF(Feuil1!$B:$B,$A14)=0,0,VLOOKUP($A14,Feuil1!$B:$K,COLUMN(),0)) -> 911.2 | D14: =IF(COUNTIF(Feuil1!$B:$B,$A14)=0,0,VLOOKUP($A14,Feuil1!$B:$K,COLUMN(),0)) -> 911.3 | E14: =IF(COUNTIF(Feuil1!$B:$B,$A14)=0,0,VLOOKUP($A14,Feuil1!$B:$K,COLUMN(),0)) -> 911.4 | F14: =IF(COUNTIF(Feuil1!$B:$B,$A14)=0,0,VLOOKUP($A14,Feuil1!$B:$K,COLUMN(),0)) -> 911.5 | G14: =IF(COUNTIF(Feuil1!$B:$B,$A14)=0,0,VLOOKUP($A14,Feuil1!$B:$K,COLUMN(),0)) -> 911.6 | H14: =IF(COUNTIF(Feuil1!$B:$B,$A14)=0,0,VLOOKUP($A14,Feuil1!$B:$K,COLUMN(),0)) -> 911.7 | I14: =IF(COUNTIF(Feuil1!$B:$B,$A14)=0,0,VLOOKUP($A14,Feuil1!$B:$K,COLUMN(),0)) -> 911.8 | J14: =IF(COUNTIF(Feuil1!$B:$B,$A14)=0,0,VLOOKUP($A14,Feuil1!$B:$K,COLUMN(),0)) -> 7291.6
A15: ="Semaine"&ROWS($1:12)&"-"&$B$1 -> Semaine12-2009 | B15: =IF(COUNTIF(Feuil1!$B:$B,$A15)=0,0,VLOOKUP($A15,Feuil1!$B:$K,COLUMN(),0)) -> 912.1 | C15: =IF(COUNTIF(Feuil1!$B:$B,$A15)=0,0,VLOOKUP($A15,Feuil1!$B:$K,COLUMN(),0)) -> 912.2 | D15: =IF(COUNTIF(Feuil1!$B:$B,$A15)=0,0,VLOOKUP($A15,Feuil1!$B:$K,COLUMN(),0)) -> 912.3 | E15: =IF(COUNTIF(Feuil1!$B:$B,$A15)=0,0,VLOOKUP($A15,Feuil1!$B:$K,COLUMN(),0)) -> 912.4 | F15: =IF(COUNTIF(Feuil1!$B:$B,$A15)=0,0,VLOOKUP($A15,Feuil1!$B:$K,COLUMN(),0)) -> 912.5 | G15: =IF(COUNTIF(Feuil1!$B:$B,$A15)=0,0,VLOOKUP($A15,Feuil1!$B:$K,COLUMN(),0)) -> 912.6 | H15: =IF(COUNTIF(Feuil1!$B:$B,$A15)=0,0,VLOOKUP($A15,Feuil1!$B:$K,COLUMN(),0)) -> 912.7 | I15: =IF(COUNTIF(Feuil1!$B:$B,$A15)=0,0,VLOOKUP($A15,Feuil1!$B:$K,COLUMN(),0)) -> 912.8 | J15: =IF(COUNTIF(Feuil1!$B:$B,$A15)=0,0,VLOOKUP($A15,Feuil1!$B:$K,COLUMN(),0)) -> 7299.6
A16: ="Semaine"&ROWS($1:13)&"-"&$B$1 -> Semaine13-2009 | B16: =IF(COUNTIF(Feuil1!$B:$B,$A16)=0,0,VLOOKUP($A16,Feuil1!$B:$K,COLUMN(),0)) -> 913.1 | C16: =IF(COUNTIF(Feuil1!$B:$B,$A16)=0,0,VLOOKUP($A16,Feuil1!$B:$K,COLUMN(),0)) -> 913.2 | D16: =IF(COUNTIF(Feuil1!$B:$B,$A16)=0,0,VLOOKUP($A16,Feuil1!$B:$K,COLUMN(),0)) -> 913.3 | E16: =IF(COUNTIF(Feuil1!$B:$B,$A16)=0,0,VLOOKUP($A16,Feuil1!$B:$K,COLUMN(),0)) -> 913.4 | F16: =IF(COUNTIF(Feuil1!$B:$B,$A16)=0,0,VLOOKUP($A16,Feuil1!$B:$K,COLUMN(),0)) -> 913.5 | G16: =IF(COUNTIF(Feuil1!$B:$B,$A16)=0,0,VLOOKUP($A16,Feuil1!$B:$K,COLUMN(),0)) -> 913.6 | H16: =IF(COUNTIF(Feuil1!$B:$B,$A16)=0,0,VLOOKUP($A16,Feuil1!$B:$K,COLUMN(),0)) -> 913.7 | I16: =IF(COUNTIF(Feuil1!$B:$B,$A16)=0,0,VLOOKUP($A16,Feuil1!$B:$K,COLUMN(),0)) -> 913.8 | J16: =IF(COUNTIF(Feuil1!$B:$B,$A16)=0,0,VLOOKUP($A16,Feuil1!$B:$K,COLUMN(),0)) -> 7307.6
A17: ="Semaine"&ROWS($1:14)&"-"&$B$1 -> Semaine14-2009 | B17: =IF(COUNTIF(Feuil1!$B:$B,$A17)=0,0,VLOOKUP($A17,Feuil1!$B:$K,COLUMN(),0)) -> 914.1 | C17: =IF(COUNTIF(Feuil1!$B:$B,$A17)=0,0,VLOOKUP($A17,Feuil1!$B:$K,COLUMN(),0)) -> 914.2 | D17: =IF(COUNTIF(Feuil1!$B:$B,$A17)=0,0,VLOOKUP($A17,Feuil1!$B:$K,COLUMN(),0)) -> 914.3 | E17: =IF(COUNTIF(Feuil1!$B:$B,$A17)=0,0,VLOOKUP($A17,Feuil1!$B:$K,COLUMN(),0)) -> 914.4 | F17: =IF(COUNTIF(Feuil1!$B:$B,$A17)=0,0,VLOOKUP($A17,Feuil1!$B:$K,COLUMN(),0)) -> 914.5 | G17: =IF(COUNTIF(Feuil1!$B:$B,$A17)=0,0,VLOOKUP($A17,Feuil1!$B:$K,COLUMN(),0)) -> 914.6 | H17: =IF(COUNTIF(Feuil1!$B:$B,$A17)=0,0,VLOOKUP($A17,Feuil1!$B:$K,COLUMN(),0)) -> 914.7 | I17: =IF(COUNTIF(Feuil1!$B:$B,$A17)=0,0,VLOOKUP($A17,Feuil1!$B:$K,COLUMN(),0)) -> 914.8 | J17: =IF(COUNTIF(Feuil1!$B:$B,$A17)=0,0,VLOOKUP($A17,Feuil1!$B:$K,COLUMN(),0)) -> 7315.6
A18: ="Semaine"&ROWS($1:15)&"-"&$B$1 -> Semaine15-2009 | B18: =IF(COUNTIF(Feuil1!$B:$B,$A18)=0,0,VLOOKUP($A18,Feuil1!$B:$K,COLUMN(),0)) -> 915.1 | C18: =IF(COUNTIF(Feuil1!$B:$B,$A18)=0,0,VLOOKUP($A18,Feuil1!$B:$K,COLUMN(),0)) -> 915.2 | D18: =IF(COUNTIF(Feuil1!$B:$B,$A18)=0,0,VLOOKUP($A18,Feuil1!$B:$K,COLUMN(),0)) -> 915.3 | E18: =IF(COUNTIF(Feuil1!$B:$B,$A18)=0,0,VLOOKUP($A18,Feuil1!$B:$K,COLUMN(),0)) -> 915.4 | F18: =IF(COUNTIF(Feuil1!$B:$B,$A18)=0,0,VLOOKUP($A18,Feuil1!$B:$K,COLUMN(),0)) -> 915.5 | G18: =IF(COUNTIF(Feuil1!$B:$B,$A18)=0,0,VLOOKUP($A18,Feuil1!$B:$K,COLUMN(),0)) -> 915.6 | H18: =IF(COUNTIF(Feuil1!$B:$B,$A18)=0,0,VLOOKUP($A18,Feuil1!$B:$K,COLUMN(),0)) -> 915.7 | I18: =IF(COUNTIF(Feuil1!$B:$B,$A18)=0,0,VLOOKUP($A18,Feuil1!$B:$K,COLUMN(),0)) -> 915.8 | J18: =IF(COUNTIF(Feuil1!$B:$B,$A18)=0,0,VLOOKUP($A18,Feuil1!$B:$K,COLUMN(),0)) -> 7323.6
A19: ="Semaine"&ROWS($1:16)&"-"&$B$1 -> Semaine16-2009 | B19: =IF(COUNTIF(Feuil1!$B:$B,$A19)=0,0,VLOOKUP($A19,Feuil1!$B:$K,COLUMN(),0)) -> 916.1 | C19: =IF(COUNTIF(Feuil1!$B:$B,$A19)=0,0,VLOOKUP($A19,Feuil1!$B:$K,COLUMN(),0)) -> 916.2 | D19: =IF(COUNTIF(Feuil1!$B:$B,$A19)=0,0,VLOOKUP($A19,Feuil1!$B:$K,COLUMN(),0)) -> 916.3 | E19: =IF(COUNTIF(Feuil1!$B:$B,$A19)=0,0,VLOOKUP($A19,Feuil1!$B:$K,COLUMN(),0)) -> 916.4 | F19: =IF(COUNTIF(Feuil1!$B:$B,$A19)=0,0,VLOOKUP($A19,Feuil1!$B:$K,COLUMN(),0)) -> 916.5 | G19: =IF(COUNTIF(Feuil1!$B:$B,$A19)=0,0,VLOOKUP($A19,Feuil1!$B:$K,COLUMN(),0)) -> 916.6 | H19: =IF(COUNTIF(Feuil1!$B:$B,$A19)=0,0,VLOOKUP($A19,Feuil1!$B:$K,COLUMN(),0)) -> 916.7 | I19: =IF(COUNTIF(Feuil1!$B:$B,$A19)=0,0,VLOOKUP($A19,Feuil1!$B:$K,COLUMN(),0)) -> 916.8 | J19: =IF(COUNTIF(Feuil1!$B:$B,$A19)=0,0,VLOOKUP($A19,Feuil1!$B:$K,COLUMN(),0)) -> 7331.6
A20: ="Semaine"&ROWS($1:17)&"-"&$B$1 -> Semaine17-2009 | B20: =IF(COUNTIF(Feuil1!$B:$B,$A20)=0,0,VLOOKUP($A20,Feuil1!$B:$K,COLUMN(),0)) -> 917.1 | C20: =IF(COUNTIF(Feuil1!$B:$B,$A20)=0,0,VLOOKUP($A20,Feuil1!$B:$K,COLUMN(),0)) -> 917.2 | D20: =IF(COUNTIF(Feuil1!$B:$B,$A20)=0,0,VLOOKUP($A20,Feuil1!$B:$K,COLUMN(),0)) -> 917.3 | E20: =IF(COUNTIF(Feuil1!$B:$B,$A20)=0,0,VLOOKUP($A20,Feuil1!$B:$K,COLUMN(),0)) -> 917.4 | F20: =IF(COUNTIF(Feuil1!$B:$B,$A20)=0,0,VLOOKUP($A20,Feuil1!$B:$K,COLUMN(),0)) -> 917.5 | G20: =IF(COUNTIF(Feuil1!$B:$B,$A20)=0,0,VLOOKUP($A20,Feuil1!$B:$K,COLUMN(),0)) -> 917.6 | H20: =IF(COUNTIF(Feuil1!$B:$B,$A20)=0,0,VLOOKUP($A20,Feuil1!$B:$K,COLUMN(),0)) -> 917.7 | I20: =IF(COUNTIF(Feuil1!$B:$B,$A20)=0,0,VLOOKUP($A20,Feuil1!$B:$K,COLUMN(),0)) -> 917.8 | J20: =IF(COUNTIF(Feuil1!$B:$B,$A20)=0,0,VLOOKUP($A20,Feuil1!$B:$K,COLUMN(),0)) -> 7339.6
A21: ="Semaine"&ROWS($1:18)&"-"&$B$1 -> Semaine18-2009 | B21: =IF(COUNTIF(Feuil1!$B:$B,$A21)=0,0,VLOOKUP($A21,Feuil1!$B:$K,COLUMN(),0)) -> 918.1 | C21: =IF(COUNTIF(Feuil1!$B:$B,$A21)=0,0,VLOOKUP($A21,Feuil1!$B:$K,COLUMN(),0)) -> 918.2 | D21: =IF(COUNTIF(Feuil1!$B:$B,$A21)=0,0,VLOOKUP($A21,Feuil1!$B:$K,COLUMN(),0)) -> 918.3 | E21: =IF(COUNTIF(Feuil1!$B:$B,$A21)=0,0,VLOOKUP($A21,Feuil1!$B:$K,COLUMN(),0)) -> 918.4 | F21: =IF(COUNTIF(Feuil1!$B:$B,$A21)=0,0,VLOOKUP($A21,Feuil1!$B:$K,COLUMN(),0)) -> 918.5 | G21: =IF(COUNTIF(Feuil1!$B:$B,$A21)=0,0,VLOOKUP($A21,Feuil1!$B:$K,COLUMN(),0)) -> 918.6 | H21: =IF(COUNTIF(Feuil1!$B:$B,$A21)=0,0,VLOOKUP($A21,Feuil1!$B:$K,COLUMN(),0)) -> 918.7 | I21: =IF(COUNTIF(Feuil1!$B:$B,$A21)=0,0,VLOOKUP($A21,Feuil1!$B:$K,COLUMN(),0)) -> 918.8 | J21: =IF(COUNTIF(Feuil1!$B:$B,$A21)=0,0,VLOOKUP($A21,Feuil1!$B:$K,COLUMN(),0)) -> 7347.6
A22: ="Semaine"&ROWS($1:19)&"-"&$B$1 -> Semaine19-2009 | B22: =IF(COUNTIF(Feuil1!$B:$B,$A22)=0,0,VLOOKUP($A22,Feuil1!$B:$K,COLUMN(),0)) -> 919.1 | C22: =IF(COUNTIF(Feuil1!$B:$B,$A22)=0,0,VLOOKUP($A22,Feuil1!$B:$K,COLUMN(),0)) -> 919.2 | D22: =IF(COUNTIF(Feuil1!$B:$B,$A22)=0,0,VLOOKUP($A22,Feuil1!$B:$K,COLUMN(),0)) -> 919.3 | E22: =IF(COUNTIF(Feuil1!$B:$B,$A22)=0,0,VLOOKUP($A22,Feuil1!$B:$K,COLUMN(),0)) -> 919.4 | F22: =IF(COUNTIF(Feuil1!$B:$B,$A22)=0,0,VLOOKUP($A22,Feuil1!$B:$K,COLUMN(),0)) -> 919.5 | G22: =IF(COUNTIF(Feuil1!$B:$B,$A22)=0,0,VLOOKUP($A22,Feuil1!$B:$K,COLUMN(),0)) -> 919.6 | H22: =IF(COUNTIF(Feuil1!$B:$B,$A22)=0,0,VLOOKUP($A22,Feuil1!$B:$K,COLUMN(),0)) -> 919.7 | I22: =IF(COUNTIF(Feuil1!$B:$B,$A22)=0,0,VLOOKUP($A22,Feuil1!$B:$K,COLUMN(),0)) -> 919.8 | J22: =IF(COUNTIF(Feuil1!$B:$B,$A22)=0,0,VLOOKUP($A22,Feuil1!$B:$K,COLUMN(),0)) -> 7355.6
A23: ="Semaine"&ROWS($1:20)&"-"&$B$1 -> Semaine20-2009 | B23: =IF(COUNTIF(Feuil1!$B:$B,$A23)=0,0,VLOOKUP($A23,Feuil1!$B:$K,COLUMN(),0)) -> 920.1 | C23: =IF(COUNTIF(Feuil1!$B:$B,$A23)=0,0,VLOOKUP($A23,Feuil1!$B:$K,COLUMN(),0)) -> 920.2 | D23: =IF(COUNTIF(Feuil1!$B:$B,$A23)=0,0,VLOOKUP($A23,Feuil1!$B:$K,COLUMN(),0)) -> 920.3 | E23: =IF(COUNTIF(Feuil1!$B:$B,$A23)=0,0,VLOOKUP($A23,Feuil1!$B:$K,COLUMN(),0)) -> 920.4 | F23: =IF(COUNTIF(Feuil1!$B:$B,$A23)=0,0,VLOOKUP($A23,Feuil1!$B:$K,COLUMN(),0)) -> 920.5 | G23: =IF(COUNTIF(Feuil1!$B:$B,$A23)=0,0,VLOOKUP($A23,Feuil1!$B:$K,COLUMN(),0)) -> 920.6 | H23: =IF(COUNTIF(Feuil1!$B:$B,$A23)=0,0,VLOOKUP($A23,Feuil1!$B:$K,COLUMN(),0)) -> 920.7 | I23: =IF(COUNTIF(Feuil1!$B:$B,$A23)=0,0,VLOOKUP($A23,Feuil1!$B:$K,COLUMN(),0)) -> 920.8 | J23: =IF(COUNTIF(Feuil1!$B:$B,$A23)=0,0,VLOOKUP($A23,Feuil1!$B:$K,COLUMN(),0)) -> 7363.6
A24: ="Semaine"&ROWS($1:21)&"-"&$B$1 -> Semaine21-2009 | B24: =IF(COUNTIF(Feuil1!$B:$B,$A24)=0,0,VLOOKUP($A24,Feuil1!$B:$K,COLUMN(),0)) -> 921.1 | C24: =IF(COUNTIF(Feuil1!$B:$B,$A24)=0,0,VLOOKUP($A24,Feuil1!$B:$K,COLUMN(),0)) -> 921.2 | D24: =IF(COUNTIF(Feuil1!$B:$B,$A24)=0,0,VLOOKUP($A24,Feuil1!$B:$K,COLUMN(),0)) -> 921.3 | E24: =IF(COUNTIF(Feuil1!$B:$B,$A24)=0,0,VLOOKUP($A24,Feuil1!$B:$K,COLUMN(),0)) -> 921.4 | F24: =IF(COUNTIF(Feuil1!$B:$B,$A24)=0,0,VLOOKUP($A24,Feuil1!$B:$K,COLUMN(),0)) -> 921.5 | G24: =IF(COUNTIF(Feuil1!$B:$B,$A24)=0,0,VLOOKUP($A24,Feuil1!$B:$K,COLUMN(),0)) -> 921.6 | H24: =IF(COUNTIF(Feuil1!$B:$B,$A24)=0,0,VLOOKUP($A24,Feuil1!$B:$K,COLUMN(),0)) -> 921.7 | I24: =IF(COUNTIF(Feuil1!$B:$B,$A24)=0,0,VLOOKUP($A24,Feuil1!$B:$K,COLUMN(),0)) -> 921.8 | J24: =IF(COUNTIF(Feuil1!$B:$B,$A24)=0,0,VLOOKUP($A24,Feuil1!$B:$K,COLUMN(),0)) -> 7371.6
A25: ="Semaine"&ROWS($1:22)&"-"&$B$1 -> Semaine22-2009 | B25: =IF(COUNTIF(Feuil1!$B:$B,$A25)=0,0,VLOOKUP($A25,Feuil1!$B:$K,COLUMN(),0)) -> 922.1 | C25: =IF(COUNTIF(Feuil1!$B:$B,$A25)=0,0,VLOOKUP($A25,Feuil1!$B:$K,COLUMN(),0)) -> 922.2 | D25: =IF(COUNTIF(Feuil1!$B:$B,$A25)=0,0,VLOOKUP($A25,Feuil1!$B:$K,COLUMN(),0)) -> 922.3 | E25: =IF(COUNTIF(Feuil1!$B:$B,$A25)=0,0,VLOOKUP($A25,Feuil1!$B:$K,COLUMN(),0)) -> 922.4 | F25: =IF(COUNTIF(Feuil1!$B:$B,$A25)=0,0,VLOOKUP($A25,Feuil1!$B:$K,COLUMN(),0)) -> 922.5 | G25: =IF(COUNTIF(Feuil1!$B:$B,$A25)=0,0,VLOOKUP($A25,Feuil1!$B:$K,COLUMN(),0)) -> 922.6 | H25: =IF(COUNTIF(Feuil1!$B:$B,$A25)=0,0,VLOOKUP($A25,Feuil1!$B:$K,COLUMN(),0)) -> 922.7 | I25: =IF(COUNTIF(Feuil1!$B:$B,$A25)=0,0,VLOOKUP($A25,Feuil1!$B:$K,COLUMN(),0)) -> 922.8 | J25: =IF(COUNTIF(Feuil1!$B:$B,$A25)=0,0,VLOOKUP($A25,Feuil1!$B:$K,COLUMN(),0)) -> 7379.6
A26: ="Semaine"&ROWS($1:23)&"-"&$B$1 -> Semaine23-2009 | B26: =IF(COUNTIF(Feuil1!$B:$B,$A26)=0,0,VLOOKUP($A26,Feuil1!$B:$K,COLUMN(),0)) -> 923.1 | C26: =IF(COUNTIF(Feuil1!$B:$B,$A26)=0,0,VLOOKUP($A26,Feuil1!$B:$K,COLUMN(),0)) -> 923.2 | D26: =IF(COUNTIF(Feuil1!$B:$B,$A26)=0,0,VLOOKUP($A26,Feuil1!$B:$K,COLUMN(),0)) -> 923.3 | E26: =IF(COUNTIF(Feuil1!$B:$B,$A26)=0,0,VLOOKUP($A26,Feuil1!$B:$K,COLUMN(),0)) -> 923.4 | F26: =IF(COUNTIF(Feuil1!$B:$B,$A26)=0,0,VLOOKUP($A26,Feuil1!$B:$K,COLUMN(),0)) -> 923.5 | G26: =IF(COUNTIF(Feuil1!$B:$B,$A26)=0,0,VLOOKUP($A26,Feuil1!$B:$K,COLUMN(),0)) -> 923.6 | H26: =IF(COUNTIF(Feuil1!$B:$B,$A26)=0,0,VLOOKUP($A26,Feuil1!$B:$K,COLUMN(),0)) -> 923.7 | I26: =IF(COUNTIF(Feuil1!$B:$B,$A26)=0,0,VLOOKUP($A26,Feuil1!$B:$K,COLUMN(),0)) -> 923.8 | J26: =IF(COUNTIF(Feuil1!$B:$B,$A26)=0,0,VLOOKUP($A26,Feuil1!$B:$K,COLUMN(),0)) -> 7387.6
A27: ="Semaine"&ROWS($1:24)&"-"&$B$1 -> Semaine24-2009 | B27: =IF(COUNTIF(Feuil1!$B:$B,$A27)=0,0,VLOOKUP($A27,Feuil1!$B:$K,COLUMN(),0)) -> 924.1 | C27: =IF(COUNTIF(Feuil1!$B:$B,$A27)=0,0,VLOOKUP($A27,Feuil1!$B:$K,COLUMN(),0)) -> 924.2 | D27: =IF(COUNTIF(Feuil1!$B:$B,$A27)=0,0,VLOOKUP($A27,Feuil1!$B:$K,COLUMN(),0)) -> 924.3 | E27: =IF(COUNTIF(Feuil1!$B:$B,$A27)=0,0,VLOOKUP($A27,Feuil1!$B:$K,COLUMN(),0)) -> 924.4 | F27: =IF(COUNTIF(Feuil1!$B:$B,$A27)=0,0,VLOOKUP($A27,Feuil1!$B:$K,COLUMN(),0)) -> 924.5 | G27: =IF(COUNTIF(Feuil1!$B:$B,$A27)=0,0,VLOOKUP($A27,Feuil1!$B:$K,COLUMN(),0)) -> 924.6 | H27: =IF(COUNTIF(Feuil1!$B:$B,$A27)=0,0,VLOOKUP($A27,Feuil1!$B:$K,COLUMN(),0)) -> 924.7 | I27: =IF(COUNTIF(Feuil1!$B:$B,$A27)=0,0,VLOOKUP($A27,Feuil1!$B:$K,COLUMN(),0)) -> 924.8 | J27: =IF(COUNTIF(Feuil1!$B:$B,$A27)=0,0,VLOOKUP($A27,Feuil1!$B:$K,COLUMN(),0)) -> 7395.6
A28: ="Semaine"&ROWS($1:25)&"-"&$B$1 -> Semaine25-2009 | B28: =IF(COUNTIF(Feuil1!$B:$B,$A28)=0,0,VLOOKUP($A28,Feuil1!$B:$K,COLUMN(),0)) -> 925.1 | C28: =IF(COUNTIF(Feuil1!$B:$B,$A28)=0,0,VLOOKUP($A28,Feuil1!$B:$K,COLUMN(),0)) -> 925.2 | D28: =IF(COUNTIF(Feuil1!$B:$B,$A28)=0,0,VLOOKUP($A28,Feuil1!$B:$K,COLUMN(),0)) -> 925.3 | E28: =IF(COUNTIF(Feuil1!$B:$B,$A28)=0,0,VLOOKUP($A28,Feuil1!$B:$K,COLUMN(),0)) -> 925.4 | F28: =IF(COUNTIF(Feuil1!$B:$B,$A28)=0,0,VLOOKUP($A28,Feuil1!$B:$K,COLUMN(),0)) -> 925.5 | G28: =IF(COUNTIF(Feuil1!$B:$B,$A28)=0,0,VLOOKUP($A28,Feuil1!$B:$K,COLUMN(),0)) -> 925.6 | H28: =IF(COUNTIF(Feuil1!$B:$B,$A28)=0,0,VLOOKUP($A28,Feuil1!$B:$K,COLUMN(),0)) -> 925.7 | I28: =IF(COUNTIF(Feuil1!$B:$B,$A28)=0,0,VLOOKUP($A28,Feuil1!$B:$K,COLUMN(),0)) -> 925.8 | J28: =IF(COUNTIF(Feuil1!$B:$B,$A28)=0,0,VLOOKUP($A28,Feuil1!$B:$K,COLUMN(),0)) -> 7403.6
A29: ="Semaine"&ROWS($1:26)&"-"&$B$1 -> Semaine26-2009 | B29: =IF(COUNTIF(Feuil1!$B:$B,$A29)=0,0,VLOOKUP($A29,Feuil1!$B:$K,COLUMN(),0)) -> 926.1 | C29: =IF(COUNTIF(Feuil1!$B:$B,$A29)=0,0,VLOOKUP($A29,Feuil1!$B:$K,COLUMN(),0)) -> 926.2 | D29: =IF(COUNTIF(Feuil1!$B:$B,$A29)=0,0,VLOOKUP($A29,Feuil1!$B:$K,COLUMN(),0)) -> 926.3 | E29: =IF(COUNTIF(Feuil1!$B:$B,$A29)=0,0,VLOOKUP($A29,Feuil1!$B:$K,COLUMN(),0)) -> 926.4 | F29: =IF(COUNTIF(Feuil1!$B:$B,$A29)=0,0,VLOOKUP($A29,Feuil1!$B:$K,COLUMN(),0)) -> 926.5 | G29: =IF(COUNTIF(Feuil1!$B:$B,$A29)=0,0,VLOOKUP($A29,Feuil1!$B:$K,COLUMN(),0)) -> 926.6 | H29: =IF(COUNTIF(Feuil1!$B:$B,$A29)=0,0,VLOOKUP($A29,Feuil1!$B:$K,COLUMN(),0)) -> 926.7 | I29: =IF(COUNTIF(Feuil1!$B:$B,$A29)=0,0,VLOOKUP($A29,Feuil1!$B:$K,COLUMN(),0)) -> 926.8 | J29: =IF(COUNTIF(Feuil1!$B:$B,$A29)=0,0,VLOOKUP($A29,Feuil1!$B:$K,COLUMN(),0)) -> 7411.6
A30: ="Semaine"&ROWS($1:27)&"-"&$B$1 -> Semaine27-2009 | B30: =IF(COUNTIF(Feuil1!$B:$B,$A30)=0,0,VLOOKUP($A30,Feuil1!$B:$K,COLUMN(),0)) -> 927.1 | C30: =IF(COUNTIF(Feuil1!$B:$B,$A30)=0,0,VLOOKUP($A30,Feuil1!$B:$K,COLUMN(),0)) -> 927.2 | D30: =IF(COUNTIF(Feuil1!$B:$B,$A30)=0,0,VLOOKUP($A30,Feuil1!$B:$K,COLUMN(),0)) -> 927.3 | E30: =IF(COUNTIF(Feuil1!$B:$B,$A30)=0,0,VLOOKUP($A30,Feuil1!$B:$K,COLUMN(),0)) -> 927.4 | F30: =IF(COUNTIF(Feuil1!$B:$B,$A30)=0,0,VLOOKUP($A30,Feuil1!$B:$K,COLUMN(),0)) -> 927.5 | G30: =IF(COUNTIF(Feuil1!$B:$B,$A30)=0,0,VLOOKUP($A30,Feuil1!$B:$K,COLUMN(),0)) -> 927.6 | H30: =IF(COUNTIF(Feuil1!$B:$B,$A30)=0,0,VLOOKUP($A30,Feuil1!$B:$K,COLUMN(),0)) -> 927.7 | I30: =IF(COUNTIF(Feuil1!$B:$B,$A30)=0,0,VLOOKUP($A30,Feuil1!$B:$K,COLUMN(),0)) -> 927.8 | J30: =IF(COUNTIF(Feuil1!$B:$B,$A30)=0,0,VLOOKUP($A30,Feuil1!$B:$K,COLUMN(),0)) -> 7419.6
A31: ="Semaine"&ROWS($1:28)&"-"&$B$1 -> Semaine28-2009 | B31: =IF(COUNTIF(Feuil1!$B:$B,$A31)=0,0,VLOOKUP($A31,Feuil1!$B:$K,COLUMN(),0)) -> 928.1 | C31: =IF(COUNTIF(Feuil1!$B:$B,$A31)=0,0,VLOOKUP($A31,Feuil1!$B:$K,COLUMN(),0)) -> 928.2 | D31: =IF(COUNTIF(Feuil1!$B:$B,$A31)=0,0,VLOOKUP($A31,Feuil1!$B:$K,COLUMN(),0)) -> 928.3 | E31: =IF(COUNTIF(Feuil1!$B:$B,$A31)=0,0,VLOOKUP($A31,Feuil1!$B:$K,COLUMN(),0)) -> 928.4 | F31: =IF(COUNTIF(Feuil1!$B:$B,$A31)=0,0,VLOOKUP($A31,Feuil1!$B:$K,COLUMN(),0)) -> 928.5 | G31: =IF(COUNTIF(Feuil1!$B:$B,$A31)=0,0,VLOOKUP($A31,Feuil1!$B:$K,COLUMN(),0)) -> 928.6 | H31: =IF(COUNTIF(Feuil1!$B:$B,$A31)=0,0,VLOOKUP($A31,Feuil1!$B:$K,COLUMN(),0)) -> 928.7 | I31: =IF(COUNTIF(Feuil1!$B:$B,$A31)=0,0,VLOOKUP($A31,Feuil1!$B:$K,COLUMN(),0)) -> 928.8 | J31: =IF(COUNTIF(Feuil1!$B:$B,$A31)=0,0,VLOOKUP($A31,Feuil1!$B:$K,COLUMN(),0)) -> 7427.6
A32: ="Semaine"&ROWS($1:29)&"-"&$B$1 -> Semaine29-2009 | B32: =IF(COUNTIF(Feuil1!$B:$B,$A32)=0,0,VLOOKUP($A32,Feuil1!$B:$K,COLUMN(),0)) -> 929.1 | C32: =IF(COUNTIF(Feuil1!$B:$B,$A32)=0,0,VLOOKUP($A32,Feuil1!$B:$K,COLUMN(),0)) -> 929.2 | D32: =IF(COUNTIF(Feuil1!$B:$B,$A32)=0,0,VLOOKUP($A32,Feuil1!$B:$K,COLUMN(),0)) -> 929.3 | E32: =IF(COUNTIF(Feuil1!$B:$B,$A32)=0,0,VLOOKUP($A32,Feuil1!$B:$K,COLUMN(),0)) -> 929.4 | F32: =IF(COUNTIF(Feuil1!$B:$B,$A32)=0,0,VLOOKUP($A32,Feuil1!$B:$K,COLUMN(),0)) -> 929.5 | G32: =IF(COUNTIF(Feuil1!$B:$B,$A32)=0,0,VLOOKUP($A32,Feuil1!$B:$K,COLUMN(),0)) -> 929.6 | H32: =IF(COUNTIF(Feuil1!$B:$B,$A32)=0,0,VLOOKUP($A32,Feuil1!$B:$K,COLUMN(),0)) -> 929.7 | I32: =IF(COUNTIF(Feuil1!$B:$B,$A32)=0,0,VLOOKUP($A32,Feuil1!$B:$K,COLUMN(),0)) -> 929.8 | J32: =IF(COUNTIF(Feuil1!$B:$B,$A32)=0,0,VLOOKUP($A32,Feuil1!$B:$K,COLUMN(),0)) -> 7435.6
A33: ="Semaine"&ROWS($1:30)&"-"&$B$1 -> Semaine30-2009 | B33: =IF(COUNTIF(Feuil1!$B:$B,$A33)=0,0,VLOOKUP($A33,Feuil1!$B:$K,COLUMN(),0)) -> 930.1 | C33: =IF(COUNTIF(Feuil1!$B:$B,$A33)=0,0,VLOOKUP($A33,Feuil1!$B:$K,COLUMN(),0)) -> 930.2 | D33: =IF(COUNTIF(Feuil1!$B:$B,$A33)=0,0,VLOOKUP($A33,Feuil1!$B:$K,COLUMN(),0)) -> 930.3 | E33: =IF(COUNTIF(Feuil1!$B:$B,$A33)=0,0,VLOOKUP($A33,Feuil1!$B:$K,COLUMN(),0)) -> 930.4 | F33: =IF(COUNTIF(Feuil1!$B:$B,$A33)=0,0,VLOOKUP($A33,Feuil1!$B:$K,COLUMN(),0)) -> 930.5 | G33: =IF(COUNTIF(Feuil1!$B:$B,$A33)=0,0,VLOOKUP($A33,Feuil1!$B:$K,COLUMN(),0)) -> 930.6 | H33: =IF(COUNTIF(Feuil1!$B:$B,$A33)=0,0,VLOOKUP($A33,Feuil1!$B:$K,COLUMN(),0)) -> 930.7 | I33: =IF(COUNTIF(Feuil1!$B:$B,$A33)=0,0,VLOOKUP($A33,Feuil1!$B:$K,COLUMN(),0)) -> 930.8 | J33: =IF(COUNTIF(Feuil1!$B:$B,$A33)=0,0,VLOOKUP($A33,Feuil1!$B:$K,COLUMN(),0)) -> 7443.6
A34: ="Semaine"&ROWS($1:31)&"-"&$B$1 -> Semaine31-2009 | B34: =IF(COUNTIF(Feuil1!$B:$B,$A34)=0,0,VLOOKUP($A34,Feuil1!$B:$K,COLUMN(),0)) -> 931.1 | C34: =IF(COUNTIF(Feuil1!$B:$B,$A34)=0,0,VLOOKUP($A34,Feuil1!$B:$K,COLUMN(),0)) -> 931.2 | D34: =IF(COUNTIF(Feuil1!$B:$B,$A34)=0,0,VLOOKUP($A34,Feuil1!$B:$K,COLUMN(),0)) -> 931.3 | E34: =IF(COUNTIF(Feuil1!$B:$B,$A34)=0,0,VLOOKUP($A34,Feuil1!$B:$K,COLUMN(),0)) -> 931.4 | F34: =IF(COUNTIF(Feuil1!$B:$B,$A34)=0,0,VLOOKUP($A34,Feuil1!$B:$K,COLUMN(),0)) -> 931.5 | G34: =IF(COUNTIF(Feuil1!$B:$B,$A34)=0,0,VLOOKUP($A34,Feuil1!$B:$K,COLUMN(),0)) -> 931.6 | H34: =IF(COUNTIF(Feuil1!$B:$B,$A34)=0,0,VLOOKUP($A34,Feuil1!$B:$K,COLUMN(),0)) -> 931.7 | I34: =IF(COUNTIF(Feuil1!$B:$B,$A34)=0,0,VLOOKUP($A34,Feuil1!$B:$K,COLUMN(),0)) -> 931.8 | J34: =IF(COUNTIF(Feuil1!$B:$B,$A34)=0,0,VLOOKUP($A34,Feuil1!$B:$K,COLUMN(),0)) -> 7451.6
A35: ="Semaine"&ROWS($1:32)&"-"&$B$1 -> Semaine32-2009 | B35: =IF(COUNTIF(Feuil1!$B:$B,$A35)=0,0,VLOOKUP($A35,Feuil1!$B:$K,COLUMN(),0)) -> 932.1 | C35: =IF(COUNTIF(Feuil1!$B:$B,$A35)=0,0,VLOOKUP($A35,Feuil1!$B:$K,COLUMN(),0)) -> 932.2 | D35: =IF(COUNTIF(Feuil1!$B:$B,$A35)=0,0,VLOOKUP($A35,Feuil1!$B:$K,COLUMN(),0)) -> 932.3 | E35: =IF(COUNTIF(Feuil1!$B:$B,$A35)=0,0,VLOOKUP($A35,Feuil1!$B:$K,COLUMN(),0)) -> 932.4 | F35: =IF(COUNTIF(Feuil1!$B:$B,$A35)=0,0,VLOOKUP($A35,Feuil1!$B:$K,COLUMN(),0)) -> 932.5 | G35: =IF(COUNTIF(Feuil1!$B:$B,$A35)=0,0,VLOOKUP($A35,Feuil1!$B:$K,COLUMN(),0)) -> 932.6 | H35: =IF(COUNTIF(Feuil1!$B:$B,$A35)=0,0,VLOOKUP($A35,Feuil1!$B:$K,COLUMN(),0)) -> 932.7 | I35: =IF(COUNTIF(Feuil1!$B:$B,$A35)=0,0,VLOOKUP($A35,Feuil1!$B:$K,COLUMN(),0)) -> 932.8 | J35: =IF(COUNTIF(Feuil1!$B:$B,$A35)=0,0,VLOOKUP($A35,Feuil1!$B:$K,COLUMN(),0)) -> 7459.6
A36: ="Semaine"&ROWS($1:33)&"-"&$B$1 -> Semaine33-2009 | B36: =IF(COUNTIF(Feuil1!$B:$B,$A36)=0,0,VLOOKUP($A36,Feuil1!$B:$K,COLUMN(),0)) -> 933.1 | C36: =IF(COUNTIF(Feuil1!$B:$B,$A36)=0,0,VLOOKUP($A36,Feuil1!$B:$K,COLUMN(),0)) -> 933.2 | D36: =IF(COUNTIF(Feuil1!$B:$B,$A36)=0,0,VLOOKUP($A36,Feuil1!$B:$K,COLUMN(),0)) -> 933.3 | E36: =IF(COUNTIF(Feuil1!$B:$B,$A36)=0,0,VLOOKUP($A36,Feuil1!$B:$K,COLUMN(),0)) -> 933.4 | F36: =IF(COUNTIF(Feuil1!$B:$B,$A36)=0,0,VLOOKUP($A36,Feuil1!$B:$K,COLUMN(),0)) -> 933.5 | G36: =IF(COUNTIF(Feuil1!$B:$B,$A36)=0,0,VLOOKUP($A36,Feuil1!$B:$K,COLUMN(),0)) -> 933.6 | H36: =IF(COUNTIF(Feuil1!$B:$B,$A36)=0,0,VLOOKUP($A36,Feuil1!$B:$K,COLUMN(),0)) -> 933.7 | I36: =IF(COUNTIF(Feuil1!$B:$B,$A36)=0,0,VLOOKUP($A36,Feuil1!$B:$K,COLUMN(),0)) -> 933.8 | J36: =IF(COUNTIF(Feuil1!$B:$B,$A36)=0,0,VLOOKUP($A36,Feuil1!$B:$K,COLUMN(),0)) -> 7467.6
A37: ="Semaine"&ROWS($1:34)&"-"&$B$1 -> Semaine34-2009 | B37: =IF(COUNTIF(Feuil1!$B:$B,$A37)=0,0,VLOOKUP($A37,Feuil1!$B:$K,COLUMN(),0)) -> 934.1 | C37: =IF(COUNTIF(Feuil1!$B:$B,$A37)=0,0,VLOOKUP($A37,Feuil1!$B:$K,COLUMN(),0)) -> 934.2 | D37: =IF(COUNTIF(Feuil1!$B:$B,$A37)=0,0,VLOOKUP($A37,Feuil1!$B:$K,COLUMN(),0)) -> 934.3 | E37: =IF(COUNTIF(Feuil1!$B:$B,$A37)=0,0,VLOOKUP($A37,Feuil1!$B:$K,COLUMN(),0)) -> 934.4 | F37: =IF(COUNTIF(Feuil1!$B:$B,$A37)=0,0,VLOOKUP($A37,Feuil1!$B:$K,COLUMN(),0)) -> 934.5 | G37: =IF(COUNTIF(Feuil1!$B:$B,$A37)=0,0,VLOOKUP($A37,Feuil1!$B:$K,COLUMN(),0)) -> 934.6 | H37: =IF(COUNTIF(Feuil1!$B:$B,$A37)=0,0,VLOOKUP($A37,Feuil1!$B:$K,COLUMN(),0)) -> 934.7 | I37: =IF(COUNTIF(Feuil1!$B:$B,$A37)=0,0,VLOOKUP($A37,Feuil1!$B:$K,COLUMN(),0)) -> 934.8 | J37: =IF(COUNTIF(Feuil1!$B:$B,$A37)=0,0,VLOOKUP($A37,Feuil1!$B:$K,COLUMN(),0)) -> 7475.6
A38: ="Semaine"&ROWS($1:35)&"-"&$B$1 -> Semaine35-2009 | B38: =IF(COUNTIF(Feuil1!$B:$B,$A38)=0,0,VLOOKUP($A38,Feuil1!$B:$K,COLUMN(),0)) -> 935.1 | C38: =IF(COUNTIF(Feuil1!$B:$B,$A38)=0,0,VLOOKUP($A38,Feuil1!$B:$K,COLUMN(),0)) -> 935.2 | D38: =IF(COUNTIF(Feuil1!$B:$B,$A38)=0,0,VLOOKUP($A38,Feuil1!$B:$K,COLUMN(),0)) -> 935.3 | E38: =IF(COUNTIF(Feuil1!$B:$B,$A38)=0,0,VLOOKUP($A38,Feuil1!$B:$K,COLUMN(),0)) -> 935.4 | F38: =IF(COUNTIF(Feuil1!$B:$B,$A38)=0,0,VLOOKUP($A38,Feuil1!$B:$K,COLUMN(),0)) -> 935.5 | G38: =IF(COUNTIF(Feuil1!$B:$B,$A38)=0,0,VLOOKUP($A38,Feuil1!$B:$K,COLUMN(),0)) -> 935.6 | H38: =IF(COUNTIF(Feuil1!$B:$B,$A38)=0,0,VLOOKUP($A38,Feuil1!$B:$K,COLUMN(),0)) -> 935.7 | I38: =IF(COUNTIF(Feuil1!$B:$B,$A38)=0,0,VLOOKUP($A38,Feuil1!$B:$K,COLUMN(),0)) -> 935.8 | J38: =IF(COUNTIF(Feuil1!$B:$B,$A38)=0,0,VLOOKUP($A38,Feuil1!$B:$K,COLUMN(),0)) -> 7483.6
A39: ="Semaine"&ROWS($1:36)&"-"&$B$1 -> Semaine36-2009 | B39: =IF(COUNTIF(Feuil1!$B:$B,$A39)=0,0,VLOOKUP($A39,Feuil1!$B:$K,COLUMN(),0)) -> 936.1 | C39: =IF(COUNTIF(Feuil1!$B:$B,$A39)=0,0,VLOOKUP($A39,Feuil1!$B:$K,COLUMN(),0)) -> 936.2 | D39: =IF(COUNTIF(Feuil1!$B:$B,$A39)=0,0,VLOOKUP($A39,Feuil1!$B:$K,COLUMN(),0)) -> 936.3 | E39: =IF(COUNTIF(Feuil1!$B:$B,$A39)=0,0,VLOOKUP($A39,Feuil1!$B:$K,COLUMN(),0)) -> 936.4 | F39: =IF(COUNTIF(Feuil1!$B:$B,$A39)=0,0,VLOOKUP($A39,Feuil1!$B:$K,COLUMN(),0)) -> 936.5 | G39: =IF(COUNTIF(Feuil1!$B:$B,$A39)=0,0,VLOOKUP($A39,Feuil1!$B:$K,COLUMN(),0)) -> 936.6 | H39: =IF(COUNTIF(Feuil1!$B:$B,$A39)=0,0,VLOOKUP($A39,Feuil1!$B:$K,COLUMN(),0)) -> 936.7 | I39: =IF(COUNTIF(Feuil1!$B:$B,$A39)=0,0,VLOOKUP($A39,Feuil1!$B:$K,COLUMN(),0)) -> 936.8 | J39: =IF(COUNTIF(Feuil1!$B:$B,$A39)=0,0,VLOOKUP($A39,Feuil1!$B:$K,COLUMN(),0)) -> 7491.6
A40: ="Semaine"&ROWS($1:37)&"-"&$B$1 -> Semaine37-2009 | B40: =IF(COUNTIF(Feuil1!$B:$B,$A40)=0,0,VLOOKUP($A40,Feuil1!$B:$K,COLUMN(),0)) -> 937.1 | C40: =IF(COUNTIF(Feuil1!$B:$B,$A40)=0,0,VLOOKUP($A40,Feuil1!$B:$K,COLUMN(),0)) -> 937.2 | D40: =IF(COUNTIF(Feuil1!$B:$B,$A40)=0,0,VLOOKUP($A40,Feuil1!$B:$K,COLUMN(),0)) -> 937.3 | E40: =IF(COUNTIF(Feuil1!$B:$B,$A40)=0,0,VLOOKUP($A40,Feuil1!$B:$K,COLUMN(),0)) -> 937.4 | F40: =IF(COUNTIF(Feuil1!$B:$B,$A40)=0,0,VLOOKUP($A40,Feuil1!$B:$K,COLUMN(),0)) -> 937.5 | G40: =IF(COUNTIF(Feuil1!$B:$B,$A40)=0,0,VLOOKUP($A40,Feuil1!$B:$K,COLUMN(),0)) -> 937.6 | H40: =IF(COUNTIF(Feuil1!$B:$B,$A40)=0,0,VLOOKUP($A40,Feuil1!$B:$K,COLUMN(),0)) -> 937.7 | I40: =IF(COUNTIF(Feuil1!$B:$B,$A40)=0,0,VLOOKUP($A40,Feuil1!$B:$K,COLUMN(),0)) -> 937.8 | J40: =IF(COUNTIF(Feuil1!$B:$B,$A40)=0,0,VLOOKUP($A40,Feuil1!$B:$K,COLUMN(),0)) -> 7499.6
A41: ="Semaine"&ROWS($1:38)&"-"&$B$1 -> Semaine38-2009 | B41: =IF(COUNTIF(Feuil1!$B:$B,$A41)=0,0,VLOOKUP($A41,Feuil1!$B:$K,COLUMN(),0)) -> 938.1 | C41: =IF(COUNTIF(Feuil1!$B:$B,$A41)=0,0,VLOOKUP($A41,Feuil1!$B:$K,COLUMN(),0)) -> 938.2 | D41: =IF(COUNTIF(Feuil1!$B:$B,$A41)=0,0,VLOOKUP($A41,Feuil1!$B:$K,COLUMN(),0)) -> 938.3 | E41: =IF(COUNTIF(Feuil1!$B:$B,$A41)=0,0,VLOOKUP($A41,Feuil1!$B:$K,COLUMN(),0)) -> 938.4 | F41: =IF(COUNTIF(Feuil1!$B:$B,$A41)=0,0,VLOOKUP($A41,Feuil1!$B:$K,COLUMN(),0)) -> 938.5 | G41: =IF(COUNTIF(Feuil1!$B:$B,$A41)=0,0,VLOOKUP($A41,Feuil1!$B:$K,COLUMN(),0)) -> 938.6 | H41: =IF(COUNTIF(Feuil1!$B:$B,$A41)=0,0,VLOOKUP($A41,Feuil1!$B:$K,COLUMN(),0)) -> 938.7 | I41: =IF(COUNTIF(Feuil1!$B:$B,$A41)=0,0,VLOOKUP($A41,Feuil1!$B:$K,COLUMN(),0)) -> 938.8 | J41: =IF(COUNTIF(Feuil1!$B:$B,$A41)=0,0,VLOOKUP($A41,Feuil1!$B:$K,COLUMN(),0)) -> 7507.6
A42: ="Semaine"&ROWS($1:39)&"-"&$B$1 -> Semaine39-2009 | B42: =IF(COUNTIF(Feuil1!$B:$B,$A42)=0,0,VLOOKUP($A42,Feuil1!$B:$K,COLUMN(),0)) -> 939.1 | C42: =IF(COUNTIF(Feuil1!$B:$B,$A42)=0,0,VLOOKUP($A42,Feuil1!$B:$K,COLUMN(),0)) -> 939.2 | D42: =IF(COUNTIF(Feuil1!$B:$B,$A42)=0,0,VLOOKUP($A42,Feuil1!$B:$K,COLUMN(),0)) -> 939.3 | E42: =IF(COUNTIF(Feuil1!$B:$B,$A42)=0,0,VLOOKUP($A42,Feuil1!$B:$K,COLUMN(),0)) -> 939.4 | F42: =IF(COUNTIF(Feuil1!$B:$B,$A42)=0,0,VLOOKUP($A42,Feuil1!$B:$K,COLUMN(),0)) -> 939.5 | G42: =IF(COUNTIF(Feuil1!$B:$B,$A42)=0,0,VLOOKUP($A42,Feuil1!$B:$K,COLUMN(),0)) -> 939.6 | H42: =IF(COUNTIF(Feuil1!$B:$B,$A42)=0,0,VLOOKUP($A42,Feuil1!$B:$K,COLUMN(),0)) -> 939.7 | I42: =IF(COUNTIF(Feuil1!$B:$B,$A42)=0,0,VLOOKUP($A42,Feuil1!$B:$K,COLUMN(),0)) -> 939.8 | J42: =IF(COUNTIF(Feuil1!$B:$B,$A42)=0,0,VLOOKUP($A42,Feuil1!$B:$K,COLUMN(),0)) -> 7515.6
A43: ="Semaine"&ROWS($1:40)&"-"&$B$1 -> Semaine40-2009 | B43: =IF(COUNTIF(Feuil1!$B:$B,$A43)=0,0,VLOOKUP($A43,Feuil1!$B:$K,COLUMN(),0)) -> 940.1 | C43: =IF(COUNTIF(Feuil1!$B:$B,$A43)=0,0,VLOOKUP($A43,Feuil1!$B:$K,COLUMN(),0)) -> 940.2 | D43: =IF(COUNTIF(Feuil1!$B:$B,$A43)=0,0,VLOOKUP($A43,Feuil1!$B:$K,COLUMN(),0)) -> 940.3 | E43: =IF(COUNTIF(Feuil1!$B:$B,$A43)=0,0,VLOOKUP($A43,Feuil1!$B:$K,COLUMN(),0)) -> 940.4 | F43: =IF(COUNTIF(Feuil1!$B:$B,$A43)=0,0,VLOOKUP($A43,Feuil1!$B:$K,COLUMN(),0)) -> 940.5 | G43: =IF(COUNTIF(Feuil1!$B:$B,$A43)=0,0,VLOOKUP($A43,Feuil1!$B:$K,COLUMN(),0)) -> 940.6 | H43: =IF(COUNTIF(Feuil1!$B:$B,$A43)=0,0,VLOOKUP($A43,Feuil1!$B:$K,COLUMN(),0)) -> 940.7 | I43: =IF(COUNTIF(Feuil1!$B:$B,$A43)=0,0,VLOOKUP($A43,Feuil1!$B:$K,COLUMN(),0)) -> 940.8 | J43: =IF(COUNTIF(Feuil1!$B:$B,$A43)=0,0,VLOOKUP($A43,Feuil1!$B:$K,COLUMN(),0)) -> 7523.6
A44: ="Semaine"&ROWS($1:41)&"-"&$B$1 -> Semaine41-2009 | B44: =IF(COUNTIF(Feuil1!$B:$B,$A44)=0,0,VLOOKUP($A44,Feuil1!$B:$K,COLUMN(),0)) -> 941.1 | C44: =IF(COUNTIF(Feuil1!$B:$B,$A44)=0,0,VLOOKUP($A44,Feuil1!$B:$K,COLUMN(),0)) -> 941.2 | D44: =IF(COUNTIF(Feuil1!$B:$B,$A44)=0,0,VLOOKUP($A44,Feuil1!$B:$K,COLUMN(),0)) -> 941.3 | E44: =IF(COUNTIF(Feuil1!$B:$B,$A44)=0,0,VLOOKUP($A44,Feuil1!$B:$K,COLUMN(),0)) -> 941.4 | F44: =IF(COUNTIF(Feuil1!$B:$B,$A44)=0,0,VLOOKUP($A44,Feuil1!$B:$K,COLUMN(),0)) -> 941.5 | G44: =IF(COUNTIF(Feuil1!$B:$B,$A44)=0,0,VLOOKUP($A44,Feuil1!$B:$K,COLUMN(),0)) -> 941.6 | H44: =IF(COUNTIF(Feuil1!$B:$B,$A44)=0,0,VLOOKUP($A44,Feuil1!$B:$K,COLUMN(),0)) -> 941.7 | I44: =IF(COUNTIF(Feuil1!$B:$B,$A44)=0,0,VLOOKUP($A44,Feuil1!$B:$K,COLUMN(),0)) -> 941.8 | J44: =IF(COUNTIF(Feuil1!$B:$B,$A44)=0,0,VLOOKUP($A44,Feuil1!$B:$K,COLUMN(),0)) -> 7531.6
A45: ="Semaine"&ROWS($1:42)&"-"&$B$1 -> Semaine42-2009 | B45: =IF(COUNTIF(Feuil1!$B:$B,$A45)=0,0,VLOOKUP($A45,Feuil1!$B:$K,COLUMN(),0)) -> 942.1 | C45: =IF(COUNTIF(Feuil1!$B:$B,$A45)=0,0,VLOOKUP($A45,Feuil1!$B:$K,COLUMN(),0)) -> 942.2 | D45: =IF(COUNTIF(Feuil1!$B:$B,$A45)=0,0,VLOOKUP($A45,Feuil1!$B:$K,COLUMN(),0)) -> 942.3 | E45: =IF(COUNTIF(Feuil1!$B:$B,$A45)=0,0,VLOOKUP($A45,Feuil1!$B:$K,COLUMN(),0)) -> 942.4 | F45: =IF(COUNTIF(Feuil1!$B:$B,$A45)=0,0,VLOOKUP($A45,Feuil1!$B:$K,COLUMN(),0)) -> 942.5 | G45: =IF(COUNTIF(Feuil1!$B:$B,$A45)=0,0,VLOOKUP($A45,Feuil1!$B:$K,COLUMN(),0)) -> 942.6 | H45: =IF(COUNTIF(Feuil1!$B:$B,$A45)=0,0,VLOOKUP($A45,Feuil1!$B:$K,COLUMN(),0)) -> 942.7 | I45: =IF(COUNTIF(Feuil1!$B:$B,$A45)=0,0,VLOOKUP($A45,Feuil1!$B:$K,COLUMN(),0)) -> 942.8 | J45: =IF(COUNTIF(Feuil1!$B:$B,$A45)=0,0,VLOOKUP($A45,Feuil1!$B:$K,COLUMN(),0)) -> 7539.6
A46: ="Semaine"&ROWS($1:43)&"-"&$B$1 -> Semaine43-2009 | B46: =IF(COUNTIF(Feuil1!$B:$B,$A46)=0,0,VLOOKUP($A46,Feuil1!$B:$K,COLUMN(),0)) -> 943.1 | C46: =IF(COUNTIF(Feuil1!$B:$B,$A46)=0,0,VLOOKUP($A46,Feuil1!$B:$K,COLUMN(),0)) -> 943.2 | D46: =IF(COUNTIF(Feuil1!$B:$B,$A46)=0,0,VLOOKUP($A46,Feuil1!$B:$K,COLUMN(),0)) -> 943.3 | E46: =IF(COUNTIF(Feuil1!$B:$B,$A46)=0,0,VLOOKUP($A46,Feuil1!$B:$K,COLUMN(),0)) -> 943.4 | F46: =IF(COUNTIF(Feuil1!$B:$B,$A46)=0,0,VLOOKUP($A46,Feuil1!$B:$K,COLUMN(),0)) -> 943.5 | G46: =IF(COUNTIF(Feuil1!$B:$B,$A46)=0,0,VLOOKUP($A46,Feuil1!$B:$K,COLUMN(),0)) -> 943.6 | H46: =IF(COUNTIF(Feuil1!$B:$B,$A46)=0,0,VLOOKUP($A46,Feuil1!$B:$K,COLUMN(),0)) -> 943.7 | I46: =IF(COUNTIF(Feuil1!$B:$B,$A46)=0,0,VLOOKUP($A46,Feuil1!$B:$K,COLUMN(),0)) -> 943.8 | J46: =IF(COUNTIF(Feuil1!$B:$B,$A46)=0,0,VLOOKUP($A46,Feuil1!$B:$K,COLUMN(),0)) -> 7547.6
A47: ="Semaine"&ROWS($1:44)&"-"&$B$1 -> Semaine44-2009 | B47: =IF(COUNTIF(Feuil1!$B:$B,$A47)=0,0,VLOOKUP($A47,Feuil1!$B:$K,COLUMN(),0)) -> 944.1 | C47: =IF(COUNTIF(Feuil1!$B:$B,$A47)=0,0,VLOOKUP($A47,Feuil1!$B:$K,COLUMN(),0)) -> 944.2 | D47: =IF(COUNTIF(Feuil1!$B:$B,$A47)=0,0,VLOOKUP($A47,Feuil1!$B:$K,COLUMN(),0)) -> 944.3 | E47: =IF(COUNTIF(Feuil1!$B:$B,$A47)=0,0,VLOOKUP($A47,Feuil1!$B:$K,COLUMN(),0)) -> 944.4 | F47: =IF(COUNTIF(Feuil1!$B:$B,$A47)=0,0,VLOOKUP($A47,Feuil1!$B:$K,COLUMN(),0)) -> 944.5 | G47: =IF(COUNTIF(Feuil1!$B:$B,$A47)=0,0,VLOOKUP($A47,Feuil1!$B:$K,COLUMN(),0)) -> 944.6 | H47: =IF(COUNTIF(Feuil1!$B:$B,$A47)=0,0,VLOOKUP($A47,Feuil1!$B:$K,COLUMN(),0)) -> 944.7 | I47: =IF(COUNTIF(Feuil1!$B:$B,$A47)=0,0,VLOOKUP($A47,Feuil1!$B:$K,COLUMN(),0)) -> 944.8 | J47: =IF(COUNTIF(Feuil1!$B:$B,$A47)=0,0,VLOOKUP($A47,Feuil1!$B:$K,COLUMN(),0)) -> 7555.6
A48: ="Semaine"&ROWS($1:45)&"-"&$B$1 -> Semaine45-2009 | B48: =IF(COUNTIF(Feuil1!$B:$B,$A48)=0,0,VLOOKUP($A48,Feuil1!$B:$K,COLUMN(),0)) -> 945.1 | C48: =IF(COUNTIF(Feuil1!$B:$B,$A48)=0,0,VLOOKUP($A48,Feuil1!$B:$K,COLUMN(),0)) -> 945.2 | D48: =IF(COUNTIF(Feuil1!$B:$B,$A48)=0,0,VLOOKUP($A48,Feuil1!$B:$K,COLUMN(),0)) -> 945.3 | E48: =IF(COUNTIF(Feuil1!$B:$B,$A48)=0,0,VLOOKUP($A48,Feuil1!$B:$K,COLUMN(),0)) -> 945.4 | F48: =IF(COUNTIF(Feuil1!$B:$B,$A48)=0,0,VLOOKUP($A48,Feuil1!$B:$K,COLUMN(),0)) -> 945.5 | G48: =IF(COUNTIF(Feuil1!$B:$B,$A48)=0,0,VLOOKUP($A48,Feuil1!$B:$K,COLUMN(),0)) -> 945.6 | H48: =IF(COUNTIF(Feuil1!$B:$B,$A48)=0,0,VLOOKUP($A48,Feuil1!$B:$K,COLUMN(),0)) -> 945.7 | I48: =IF(COUNTIF(Feuil1!$B:$B,$A48)=0,0,VLOOKUP($A48,Feuil1!$B:$K,COLUMN(),0)) -> 945.8 | J48: =IF(COUNTIF(Feuil1!$B:$B,$A48)=0,0,VLOOKUP($A48,Feuil1!$B:$K,COLUMN(),0)) -> 7563.6
A49: ="Semaine"&ROWS($1:46)&"-"&$B$1 -> Semaine46-2009 | B49: =IF(COUNTIF(Feuil1!$B:$B,$A49)=0,0,VLOOKUP($A49,Feuil1!$B:$K,COLUMN(),0)) -> 946.1 | C49: =IF(COUNTIF(Feuil1!$B:$B,$A49)=0,0,VLOOKUP($A49,Feuil1!$B:$K,COLUMN(),0)) -> 946.2 | D49: =IF(COUNTIF(Feuil1!$B:$B,$A49)=0,0,VLOOKUP($A49,Feuil1!$B:$K,COLUMN(),0)) -> 946.3 | E49: =IF(COUNTIF(Feuil1!$B:$B,$A49)=0,0,VLOOKUP($A49,Feuil1!$B:$K,COLUMN(),0)) -> 946.4 | F49: =IF(COUNTIF(Feuil1!$B:$B,$A49)=0,0,VLOOKUP($A49,Feuil1!$B:$K,COLUMN(),0)) -> 946.5 | G49: =IF(COUNTIF(Feuil1!$B:$B,$A49)=0,0,VLOOKUP($A49,Feuil1!$B:$K,COLUMN(),0)) -> 946.6 | H49: =IF(COUNTIF(Feuil1!$B:$B,$A49)=0,0,VLOOKUP($A49,Feuil1!$B:$K,COLUMN(),0)) -> 946.7 | I49: =IF(COUNTIF(Feuil1!$B:$B,$A49)=0,0,VLOOKUP($A49,Feuil1!$B:$K,COLUMN(),0)) -> 946.8 | J49: =IF(COUNTIF(Feuil1!$B:$B,$A49)=0,0,VLOOKUP($A49,Feuil1!$B:$K,COLUMN(),0)) -> 7571.6
A50: ="Semaine"&ROWS($1:47)&"-"&$B$1 -> Semaine47-2009 | B50: =IF(COUNTIF(Feuil1!$B:$B,$A50)=0,0,VLOOKUP($A50,Feuil1!$B:$K,COLUMN(),0)) -> 947.1 | C50: =IF(COUNTIF(Feuil1!$B:$B,$A50)=0,0,VLOOKUP($A50,Feuil1!$B:$K,COLUMN(),0)) -> 947.2 | D50: =IF(COUNTIF(Feuil1!$B:$B,$A50)=0,0,VLOOKUP($A50,Feuil1!$B:$K,COLUMN(),0)) -> 947.3 | E50: =IF(COUNTIF(Feuil1!$B:$B,$A50)=0,0,VLOOKUP($A50,Feuil1!$B:$K,COLUMN(),0)) -> 947.4 | F50: =IF(COUNTIF(Feuil1!$B:$B,$A50)=0,0,VLOOKUP($A50,Feuil1!$B:$K,COLUMN(),0)) -> 947.5 | G50: =IF(COUNTIF(Feuil1!$B:$B,$A50)=0,0,VLOOKUP($A50,Feuil1!$B:$K,COLUMN(),0)) -> 947.6 | H50: =IF(COUNTIF(Feuil1!$B:$B,$A50)=0,0,VLOOKUP($A50,Feuil1!$B:$K,COLUMN(),0)) -> 947.7 | I50: =IF(COUNTIF(Feuil1!$B:$B,$A50)=0,0,VLOOKUP($A50,Feuil1!$B:$K,COLUMN(),0)) -> 947.8 | J50: =IF(COUNTIF(Feuil1!$B:$B,$A50)=0,0,VLOOKUP($A50,Feuil1!$B:$K,COLUMN(),0)) -> 7579.6
A51: ="Semaine"&ROWS($1:48)&"-"&$B$1 -> Semaine48-2009 | B51: =IF(COUNTIF(Feuil1!$B:$B,$A51)=0,0,VLOOKUP($A51,Feuil1!$B:$K,COLUMN(),0)) -> 948.1 | C51: =IF(COUNTIF(Feuil1!$B:$B,$A51)=0,0,VLOOKUP($A51,Feuil1!$B:$K,COLUMN(),0)) -> 948.2 | D51: =IF(COUNTIF(Feuil1!$B:$B,$A51)=0,0,VLOOKUP($A51,Feuil1!$B:$K,COLUMN(),0)) -> 948.3 | E51: =IF(COUNTIF(Feuil1!$B:$B,$A51)=0,0,VLOOKUP($A51,Feuil1!$B:$K,COLUMN(),0)) -> 948.4 | F51: =IF(COUNTIF(Feuil1!$B:$B,$A51)=0,0,VLOOKUP($A51,Feuil1!$B:$K,COLUMN(),0)) -> 948.5 | G51: =IF(COUNTIF(Feuil1!$B:$B,$A51)=0,0,VLOOKUP($A51,Feuil1!$B:$K,COLUMN(),0)) -> 948.6 | H51: =IF(COUNTIF(Feuil1!$B:$B,$A51)=0,0,VLOOKUP($A51,Feuil1!$B:$K,COLUMN(),0)) -> 948.7 | I51: =IF(COUNTIF(Feuil1!$B:$B,$A51)=0,0,VLOOKUP($A51,Feuil1!$B:$K,COLUMN(),0)) -> 948.8 | J51: =IF(COUNTIF(Feuil1!$B:$B,$A51)=0,0,VLOOKUP($A51,Feuil1!$B:$K,COLUMN(),0)) -> 7587.6
A52: ="Semaine"&ROWS($1:49)&"-"&$B$1 -> Semaine49-2009 | B52: =IF(COUNTIF(Feuil1!$B:$B,$A52)=0,0,VLOOKUP($A52,Feuil1!$B:$K,COLUMN(),0)) -> 949.1 | C52: =IF(COUNTIF(Feuil1!$B:$B,$A52)=0,0,VLOOKUP($A52,Feuil1!$B:$K,COLUMN(),0)) -> 949.2 | D52: =IF(COUNTIF(Feuil1!$B:$B,$A52)=0,0,VLOOKUP($A52,Feuil1!$B:$K,COLUMN(),0)) -> 949.3 | E52: =IF(COUNTIF(Feuil1!$B:$B,$A52)=0,0,VLOOKUP($A52,Feuil1!$B:$K,COLUMN(),0)) -> 949.4 | F52: =IF(COUNTIF(Feuil1!$B:$B,$A52)=0,0,VLOOKUP($A52,Feuil1!$B:$K,COLUMN(),0)) -> 949.5 | G52: =IF(COUNTIF(Feuil1!$B:$B,$A52)=0,0,VLOOKUP($A52,Feuil1!$B:$K,COLUMN(),0)) -> 949.6 | H52: =IF(COUNTIF(Feuil1!$B:$B,$A52)=0,0,VLOOKUP($A52,Feuil1!$B:$K,COLUMN(),0)) -> 949.7 | I52: =IF(COUNTIF(Feuil1!$B:$B,$A52)=0,0,VLOOKUP($A52,Feuil1!$B:$K,COLUMN(),0)) -> 949.8 | J52: =IF(COUNTIF(Feuil1!$B:$B,$A52)=0,0,VLOOKUP($A52,Feuil1!$B:$K,COLUMN(),0)) -> 7595.6
A53: ="Semaine"&ROWS($1:50)&"-"&$B$1 -> Semaine50-2009 | B53: =IF(COUNTIF(Feuil1!$B:$B,$A53)=0,0,VLOOKUP($A53,Feuil1!$B:$K,COLUMN(),0)) -> 950.1 | C53: =IF(COUNTIF(Feuil1!$B:$B,$A53)=0,0,VLOOKUP($A53,Feuil1!$B:$K,COLUMN(),0)) -> 950.2 | D53: =IF(COUNTIF(Feuil1!$B:$B,$A53)=0,0,VLOOKUP($A53,Feuil1!$B:$K,COLUMN(),0)) -> 950.3 | E53: =IF(COUNTIF(Feuil1!$B:$B,$A53)=0,0,VLOOKUP($A53,Feuil1!$B:$K,COLUMN(),0)) -> 950.4 | F53: =IF(COUNTIF(Feuil1!$B:$B,$A53)=0,0,VLOOKUP($A53,Feuil1!$B:$K,COLUMN(),0)) -> 950.5 | G53: =IF(COUNTIF(Feuil1!$B:$B,$A53)=0,0,VLOOKUP($A53,Feuil1!$B:$K,COLUMN(),0)) -> 950.6 | H53: =IF(COUNTIF(Feuil1!$B:$B,$A53)=0,0,VLOOKUP($A53,Feuil1!$B:$K,COLUMN(),0)) -> 950.7 | I53: =IF(COUNTIF(Feuil1!$B:$B,$A53)=0,0,VLOOKUP($A53,Feuil1!$B:$K,COLUMN(),0)) -> 950.8 | J53: =IF(COUNTIF(Feuil1!$B:$B,$A53)=0,0,VLOOKUP($A53,Feuil1!$B:$K,COLUMN(),0)) -> 7603.6
A54: ="Semaine"&ROWS($1:51)&"-"&$B$1 -> Semaine51-2009 | B54: =IF(COUNTIF(Feuil1!$B:$B,$A54)=0,0,VLOOKUP($A54,Feuil1!$B:$K,COLUMN(),0)) -> 951.1 | C54: =IF(COUNTIF(Feuil1!$B:$B,$A54)=0,0,VLOOKUP($A54,Feuil1!$B:$K,COLUMN(),0)) -> 951.2 | D54: =IF(COUNTIF(Feuil1!$B:$B,$A54)=0,0,VLOOKUP($A54,Feuil1!$B:$K,COLUMN(),0)) -> 951.3 | E54: =IF(COUNTIF(Feuil1!$B:$B,$A54)=0,0,VLOOKUP($A54,Feuil1!$B:$K,COLUMN(),0)) -> 951.4 | F54: =IF(COUNTIF(Feuil1!$B:$B,$A54)=0,0,VLOOKUP($A54,Feuil1!$B:$K,COLUMN(),0)) -> 951.5 | G54: =IF(COUNTIF(Feuil1!$B:$B,$A54)=0,0,VLOOKUP($A54,Feuil1!$B:$K,COLUMN(),0)) -> 951.6 | H54: =IF(COUNTIF(Feuil1!$B:$B,$A54)=0,0,VLOOKUP($A54,Feuil1!$B:$K,COLUMN(),0)) -> 951.7 | I54: =IF(COUNTIF(Feuil1!$B:$B,$A54)=0,0,VLOOKUP($A54,Feuil1!$B:$K,COLUMN(),0)) -> 951.8 | J54: =IF(COUNTIF(Feuil1!$B:$B,$A54)=0,0,VLOOKUP($A54,Feuil1!$B:$K,COLUMN(),0)) -> 7611.6
A55: ="Semaine"&ROWS($1:52)&"-"&$B$1 -> Semaine52-2009 | B55: =IF(COUNTIF(Feuil1!$B:$B,$A55)=0,0,VLOOKUP($A55,Feuil1!$B:$K,COLUMN(),0)) -> 952.1 | C55: =IF(COUNTIF(Feuil1!$B:$B,$A55)=0,0,VLOOKUP($A55,Feuil1!$B:$K,COLUMN(),0)) -> 952.2 | D55: =IF(COUNTIF(Feuil1!$B:$B,$A55)=0,0,VLOOKUP($A55,Feuil1!$B:$K,COLUMN(),0)) -> 952.3 | E55: =IF(COUNTIF(Feuil1!$B:$B,$A55)=0,0,VLOOKUP($A55,Feuil1!$B:$K,COLUMN(),0)) -> 952.4 | F55: =IF(COUNTIF(Feuil1!$B:$B,$A55)=0,0,VLOOKUP($A55,Feuil1!$B:$K,COLUMN(),0)) -> 952.5 | G55: =IF(COUNTIF(Feuil1!$B:$B,$A55)=0,0,VLOOKUP($A55,Feuil1!$B:$K,COLUMN(),0)) -> 952.6 | H55: =IF(COUNTIF(Feuil1!$B:$B,$A55)=0,0,VLOOKUP($A55,Feuil1!$B:$K,COLUMN(),0)) -> 952.7 | I55: =IF(COUNTIF(Feuil1!$B:$B,$A55)=0,0,VLOOKUP($A55,Feuil1!$B:$K,COLUMN(),0)) -> 952.8 | J55: =IF(COUNTIF(Feuil1!$B:$B,$A55)=0,0,VLOOKUP($A55,Feuil1!$B:$K,COLUMN(),0)) -> 7619.6
A56: ="Semaine"&ROWS($1:53)&"-"&$B$1 -> Semaine53-2009 | B56: =IF(COUNTIF(Feuil1!$B:$B,$A56)=0,0,VLOOKUP($A56,Feuil1!$B:$K,COLUMN(),0)) -> 953.1 | C56: =IF(COUNTIF(Feuil1!$B:$B,$A56)=0,0,VLOOKUP($A56,Feuil1!$B:$K,COLUMN(),0)) -> 953.2 | D56: =IF(COUNTIF(Feuil1!$B:$B,$A56)=0,0,VLOOKUP($A56,Feuil1!$B:$K,COLUMN(),0)) -> 953.3 | E56: =IF(COUNTIF(Feuil1!$B:$B,$A56)=0,0,VLOOKUP($A56,Feuil1!$B:$K,COLUMN(),0)) -> 953.4 | F56: =IF(COUNTIF(Feuil1!$B:$B,$A56)=0,0,VLOOKUP($A56,Feuil1!$B:$K,COLUMN(),0)) -> 953.5 | G56: =IF(COUNTIF(Feuil1!$B:$B,$A56)=0,0,VLOOKUP($A56,Feuil1!$B:$K,COLUMN(),0)) -> 953.6 | H56: =IF(COUNTIF(Feuil1!$B:$B,$A56)=0,0,VLOOKUP($A56,Feuil1!$B:$K,COLUMN(),0)) -> 953.7 | I56: =IF(COUNTIF(Feuil1!$B:$B,$A56)=0,0,VLOOKUP($A56,Feuil1!$B:$K,COLUMN(),0)) -> 953.8 | J56: =IF(COUNTIF(Feuil1!$B:$B,$A56)=0,0,VLOOKUP($A56,Feuil1!$B:$K,COLUMN(),0)) -> 7627.6
A57: ="Semaine"&ROWS($1:1)&"-"&$B$1-1 -> Semaine1-2008 | B57: =IF(COUNTIF(Feuil1!$B:$B,$A57)=0,0,VLOOKUP($A57,Feuil1!$B:$K,COLUMN(),0)) -> 801.1 | C57: =IF(COUNTIF(Feuil1!$B:$B,$A57)=0,0,VLOOKUP($A57,Feuil1!$B:$K,COLUMN(),0)) -> 801.2 | D57: =IF(COUNTIF(Feuil1!$B:$B,$A57)=0,0,VLOOKUP($A57,Feuil1!$B:$K,COLUMN(),0)) -> 801.3 | E57: =IF(COUNTIF(Feuil1!$B:$B,$A57)=0,0,VLOOKUP($A57,Feuil1!$B:$K,COLUMN(),0)) -> 801.4 | F57: =IF(COUNTIF(Feuil1!$B:$B,$A57)=0,0,VLOOKUP($A57,Feuil1!$B:$K,COLUMN(),0)) -> 801.5 | G57: =IF(COUNTIF(Feuil1!$B:$B,$A57)=0,0,VLOOKUP($A57,Feuil1!$B:$K,COLUMN(),0)) -> 801.6 | H57: =IF(COUNTIF(Feuil1!$B:$B,$A57)=0,0,VLOOKUP($A57,Feuil1!$B:$K,COLUMN(),0)) -> 801.7 | I57: =IF(COUNTIF(Feuil1!$B:$B,$A57)=0,0,VLOOKUP($A57,Feuil1!$B:$K,COLUMN(),0)) -> 801.8 | J57: =IF(COUNTIF(Feuil1!$B:$B,$A57)=0,0,VLOOKUP($A57,Feuil1!$B:$K,COLUMN(),0)) -> 6411.6
A58: ="Semaine"&ROWS($1:2)&"-"&$B$1-1 -> Semaine2-2008 | B58: =IF(COUNTIF(Feuil1!$B:$B,$A58)=0,0,VLOOKUP($A58,Feuil1!$B:$K,COLUMN(),0)) -> 802.1 | C58: =IF(COUNTIF(Feuil1!$B:$B,$A58)=0,0,VLOOKUP($A58,Feuil1!$B:$K,COLUMN(),0)) -> 802.2 | D58: =IF(COUNTIF(Feuil1!$B:$B,$A58)=0,0,VLOOKUP($A58,Feuil1!$B:$K,COLUMN(),0)) -> 802.3 | E58: =IF(COUNTIF(Feuil1!$B:$B,$A58)=0,0,VLOOKUP($A58,Feuil1!$B:$K,COLUMN(),0)) -> 802.4 | F58: =IF(COUNTIF(Feuil1!$B:$B,$A58)=0,0,VLOOKUP($A58,Feuil1!$B:$K,COLUMN(),0)) -> 802.5 | G58: =IF(COUNTIF(Feuil1!$B:$B,$A58)=0,0,VLOOKUP($A58,Feuil1!$B:$K,COLUMN(),0)) -> 802.6 | H58: =IF(COUNTIF(Feuil1!$B:$B,$A58)=0,0,VLOOKUP($A58,Feuil1!$B:$K,COLUMN(),0)) -> 802.7 | I58: =IF(COUNTIF(Feuil1!$B:$B,$A58)=0,0,VLOOKUP($A58,Feuil1!$B:$K,COLUMN(),0)) -> 802.8 | J58: =IF(COUNTIF(Feuil1!$B:$B,$A58)=0,0,VLOOKUP($A58,Feuil1!$B:$K,COLUMN(),0)) -> 6419.6
A59: ="Semaine"&ROWS($1:3)&"-"&$B$1-1 -> Semaine3-2008 | B59: =IF(COUNTIF(Feuil1!$B:$B,$A59)=0,0,VLOOKUP($A59,Feuil1!$B:$K,COLUMN(),0)) -> 803.1 | C59: =IF(COUNTIF(Feuil1!$B:$B,$A59)=0,0,VLOOKUP($A59,Feuil1!$B:$K,COLUMN(),0)) -> 803.2 | D59: =IF(COUNTIF(Feuil1!$B:$B,$A59)=0,0,VLOOKUP($A59,Feuil1!$B:$K,COLUMN(),0)) -> 803.3 | E59: =IF(COUNTIF(Feuil1!$B:$B,$A59)=0,0,VLOOKUP($A59,Feuil1!$B:$K,COLUMN(),0)) -> 803.4 | F59: =IF(COUNTIF(Feuil1!$B:$B,$A59)=0,0,VLOOKUP($A59,Feuil1!$B:$K,COLUMN(),0)) -> 803.5 | G59: =IF(COUNTIF(Feuil1!$B:$B,$A59)=0,0,VLOOKUP($A59,Feuil1!$B:$K,COLUMN(),0)) -> 803.6 | H59: =IF(COUNTIF(Feuil1!$B:$B,$A59)=0,0,VLOOKUP($A59,Feuil1!$B:$K,COLUMN(),0)) -> 803.7 | I59: =IF(COUNTIF(Feuil1!$B:$B,$A59)=0,0,VLOOKUP($A59,Feuil1!$B:$K,COLUMN(),0)) -> 803.8 | J59: =IF(COUNTIF(Feuil1!$B:$B,$A59)=0,0,VLOOKUP($A59,Feuil1!$B:$K,COLUMN(),0)) -> 6427.6
A60: ="Semaine"&ROWS($1:4)&"-"&$B$1-1 -> Semaine4-2008 | B60: =IF(COUNTIF(Feuil1!$B:$B,$A60)=0,0,VLOOKUP($A60,Feuil1!$B:$K,COLUMN(),0)) -> 804.1 | C60: =IF(COUNTIF(Feuil1!$B:$B,$A60)=0,0,VLOOKUP($A60,Feuil1!$B:$K,COLUMN(),0)) -> 804.2 | D60: =IF(COUNTIF(Feuil1!$B:$B,$A60)=0,0,VLOOKUP($A60,Feuil1!$B:$K,COLUMN(),0)) -> 804.3 | E60: =IF(COUNTIF(Feuil1!$B:$B,$A60)=0,0,VLOOKUP($A60,Feuil1!$B:$K,COLUMN(),0)) -> 804.4 | F60: =IF(COUNTIF(Feuil1!$B:$B,$A60)=0,0,VLOOKUP($A60,Feuil1!$B:$K,COLUMN(),0)) -> 804.5 | G60: =IF(COUNTIF(Feuil1!$B:$B,$A60)=0,0,VLOOKUP($A60,Feuil1!$B:$K,COLUMN(),0)) -> 804.6 | H60: =IF(COUNTIF(Feuil1!$B:$B,$A60)=0,0,VLOOKUP($A60,Feuil1!$B:$K,COLUMN(),0)) -> 804.7 | I60: =IF(COUNTIF(Feuil1!$B:$B,$A60)=0,0,VLOOKUP($A60,Feuil1!$B:$K,COLUMN(),0)) -> 804.8 | J60: =IF(COUNTIF(Feuil1!$B:$B,$A60)=0,0,VLOOKUP($A60,Feuil1!$B:$K,COLUMN(),0)) -> 6435.6
A61: ="Semaine"&ROWS($1:5)&"-"&$B$1-1 -> Semaine5-2008 | B61: =IF(COUNTIF(Feuil1!$B:$B,$A61)=0,0,VLOOKUP($A61,Feuil1!$B:$K,COLUMN(),0)) -> 805.1 | C61: =IF(COUNTIF(Feuil1!$B:$B,$A61)=0,0,VLOOKUP($A61,Feuil1!$B:$K,COLUMN(),0)) -> 805.2 | D61: =IF(COUNTIF(Feuil1!$B:$B,$A61)=0,0,VLOOKUP($A61,Feuil1!$B:$K,COLUMN(),0)) -> 805.3 | E61: =IF(COUNTIF(Feuil1!$B:$B,$A61)=0,0,VLOOKUP($A61,Feuil1!$B:$K,COLUMN(),0)) -> 805.4 | F61: =IF(COUNTIF(Feuil1!$B:$B,$A61)=0,0,VLOOKUP($A61,Feuil1!$B:$K,COLUMN(),0)) -> 805.5 | G61: =IF(COUNTIF(Feuil1!$B:$B,$A61)=0,0,VLOOKUP($A61,Feuil1!$B:$K,COLUMN(),0)) -> 805.6 | H61: =IF(COUNTIF(Feuil1!$B:$B,$A61)=0,0,VLOOKUP($A61,Feuil1!$B:$K,COLUMN(),0)) -> 805.7 | I61: =IF(COUNTIF(Feuil1!$B:$B,$A61)=0,0,VLOOKUP($A61,Feuil1!$B:$K,COLUMN(),0)) -> 805.8 | J61: =IF(COUNTIF(Feuil1!$B:$B,$A61)=0,0,VLOOKUP($A61,Feuil1!$B:$K,COLUMN(),0)) -> 6443.6
A62: ="Semaine"&ROWS($1:6)&"-"&$B$1-1 -> Semaine6-2008 | B62: =IF(COUNTIF(Feuil1!$B:$B,$A62)=0,0,VLOOKUP($A62,Feuil1!$B:$K,COLUMN(),0)) -> 806.1 | C62: =IF(COUNTIF(Feuil1!$B:$B,$A62)=0,0,VLOOKUP($A62,Feuil1!$B:$K,COLUMN(),0)) -> 806.2 | D62: =IF(COUNTIF(Feuil1!$B:$B,$A62)=0,0,VLOOKUP($A62,Feuil1!$B:$K,COLUMN(),0)) -> 806.3 | E62: =IF(COUNTIF(Feuil1!$B:$B,$A62)=0,0,VLOOKUP($A62,Feuil1!$B:$K,COLUMN(),0)) -> 806.4 | F62: =IF(COUNTIF(Feuil1!$B:$B,$A62)=0,0,VLOOKUP($A62,Feuil1!$B:$K,COLUMN(),0)) -> 806.5 | G62: =IF(COUNTIF(Feuil1!$B:$B,$A62)=0,0,VLOOKUP($A62,Feuil1!$B:$K,COLUMN(),0)) -> 806.6 | H62: =IF(COUNTIF(Feuil1!$B:$B,$A62)=0,0,VLOOKUP($A62,Feuil1!$B:$K,COLUMN(),0)) -> 806.7 | I62: =IF(COUNTIF(Feuil1!$B:$B,$A62)=0,0,VLOOKUP($A62,Feuil1!$B:$K,COLUMN(),0)) -> 806.8 | J62: =IF(COUNTIF(Feuil1!$B:$B,$A62)=0,0,VLOOKUP($A62,Feuil1!$B:$K,COLUMN(),0)) -> 6451.6
A63: ="Semaine"&ROWS($1:7)&"-"&$B$1-1 -> Semaine7-2008 | B63: =IF(COUNTIF(Feuil1!$B:$B,$A63)=0,0,VLOOKUP($A63,Feuil1!$B:$K,COLUMN(),0)) -> 807.1 | C63: =IF(COUNTIF(Feuil1!$B:$B,$A63)=0,0,VLOOKUP($A63,Feuil1!$B:$K,COLUMN(),0)) -> 807.2 | D63: =IF(COUNTIF(Feuil1!$B:$B,$A63)=0,0,VLOOKUP($A63,Feuil1!$B:$K,COLUMN(),0)) -> 807.3 | E63: =IF(COUNTIF(Feuil1!$B:$B,$A63)=0,0,VLOOKUP($A63,Feuil1!$B:$K,COLUMN(),0)) -> 807.4 | F63: =IF(COUNTIF(Feuil1!$B:$B,$A63)=0,0,VLOOKUP($A63,Feuil1!$B:$K,COLUMN(),0)) -> 807.5 | G63: =IF(COUNTIF(Feuil1!$B:$B,$A63)=0,0,VLOOKUP($A63,Feuil1!$B:$K,COLUMN(),0)) -> 807.6 | H63: =IF(COUNTIF(Feuil1!$B:$B,$A63)=0,0,VLOOKUP($A63,Feuil1!$B:$K,COLUMN(),0)) -> 807.7 | I63: =IF(COUNTIF(Feuil1!$B:$B,$A63)=0,0,VLOOKUP($A63,Feuil1!$B:$K,COLUMN(),0)) -> 807.8 | J63: =IF(COUNTIF(Feuil1!$B:$B,$A63)=0,0,VLOOKUP($A63,Feuil1!$B:$K,COLUMN(),0)) -> 6459.6
A64: ="Semaine"&ROWS($1:8)&"-"&$B$1-1 -> Semaine8-2008 | B64: =IF(COUNTIF(Feuil1!$B:$B,$A64)=0,0,VLOOKUP($A64,Feuil1!$B:$K,COLUMN(),0)) -> 808.1 | C64: =IF(COUNTIF(Feuil1!$B:$B,$A64)=0,0,VLOOKUP($A64,Feuil1!$B:$K,COLUMN(),0)) -> 808.2 | D64: =IF(COUNTIF(Feuil1!$B:$B,$A64)=0,0,VLOOKUP($A64,Feuil1!$B:$K,COLUMN(),0)) -> 808.3 | E64: =IF(COUNTIF(Feuil1!$B:$B,$A64)=0,0,VLOOKUP($A64,Feuil1!$B:$K,COLUMN(),0)) -> 808.4 | F64: =IF(COUNTIF(Feuil1!$B:$B,$A64)=0,0,VLOOKUP($A64,Feuil1!$B:$K,COLUMN(),0)) -> 808.5 | G64: =IF(COUNTIF(Feuil1!$B:$B,$A64)=0,0,VLOOKUP($A64,Feuil1!$B:$K,COLUMN(),0)) -> 808.6 | H64: =IF(COUNTIF(Feuil1!$B:$B,$A64)=0,0,VLOOKUP($A64,Feuil1!$B:$K,COLUMN(),0)) -> 808.7 | I64: =IF(COUNTIF(Feuil1!$B:$B,$A64)=0,0,VLOOKUP($A64,Feuil1!$B:$K,COLUMN(),0)) -> 808.8 | J64: =IF(COUNTIF(Feuil1!$B:$B,$A64)=0,0,VLOOKUP($A64,Feuil1!$B:$K,COLUMN(),0)) -> 6467.6
A65: ="Semaine"&ROWS($1:9)&"-"&$B$1-1 -> Semaine9-2008 | B65: =IF(COUNTIF(Feuil1!$B:$B,$A65)=0,0,VLOOKUP($A65,Feuil1!$B:$K,COLUMN(),0)) -> 809.1 | C65: =IF(COUNTIF(Feuil1!$B:$B,$A65)=0,0,VLOOKUP($A65,Feuil1!$B:$K,COLUMN(),0)) -> 809.2 | D65: =IF(COUNTIF(Feuil1!$B:$B,$A65)=0,0,VLOOKUP($A65,Feuil1!$B:$K,COLUMN(),0)) -> 809.3 | E65: =IF(COUNTIF(Feuil1!$B:$B,$A65)=0,0,VLOOKUP($A65,Feuil1!$B:$K,COLUMN(),0)) -> 809.4 | F65: =IF(COUNTIF(Feuil1!$B:$B,$A65)=0,0,VLOOKUP($A65,Feuil1!$B:$K,COLUMN(),0)) -> 809.5 | G65: =IF(COUNTIF(Feuil1!$B:$B,$A65)=0,0,VLOOKUP($A65,Feuil1!$B:$K,COLUMN(),0)) -> 809.6 | H65: =IF(COUNTIF(Feuil1!$B:$B,$A65)=0,0,VLOOKUP($A65,Feuil1!$B:$K,COLUMN(),0)) -> 809.7 | I65: =IF(COUNTIF(Feuil1!$B:$B,$A65)=0,0,VLOOKUP($A65,Feuil1!$B:$K,COLUMN(),0)) -> 809.8 | J65: =IF(COUNTIF(Feuil1!$B:$B,$A65)=0,0,VLOOKUP($A65,Feuil1!$B:$K,COLUMN(),0)) -> 6475.6
A66: ="Semaine"&ROWS($1:10)&"-"&$B$1-1 -> Semaine10-2008 | B66: =IF(COUNTIF(Feuil1!$B:$B,$A66)=0,0,VLOOKUP($A66,Feuil1!$B:$K,COLUMN(),0)) -> 810.1 | C66: =IF(COUNTIF(Feuil1!$B:$B,$A66)=0,0,VLOOKUP($A66,Feuil1!$B:$K,COLUMN(),0)) -> 810.2 | D66: =IF(COUNTIF(Feuil1!$B:$B,$A66)=0,0,VLOOKUP($A66,Feuil1!$B:$K,COLUMN(),0)) -> 810.3 | E66: =IF(COUNTIF(Feuil1!$B:$B,$A66)=0,0,VLOOKUP($A66,Feuil1!$B:$K,COLUMN(),0)) -> 810.4 | F66: =IF(COUNTIF(Feuil1!$B:$B,$A66)=0,0,VLOOKUP($A66,Feuil1!$B:$K,COLUMN(),0)) -> 810.5 | G66: =IF(COUNTIF(Feuil1!$B:$B,$A66)=0,0,VLOOKUP($A66,Feuil1!$B:$K,COLUMN(),0)) -> 810.6 | H66: =IF(COUNTIF(Feuil1!$B:$B,$A66)=0,0,VLOOKUP($A66,Feuil1!$B:$K,COLUMN(),0)) -> 810.7 | I66: =IF(COUNTIF(Feuil1!$B:$B,$A66)=0,0,VLOOKUP($A66,Feuil1!$B:$K,COLUMN(),0)) -> 810.8 | J66: =IF(COUNTIF(Feuil1!$B:$B,$A66)=0,0,VLOOKUP($A66,Feuil1!$B:$K,COLUMN(),0)) -> 6483.6
A67: ="Semaine"&ROWS($1:11)&"-"&$B$1-1 -> Semaine11-2008 | B67: =IF(COUNTIF(Feuil1!$B:$B,$A67)=0,0,VLOOKUP($A67,Feuil1!$B:$K,COLUMN(),0)) -> 811.1 | C67: =IF(COUNTIF(Feuil1!$B:$B,$A67)=0,0,VLOOKUP($A67,Feuil1!$B:$K,COLUMN(),0)) -> 811.2 | D67: =IF(COUNTIF(Feuil1!$B:$B,$A67)=0,0,VLOOKUP($A67,Feuil1!$B:$K,COLUMN(),0)) -> 811.3 | E67: =IF(COUNTIF(Feuil1!$B:$B,$A67)=0,0,VLOOKUP($A67,Feuil1!$B:$K,COLUMN(),0)) -> 811.4 | F67: =IF(COUNTIF(Feuil1!$B:$B,$A67)=0,0,VLOOKUP($A67,Feuil1!$B:$K,COLUMN(),0)) -> 811.5 | G67: =IF(COUNTIF(Feuil1!$B:$B,$A67)=0,0,VLOOKUP($A67,Feuil1!$B:$K,COLUMN(),0)) -> 811.6 | H67: =IF(COUNTIF(Feuil1!$B:$B,$A67)=0,0,VLOOKUP($A67,Feuil1!$B:$K,COLUMN(),0)) -> 811.7 | I67: =IF(COUNTIF(Feuil1!$B:$B,$A67)=0,0,VLOOKUP($A67,Feuil1!$B:$K,COLUMN(),0)) -> 811.8 | J67: =IF(COUNTIF(Feuil1!$B:$B,$A67)=0,0,VLOOKUP($A67,Feuil1!$B:$K,COLUMN(),0)) -> 6491.6
A68: ="Semaine"&ROWS($1:12)&"-"&$B$1-1 -> Semaine12-2008 | B68: =IF(COUNTIF(Feuil1!$B:$B,$A68)=0,0,VLOOKUP($A68,Feuil1!$B:$K,COLUMN(),0)) -> 812.1 | C68: =IF(COUNTIF(Feuil1!$B:$B,$A68)=0,0,VLOOKUP($A68,Feuil1!$B:$K,COLUMN(),0)) -> 812.2 | D68: =IF(COUNTIF(Feuil1!$B:$B,$A68)=0,0,VLOOKUP($A68,Feuil1!$B:$K,COLUMN(),0)) -> 812.3 | E68: =IF(COUNTIF(Feuil1!$B:$B,$A68)=0,0,VLOOKUP($A68,Feuil1!$B:$K,COLUMN(),0)) -> 812.4 | F68: =IF(COUNTIF(Feuil1!$B:$B,$A68)=0,0,VLOOKUP($A68,Feuil1!$B:$K,COLUMN(),0)) -> 812.5 | G68: =IF(COUNTIF(Feuil1!$B:$B,$A68)=0,0,VLOOKUP($A68,Feuil1!$B:$K,COLUMN(),0)) -> 812.6 | H68: =IF(COUNTIF(Feuil1!$B:$B,$A68)=0,0,VLOOKUP($A68,Feuil1!$B:$K,COLUMN(),0)) -> 812.7 | I68: =IF(COUNTIF(Feuil1!$B:$B,$A68)=0,0,VLOOKUP($A68,Feuil1!$B:$K,COLUMN(),0)) -> 812.8 | J68: =IF(COUNTIF(Feuil1!$B:$B,$A68)=0,0,VLOOKUP($A68,Feuil1!$B:$K,COLUMN(),0)) -> 6499.6
A69: ="Semaine"&ROWS($1:13)&"-"&$B$1-1 -> Semaine13-2008 | B69: =IF(COUNTIF(Feuil1!$B:$B,$A69)=0,0,VLOOKUP($A69,Feuil1!$B:$K,COLUMN(),0)) -> 813.1 | C69: =IF(COUNTIF(Feuil1!$B:$B,$A69)=0,0,VLOOKUP($A69,Feuil1!$B:$K,COLUMN(),0)) -> 813.2 | D69: =IF(COUNTIF(Feuil1!$B:$B,$A69)=0,0,VLOOKUP($A69,Feuil1!$B:$K,COLUMN(),0)) -> 813.3 | E69: =IF(COUNTIF(Feuil1!$B:$B,$A69)=0,0,VLOOKUP($A69,Feuil1!$B:$K,COLUMN(),0)) -> 813.4 | F69: =IF(COUNTIF(Feuil1!$B:$B,$A69)=0,0,VLOOKUP($A69,Feuil1!$B:$K,COLUMN(),0)) -> 813.5 | G69: =IF(COUNTIF(Feuil1!$B:$B,$A69)=0,0,VLOOKUP($A69,Feuil1!$B:$K,COLUMN(),0)) -> 813.6 | H69: =IF(COUNTIF(Feuil1!$B:$B,$A69)=0,0,VLOOKUP($A69,Feuil1!$B:$K,COLUMN(),0)) -> 813.7 | I69: =IF(COUNTIF(Feuil1!$B:$B,$A69)=0,0,VLOOKUP($A69,Feuil1!$B:$K,COLUMN(),0)) -> 813.8 | J69: =IF(COUNTIF(Feuil1!$B:$B,$A69)=0,0,VLOOKUP($A69,Feuil1!$B:$K,COLUMN(),0)) -> 6507.6
A70: ="Semaine"&ROWS($1:14)&"-"&$B$1-1 -> Semaine14-2008 | B70: =IF(COUNTIF(Feuil1!$B:$B,$A70)=0,0,VLOOKUP($A70,Feuil1!$B:$K,COLUMN(),0)) -> 814.1 | C70: =IF(COUNTIF(Feuil1!$B:$B,$A70)=0,0,VLOOKUP($A70,Feuil1!$B:$K,COLUMN(),0)) -> 814.2 | D70: =IF(COUNTIF(Feuil1!$B:$B,$A70)=0,0,VLOOKUP($A70,Feuil1!$B:$K,COLUMN(),0)) -> 814.3 | E70: =IF(COUNTIF(Feuil1!$B:$B,$A70)=0,0,VLOOKUP($A70,Feuil1!$B:$K,COLUMN(),0)) -> 814.4 | F70: =IF(COUNTIF(Feuil1!$B:$B,$A70)=0,0,VLOOKUP($A70,Feuil1!$B:$K,COLUMN(),0)) -> 814.5 | G70: =IF(COUNTIF(Feuil1!$B:$B,$A70)=0,0,VLOOKUP($A70,Feuil1!$B:$K,COLUMN(),0)) -> 814.6 | H70: =IF(COUNTIF(Feuil1!$B:$B,$A70)=0,0,VLOOKUP($A70,Feuil1!$B:$K,COLUMN(),0)) -> 814.7 | I70: =IF(COUNTIF(Feuil1!$B:$B,$A70)=0,0,VLOOKUP($A70,Feuil1!$B:$K,COLUMN(),0)) -> 814.8 | J70: =IF(COUNTIF(Feuil1!$B:$B,$A70)=0,0,VLOOKUP($A70,Feuil1!$B:$K,COLUMN(),0)) -> 6515.6
A71: ="Semaine"&ROWS($1:15)&"-"&$B$1-1 -> Semaine15-2008 | B71: =IF(COUNTIF(Feuil1!$B:$B,$A71)=0,0,VLOOKUP($A71,Feuil1!$B:$K,COLUMN(),0)) -> 815.1 | C71: =IF(COUNTIF(Feuil1!$B:$B,$A71)=0,0,VLOOKUP($A71,Feuil1!$B:$K,COLUMN(),0)) -> 815.2 | D71: =IF(COUNTIF(Feuil1!$B:$B,$A71)=0,0,VLOOKUP($A71,Feuil1!$B:$K,COLUMN(),0)) -> 815.3 | E71: =IF(COUNTIF(Feuil1!$B:$B,$A71)=0,0,VLOOKUP($A71,Feuil1!$B:$K,COLUMN(),0)) -> 815.4 | F71: =IF(COUNTIF(Feuil1!$B:$B,$A71)=0,0,VLOOKUP($A71,Feuil1!$B:$K,COLUMN(),0)) -> 815.5 | G71: =IF(COUNTIF(Feuil1!$B:$B,$A71)=0,0,VLOOKUP($A71,Feuil1!$B:$K,COLUMN(),0)) -> 815.6 | H71: =IF(COUNTIF(Feuil1!$B:$B,$A71)=0,0,VLOOKUP($A71,Feuil1!$B:$K,COLUMN(),0)) -> 815.7 | I71: =IF(COUNTIF(Feuil1!$B:$B,$A71)=0,0,VLOOKUP($A71,Feuil1!$B:$K,COLUMN(),0)) -> 815.8 | J71: =IF(COUNTIF(Feuil1!$B:$B,$A71)=0,0,VLOOKUP($A71,Feuil1!$B:$K,COLUMN(),0)) -> 6523.6
A72: ="Semaine"&ROWS($1:16)&"-"&$B$1-1 -> Semaine16-2008 | B72: =IF(COUNTIF(Feuil1!$B:$B,$A72)=0,0,VLOOKUP($A72,Feuil1!$B:$K,COLUMN(),0)) -> 816.1 | C72: =IF(COUNTIF(Feuil1!$B:$B,$A72)=0,0,VLOOKUP($A72,Feuil1!$B:$K,COLUMN(),0)) -> 816.2 | D72: =IF(COUNTIF(Feuil1!$B:$B,$A72)=0,0,VLOOKUP($A72,Feuil1!$B:$K,COLUMN(),0)) -> 816.3 | E72: =IF(COUNTIF(Feuil1!$B:$B,$A72)=0,0,VLOOKUP($A72,Feuil1!$B:$K,COLUMN(),0)) -> 816.4 | F72: =IF(COUNTIF(Feuil1!$B:$B,$A72)=0,0,VLOOKUP($A72,Feuil1!$B:$K,COLUMN(),0)) -> 816.5 | G72: =IF(COUNTIF(Feuil1!$B:$B,$A72)=0,0,VLOOKUP($A72,Feuil1!$B:$K,COLUMN(),0)) -> 816.6 | H72: =IF(COUNTIF(Feuil1!$B:$B,$A72)=0,0,VLOOKUP($A72,Feuil1!$B:$K,COLUMN(),0)) -> 816.7 | I72: =IF(COUNTIF(Feuil1!$B:$B,$A72)=0,0,VLOOKUP($A72,Feuil1!$B:$K,COLUMN(),0)) -> 816.8 | J72: =IF(COUNTIF(Feuil1!$B:$B,$A72)=0,0,VLOOKUP($A72,Feuil1!$B:$K,COLUMN(),0)) -> 6531.6
A73: ="Semaine"&ROWS($1:17)&"-"&$B$1-1 -> Semaine17-2008 | B73: =IF(COUNTIF(Feuil1!$B:$B,$A73)=0,0,VLOOKUP($A73,Feuil1!$B:$K,COLUMN(),0)) -> 817.1 | C73: =IF(COUNTIF(Feuil1!$B:$B,$A73)=0,0,VLOOKUP($A73,Feuil1!$B:$K,COLUMN(),0)) -> 817.2 | D73: =IF(COUNTIF(Feuil1!$B:$B,$A73)=0,0,VLOOKUP($A73,Feuil1!$B:$K,COLUMN(),0)) -> 817.3 | E73: =IF(COUNTIF(Feuil1!$B:$B,$A73)=0,0,VLOOKUP($A73,Feuil1!$B:$K,COLUMN(),0)) -> 817.4 | F73: =IF(COUNTIF(Feuil1!$B:$B,$A73)=0,0,VLOOKUP($A73,Feuil1!$B:$K,COLUMN(),0)) -> 817.5 | G73: =IF(COUNTIF(Feuil1!$B:$B,$A73)=0,0,VLOOKUP($A73,Feuil1!$B:$K,COLUMN(),0)) -> 817.6 | H73: =IF(COUNTIF(Feuil1!$B:$B,$A73)=0,0,VLOOKUP($A73,Feuil1!$B:$K,COLUMN(),0)) -> 817.7 | I73: =IF(COUNTIF(Feuil1!$B:$B,$A73)=0,0,VLOOKUP($A73,Feuil1!$B:$K,COLUMN(),0)) -> 817.8 | J73: =IF(COUNTIF(Feuil1!$B:$B,$A73)=0,0,VLOOKUP($A73,Feuil1!$B:$K,COLUMN(),0)) -> 6539.6
A74: ="Semaine"&ROWS($1:18)&"-"&$B$1-1 -> Semaine18-2008 | B74: =IF(COUNTIF(Feuil1!$B:$B,$A74)=0,0,VLOOKUP($A74,Feuil1!$B:$K,COLUMN(),0)) -> 818.1 | C74: =IF(COUNTIF(Feuil1!$B:$B,$A74)=0,0,VLOOKUP($A74,Feuil1!$B:$K,COLUMN(),0)) -> 818.2 | D74: =IF(COUNTIF(Feuil1!$B:$B,$A74)=0,0,VLOOKUP($A74,Feuil1!$B:$K,COLUMN(),0)) -> 818.3 | E74: =IF(COUNTIF(Feuil1!$B:$B,$A74)=0,0,VLOOKUP($A74,Feuil1!$B:$K,COLUMN(),0)) -> 818.4 | F74: =IF(COUNTIF(Feuil1!$B:$B,$A74)=0,0,VLOOKUP($A74,Feuil1!$B:$K,COLUMN(),0)) -> 818.5 | G74: =IF(COUNTIF(Feuil1!$B:$B,$A74)=0,0,VLOOKUP($A74,Feuil1!$B:$K,COLUMN(),0)) -> 818.6 | H74: =IF(COUNTIF(Feuil1!$B:$B,$A74)=0,0,VLOOKUP($A74,Feuil1!$B:$K,COLUMN(),0)) -> 818.7 | I74: =IF(COUNTIF(Feuil1!$B:$B,$A74)=0,0,VLOOKUP($A74,Feuil1!$B:$K,COLUMN(),0)) -> 818.8 | J74: =IF(COUNTIF(Feuil1!$B:$B,$A74)=0,0,VLOOKUP($A74,Feuil1!$B:$K,COLUMN(),0)) -> 6547.6
A75: ="Semaine"&ROWS($1:19)&"-"&$B$1-1 -> Semaine19-2008 | B75: =IF(COUNTIF(Feuil1!$B:$B,$A75)=0,0,VLOOKUP($A75,Feuil1!$B:$K,COLUMN(),0)) -> 819.1 | C75: =IF(COUNTIF(Feuil1!$B:$B,$A75)=0,0,VLOOKUP($A75,Feuil1!$B:$K,COLUMN(),0)) -> 819.2 | D75: =IF(COUNTIF(Feuil1!$B:$B,$A75)=0,0,VLOOKUP($A75,Feuil1!$B:$K,COLUMN(),0)) -> 819.3 | E75: =IF(COUNTIF(Feuil1!$B:$B,$A75)=0,0,VLOOKUP($A75,Feuil1!$B:$K,COLUMN(),0)) -> 819.4 | F75: =IF(COUNTIF(Feuil1!$B:$B,$A75)=0,0,VLOOKUP($A75,Feuil1!$B:$K,COLUMN(),0)) -> 819.5 | G75: =IF(COUNTIF(Feuil1!$B:$B,$A75)=0,0,VLOOKUP($A75,Feuil1!$B:$K,COLUMN(),0)) -> 819.6 | H75: =IF(COUNTIF(Feuil1!$B:$B,$A75)=0,0,VLOOKUP($A75,Feuil1!$B:$K,COLUMN(),0)) -> 819.7 | I75: =IF(COUNTIF(Feuil1!$B:$B,$A75)=0,0,VLOOKUP($A75,Feuil1!$B:$K,COLUMN(),0)) -> 819.8 | J75: =IF(COUNTIF(Feuil1!$B:$B,$A75)=0,0,VLOOKUP($A75,Feuil1!$B:$K,COLUMN(),0)) -> 6555.6
A76: ="Semaine"&ROWS($1:20)&"-"&$B$1-1 -> Semaine20-2008 | B76: =IF(COUNTIF(Feuil1!$B:$B,$A76)=0,0,VLOOKUP($A76,Feuil1!$B:$K,COLUMN(),0)) -> 820.1 | C76: =IF(COUNTIF(Feuil1!$B:$B,$A76)=0,0,VLOOKUP($A76,Feuil1!$B:$K,COLUMN(),0)) -> 820.2 | D76: =IF(COUNTIF(Feuil1!$B:$B,$A76)=0,0,VLOOKUP($A76,Feuil1!$B:$K,COLUMN(),0)) -> 820.3 | E76: =IF(COUNTIF(Feuil1!$B:$B,$A76)=0,0,VLOOKUP($A76,Feuil1!$B:$K,COLUMN(),0)) -> 820.4 | F76: =IF(COUNTIF(Feuil1!$B:$B,$A76)=0,0,VLOOKUP($A76,Feuil1!$B:$K,COLUMN(),0)) -> 820.5 | G76: =IF(COUNTIF(Feuil1!$B:$B,$A76)=0,0,VLOOKUP($A76,Feuil1!$B:$K,COLUMN(),0)) -> 820.6 | H76: =IF(COUNTIF(Feuil1!$B:$B,$A76)=0,0,VLOOKUP($A76,Feuil1!$B:$K,COLUMN(),0)) -> 820.7 | I76: =IF(COUNTIF(Feuil1!$B:$B,$A76)=0,0,VLOOKUP($A76,Feuil1!$B:$K,COLUMN(),0)) -> 820.8 | J76: =IF(COUNTIF(Feuil1!$B:$B,$A76)=0,0,VLOOKUP($A76,Feuil1!$B:$K,COLUMN(),0)) -> 6563.6
A77: ="Semaine"&ROWS($1:21)&"-"&$B$1-1 -> Semaine21-2008 | B77: =IF(COUNTIF(Feuil1!$B:$B,$A77)=0,0,VLOOKUP($A77,Feuil1!$B:$K,COLUMN(),0)) -> 821.1 | C77: =IF(COUNTIF(Feuil1!$B:$B,$A77)=0,0,VLOOKUP($A77,Feuil1!$B:$K,COLUMN(),0)) -> 821.2 | D77: =IF(COUNTIF(Feuil1!$B:$B,$A77)=0,0,VLOOKUP($A77,Feuil1!$B:$K,COLUMN(),0)) -> 821.3 | E77: =IF(COUNTIF(Feuil1!$B:$B,$A77)=0,0,VLOOKUP($A77,Feuil1!$B:$K,COLUMN(),0)) -> 821.4 | F77: =IF(COUNTIF(Feuil1!$B:$B,$A77)=0,0,VLOOKUP($A77,Feuil1!$B:$K,COLUMN(),0)) -> 821.5 | G77: =IF(COUNTIF(Feuil1!$B:$B,$A77)=0,0,VLOOKUP($A77,Feuil1!$B:$K,COLUMN(),0)) -> 821.6 | H77: =IF(COUNTIF(Feuil1!$B:$B,$A77)=0,0,VLOOKUP($A77,Feuil1!$B:$K,COLUMN(),0)) -> 821.7 | I77: =IF(COUNTIF(Feuil1!$B:$B,$A77)=0,0,VLOOKUP($A77,Feuil1!$B:$K,COLUMN(),0)) -> 821.8 | J77: =IF(COUNTIF(Feuil1!$B:$B,$A77)=0,0,VLOOKUP($A77,Feuil1!$B:$K,COLUMN(),0)) -> 6571.6
A78: ="Semaine"&ROWS($1:22)&"-"&$B$1-1 -> Semaine22-2008 | B78: =IF(COUNTIF(Feuil1!$B:$B,$A78)=0,0,VLOOKUP($A78,Feuil1!$B:$K,COLUMN(),0)) -> 822.1 | C78: =IF(COUNTIF(Feuil1!$B:$B,$A78)=0,0,VLOOKUP($A78,Feuil1!$B:$K,COLUMN(),0)) -> 822.2 | D78: =IF(COUNTIF(Feuil1!$B:$B,$A78)=0,0,VLOOKUP($A78,Feuil1!$B:$K,COLUMN(),0)) -> 822.3 | E78: =IF(COUNTIF(Feuil1!$B:$B,$A78)=0,0,VLOOKUP($A78,Feuil1!$B:$K,COLUMN(),0)) -> 822.4 | F78: =IF(COUNTIF(Feuil1!$B:$B,$A78)=0,0,VLOOKUP($A78,Feuil1!$B:$K,COLUMN(),0)) -> 822.5 | G78: =IF(COUNTIF(Feuil1!$B:$B,$A78)=0,0,VLOOKUP($A78,Feuil1!$B:$K,COLUMN(),0)) -> 822.6 | H78: =IF(COUNTIF(Feuil1!$B:$B,$A78)=0,0,VLOOKUP($A78,Feuil1!$B:$K,COLUMN(),0)) -> 822.7 | I78: =IF(COUNTIF(Feuil1!$B:$B,$A78)=0,0,VLOOKUP($A78,Feuil1!$B:$K,COLUMN(),0)) -> 822.8 | J78: =IF(COUNTIF(Feuil1!$B:$B,$A78)=0,0,VLOOKUP($A78,Feuil1!$B:$K,COLUMN(),0)) -> 6579.6
A79: ="Semaine"&ROWS($1:23)&"-"&$B$1-1 -> Semaine23-2008 | B79: =IF(COUNTIF(Feuil1!$B:$B,$A79)=0,0,VLOOKUP($A79,Feuil1!$B:$K,COLUMN(),0)) -> 823.1 | C79: =IF(COUNTIF(Feuil1!$B:$B,$A79)=0,0,VLOOKUP($A79,Feuil1!$B:$K,COLUMN(),0)) -> 823.2 | D79: =IF(COUNTIF(Feuil1!$B:$B,$A79)=0,0,VLOOKUP($A79,Feuil1!$B:$K,COLUMN(),0)) -> 823.3 | E79: =IF(COUNTIF(Feuil1!$B:$B,$A79)=0,0,VLOOKUP($A79,Feuil1!$B:$K,COLUMN(),0)) -> 823.4 | F79: =IF(COUNTIF(Feuil1!$B:$B,$A79)=0,0,VLOOKUP($A79,Feuil1!$B:$K,COLUMN(),0)) -> 823.5 | G79: =IF(COUNTIF(Feuil1!$B:$B,$A79)=0,0,VLOOKUP($A79,Feuil1!$B:$K,COLUMN(),0)) -> 823.6 | H79: =IF(COUNTIF(Feuil1!$B:$B,$A79)=0,0,VLOOKUP($A79,Feuil1!$B:$K,COLUMN(),0)) -> 823.7 | I79: =IF(COUNTIF(Feuil1!$B:$B,$A79)=0,0,VLOOKUP($A79,Feuil1!$B:$K,COLUMN(),0)) -> 823.8 | J79: =IF(COUNTIF(Feuil1!$B:$B,$A79)=0,0,VLOOKUP($A79,Feuil1!$B:$K,COLUMN(),0)) -> 6587.6
A80: ="Semaine"&ROWS($1:24)&"-"&$B$1-1 -> Semaine24-2008 | B80: =IF(COUNTIF(Feuil1!$B:$B,$A80)=0,0,VLOOKUP($A80,Feuil1!$B:$K,COLUMN(),0)) -> 824.1 | C80: =IF(COUNTIF(Feuil1!$B:$B,$A80)=0,0,VLOOKUP($A80,Feuil1!$B:$K,COLUMN(),0)) -> 824.2 | D80: =IF(COUNTIF(Feuil1!$B:$B,$A80)=0,0,VLOOKUP($A80,Feuil1!$B:$K,COLUMN(),0)) -> 824.3 | E80: =IF(COUNTIF(Feuil1!$B:$B,$A80)=0,0,VLOOKUP($A80,Feuil1!$B:$K,COLUMN(),0)) -> 824.4 | F80: =IF(COUNTIF(Feuil1!$B:$B,$A80)=0,0,VLOOKUP($A80,Feuil1!$B:$K,COLUMN(),0)) -> 824.5 | G80: =IF(COUNTIF(Feuil1!$B:$B,$A80)=0,0,VLOOKUP($A80,Feuil1!$B:$K,COLUMN(),0)) -> 824.6 | H80: =IF(COUNTIF(Feuil1!$B:$B,$A80)=0,0,VLOOKUP($A80,Feuil1!$B:$K,COLUMN(),0)) -> 824.7 | I80: =IF(COUNTIF(Feuil1!$B:$B,$A80)=0,0,VLOOKUP($A80,Feuil1!$B:$K,COLUMN(),0)) -> 824.8 | J80: =IF(COUNTIF(Feuil1!$B:$B,$A80)=0,0,VLOOKUP($A80,Feuil1!$B:$K,COLUMN(),0)) -> 6595.6
A81: ="Semaine"&ROWS($1:25)&"-"&$B$1-1 -> Semaine25-2008 | B81: =IF(COUNTIF(Feuil1!$B:$B,$A81)=0,0,VLOOKUP($A81,Feuil1!$B:$K,COLUMN(),0)) -> 825.1 | C81: =IF(COUNTIF(Feuil1!$B:$B,$A81)=0,0,VLOOKUP($A81,Feuil1!$B:$K,COLUMN(),0)) -> 825.2 | D81: =IF(COUNTIF(Feuil1!$B:$B,$A81)=0,0,VLOOKUP($A81,Feuil1!$B:$K,COLUMN(),0)) -> 825.3 | E81: =IF(COUNTIF(Feuil1!$B:$B,$A81)=0,0,VLOOKUP($A81,Feuil1!$B:$K,COLUMN(),0)) -> 825.4 | F81: =IF(COUNTIF(Feuil1!$B:$B,$A81)=0,0,VLOOKUP($A81,Feuil1!$B:$K,COLUMN(),0)) -> 825.5 | G81: =IF(COUNTIF(Feuil1!$B:$B,$A81)=0,0,VLOOKUP($A81,Feuil1!$B:$K,COLUMN(),0)) -> 825.6 | H81: =IF(COUNTIF(Feuil1!$B:$B,$A81)=0,0,VLOOKUP($A81,Feuil1!$B:$K,COLUMN(),0)) -> 825.7 | I81: =IF(COUNTIF(Feuil1!$B:$B,$A81)=0,0,VLOOKUP($A81,Feuil1!$B:$K,COLUMN(),0)) -> 825.8 | J81: =IF(COUNTIF(Feuil1!$B:$B,$A81)=0,0,VLOOKUP($A81,Feuil1!$B:$K,COLUMN(),0)) -> 6603.6
A82: ="Semaine"&ROWS($1:26)&"-"&$B$1-1 -> Semaine26-2008 | B82: =IF(COUNTIF(Feuil1!$B:$B,$A82)=0,0,VLOOKUP($A82,Feuil1!$B:$K,COLUMN(),0)) -> 826.1 | C82: =IF(COUNTIF(Feuil1!$B:$B,$A82)=0,0,VLOOKUP($A82,Feuil1!$B:$K,COLUMN(),0)) -> 826.2 | D82: =IF(COUNTIF(Feuil1!$B:$B,$A82)=0,0,VLOOKUP($A82,Feuil1!$B:$K,COLUMN(),0)) -> 826.3 | E82: =IF(COUNTIF(Feuil1!$B:$B,$A82)=0,0,VLOOKUP($A82,Feuil1!$B:$K,COLUMN(),0)) -> 826.4 | F82: =IF(COUNTIF(Feuil1!$B:$B,$A82)=0,0,VLOOKUP($A82,Feuil1!$B:$K,COLUMN(),0)) -> 826.5 | G82: =IF(COUNTIF(Feuil1!$B:$B,$A82)=0,0,VLOOKUP($A82,Feuil1!$B:$K,COLUMN(),0)) -> 826.6 | H82: =IF(COUNTIF(Feuil1!$B:$B,$A82)=0,0,VLOOKUP($A82,Feuil1!$B:$K,COLUMN(),0)) -> 826.7 | I82: =IF(COUNTIF(Feuil1!$B:$B,$A82)=0,0,VLOOKUP($A82,Feuil1!$B:$K,COLUMN(),0)) -> 826.8 | J82: =IF(COUNTIF(Feuil1!$B:$B,$A82)=0,0,VLOOKUP($A82,Feuil1!$B:$K,COLUMN(),0)) -> 6611.6
A83: ="Semaine"&ROWS($1:27)&"-"&$B$1-1 -> Semaine27-2008 | B83: =IF(COUNTIF(Feuil1!$B:$B,$A83)=0,0,VLOOKUP($A83,Feuil1!$B:$K,COLUMN(),0)) -> 827.1 | C83: =IF(COUNTIF(Feuil1!$B:$B,$A83)=0,0,VLOOKUP($A83,Feuil1!$B:$K,COLUMN(),0)) -> 827.2 | D83: =IF(COUNTIF(Feuil1!$B:$B,$A83)=0,0,VLOOKUP($A83,Feuil1!$B:$K,COLUMN(),0)) -> 827.3 | E83: =IF(COUNTIF(Feuil1!$B:$B,$A83)=0,0,VLOOKUP($A83,Feuil1!$B:$K,COLUMN(),0)) -> 827.4 | F83: =IF(COUNTIF(Feuil1!$B:$B,$A83)=0,0,VLOOKUP($A83,Feuil1!$B:$K,COLUMN(),0)) -> 827.5 | G83: =IF(COUNTIF(Feuil1!$B:$B,$A83)=0,0,VLOOKUP($A83,Feuil1!$B:$K,COLUMN(),0)) -> 827.6 | H83: =IF(COUNTIF(Feuil1!$B:$B,$A83)=0,0,VLOOKUP($A83,Feuil1!$B:$K,COLUMN(),0)) -> 827.7 | I83: =IF(COUNTIF(Feuil1!$B:$B,$A83)=0,0,VLOOKUP($A83,Feuil1!$B:$K,COLUMN(),0)) -> 827.8 | J83: =IF(COUNTIF(Feuil1!$B:$B,$A83)=0,0,VLOOKUP($A83,Feuil1!$B:$K,COLUMN(),0)) -> 6619.6
A84: ="Semaine"&ROWS($1:28)&"-"&$B$1-1 -> Semaine28-2008 | B84: =IF(COUNTIF(Feuil1!$B:$B,$A84)=0,0,VLOOKUP($A84,Feuil1!$B:$K,COLUMN(),0)) -> 828.1 | C84: =IF(COUNTIF(Feuil1!$B:$B,$A84)=0,0,VLOOKUP($A84,Feuil1!$B:$K,COLUMN(),0)) -> 828.2 | D84: =IF(COUNTIF(Feuil1!$B:$B,$A84)=0,0,VLOOKUP($A84,Feuil1!$B:$K,COLUMN(),0)) -> 828.3 | E84: =IF(COUNTIF(Feuil1!$B:$B,$A84)=0,0,VLOOKUP($A84,Feuil1!$B:$K,COLUMN(),0)) -> 828.4 | F84: =IF(COUNTIF(Feuil1!$B:$B,$A84)=0,0,VLOOKUP($A84,Feuil1!$B:$K,COLUMN(),0)) -> 828.5 | G84: =IF(COUNTIF(Feuil1!$B:$B,$A84)=0,0,VLOOKUP($A84,Feuil1!$B:$K,COLUMN(),0)) -> 828.6 | H84: =IF(COUNTIF(Feuil1!$B:$B,$A84)=0,0,VLOOKUP($A84,Feuil1!$B:$K,COLUMN(),0)) -> 828.7 | I84: =IF(COUNTIF(Feuil1!$B:$B,$A84)=0,0,VLOOKUP($A84,Feuil1!$B:$K,COLUMN(),0)) -> 828.8 | J84: =IF(COUNTIF(Feuil1!$B:$B,$A84)=0,0,VLOOKUP($A84,Feuil1!$B:$K,COLUMN(),0)) -> 6627.6
A85: ="Semaine"&ROWS($1:29)&"-"&$B$1-1 -> Semaine29-2008 | B85: =IF(COUNTIF(Feuil1!$B:$B,$A85)=0,0,VLOOKUP($A85,Feuil1!$B:$K,COLUMN(),0)) -> 829.1 | C85: =IF(COUNTIF(Feuil1!$B:$B,$A85)=0,0,VLOOKUP($A85,Feuil1!$B:$K,COLUMN(),0)) -> 829.2 | D85: =IF(COUNTIF(Feuil1!$B:$B,$A85)=0,0,VLOOKUP($A85,Feuil1!$B:$K,COLUMN(),0)) -> 829.3 | E85: =IF(COUNTIF(Feuil1!$B:$B,$A85)=0,0,VLOOKUP($A85,Feuil1!$B:$K,COLUMN(),0)) -> 829.4 | F85: =IF(COUNTIF(Feuil1!$B:$B,$A85)=0,0,VLOOKUP($A85,Feuil1!$B:$K,COLUMN(),0)) -> 829.5 | G85: =IF(COUNTIF(Feuil1!$B:$B,$A85)=0,0,VLOOKUP($A85,Feuil1!$B:$K,COLUMN(),0)) -> 829.6 | H85: =IF(COUNTIF(Feuil1!$B:$B,$A85)=0,0,VLOOKUP($A85,Feuil1!$B:$K,COLUMN(),0)) -> 829.7 | I85: =IF(COUNTIF(Feuil1!$B:$B,$A85)=0,0,VLOOKUP($A85,Feuil1!$B:$K,COLUMN(),0)) -> 829.8 | J85: =IF(COUNTIF(Feuil1!$B:$B,$A85)=0,0,VLOOKUP($A85,Feuil1!$B:$K,COLUMN(),0)) -> 6635.6
A86: ="Semaine"&ROWS($1:30)&"-"&$B$1-1 -> Semaine30-2008 | B86: =IF(COUNTIF(Feuil1!$B:$B,$A86)=0,0,VLOOKUP($A86,Feuil1!$B:$K,COLUMN(),0)) -> 830.1 | C86: =IF(COUNTIF(Feuil1!$B:$B,$A86)=0,0,VLOOKUP($A86,Feuil1!$B:$K,COLUMN(),0)) -> 830.2 | D86: =IF(COUNTIF(Feuil1!$B:$B,$A86)=0,0,VLOOKUP($A86,Feuil1!$B:$K,COLUMN(),0)) -> 830.3 | E86: =IF(COUNTIF(Feuil1!$B:$B,$A86)=0,0,VLOOKUP($A86,Feuil1!$B:$K,COLUMN(),0)) -> 830.4 | F86: =IF(COUNTIF(Feuil1!$B:$B,$A86)=0,0,VLOOKUP($A86,Feuil1!$B:$K,COLUMN(),0)) -> 830.5 | G86: =IF(COUNTIF(Feuil1!$B:$B,$A86)=0,0,VLOOKUP($A86,Feuil1!$B:$K,COLUMN(),0)) -> 830.6 | H86: =IF(COUNTIF(Feuil1!$B:$B,$A86)=0,0,VLOOKUP($A86,Feuil1!$B:$K,COLUMN(),0)) -> 830.7 | I86: =IF(COUNTIF(Feuil1!$B:$B,$A86)=0,0,VLOOKUP($A86,Feuil1!$B:$K,COLUMN(),0)) -> 830.8 | J86: =IF(COUNTIF(Feuil1!$B:$B,$A86)=0,0,VLOOKUP($A86,Feuil1!$B:$K,COLUMN(),0)) -> 6643.6
A87: ="Semaine"&ROWS($1:31)&"-"&$B$1-1 -> Semaine31-2008 | B87: =IF(COUNTIF(Feuil1!$B:$B,$A87)=0,0,VLOOKUP($A87,Feuil1!$B:$K,COLUMN(),0)) -> 831.1 | C87: =IF(COUNTIF(Feuil1!$B:$B,$A87)=0,0,VLOOKUP($A87,Feuil1!$B:$K,COLUMN(),0)) -> 831.2 | D87: =IF(COUNTIF(Feuil1!$B:$B,$A87)=0,0,VLOOKUP($A87,Feuil1!$B:$K,COLUMN(),0)) -> 831.3 | E87: =IF(COUNTIF(Feuil1!$B:$B,$A87)=0,0,VLOOKUP($A87,Feuil1!$B:$K,COLUMN(),0)) -> 831.4 | F87: =IF(COUNTIF(Feuil1!$B:$B,$A87)=0,0,VLOOKUP($A87,Feuil1!$B:$K,COLUMN(),0)) -> 831.5 | G87: =IF(COUNTIF(Feuil1!$B:$B,$A87)=0,0,VLOOKUP($A87,Feuil1!$B:$K,COLUMN(),0)) -> 831.6 | H87: =IF(COUNTIF(Feuil1!$B:$B,$A87)=0,0,VLOOKUP($A87,Feuil1!$B:$K,COLUMN(),0)) -> 831.7 | I87: =IF(COUNTIF(Feuil1!$B:$B,$A87)=0,0,VLOOKUP($A87,Feuil1!$B:$K,COLUMN(),0)) -> 831.8 | J87: =IF(COUNTIF(Feuil1!$B:$B,$A87)=0,0,VLOOKUP($A87,Feuil1!$B:$K,COLUMN(),0)) -> 6651.6
A88: ="Semaine"&ROWS($1:32)&"-"&$B$1-1 -> Semaine32-2008 | B88: =IF(COUNTIF(Feuil1!$B:$B,$A88)=0,0,VLOOKUP($A88,Feuil1!$B:$K,COLUMN(),0)) -> 832.1 | C88: =IF(COUNTIF(Feuil1!$B:$B,$A88)=0,0,VLOOKUP($A88,Feuil1!$B:$K,COLUMN(),0)) -> 832.2 | D88: =IF(COUNTIF(Feuil1!$B:$B,$A88)=0,0,VLOOKUP($A88,Feuil1!$B:$K,COLUMN(),0)) -> 832.3 | E88: =IF(COUNTIF(Feuil1!$B:$B,$A88)=0,0,VLOOKUP($A88,Feuil1!$B:$K,COLUMN(),0)) -> 832.4 | F88: =IF(COUNTIF(Feuil1!$B:$B,$A88)=0,0,VLOOKUP($A88,Feuil1!$B:$K,COLUMN(),0)) -> 832.5 | G88: =IF(COUNTIF(Feuil1!$B:$B,$A88)=0,0,VLOOKUP($A88,Feuil1!$B:$K,COLUMN(),0)) -> 832.6 | H88: =IF(COUNTIF(Feuil1!$B:$B,$A88)=0,0,VLOOKUP($A88,Feuil1!$B:$K,COLUMN(),0)) -> 832.7 | I88: =IF(COUNTIF(Feuil1!$B:$B,$A88)=0,0,VLOOKUP($A88,Feuil1!$B:$K,COLUMN(),0)) -> 832.8 | J88: =IF(COUNTIF(Feuil1!$B:$B,$A88)=0,0,VLOOKUP($A88,Feuil1!$B:$K,COLUMN(),0)) -> 6659.6
A89: ="Semaine"&ROWS($1:33)&"-"&$B$1-1 -> Semaine33-2008 | B89: =IF(COUNTIF(Feuil1!$B:$B,$A89)=0,0,VLOOKUP($A89,Feuil1!$B:$K,COLUMN(),0)) -> 833.1 | C89: =IF(COUNTIF(Feuil1!$B:$B,$A89)=0,0,VLOOKUP($A89,Feuil1!$B:$K,COLUMN(),0)) -> 833.2 | D89: =IF(COUNTIF(Feuil1!$B:$B,$A89)=0,0,VLOOKUP($A89,Feuil1!$B:$K,COLUMN(),0)) -> 833.3 | E89: =IF(COUNTIF(Feuil1!$B:$B,$A89)=0,0,VLOOKUP($A89,Feuil1!$B:$K,COLUMN(),0)) -> 833.4 | F89: =IF(COUNTIF(Feuil1!$B:$B,$A89)=0,0,VLOOKUP($A89,Feuil1!$B:$K,COLUMN(),0)) -> 833.5 | G89: =IF(COUNTIF(Feuil1!$B:$B,$A89)=0,0,VLOOKUP($A89,Feuil1!$B:$K,COLUMN(),0)) -> 833.6 | H89: =IF(COUNTIF(Feuil1!$B:$B,$A89)=0,0,VLOOKUP($A89,Feuil1!$B:$K,COLUMN(),0)) -> 833.7 | I89: =IF(COUNTIF(Feuil1!$B:$B,$A89)=0,0,VLOOKUP($A89,Feuil1!$B:$K,COLUMN(),0)) -> 833.8 | J89: =IF(COUNTIF(Feuil1!$B:$B,$A89)=0,0,VLOOKUP($A89,Feuil1!$B:$K,COLUMN(),0)) -> 6667.6
A90: ="Semaine"&ROWS($1:34)&"-"&$B$1-1 -> Semaine34-2008 | B90: =IF(COUNTIF(Feuil1!$B:$B,$A90)=0,0,VLOOKUP($A90,Feuil1!$B:$K,COLUMN(),0)) -> 834.1 | C90: =IF(COUNTIF(Feuil1!$B:$B,$A90)=0,0,VLOOKUP($A90,Feuil1!$B:$K,COLUMN(),0)) -> 834.2 | D90: =IF(COUNTIF(Feuil1!$B:$B,$A90)=0,0,VLOOKUP($A90,Feuil1!$B:$K,COLUMN(),0)) -> 834.3 | E90: =IF(COUNTIF(Feuil1!$B:$B,$A90)=0,0,VLOOKUP($A90,Feuil1!$B:$K,COLUMN(),0)) -> 834.4 | F90: =IF(COUNTIF(Feuil1!$B:$B,$A90)=0,0,VLOOKUP($A90,Feuil1!$B:$K,COLUMN(),0)) -> 834.5 | G90: =IF(COUNTIF(Feuil1!$B:$B,$A90)=0,0,VLOOKUP($A90,Feuil1!$B:$K,COLUMN(),0)) -> 834.6 | H90: =IF(COUNTIF(Feuil1!$B:$B,$A90)=0,0,VLOOKUP($A90,Feuil1!$B:$K,COLUMN(),0)) -> 834.7 | I90: =IF(COUNTIF(Feuil1!$B:$B,$A90)=0,0,VLOOKUP($A90,Feuil1!$B:$K,COLUMN(),0)) -> 834.8 | J90: =IF(COUNTIF(Feuil1!$B:$B,$A90)=0,0,VLOOKUP($A90,Feuil1!$B:$K,COLUMN(),0)) -> 6675.6
A91: ="Semaine"&ROWS($1:35)&"-"&$B$1-1 -> Semaine35-2008 | B91: =IF(COUNTIF(Feuil1!$B:$B,$A91)=0,0,VLOOKUP($A91,Feuil1!$B:$K,COLUMN(),0)) -> 835.1 | C91: =IF(COUNTIF(Feuil1!$B:$B,$A91)=0,0,VLOOKUP($A91,Feuil1!$B:$K,COLUMN(),0)) -> 835.2 | D91: =IF(COUNTIF(Feuil1!$B:$B,$A91)=0,0,VLOOKUP($A91,Feuil1!$B:$K,COLUMN(),0)) -> 835.3 | E91: =IF(COUNTIF(Feuil1!$B:$B,$A91)=0,0,VLOOKUP($A91,Feuil1!$B:$K,COLUMN(),0)) -> 835.4 | F91: =IF(COUNTIF(Feuil1!$B:$B,$A91)=0,0,VLOOKUP($A91,Feuil1!$B:$K,COLUMN(),0)) -> 835.5 | G91: =IF(COUNTIF(Feuil1!$B:$B,$A91)=0,0,VLOOKUP($A91,Feuil1!$B:$K,COLUMN(),0)) -> 835.6 | H91: =IF(COUNTIF(Feuil1!$B:$B,$A91)=0,0,VLOOKUP($A91,Feuil1!$B:$K,COLUMN(),0)) -> 835.7 | I91: =IF(COUNTIF(Feuil1!$B:$B,$A91)=0,0,VLOOKUP($A91,Feuil1!$B:$K,COLUMN(),0)) -> 835.8 | J91: =IF(COUNTIF(Feuil1!$B:$B,$A91)=0,0,VLOOKUP($A91,Feuil1!$B:$K,COLUMN(),0)) -> 6683.6
A92: ="Semaine"&ROWS($1:36)&"-"&$B$1-1 -> Semaine36-2008 | B92: =IF(COUNTIF(Feuil1!$B:$B,$A92)=0,0,VLOOKUP($A92,Feuil1!$B:$K,COLUMN(),0)) -> 836.1 | C92: =IF(COUNTIF(Feuil1!$B:$B,$A92)=0,0,VLOOKUP($A92,Feuil1!$B:$K,COLUMN(),0)) -> 836.2 | D92: =IF(COUNTIF(Feuil1!$B:$B,$A92)=0,0,VLOOKUP($A92,Feuil1!$B:$K,COLUMN(),0)) -> 836.3 | E92: =IF(COUNTIF(Feuil1!$B:$B,$A92)=0,0,VLOOKUP($A92,Feuil1!$B:$K,COLUMN(),0)) -> 836.4 | F92: =IF(COUNTIF(Feuil1!$B:$B,$A92)=0,0,VLOOKUP($A92,Feuil1!$B:$K,COLUMN(),0)) -> 836.5 | G92: =IF(COUNTIF(Feuil1!$B:$B,$A92)=0,0,VLOOKUP($A92,Feuil1!$B:$K,COLUMN(),0)) -> 836.6 | H92: =IF(COUNTIF(Feuil1!$B:$B,$A92)=0,0,VLOOKUP($A92,Feuil1!$B:$K,COLUMN(),0)) -> 836.7 | I92: =IF(COUNTIF(Feuil1!$B:$B,$A92)=0,0,VLOOKUP($A92,Feuil1!$B:$K,COLUMN(),0)) -> 836.8 | J92: =IF(COUNTIF(Feuil1!$B:$B,$A92)=0,0,VLOOKUP($A92,Feuil1!$B:$K,COLUMN(),0)) -> 6691.6
A93: ="Semaine"&ROWS($1:37)&"-"&$B$1-1 -> Semaine37-2008 | B93: =IF(COUNTIF(Feuil1!$B:$B,$A93)=0,0,VLOOKUP($A93,Feuil1!$B:$K,COLUMN(),0)) -> 837.1 | C93: =IF(COUNTIF(Feuil1!$B:$B,$A93)=0,0,VLOOKUP($A93,Feuil1!$B:$K,COLUMN(),0)) -> 837.2 | D93: =IF(COUNTIF(Feuil1!$B:$B,$A93)=0,0,VLOOKUP($A93,Feuil1!$B:$K,COLUMN(),0)) -> 837.3 | E93: =IF(COUNTIF(Feuil1!$B:$B,$A93)=0,0,VLOOKUP($A93,Feuil1!$B:$K,COLUMN(),0)) -> 837.4 | F93: =IF(COUNTIF(Feuil1!$B:$B,$A93)=0,0,VLOOKUP($A93,Feuil1!$B:$K,COLUMN(),0)) -> 837.5 | G93: =IF(COUNTIF(Feuil1!$B:$B,$A93)=0,0,VLOOKUP($A93,Feuil1!$B:$K,COLUMN(),0)) -> 837.6 | H93: =IF(COUNTIF(Feuil1!$B:$B,$A93)=0,0,VLOOKUP($A93,Feuil1!$B:$K,COLUMN(),0)) -> 837.7 | I93: =IF(COUNTIF(Feuil1!$B:$B,$A93)=0,0,VLOOKUP($A93,Feuil1!$B:$K,COLUMN(),0)) -> 837.8 | J93: =IF(COUNTIF(Feuil1!$B:$B,$A93)=0,0,VLOOKUP($A93,Feuil1!$B:$K,COLUMN(),0)) -> 6699.6
A94: ="Semaine"&ROWS($1:38)&"-"&$B$1-1 -> Semaine38-2008 | B94: =IF(COUNTIF(Feuil1!$B:$B,$A94)=0,0,VLOOKUP($A94,Feuil1!$B:$K,COLUMN(),0)) -> 838.1 | C94: =IF(COUNTIF(Feuil1!$B:$B,$A94)=0,0,VLOOKUP($A94,Feuil1!$B:$K,COLUMN(),0)) -> 838.2 | D94: =IF(COUNTIF(Feuil1!$B:$B,$A94)=0,0,VLOOKUP($A94,Feuil1!$B:$K,COLUMN(),0)) -> 838.3 | E94: =IF(COUNTIF(Feuil1!$B:$B,$A94)=0,0,VLOOKUP($A94,Feuil1!$B:$K,COLUMN(),0)) -> 838.4 | F94: =IF(COUNTIF(Feuil1!$B:$B,$A94)=0,0,VLOOKUP($A94,Feuil1!$B:$K,COLUMN(),0)) -> 838.5 | G94: =IF(COUNTIF(Feuil1!$B:$B,$A94)=0,0,VLOOKUP($A94,Feuil1!$B:$K,COLUMN(),0)) -> 838.6 | H94: =IF(COUNTIF(Feuil1!$B:$B,$A94)=0,0,VLOOKUP($A94,Feuil1!$B:$K,COLUMN(),0)) -> 838.7 | I94: =IF(COUNTIF(Feuil1!$B:$B,$A94)=0,0,VLOOKUP($A94,Feuil1!$B:$K,COLUMN(),0)) -> 838.8 | J94: =IF(COUNTIF(Feuil1!$B:$B,$A94)=0,0,VLOOKUP($A94,Feuil1!$B:$K,COLUMN(),0)) -> 6707.6
A95: ="Semaine"&ROWS($1:39)&"-"&$B$1-1 -> Semaine39-2008 | B95: =IF(COUNTIF(Feuil1!$B:$B,$A95)=0,0,VLOOKUP($A95,Feuil1!$B:$K,COLUMN(),0)) -> 839.1 | C95: =IF(COUNTIF(Feuil1!$B:$B,$A95)=0,0,VLOOKUP($A95,Feuil1!$B:$K,COLUMN(),0)) -> 839.2 | D95: =IF(COUNTIF(Feuil1!$B:$B,$A95)=0,0,VLOOKUP($A95,Feuil1!$B:$K,COLUMN(),0)) -> 839.3 | E95: =IF(COUNTIF(Feuil1!$B:$B,$A95)=0,0,VLOOKUP($A95,Feuil1!$B:$K,COLUMN(),0)) -> 839.4 | F95: =IF(COUNTIF(Feuil1!$B:$B,$A95)=0,0,VLOOKUP($A95,Feuil1!$B:$K,COLUMN(),0)) -> 839.5 | G95: =IF(COUNTIF(Feuil1!$B:$B,$A95)=0,0,VLOOKUP($A95,Feuil1!$B:$K,COLUMN(),0)) -> 839.6 | H95: =IF(COUNTIF(Feuil1!$B:$B,$A95)=0,0,VLOOKUP($A95,Feuil1!$B:$K,COLUMN(),0)) -> 839.7 | I95: =IF(COUNTIF(Feuil1!$B:$B,$A95)=0,0,VLOOKUP($A95,Feuil1!$B:$K,COLUMN(),0)) -> 839.8 | J95: =IF(COUNTIF(Feuil1!$B:$B,$A95)=0,0,VLOOKUP($A95,Feuil1!$B:$K,COLUMN(),0)) -> 6715.6
A96: ="Semaine"&ROWS($1:40)&"-"&$B$1-1 -> Semaine40-2008 | B96: =IF(COUNTIF(Feuil1!$B:$B,$A96)=0,0,VLOOKUP($A96,Feuil1!$B:$K,COLUMN(),0)) -> 840.1 | C96: =IF(COUNTIF(Feuil1!$B:$B,$A96)=0,0,VLOOKUP($A96,Feuil1!$B:$K,COLUMN(),0)) -> 840.2 | D96: =IF(COUNTIF(Feuil1!$B:$B,$A96)=0,0,VLOOKUP($A96,Feuil1!$B:$K,COLUMN(),0)) -> 840.3 | E96: =IF(COUNTIF(Feuil1!$B:$B,$A96)=0,0,VLOOKUP($A96,Feuil1!$B:$K,COLUMN(),0)) -> 840.4 | F96: =IF(COUNTIF(Feuil1!$B:$B,$A96)=0,0,VLOOKUP($A96,Feuil1!$B:$K,COLUMN(),0)) -> 840.5 | G96: =IF(COUNTIF(Feuil1!$B:$B,$A96)=0,0,VLOOKUP($A96,Feuil1!$B:$K,COLUMN(),0)) -> 840.6 | H96: =IF(COUNTIF(Feuil1!$B:$B,$A96)=0,0,VLOOKUP($A96,Feuil1!$B:$K,COLUMN(),0)) -> 840.7 | I96: =IF(COUNTIF(Feuil1!$B:$B,$A96)=0,0,VLOOKUP($A96,Feuil1!$B:$K,COLUMN(),0)) -> 840.8 | J96: =IF(COUNTIF(Feuil1!$B:$B,$A96)=0,0,VLOOKUP($A96,Feuil1!$B:$K,COLUMN(),0)) -> 6723.6
A97: ="Semaine"&ROWS($1:41)&"-"&$B$1-1 -> Semaine41-2008 | B97: =IF(COUNTIF(Feuil1!$B:$B,$A97)=0,0,VLOOKUP($A97,Feuil1!$B:$K,COLUMN(),0)) -> 841.1 | C97: =IF(COUNTIF(Feuil1!$B:$B,$A97)=0,0,VLOOKUP($A97,Feuil1!$B:$K,COLUMN(),0)) -> 841.2 | D97: =IF(COUNTIF(Feuil1!$B:$B,$A97)=0,0,VLOOKUP($A97,Feuil1!$B:$K,COLUMN(),0)) -> 841.3 | E97: =IF(COUNTIF(Feuil1!$B:$B,$A97)=0,0,VLOOKUP($A97,Feuil1!$B:$K,COLUMN(),0)) -> 841.4 | F97: =IF(COUNTIF(Feuil1!$B:$B,$A97)=0,0,VLOOKUP($A97,Feuil1!$B:$K,COLUMN(),0)) -> 841.5 | G97: =IF(COUNTIF(Feuil1!$B:$B,$A97)=0,0,VLOOKUP($A97,Feuil1!$B:$K,COLUMN(),0)) -> 841.6 | H97: =IF(COUNTIF(Feuil1!$B:$B,$A97)=0,0,VLOOKUP($A97,Feuil1!$B:$K,COLUMN(),0)) -> 841.7 | I97: =IF(COUNTIF(Feuil1!$B:$B,$A97)=0,0,VLOOKUP($A97,Feuil1!$B:$K,COLUMN(),0)) -> 841.8 | J97: =IF(COUNTIF(Feuil1!$B:$B,$A97)=0,0,VLOOKUP($A97,Feuil1!$B:$K,COLUMN(),0)) -> 6731.6
A98: ="Semaine"&ROWS($1:42)&"-"&$B$1-1 -> Semaine42-2008 | B98: =IF(COUNTIF(Feuil1!$B:$B,$A98)=0,0,VLOOKUP($A98,Feuil1!$B:$K,COLUMN(),0)) -> 842.1 | C98: =IF(COUNTIF(Feuil1!$B:$B,$A98)=0,0,VLOOKUP($A98,Feuil1!$B:$K,COLUMN(),0)) -> 842.2 | D98: =IF(COUNTIF(Feuil1!$B:$B,$A98)=0,0,VLOOKUP($A98,Feuil1!$B:$K,COLUMN(),0)) -> 842.3 | E98: =IF(COUNTIF(Feuil1!$B:$B,$A98)=0,0,VLOOKUP($A98,Feuil1!$B:$K,COLUMN(),0)) -> 842.4 | F98: =IF(COUNTIF(Feuil1!$B:$B,$A98)=0,0,VLOOKUP($A98,Feuil1!$B:$K,COLUMN(),0)) -> 842.5 | G98: =IF(COUNTIF(Feuil1!$B:$B,$A98)=0,0,VLOOKUP($A98,Feuil1!$B:$K,COLUMN(),0)) -> 842.6 | H98: =IF(COUNTIF(Feuil1!$B:$B,$A98)=0,0,VLOOKUP($A98,Feuil1!$B:$K,COLUMN(),0)) -> 842.7 | I98: =IF(COUNTIF(Feuil1!$B:$B,$A98)=0,0,VLOOKUP($A98,Feuil1!$B:$K,COLUMN(),0)) -> 842.8 | J98: =IF(COUNTIF(Feuil1!$B:$B,$A98)=0,0,VLOOKUP($A98,Feuil1!$B:$K,COLUMN(),0)) -> 6739.6
A99: ="Semaine"&ROWS($1:43)&"-"&$B$1-1 -> Semaine43-2008 | B99: =IF(COUNTIF(Feuil1!$B:$B,$A99)=0,0,VLOOKUP($A99,Feuil1!$B:$K,COLUMN(),0)) -> 843.1 | C99: =IF(COUNTIF(Feuil1!$B:$B,$A99)=0,0,VLOOKUP($A99,Feuil1!$B:$K,COLUMN(),0)) -> 843.2 | D99: =IF(COUNTIF(Feuil1!$B:$B,$A99)=0,0,VLOOKUP($A99,Feuil1!$B:$K,COLUMN(),0)) -> 843.3 | E99: =IF(COUNTIF(Feuil1!$B:$B,$A99)=0,0,VLOOKUP($A99,Feuil1!$B:$K,COLUMN(),0)) -> 843.4 | F99: =IF(COUNTIF(Feuil1!$B:$B,$A99)=0,0,VLOOKUP($A99,Feuil1!$B:$K,COLUMN(),0)) -> 843.5 | G99: =IF(COUNTIF(Feuil1!$B:$B,$A99)=0,0,VLOOKUP($A99,Feuil1!$B:$K,COLUMN(),0)) -> 843.6 | H99: =IF(COUNTIF(Feuil1!$B:$B,$A99)=0,0,VLOOKUP($A99,Feuil1!$B:$K,COLUMN(),0)) -> 843.7 | I99: =IF(COUNTIF(Feuil1!$B:$B,$A99)=0,0,VLOOKUP($A99,Feuil1!$B:$K,COLUMN(),0)) -> 843.8 | J99: =IF(COUNTIF(Feuil1!$B:$B,$A99)=0,0,VLOOKUP($A99,Feuil1!$B:$K,COLUMN(),0)) -> 6747.6
A100: ="Semaine"&ROWS($1:44)&"-"&$B$1-1 -> Semaine44-2008 | B100: =IF(COUNTIF(Feuil1!$B:$B,$A100)=0,0,VLOOKUP($A100,Feuil1!$B:$K,COLUMN(),0)) -> 844.1 | C100: =IF(COUNTIF(Feuil1!$B:$B,$A100)=0,0,VLOOKUP($A100,Feuil1!$B:$K,COLUMN(),0)) -> 844.2 | D100: =IF(COUNTIF(Feuil1!$B:$B,$A100)=0,0,VLOOKUP($A100,Feuil1!$B:$K,COLUMN(),0)) -> 844.3 | E100: =IF(COUNTIF(Feuil1!$B:$B,$A100)=0,0,VLOOKUP($A100,Feuil1!$B:$K,COLUMN(),0)) -> 844.4 | F100: =IF(COUNTIF(Feuil1!$B:$B,$A100)=0,0,VLOOKUP($A100,Feuil1!$B:$K,COLUMN(),0)) -> 844.5 | G100: =IF(COUNTIF(Feuil1!$B:$B,$A100)=0,0,VLOOKUP($A100,Feuil1!$B:$K,COLUMN(),0)) -> 844.6 | H100: =IF(COUNTIF(Feuil1!$B:$B,$A100)=0,0,VLOOKUP($A100,Feuil1!$B:$K,COLUMN(),0)) -> 844.7 | I100: =IF(COUNTIF(Feuil1!$B:$B,$A100)=0,0,VLOOKUP($A100,Feuil1!$B:$K,COLUMN(),0)) -> 844.8 | J100: =IF(COUNTIF(Feuil1!$B:$B,$A100)=0,0,VLOOKUP($A100,Feuil1!$B:$K,COLUMN(),0)) -> 6755.6
...
