Workbook
Name Liste: Feuil1!$I$2:$I$88

Sheet Feuil1
A1: NOM | B1: PRENOM | C1: FOLIO | D1: NOTAIRE | E1: COTE | F1: ANNEE | G1: VILLE | H1: COTES | I1: VERIFICATION | J1: MANQUE | K1: DOUBLON
A2: LEURIDAN | B2: VALENTIN | C2: 1 | D2: VINCRE NICOLAS | E2: 9331 | F2: 1671 | G2: ROUBAIX | H2: ="2 E 3 / "&E2&"."&TEXT(C2,"000") -> 2 E 3 / 9331.001 | I2: =IF(ISERROR((E2&TEXT(C2,"000"))*1),"ERREUR",(E2&TEXT(C2,"000"))*1) -> 9331001 | J2: =IF(I2="ERREUR",MAX($I1:J$2)+1,IF(OR(I2=I1,E2<>E1,ISERROR(I1+1)),"",IF(MAX($I1:J$2)+1=I2,"",MAX($I1:J$2)+1))) | K2: =IF(AND(I2<>"ERREUR",I2=I1),I2,"")
A3: LEZY | B3: ARTUS | C3: 2 | D3: VINCRE NICOLAS | E3: 9331 | F3: 1671 | G3: ROUBAIX | H3: ="2 E 3 / "&E3&"."&TEXT(C3,"000") -> 2 E 3 / 9331.002 | I3: =IF(ISERROR((E3&TEXT(C3,"000"))*1),"ERREUR",(E3&TEXT(C3,"000"))*1) -> 9331002 | J3: =IF(I3="ERREUR",MAX($I2:J$2)+1,IF(OR(I3=I2,E3<>E2,ISERROR(I2+1)),"",IF(MAX($I2:J$2)+1=I3,"",MAX($I2:J$2)+1))) | K3: =IF(AND(I3<>"ERREUR",I3=I2),I3,"")
A4: LEURIDAN | B4: MARGUERITE | C4: 3 | D4: VINCRE NICOLAS | E4: 9331 | F4: 1671 | G4: ROUBAIX | H4: ="2 E 3 / "&E4&"."&TEXT(C4,"000") -> 2 E 3 / 9331.003 | I4: =IF(ISERROR((E4&TEXT(C4,"000"))*1),"ERREUR",(E4&TEXT(C4,"000"))*1) -> 9331003 | J4: =IF(I4="ERREUR",MAX($I$2:J3)+1,IF(OR(I4=I3,E4<>E3,ISERROR(I3+1)),"",IF(MAX($I$2:J3)+1=I4,"",MAX($I$2:J3)+1))) | K4: =IF(AND(I4<>"ERREUR",I4=I3),I4,"")
A5: DE COULOMBIER | B5: JEAN | C5: 4 | D5: VINCRE NICOLAS | E5: 9331 | F5: 1671 | G5: ROUBAIX | H5: ="2 E 3 / "&E5&"."&TEXT(C5,"000") -> 2 E 3 / 9331.004 | I5: =IF(ISERROR((E5&TEXT(C5,"000"))*1),"ERREUR",(E5&TEXT(C5,"000"))*1) -> 9331004 | J5: =IF(I5="ERREUR",MAX($I$2:J4)+1,IF(OR(I5=I4,E5<>E4,ISERROR(I4+1)),"",IF(MAX($I$2:J4)+1=I5,"",MAX($I$2:J4)+1))) | K5: =IF(AND(I5<>"ERREUR",I5=I4),I5,"")
A6: THELIER | B6: GEORGES ANTOINE | C6: 5 | D6: VINCRE NICOLAS | E6: 9331 | F6: 1671 | G6: ROUBAIX | H6: ="2 E 3 / "&E6&"."&TEXT(C6,"000") -> 2 E 3 / 9331.005 | I6: =IF(ISERROR((E6&TEXT(C6,"000"))*1),"ERREUR",(E6&TEXT(C6,"000"))*1) -> 9331005 | J6: =IF(I6="ERREUR",MAX($I$2:J5)+1,IF(OR(I6=I5,E6<>E5,ISERROR(I5+1)),"",IF(MAX($I$2:J5)+1=I6,"",MAX($I$2:J5)+1))) | K6: =IF(AND(I6<>"ERREUR",I6=I5),I6,"")
A7: WATTEL | B7: JEAN | C7: 6 | D7: VINCRE NICOLAS | E7: 9331 | F7: 1671 | G7: ROUBAIX | H7: ="2 E 3 / "&E7&"."&TEXT(C7,"000") -> 2 E 3 / 9331.006 | I7: =IF(ISERROR((E7&TEXT(C7,"000"))*1),"ERREUR",(E7&TEXT(C7,"000"))*1) -> 9331006 | J7: =IF(I7="ERREUR",MAX($I$2:J6)+1,IF(OR(I7=I6,E7<>E6,ISERROR(I6+1)),"",IF(MAX($I$2:J6)+1=I7,"",MAX($I$2:J6)+1))) | K7: =IF(AND(I7<>"ERREUR",I7=I6),I7,"")
A8: SORRY | B8: GERMAIN | C8: 7 | D8: VINCRE NICOLAS | E8: 9331 | F8: 1671 | G8: ROUBAIX | H8: ="2 E 3 / "&E8&"."&TEXT(C8,"000") -> 2 E 3 / 9331.007 | I8: =IF(ISERROR((E8&TEXT(C8,"000"))*1),"ERREUR",(E8&TEXT(C8,"000"))*1) -> 9331007 | J8: =IF(I8="ERREUR",MAX($I$2:J7)+1,IF(OR(I8=I7,E8<>E7,ISERROR(I7+1)),"",IF(MAX($I$2:J7)+1=I8,"",MAX($I$2:J7)+1))) | K8: =IF(AND(I8<>"ERREUR",I8=I7),I8,"")
A9: DUFOREST | B9: JACQUES | C9: 8 | D9: VINCRE NICOLAS | E9: 9331 | F9: 1671 | G9: ROUBAIX | H9: ="2 E 3 / "&E9&"."&TEXT(C9,"000") -> 2 E 3 / 9331.008 | I9: =IF(ISERROR((E9&TEXT(C9,"000"))*1),"ERREUR",(E9&TEXT(C9,"000"))*1) -> 9331008 | J9: =IF(I9="ERREUR",MAX($I$2:J8)+1,IF(OR(I9=I8,E9<>E8,ISERROR(I8+1)),"",IF(MAX($I$2:J8)+1=I9,"",MAX($I$2:J8)+1))) | K9: =IF(AND(I9<>"ERREUR",I9=I8),I9,"")
A10: DHALLUIN | B10: GILETTE | C10: 9 | D10: VINCRE NICOLAS | E10: 9331 | F10: 1671 | G10: ROUBAIX | H10: ="2 E 3 / "&E10&"."&TEXT(C10,"000") -> 2 E 3 / 9331.009 | I10: =IF(ISERROR((E10&TEXT(C10,"000"))*1),"ERREUR",(E10&TEXT(C10,"000"))*1) -> 9331009 | J10: =IF(I10="ERREUR",MAX($I$2:J9)+1,IF(OR(I10=I9,E10<>E9,ISERROR(I9+1)),"",IF(MAX($I$2:J9)+1=I10,"",MAX($I$2:J9)+1))) | K10: =IF(AND(I10<>"ERREUR",I10=I9),I10,"")
A11: FERRET | B11: PHILIPPES | C11: 10 | D11: VINCRE NICOLAS | E11: 9331 | F11: 1671 | G11: ROUBAIX | H11: ="2 E 3 / "&E11&"."&TEXT(C11,"000") -> 2 E 3 / 9331.010 | I11: =IF(ISERROR((E11&TEXT(C11,"000"))*1),"ERREUR",(E11&TEXT(C11,"000"))*1) -> 9331010 | J11: =IF(I11="ERREUR",MAX($I$2:J10)+1,IF(OR(I11=I10,E11<>E10,ISERROR(I10+1)),"",IF(MAX($I$2:J10)+1=I11,"",MAX($I$2:J10)+1))) | K11: =IF(AND(I11<>"ERREUR",I11=I10),I11,"")
A12: CASTEL | B12: GILLES | C12: 11 | D12: VINCRE NICOLAS | E12: 9331 | F12: 1671 | G12: ROUBAIX | H12: ="2 E 3 / "&E12&"."&TEXT(C12,"000") -> 2 E 3 / 9331.011 | I12: =IF(ISERROR((E12&TEXT(C12,"000"))*1),"ERREUR",(E12&TEXT(C12,"000"))*1) -> 9331011 | J12: =IF(I12="ERREUR",MAX($I$2:J11)+1,IF(OR(I12=I11,E12<>E11,ISERROR(I11+1)),"",IF(MAX($I$2:J11)+1=I12,"",MAX($I$2:J11)+1))) | K12: =IF(AND(I12<>"ERREUR",I12=I11),I12,"")
A13: DELEAUCOURT | B13: MARC | C13: 12 | D13: VINCRE NICOLAS | E13: 9331 | F13: 1671 | G13: ROUBAIX | H13: ="2 E 3 / "&E13&"."&TEXT(C13,"000") -> 2 E 3 / 9331.012 | I13: =IF(ISERROR((E13&TEXT(C13,"000"))*1),"ERREUR",(E13&TEXT(C13,"000"))*1) -> 9331012 | J13: =IF(I13="ERREUR",MAX($I$2:J12)+1,IF(OR(I13=I12,E13<>E12,ISERROR(I12+1)),"",IF(MAX($I$2:J12)+1=I13,"",MAX($I$2:J12)+1))) | K13: =IF(AND(I13<>"ERREUR",I13=I12),I13,"")
A14: TRENTESAUX | B14: JEAN | C14: 13 | D14: VINCRE NICOLAS | E14: 9331 | F14: 1671 | G14: ROUBAIX | H14: ="2 E 3 / "&E14&"."&TEXT(C14,"000") -> 2 E 3 / 9331.013 | I14: =IF(ISERROR((E14&TEXT(C14,"000"))*1),"ERREUR",(E14&TEXT(C14,"000"))*1) -> 9331013 | J14: =IF(I14="ERREUR",MAX($I$2:J13)+1,IF(OR(I14=I13,E14<>E13,ISERROR(I13+1)),"",IF(MAX($I$2:J13)+1=I14,"",MAX($I$2:J13)+1))) | K14: =IF(AND(I14<>"ERREUR",I14=I13),I14,"")
A15: FLORIN | B15: JACQUES | C15: 14 | D15: VINCRE NICOLAS | E15: 9331 | F15: 1671 | G15: ROUBAIX | H15: ="2 E 3 / "&E15&"."&TEXT(C15,"000") -> 2 E 3 / 9331.014 | I15: =IF(ISERROR((E15&TEXT(C15,"000"))*1),"ERREUR",(E15&TEXT(C15,"000"))*1) -> 9331014 | J15: =IF(I15="ERREUR",MAX($I$2:J14)+1,IF(OR(I15=I14,E15<>E14,ISERROR(I14+1)),"",IF(MAX($I$2:J14)+1=I15,"",MAX($I$2:J14)+1))) | K15: =IF(AND(I15<>"ERREUR",I15=I14),I15,"")
... A86: BOSSU | B86: PHILIPPE | C86: 85 | D86: VINCRE NICOLAS | E86: 9331 | F86: 1671 | G86: ROUBAIX | H86: ="2 E 3 / "&E86&"."&TEXT(C86,"000") -> 2 E 3 / 9331.085 | I86: =IF(ISERROR((E86&TEXT(C86,"000"))*1),"ERREUR",(E86&TEXT(C86,"000"))*1) -> 9331085 | J86: =IF(I86="ERREUR",MAX($I$2:J85)+1,IF(OR(I86=I85,E86<>E85,ISERROR(I85+1)),"",IF(MAX($I$2:J85)+1=I86,"",MAX($I$2:J85)+1))) | K86: =IF(AND(I86<>"ERREUR",I86=I85),I86,"")
A87: LEURIDAN | B87: VALENTIN | C87: 73 ? | D87: VINCRE NICOLAS | E87: 9331 | F87: 1671 | G87: ROUBAIX | H87: ="2 E 3 / "&E87&"."&TEXT(C87,"000") -> 2 E 3 / 9331.73 ? | I87: =IF(ISERROR((E87&TEXT(C87,"000"))*1),"ERREUR",(E87&TEXT(C87,"000"))*1) -> ERREUR | J87: =IF(I87="ERREUR",MAX($I$2:J86)+1,IF(OR(I87=I86,E87<>E86,ISERROR(I86+1)),"",IF(MAX($I$2:J86)+1=I87,"",MAX($I$2:J86)+1))) -> 9331086 | K87: =IF(AND(I87<>"ERREUR",I87=I86),I87,"")
A88: LEURIDAN | B88: MARGUERITE | C88: 74 ? | D88: VINCRE NICOLAS | E88: 9331 | F88: 1671 | G88: ROUBAIX | H88: ="2 E 3 / "&E88&"."&TEXT(C88,"000") -> 2 E 3 / 9331.74 ? | I88: =IF(ISERROR((E88&TEXT(C88,"000"))*1),"ERREUR",(E88&TEXT(C88,"000"))*1) -> ERREUR | J88: =IF(I88="ERREUR",MAX($I$2:J87)+1,IF(OR(I88=I87,E88<>E87,ISERROR(I87+1)),"",IF(MAX($I$2:J87)+1=I88,"",MAX($I$2:J87)+1))) -> 9331087 | K88: =IF(AND(I88<>"ERREUR",I88=I87),I88,"")
A89: SEQUEDIN | B89: GONTIER | C89: 1 | D89: VINCRE NICOLAS | E89: 9332 | F89: 1672 | G89: ROUBAIX | H89: ="2 E 3 / "&E89&"."&TEXT(C89,"000") -> 2 E 3 / 9332.001 | I89: =IF(ISERROR((E89&TEXT(C89,"000"))*1),"ERREUR",(E89&TEXT(C89,"000"))*1) -> 9332001 | J89: =IF(I89="ERREUR",MAX($I$2:J88)+1,IF(OR(I89=I88,E89<>E88,ISERROR(I88+1)),"",IF(MAX($I$2:J88)+1=I89,"",MAX($I$2:J88)+1))) | K89: =IF(AND(I89<>"ERREUR",I89=I88),I89,"")
A90: LAOUSSE | B90: NICAISE | C90: 2 | D90: VINCRE NICOLAS | E90: 9332 | F90: 1672 | G90: ROUBAIX | H90: ="2 E 3 / "&E90&"."&TEXT(C90,"000") -> 2 E 3 / 9332.002 | I90: =IF(ISERROR((E90&TEXT(C90,"000"))*1),"ERREUR",(E90&TEXT(C90,"000"))*1) -> 9332002 | J90: =IF(I90="ERREUR",MAX($I$2:J89)+1,IF(OR(I90=I89,E90<>E89,ISERROR(I89+1)),"",IF(MAX($I$2:J89)+1=I90,"",MAX($I$2:J89)+1))) | K90: =IF(AND(I90<>"ERREUR",I90=I89),I90,"")
A91: DEHEULLE | B91: PIERRE | C91: 3 | D91: VINCRE NICOLAS | E91: 9332 | F91: 1672 | G91: ROUBAIX | H91: ="2 E 3 / "&E91&"."&TEXT(C91,"000") -> 2 E 3 / 9332.003 | I91: =IF(ISERROR((E91&TEXT(C91,"000"))*1),"ERREUR",(E91&TEXT(C91,"000"))*1) -> 9332003 | J91: =IF(I91="ERREUR",MAX($I$2:J90)+1,IF(OR(I91=I90,E91<>E90,ISERROR(I90+1)),"",IF(MAX($I$2:J90)+1=I91,"",MAX($I$2:J90)+1))) | K91: =IF(AND(I91<>"ERREUR",I91=I90),I91,"")
A92: LECONTE | B92: JEAN | C92: 4 | D92: VINCRE NICOLAS | E92: 9332 | F92: 1672 | G92: ROUBAIX | H92: ="2 E 3 / "&E92&"."&TEXT(C92,"000") -> 2 E 3 / 9332.004 | I92: =IF(ISERROR((E92&TEXT(C92,"000"))*1),"ERREUR",(E92&TEXT(C92,"000"))*1) -> 9332004 | J92: =IF(I92="ERREUR",MAX($I$2:J91)+1,IF(OR(I92=I91,E92<>E91,ISERROR(I91+1)),"",IF(MAX($I$2:J91)+1=I92,"",MAX($I$2:J91)+1))) | K92: =IF(AND(I92<>"ERREUR",I92=I91),I92,"")
A93: FLEURQUIN | B93: PIERRE | C93: 5 | D93: VINCRE NICOLAS | E93: 9332 | F93: 1672 | G93: ROUBAIX | H93: ="2 E 3 / "&E93&"."&TEXT(C93,"000") -> 2 E 3 / 9332.005 | I93: =IF(ISERROR((E93&TEXT(C93,"000"))*1),"ERREUR",(E93&TEXT(C93,"000"))*1) -> 9332005 | J93: =IF(I93="ERREUR",MAX($I$2:J92)+1,IF(OR(I93=I92,E93<>E92,ISERROR(I92+1)),"",IF(MAX($I$2:J92)+1=I93,"",MAX($I$2:J92)+1))) | K93: =IF(AND(I93<>"ERREUR",I93=I92),I93,"")
A94: MATHON | B94: BETTREMIEUX | C94: 6 | D94: VINCRE NICOLAS | E94: 9332 | F94: 1672 | G94: ROUBAIX | H94: ="2 E 3 / "&E94&"."&TEXT(C94,"000") -> 2 E 3 / 9332.006 | I94: =IF(ISERROR((E94&TEXT(C94,"000"))*1),"ERREUR",(E94&TEXT(C94,"000"))*1) -> 9332006 | J94: =IF(I94="ERREUR",MAX($I$2:J93)+1,IF(OR(I94=I93,E94<>E93,ISERROR(I93+1)),"",IF(MAX($I$2:J93)+1=I94,"",MAX($I$2:J93)+1))) | K94: =IF(AND(I94<>"ERREUR",I94=I93),I94,"")
A95: ROUSSEL | B95: SIMON | C95: 7 | D95: VINCRE NICOLAS | E95: 9332 | F95: 1672 | G95: ROUBAIX | H95: ="2 E 3 / "&E95&"."&TEXT(C95,"000") -> 2 E 3 / 9332.007 | I95: =IF(ISERROR((E95&TEXT(C95,"000"))*1),"ERREUR",(E95&TEXT(C95,"000"))*1) -> 9332007 | J95: =IF(I95="ERREUR",MAX($I$2:J94)+1,IF(OR(I95=I94,E95<>E94,ISERROR(I94+1)),"",IF(MAX($I$2:J94)+1=I95,"",MAX($I$2:J94)+1))) | K95: =IF(AND(I95<>"ERREUR",I95=I94),I95,"")
A96: DESPLANQUES | B96: JEANNE | C96: 8 | D96: VINCRE NICOLAS | E96: 9332 | F96: 1672 | G96: ROUBAIX | H96: ="2 E 3 / "&E96&"."&TEXT(C96,"000") -> 2 E 3 / 9332.008 | I96: =IF(ISERROR((E96&TEXT(C96,"000"))*1),"ERREUR",(E96&TEXT(C96,"000"))*1) -> 9332008 | J96: =IF(I96="ERREUR",MAX($I$2:J95)+1,IF(OR(I96=I95,E96<>E95,ISERROR(I95+1)),"",IF(MAX($I$2:J95)+1=I96,"",MAX($I$2:J95)+1))) | K96: =IF(AND(I96<>"ERREUR",I96=I95),I96,"")
A97: LEZAIRE | B97: FRANCOISE | C97: 9 | D97: VINCRE NICOLAS | E97: 9332 | F97: 1672 | G97: ROUBAIX | H97: ="2 E 3 / "&E97&"."&TEXT(C97,"000") -> 2 E 3 / 9332.009 | I97: =IF(ISERROR((E97&TEXT(C97,"000"))*1),"ERREUR",(E97&TEXT(C97,"000"))*1) -> 9332009 | J97: =IF(I97="ERREUR",MAX($I$2:J96)+1,IF(OR(I97=I96,E97<>E96,ISERROR(I96+1)),"",IF(MAX($I$2:J96)+1=I97,"",MAX($I$2:J96)+1))) | K97: =IF(AND(I97<>"ERREUR",I97=I96),I97,"")
A98: DESPLANQUES | B98: JEANNE | C98: 11 | D98: VINCRE NICOLAS | E98: 9332 | F98: 1672 | G98: ROUBAIX | H98: ="2 E 3 / "&E98&"."&TEXT(C98,"000") -> 2 E 3 / 9332.011 | I98: =IF(ISERROR((E98&TEXT(C98,"000"))*1),"ERREUR",(E98&TEXT(C98,"000"))*1) -> 9332011 | J98: =IF(I98="ERREUR",MAX($I$2:J97)+1,IF(OR(I98=I97,E98<>E97,ISERROR(I97+1)),"",IF(MAX($I$2:J97)+1=I98,"",MAX($I$2:J97)+1))) -> 9332010 | K98: =IF(AND(I98<>"ERREUR",I98=I97),I98,"")
A99: DESPLANQUES | B99: PASQUIER | C99: 12 | D99: VINCRE NICOLAS | E99: 9332 | F99: 1672 | G99: ROUBAIX | H99: ="2 E 3 / "&E99&"."&TEXT(C99,"000") -> 2 E 3 / 9332.012 | I99: =IF(ISERROR((E99&TEXT(C99,"000"))*1),"ERREUR",(E99&TEXT(C99,"000"))*1) -> 9332012 | J99: =IF(I99="ERREUR",MAX($I$2:J98)+1,IF(OR(I99=I98,E99<>E98,ISERROR(I98+1)),"",IF(MAX($I$2:J98)+1=I99,"",MAX($I$2:J98)+1))) | K99: =IF(AND(I99<>"ERREUR",I99=I98),I99,"")
A100: DESCAMPS | B100: MARTIN | C100: 13 | D100: VINCRE NICOLAS | E100: 9332 | F100: 1672 | G100: ROUBAIX | H100: ="2 E 3 / "&E100&"."&TEXT(C100,"000") -> 2 E 3 / 9332.013 | I100: =IF(ISERROR((E100&TEXT(C100,"000"))*1),"ERREUR",(E100&TEXT(C100,"000"))*1) -> 9332013 | J100: =IF(I100="ERREUR",MAX($I$2:J99)+1,IF(OR(I100=I99,E100<>E99,ISERROR(I99+1)),"",IF(MAX($I$2:J99)+1=I100,"",MAX($I$2:J99)+1))) | K100: =IF(AND(I100<>"ERREUR",I100=I99),I100,"")
... A379: LEPERS | B379: JACQUES | C379: 56 | D379: VINCRE NICOLAS | E379: 9337 | F379: 1677 | G379: ROUBAIX | H379: ="2 E 3 / "&E379&"."&TEXT(C379,"000") -> 2 E 3 / 9337.056 | I379: =IF(ISERROR((E379&TEXT(C379,"000"))*1),"ERREUR",(E379&TEXT(C379,"000"))*1) -> 9337056 | J379: =IF(I379="ERREUR",MAX($I$2:J378)+1,IF(OR(I379=I378,E379<>E378,ISERROR(I378+1)),"",IF(MAX($I$2:J378)+1=I379,"",MAX($I$2:J378)+1))) | K379: =IF(AND(I379<>"ERREUR",I379=I378),I379,"")
A380: MALFAIT | B380: PHILIPPES | D380: VINCRE NICOLAS | E380: 9338 | F380: 1678 | G380: ROUBAIX | H380: ="2 E 3 / "&E380&"."&TEXT(C380,"000") -> 2 E 3 / 9338.000 | I380: =IF(ISERROR((E380&TEXT(C380,"000"))*1),"ERREUR",(E380&TEXT(C380,"000"))*1) -> 9338000 | J380: =IF(I380="ERREUR",MAX($I$2:J379)+1,IF(OR(I380=I379,E380<>E379,ISERROR(I379+1)),"",IF(MAX($I$2:J379)+1=I380,"",MAX($I$2:J379)+1))) | K380: =IF(AND(I380<>"ERREUR",I380=I379),I380,"")
A381: WARESQUEL | B381: FERDINAND | C381: 1 | D381: VINCRE NICOLAS | E381: 9338 | F381: 1678 | G381: ROUBAIX | H381: ="2 E 3 / "&E381&"."&TEXT(C381,"000") -> 2 E 3 / 9338.001 | I381: =IF(ISERROR((E381&TEXT(C381,"000"))*1),"ERREUR",(E381&TEXT(C381,"000"))*1) -> 9338001 | J381: =IF(I381="ERREUR",MAX($I$2:J380)+1,IF(OR(I381=I380,E381<>E380,ISERROR(I380+1)),"",IF(MAX($I$2:J380)+1=I381,"",MAX($I$2:J380)+1))) | K381: =IF(AND(I381<>"ERREUR",I381=I380),I381,"")
A382: LIBERT | B382: JEAN | C382: 2 | D382: VINCRE NICOLAS | E382: 9338 | F382: 1678 | G382: ROUBAIX | H382: ="2 E 3 / "&E382&"."&TEXT(C382,"000") -> 2 E 3 / 9338.002 | I382: =IF(ISERROR((E382&TEXT(C382,"000"))*1),"ERREUR",(E382&TEXT(C382,"000"))*1) -> 9338002 | J382: =IF(I382="ERREUR",MAX($I$2:J381)+1,IF(OR(I382=I381,E382<>E381,ISERROR(I381+1)),"",IF(MAX($I$2:J381)+1=I382,"",MAX($I$2:J381)+1))) | K382: =IF(AND(I382<>"ERREUR",I382=I381),I382,"")
A383: DECALONNE | B383: JEAN | C383: 3 | D383: VINCRE NICOLAS | E383: 9338 | F383: 1678 | G383: ROUBAIX | H383: ="2 E 3 / "&E383&"."&TEXT(C383,"000") -> 2 E 3 / 9338.003 | I383: =IF(ISERROR((E383&TEXT(C383,"000"))*1),"ERREUR",(E383&TEXT(C383,"000"))*1) -> 9338003 | J383: =IF(I383="ERREUR",MAX($I$2:J382)+1,IF(OR(I383=I382,E383<>E382,ISERROR(I382+1)),"",IF(MAX($I$2:J382)+1=I383,"",MAX($I$2:J382)+1))) | K383: =IF(AND(I383<>"ERREUR",I383=I382),I383,"")
A384: MARTIN | B384: CIPRIEN | C384: 4 | D384: VINCRE NICOLAS | E384: 9338 | F384: 1678 | G384: ROUBAIX | H384: ="2 E 3 / "&E384&"."&TEXT(C384,"000") -> 2 E 3 / 9338.004 | I384: =IF(ISERROR((E384&TEXT(C384,"000"))*1),"ERREUR",(E384&TEXT(C384,"000"))*1) -> 9338004 | J384: =IF(I384="ERREUR",MAX($I$2:J383)+1,IF(OR(I384=I383,E384<>E383,ISERROR(I383+1)),"",IF(MAX($I$2:J383)+1=I384,"",MAX($I$2:J383)+1))) | K384: =IF(AND(I384<>"ERREUR",I384=I383),I384,"")
A385: DESRUMAUX | B385: FRANCOIS | C385: 5 | D385: VINCRE NICOLAS | E385: 9338 | F385: 1678 | G385: ROUBAIX | H385: ="2 E 3 / "&E385&"."&TEXT(C385,"000") -> 2 E 3 / 9338.005 | I385: =IF(ISERROR((E385&TEXT(C385,"000"))*1),"ERREUR",(E385&TEXT(C385,"000"))*1) -> 9338005 | J385: =IF(I385="ERREUR",MAX($I$2:J384)+1,IF(OR(I385=I384,E385<>E384,ISERROR(I384+1)),"",IF(MAX($I$2:J384)+1=I385,"",MAX($I$2:J384)+1))) | K385: =IF(AND(I385<>"ERREUR",I385=I384),I385,"")
A386: DELESCLUSE | B386: MARGUERITTE | C386: 6 | D386: VINCRE NICOLAS | E386: 9338 | F386: 1678 | G386: ROUBAIX | H386: ="2 E 3 / "&E386&"."&TEXT(C386,"000") -> 2 E 3 / 9338.006 | I386: =IF(ISERROR((E386&TEXT(C386,"000"))*1),"ERREUR",(E386&TEXT(C386,"000"))*1) -> 9338006 | J386: =IF(I386="ERREUR",MAX($I$2:J385)+1,IF(OR(I386=I385,E386<>E385,ISERROR(I385+1)),"",IF(MAX($I$2:J385)+1=I386,"",MAX($I$2:J385)+1))) | K386: =IF(AND(I386<>"ERREUR",I386=I385),I386,"")
A387: DELECROIX | B387: OSTE | C387: 7 | D387: VINCRE NICOLAS | E387: 9338 | F387: 1678 | G387: ROUBAIX | H387: ="2 E 3 / "&E387&"."&TEXT(C387,"000") -> 2 E 3 / 9338.007 | I387: =IF(ISERROR((E387&TEXT(C387,"000"))*1),"ERREUR",(E387&TEXT(C387,"000"))*1) -> 9338007 | J387: =IF(I387="ERREUR",MAX($I$2:J386)+1,IF(OR(I387=I386,E387<>E386,ISERROR(I386+1)),"",IF(MAX($I$2:J386)+1=I387,"",MAX($I$2:J386)+1))) | K387: =IF(AND(I387<>"ERREUR",I387=I386),I387,"")
A388: FREMAUT | B388: ANTOINE | C388: 8 | D388: VINCRE NICOLAS | E388: 9338 | F388: 1678 | G388: ROUBAIX | H388: ="2 E 3 / "&E388&"."&TEXT(C388,"000") -> 2 E 3 / 9338.008 | I388: =IF(ISERROR((E388&TEXT(C388,"000"))*1),"ERREUR",(E388&TEXT(C388,"000"))*1) -> 9338008 | J388: =IF(I388="ERREUR",MAX($I$2:J387)+1,IF(OR(I388=I387,E388<>E387,ISERROR(I387+1)),"",IF(MAX($I$2:J387)+1=I388,"",MAX($I$2:J387)+1))) | K388: =IF(AND(I388<>"ERREUR",I388=I387),I388,"")
A389: DESOBRY | B389: ANTOINE | C389: 9 | D389: VINCRE NICOLAS | E389: 9338 | F389: 1678 | G389: ROUBAIX | H389: ="2 E 3 / "&E389&"."&TEXT(C389,"000") -> 2 E 3 / 9338.009 | I389: =IF(ISERROR((E389&TEXT(C389,"000"))*1),"ERREUR",(E389&TEXT(C389,"000"))*1) -> 9338009 | J389: =IF(I389="ERREUR",MAX($I$2:J388)+1,IF(OR(I389=I388,E389<>E388,ISERROR(I388+1)),"",IF(MAX($I$2:J388)+1=I389,"",MAX($I$2:J388)+1))) | K389: =IF(AND(I389<>"ERREUR",I389=I388),I389,"")
A390: SORY | B390: GERMAIN | C390: 10 | D390: VINCRE NICOLAS | E390: 9338 | F390: 1678 | G390: ROUBAIX | H390: ="2 E 3 / "&E390&"."&TEXT(C390,"000") -> 2 E 3 / 9338.010 | I390: =IF(ISERROR((E390&TEXT(C390,"000"))*1),"ERREUR",(E390&TEXT(C390,"000"))*1) -> 9338010 | J390: =IF(I390="ERREUR",MAX($I$2:J389)+1,IF(OR(I390=I389,E390<>E389,ISERROR(I389+1)),"",IF(MAX($I$2:J389)+1=I390,"",MAX($I$2:J389)+1))) | K390: =IF(AND(I390<>"ERREUR",I390=I389),I390,"")
A391: MESSEAU | B391: JEAN | C391: 11 | D391: VINCRE NICOLAS | E391: 9338 | F391: 1678 | G391: ROUBAIX | H391: ="2 E 3 / "&E391&"."&TEXT(C391,"000") -> 2 E 3 / 9338.011 | I391: =IF(ISERROR((E391&TEXT(C391,"000"))*1),"ERREUR",(E391&TEXT(C391,"000"))*1) -> 9338011 | J391: =IF(I391="ERREUR",MAX($I$2:J390)+1,IF(OR(I391=I390,E391<>E390,ISERROR(I390+1)),"",IF(MAX($I$2:J390)+1=I391,"",MAX($I$2:J390)+1))) | K391: =IF(AND(I391<>"ERREUR",I391=I390),I391,"")
A392: WALTIEUX | B392: GUILLAUME | C392: 12 | D392: VINCRE NICOLAS | E392: 9338 | F392: 1678 | G392: ROUBAIX | H392: ="2 E 3 / "&E392&"."&TEXT(C392,"000") -> 2 E 3 / 9338.012 | I392: =IF(ISERROR((E392&TEXT(C392,"000"))*1),"ERREUR",(E392&TEXT(C392,"000"))*1) -> 9338012 | J392: =IF(I392="ERREUR",MAX($I$2:J391)+1,IF(OR(I392=I391,E392<>E391,ISERROR(I391+1)),"",IF(MAX($I$2:J391)+1=I392,"",MAX($I$2:J391)+1))) | K392: =IF(AND(I392<>"ERREUR",I392=I391),I392,"")
... A714: DEFFRENNES | B714: JEAN | C714: 157 | D714: VINCRE NICOLAS | E714: 9341 | F714: 1681 | G714: ROUBAIX | H714: ="2 E 3 / "&E714&"."&TEXT(C714,"000") -> 2 E 3 / 9341.157 | I714: =IF(ISERROR((E714&TEXT(C714,"000"))*1),"ERREUR",(E714&TEXT(C714,"000"))*1) -> 9341157 | J714: =IF(I714="ERREUR",MAX($I$2:J713)+1,IF(OR(I714=I713,E714<>E713,ISERROR(I713+1)),"",IF(MAX($I$2:J713)+1=I714,"",MAX($I$2:J713)+1))) -> 9341109 | K714: =IF(AND(I714<>"ERREUR",I714=I713),I714,"")

Sheet Rapport Erreurs
A1: MANQUE | C1: DOUBLE
A2: =IF(ISERROR(SMALL(Feuil1!J:J,ROWS($1:1))),"","2 E 3 / "&LEFT(SMALL(Feuil1!J:J,ROWS($1:1)),4)&"."&RIGHT(SMALL(Feuil1!J:J,ROWS($1:1)),3)) -> 2 E 3 / 9331.086 | C2: =IF(ISERROR(SMALL(Feuil1!K:K,ROWS($1:1))),"","2 E 3 / "&LEFT(SMALL(Feuil1!K:K,ROWS($1:1)),4)&"."&RIGHT(SMALL(Feuil1!K:K,ROWS($1:1)),3)) -> 2 E 3 / 9334.028
A3: =IF(ISERROR(SMALL(Feuil1!J:J,ROWS($1:2))),"","2 E 3 / "&LEFT(SMALL(Feuil1!J:J,ROWS($1:2)),4)&"."&RIGHT(SMALL(Feuil1!J:J,ROWS($1:2)),3)) -> 2 E 3 / 9331.087 | C3: =IF(ISERROR(SMALL(Feuil1!K:K,ROWS($1:2))),"","2 E 3 / "&LEFT(SMALL(Feuil1!K:K,ROWS($1:2)),4)&"."&RIGHT(SMALL(Feuil1!K:K,ROWS($1:2)),3)) -> 2 E 3 / 9334.031
A4: =IF(ISERROR(SMALL(Feuil1!J:J,ROWS($1:3))),"","2 E 3 / "&LEFT(SMALL(Feuil1!J:J,ROWS($1:3)),4)&"."&RIGHT(SMALL(Feuil1!J:J,ROWS($1:3)),3)) -> 2 E 3 / 9332.010 | C4: =IF(ISERROR(SMALL(Feuil1!K:K,ROWS($1:3))),"","2 E 3 / "&LEFT(SMALL(Feuil1!K:K,ROWS($1:3)),4)&"."&RIGHT(SMALL(Feuil1!K:K,ROWS($1:3)),3)) -> 2 E 3 / 9336.036
A5: =IF(ISERROR(SMALL(Feuil1!J:J,ROWS($1:4))),"","2 E 3 / "&LEFT(SMALL(Feuil1!J:J,ROWS($1:4)),4)&"."&RIGHT(SMALL(Feuil1!J:J,ROWS($1:4)),3)) -> 2 E 3 / 9334.026 | C5: =IF(ISERROR(SMALL(Feuil1!K:K,ROWS($1:4))),"","2 E 3 / "&LEFT(SMALL(Feuil1!K:K,ROWS($1:4)),4)&"."&RIGHT(SMALL(Feuil1!K:K,ROWS($1:4)),3)) -> 2 E 3 / 9337.026
A6: =IF(ISERROR(SMALL(Feuil1!J:J,ROWS($1:5))),"","2 E 3 / "&LEFT(SMALL(Feuil1!J:J,ROWS($1:5)),4)&"."&RIGHT(SMALL(Feuil1!J:J,ROWS($1:5)),3)) -> 2 E 3 / 9336.056 | C6: =IF(ISERROR(SMALL(Feuil1!K:K,ROWS($1:5))),"","2 E 3 / "&LEFT(SMALL(Feuil1!K:K,ROWS($1:5)),4)&"."&RIGHT(SMALL(Feuil1!K:K,ROWS($1:5)),3)) -> 2 E 3 / 9337.050
A7: =IF(ISERROR(SMALL(Feuil1!J:J,ROWS($1:6))),"","2 E 3 / "&LEFT(SMALL(Feuil1!J:J,ROWS($1:6)),4)&"."&RIGHT(SMALL(Feuil1!J:J,ROWS($1:6)),3)) -> 2 E 3 / 9337.028 | C7: =IF(ISERROR(SMALL(Feuil1!K:K,ROWS($1:6))),"","2 E 3 / "&LEFT(SMALL(Feuil1!K:K,ROWS($1:6)),4)&"."&RIGHT(SMALL(Feuil1!K:K,ROWS($1:6)),3)) -> 2 E 3 / 9338.054
A8: =IF(ISERROR(SMALL(Feuil1!J:J,ROWS($1:7))),"","2 E 3 / "&LEFT(SMALL(Feuil1!J:J,ROWS($1:7)),4)&"."&RIGHT(SMALL(Feuil1!J:J,ROWS($1:7)),3)) -> 2 E 3 / 9337.030 | C8: =IF(ISERROR(SMALL(Feuil1!K:K,ROWS($1:7))),"","2 E 3 / "&LEFT(SMALL(Feuil1!K:K,ROWS($1:7)),4)&"."&RIGHT(SMALL(Feuil1!K:K,ROWS($1:7)),3)) -> 2 E 3 / 9338.056
A9: =IF(ISERROR(SMALL(Feuil1!J:J,ROWS($1:8))),"","2 E 3 / "&LEFT(SMALL(Feuil1!J:J,ROWS($1:8)),4)&"."&RIGHT(SMALL(Feuil1!J:J,ROWS($1:8)),3)) -> 2 E 3 / 9338.040 | C9: =IF(ISERROR(SMALL(Feuil1!K:K,ROWS($1:8))),"","2 E 3 / "&LEFT(SMALL(Feuil1!K:K,ROWS($1:8)),4)&"."&RIGHT(SMALL(Feuil1!K:K,ROWS($1:8)),3)) -> 2 E 3 / 9339.013
A10: =IF(ISERROR(SMALL(Feuil1!J:J,ROWS($1:9))),"","2 E 3 / "&LEFT(SMALL(Feuil1!J:J,ROWS($1:9)),4)&"."&RIGHT(SMALL(Feuil1!J:J,ROWS($1:9)),3)) -> 2 E 3 / 9338.046 | C10: =IF(ISERROR(SMALL(Feuil1!K:K,ROWS($1:9))),"","2 E 3 / "&LEFT(SMALL(Feuil1!K:K,ROWS($1:9)),4)&"."&RIGHT(SMALL(Feuil1!K:K,ROWS($1:9)),3)) -> 2 E 3 / 9340.019
A11: =IF(ISERROR(SMALL(Feuil1!J:J,ROWS($1:10))),"","2 E 3 / "&LEFT(SMALL(Feuil1!J:J,ROWS($1:10)),4)&"."&RIGHT(SMALL(Feuil1!J:J,ROWS($1:10)),3)) -> 2 E 3 / 9338.059 | C11: =IF(ISERROR(SMALL(Feuil1!K:K,ROWS($1:10))),"","2 E 3 / "&LEFT(SMALL(Feuil1!K:K,ROWS($1:10)),4)&"."&RIGHT(SMALL(Feuil1!K:K,ROWS($1:10)),3)) -> 2 E 3 / 9340.051
A12: =IF(ISERROR(SMALL(Feuil1!J:J,ROWS($1:11))),"","2 E 3 / "&LEFT(SMALL(Feuil1!J:J,ROWS($1:11)),4)&"."&RIGHT(SMALL(Feuil1!J:J,ROWS($1:11)),3)) -> 2 E 3 / 9338.063 | C12: =IF(ISERROR(SMALL(Feuil1!K:K,ROWS($1:11))),"","2 E 3 / "&LEFT(SMALL(Feuil1!K:K,ROWS($1:11)),4)&"."&RIGHT(SMALL(Feuil1!K:K,ROWS($1:11)),3)) -> 2 E 3 / 9340.075
A13: =IF(ISERROR(SMALL(Feuil1!J:J,ROWS($1:12))),"","2 E 3 / "&LEFT(SMALL(Feuil1!J:J,ROWS($1:12)),4)&"."&RIGHT(SMALL(Feuil1!J:J,ROWS($1:12)),3)) -> 2 E 3 / 9338.072 | C13: =IF(ISERROR(SMALL(Feuil1!K:K,ROWS($1:12))),"","2 E 3 / "&LEFT(SMALL(Feuil1!K:K,ROWS($1:12)),4)&"."&RIGHT(SMALL(Feuil1!K:K,ROWS($1:12)),3)) -> 2 E 3 / 9340.079
A14: =IF(ISERROR(SMALL(Feuil1!J:J,ROWS($1:13))),"","2 E 3 / "&LEFT(SMALL(Feuil1!J:J,ROWS($1:13)),4)&"."&RIGHT(SMALL(Feuil1!J:J,ROWS($1:13)),3)) -> 2 E 3 / 9339.012 | C14: =IF(ISERROR(SMALL(Feuil1!K:K,ROWS($1:13))),"","2 E 3 / "&LEFT(SMALL(Feuil1!K:K,ROWS($1:13)),4)&"."&RIGHT(SMALL(Feuil1!K:K,ROWS($1:13)),3)) -> 2 E 3 / 9341.005
A15: =IF(ISERROR(SMALL(Feuil1!J:J,ROWS($1:14))),"","2 E 3 / "&LEFT(SMALL(Feuil1!J:J,ROWS($1:14)),4)&"."&RIGHT(SMALL(Feuil1!J:J,ROWS($1:14)),3)) -> 2 E 3 / 9339.034 | C15: =IF(ISERROR(SMALL(Feuil1!K:K,ROWS($1:14))),"","2 E 3 / "&LEFT(SMALL(Feuil1!K:K,ROWS($1:14)),4)&"."&RIGHT(SMALL(Feuil1!K:K,ROWS($1:14)),3)) -> 2 E 3 / 9341.015
A16: =IF(ISERROR(SMALL(Feuil1!J:J,ROWS($1:15))),"","2 E 3 / "&LEFT(SMALL(Feuil1!J:J,ROWS($1:15)),4)&"."&RIGHT(SMALL(Feuil1!J:J,ROWS($1:15)),3)) -> 2 E 3 / 9339.045 | C16: =IF(ISERROR(SMALL(Feuil1!K:K,ROWS($1:15))),"","2 E 3 / "&LEFT(SMALL(Feuil1!K:K,ROWS($1:15)),4)&"."&RIGHT(SMALL(Feuil1!K:K,ROWS($1:15)),3)) -> 2 E 3 / 9341.041
A17: =IF(ISERROR(SMALL(Feuil1!J:J,ROWS($1:16))),"","2 E 3 / "&LEFT(SMALL(Feuil1!J:J,ROWS($1:16)),4)&"."&RIGHT(SMALL(Feuil1!J:J,ROWS($1:16)),3)) -> 2 E 3 / 9339.062 | C17: =IF(ISERROR(SMALL(Feuil1!K:K,ROWS($1:16))),"","2 E 3 / "&LEFT(SMALL(Feuil1!K:K,ROWS($1:16)),4)&"."&RIGHT(SMALL(Feuil1!K:K,ROWS($1:16)),3)) -> 2 E 3 / 9341.070
A18: =IF(ISERROR(SMALL(Feuil1!J:J,ROWS($1:17))),"","2 E 3 / "&LEFT(SMALL(Feuil1!J:J,ROWS($1:17)),4)&"."&RIGHT(SMALL(Feuil1!J:J,ROWS($1:17)),3)) -> 2 E 3 / 9340.012 | C18: =IF(ISERROR(SMALL(Feuil1!K:K,ROWS($1:17))),"","2 E 3 / "&LEFT(SMALL(Feuil1!K:K,ROWS($1:17)),4)&"."&RIGHT(SMALL(Feuil1!K:K,ROWS($1:17)),3)) -> 2 E 3 / 9341.084
A19: =IF(ISERROR(SMALL(Feuil1!J:J,ROWS($1:18))),"","2 E 3 / "&LEFT(SMALL(Feuil1!J:J,ROWS($1:18)),4)&"."&RIGHT(SMALL(Feuil1!J:J,ROWS($1:18)),3)) -> 2 E 3 / 9340.016 | C19: =IF(ISERROR(SMALL(Feuil1!K:K,ROWS($1:18))),"","2 E 3 / "&LEFT(SMALL(Feuil1!K:K,ROWS($1:18)),4)&"."&RIGHT(SMALL(Feuil1!K:K,ROWS($1:18)),3)) -> 2 E 3 / 9341.088
A20: =IF(ISERROR(SMALL(Feuil1!J:J,ROWS($1:19))),"","2 E 3 / "&LEFT(SMALL(Feuil1!J:J,ROWS($1:19)),4)&"."&RIGHT(SMALL(Feuil1!J:J,ROWS($1:19)),3)) -> 2 E 3 / 9340.022 | C20: =IF(ISERROR(SMALL(Feuil1!K:K,ROWS($1:19))),"","2 E 3 / "&LEFT(SMALL(Feuil1!K:K,ROWS($1:19)),4)&"."&RIGHT(SMALL(Feuil1!K:K,ROWS($1:19)),3)) -> 2 E 3 / 9341.099
A21: =IF(ISERROR(SMALL(Feuil1!J:J,ROWS($1:20))),"","2 E 3 / "&LEFT(SMALL(Feuil1!J:J,ROWS($1:20)),4)&"."&RIGHT(SMALL(Feuil1!J:J,ROWS($1:20)),3)) -> 2 E 3 / 9340.026 | C21: =IF(ISERROR(SMALL(Feuil1!K:K,ROWS($1:20))),"","2 E 3 / "&LEFT(SMALL(Feuil1!K:K,ROWS($1:20)),4)&"."&RIGHT(SMALL(Feuil1!K:K,ROWS($1:20)),3)) -> 2 E 3 / 9341.101
A22: =IF(ISERROR(SMALL(Feuil1!J:J,ROWS($1:21))),"","2 E 3 / "&LEFT(SMALL(Feuil1!J:J,ROWS($1:21)),4)&"."&RIGHT(SMALL(Feuil1!J:J,ROWS($1:21)),3)) -> 2 E 3 / 9340.031 | C22: =IF(ISERROR(SMALL(Feuil1!K:K,ROWS($1:21))),"","2 E 3 / "&LEFT(SMALL(Feuil1!K:K,ROWS($1:21)),4)&"."&RIGHT(SMALL(Feuil1!K:K,ROWS($1:21)),3))
A23: =IF(ISERROR(SMALL(Feuil1!J:J,ROWS($1:22))),"","2 E 3 / "&LEFT(SMALL(Feuil1!J:J,ROWS($1:22)),4)&"."&RIGHT(SMALL(Feuil1!J:J,ROWS($1:22)),3)) -> 2 E 3 / 9340.039 | C23: =IF(ISERROR(SMALL(Feuil1!K:K,ROWS($1:22))),"","2 E 3 / "&LEFT(SMALL(Feuil1!K:K,ROWS($1:22)),4)&"."&RIGHT(SMALL(Feuil1!K:K,ROWS($1:22)),3))
A24: =IF(ISERROR(SMALL(Feuil1!J:J,ROWS($1:23))),"","2 E 3 / "&LEFT(SMALL(Feuil1!J:J,ROWS($1:23)),4)&"."&RIGHT(SMALL(Feuil1!J:J,ROWS($1:23)),3)) -> 2 E 3 / 9340.049 | C24: =IF(ISERROR(SMALL(Feuil1!K:K,ROWS($1:23))),"","2 E 3 / "&LEFT(SMALL(Feuil1!K:K,ROWS($1:23)),4)&"."&RIGHT(SMALL(Feuil1!K:K,ROWS($1:23)),3))
A25: =IF(ISERROR(SMALL(Feuil1!J:J,ROWS($1:24))),"","2 E 3 / "&LEFT(SMALL(Feuil1!J:J,ROWS($1:24)),4)&"."&RIGHT(SMALL(Feuil1!J:J,ROWS($1:24)),3)) -> 2 E 3 / 9340.055 | C25: =IF(ISERROR(SMALL(Feuil1!K:K,ROWS($1:24))),"","2 E 3 / "&LEFT(SMALL(Feuil1!K:K,ROWS($1:24)),4)&"."&RIGHT(SMALL(Feuil1!K:K,ROWS($1:24)),3))
A26: =IF(ISERROR(SMALL(Feuil1!J:J,ROWS($1:25))),"","2 E 3 / "&LEFT(SMALL(Feuil1!J:J,ROWS($1:25)),4)&"."&RIGHT(SMALL(Feuil1!J:J,ROWS($1:25)),3)) -> 2 E 3 / 9340.065 | C26: =IF(ISERROR(SMALL(Feuil1!K:K,ROWS($1:25))),"","2 E 3 / "&LEFT(SMALL(Feuil1!K:K,ROWS($1:25)),4)&"."&RIGHT(SMALL(Feuil1!K:K,ROWS($1:25)),3))
A27: =IF(ISERROR(SMALL(Feuil1!J:J,ROWS($1:26))),"","2 E 3 / "&LEFT(SMALL(Feuil1!J:J,ROWS($1:26)),4)&"."&RIGHT(SMALL(Feuil1!J:J,ROWS($1:26)),3)) -> 2 E 3 / 9340.073 | C27: =IF(ISERROR(SMALL(Feuil1!K:K,ROWS($1:26))),"","2 E 3 / "&LEFT(SMALL(Feuil1!K:K,ROWS($1:26)),4)&"."&RIGHT(SMALL(Feuil1!K:K,ROWS($1:26)),3))
A28: =IF(ISERROR(SMALL(Feuil1!J:J,ROWS($1:27))),"","2 E 3 / "&LEFT(SMALL(Feuil1!J:J,ROWS($1:27)),4)&"."&RIGHT(SMALL(Feuil1!J:J,ROWS($1:27)),3)) -> 2 E 3 / 9341.006 | C28: =IF(ISERROR(SMALL(Feuil1!K:K,ROWS($1:27))),"","2 E 3 / "&LEFT(SMALL(Feuil1!K:K,ROWS($1:27)),4)&"."&RIGHT(SMALL(Feuil1!K:K,ROWS($1:27)),3))
A29: =IF(ISERROR(SMALL(Feuil1!J:J,ROWS($1:28))),"","2 E 3 / "&LEFT(SMALL(Feuil1!J:J,ROWS($1:28)),4)&"."&RIGHT(SMALL(Feuil1!J:J,ROWS($1:28)),3)) -> 2 E 3 / 9341.030 | C29: =IF(ISERROR(SMALL(Feuil1!K:K,ROWS($1:28))),"","2 E 3 / "&LEFT(SMALL(Feuil1!K:K,ROWS($1:28)),4)&"."&RIGHT(SMALL(Feuil1!K:K,ROWS($1:28)),3))
A30: =IF(ISERROR(SMALL(Feuil1!J:J,ROWS($1:29))),"","2 E 3 / "&LEFT(SMALL(Feuil1!J:J,ROWS($1:29)),4)&"."&RIGHT(SMALL(Feuil1!J:J,ROWS($1:29)),3)) -> 2 E 3 / 9341.035 | C30: =IF(ISERROR(SMALL(Feuil1!K:K,ROWS($1:29))),"","2 E 3 / "&LEFT(SMALL(Feuil1!K:K,ROWS($1:29)),4)&"."&RIGHT(SMALL(Feuil1!K:K,ROWS($1:29)),3))
A31: =IF(ISERROR(SMALL(Feuil1!J:J,ROWS($1:30))),"","2 E 3 / "&LEFT(SMALL(Feuil1!J:J,ROWS($1:30)),4)&"."&RIGHT(SMALL(Feuil1!J:J,ROWS($1:30)),3)) -> 2 E 3 / 9341.039 | C31: =IF(ISERROR(SMALL(Feuil1!K:K,ROWS($1:30))),"","2 E 3 / "&LEFT(SMALL(Feuil1!K:K,ROWS($1:30)),4)&"."&RIGHT(SMALL(Feuil1!K:K,ROWS($1:30)),3))
A32: =IF(ISERROR(SMALL(Feuil1!J:J,ROWS($1:31))),"","2 E 3 / "&LEFT(SMALL(Feuil1!J:J,ROWS($1:31)),4)&"."&RIGHT(SMALL(Feuil1!J:J,ROWS($1:31)),3)) -> 2 E 3 / 9341.044 | C32: =IF(ISERROR(SMALL(Feuil1!K:K,ROWS($1:31))),"","2 E 3 / "&LEFT(SMALL(Feuil1!K:K,ROWS($1:31)),4)&"."&RIGHT(SMALL(Feuil1!K:K,ROWS($1:31)),3))
A33: =IF(ISERROR(SMALL(Feuil1!J:J,ROWS($1:32))),"","2 E 3 / "&LEFT(SMALL(Feuil1!J:J,ROWS($1:32)),4)&"."&RIGHT(SMALL(Feuil1!J:J,ROWS($1:32)),3)) -> 2 E 3 / 9341.057 | C33: =IF(ISERROR(SMALL(Feuil1!K:K,ROWS($1:32))),"","2 E 3 / "&LEFT(SMALL(Feuil1!K:K,ROWS($1:32)),4)&"."&RIGHT(SMALL(Feuil1!K:K,ROWS($1:32)),3))
A34: =IF(ISERROR(SMALL(Feuil1!J:J,ROWS($1:33))),"","2 E 3 / "&LEFT(SMALL(Feuil1!J:J,ROWS($1:33)),4)&"."&RIGHT(SMALL(Feuil1!J:J,ROWS($1:33)),3)) -> 2 E 3 / 9341.080 | C34: =IF(ISERROR(SMALL(Feuil1!K:K,ROWS($1:33))),"","2 E 3 / "&LEFT(SMALL(Feuil1!K:K,ROWS($1:33)),4)&"."&RIGHT(SMALL(Feuil1!K:K,ROWS($1:33)),3))
A35: =IF(ISERROR(SMALL(Feuil1!J:J,ROWS($1:34))),"","2 E 3 / "&LEFT(SMALL(Feuil1!J:J,ROWS($1:34)),4)&"."&RIGHT(SMALL(Feuil1!J:J,ROWS($1:34)),3)) -> 2 E 3 / 9341.089 | C35: =IF(ISERROR(SMALL(Feuil1!K:K,ROWS($1:34))),"","2 E 3 / "&LEFT(SMALL(Feuil1!K:K,ROWS($1:34)),4)&"."&RIGHT(SMALL(Feuil1!K:K,ROWS($1:34)),3))
A36: =IF(ISERROR(SMALL(Feuil1!J:J,ROWS($1:35))),"","2 E 3 / "&LEFT(SMALL(Feuil1!J:J,ROWS($1:35)),4)&"."&RIGHT(SMALL(Feuil1!J:J,ROWS($1:35)),3)) -> 2 E 3 / 9341.095 | C36: =IF(ISERROR(SMALL(Feuil1!K:K,ROWS($1:35))),"","2 E 3 / "&LEFT(SMALL(Feuil1!K:K,ROWS($1:35)),4)&"."&RIGHT(SMALL(Feuil1!K:K,ROWS($1:35)),3))
A37: =IF(ISERROR(SMALL(Feuil1!J:J,ROWS($1:36))),"","2 E 3 / "&LEFT(SMALL(Feuil1!J:J,ROWS($1:36)),4)&"."&RIGHT(SMALL(Feuil1!J:J,ROWS($1:36)),3)) -> 2 E 3 / 9341.100 | C37: =IF(ISERROR(SMALL(Feuil1!K:K,ROWS($1:36))),"","2 E 3 / "&LEFT(SMALL(Feuil1!K:K,ROWS($1:36)),4)&"."&RIGHT(SMALL(Feuil1!K:K,ROWS($1:36)),3))
A38: =IF(ISERROR(SMALL(Feuil1!J:J,ROWS($1:37))),"","2 E 3 / "&LEFT(SMALL(Feuil1!J:J,ROWS($1:37)),4)&"."&RIGHT(SMALL(Feuil1!J:J,ROWS($1:37)),3)) -> 2 E 3 / 9341.104 | C38: =IF(ISERROR(SMALL(Feuil1!K:K,ROWS($1:37))),"","2 E 3 / "&LEFT(SMALL(Feuil1!K:K,ROWS($1:37)),4)&"."&RIGHT(SMALL(Feuil1!K:K,ROWS($1:37)),3))
A39: =IF(ISERROR(SMALL(Feuil1!J:J,ROWS($1:38))),"","2 E 3 / "&LEFT(SMALL(Feuil1!J:J,ROWS($1:38)),4)&"."&RIGHT(SMALL(Feuil1!J:J,ROWS($1:38)),3)) -> 2 E 3 / 9341.109 | C39: =IF(ISERROR(SMALL(Feuil1!K:K,ROWS($1:38))),"","2 E 3 / "&LEFT(SMALL(Feuil1!K:K,ROWS($1:38)),4)&"."&RIGHT(SMALL(Feuil1!K:K,ROWS($1:38)),3))
A40: =IF(ISERROR(SMALL(Feuil1!J:J,ROWS($1:39))),"","2 E 3 / "&LEFT(SMALL(Feuil1!J:J,ROWS($1:39)),4)&"."&RIGHT(SMALL(Feuil1!J:J,ROWS($1:39)),3)) | C40: =IF(ISERROR(SMALL(Feuil1!K:K,ROWS($1:39))),"","2 E 3 / "&LEFT(SMALL(Feuil1!K:K,ROWS($1:39)),4)&"."&RIGHT(SMALL(Feuil1!K:K,ROWS($1:39)),3))
A41: =IF(ISERROR(SMALL(Feuil1!J:J,ROWS($1:40))),"","2 E 3 / "&LEFT(SMALL(Feuil1!J:J,ROWS($1:40)),4)&"."&RIGHT(SMALL(Feuil1!J:J,ROWS($1:40)),3)) | C41: =IF(ISERROR(SMALL(Feuil1!K:K,ROWS($1:40))),"","2 E 3 / "&LEFT(SMALL(Feuil1!K:K,ROWS($1:40)),4)&"."&RIGHT(SMALL(Feuil1!K:K,ROWS($1:40)),3))
A42: =IF(ISERROR(SMALL(Feuil1!J:J,ROWS($1:41))),"","2 E 3 / "&LEFT(SMALL(Feuil1!J:J,ROWS($1:41)),4)&"."&RIGHT(SMALL(Feuil1!J:J,ROWS($1:41)),3)) | C42: =IF(ISERROR(SMALL(Feuil1!K:K,ROWS($1:41))),"","2 E 3 / "&LEFT(SMALL(Feuil1!K:K,ROWS($1:41)),4)&"."&RIGHT(SMALL(Feuil1!K:K,ROWS($1:41)),3))
A43: =IF(ISERROR(SMALL(Feuil1!J:J,ROWS($1:42))),"","2 E 3 / "&LEFT(SMALL(Feuil1!J:J,ROWS($1:42)),4)&"."&RIGHT(SMALL(Feuil1!J:J,ROWS($1:42)),3)) | C43: =IF(ISERROR(SMALL(Feuil1!K:K,ROWS($1:42))),"","2 E 3 / "&LEFT(SMALL(Feuil1!K:K,ROWS($1:42)),4)&"."&RIGHT(SMALL(Feuil1!K:K,ROWS($1:42)),3))
A44: =IF(ISERROR(SMALL(Feuil1!J:J,ROWS($1:43))),"","2 E 3 / "&LEFT(SMALL(Feuil1!J:J,ROWS($1:43)),4)&"."&RIGHT(SMALL(Feuil1!J:J,ROWS($1:43)),3)) | C44: =IF(ISERROR(SMALL(Feuil1!K:K,ROWS($1:43))),"","2 E 3 / "&LEFT(SMALL(Feuil1!K:K,ROWS($1:43)),4)&"."&RIGHT(SMALL(Feuil1!K:K,ROWS($1:43)),3))
A45: =IF(ISERROR(SMALL(Feuil1!J:J,ROWS($1:44))),"","2 E 3 / "&LEFT(SMALL(Feuil1!J:J,ROWS($1:44)),4)&"."&RIGHT(SMALL(Feuil1!J:J,ROWS($1:44)),3)) | C45: =IF(ISERROR(SMALL(Feuil1!K:K,ROWS($1:44))),"","2 E 3 / "&LEFT(SMALL(Feuil1!K:K,ROWS($1:44)),4)&"."&RIGHT(SMALL(Feuil1!K:K,ROWS($1:44)),3))
A46: =IF(ISERROR(SMALL(Feuil1!J:J,ROWS($1:45))),"","2 E 3 / "&LEFT(SMALL(Feuil1!J:J,ROWS($1:45)),4)&"."&RIGHT(SMALL(Feuil1!J:J,ROWS($1:45)),3)) | C46: =IF(ISERROR(SMALL(Feuil1!K:K,ROWS($1:45))),"","2 E 3 / "&LEFT(SMALL(Feuil1!K:K,ROWS($1:45)),4)&"."&RIGHT(SMALL(Feuil1!K:K,ROWS($1:45)),3))
A47: =IF(ISERROR(SMALL(Feuil1!J:J,ROWS($1:46))),"","2 E 3 / "&LEFT(SMALL(Feuil1!J:J,ROWS($1:46)),4)&"."&RIGHT(SMALL(Feuil1!J:J,ROWS($1:46)),3)) | C47: =IF(ISERROR(SMALL(Feuil1!K:K,ROWS($1:46))),"","2 E 3 / "&LEFT(SMALL(Feuil1!K:K,ROWS($1:46)),4)&"."&RIGHT(SMALL(Feuil1!K:K,ROWS($1:46)),3))
A48: =IF(ISERROR(SMALL(Feuil1!J:J,ROWS($1:47))),"","2 E 3 / "&LEFT(SMALL(Feuil1!J:J,ROWS($1:47)),4)&"."&RIGHT(SMALL(Feuil1!J:J,ROWS($1:47)),3)) | C48: =IF(ISERROR(SMALL(Feuil1!K:K,ROWS($1:47))),"","2 E 3 / "&LEFT(SMALL(Feuil1!K:K,ROWS($1:47)),4)&"."&RIGHT(SMALL(Feuil1!K:K,ROWS($1:47)),3))
A49: =IF(ISERROR(SMALL(Feuil1!J:J,ROWS($1:48))),"","2 E 3 / "&LEFT(SMALL(Feuil1!J:J,ROWS($1:48)),4)&"."&RIGHT(SMALL(Feuil1!J:J,ROWS($1:48)),3)) | C49: =IF(ISERROR(SMALL(Feuil1!K:K,ROWS($1:48))),"","2 E 3 / "&LEFT(SMALL(Feuil1!K:K,ROWS($1:48)),4)&"."&RIGHT(SMALL(Feuil1!K:K,ROWS($1:48)),3))
A50: =IF(ISERROR(SMALL(Feuil1!J:J,ROWS($1:49))),"","2 E 3 / "&LEFT(SMALL(Feuil1!J:J,ROWS($1:49)),4)&"."&RIGHT(SMALL(Feuil1!J:J,ROWS($1:49)),3)) | C50: =IF(ISERROR(SMALL(Feuil1!K:K,ROWS($1:49))),"","2 E 3 / "&LEFT(SMALL(Feuil1!K:K,ROWS($1:49)),4)&"."&RIGHT(SMALL(Feuil1!K:K,ROWS($1:49)),3))
A51: =IF(ISERROR(SMALL(Feuil1!J:J,ROWS($1:50))),"","2 E 3 / "&LEFT(SMALL(Feuil1!J:J,ROWS($1:50)),4)&"."&RIGHT(SMALL(Feuil1!J:J,ROWS($1:50)),3)) | C51: =IF(ISERROR(SMALL(Feuil1!K:K,ROWS($1:50))),"","2 E 3 / "&LEFT(SMALL(Feuil1!K:K,ROWS($1:50)),4)&"."&RIGHT(SMALL(Feuil1!K:K,ROWS($1:50)),3))
A52: =IF(ISERROR(SMALL(Feuil1!J:J,ROWS($1:51))),"","2 E 3 / "&LEFT(SMALL(Feuil1!J:J,ROWS($1:51)),4)&"."&RIGHT(SMALL(Feuil1!J:J,ROWS($1:51)),3)) | C52: =IF(ISERROR(SMALL(Feuil1!K:K,ROWS($1:51))),"","2 E 3 / "&LEFT(SMALL(Feuil1!K:K,ROWS($1:51)),4)&"."&RIGHT(SMALL(Feuil1!K:K,ROWS($1:51)),3))
A53: =IF(ISERROR(SMALL(Feuil1!J:J,ROWS($1:52))),"","2 E 3 / "&LEFT(SMALL(Feuil1!J:J,ROWS($1:52)),4)&"."&RIGHT(SMALL(Feuil1!J:J,ROWS($1:52)),3)) | C53: =IF(ISERROR(SMALL(Feuil1!K:K,ROWS($1:52))),"","2 E 3 / "&LEFT(SMALL(Feuil1!K:K,ROWS($1:52)),4)&"."&RIGHT(SMALL(Feuil1!K:K,ROWS($1:52)),3))
A54: =IF(ISERROR(SMALL(Feuil1!J:J,ROWS($1:53))),"","2 E 3 / "&LEFT(SMALL(Feuil1!J:J,ROWS($1:53)),4)&"."&RIGHT(SMALL(Feuil1!J:J,ROWS($1:53)),3)) | C54: =IF(ISERROR(SMALL(Feuil1!K:K,ROWS($1:53))),"","2 E 3 / "&LEFT(SMALL(Feuil1!K:K,ROWS($1:53)),4)&"."&RIGHT(SMALL(Feuil1!K:K,ROWS($1:53)),3))
