Workbook
Name TABLO: Feuil1!$B$3:$D$10

Sheet Feuil1
B2: Caroline | C2: Daphnée | D2: Evelyne | E2: TOTAL | H2: {=IF(ROWS($1:1)>COUNTA(TABLO),"",INDIRECT(ADDRESS(INT(SMALL(IF(TABLO>0,(TABLO>0)*ROW(TABLO)+(TABLO>0)*COLUMN(TABLO)/1000),ROWS($1:1))),MOD(SMALL(IF(TABLO>0,(TABLO>0)*ROW(TABLO)+(TABLO>0)*COLUMN(TABLO)/1000),ROWS($1:1)),1)*1000)))} -> Albert | I2: =OFFSET($A$3,SUMPRODUCT((TABLO=$H2)*ROW(TABLO))-ROW(TABLO),0) -> Eric | J2: =OFFSET($B$2,0,SUMPRODUCT((TABLO=$H2)*COLUMN(TABLO))-COLUMN(TABLO)) -> Caroline
A3: Eric | B3: Albert | C3: Hugues | D3: Alain | E3: =COUNTA(B3:D4) -> 6 | H3: {=IF(ROWS($1:2)>COUNTA(TABLO),"",INDIRECT(ADDRESS(INT(SMALL(IF(TABLO>0,(TABLO>0)*ROW(TABLO)+(TABLO>0)*COLUMN(TABLO)/1000),ROWS($1:2))),MOD(SMALL(IF(TABLO>0,(TABLO>0)*ROW(TABLO)+(TABLO>0)*COLUMN(TABLO)/1000),ROWS($1:2)),1)*1000)))} -> Hugues | I3: =OFFSET($A$3,SUMPRODUCT((TABLO=$H3)*ROW(TABLO))-ROW(TABLO),0) -> Eric | J3: =OFFSET($B$2,0,SUMPRODUCT((TABLO=$H3)*COLUMN(TABLO))-COLUMN(TABLO)) -> Daphnée
A4: Eric | B4: Sylvie | C4: Clément | D4: Aurélie | H4: {=IF(ROWS($1:3)>COUNTA(TABLO),"",INDIRECT(ADDRESS(INT(SMALL(IF(TABLO>0,(TABLO>0)*ROW(TABLO)+(TABLO>0)*COLUMN(TABLO)/1000),ROWS($1:3))),MOD(SMALL(IF(TABLO>0,(TABLO>0)*ROW(TABLO)+(TABLO>0)*COLUMN(TABLO)/1000),ROWS($1:3)),1)*1000)))} -> Alain | I4: =OFFSET($A$3,SUMPRODUCT((TABLO=$H4)*ROW(TABLO))-ROW(TABLO),0) -> Eric | J4: =OFFSET($B$2,0,SUMPRODUCT((TABLO=$H4)*COLUMN(TABLO))-COLUMN(TABLO)) -> Evelyne
A5: Jean | B5: Abdel | C5: Ludivine | D5: Emilie | E5: =COUNTA(B5:D6) -> 4 | H5: {=IF(ROWS($1:4)>COUNTA(TABLO),"",INDIRECT(ADDRESS(INT(SMALL(IF(TABLO>0,(TABLO>0)*ROW(TABLO)+(TABLO>0)*COLUMN(TABLO)/1000),ROWS($1:4))),MOD(SMALL(IF(TABLO>0,(TABLO>0)*ROW(TABLO)+(TABLO>0)*COLUMN(TABLO)/1000),ROWS($1:4)),1)*1000)))} -> Sylvie | I5: =OFFSET($A$3,SUMPRODUCT((TABLO=$H5)*ROW(TABLO))-ROW(TABLO),0) -> Eric | J5: =OFFSET($B$2,0,SUMPRODUCT((TABLO=$H5)*COLUMN(TABLO))-COLUMN(TABLO)) -> Caroline
A6: Jean | C6: Daphnée | H6: {=IF(ROWS($1:5)>COUNTA(TABLO),"",INDIRECT(ADDRESS(INT(SMALL(IF(TABLO>0,(TABLO>0)*ROW(TABLO)+(TABLO>0)*COLUMN(TABLO)/1000),ROWS($1:5))),MOD(SMALL(IF(TABLO>0,(TABLO>0)*ROW(TABLO)+(TABLO>0)*COLUMN(TABLO)/1000),ROWS($1:5)),1)*1000)))} -> Clément | I6: =OFFSET($A$3,SUMPRODUCT((TABLO=$H6)*ROW(TABLO))-ROW(TABLO),0) -> Eric | J6: =OFFSET($B$2,0,SUMPRODUCT((TABLO=$H6)*COLUMN(TABLO))-COLUMN(TABLO)) -> Daphnée
A7: Michel | B7: Heidi | C7: Magda | D7: Didier | E7: =COUNTA(B7:D8) -> 6 | H7: {=IF(ROWS($1:6)>COUNTA(TABLO),"",INDIRECT(ADDRESS(INT(SMALL(IF(TABLO>0,(TABLO>0)*ROW(TABLO)+(TABLO>0)*COLUMN(TABLO)/1000),ROWS($1:6))),MOD(SMALL(IF(TABLO>0,(TABLO>0)*ROW(TABLO)+(TABLO>0)*COLUMN(TABLO)/1000),ROWS($1:6)),1)*1000)))} -> Aurélie | I7: =OFFSET($A$3,SUMPRODUCT((TABLO=$H7)*ROW(TABLO))-ROW(TABLO),0) -> Eric | J7: =OFFSET($B$2,0,SUMPRODUCT((TABLO=$H7)*COLUMN(TABLO))-COLUMN(TABLO)) -> Evelyne
A8: Michel | B8: Dieudonné | C8: David | D8: Christine | H8: {=IF(ROWS($1:7)>COUNTA(TABLO),"",INDIRECT(ADDRESS(INT(SMALL(IF(TABLO>0,(TABLO>0)*ROW(TABLO)+(TABLO>0)*COLUMN(TABLO)/1000),ROWS($1:7))),MOD(SMALL(IF(TABLO>0,(TABLO>0)*ROW(TABLO)+(TABLO>0)*COLUMN(TABLO)/1000),ROWS($1:7)),1)*1000)))} -> Abdel | I8: =OFFSET($A$3,SUMPRODUCT((TABLO=$H8)*ROW(TABLO))-ROW(TABLO),0) -> Jean | J8: =OFFSET($B$2,0,SUMPRODUCT((TABLO=$H8)*COLUMN(TABLO))-COLUMN(TABLO)) -> Caroline
A9: Steve | B9: Noémie | C9: Géraldine | D9: Lara | E9: =COUNTA(B9:D10) -> 4 | H9: {=IF(ROWS($1:8)>COUNTA(TABLO),"",INDIRECT(ADDRESS(INT(SMALL(IF(TABLO>0,(TABLO>0)*ROW(TABLO)+(TABLO>0)*COLUMN(TABLO)/1000),ROWS($1:8))),MOD(SMALL(IF(TABLO>0,(TABLO>0)*ROW(TABLO)+(TABLO>0)*COLUMN(TABLO)/1000),ROWS($1:8)),1)*1000)))} -> Ludivine | I9: =OFFSET($A$3,SUMPRODUCT((TABLO=$H9)*ROW(TABLO))-ROW(TABLO),0) -> Jean | J9: =OFFSET($B$2,0,SUMPRODUCT((TABLO=$H9)*COLUMN(TABLO))-COLUMN(TABLO)) -> Daphnée
A10: Steve | C10: Nina | H10: {=IF(ROWS($1:9)>COUNTA(TABLO),"",INDIRECT(ADDRESS(INT(SMALL(IF(TABLO>0,(TABLO>0)*ROW(TABLO)+(TABLO>0)*COLUMN(TABLO)/1000),ROWS($1:9))),MOD(SMALL(IF(TABLO>0,(TABLO>0)*ROW(TABLO)+(TABLO>0)*COLUMN(TABLO)/1000),ROWS($1:9)),1)*1000)))} -> Emilie | I10: =OFFSET($A$3,SUMPRODUCT((TABLO=$H10)*ROW(TABLO))-ROW(TABLO),0) -> Jean | J10: =OFFSET($B$2,0,SUMPRODUCT((TABLO=$H10)*COLUMN(TABLO))-COLUMN(TABLO)) -> Evelyne
A11: TOTAL | B11: =COUNTA(B3:B10) -> 6 | C11: =COUNTA(C3:C10) -> 8 | D11: =COUNTA(D3:D10) -> 6 | E11: =COUNTA(B3:D10) -> 20 | H11: {=IF(ROWS($1:10)>COUNTA(TABLO),"",INDIRECT(ADDRESS(INT(SMALL(IF(TABLO>0,(TABLO>0)*ROW(TABLO)+(TABLO>0)*COLUMN(TABLO)/1000),ROWS($1:10))),MOD(SMALL(IF(TABLO>0,(TABLO>0)*ROW(TABLO)+(TABLO>0)*COLUMN(TABLO)/1000),ROWS($1:10)),1)*1000)))} -> Daphnée | I11: =OFFSET($A$3,SUMPRODUCT((TABLO=$H11)*ROW(TABLO))-ROW(TABLO),0) -> Jean | J11: =OFFSET($B$2,0,SUMPRODUCT((TABLO=$H11)*COLUMN(TABLO))-COLUMN(TABLO)) -> Daphnée
H12: {=IF(ROWS($1:11)>COUNTA(TABLO),"",INDIRECT(ADDRESS(INT(SMALL(IF(TABLO>0,(TABLO>0)*ROW(TABLO)+(TABLO>0)*COLUMN(TABLO)/1000),ROWS($1:11))),MOD(SMALL(IF(TABLO>0,(TABLO>0)*ROW(TABLO)+(TABLO>0)*COLUMN(TABLO)/1000),ROWS($1:11)),1)*1000)))} -> Heidi | I12: =OFFSET($A$3,SUMPRODUCT((TABLO=$H12)*ROW(TABLO))-ROW(TABLO),0) -> Michel | J12: =OFFSET($B$2,0,SUMPRODUCT((TABLO=$H12)*COLUMN(TABLO))-COLUMN(TABLO)) -> Caroline
H13: {=IF(ROWS($1:12)>COUNTA(TABLO),"",INDIRECT(ADDRESS(INT(SMALL(IF(TABLO>0,(TABLO>0)*ROW(TABLO)+(TABLO>0)*COLUMN(TABLO)/1000),ROWS($1:12))),MOD(SMALL(IF(TABLO>0,(TABLO>0)*ROW(TABLO)+(TABLO>0)*COLUMN(TABLO)/1000),ROWS($1:12)),1)*1000)))} -> Magda | I13: =OFFSET($A$3,SUMPRODUCT((TABLO=$H13)*ROW(TABLO))-ROW(TABLO),0) -> Michel | J13: =OFFSET($B$2,0,SUMPRODUCT((TABLO=$H13)*COLUMN(TABLO))-COLUMN(TABLO)) -> Daphnée
B14: NOM DEFINI | H14: {=IF(ROWS($1:13)>COUNTA(TABLO),"",INDIRECT(ADDRESS(INT(SMALL(IF(TABLO>0,(TABLO>0)*ROW(TABLO)+(TABLO>0)*COLUMN(TABLO)/1000),ROWS($1:13))),MOD(SMALL(IF(TABLO>0,(TABLO>0)*ROW(TABLO)+(TABLO>0)*COLUMN(TABLO)/1000),ROWS($1:13)),1)*1000)))} -> Didier | I14: =OFFSET($A$3,SUMPRODUCT((TABLO=$H14)*ROW(TABLO))-ROW(TABLO),0) -> Michel | J14: =OFFSET($B$2,0,SUMPRODUCT((TABLO=$H14)*COLUMN(TABLO))-COLUMN(TABLO)) -> Evelyne
B15: TABLO | C15: =Feuil1!$B$3:$D$10 | H15: {=IF(ROWS($1:14)>COUNTA(TABLO),"",INDIRECT(ADDRESS(INT(SMALL(IF(TABLO>0,(TABLO>0)*ROW(TABLO)+(TABLO>0)*COLUMN(TABLO)/1000),ROWS($1:14))),MOD(SMALL(IF(TABLO>0,(TABLO>0)*ROW(TABLO)+(TABLO>0)*COLUMN(TABLO)/1000),ROWS($1:14)),1)*1000)))} -> Dieudonné | I15: =OFFSET($A$3,SUMPRODUCT((TABLO=$H15)*ROW(TABLO))-ROW(TABLO),0) -> Michel | J15: =OFFSET($B$2,0,SUMPRODUCT((TABLO=$H15)*COLUMN(TABLO))-COLUMN(TABLO)) -> Caroline
H16: {=IF(ROWS($1:15)>COUNTA(TABLO),"",INDIRECT(ADDRESS(INT(SMALL(IF(TABLO>0,(TABLO>0)*ROW(TABLO)+(TABLO>0)*COLUMN(TABLO)/1000),ROWS($1:15))),MOD(SMALL(IF(TABLO>0,(TABLO>0)*ROW(TABLO)+(TABLO>0)*COLUMN(TABLO)/1000),ROWS($1:15)),1)*1000)))} -> David | I16: =OFFSET($A$3,SUMPRODUCT((TABLO=$H16)*ROW(TABLO))-ROW(TABLO),0) -> Michel | J16: =OFFSET($B$2,0,SUMPRODUCT((TABLO=$H16)*COLUMN(TABLO))-COLUMN(TABLO)) -> Daphnée
H17: {=IF(ROWS($1:16)>COUNTA(TABLO),"",INDIRECT(ADDRESS(INT(SMALL(IF(TABLO>0,(TABLO>0)*ROW(TABLO)+(TABLO>0)*COLUMN(TABLO)/1000),ROWS($1:16))),MOD(SMALL(IF(TABLO>0,(TABLO>0)*ROW(TABLO)+(TABLO>0)*COLUMN(TABLO)/1000),ROWS($1:16)),1)*1000)))} -> Christine | I17: =OFFSET($A$3,SUMPRODUCT((TABLO=$H17)*ROW(TABLO))-ROW(TABLO),0) -> Michel | J17: =OFFSET($B$2,0,SUMPRODUCT((TABLO=$H17)*COLUMN(TABLO))-COLUMN(TABLO)) -> Evelyne
H18: {=IF(ROWS($1:17)>COUNTA(TABLO),"",INDIRECT(ADDRESS(INT(SMALL(IF(TABLO>0,(TABLO>0)*ROW(TABLO)+(TABLO>0)*COLUMN(TABLO)/1000),ROWS($1:17))),MOD(SMALL(IF(TABLO>0,(TABLO>0)*ROW(TABLO)+(TABLO>0)*COLUMN(TABLO)/1000),ROWS($1:17)),1)*1000)))} -> Noémie | I18: =OFFSET($A$3,SUMPRODUCT((TABLO=$H18)*ROW(TABLO))-ROW(TABLO),0) -> Steve | J18: =OFFSET($B$2,0,SUMPRODUCT((TABLO=$H18)*COLUMN(TABLO))-COLUMN(TABLO)) -> Caroline
H19: {=IF(ROWS($1:18)>COUNTA(TABLO),"",INDIRECT(ADDRESS(INT(SMALL(IF(TABLO>0,(TABLO>0)*ROW(TABLO)+(TABLO>0)*COLUMN(TABLO)/1000),ROWS($1:18))),MOD(SMALL(IF(TABLO>0,(TABLO>0)*ROW(TABLO)+(TABLO>0)*COLUMN(TABLO)/1000),ROWS($1:18)),1)*1000)))} -> Géraldine | I19: =OFFSET($A$3,SUMPRODUCT((TABLO=$H19)*ROW(TABLO))-ROW(TABLO),0) -> Steve | J19: =OFFSET($B$2,0,SUMPRODUCT((TABLO=$H19)*COLUMN(TABLO))-COLUMN(TABLO)) -> Daphnée
H20: {=IF(ROWS($1:19)>COUNTA(TABLO),"",INDIRECT(ADDRESS(INT(SMALL(IF(TABLO>0,(TABLO>0)*ROW(TABLO)+(TABLO>0)*COLUMN(TABLO)/1000),ROWS($1:19))),MOD(SMALL(IF(TABLO>0,(TABLO>0)*ROW(TABLO)+(TABLO>0)*COLUMN(TABLO)/1000),ROWS($1:19)),1)*1000)))} -> Lara | I20: =OFFSET($A$3,SUMPRODUCT((TABLO=$H20)*ROW(TABLO))-ROW(TABLO),0) -> Steve | J20: =OFFSET($B$2,0,SUMPRODUCT((TABLO=$H20)*COLUMN(TABLO))-COLUMN(TABLO)) -> Evelyne
H21: {=IF(ROWS($1:20)>COUNTA(TABLO),"",INDIRECT(ADDRESS(INT(SMALL(IF(TABLO>0,(TABLO>0)*ROW(TABLO)+(TABLO>0)*COLUMN(TABLO)/1000),ROWS($1:20))),MOD(SMALL(IF(TABLO>0,(TABLO>0)*ROW(TABLO)+(TABLO>0)*COLUMN(TABLO)/1000),ROWS($1:20)),1)*1000)))} -> Nina | I21: =OFFSET($A$3,SUMPRODUCT((TABLO=$H21)*ROW(TABLO))-ROW(TABLO),0) -> Steve | J21: =OFFSET($B$2,0,SUMPRODUCT((TABLO=$H21)*COLUMN(TABLO))-COLUMN(TABLO)) -> Daphnée
H22: {=IF(ROWS($1:21)>COUNTA(TABLO),"",INDIRECT(ADDRESS(INT(SMALL(IF(TABLO>0,(TABLO>0)*ROW(TABLO)+(TABLO>0)*COLUMN(TABLO)/1000),ROWS($1:21))),MOD(SMALL(IF(TABLO>0,(TABLO>0)*ROW(TABLO)+(TABLO>0)*COLUMN(TABLO)/1000),ROWS($1:21)),1)*1000)))} | I22: =OFFSET($A$3,SUMPRODUCT((TABLO=$H22)*ROW(TABLO))-ROW(TABLO),0) -> 0 | J22: =OFFSET($B$2,0,SUMPRODUCT((TABLO=$H22)*COLUMN(TABLO))-COLUMN(TABLO)) -> 0
H23: {=IF(ROWS($1:22)>COUNTA(TABLO),"",INDIRECT(ADDRESS(INT(SMALL(IF(TABLO>0,(TABLO>0)*ROW(TABLO)+(TABLO>0)*COLUMN(TABLO)/1000),ROWS($1:22))),MOD(SMALL(IF(TABLO>0,(TABLO>0)*ROW(TABLO)+(TABLO>0)*COLUMN(TABLO)/1000),ROWS($1:22)),1)*1000)))} | I23: =OFFSET($A$3,SUMPRODUCT((TABLO=$H23)*ROW(TABLO))-ROW(TABLO),0) -> 0 | J23: =OFFSET($B$2,0,SUMPRODUCT((TABLO=$H23)*COLUMN(TABLO))-COLUMN(TABLO)) -> 0
H24: {=IF(ROWS($1:23)>COUNTA(TABLO),"",INDIRECT(ADDRESS(INT(SMALL(IF(TABLO>0,(TABLO>0)*ROW(TABLO)+(TABLO>0)*COLUMN(TABLO)/1000),ROWS($1:23))),MOD(SMALL(IF(TABLO>0,(TABLO>0)*ROW(TABLO)+(TABLO>0)*COLUMN(TABLO)/1000),ROWS($1:23)),1)*1000)))} | I24: =OFFSET($A$3,SUMPRODUCT((TABLO=$H24)*ROW(TABLO))-ROW(TABLO),0) -> 0 | J24: =OFFSET($B$2,0,SUMPRODUCT((TABLO=$H24)*COLUMN(TABLO))-COLUMN(TABLO)) -> 0

Sheet Feuil2
A1: {=IF(ROWS($1:1)>COUNTA(TABLO),"",INDIRECT("Feuil1!"&ADDRESS(INT(SMALL(IF(TABLO>0,(TABLO>0)*ROW(TABLO)+(TABLO>0)*COLUMN(TABLO)/1000),ROWS($1:1))),MOD(SMALL(IF(TABLO>0,(TABLO>0)*ROW(TABLO)+(TABLO>0)*COLUMN(TABLO)/1000),ROWS($1:1)),1)*1000)))} -> Albert | B1: =OFFSET(Feuil1!$A$3,SUMPRODUCT((TABLO=A1)*ROW(TABLO))-ROW(TABLO),0) -> Eric | C1: =OFFSET(Feuil1!$B$2,0,SUMPRODUCT((TABLO=A1)*COLUMN(TABLO))-COLUMN(TABLO)) -> Caroline
A2: {=IF(ROWS($1:2)>COUNTA(TABLO),"",INDIRECT("Feuil1!"&ADDRESS(INT(SMALL(IF(TABLO>0,(TABLO>0)*ROW(TABLO)+(TABLO>0)*COLUMN(TABLO)/1000),ROWS($1:2))),MOD(SMALL(IF(TABLO>0,(TABLO>0)*ROW(TABLO)+(TABLO>0)*COLUMN(TABLO)/1000),ROWS($1:2)),1)*1000)))} -> Hugues | B2: =OFFSET(Feuil1!$A$3,SUMPRODUCT((TABLO=A2)*ROW(TABLO))-ROW(TABLO),0) -> Eric | C2: =OFFSET(Feuil1!$B$2,0,SUMPRODUCT((TABLO=A2)*COLUMN(TABLO))-COLUMN(TABLO)) -> Daphnée
A3: {=IF(ROWS($1:3)>COUNTA(TABLO),"",INDIRECT("Feuil1!"&ADDRESS(INT(SMALL(IF(TABLO>0,(TABLO>0)*ROW(TABLO)+(TABLO>0)*COLUMN(TABLO)/1000),ROWS($1:3))),MOD(SMALL(IF(TABLO>0,(TABLO>0)*ROW(TABLO)+(TABLO>0)*COLUMN(TABLO)/1000),ROWS($1:3)),1)*1000)))} -> Alain | B3: =OFFSET(Feuil1!$A$3,SUMPRODUCT((TABLO=A3)*ROW(TABLO))-ROW(TABLO),0) -> Eric | C3: =OFFSET(Feuil1!$B$2,0,SUMPRODUCT((TABLO=A3)*COLUMN(TABLO))-COLUMN(TABLO)) -> Evelyne
A4: {=IF(ROWS($1:4)>COUNTA(TABLO),"",INDIRECT("Feuil1!"&ADDRESS(INT(SMALL(IF(TABLO>0,(TABLO>0)*ROW(TABLO)+(TABLO>0)*COLUMN(TABLO)/1000),ROWS($1:4))),MOD(SMALL(IF(TABLO>0,(TABLO>0)*ROW(TABLO)+(TABLO>0)*COLUMN(TABLO)/1000),ROWS($1:4)),1)*1000)))} -> Sylvie | B4: =OFFSET(Feuil1!$A$3,SUMPRODUCT((TABLO=A4)*ROW(TABLO))-ROW(TABLO),0) -> Eric | C4: =OFFSET(Feuil1!$B$2,0,SUMPRODUCT((TABLO=A4)*COLUMN(TABLO))-COLUMN(TABLO)) -> Caroline
A5: {=IF(ROWS($1:5)>COUNTA(TABLO),"",INDIRECT("Feuil1!"&ADDRESS(INT(SMALL(IF(TABLO>0,(TABLO>0)*ROW(TABLO)+(TABLO>0)*COLUMN(TABLO)/1000),ROWS($1:5))),MOD(SMALL(IF(TABLO>0,(TABLO>0)*ROW(TABLO)+(TABLO>0)*COLUMN(TABLO)/1000),ROWS($1:5)),1)*1000)))} -> Clément | B5: =OFFSET(Feuil1!$A$3,SUMPRODUCT((TABLO=A5)*ROW(TABLO))-ROW(TABLO),0) -> Eric | C5: =OFFSET(Feuil1!$B$2,0,SUMPRODUCT((TABLO=A5)*COLUMN(TABLO))-COLUMN(TABLO)) -> Daphnée
A6: {=IF(ROWS($1:6)>COUNTA(TABLO),"",INDIRECT("Feuil1!"&ADDRESS(INT(SMALL(IF(TABLO>0,(TABLO>0)*ROW(TABLO)+(TABLO>0)*COLUMN(TABLO)/1000),ROWS($1:6))),MOD(SMALL(IF(TABLO>0,(TABLO>0)*ROW(TABLO)+(TABLO>0)*COLUMN(TABLO)/1000),ROWS($1:6)),1)*1000)))} -> Aurélie | B6: =OFFSET(Feuil1!$A$3,SUMPRODUCT((TABLO=A6)*ROW(TABLO))-ROW(TABLO),0) -> Eric | C6: =OFFSET(Feuil1!$B$2,0,SUMPRODUCT((TABLO=A6)*COLUMN(TABLO))-COLUMN(TABLO)) -> Evelyne
A7: {=IF(ROWS($1:7)>COUNTA(TABLO),"",INDIRECT("Feuil1!"&ADDRESS(INT(SMALL(IF(TABLO>0,(TABLO>0)*ROW(TABLO)+(TABLO>0)*COLUMN(TABLO)/1000),ROWS($1:7))),MOD(SMALL(IF(TABLO>0,(TABLO>0)*ROW(TABLO)+(TABLO>0)*COLUMN(TABLO)/1000),ROWS($1:7)),1)*1000)))} -> Abdel | B7: =OFFSET(Feuil1!$A$3,SUMPRODUCT((TABLO=A7)*ROW(TABLO))-ROW(TABLO),0) -> Jean | C7: =OFFSET(Feuil1!$B$2,0,SUMPRODUCT((TABLO=A7)*COLUMN(TABLO))-COLUMN(TABLO)) -> Caroline
A8: {=IF(ROWS($1:8)>COUNTA(TABLO),"",INDIRECT("Feuil1!"&ADDRESS(INT(SMALL(IF(TABLO>0,(TABLO>0)*ROW(TABLO)+(TABLO>0)*COLUMN(TABLO)/1000),ROWS($1:8))),MOD(SMALL(IF(TABLO>0,(TABLO>0)*ROW(TABLO)+(TABLO>0)*COLUMN(TABLO)/1000),ROWS($1:8)),1)*1000)))} -> Ludivine | B8: =OFFSET(Feuil1!$A$3,SUMPRODUCT((TABLO=A8)*ROW(TABLO))-ROW(TABLO),0) -> Jean | C8: =OFFSET(Feuil1!$B$2,0,SUMPRODUCT((TABLO=A8)*COLUMN(TABLO))-COLUMN(TABLO)) -> Daphnée
A9: {=IF(ROWS($1:9)>COUNTA(TABLO),"",INDIRECT("Feuil1!"&ADDRESS(INT(SMALL(IF(TABLO>0,(TABLO>0)*ROW(TABLO)+(TABLO>0)*COLUMN(TABLO)/1000),ROWS($1:9))),MOD(SMALL(IF(TABLO>0,(TABLO>0)*ROW(TABLO)+(TABLO>0)*COLUMN(TABLO)/1000),ROWS($1:9)),1)*1000)))} -> Emilie | B9: =OFFSET(Feuil1!$A$3,SUMPRODUCT((TABLO=A9)*ROW(TABLO))-ROW(TABLO),0) -> Jean | C9: =OFFSET(Feuil1!$B$2,0,SUMPRODUCT((TABLO=A9)*COLUMN(TABLO))-COLUMN(TABLO)) -> Evelyne
A10: {=IF(ROWS($1:10)>COUNTA(TABLO),"",INDIRECT("Feuil1!"&ADDRESS(INT(SMALL(IF(TABLO>0,(TABLO>0)*ROW(TABLO)+(TABLO>0)*COLUMN(TABLO)/1000),ROWS($1:10))),MOD(SMALL(IF(TABLO>0,(TABLO>0)*ROW(TABLO)+(TABLO>0)*COLUMN(TABLO)/1000),ROWS($1:10)),1)*1000)))} -> Daphnée | B10: =OFFSET(Feuil1!$A$3,SUMPRODUCT((TABLO=A10)*ROW(TABLO))-ROW(TABLO),0) -> Jean | C10: =OFFSET(Feuil1!$B$2,0,SUMPRODUCT((TABLO=A10)*COLUMN(TABLO))-COLUMN(TABLO)) -> Daphnée
A11: {=IF(ROWS($1:11)>COUNTA(TABLO),"",INDIRECT("Feuil1!"&ADDRESS(INT(SMALL(IF(TABLO>0,(TABLO>0)*ROW(TABLO)+(TABLO>0)*COLUMN(TABLO)/1000),ROWS($1:11))),MOD(SMALL(IF(TABLO>0,(TABLO>0)*ROW(TABLO)+(TABLO>0)*COLUMN(TABLO)/1000),ROWS($1:11)),1)*1000)))} -> Heidi | B11: =OFFSET(Feuil1!$A$3,SUMPRODUCT((TABLO=A11)*ROW(TABLO))-ROW(TABLO),0) -> Michel | C11: =OFFSET(Feuil1!$B$2,0,SUMPRODUCT((TABLO=A11)*COLUMN(TABLO))-COLUMN(TABLO)) -> Caroline
A12: {=IF(ROWS($1:12)>COUNTA(TABLO),"",INDIRECT("Feuil1!"&ADDRESS(INT(SMALL(IF(TABLO>0,(TABLO>0)*ROW(TABLO)+(TABLO>0)*COLUMN(TABLO)/1000),ROWS($1:12))),MOD(SMALL(IF(TABLO>0,(TABLO>0)*ROW(TABLO)+(TABLO>0)*COLUMN(TABLO)/1000),ROWS($1:12)),1)*1000)))} -> Magda | B12: =OFFSET(Feuil1!$A$3,SUMPRODUCT((TABLO=A12)*ROW(TABLO))-ROW(TABLO),0) -> Michel | C12: =OFFSET(Feuil1!$B$2,0,SUMPRODUCT((TABLO=A12)*COLUMN(TABLO))-COLUMN(TABLO)) -> Daphnée
A13: {=IF(ROWS($1:13)>COUNTA(TABLO),"",INDIRECT("Feuil1!"&ADDRESS(INT(SMALL(IF(TABLO>0,(TABLO>0)*ROW(TABLO)+(TABLO>0)*COLUMN(TABLO)/1000),ROWS($1:13))),MOD(SMALL(IF(TABLO>0,(TABLO>0)*ROW(TABLO)+(TABLO>0)*COLUMN(TABLO)/1000),ROWS($1:13)),1)*1000)))} -> Didier | B13: =OFFSET(Feuil1!$A$3,SUMPRODUCT((TABLO=A13)*ROW(TABLO))-ROW(TABLO),0) -> Michel | C13: =OFFSET(Feuil1!$B$2,0,SUMPRODUCT((TABLO=A13)*COLUMN(TABLO))-COLUMN(TABLO)) -> Evelyne
A14: {=IF(ROWS($1:14)>COUNTA(TABLO),"",INDIRECT("Feuil1!"&ADDRESS(INT(SMALL(IF(TABLO>0,(TABLO>0)*ROW(TABLO)+(TABLO>0)*COLUMN(TABLO)/1000),ROWS($1:14))),MOD(SMALL(IF(TABLO>0,(TABLO>0)*ROW(TABLO)+(TABLO>0)*COLUMN(TABLO)/1000),ROWS($1:14)),1)*1000)))} -> Dieudonné | B14: =OFFSET(Feuil1!$A$3,SUMPRODUCT((TABLO=A14)*ROW(TABLO))-ROW(TABLO),0) -> Michel | C14: =OFFSET(Feuil1!$B$2,0,SUMPRODUCT((TABLO=A14)*COLUMN(TABLO))-COLUMN(TABLO)) -> Caroline
A15: {=IF(ROWS($1:15)>COUNTA(TABLO),"",INDIRECT("Feuil1!"&ADDRESS(INT(SMALL(IF(TABLO>0,(TABLO>0)*ROW(TABLO)+(TABLO>0)*COLUMN(TABLO)/1000),ROWS($1:15))),MOD(SMALL(IF(TABLO>0,(TABLO>0)*ROW(TABLO)+(TABLO>0)*COLUMN(TABLO)/1000),ROWS($1:15)),1)*1000)))} -> David | B15: =OFFSET(Feuil1!$A$3,SUMPRODUCT((TABLO=A15)*ROW(TABLO))-ROW(TABLO),0) -> Michel | C15: =OFFSET(Feuil1!$B$2,0,SUMPRODUCT((TABLO=A15)*COLUMN(TABLO))-COLUMN(TABLO)) -> Daphnée
A16: {=IF(ROWS($1:16)>COUNTA(TABLO),"",INDIRECT("Feuil1!"&ADDRESS(INT(SMALL(IF(TABLO>0,(TABLO>0)*ROW(TABLO)+(TABLO>0)*COLUMN(TABLO)/1000),ROWS($1:16))),MOD(SMALL(IF(TABLO>0,(TABLO>0)*ROW(TABLO)+(TABLO>0)*COLUMN(TABLO)/1000),ROWS($1:16)),1)*1000)))} -> Christine | B16: =OFFSET(Feuil1!$A$3,SUMPRODUCT((TABLO=A16)*ROW(TABLO))-ROW(TABLO),0) -> Michel | C16: =OFFSET(Feuil1!$B$2,0,SUMPRODUCT((TABLO=A16)*COLUMN(TABLO))-COLUMN(TABLO)) -> Evelyne
A17: {=IF(ROWS($1:17)>COUNTA(TABLO),"",INDIRECT("Feuil1!"&ADDRESS(INT(SMALL(IF(TABLO>0,(TABLO>0)*ROW(TABLO)+(TABLO>0)*COLUMN(TABLO)/1000),ROWS($1:17))),MOD(SMALL(IF(TABLO>0,(TABLO>0)*ROW(TABLO)+(TABLO>0)*COLUMN(TABLO)/1000),ROWS($1:17)),1)*1000)))} -> Noémie | B17: =OFFSET(Feuil1!$A$3,SUMPRODUCT((TABLO=A17)*ROW(TABLO))-ROW(TABLO),0) -> Steve | C17: =OFFSET(Feuil1!$B$2,0,SUMPRODUCT((TABLO=A17)*COLUMN(TABLO))-COLUMN(TABLO)) -> Caroline
A18: {=IF(ROWS($1:18)>COUNTA(TABLO),"",INDIRECT("Feuil1!"&ADDRESS(INT(SMALL(IF(TABLO>0,(TABLO>0)*ROW(TABLO)+(TABLO>0)*COLUMN(TABLO)/1000),ROWS($1:18))),MOD(SMALL(IF(TABLO>0,(TABLO>0)*ROW(TABLO)+(TABLO>0)*COLUMN(TABLO)/1000),ROWS($1:18)),1)*1000)))} -> Géraldine | B18: =OFFSET(Feuil1!$A$3,SUMPRODUCT((TABLO=A18)*ROW(TABLO))-ROW(TABLO),0) -> Steve | C18: =OFFSET(Feuil1!$B$2,0,SUMPRODUCT((TABLO=A18)*COLUMN(TABLO))-COLUMN(TABLO)) -> Daphnée
A19: {=IF(ROWS($1:19)>COUNTA(TABLO),"",INDIRECT("Feuil1!"&ADDRESS(INT(SMALL(IF(TABLO>0,(TABLO>0)*ROW(TABLO)+(TABLO>0)*COLUMN(TABLO)/1000),ROWS($1:19))),MOD(SMALL(IF(TABLO>0,(TABLO>0)*ROW(TABLO)+(TABLO>0)*COLUMN(TABLO)/1000),ROWS($1:19)),1)*1000)))} -> Lara | B19: =OFFSET(Feuil1!$A$3,SUMPRODUCT((TABLO=A19)*ROW(TABLO))-ROW(TABLO),0) -> Steve | C19: =OFFSET(Feuil1!$B$2,0,SUMPRODUCT((TABLO=A19)*COLUMN(TABLO))-COLUMN(TABLO)) -> Evelyne
A20: {=IF(ROWS($1:20)>COUNTA(TABLO),"",INDIRECT("Feuil1!"&ADDRESS(INT(SMALL(IF(TABLO>0,(TABLO>0)*ROW(TABLO)+(TABLO>0)*COLUMN(TABLO)/1000),ROWS($1:20))),MOD(SMALL(IF(TABLO>0,(TABLO>0)*ROW(TABLO)+(TABLO>0)*COLUMN(TABLO)/1000),ROWS($1:20)),1)*1000)))} -> Nina | B20: =OFFSET(Feuil1!$A$3,SUMPRODUCT((TABLO=A20)*ROW(TABLO))-ROW(TABLO),0) -> Steve | C20: =OFFSET(Feuil1!$B$2,0,SUMPRODUCT((TABLO=A20)*COLUMN(TABLO))-COLUMN(TABLO)) -> Daphnée
A21: {=IF(ROWS($1:21)>COUNTA(TABLO),"",INDIRECT("Feuil1!"&ADDRESS(INT(SMALL(IF(TABLO>0,(TABLO>0)*ROW(TABLO)+(TABLO>0)*COLUMN(TABLO)/1000),ROWS($1:21))),MOD(SMALL(IF(TABLO>0,(TABLO>0)*ROW(TABLO)+(TABLO>0)*COLUMN(TABLO)/1000),ROWS($1:21)),1)*1000)))} | B21: =OFFSET(Feuil1!$A$3,SUMPRODUCT((TABLO=A21)*ROW(TABLO))-ROW(TABLO),0) -> 0 | C21: =OFFSET(Feuil1!$B$2,0,SUMPRODUCT((TABLO=A21)*COLUMN(TABLO))-COLUMN(TABLO)) -> 0
A22: {=IF(ROWS($1:22)>COUNTA(TABLO),"",INDIRECT("Feuil1!"&ADDRESS(INT(SMALL(IF(TABLO>0,(TABLO>0)*ROW(TABLO)+(TABLO>0)*COLUMN(TABLO)/1000),ROWS($1:22))),MOD(SMALL(IF(TABLO>0,(TABLO>0)*ROW(TABLO)+(TABLO>0)*COLUMN(TABLO)/1000),ROWS($1:22)),1)*1000)))} | B22: =OFFSET(Feuil1!$A$3,SUMPRODUCT((TABLO=A22)*ROW(TABLO))-ROW(TABLO),0) -> 0 | C22: =OFFSET(Feuil1!$B$2,0,SUMPRODUCT((TABLO=A22)*COLUMN(TABLO))-COLUMN(TABLO)) -> 0
A23: {=IF(ROWS($1:23)>COUNTA(TABLO),"",INDIRECT("Feuil1!"&ADDRESS(INT(SMALL(IF(TABLO>0,(TABLO>0)*ROW(TABLO)+(TABLO>0)*COLUMN(TABLO)/1000),ROWS($1:23))),MOD(SMALL(IF(TABLO>0,(TABLO>0)*ROW(TABLO)+(TABLO>0)*COLUMN(TABLO)/1000),ROWS($1:23)),1)*1000)))} | B23: =OFFSET(Feuil1!$A$3,SUMPRODUCT((TABLO=A23)*ROW(TABLO))-ROW(TABLO),0) -> 0 | C23: =OFFSET(Feuil1!$B$2,0,SUMPRODUCT((TABLO=A23)*COLUMN(TABLO))-COLUMN(TABLO)) -> 0
