Workbook
Name Année_Calendaire: [1]Janvier!$K$2
Name Déc_Dim1: DATE(Année_Calendaire,12,1)-WEEKDAY(DATE(Année_Calendaire,12,1))+1
Name Jours_affectation: [1]Décembre!#REF!

Sheet RDV
A1: 42339
C6: Contact | D6: Specialty | E6: Date indexée
C7: A1 | D7: Gyn | E7: 42339
C8: A2 | D8: GP | E8: 42339
C9: A3 | D9: GP | E9: 42339
C10: A4 | D10: GP | E10: 42339
C11: A5 | D11: GP | E11: 42339
C12: A6 | D12: GP | E12: 42339
C13: A7 | D13: GP | E13: 42339
C14: A8 | D14: GP | E14: 42339
C15: A9 | D15: GP | E15: 42339
C16: A10 | D16: GP | E16: 42339
C17: A11 | D17: GP | E17: 42339
C18: A12 | D18: GP | E18: 42339
... C300: HHHHHH | D300: GP | E300: 42369

Sheet Feuil1
A1: 42339 | B1: 42339 | C1: 42340 | D1: 42341 | E1: 42342 | F1: 42343 | G1: 42344 | H1: 42345 | I1: 42346 | J1: 42347 | K1: 42348 | L1: 42349 | M1: 42350 | N1: 42351 | O1: 42352 | P1: 42353 | Q1: 42354 | R1: 42355 | S1: 42356 | T1: 42357 | U1: 42358 | V1: 42359 | W1: 42360 | X1: 42361 | Y1: 42362 | Z1: 42363 | AA1: 42364 | AB1: 42365 | AC1: 42366 | AD1: 42367 | AE1: 42368 | AF1: 42369
A2: 42370 | B2: 42370 | C2: 42371 | D2: 42372 | E2: 42373 | F2: 42374 | G2: 42375 | H2: 42376 | I2: 42377 | J2: 42378 | K2: 42379 | L2: 42380 | M2: 42381 | N2: 42382 | O2: 42383 | P2: 42384 | Q2: 42385 | R2: 42386 | S2: 42387 | T2: 42388 | U2: 42389 | V2: 42390 | W2: 42391 | X2: 42392 | Y2: 42393 | Z2: 42394 | AA2: 42395 | AB2: 42396 | AC2: 42397 | AD2: 42398 | AE2: 42399 | AF2: 42400
A3: 42401 | B3: 42401 | C3: 42402 | D3: 42403 | E3: 42404 | F3: 42405 | G3: 42406 | H3: 42407 | I3: 42408 | J3: 42409 | K3: 42410 | L3: 42411 | M3: 42412 | N3: 42413 | O3: 42414 | P3: 42415 | Q3: 42416 | R3: 42417 | S3: 42418 | T3: 42419 | U3: 42420 | V3: 42421 | W3: 42422 | X3: 42423 | Y3: 42424 | Z3: 42425 | AA3: 42426 | AB3: 42427 | AC3: 42428 | AD3: 42429
A4: 42430 | B4: 42430 | C4: 42431 | D4: 42432 | E4: 42433 | F4: 42434 | G4: 42435 | H4: 42436 | I4: 42437 | J4: 42438 | K4: 42439 | L4: 42440 | M4: 42441 | N4: 42442 | O4: 42443 | P4: 42444 | Q4: 42445 | R4: 42446 | S4: 42447 | T4: 42448 | U4: 42449 | V4: 42450 | W4: 42451 | X4: 42452 | Y4: 42453 | Z4: 42454 | AA4: 42455 | AB4: 42456 | AC4: 42457 | AD4: 42458 | AE4: 42459 | AF4: 42460
A5: 42461 | B5: 42461 | C5: 42462 | D5: 42463 | E5: 42464 | F5: 42465 | G5: 42466 | H5: 42467 | I5: 42468 | J5: 42469 | K5: 42470 | L5: 42471 | M5: 42472 | N5: 42473 | O5: 42474 | P5: 42475 | Q5: 42476 | R5: 42477 | S5: 42478 | T5: 42479 | U5: 42480 | V5: 42481 | W5: 42482 | X5: 42483 | Y5: 42484 | Z5: 42485 | AA5: 42486 | AB5: 42487 | AC5: 42488 | AD5: 42489 | AE5: 42490
A6: 42491 | B6: 42491 | C6: 42492 | D6: 42493 | E6: 42494 | F6: 42495 | G6: 42496 | H6: 42497 | I6: 42498 | J6: 42499 | K6: 42500 | L6: 42501 | M6: 42502 | N6: 42503 | O6: 42504 | P6: 42505 | Q6: 42506 | R6: 42507 | S6: 42508 | T6: 42509 | U6: 42510 | V6: 42511 | W6: 42512 | X6: 42513 | Y6: 42514 | Z6: 42515 | AA6: 42516 | AB6: 42517 | AC6: 42518 | AD6: 42519 | AE6: 42520 | AF6: 42521
A7: 42522 | B7: 42522 | C7: 42523 | D7: 42524 | E7: 42525 | F7: 42526 | G7: 42527 | H7: 42528 | I7: 42529 | J7: 42530 | K7: 42531 | L7: 42532 | M7: 42533 | N7: 42534 | O7: 42535 | P7: 42536 | Q7: 42537 | R7: 42538 | S7: 42539 | T7: 42540 | U7: 42541 | V7: 42542 | W7: 42543 | X7: 42544 | Y7: 42545 | Z7: 42546 | AA7: 42547 | AB7: 42548 | AC7: 42549 | AD7: 42550 | AE7: 42551
A8: 42552 | B8: 42552 | C8: 42553 | D8: 42554 | E8: 42555 | F8: 42556 | G8: 42557 | H8: 42558 | I8: 42559 | J8: 42560 | K8: 42561 | L8: 42562 | M8: 42563 | N8: 42564 | O8: 42565 | P8: 42566 | Q8: 42567 | R8: 42568 | S8: 42569 | T8: 42570 | U8: 42571 | V8: 42572 | W8: 42573 | X8: 42574 | Y8: 42575 | Z8: 42576 | AA8: 42577 | AB8: 42578 | AC8: 42579 | AD8: 42580 | AE8: 42581 | AF8: 42582
A9: 42583 | B9: 42583 | C9: 42584 | D9: 42585 | E9: 42586 | F9: 42587 | G9: 42588 | H9: 42589 | I9: 42590 | J9: 42591 | K9: 42592 | L9: 42593 | M9: 42594 | N9: 42595 | O9: 42596 | P9: 42597 | Q9: 42598 | R9: 42599 | S9: 42600 | T9: 42601 | U9: 42602 | V9: 42603 | W9: 42604 | X9: 42605 | Y9: 42606 | Z9: 42607 | AA9: 42608 | AB9: 42609 | AC9: 42610 | AD9: 42611 | AE9: 42612 | AF9: 42613
A10: 42614 | B10: 42614 | C10: 42615 | D10: 42616 | E10: 42617 | F10: 42618 | G10: 42619 | H10: 42620 | I10: 42621 | J10: 42622 | K10: 42623 | L10: 42624 | M10: 42625 | N10: 42626 | O10: 42627 | P10: 42628 | Q10: 42629 | R10: 42630 | S10: 42631 | T10: 42632 | U10: 42633 | V10: 42634 | W10: 42635 | X10: 42636 | Y10: 42637 | Z10: 42638 | AA10: 42639 | AB10: 42640 | AC10: 42641 | AD10: 42642 | AE10: 42643
A11: 42644 | B11: 42644 | C11: 42645 | D11: 42646 | E11: 42647 | F11: 42648 | G11: 42649 | H11: 42650 | I11: 42651 | J11: 42652 | K11: 42653 | L11: 42654 | M11: 42655 | N11: 42656 | O11: 42657 | P11: 42658 | Q11: 42659 | R11: 42660 | S11: 42661 | T11: 42662 | U11: 42663 | V11: 42664 | W11: 42665 | X11: 42666 | Y11: 42667 | Z11: 42668 | AA11: 42669 | AB11: 42670 | AC11: 42671 | AD11: 42672 | AE11: 42673 | AF11: 42674
A12: 42675 | B12: 42675 | C12: 42676 | D12: 42677 | E12: 42678 | F12: 42679 | G12: 42680 | H12: 42681 | I12: 42682 | J12: 42683 | K12: 42684 | L12: 42685 | M12: 42686 | N12: 42687 | O12: 42688 | P12: 42689 | Q12: 42690 | R12: 42691 | S12: 42692 | T12: 42693 | U12: 42694 | V12: 42695 | W12: 42696 | X12: 42697 | Y12: 42698 | Z12: 42699 | AA12: 42700 | AB12: 42701 | AC12: 42702 | AD12: 42703 | AE12: 42704
A13: 42705 | B13: 42705 | C13: 42706 | D13: 42707 | E13: 42708 | F13: 42709 | G13: 42710 | H13: 42711 | I13: 42712 | J13: 42713 | K13: 42714 | L13: 42715 | M13: 42716 | N13: 42717 | O13: 42718 | P13: 42719 | Q13: 42720 | R13: 42721 | S13: 42722 | T13: 42723 | U13: 42724 | V13: 42725 | W13: 42726 | X13: 42727 | Y13: 42728 | Z13: 42729 | AA13: 42730 | AB13: 42731 | AC13: 42732 | AD13: 42733 | AE13: 42734 | AF13: 42735
A14: 42736 | B14: 42736 | C14: 42737 | D14: 42738 | E14: 42739 | F14: 42740 | G14: 42741 | H14: 42742 | I14: 42743 | J14: 42744 | K14: 42745 | L14: 42746 | M14: 42747 | N14: 42748 | O14: 42749 | P14: 42750 | Q14: 42751 | R14: 42752 | S14: 42753 | T14: 42754 | U14: 42755 | V14: 42756 | W14: 42757 | X14: 42758 | Y14: 42759 | Z14: 42760 | AA14: 42761 | AB14: 42762 | AC14: 42763 | AD14: 42764 | AE14: 42765 | AF14: 42766
A15: 42767 | B15: 42767 | C15: 42768 | D15: 42769 | E15: 42770 | F15: 42771 | G15: 42772 | H15: 42773 | I15: 42774 | J15: 42775 | K15: 42776 | L15: 42777 | M15: 42778 | N15: 42779 | O15: 42780 | P15: 42781 | Q15: 42782 | R15: 42783 | S15: 42784 | T15: 42785 | U15: 42786 | V15: 42787 | W15: 42788 | X15: 42789 | Y15: 42790 | Z15: 42791 | AA15: 42792 | AB15: 42793 | AC15: 42794
A16: 42795 | B16: 42795 | C16: 42796 | D16: 42797 | E16: 42798 | F16: 42799 | G16: 42800 | H16: 42801 | I16: 42802 | J16: 42803 | K16: 42804 | L16: 42805 | M16: 42806 | N16: 42807 | O16: 42808 | P16: 42809 | Q16: 42810 | R16: 42811 | S16: 42812 | T16: 42813 | U16: 42814 | V16: 42815 | W16: 42816 | X16: 42817 | Y16: 42818 | Z16: 42819 | AA16: 42820 | AB16: 42821 | AC16: 42822 | AD16: 42823 | AE16: 42824 | AF16: 42825
A17: 42826 | B17: 42826 | C17: 42827 | D17: 42828 | E17: 42829 | F17: 42830 | G17: 42831 | H17: 42832 | I17: 42833 | J17: 42834 | K17: 42835 | L17: 42836 | M17: 42837 | N17: 42838 | O17: 42839 | P17: 42840 | Q17: 42841 | R17: 42842 | S17: 42843 | T17: 42844 | U17: 42845 | V17: 42846 | W17: 42847 | X17: 42848 | Y17: 42849 | Z17: 42850 | AA17: 42851 | AB17: 42852 | AC17: 42853 | AD17: 42854 | AE17: 42855
A18: 42856 | B18: 42856 | C18: 42857 | D18: 42858 | E18: 42859 | F18: 42860 | G18: 42861 | H18: 42862 | I18: 42863 | J18: 42864 | K18: 42865 | L18: 42866 | M18: 42867 | N18: 42868 | O18: 42869 | P18: 42870 | Q18: 42871 | R18: 42872 | S18: 42873 | T18: 42874 | U18: 42875 | V18: 42876 | W18: 42877 | X18: 42878 | Y18: 42879 | Z18: 42880 | AA18: 42881 | AB18: 42882 | AC18: 42883 | AD18: 42884 | AE18: 42885 | AF18: 42886
A19: 42887 | B19: 42887 | C19: 42888 | D19: 42889 | E19: 42890 | F19: 42891 | G19: 42892 | H19: 42893 | I19: 42894 | J19: 42895 | K19: 42896 | L19: 42897 | M19: 42898 | N19: 42899 | O19: 42900 | P19: 42901 | Q19: 42902 | R19: 42903 | S19: 42904 | T19: 42905 | U19: 42906 | V19: 42907 | W19: 42908 | X19: 42909 | Y19: 42910 | Z19: 42911 | AA19: 42912 | AB19: 42913 | AC19: 42914 | AD19: 42915 | AE19: 42916
A20: 42917 | B20: 42917 | C20: 42918 | D20: 42919 | E20: 42920 | F20: 42921 | G20: 42922 | H20: 42923 | I20: 42924 | J20: 42925 | K20: 42926 | L20: 42927 | M20: 42928 | N20: 42929 | O20: 42930 | P20: 42931 | Q20: 42932 | R20: 42933 | S20: 42934 | T20: 42935 | U20: 42936 | V20: 42937 | W20: 42938 | X20: 42939 | Y20: 42940 | Z20: 42941 | AA20: 42942 | AB20: 42943 | AC20: 42944 | AD20: 42945 | AE20: 42946 | AF20: 42947
A21: 42948 | B21: 42948 | C21: 42949 | D21: 42950 | E21: 42951 | F21: 42952 | G21: 42953 | H21: 42954 | I21: 42955 | J21: 42956 | K21: 42957 | L21: 42958 | M21: 42959 | N21: 42960 | O21: 42961 | P21: 42962 | Q21: 42963 | R21: 42964 | S21: 42965 | T21: 42966 | U21: 42967 | V21: 42968 | W21: 42969 | X21: 42970 | Y21: 42971 | Z21: 42972 | AA21: 42973 | AB21: 42974 | AC21: 42975 | AD21: 42976 | AE21: 42977 | AF21: 42978
A22: 42979 | B22: 42979 | C22: 42980 | D22: 42981 | E22: 42982 | F22: 42983 | G22: 42984 | H22: 42985 | I22: 42986 | J22: 42987 | K22: 42988 | L22: 42989 | M22: 42990 | N22: 42991 | O22: 42992 | P22: 42993 | Q22: 42994 | R22: 42995 | S22: 42996 | T22: 42997 | U22: 42998 | V22: 42999 | W22: 43000 | X22: 43001 | Y22: 43002 | Z22: 43003 | AA22: 43004 | AB22: 43005 | AC22: 43006 | AD22: 43007 | AE22: 43008
A23: 43009 | B23: 40452 | C23: 40453 | D23: 40454 | E23: 40455 | F23: 40456 | G23: 40457 | H23: 40458 | I23: 40459 | J23: 40460 | K23: 40461 | L23: 40462 | M23: 40463 | N23: 40464 | O23: 40465 | P23: 40466 | Q23: 40467 | R23: 40468 | S23: 40469 | T23: 40470 | U23: 40471 | V23: 40472 | W23: 40473 | X23: 40474 | Y23: 40475 | Z23: 40476 | AA23: 40477 | AB23: 40478 | AC23: 40479 | AD23: 40480 | AE23: 40481 | AF23: 40482
A24: 43040 | B24: 43040 | C24: 43041 | D24: 43042 | E24: 43043 | F24: 43044 | G24: 43045 | H24: 43046 | I24: 43047 | J24: 43048 | K24: 43049 | L24: 43050 | M24: 43051 | N24: 43052 | O24: 43053 | P24: 43054 | Q24: 43055 | R24: 43056 | S24: 43057 | T24: 43058 | U24: 43059 | V24: 43060 | W24: 43061 | X24: 43062 | Y24: 43063 | Z24: 43064 | AA24: 43065 | AB24: 43066 | AC24: 43067 | AD24: 43068 | AE24: 43069
A25: 43070 | B25: 43070 | C25: 43071 | D25: 43072 | E25: 43073 | F25: 43074 | G25: 43075 | H25: 43076 | I25: 43077 | J25: 43078 | K25: 43079 | L25: 43080 | M25: 43081 | N25: 43082 | O25: 43083 | P25: 43084 | Q25: 43085 | R25: 43086 | S25: 43087 | T25: 43088 | U25: 43089 | V25: 43090 | W25: 43091 | X25: 43092 | Y25: 43093 | Z25: 43094 | AA25: 43095 | AB25: 43096 | AC25: 43097 | AD25: 43098 | AE25: 43099 | AF25: 43100
A26: 43101 | B26: 43101 | C26: 43102 | D26: 43103 | E26: 43104 | F26: 43105 | G26: 43106 | H26: 43107 | I26: 43108 | J26: 43109 | K26: 43110 | L26: 43111 | M26: 43112 | N26: 43113 | O26: 43114 | P26: 43115 | Q26: 43116 | R26: 43117 | S26: 43118 | T26: 43119 | U26: 43120 | V26: 43121 | W26: 43122 | X26: 43123 | Y26: 43124 | Z26: 43125 | AA26: 43126 | AB26: 43127 | AC26: 43128 | AD26: 43129 | AE26: 43130 | AF26: 43131
A27: 43132 | B27: 43132 | C27: 43133 | D27: 43134 | E27: 43135 | F27: 43136 | G27: 43137 | H27: 43138 | I27: 43139 | J27: 43140 | K27: 43141 | L27: 43142 | M27: 43143 | N27: 43144 | O27: 43145 | P27: 43146 | Q27: 43147 | R27: 43148 | S27: 43149 | T27: 43150 | U27: 43151 | V27: 43152 | W27: 43153 | X27: 43154 | Y27: 43155 | Z27: 43156 | AA27: 43157 | AB27: 43158 | AC27: 43159
A28: 43160 | B28: 43160 | C28: 43161 | D28: 43162 | E28: 43163 | F28: 43164 | G28: 43165 | H28: 43166 | I28: 43167 | J28: 43168 | K28: 43169 | L28: 43170 | M28: 43171 | N28: 43172 | O28: 43173 | P28: 43174 | Q28: 43175 | R28: 43176 | S28: 43177 | T28: 43178 | U28: 43179 | V28: 43180 | W28: 43181 | X28: 43182 | Y28: 43183 | Z28: 43184 | AA28: 43185 | AB28: 43186 | AC28: 43187 | AD28: 43188 | AE28: 43189 | AF28: 43190
A29: 43191 | B29: 43191 | C29: 43192 | D29: 43193 | E29: 43194 | F29: 43195 | G29: 43196 | H29: 43197 | I29: 43198 | J29: 43199 | K29: 43200 | L29: 43201 | M29: 43202 | N29: 43203 | O29: 43204 | P29: 43205 | Q29: 43206 | R29: 43207 | S29: 43208 | T29: 43209 | U29: 43210 | V29: 43211 | W29: 43212 | X29: 43213 | Y29: 43214 | Z29: 43215 | AA29: 43216 | AB29: 43217 | AC29: 43218 | AD29: 43219 | AE29: 43220
A30: 43221 | B30: 43221 | C30: 43222 | D30: 43223 | E30: 43224 | F30: 43225 | G30: 43226 | H30: 43227 | I30: 43228 | J30: 43229 | K30: 43230 | L30: 43231 | M30: 43232 | N30: 43233 | O30: 43234 | P30: 43235 | Q30: 43236 | R30: 43237 | S30: 43238 | T30: 43239 | U30: 43240 | V30: 43241 | W30: 43242 | X30: 43243 | Y30: 43244 | Z30: 43245 | AA30: 43246 | AB30: 43247 | AC30: 43248 | AD30: 43249 | AE30: 43250 | AF30: 43251
A31: 43252 | B31: 43252 | C31: 43253 | D31: 43254 | E31: 43255 | F31: 43256 | G31: 43257 | H31: 43258 | I31: 43259 | J31: 43260 | K31: 43261 | L31: 43262 | M31: 43263 | N31: 43264 | O31: 43265 | P31: 43266 | Q31: 43267 | R31: 43268 | S31: 43269 | T31: 43270 | U31: 43271 | V31: 43272 | W31: 43273 | X31: 43274 | Y31: 43275 | Z31: 43276 | AA31: 43277 | AB31: 43278 | AC31: 43279 | AD31: 43280 | AE31: 43281
A32: 43282 | B32: 43282 | C32: 43283 | D32: 43284 | E32: 43285 | F32: 43286 | G32: 43287 | H32: 43288 | I32: 43289 | J32: 43290 | K32: 43291 | L32: 43292 | M32: 43293 | N32: 43294 | O32: 43295 | P32: 43296 | Q32: 43297 | R32: 43298 | S32: 43299 | T32: 43300 | U32: 43301 | V32: 43302 | W32: 43303 | X32: 43304 | Y32: 43305 | Z32: 43306 | AA32: 43307 | AB32: 43308 | AC32: 43309 | AD32: 43310 | AE32: 43311 | AF32: 43312
A33: 43313 | B33: 43313 | C33: 43314 | D33: 43315 | E33: 43316 | F33: 43317 | G33: 43318 | H33: 43319 | I33: 43320 | J33: 43321 | K33: 43322 | L33: 43323 | M33: 43324 | N33: 43325 | O33: 43326 | P33: 43327 | Q33: 43328 | R33: 43329 | S33: 43330 | T33: 43331 | U33: 43332 | V33: 43333 | W33: 43334 | X33: 43335 | Y33: 43336 | Z33: 43337 | AA33: 43338 | AB33: 43339 | AC33: 43340 | AD33: 43341 | AE33: 43342 | AF33: 43343
A34: 43344 | B34: 43344 | C34: 43345 | D34: 43346 | E34: 43347 | F34: 43348 | G34: 43349 | H34: 43350 | I34: 43351 | J34: 43352 | K34: 43353 | L34: 43354 | M34: 43355 | N34: 43356 | O34: 43357 | P34: 43358 | Q34: 43359 | R34: 43360 | S34: 43361 | T34: 43362 | U34: 43363 | V34: 43364 | W34: 43365 | X34: 43366 | Y34: 43367 | Z34: 43368 | AA34: 43369 | AB34: 43370 | AC34: 43371 | AD34: 43372 | AE34: 43373
A35: 43374 | B35: 43374 | C35: 43375 | D35: 43376 | E35: 43377 | F35: 43378 | G35: 43379 | H35: 43380 | I35: 43381 | J35: 43382 | K35: 43383 | L35: 43384 | M35: 43385 | N35: 43386 | O35: 43387 | P35: 43388 | Q35: 43389 | R35: 43390 | S35: 43391 | T35: 43392 | U35: 43393 | V35: 43394 | W35: 43395 | X35: 43396 | Y35: 43397 | Z35: 43398 | AA35: 43399 | AB35: 43400 | AC35: 43401 | AD35: 43402 | AE35: 43403 | AF35: 43404
A36: 43405 | B36: 43405 | C36: 43406 | D36: 43407 | E36: 43408 | F36: 43409 | G36: 43410 | H36: 43411 | I36: 43412 | J36: 43413 | K36: 43414 | L36: 43415 | M36: 43416 | N36: 43417 | O36: 43418 | P36: 43419 | Q36: 43420 | R36: 43421 | S36: 43422 | T36: 43423 | U36: 43424 | V36: 43425 | W36: 43426 | X36: 43427 | Y36: 43428 | Z36: 43429 | AA36: 43430 | AB36: 43431 | AC36: 43432 | AD36: 43433 | AE36: 43434
A37: 43435 | B37: 43435 | C37: 43436 | D37: 43437 | E37: 43438 | F37: 43439 | G37: 43440 | H37: 43441 | I37: 43442 | J37: 43443 | K37: 43444 | L37: 43445 | M37: 43446 | N37: 43447 | O37: 43448 | P37: 43449 | Q37: 43450 | R37: 43451 | S37: 43452 | T37: 43453 | U37: 43454 | V37: 43455 | W37: 43456 | X37: 43457 | Y37: 43458 | Z37: 43459 | AA37: 43460 | AB37: 43461 | AC37: 43462 | AD37: 43463 | AE37: 43464 | AF37: 43465
A38: 43466 | B38: 43466 | C38: 43467 | D38: 43468 | E38: 43469 | F38: 43470 | G38: 43471 | H38: 43472 | I38: 43473 | J38: 43474 | K38: 43475 | L38: 43476 | M38: 43477 | N38: 43478 | O38: 43479 | P38: 43480 | Q38: 43481 | R38: 43482 | S38: 43483 | T38: 43484 | U38: 43485 | V38: 43486 | W38: 43487 | X38: 43488 | Y38: 43489 | Z38: 43490 | AA38: 43491 | AB38: 43492 | AC38: 43493 | AD38: 43494 | AE38: 43495 | AF38: 43496
A39: 43497 | B39: 43497 | C39: 43498 | D39: 43499 | E39: 43500 | F39: 43501 | G39: 43502 | H39: 43503 | I39: 43504 | J39: 43505 | K39: 43506 | L39: 43507 | M39: 43508 | N39: 43509 | O39: 43510 | P39: 43511 | Q39: 43512 | R39: 43513 | S39: 43514 | T39: 43515 | U39: 43516 | V39: 43517 | W39: 43518 | X39: 43519 | Y39: 43520 | Z39: 43521 | AA39: 43522 | AB39: 43523 | AC39: 43524
A40: 43525 | B40: 43525 | C40: 43526 | D40: 43527 | E40: 43528 | F40: 43529 | G40: 43530 | H40: 43531 | I40: 43532 | J40: 43533 | K40: 43534 | L40: 43535 | M40: 43536 | N40: 43537 | O40: 43538 | P40: 43539 | Q40: 43540 | R40: 43541 | S40: 43542 | T40: 43543 | U40: 43544 | V40: 43545 | W40: 43546 | X40: 43547 | Y40: 43548 | Z40: 43549 | AA40: 43550 | AB40: 43551 | AC40: 43552 | AD40: 43553 | AE40: 43554 | AF40: 43555
A41: 43556 | B41: 43556 | C41: 43557 | D41: 43558 | E41: 43559 | F41: 43560 | G41: 43561 | H41: 43562 | I41: 43563 | J41: 43564 | K41: 43565 | L41: 43566 | M41: 43567 | N41: 43568 | O41: 43569 | P41: 43570 | Q41: 43571 | R41: 43572 | S41: 43573 | T41: 43574 | U41: 43575 | V41: 43576 | W41: 43577 | X41: 43578 | Y41: 43579 | Z41: 43580 | AA41: 43581 | AB41: 43582 | AC41: 43583 | AD41: 43584 | AE41: 43585
A42: 43586 | B42: 43586 | C42: 43587 | D42: 43588 | E42: 43589 | F42: 43590 | G42: 43591 | H42: 43592 | I42: 43593 | J42: 43594 | K42: 43595 | L42: 43596 | M42: 43597 | N42: 43598 | O42: 43599 | P42: 43600 | Q42: 43601 | R42: 43602 | S42: 43603 | T42: 43604 | U42: 43605 | V42: 43606 | W42: 43607 | X42: 43608 | Y42: 43609 | Z42: 43610 | AA42: 43611 | AB42: 43612 | AC42: 43613 | AD42: 43614 | AE42: 43615 | AF42: 43616

Sheet AGENDA
A1: =RDV!A1 -> 42339 | F1: NOMBRE DE VISITES PAR JOUR | P1: =COUNTA(P6:P29)-COUNTBLANK(P6:P29) -> 12 | Q1: =COUNTA(Q6:Q29)-COUNTBLANK(Q6:Q29) -> 13 | R1: =COUNTA(R6:R29)-COUNTBLANK(R6:R29) -> 13 | S1: =COUNTA(S6:S29)-COUNTBLANK(S6:S29) -> 12 | T1: =COUNTA(T6:T29)-COUNTBLANK(T6:T29) -> 13 | U1: =COUNTA(U6:U29)-COUNTBLANK(U6:U29) -> 11 | V1: =COUNTA(V6:V29)-COUNTBLANK(V6:V29) -> 12 | W1: =COUNTA(W6:W29)-COUNTBLANK(W6:W29) -> 12 | ... AT1: =COUNTA(AT6:AT29)-COUNTBLANK(AT6:AT29) -> 2
A2: année : | B2: =YEAR(A1) -> 2015 | C2: mois : | D2: =MONTH(A1) -> 12
A4: =A1 -> 42339 | P4: =P5 -> 42339 | Q4: =Q5 -> 42340 | R4: =R5 -> 42341 | S4: =S5 -> 42342 | T4: =T5 -> 42343 | U4: =U5 -> 42344 | V4: =V5 -> 42345 | W4: =W5 -> 42346 | ... AT4: =AT5 -> 42369
A5: lun | B5: mar | C5: mer | D5: jeu | E5: ven | F5: sam | G5: dim | I5: =DATE(B2,D2,1) -> 42339 | P5: =VLOOKUP(A1,Feuil1!A1:AF178,2,FALSE) -> 42339 | Q5: =VLOOKUP(A1,Feuil1!A1:AG178,3,FALSE) -> 42340 | R5: =VLOOKUP(A1,Feuil1!A1:AH178,4,FALSE) -> 42341 | S5: =VLOOKUP(A1,Feuil1!A1:AI178,5,FALSE) -> 42342 | T5: =VLOOKUP(A1,Feuil1!A1:AJ178,6,FALSE) -> 42343 | U5: =VLOOKUP(A1,Feuil1!A1:AK178,7,FALSE) -> 42344 | V5: =VLOOKUP(A1,Feuil1!A1:AL178,8,FALSE) -> 42345 | W5: =VLOOKUP(A1,Feuil1!A1:AM178,9,FALSE) -> 42346 | X5: =VLOOKUP(A1,Feuil1!A1:AN178,10,FALSE) -> 42347 | Y5: =VLOOKUP(A1,Feuil1!A1:AO178,11,FALSE) -> 42348 | Z5: =VLOOKUP(A1,Feuil1!A1:AP178,12,FALSE) -> 42349 | AA5: =VLOOKUP(A1,Feuil1!A1:AQ178,13,FALSE) -> 42350 | AB5: =VLOOKUP(A1,Feuil1!A1:AR178,14,FALSE) -> 42351 | AC5: =VLOOKUP(A1,Feuil1!A1:AS178,15,FALSE) -> 42352 | AD5: =VLOOKUP(A1,Feuil1!A1:AT178,16,FALSE) -> 42353 | AE5: =VLOOKUP(A1,Feuil1!A1:AU178,17,FALSE) -> 42354 | AF5: =VLOOKUP(A1,Feuil1!A1:AV178,18,FALSE) -> 42355 | AG5: =VLOOKUP(A1,Feuil1!A1:AW178,19,FALSE) -> 42356 | AH5: =VLOOKUP(A1,Feuil1!A1:AX178,20,FALSE) -> 42357 | AI5: =VLOOKUP(A1,Feuil1!A1:AY178,21,FALSE) -> 42358 | AJ5: =VLOOKUP(A1,Feuil1!A1:AZ178,22,FALSE) -> 42359 | AK5: =VLOOKUP(A1,Feuil1!A1:BA178,23,FALSE) -> 42360 | AL5: =VLOOKUP(A1,Feuil1!A1:BB178,24,FALSE) -> 42361 | AM5: =VLOOKUP(A1,Feuil1!A1:BC178,25,FALSE) -> 42362 | AN5: =VLOOKUP(A1,Feuil1!A1:BD178,26,FALSE) -> 42363 | AO5: =VLOOKUP(A1,Feuil1!A1:BE178,27,FALSE) -> 42364 | AP5: =VLOOKUP(A1,Feuil1!A1:BF178,28,FALSE) -> 42365 | AQ5: =VLOOKUP(A1,Feuil1!A1:BG178,29,FALSE) -> 42366 | AR5: =IF(VLOOKUP(A1,Feuil1!A1:BH178,30,FALSE)>AQ5,VLOOKUP(A1,Feuil1!A1:BH178,30,FALSE)," ") -> 42367 | AS5: =IF(VLOOKUP(A1,Feuil1!A1:BI178,31,FALSE)>AR5,VLOOKUP(A1,Feuil1!A1:BI178,31,FALSE)," ") -> 42368 | AT5: =IF(VLOOKUP(A1,Feuil1!A1:BJ178,32,FALSE)>AS5,VLOOKUP(A1,Feuil1!A1:BJ178,32,FALSE)," ") -> 42369
A6: =IF(MONTH(I6)=MONTH($I$5),DAY(I6),"") | B6: =IF(MONTH(J6)=MONTH($I$5),DAY(J6),"") -> 1 | C6: =IF(MONTH(K6)=MONTH($I$5),DAY(K6),"") -> 2 | D6: =IF(MONTH(L6)=MONTH($I$5),DAY(L6),"") -> 3 | E6: =IF(MONTH(M6)=MONTH($I$5),DAY(M6),"") -> 4 | F6: =IF(MONTH(N6)=MONTH($I$5),DAY(N6),"") -> 5 | G6: =IF(MONTH(O6)=MONTH($I$5),DAY(O6),"") -> 6 | I6: =I5-MOD(I5-2,7) -> 42338 | J6: =I6+1 -> 42339 | K6: =J6+1 -> 42340 | L6: =K6+1 -> 42341 | M6: =L6+1 -> 42342 | N6: =M6+1 -> 42343 | O6: =N6+1 -> 42344 | P6: {=IFERROR(INDEX(RDV!$C$7:$C$300& " "&RDV!$D$7:$D$300,SMALL(IF(RDV!$E$7:$E$300=P$5,ROW($7:$300)-6),ROW($A1))),"")} -> A1 Gyn | Q6: {=IFERROR(INDEX(RDV!$C$7:$C$300& " "&RDV!$D$7:$D$300,SMALL(IF(RDV!$E$7:$E$300=Q$5,ROW($7:$300)-6),ROW($A1))),"")} -> B1 GP | R6: {=IFERROR(INDEX(RDV!$C$7:$C$300& " "&RDV!$D$7:$D$300,SMALL(IF(RDV!$E$7:$E$300=R$5,ROW($7:$300)-6),ROW($A1))),"")} -> C1 GP | S6: {=IFERROR(INDEX(RDV!$C$7:$C$300& " "&RDV!$D$7:$D$300,SMALL(IF(RDV!$E$7:$E$300=S$5,ROW($7:$300)-6),ROW($A1))),"")} -> D1 GP | T6: {=IFERROR(INDEX(RDV!$C$7:$C$300& " "&RDV!$D$7:$D$300,SMALL(IF(RDV!$E$7:$E$300=T$5,ROW($7:$300)-6),ROW($A1))),"")} -> E1 Gyn | U6: {=IFERROR(INDEX(RDV!$C$7:$C$300& " "&RDV!$D$7:$D$300,SMALL(IF(RDV!$E$7:$E$300=U$5,ROW($7:$300)-6),ROW($A1))),"")} -> F1 GP | V6: {=IFERROR(INDEX(RDV!$C$7:$C$300& " "&RDV!$D$7:$D$300,SMALL(IF(RDV!$E$7:$E$300=V$5,ROW($7:$300)-6),ROW($A1))),"")} -> G1 GP | W6: {=IFERROR(INDEX(RDV!$C$7:$C$300& " "&RDV!$D$7:$D$300,SMALL(IF(RDV!$E$7:$E$300=W$5,ROW($7:$300)-6),ROW($A1))),"")} -> H1 GP | ... AT6: {=IFERROR(INDEX(RDV!$C$7:$C$300& " "&RDV!$D$7:$D$300,SMALL(IF(RDV!$E$7:$E$300=AT$5,ROW($7:$300)-6),ROW($A1))),"")} -> GGGGG GP
A7: =IF(MONTH(I7)=MONTH($I$5),DAY(I7),"") -> 7 | B7: =IF(MONTH(J7)=MONTH($I$5),DAY(J7),"") -> 8 | C7: =IF(MONTH(K7)=MONTH($I$5),DAY(K7),"") -> 9 | D7: =IF(MONTH(L7)=MONTH($I$5),DAY(L7),"") -> 10 | E7: =IF(MONTH(M7)=MONTH($I$5),DAY(M7),"") -> 11 | F7: =IF(MONTH(N7)=MONTH($I$5),DAY(N7),"") -> 12 | G7: =IF(MONTH(O7)=MONTH($I$5),DAY(O7),"") -> 13 | I7: =O6+1 -> 42345 | J7: =I7+1 -> 42346 | K7: =J7+1 -> 42347 | L7: =K7+1 -> 42348 | M7: =L7+1 -> 42349 | N7: =M7+1 -> 42350 | O7: =N7+1 -> 42351 | P7: {=IFERROR(INDEX(RDV!$C$7:$C$300& " "&RDV!$D$7:$D$300,SMALL(IF(RDV!$E$7:$E$300=P$5,ROW($7:$300)-6),ROW($A2))),"")} -> A2 GP | Q7: {=IFERROR(INDEX(RDV!$C$7:$C$300& " "&RDV!$D$7:$D$300,SMALL(IF(RDV!$E$7:$E$300=Q$5,ROW($7:$300)-6),ROW($A2))),"")} -> B2 GP | R7: {=IFERROR(INDEX(RDV!$C$7:$C$300& " "&RDV!$D$7:$D$300,SMALL(IF(RDV!$E$7:$E$300=R$5,ROW($7:$300)-6),ROW($A2))),"")} -> C2 GP | S7: {=IFERROR(INDEX(RDV!$C$7:$C$300& " "&RDV!$D$7:$D$300,SMALL(IF(RDV!$E$7:$E$300=S$5,ROW($7:$300)-6),ROW($A2))),"")} -> D2 GP | T7: {=IFERROR(INDEX(RDV!$C$7:$C$300& " "&RDV!$D$7:$D$300,SMALL(IF(RDV!$E$7:$E$300=T$5,ROW($7:$300)-6),ROW($A2))),"")} -> E2 Gyn | U7: {=IFERROR(INDEX(RDV!$C$7:$C$300& " "&RDV!$D$7:$D$300,SMALL(IF(RDV!$E$7:$E$300=U$5,ROW($7:$300)-6),ROW($A2))),"")} -> F2 GP | V7: {=IFERROR(INDEX(RDV!$C$7:$C$300& " "&RDV!$D$7:$D$300,SMALL(IF(RDV!$E$7:$E$300=V$5,ROW($7:$300)-6),ROW($A2))),"")} -> G2 GP | W7: {=IFERROR(INDEX(RDV!$C$7:$C$300& " "&RDV!$D$7:$D$300,SMALL(IF(RDV!$E$7:$E$300=W$5,ROW($7:$300)-6),ROW($A2))),"")} -> H2 GP | ... AT7: {=IFERROR(INDEX(RDV!$C$7:$C$300& " "&RDV!$D$7:$D$300,SMALL(IF(RDV!$E$7:$E$300=AT$5,ROW($7:$300)-6),ROW($A2))),"")} -> HHHHHH GP
A8: =IF(MONTH(I8)=MONTH($I$5),DAY(I8),"") -> 14 | B8: =IF(MONTH(J8)=MONTH($I$5),DAY(J8),"") -> 15 | C8: =IF(MONTH(K8)=MONTH($I$5),DAY(K8),"") -> 16 | D8: =IF(MONTH(L8)=MONTH($I$5),DAY(L8),"") -> 17 | E8: =IF(MONTH(M8)=MONTH($I$5),DAY(M8),"") -> 18 | F8: =IF(MONTH(N8)=MONTH($I$5),DAY(N8),"") -> 19 | G8: =IF(MONTH(O8)=MONTH($I$5),DAY(O8),"") -> 20 | I8: =O7+1 -> 42352 | J8: =I8+1 -> 42353 | K8: =J8+1 -> 42354 | L8: =K8+1 -> 42355 | M8: =L8+1 -> 42356 | N8: =M8+1 -> 42357 | O8: =N8+1 -> 42358 | P8: {=IFERROR(INDEX(RDV!$C$7:$C$300& " "&RDV!$D$7:$D$300,SMALL(IF(RDV!$E$7:$E$300=P$5,ROW($7:$300)-6),ROW($A3))),"")} -> A3 GP | Q8: {=IFERROR(INDEX(RDV!$C$7:$C$300& " "&RDV!$D$7:$D$300,SMALL(IF(RDV!$E$7:$E$300=Q$5,ROW($7:$300)-6),ROW($A3))),"")} -> B3 GP | R8: {=IFERROR(INDEX(RDV!$C$7:$C$300& " "&RDV!$D$7:$D$300,SMALL(IF(RDV!$E$7:$E$300=R$5,ROW($7:$300)-6),ROW($A3))),"")} -> C3 GP | S8: {=IFERROR(INDEX(RDV!$C$7:$C$300& " "&RDV!$D$7:$D$300,SMALL(IF(RDV!$E$7:$E$300=S$5,ROW($7:$300)-6),ROW($A3))),"")} -> D3 GP | T8: {=IFERROR(INDEX(RDV!$C$7:$C$300& " "&RDV!$D$7:$D$300,SMALL(IF(RDV!$E$7:$E$300=T$5,ROW($7:$300)-6),ROW($A3))),"")} -> E3 Gyn | U8: {=IFERROR(INDEX(RDV!$C$7:$C$300& " "&RDV!$D$7:$D$300,SMALL(IF(RDV!$E$7:$E$300=U$5,ROW($7:$300)-6),ROW($A3))),"")} -> F3 GP | V8: {=IFERROR(INDEX(RDV!$C$7:$C$300& " "&RDV!$D$7:$D$300,SMALL(IF(RDV!$E$7:$E$300=V$5,ROW($7:$300)-6),ROW($A3))),"")} -> G3 GP | W8: {=IFERROR(INDEX(RDV!$C$7:$C$300& " "&RDV!$D$7:$D$300,SMALL(IF(RDV!$E$7:$E$300=W$5,ROW($7:$300)-6),ROW($A3))),"")} -> H3 GP | ... AT8: {=IFERROR(INDEX(RDV!$C$7:$C$300& " "&RDV!$D$7:$D$300,SMALL(IF(RDV!$E$7:$E$300=AT$5,ROW($7:$300)-6),ROW($A3))),"")}
A9: =IF(MONTH(I9)=MONTH($I$5),DAY(I9),"") -> 21 | B9: =IF(MONTH(J9)=MONTH($I$5),DAY(J9),"") -> 22 | C9: =IF(MONTH(K9)=MONTH($I$5),DAY(K9),"") -> 23 | D9: =IF(MONTH(L9)=MONTH($I$5),DAY(L9),"") -> 24 | E9: =IF(MONTH(M9)=MONTH($I$5),DAY(M9),"") -> 25 | F9: =IF(MONTH(N9)=MONTH($I$5),DAY(N9),"") -> 26 | G9: =IF(MONTH(O9)=MONTH($I$5),DAY(O9),"") -> 27 | I9: =O8+1 -> 42359 | J9: =I9+1 -> 42360 | K9: =J9+1 -> 42361 | L9: =K9+1 -> 42362 | M9: =L9+1 -> 42363 | N9: =M9+1 -> 42364 | O9: =N9+1 -> 42365 | P9: {=IFERROR(INDEX(RDV!$C$7:$C$300& " "&RDV!$D$7:$D$300,SMALL(IF(RDV!$E$7:$E$300=P$5,ROW($7:$300)-6),ROW($A4))),"")} -> A4 GP | Q9: {=IFERROR(INDEX(RDV!$C$7:$C$300& " "&RDV!$D$7:$D$300,SMALL(IF(RDV!$E$7:$E$300=Q$5,ROW($7:$300)-6),ROW($A4))),"")} -> MMM GP | R9: {=IFERROR(INDEX(RDV!$C$7:$C$300& " "&RDV!$D$7:$D$300,SMALL(IF(RDV!$E$7:$E$300=R$5,ROW($7:$300)-6),ROW($A4))),"")} -> KKK GP | S9: {=IFERROR(INDEX(RDV!$C$7:$C$300& " "&RDV!$D$7:$D$300,SMALL(IF(RDV!$E$7:$E$300=S$5,ROW($7:$300)-6),ROW($A4))),"")} -> D4 GP | T9: {=IFERROR(INDEX(RDV!$C$7:$C$300& " "&RDV!$D$7:$D$300,SMALL(IF(RDV!$E$7:$E$300=T$5,ROW($7:$300)-6),ROW($A4))),"")} -> E4 Gyn | U9: {=IFERROR(INDEX(RDV!$C$7:$C$300& " "&RDV!$D$7:$D$300,SMALL(IF(RDV!$E$7:$E$300=U$5,ROW($7:$300)-6),ROW($A4))),"")} -> F4 GP | V9: {=IFERROR(INDEX(RDV!$C$7:$C$300& " "&RDV!$D$7:$D$300,SMALL(IF(RDV!$E$7:$E$300=V$5,ROW($7:$300)-6),ROW($A4))),"")} -> G4 GP | W9: {=IFERROR(INDEX(RDV!$C$7:$C$300& " "&RDV!$D$7:$D$300,SMALL(IF(RDV!$E$7:$E$300=W$5,ROW($7:$300)-6),ROW($A4))),"")} -> H4 GP | ... AT9: {=IFERROR(INDEX(RDV!$C$7:$C$300& " "&RDV!$D$7:$D$300,SMALL(IF(RDV!$E$7:$E$300=AT$5,ROW($7:$300)-6),ROW($A4))),"")}
A10: =IF(MONTH(I10)=MONTH($I$5),DAY(I10),"") -> 28 | B10: =IF(MONTH(J10)=MONTH($I$5),DAY(J10),"") -> 29 | C10: =IF(MONTH(K10)=MONTH($I$5),DAY(K10),"") -> 30 | D10: =IF(MONTH(L10)=MONTH($I$5),DAY(L10),"") -> 31 | E10: =IF(MONTH(M10)=MONTH($I$5),DAY(M10),"") | F10: =IF(MONTH(N10)=MONTH($I$5),DAY(N10),"") | G10: =IF(MONTH(O10)=MONTH($I$5),DAY(O10),"") | I10: =O9+1 -> 42366 | J10: =I10+1 -> 42367 | K10: =J10+1 -> 42368 | L10: =K10+1 -> 42369 | M10: =L10+1 -> 42370 | N10: =M10+1 -> 42371 | O10: =N10+1 -> 42372 | P10: {=IFERROR(INDEX(RDV!$C$7:$C$300& " "&RDV!$D$7:$D$300,SMALL(IF(RDV!$E$7:$E$300=P$5,ROW($7:$300)-6),ROW($A5))),"")} -> A5 GP | Q10: {=IFERROR(INDEX(RDV!$C$7:$C$300& " "&RDV!$D$7:$D$300,SMALL(IF(RDV!$E$7:$E$300=Q$5,ROW($7:$300)-6),ROW($A5))),"")} -> B5 GP | R10: {=IFERROR(INDEX(RDV!$C$7:$C$300& " "&RDV!$D$7:$D$300,SMALL(IF(RDV!$E$7:$E$300=R$5,ROW($7:$300)-6),ROW($A5))),"")} -> LLL GP | S10: {=IFERROR(INDEX(RDV!$C$7:$C$300& " "&RDV!$D$7:$D$300,SMALL(IF(RDV!$E$7:$E$300=S$5,ROW($7:$300)-6),ROW($A5))),"")} -> D5 GP | T10: {=IFERROR(INDEX(RDV!$C$7:$C$300& " "&RDV!$D$7:$D$300,SMALL(IF(RDV!$E$7:$E$300=T$5,ROW($7:$300)-6),ROW($A5))),"")} -> E5 Gyn | U10: {=IFERROR(INDEX(RDV!$C$7:$C$300& " "&RDV!$D$7:$D$300,SMALL(IF(RDV!$E$7:$E$300=U$5,ROW($7:$300)-6),ROW($A5))),"")} -> F5 GP | V10: {=IFERROR(INDEX(RDV!$C$7:$C$300& " "&RDV!$D$7:$D$300,SMALL(IF(RDV!$E$7:$E$300=V$5,ROW($7:$300)-6),ROW($A5))),"")} -> G5 GP | W10: {=IFERROR(INDEX(RDV!$C$7:$C$300& " "&RDV!$D$7:$D$300,SMALL(IF(RDV!$E$7:$E$300=W$5,ROW($7:$300)-6),ROW($A5))),"")} -> H5 GP | ... AT10: {=IFERROR(INDEX(RDV!$C$7:$C$300& " "&RDV!$D$7:$D$300,SMALL(IF(RDV!$E$7:$E$300=AT$5,ROW($7:$300)-6),ROW($A5))),"")}
P11: {=IFERROR(INDEX(RDV!$C$7:$C$300& " "&RDV!$D$7:$D$300,SMALL(IF(RDV!$E$7:$E$300=P$5,ROW($7:$300)-6),ROW($A6))),"")} -> A6 GP | Q11: {=IFERROR(INDEX(RDV!$C$7:$C$300& " "&RDV!$D$7:$D$300,SMALL(IF(RDV!$E$7:$E$300=Q$5,ROW($7:$300)-6),ROW($A6))),"")} -> B6 GP | R11: {=IFERROR(INDEX(RDV!$C$7:$C$300& " "&RDV!$D$7:$D$300,SMALL(IF(RDV!$E$7:$E$300=R$5,ROW($7:$300)-6),ROW($A6))),"")} -> C6 GP | S11: {=IFERROR(INDEX(RDV!$C$7:$C$300& " "&RDV!$D$7:$D$300,SMALL(IF(RDV!$E$7:$E$300=S$5,ROW($7:$300)-6),ROW($A6))),"")} -> D6 GP | T11: {=IFERROR(INDEX(RDV!$C$7:$C$300& " "&RDV!$D$7:$D$300,SMALL(IF(RDV!$E$7:$E$300=T$5,ROW($7:$300)-6),ROW($A6))),"")} -> E6 Gyn | U11: {=IFERROR(INDEX(RDV!$C$7:$C$300& " "&RDV!$D$7:$D$300,SMALL(IF(RDV!$E$7:$E$300=U$5,ROW($7:$300)-6),ROW($A6))),"")} -> F6 GP | V11: {=IFERROR(INDEX(RDV!$C$7:$C$300& " "&RDV!$D$7:$D$300,SMALL(IF(RDV!$E$7:$E$300=V$5,ROW($7:$300)-6),ROW($A6))),"")} -> G6 GP | W11: {=IFERROR(INDEX(RDV!$C$7:$C$300& " "&RDV!$D$7:$D$300,SMALL(IF(RDV!$E$7:$E$300=W$5,ROW($7:$300)-6),ROW($A6))),"")} -> H6 GP | ... AT11: {=IFERROR(INDEX(RDV!$C$7:$C$300& " "&RDV!$D$7:$D$300,SMALL(IF(RDV!$E$7:$E$300=AT$5,ROW($7:$300)-6),ROW($A6))),"")}
P12: {=IFERROR(INDEX(RDV!$C$7:$C$300& " "&RDV!$D$7:$D$300,SMALL(IF(RDV!$E$7:$E$300=P$5,ROW($7:$300)-6),ROW($A7))),"")} -> A7 GP | Q12: {=IFERROR(INDEX(RDV!$C$7:$C$300& " "&RDV!$D$7:$D$300,SMALL(IF(RDV!$E$7:$E$300=Q$5,ROW($7:$300)-6),ROW($A7))),"")} -> B7 GP | R12: {=IFERROR(INDEX(RDV!$C$7:$C$300& " "&RDV!$D$7:$D$300,SMALL(IF(RDV!$E$7:$E$300=R$5,ROW($7:$300)-6),ROW($A7))),"")} -> C7 GP | S12: {=IFERROR(INDEX(RDV!$C$7:$C$300& " "&RDV!$D$7:$D$300,SMALL(IF(RDV!$E$7:$E$300=S$5,ROW($7:$300)-6),ROW($A7))),"")} -> D7 GP | T12: {=IFERROR(INDEX(RDV!$C$7:$C$300& " "&RDV!$D$7:$D$300,SMALL(IF(RDV!$E$7:$E$300=T$5,ROW($7:$300)-6),ROW($A7))),"")} -> E7 Gyn | U12: {=IFERROR(INDEX(RDV!$C$7:$C$300& " "&RDV!$D$7:$D$300,SMALL(IF(RDV!$E$7:$E$300=U$5,ROW($7:$300)-6),ROW($A7))),"")} -> F7 GP | V12: {=IFERROR(INDEX(RDV!$C$7:$C$300& " "&RDV!$D$7:$D$300,SMALL(IF(RDV!$E$7:$E$300=V$5,ROW($7:$300)-6),ROW($A7))),"")} -> G7 GP | W12: {=IFERROR(INDEX(RDV!$C$7:$C$300& " "&RDV!$D$7:$D$300,SMALL(IF(RDV!$E$7:$E$300=W$5,ROW($7:$300)-6),ROW($A7))),"")} -> H7 GP | ... AT12: {=IFERROR(INDEX(RDV!$C$7:$C$300& " "&RDV!$D$7:$D$300,SMALL(IF(RDV!$E$7:$E$300=AT$5,ROW($7:$300)-6),ROW($A7))),"")}
A13: Nombre de visites programées/mois | F13: =SUM(P1:AT2) -> 294 | P13: {=IFERROR(INDEX(RDV!$C$7:$C$300& " "&RDV!$D$7:$D$300,SMALL(IF(RDV!$E$7:$E$300=P$5,ROW($7:$300)-6),ROW($A8))),"")} -> A8 GP | Q13: {=IFERROR(INDEX(RDV!$C$7:$C$300& " "&RDV!$D$7:$D$300,SMALL(IF(RDV!$E$7:$E$300=Q$5,ROW($7:$300)-6),ROW($A8))),"")} -> B8 GP | R13: {=IFERROR(INDEX(RDV!$C$7:$C$300& " "&RDV!$D$7:$D$300,SMALL(IF(RDV!$E$7:$E$300=R$5,ROW($7:$300)-6),ROW($A8))),"")} -> C8 Gyn | S13: {=IFERROR(INDEX(RDV!$C$7:$C$300& " "&RDV!$D$7:$D$300,SMALL(IF(RDV!$E$7:$E$300=S$5,ROW($7:$300)-6),ROW($A8))),"")} -> D8 GP | T13: {=IFERROR(INDEX(RDV!$C$7:$C$300& " "&RDV!$D$7:$D$300,SMALL(IF(RDV!$E$7:$E$300=T$5,ROW($7:$300)-6),ROW($A8))),"")} -> E8 Gyn | U13: {=IFERROR(INDEX(RDV!$C$7:$C$300& " "&RDV!$D$7:$D$300,SMALL(IF(RDV!$E$7:$E$300=U$5,ROW($7:$300)-6),ROW($A8))),"")} -> F8 GP | V13: {=IFERROR(INDEX(RDV!$C$7:$C$300& " "&RDV!$D$7:$D$300,SMALL(IF(RDV!$E$7:$E$300=V$5,ROW($7:$300)-6),ROW($A8))),"")} -> G8 GP | W13: {=IFERROR(INDEX(RDV!$C$7:$C$300& " "&RDV!$D$7:$D$300,SMALL(IF(RDV!$E$7:$E$300=W$5,ROW($7:$300)-6),ROW($A8))),"")} -> H8 Gyn | ... AT13: {=IFERROR(INDEX(RDV!$C$7:$C$300& " "&RDV!$D$7:$D$300,SMALL(IF(RDV!$E$7:$E$300=AT$5,ROW($7:$300)-6),ROW($A8))),"")}
P14: {=IFERROR(INDEX(RDV!$C$7:$C$300& " "&RDV!$D$7:$D$300,SMALL(IF(RDV!$E$7:$E$300=P$5,ROW($7:$300)-6),ROW($A9))),"")} -> A9 GP | Q14: {=IFERROR(INDEX(RDV!$C$7:$C$300& " "&RDV!$D$7:$D$300,SMALL(IF(RDV!$E$7:$E$300=Q$5,ROW($7:$300)-6),ROW($A9))),"")} -> B9 GP | R14: {=IFERROR(INDEX(RDV!$C$7:$C$300& " "&RDV!$D$7:$D$300,SMALL(IF(RDV!$E$7:$E$300=R$5,ROW($7:$300)-6),ROW($A9))),"")} -> C9 GP | S14: {=IFERROR(INDEX(RDV!$C$7:$C$300& " "&RDV!$D$7:$D$300,SMALL(IF(RDV!$E$7:$E$300=S$5,ROW($7:$300)-6),ROW($A9))),"")} -> UUU Gyn | T14: {=IFERROR(INDEX(RDV!$C$7:$C$300& " "&RDV!$D$7:$D$300,SMALL(IF(RDV!$E$7:$E$300=T$5,ROW($7:$300)-6),ROW($A9))),"")} -> E9 Gyn | U14: {=IFERROR(INDEX(RDV!$C$7:$C$300& " "&RDV!$D$7:$D$300,SMALL(IF(RDV!$E$7:$E$300=U$5,ROW($7:$300)-6),ROW($A9))),"")} -> F9 GP | V14: {=IFERROR(INDEX(RDV!$C$7:$C$300& " "&RDV!$D$7:$D$300,SMALL(IF(RDV!$E$7:$E$300=V$5,ROW($7:$300)-6),ROW($A9))),"")} -> G9 GP | W14: {=IFERROR(INDEX(RDV!$C$7:$C$300& " "&RDV!$D$7:$D$300,SMALL(IF(RDV!$E$7:$E$300=W$5,ROW($7:$300)-6),ROW($A9))),"")} -> H9 Gyn | ... AT14: {=IFERROR(INDEX(RDV!$C$7:$C$300& " "&RDV!$D$7:$D$300,SMALL(IF(RDV!$E$7:$E$300=AT$5,ROW($7:$300)-6),ROW($A9))),"")}
P15: {=IFERROR(INDEX(RDV!$C$7:$C$300& " "&RDV!$D$7:$D$300,SMALL(IF(RDV!$E$7:$E$300=P$5,ROW($7:$300)-6),ROW($A10))),"")} -> A10 GP | Q15: {=IFERROR(INDEX(RDV!$C$7:$C$300& " "&RDV!$D$7:$D$300,SMALL(IF(RDV!$E$7:$E$300=Q$5,ROW($7:$300)-6),ROW($A10))),"")} -> B10 GP | R15: {=IFERROR(INDEX(RDV!$C$7:$C$300& " "&RDV!$D$7:$D$300,SMALL(IF(RDV!$E$7:$E$300=R$5,ROW($7:$300)-6),ROW($A10))),"")} -> C10 Gyn | S15: {=IFERROR(INDEX(RDV!$C$7:$C$300& " "&RDV!$D$7:$D$300,SMALL(IF(RDV!$E$7:$E$300=S$5,ROW($7:$300)-6),ROW($A10))),"")} -> D10 Gyn | T15: {=IFERROR(INDEX(RDV!$C$7:$C$300& " "&RDV!$D$7:$D$300,SMALL(IF(RDV!$E$7:$E$300=T$5,ROW($7:$300)-6),ROW($A10))),"")} -> E10 Gyn | U15: {=IFERROR(INDEX(RDV!$C$7:$C$300& " "&RDV!$D$7:$D$300,SMALL(IF(RDV!$E$7:$E$300=U$5,ROW($7:$300)-6),ROW($A10))),"")} -> F10 GP | V15: {=IFERROR(INDEX(RDV!$C$7:$C$300& " "&RDV!$D$7:$D$300,SMALL(IF(RDV!$E$7:$E$300=V$5,ROW($7:$300)-6),ROW($A10))),"")} -> G10 GP | W15: {=IFERROR(INDEX(RDV!$C$7:$C$300& " "&RDV!$D$7:$D$300,SMALL(IF(RDV!$E$7:$E$300=W$5,ROW($7:$300)-6),ROW($A10))),"")} -> H10 Gyn | ... AT15: {=IFERROR(INDEX(RDV!$C$7:$C$300& " "&RDV!$D$7:$D$300,SMALL(IF(RDV!$E$7:$E$300=AT$5,ROW($7:$300)-6),ROW($A10))),"")}
P16: {=IFERROR(INDEX(RDV!$C$7:$C$300& " "&RDV!$D$7:$D$300,SMALL(IF(RDV!$E$7:$E$300=P$5,ROW($7:$300)-6),ROW($A11))),"")} -> A11 GP | Q16: {=IFERROR(INDEX(RDV!$C$7:$C$300& " "&RDV!$D$7:$D$300,SMALL(IF(RDV!$E$7:$E$300=Q$5,ROW($7:$300)-6),ROW($A11))),"")} -> B11 GP | R16: {=IFERROR(INDEX(RDV!$C$7:$C$300& " "&RDV!$D$7:$D$300,SMALL(IF(RDV!$E$7:$E$300=R$5,ROW($7:$300)-6),ROW($A11))),"")} -> C11 GP | S16: {=IFERROR(INDEX(RDV!$C$7:$C$300& " "&RDV!$D$7:$D$300,SMALL(IF(RDV!$E$7:$E$300=S$5,ROW($7:$300)-6),ROW($A11))),"")} -> D11 Gyn | T16: {=IFERROR(INDEX(RDV!$C$7:$C$300& " "&RDV!$D$7:$D$300,SMALL(IF(RDV!$E$7:$E$300=T$5,ROW($7:$300)-6),ROW($A11))),"")} -> E11 GP | U16: {=IFERROR(INDEX(RDV!$C$7:$C$300& " "&RDV!$D$7:$D$300,SMALL(IF(RDV!$E$7:$E$300=U$5,ROW($7:$300)-6),ROW($A11))),"")} -> F11 GP | V16: {=IFERROR(INDEX(RDV!$C$7:$C$300& " "&RDV!$D$7:$D$300,SMALL(IF(RDV!$E$7:$E$300=V$5,ROW($7:$300)-6),ROW($A11))),"")} -> G11 GP | W16: {=IFERROR(INDEX(RDV!$C$7:$C$300& " "&RDV!$D$7:$D$300,SMALL(IF(RDV!$E$7:$E$300=W$5,ROW($7:$300)-6),ROW($A11))),"")} -> H11 GP | ... AT16: {=IFERROR(INDEX(RDV!$C$7:$C$300& " "&RDV!$D$7:$D$300,SMALL(IF(RDV!$E$7:$E$300=AT$5,ROW($7:$300)-6),ROW($A11))),"")}
P17: {=IFERROR(INDEX(RDV!$C$7:$C$300& " "&RDV!$D$7:$D$300,SMALL(IF(RDV!$E$7:$E$300=P$5,ROW($7:$300)-6),ROW($A12))),"")} -> A12 GP | Q17: {=IFERROR(INDEX(RDV!$C$7:$C$300& " "&RDV!$D$7:$D$300,SMALL(IF(RDV!$E$7:$E$300=Q$5,ROW($7:$300)-6),ROW($A12))),"")} -> B12 GP | R17: {=IFERROR(INDEX(RDV!$C$7:$C$300& " "&RDV!$D$7:$D$300,SMALL(IF(RDV!$E$7:$E$300=R$5,ROW($7:$300)-6),ROW($A12))),"")} -> C12 GP | S17: {=IFERROR(INDEX(RDV!$C$7:$C$300& " "&RDV!$D$7:$D$300,SMALL(IF(RDV!$E$7:$E$300=S$5,ROW($7:$300)-6),ROW($A12))),"")} -> D12 Gyn | T17: {=IFERROR(INDEX(RDV!$C$7:$C$300& " "&RDV!$D$7:$D$300,SMALL(IF(RDV!$E$7:$E$300=T$5,ROW($7:$300)-6),ROW($A12))),"")} -> E12 GP | U17: {=IFERROR(INDEX(RDV!$C$7:$C$300& " "&RDV!$D$7:$D$300,SMALL(IF(RDV!$E$7:$E$300=U$5,ROW($7:$300)-6),ROW($A12))),"")} | V17: {=IFERROR(INDEX(RDV!$C$7:$C$300& " "&RDV!$D$7:$D$300,SMALL(IF(RDV!$E$7:$E$300=V$5,ROW($7:$300)-6),ROW($A12))),"")} -> G12 GP | W17: {=IFERROR(INDEX(RDV!$C$7:$C$300& " "&RDV!$D$7:$D$300,SMALL(IF(RDV!$E$7:$E$300=W$5,ROW($7:$300)-6),ROW($A12))),"")} -> H12 GP | ... AT17: {=IFERROR(INDEX(RDV!$C$7:$C$300& " "&RDV!$D$7:$D$300,SMALL(IF(RDV!$E$7:$E$300=AT$5,ROW($7:$300)-6),ROW($A12))),"")}
P18: {=IFERROR(INDEX(RDV!$C$7:$C$300& " "&RDV!$D$7:$D$300,SMALL(IF(RDV!$E$7:$E$300=P$5,ROW($7:$300)-6),ROW($A13))),"")} | Q18: {=IFERROR(INDEX(RDV!$C$7:$C$300& " "&RDV!$D$7:$D$300,SMALL(IF(RDV!$E$7:$E$300=Q$5,ROW($7:$300)-6),ROW($A13))),"")} -> B13 GP | R18: {=IFERROR(INDEX(RDV!$C$7:$C$300& " "&RDV!$D$7:$D$300,SMALL(IF(RDV!$E$7:$E$300=R$5,ROW($7:$300)-6),ROW($A13))),"")} -> C13 GP | S18: {=IFERROR(INDEX(RDV!$C$7:$C$300& " "&RDV!$D$7:$D$300,SMALL(IF(RDV!$E$7:$E$300=S$5,ROW($7:$300)-6),ROW($A13))),"")} | T18: {=IFERROR(INDEX(RDV!$C$7:$C$300& " "&RDV!$D$7:$D$300,SMALL(IF(RDV!$E$7:$E$300=T$5,ROW($7:$300)-6),ROW($A13))),"")} -> E13 GP | U18: {=IFERROR(INDEX(RDV!$C$7:$C$300& " "&RDV!$D$7:$D$300,SMALL(IF(RDV!$E$7:$E$300=U$5,ROW($7:$300)-6),ROW($A13))),"")} | V18: {=IFERROR(INDEX(RDV!$C$7:$C$300& " "&RDV!$D$7:$D$300,SMALL(IF(RDV!$E$7:$E$300=V$5,ROW($7:$300)-6),ROW($A13))),"")} | W18: {=IFERROR(INDEX(RDV!$C$7:$C$300& " "&RDV!$D$7:$D$300,SMALL(IF(RDV!$E$7:$E$300=W$5,ROW($7:$300)-6),ROW($A13))),"")} | ... AT18: {=IFERROR(INDEX(RDV!$C$7:$C$300& " "&RDV!$D$7:$D$300,SMALL(IF(RDV!$E$7:$E$300=AT$5,ROW($7:$300)-6),ROW($A13))),"")}
P19: {=IFERROR(INDEX(RDV!$C$7:$C$300& " "&RDV!$D$7:$D$300,SMALL(IF(RDV!$E$7:$E$300=P$5,ROW($7:$300)-6),ROW($A14))),"")} | Q19: {=IFERROR(INDEX(RDV!$C$7:$C$300& " "&RDV!$D$7:$D$300,SMALL(IF(RDV!$E$7:$E$300=Q$5,ROW($7:$300)-6),ROW($A14))),"")} | R19: {=IFERROR(INDEX(RDV!$C$7:$C$300& " "&RDV!$D$7:$D$300,SMALL(IF(RDV!$E$7:$E$300=R$5,ROW($7:$300)-6),ROW($A14))),"")} | S19: {=IFERROR(INDEX(RDV!$C$7:$C$300& " "&RDV!$D$7:$D$300,SMALL(IF(RDV!$E$7:$E$300=S$5,ROW($7:$300)-6),ROW($A14))),"")} | T19: {=IFERROR(INDEX(RDV!$C$7:$C$300& " "&RDV!$D$7:$D$300,SMALL(IF(RDV!$E$7:$E$300=T$5,ROW($7:$300)-6),ROW($A14))),"")} | U19: {=IFERROR(INDEX(RDV!$C$7:$C$300& " "&RDV!$D$7:$D$300,SMALL(IF(RDV!$E$7:$E$300=U$5,ROW($7:$300)-6),ROW($A14))),"")} | V19: {=IFERROR(INDEX(RDV!$C$7:$C$300& " "&RDV!$D$7:$D$300,SMALL(IF(RDV!$E$7:$E$300=V$5,ROW($7:$300)-6),ROW($A14))),"")} | W19: {=IFERROR(INDEX(RDV!$C$7:$C$300& " "&RDV!$D$7:$D$300,SMALL(IF(RDV!$E$7:$E$300=W$5,ROW($7:$300)-6),ROW($A14))),"")} | ... AT19: {=IFERROR(INDEX(RDV!$C$7:$C$300& " "&RDV!$D$7:$D$300,SMALL(IF(RDV!$E$7:$E$300=AT$5,ROW($7:$300)-6),ROW($A14))),"")}
P20: {=IFERROR(INDEX(RDV!$C$7:$C$300& " "&RDV!$D$7:$D$300,SMALL(IF(RDV!$E$7:$E$300=P$5,ROW($7:$300)-6),ROW($A15))),"")} | Q20: {=IFERROR(INDEX(RDV!$C$7:$C$300& " "&RDV!$D$7:$D$300,SMALL(IF(RDV!$E$7:$E$300=Q$5,ROW($7:$300)-6),ROW($A15))),"")} | R20: {=IFERROR(INDEX(RDV!$C$7:$C$300& " "&RDV!$D$7:$D$300,SMALL(IF(RDV!$E$7:$E$300=R$5,ROW($7:$300)-6),ROW($A15))),"")} | S20: {=IFERROR(INDEX(RDV!$C$7:$C$300& " "&RDV!$D$7:$D$300,SMALL(IF(RDV!$E$7:$E$300=S$5,ROW($7:$300)-6),ROW($A15))),"")} | T20: {=IFERROR(INDEX(RDV!$C$7:$C$300& " "&RDV!$D$7:$D$300,SMALL(IF(RDV!$E$7:$E$300=T$5,ROW($7:$300)-6),ROW($A15))),"")} | U20: {=IFERROR(INDEX(RDV!$C$7:$C$300& " "&RDV!$D$7:$D$300,SMALL(IF(RDV!$E$7:$E$300=U$5,ROW($7:$300)-6),ROW($A15))),"")} | V20: {=IFERROR(INDEX(RDV!$C$7:$C$300& " "&RDV!$D$7:$D$300,SMALL(IF(RDV!$E$7:$E$300=V$5,ROW($7:$300)-6),ROW($A15))),"")} | W20: {=IFERROR(INDEX(RDV!$C$7:$C$300& " "&RDV!$D$7:$D$300,SMALL(IF(RDV!$E$7:$E$300=W$5,ROW($7:$300)-6),ROW($A15))),"")} | ... AT20: {=IFERROR(INDEX(RDV!$C$7:$C$300& " "&RDV!$D$7:$D$300,SMALL(IF(RDV!$E$7:$E$300=AT$5,ROW($7:$300)-6),ROW($A15))),"")}
P21: {=IFERROR(INDEX(RDV!$C$7:$C$300& " "&RDV!$D$7:$D$300,SMALL(IF(RDV!$E$7:$E$300=P$5,ROW($7:$300)-6),ROW($A16))),"")} | Q21: {=IFERROR(INDEX(RDV!$C$7:$C$300& " "&RDV!$D$7:$D$300,SMALL(IF(RDV!$E$7:$E$300=Q$5,ROW($7:$300)-6),ROW($A16))),"")} | R21: {=IFERROR(INDEX(RDV!$C$7:$C$300& " "&RDV!$D$7:$D$300,SMALL(IF(RDV!$E$7:$E$300=R$5,ROW($7:$300)-6),ROW($A16))),"")} | S21: {=IFERROR(INDEX(RDV!$C$7:$C$300& " "&RDV!$D$7:$D$300,SMALL(IF(RDV!$E$7:$E$300=S$5,ROW($7:$300)-6),ROW($A16))),"")} | T21: {=IFERROR(INDEX(RDV!$C$7:$C$300& " "&RDV!$D$7:$D$300,SMALL(IF(RDV!$E$7:$E$300=T$5,ROW($7:$300)-6),ROW($A16))),"")} | U21: {=IFERROR(INDEX(RDV!$C$7:$C$300& " "&RDV!$D$7:$D$300,SMALL(IF(RDV!$E$7:$E$300=U$5,ROW($7:$300)-6),ROW($A16))),"")} | V21: {=IFERROR(INDEX(RDV!$C$7:$C$300& " "&RDV!$D$7:$D$300,SMALL(IF(RDV!$E$7:$E$300=V$5,ROW($7:$300)-6),ROW($A16))),"")} | W21: {=IFERROR(INDEX(RDV!$C$7:$C$300& " "&RDV!$D$7:$D$300,SMALL(IF(RDV!$E$7:$E$300=W$5,ROW($7:$300)-6),ROW($A16))),"")} | ... AT21: {=IFERROR(INDEX(RDV!$C$7:$C$300& " "&RDV!$D$7:$D$300,SMALL(IF(RDV!$E$7:$E$300=AT$5,ROW($7:$300)-6),ROW($A16))),"")}
P22: {=IFERROR(INDEX(RDV!$C$7:$C$300& " "&RDV!$D$7:$D$300,SMALL(IF(RDV!$E$7:$E$300=P$5,ROW($7:$300)-6),ROW($A17))),"")} | Q22: {=IFERROR(INDEX(RDV!$C$7:$C$300& " "&RDV!$D$7:$D$300,SMALL(IF(RDV!$E$7:$E$300=Q$5,ROW($7:$300)-6),ROW($A17))),"")} | R22: {=IFERROR(INDEX(RDV!$C$7:$C$300& " "&RDV!$D$7:$D$300,SMALL(IF(RDV!$E$7:$E$300=R$5,ROW($7:$300)-6),ROW($A17))),"")} | S22: {=IFERROR(INDEX(RDV!$C$7:$C$300& " "&RDV!$D$7:$D$300,SMALL(IF(RDV!$E$7:$E$300=S$5,ROW($7:$300)-6),ROW($A17))),"")} | T22: {=IFERROR(INDEX(RDV!$C$7:$C$300& " "&RDV!$D$7:$D$300,SMALL(IF(RDV!$E$7:$E$300=T$5,ROW($7:$300)-6),ROW($A17))),"")} | U22: {=IFERROR(INDEX(RDV!$C$7:$C$300& " "&RDV!$D$7:$D$300,SMALL(IF(RDV!$E$7:$E$300=U$5,ROW($7:$300)-6),ROW($A17))),"")} | V22: {=IFERROR(INDEX(RDV!$C$7:$C$300& " "&RDV!$D$7:$D$300,SMALL(IF(RDV!$E$7:$E$300=V$5,ROW($7:$300)-6),ROW($A17))),"")} | W22: {=IFERROR(INDEX(RDV!$C$7:$C$300& " "&RDV!$D$7:$D$300,SMALL(IF(RDV!$E$7:$E$300=W$5,ROW($7:$300)-6),ROW($A17))),"")} | ... AT22: {=IFERROR(INDEX(RDV!$C$7:$C$300& " "&RDV!$D$7:$D$300,SMALL(IF(RDV!$E$7:$E$300=AT$5,ROW($7:$300)-6),ROW($A17))),"")}
P23: {=IFERROR(INDEX(RDV!$C$7:$C$300& " "&RDV!$D$7:$D$300,SMALL(IF(RDV!$E$7:$E$300=P$5,ROW($7:$300)-6),ROW($A18))),"")} | Q23: {=IFERROR(INDEX(RDV!$C$7:$C$300& " "&RDV!$D$7:$D$300,SMALL(IF(RDV!$E$7:$E$300=Q$5,ROW($7:$300)-6),ROW($A18))),"")} | R23: {=IFERROR(INDEX(RDV!$C$7:$C$300& " "&RDV!$D$7:$D$300,SMALL(IF(RDV!$E$7:$E$300=R$5,ROW($7:$300)-6),ROW($A18))),"")} | S23: {=IFERROR(INDEX(RDV!$C$7:$C$300& " "&RDV!$D$7:$D$300,SMALL(IF(RDV!$E$7:$E$300=S$5,ROW($7:$300)-6),ROW($A18))),"")} | T23: {=IFERROR(INDEX(RDV!$C$7:$C$300& " "&RDV!$D$7:$D$300,SMALL(IF(RDV!$E$7:$E$300=T$5,ROW($7:$300)-6),ROW($A18))),"")} | U23: {=IFERROR(INDEX(RDV!$C$7:$C$300& " "&RDV!$D$7:$D$300,SMALL(IF(RDV!$E$7:$E$300=U$5,ROW($7:$300)-6),ROW($A18))),"")} | V23: {=IFERROR(INDEX(RDV!$C$7:$C$300& " "&RDV!$D$7:$D$300,SMALL(IF(RDV!$E$7:$E$300=V$5,ROW($7:$300)-6),ROW($A18))),"")} | W23: {=IFERROR(INDEX(RDV!$C$7:$C$300& " "&RDV!$D$7:$D$300,SMALL(IF(RDV!$E$7:$E$300=W$5,ROW($7:$300)-6),ROW($A18))),"")} | ... AT23: {=IFERROR(INDEX(RDV!$C$7:$C$300& " "&RDV!$D$7:$D$300,SMALL(IF(RDV!$E$7:$E$300=AT$5,ROW($7:$300)-6),ROW($A18))),"")}
P24: {=IFERROR(INDEX(RDV!$C$7:$C$300& " "&RDV!$D$7:$D$300,SMALL(IF(RDV!$E$7:$E$300=P$5,ROW($7:$300)-6),ROW($A19))),"")} | Q24: {=IFERROR(INDEX(RDV!$C$7:$C$300& " "&RDV!$D$7:$D$300,SMALL(IF(RDV!$E$7:$E$300=Q$5,ROW($7:$300)-6),ROW($A19))),"")} | R24: {=IFERROR(INDEX(RDV!$C$7:$C$300& " "&RDV!$D$7:$D$300,SMALL(IF(RDV!$E$7:$E$300=R$5,ROW($7:$300)-6),ROW($A19))),"")} | S24: {=IFERROR(INDEX(RDV!$C$7:$C$300& " "&RDV!$D$7:$D$300,SMALL(IF(RDV!$E$7:$E$300=S$5,ROW($7:$300)-6),ROW($A19))),"")} | T24: {=IFERROR(INDEX(RDV!$C$7:$C$300& " "&RDV!$D$7:$D$300,SMALL(IF(RDV!$E$7:$E$300=T$5,ROW($7:$300)-6),ROW($A19))),"")} | U24: {=IFERROR(INDEX(RDV!$C$7:$C$300& " "&RDV!$D$7:$D$300,SMALL(IF(RDV!$E$7:$E$300=U$5,ROW($7:$300)-6),ROW($A19))),"")} | V24: {=IFERROR(INDEX(RDV!$C$7:$C$300& " "&RDV!$D$7:$D$300,SMALL(IF(RDV!$E$7:$E$300=V$5,ROW($7:$300)-6),ROW($A19))),"")} | W24: {=IFERROR(INDEX(RDV!$C$7:$C$300& " "&RDV!$D$7:$D$300,SMALL(IF(RDV!$E$7:$E$300=W$5,ROW($7:$300)-6),ROW($A19))),"")} | ... AT24: {=IFERROR(INDEX(RDV!$C$7:$C$300& " "&RDV!$D$7:$D$300,SMALL(IF(RDV!$E$7:$E$300=AT$5,ROW($7:$300)-6),ROW($A19))),"")}
P25: {=IFERROR(INDEX(RDV!$C$7:$C$300& " "&RDV!$D$7:$D$300,SMALL(IF(RDV!$E$7:$E$300=P$5,ROW($7:$300)-6),ROW($A20))),"")} | Q25: {=IFERROR(INDEX(RDV!$C$7:$C$300& " "&RDV!$D$7:$D$300,SMALL(IF(RDV!$E$7:$E$300=Q$5,ROW($7:$300)-6),ROW($A20))),"")} | R25: {=IFERROR(INDEX(RDV!$C$7:$C$300& " "&RDV!$D$7:$D$300,SMALL(IF(RDV!$E$7:$E$300=R$5,ROW($7:$300)-6),ROW($A20))),"")} | S25: {=IFERROR(INDEX(RDV!$C$7:$C$300& " "&RDV!$D$7:$D$300,SMALL(IF(RDV!$E$7:$E$300=S$5,ROW($7:$300)-6),ROW($A20))),"")} | T25: {=IFERROR(INDEX(RDV!$C$7:$C$300& " "&RDV!$D$7:$D$300,SMALL(IF(RDV!$E$7:$E$300=T$5,ROW($7:$300)-6),ROW($A20))),"")} | U25: {=IFERROR(INDEX(RDV!$C$7:$C$300& " "&RDV!$D$7:$D$300,SMALL(IF(RDV!$E$7:$E$300=U$5,ROW($7:$300)-6),ROW($A20))),"")} | V25: {=IFERROR(INDEX(RDV!$C$7:$C$300& " "&RDV!$D$7:$D$300,SMALL(IF(RDV!$E$7:$E$300=V$5,ROW($7:$300)-6),ROW($A20))),"")} | W25: {=IFERROR(INDEX(RDV!$C$7:$C$300& " "&RDV!$D$7:$D$300,SMALL(IF(RDV!$E$7:$E$300=W$5,ROW($7:$300)-6),ROW($A20))),"")} | ... AT25: {=IFERROR(INDEX(RDV!$C$7:$C$300& " "&RDV!$D$7:$D$300,SMALL(IF(RDV!$E$7:$E$300=AT$5,ROW($7:$300)-6),ROW($A20))),"")}
... P29: {=IFERROR(INDEX(RDV!$C$7:$C$300& " "&RDV!$D$7:$D$300,SMALL(IF(RDV!$E$7:$E$300=P$5,ROW($7:$300)-6),ROW($A24))),"")} | Q29: {=IFERROR(INDEX(RDV!$C$7:$C$300& " "&RDV!$D$7:$D$300,SMALL(IF(RDV!$E$7:$E$300=Q$5,ROW($7:$300)-6),ROW($A24))),"")} | R29: {=IFERROR(INDEX(RDV!$C$7:$C$300& " "&RDV!$D$7:$D$300,SMALL(IF(RDV!$E$7:$E$300=R$5,ROW($7:$300)-6),ROW($A24))),"")} | S29: {=IFERROR(INDEX(RDV!$C$7:$C$300& " "&RDV!$D$7:$D$300,SMALL(IF(RDV!$E$7:$E$300=S$5,ROW($7:$300)-6),ROW($A24))),"")} | T29: {=IFERROR(INDEX(RDV!$C$7:$C$300& " "&RDV!$D$7:$D$300,SMALL(IF(RDV!$E$7:$E$300=T$5,ROW($7:$300)-6),ROW($A24))),"")} | U29: {=IFERROR(INDEX(RDV!$C$7:$C$300& " "&RDV!$D$7:$D$300,SMALL(IF(RDV!$E$7:$E$300=U$5,ROW($7:$300)-6),ROW($A24))),"")} | V29: {=IFERROR(INDEX(RDV!$C$7:$C$300& " "&RDV!$D$7:$D$300,SMALL(IF(RDV!$E$7:$E$300=V$5,ROW($7:$300)-6),ROW($A24))),"")} | W29: {=IFERROR(INDEX(RDV!$C$7:$C$300& " "&RDV!$D$7:$D$300,SMALL(IF(RDV!$E$7:$E$300=W$5,ROW($7:$300)-6),ROW($A24))),"")} | ... AT29: {=IFERROR(INDEX(RDV!$C$7:$C$300& " "&RDV!$D$7:$D$300,SMALL(IF(RDV!$E$7:$E$300=AT$5,ROW($7:$300)-6),ROW($A24))),"")}
O30: 42345 | P30: 42346 | Q30: 42347 | R30: 42348 | S30: 42349 | T30: 42350 | U30: 42351
O31: {=IFERROR(INDEX(RDV!$C$7:$C$300& " "&RDV!$D$7:$D$300,SMALL(IF(RDV!$E$7:$E$300=O$30,ROW($7:$300)-6),ROW($A1))),"")} -> G1 GP | P31: {=IFERROR(INDEX(RDV!$C$7:$C$300& " "&RDV!$D$7:$D$300,SMALL(IF(RDV!$E$7:$E$300=P$30,ROW($7:$300)-6),ROW($A1))),"")} -> H1 GP | Q31: {=IFERROR(INDEX(RDV!$C$7:$C$300& " "&RDV!$D$7:$D$300,SMALL(IF(RDV!$E$7:$E$300=Q$30,ROW($7:$300)-6),ROW($A1))),"")} -> I1 Gyn | R31: {=IFERROR(INDEX(RDV!$C$7:$C$300& " "&RDV!$D$7:$D$300,SMALL(IF(RDV!$E$7:$E$300=R$30,ROW($7:$300)-6),ROW($A1))),"")} -> J1 Gyn | S31: {=IFERROR(INDEX(RDV!$C$7:$C$300& " "&RDV!$D$7:$D$300,SMALL(IF(RDV!$E$7:$E$300=S$30,ROW($7:$300)-6),ROW($A1))),"")} -> K1 GP | T31: {=IFERROR(INDEX(RDV!$C$7:$C$300& " "&RDV!$D$7:$D$300,SMALL(IF(RDV!$E$7:$E$300=T$30,ROW($7:$300)-6),ROW($A1))),"")} -> L1 GP | U31: {=IFERROR(INDEX(RDV!$C$7:$C$300& " "&RDV!$D$7:$D$300,SMALL(IF(RDV!$E$7:$E$300=U$30,ROW($7:$300)-6),ROW($A1))),"")} -> M1 GP
O32: {=IFERROR(INDEX(RDV!$C$7:$C$300& " "&RDV!$D$7:$D$300,SMALL(IF(RDV!$E$7:$E$300=O$30,ROW($7:$300)-6),ROW($A2))),"")} -> G2 GP | P32: {=IFERROR(INDEX(RDV!$C$7:$C$300& " "&RDV!$D$7:$D$300,SMALL(IF(RDV!$E$7:$E$300=P$30,ROW($7:$300)-6),ROW($A2))),"")} -> H2 GP | Q32: {=IFERROR(INDEX(RDV!$C$7:$C$300& " "&RDV!$D$7:$D$300,SMALL(IF(RDV!$E$7:$E$300=Q$30,ROW($7:$300)-6),ROW($A2))),"")} -> I2 Gyn | R32: {=IFERROR(INDEX(RDV!$C$7:$C$300& " "&RDV!$D$7:$D$300,SMALL(IF(RDV!$E$7:$E$300=R$30,ROW($7:$300)-6),ROW($A2))),"")} -> J2 Gyn | S32: {=IFERROR(INDEX(RDV!$C$7:$C$300& " "&RDV!$D$7:$D$300,SMALL(IF(RDV!$E$7:$E$300=S$30,ROW($7:$300)-6),ROW($A2))),"")} -> K2 GP | T32: {=IFERROR(INDEX(RDV!$C$7:$C$300& " "&RDV!$D$7:$D$300,SMALL(IF(RDV!$E$7:$E$300=T$30,ROW($7:$300)-6),ROW($A2))),"")} -> L2 GP | U32: {=IFERROR(INDEX(RDV!$C$7:$C$300& " "&RDV!$D$7:$D$300,SMALL(IF(RDV!$E$7:$E$300=U$30,ROW($7:$300)-6),ROW($A2))),"")} -> M2 GP
O33: {=IFERROR(INDEX(RDV!$C$7:$C$300& " "&RDV!$D$7:$D$300,SMALL(IF(RDV!$E$7:$E$300=O$30,ROW($7:$300)-6),ROW($A3))),"")} -> G3 GP | P33: {=IFERROR(INDEX(RDV!$C$7:$C$300& " "&RDV!$D$7:$D$300,SMALL(IF(RDV!$E$7:$E$300=P$30,ROW($7:$300)-6),ROW($A3))),"")} -> H3 GP | Q33: {=IFERROR(INDEX(RDV!$C$7:$C$300& " "&RDV!$D$7:$D$300,SMALL(IF(RDV!$E$7:$E$300=Q$30,ROW($7:$300)-6),ROW($A3))),"")} -> I3 Gyn | R33: {=IFERROR(INDEX(RDV!$C$7:$C$300& " "&RDV!$D$7:$D$300,SMALL(IF(RDV!$E$7:$E$300=R$30,ROW($7:$300)-6),ROW($A3))),"")} -> J3 Gyn | S33: {=IFERROR(INDEX(RDV!$C$7:$C$300& " "&RDV!$D$7:$D$300,SMALL(IF(RDV!$E$7:$E$300=S$30,ROW($7:$300)-6),ROW($A3))),"")} -> K3 GP | T33: {=IFERROR(INDEX(RDV!$C$7:$C$300& " "&RDV!$D$7:$D$300,SMALL(IF(RDV!$E$7:$E$300=T$30,ROW($7:$300)-6),ROW($A3))),"")} -> L3 GP | U33: {=IFERROR(INDEX(RDV!$C$7:$C$300& " "&RDV!$D$7:$D$300,SMALL(IF(RDV!$E$7:$E$300=U$30,ROW($7:$300)-6),ROW($A3))),"")} -> M3 GP
O34: {=IFERROR(INDEX(RDV!$C$7:$C$300& " "&RDV!$D$7:$D$300,SMALL(IF(RDV!$E$7:$E$300=O$30,ROW($7:$300)-6),ROW($A4))),"")} -> G4 GP | P34: {=IFERROR(INDEX(RDV!$C$7:$C$300& " "&RDV!$D$7:$D$300,SMALL(IF(RDV!$E$7:$E$300=P$30,ROW($7:$300)-6),ROW($A4))),"")} -> H4 GP | Q34: {=IFERROR(INDEX(RDV!$C$7:$C$300& " "&RDV!$D$7:$D$300,SMALL(IF(RDV!$E$7:$E$300=Q$30,ROW($7:$300)-6),ROW($A4))),"")} -> I4 Gyn | R34: {=IFERROR(INDEX(RDV!$C$7:$C$300& " "&RDV!$D$7:$D$300,SMALL(IF(RDV!$E$7:$E$300=R$30,ROW($7:$300)-6),ROW($A4))),"")} -> J4 Gyn | S34: {=IFERROR(INDEX(RDV!$C$7:$C$300& " "&RDV!$D$7:$D$300,SMALL(IF(RDV!$E$7:$E$300=S$30,ROW($7:$300)-6),ROW($A4))),"")} -> K4 GP | T34: {=IFERROR(INDEX(RDV!$C$7:$C$300& " "&RDV!$D$7:$D$300,SMALL(IF(RDV!$E$7:$E$300=T$30,ROW($7:$300)-6),ROW($A4))),"")} -> L4 GP | U34: {=IFERROR(INDEX(RDV!$C$7:$C$300& " "&RDV!$D$7:$D$300,SMALL(IF(RDV!$E$7:$E$300=U$30,ROW($7:$300)-6),ROW($A4))),"")} -> M4 GP
O35: {=IFERROR(INDEX(RDV!$C$7:$C$300& " "&RDV!$D$7:$D$300,SMALL(IF(RDV!$E$7:$E$300=O$30,ROW($7:$300)-6),ROW($A5))),"")} -> G5 GP | P35: {=IFERROR(INDEX(RDV!$C$7:$C$300& " "&RDV!$D$7:$D$300,SMALL(IF(RDV!$E$7:$E$300=P$30,ROW($7:$300)-6),ROW($A5))),"")} -> H5 GP | Q35: {=IFERROR(INDEX(RDV!$C$7:$C$300& " "&RDV!$D$7:$D$300,SMALL(IF(RDV!$E$7:$E$300=Q$30,ROW($7:$300)-6),ROW($A5))),"")} -> I5 Gyn | R35: {=IFERROR(INDEX(RDV!$C$7:$C$300& " "&RDV!$D$7:$D$300,SMALL(IF(RDV!$E$7:$E$300=R$30,ROW($7:$300)-6),ROW($A5))),"")} -> J5 Gyn | S35: {=IFERROR(INDEX(RDV!$C$7:$C$300& " "&RDV!$D$7:$D$300,SMALL(IF(RDV!$E$7:$E$300=S$30,ROW($7:$300)-6),ROW($A5))),"")} -> K5 GP | T35: {=IFERROR(INDEX(RDV!$C$7:$C$300& " "&RDV!$D$7:$D$300,SMALL(IF(RDV!$E$7:$E$300=T$30,ROW($7:$300)-6),ROW($A5))),"")} -> L5 GP | U35: {=IFERROR(INDEX(RDV!$C$7:$C$300& " "&RDV!$D$7:$D$300,SMALL(IF(RDV!$E$7:$E$300=U$30,ROW($7:$300)-6),ROW($A5))),"")} -> KKK GP
O36: {=IFERROR(INDEX(RDV!$C$7:$C$300& " "&RDV!$D$7:$D$300,SMALL(IF(RDV!$E$7:$E$300=O$30,ROW($7:$300)-6),ROW($A6))),"")} -> G6 GP | P36: {=IFERROR(INDEX(RDV!$C$7:$C$300& " "&RDV!$D$7:$D$300,SMALL(IF(RDV!$E$7:$E$300=P$30,ROW($7:$300)-6),ROW($A6))),"")} -> H6 GP | Q36: {=IFERROR(INDEX(RDV!$C$7:$C$300& " "&RDV!$D$7:$D$300,SMALL(IF(RDV!$E$7:$E$300=Q$30,ROW($7:$300)-6),ROW($A6))),"")} -> MMM Gyn | R36: {=IFERROR(INDEX(RDV!$C$7:$C$300& " "&RDV!$D$7:$D$300,SMALL(IF(RDV!$E$7:$E$300=R$30,ROW($7:$300)-6),ROW($A6))),"")} -> J6 Gyn | S36: {=IFERROR(INDEX(RDV!$C$7:$C$300& " "&RDV!$D$7:$D$300,SMALL(IF(RDV!$E$7:$E$300=S$30,ROW($7:$300)-6),ROW($A6))),"")} -> K6 Gyn | T36: {=IFERROR(INDEX(RDV!$C$7:$C$300& " "&RDV!$D$7:$D$300,SMALL(IF(RDV!$E$7:$E$300=T$30,ROW($7:$300)-6),ROW($A6))),"")} -> L6 GP | U36: {=IFERROR(INDEX(RDV!$C$7:$C$300& " "&RDV!$D$7:$D$300,SMALL(IF(RDV!$E$7:$E$300=U$30,ROW($7:$300)-6),ROW($A6))),"")} -> M6 GP
O37: {=IFERROR(INDEX(RDV!$C$7:$C$300& " "&RDV!$D$7:$D$300,SMALL(IF(RDV!$E$7:$E$300=O$30,ROW($7:$300)-6),ROW($A7))),"")} -> G7 GP | P37: {=IFERROR(INDEX(RDV!$C$7:$C$300& " "&RDV!$D$7:$D$300,SMALL(IF(RDV!$E$7:$E$300=P$30,ROW($7:$300)-6),ROW($A7))),"")} -> H7 GP | Q37: {=IFERROR(INDEX(RDV!$C$7:$C$300& " "&RDV!$D$7:$D$300,SMALL(IF(RDV!$E$7:$E$300=Q$30,ROW($7:$300)-6),ROW($A7))),"")} -> I7 Gyn | R37: {=IFERROR(INDEX(RDV!$C$7:$C$300& " "&RDV!$D$7:$D$300,SMALL(IF(RDV!$E$7:$E$300=R$30,ROW($7:$300)-6),ROW($A7))),"")} -> J7 Gyn | S37: {=IFERROR(INDEX(RDV!$C$7:$C$300& " "&RDV!$D$7:$D$300,SMALL(IF(RDV!$E$7:$E$300=S$30,ROW($7:$300)-6),ROW($A7))),"")} -> K7 GP | T37: {=IFERROR(INDEX(RDV!$C$7:$C$300& " "&RDV!$D$7:$D$300,SMALL(IF(RDV!$E$7:$E$300=T$30,ROW($7:$300)-6),ROW($A7))),"")} -> LLL GP | U37: {=IFERROR(INDEX(RDV!$C$7:$C$300& " "&RDV!$D$7:$D$300,SMALL(IF(RDV!$E$7:$E$300=U$30,ROW($7:$300)-6),ROW($A7))),"")} -> M7 Gyn
O38: {=IFERROR(INDEX(RDV!$C$7:$C$300& " "&RDV!$D$7:$D$300,SMALL(IF(RDV!$E$7:$E$300=O$30,ROW($7:$300)-6),ROW($A8))),"")} -> G8 GP | P38: {=IFERROR(INDEX(RDV!$C$7:$C$300& " "&RDV!$D$7:$D$300,SMALL(IF(RDV!$E$7:$E$300=P$30,ROW($7:$300)-6),ROW($A8))),"")} -> H8 Gyn | Q38: {=IFERROR(INDEX(RDV!$C$7:$C$300& " "&RDV!$D$7:$D$300,SMALL(IF(RDV!$E$7:$E$300=Q$30,ROW($7:$300)-6),ROW($A8))),"")} -> I8 Gyn | R38: {=IFERROR(INDEX(RDV!$C$7:$C$300& " "&RDV!$D$7:$D$300,SMALL(IF(RDV!$E$7:$E$300=R$30,ROW($7:$300)-6),ROW($A8))),"")} -> J8 Gyn | S38: {=IFERROR(INDEX(RDV!$C$7:$C$300& " "&RDV!$D$7:$D$300,SMALL(IF(RDV!$E$7:$E$300=S$30,ROW($7:$300)-6),ROW($A8))),"")} -> K8 GP | T38: {=IFERROR(INDEX(RDV!$C$7:$C$300& " "&RDV!$D$7:$D$300,SMALL(IF(RDV!$E$7:$E$300=T$30,ROW($7:$300)-6),ROW($A8))),"")} -> L8 GP | U38: {=IFERROR(INDEX(RDV!$C$7:$C$300& " "&RDV!$D$7:$D$300,SMALL(IF(RDV!$E$7:$E$300=U$30,ROW($7:$300)-6),ROW($A8))),"")} -> M8 GP
O39: {=IFERROR(INDEX(RDV!$C$7:$C$300& " "&RDV!$D$7:$D$300,SMALL(IF(RDV!$E$7:$E$300=O$30,ROW($7:$300)-6),ROW($A9))),"")} -> G9 GP | P39: {=IFERROR(INDEX(RDV!$C$7:$C$300& " "&RDV!$D$7:$D$300,SMALL(IF(RDV!$E$7:$E$300=P$30,ROW($7:$300)-6),ROW($A9))),"")} -> H9 Gyn | Q39: {=IFERROR(INDEX(RDV!$C$7:$C$300& " "&RDV!$D$7:$D$300,SMALL(IF(RDV!$E$7:$E$300=Q$30,ROW($7:$300)-6),ROW($A9))),"")} -> I9 Gyn | R39: {=IFERROR(INDEX(RDV!$C$7:$C$300& " "&RDV!$D$7:$D$300,SMALL(IF(RDV!$E$7:$E$300=R$30,ROW($7:$300)-6),ROW($A9))),"")} -> J9 GP | S39: {=IFERROR(INDEX(RDV!$C$7:$C$300& " "&RDV!$D$7:$D$300,SMALL(IF(RDV!$E$7:$E$300=S$30,ROW($7:$300)-6),ROW($A9))),"")} -> K9 GP | T39: {=IFERROR(INDEX(RDV!$C$7:$C$300& " "&RDV!$D$7:$D$300,SMALL(IF(RDV!$E$7:$E$300=T$30,ROW($7:$300)-6),ROW($A9))),"")} -> L9 GP | U39: {=IFERROR(INDEX(RDV!$C$7:$C$300& " "&RDV!$D$7:$D$300,SMALL(IF(RDV!$E$7:$E$300=U$30,ROW($7:$300)-6),ROW($A9))),"")} -> M9 Gyn
O40: {=IFERROR(INDEX(RDV!$C$7:$C$300& " "&RDV!$D$7:$D$300,SMALL(IF(RDV!$E$7:$E$300=O$30,ROW($7:$300)-6),ROW($A10))),"")} -> G10 GP | P40: {=IFERROR(INDEX(RDV!$C$7:$C$300& " "&RDV!$D$7:$D$300,SMALL(IF(RDV!$E$7:$E$300=P$30,ROW($7:$300)-6),ROW($A10))),"")} -> H10 Gyn | Q40: {=IFERROR(INDEX(RDV!$C$7:$C$300& " "&RDV!$D$7:$D$300,SMALL(IF(RDV!$E$7:$E$300=Q$30,ROW($7:$300)-6),ROW($A10))),"")} -> I10 Gyn | R40: {=IFERROR(INDEX(RDV!$C$7:$C$300& " "&RDV!$D$7:$D$300,SMALL(IF(RDV!$E$7:$E$300=R$30,ROW($7:$300)-6),ROW($A10))),"")} -> J10 GP | S40: {=IFERROR(INDEX(RDV!$C$7:$C$300& " "&RDV!$D$7:$D$300,SMALL(IF(RDV!$E$7:$E$300=S$30,ROW($7:$300)-6),ROW($A10))),"")} -> K10 Gyn | T40: {=IFERROR(INDEX(RDV!$C$7:$C$300& " "&RDV!$D$7:$D$300,SMALL(IF(RDV!$E$7:$E$300=T$30,ROW($7:$300)-6),ROW($A10))),"")} -> L10 GP | U40: {=IFERROR(INDEX(RDV!$C$7:$C$300& " "&RDV!$D$7:$D$300,SMALL(IF(RDV!$E$7:$E$300=U$30,ROW($7:$300)-6),ROW($A10))),"")} -> M10 GP
O41: {=IFERROR(INDEX(RDV!$C$7:$C$300& " "&RDV!$D$7:$D$300,SMALL(IF(RDV!$E$7:$E$300=O$30,ROW($7:$300)-6),ROW($A11))),"")} -> G11 GP | P41: {=IFERROR(INDEX(RDV!$C$7:$C$300& " "&RDV!$D$7:$D$300,SMALL(IF(RDV!$E$7:$E$300=P$30,ROW($7:$300)-6),ROW($A11))),"")} -> H11 GP | Q41: {=IFERROR(INDEX(RDV!$C$7:$C$300& " "&RDV!$D$7:$D$300,SMALL(IF(RDV!$E$7:$E$300=Q$30,ROW($7:$300)-6),ROW($A11))),"")} -> I11 Gyn | R41: {=IFERROR(INDEX(RDV!$C$7:$C$300& " "&RDV!$D$7:$D$300,SMALL(IF(RDV!$E$7:$E$300=R$30,ROW($7:$300)-6),ROW($A11))),"")} -> J11 GP | S41: {=IFERROR(INDEX(RDV!$C$7:$C$300& " "&RDV!$D$7:$D$300,SMALL(IF(RDV!$E$7:$E$300=S$30,ROW($7:$300)-6),ROW($A11))),"")} -> K11 Gyn | T41: {=IFERROR(INDEX(RDV!$C$7:$C$300& " "&RDV!$D$7:$D$300,SMALL(IF(RDV!$E$7:$E$300=T$30,ROW($7:$300)-6),ROW($A11))),"")} | U41: {=IFERROR(INDEX(RDV!$C$7:$C$300& " "&RDV!$D$7:$D$300,SMALL(IF(RDV!$E$7:$E$300=U$30,ROW($7:$300)-6),ROW($A11))),"")}
O42: {=IFERROR(INDEX(RDV!$C$7:$C$300& " "&RDV!$D$7:$D$300,SMALL(IF(RDV!$E$7:$E$300=O$30,ROW($7:$300)-6),ROW($A12))),"")} -> G12 GP | P42: {=IFERROR(INDEX(RDV!$C$7:$C$300& " "&RDV!$D$7:$D$300,SMALL(IF(RDV!$E$7:$E$300=P$30,ROW($7:$300)-6),ROW($A12))),"")} -> H12 GP | Q42: {=IFERROR(INDEX(RDV!$C$7:$C$300& " "&RDV!$D$7:$D$300,SMALL(IF(RDV!$E$7:$E$300=Q$30,ROW($7:$300)-6),ROW($A12))),"")} | R42: {=IFERROR(INDEX(RDV!$C$7:$C$300& " "&RDV!$D$7:$D$300,SMALL(IF(RDV!$E$7:$E$300=R$30,ROW($7:$300)-6),ROW($A12))),"")} -> J12 GP | S42: {=IFERROR(INDEX(RDV!$C$7:$C$300& " "&RDV!$D$7:$D$300,SMALL(IF(RDV!$E$7:$E$300=S$30,ROW($7:$300)-6),ROW($A12))),"")} | T42: {=IFERROR(INDEX(RDV!$C$7:$C$300& " "&RDV!$D$7:$D$300,SMALL(IF(RDV!$E$7:$E$300=T$30,ROW($7:$300)-6),ROW($A12))),"")} | U42: {=IFERROR(INDEX(RDV!$C$7:$C$300& " "&RDV!$D$7:$D$300,SMALL(IF(RDV!$E$7:$E$300=U$30,ROW($7:$300)-6),ROW($A12))),"")}
... O55: {=IFERROR(INDEX(RDV!$C$7:$C$300& " "&RDV!$D$7:$D$300,SMALL(IF(RDV!$E$7:$E$300=O$30,ROW($7:$300)-6),ROW($A25))),"")} | P55: {=IFERROR(INDEX(RDV!$C$7:$C$300& " "&RDV!$D$7:$D$300,SMALL(IF(RDV!$E$7:$E$300=P$30,ROW($7:$300)-6),ROW($A25))),"")} | Q55: {=IFERROR(INDEX(RDV!$C$7:$C$300& " "&RDV!$D$7:$D$300,SMALL(IF(RDV!$E$7:$E$300=Q$30,ROW($7:$300)-6),ROW($A25))),"")} | R55: {=IFERROR(INDEX(RDV!$C$7:$C$300& " "&RDV!$D$7:$D$300,SMALL(IF(RDV!$E$7:$E$300=R$30,ROW($7:$300)-6),ROW($A25))),"")} | S55: {=IFERROR(INDEX(RDV!$C$7:$C$300& " "&RDV!$D$7:$D$300,SMALL(IF(RDV!$E$7:$E$300=S$30,ROW($7:$300)-6),ROW($A25))),"")} | T55: {=IFERROR(INDEX(RDV!$C$7:$C$300& " "&RDV!$D$7:$D$300,SMALL(IF(RDV!$E$7:$E$300=T$30,ROW($7:$300)-6),ROW($A25))),"")} | U55: {=IFERROR(INDEX(RDV!$C$7:$C$300& " "&RDV!$D$7:$D$300,SMALL(IF(RDV!$E$7:$E$300=U$30,ROW($7:$300)-6),ROW($A25))),"")}
O56: 42352 | P56: 42353 | Q56: 42354 | R56: 42355 | S56: 42356 | T56: 42357 | U56: 42358
O57: {=IFERROR(INDEX(RDV!$C$7:$C$300& " "&RDV!$D$7:$D$300,SMALL(IF(RDV!$E$7:$E$300=O$56,ROW($7:$300)-6),ROW($A1))),"")} -> N1 GP | P57: {=IFERROR(INDEX(RDV!$C$7:$C$300& " "&RDV!$D$7:$D$300,SMALL(IF(RDV!$E$7:$E$300=P$56,ROW($7:$300)-6),ROW($A1))),"")} -> O1 Gyn | Q57: {=IFERROR(INDEX(RDV!$C$7:$C$300& " "&RDV!$D$7:$D$300,SMALL(IF(RDV!$E$7:$E$300=Q$56,ROW($7:$300)-6),ROW($A1))),"")} -> P1 GP | R57: {=IFERROR(INDEX(RDV!$C$7:$C$300& " "&RDV!$D$7:$D$300,SMALL(IF(RDV!$E$7:$E$300=R$56,ROW($7:$300)-6),ROW($A1))),"")} -> Q1 GP | S57: {=IFERROR(INDEX(RDV!$C$7:$C$300& " "&RDV!$D$7:$D$300,SMALL(IF(RDV!$E$7:$E$300=S$56,ROW($7:$300)-6),ROW($A1))),"")} -> R1 GP | T57: {=IFERROR(INDEX(RDV!$C$7:$C$300& " "&RDV!$D$7:$D$300,SMALL(IF(RDV!$E$7:$E$300=T$56,ROW($7:$300)-6),ROW($A1))),"")} -> S1 GP | U57: {=IFERROR(INDEX(RDV!$C$7:$C$300& " "&RDV!$D$7:$D$300,SMALL(IF(RDV!$E$7:$E$300=U$56,ROW($7:$300)-6),ROW($A1))),"")} -> T1 GP
O58: {=IFERROR(INDEX(RDV!$C$7:$C$300& " "&RDV!$D$7:$D$300,SMALL(IF(RDV!$E$7:$E$300=O$56,ROW($7:$300)-6),ROW($A2))),"")} -> N2 Gyn | P58: {=IFERROR(INDEX(RDV!$C$7:$C$300& " "&RDV!$D$7:$D$300,SMALL(IF(RDV!$E$7:$E$300=P$56,ROW($7:$300)-6),ROW($A2))),"")} -> O2 Gyn | Q58: {=IFERROR(INDEX(RDV!$C$7:$C$300& " "&RDV!$D$7:$D$300,SMALL(IF(RDV!$E$7:$E$300=Q$56,ROW($7:$300)-6),ROW($A2))),"")} -> P2 GP | R58: {=IFERROR(INDEX(RDV!$C$7:$C$300& " "&RDV!$D$7:$D$300,SMALL(IF(RDV!$E$7:$E$300=R$56,ROW($7:$300)-6),ROW($A2))),"")} -> Q2 GP | S58: {=IFERROR(INDEX(RDV!$C$7:$C$300& " "&RDV!$D$7:$D$300,SMALL(IF(RDV!$E$7:$E$300=S$56,ROW($7:$300)-6),ROW($A2))),"")} -> R2 GP | T58: {=IFERROR(INDEX(RDV!$C$7:$C$300& " "&RDV!$D$7:$D$300,SMALL(IF(RDV!$E$7:$E$300=T$56,ROW($7:$300)-6),ROW($A2))),"")} -> S2 GP | U58: {=IFERROR(INDEX(RDV!$C$7:$C$300& " "&RDV!$D$7:$D$300,SMALL(IF(RDV!$E$7:$E$300=U$56,ROW($7:$300)-6),ROW($A2))),"")} -> T2 GP
O59: {=IFERROR(INDEX(RDV!$C$7:$C$300& " "&RDV!$D$7:$D$300,SMALL(IF(RDV!$E$7:$E$300=O$56,ROW($7:$300)-6),ROW($A3))),"")} -> N3 Gyn | P59: {=IFERROR(INDEX(RDV!$C$7:$C$300& " "&RDV!$D$7:$D$300,SMALL(IF(RDV!$E$7:$E$300=P$56,ROW($7:$300)-6),ROW($A3))),"")} -> O3 Gyn | Q59: {=IFERROR(INDEX(RDV!$C$7:$C$300& " "&RDV!$D$7:$D$300,SMALL(IF(RDV!$E$7:$E$300=Q$56,ROW($7:$300)-6),ROW($A3))),"")} -> UUU GP | R59: {=IFERROR(INDEX(RDV!$C$7:$C$300& " "&RDV!$D$7:$D$300,SMALL(IF(RDV!$E$7:$E$300=R$56,ROW($7:$300)-6),ROW($A3))),"")} -> Q3 GP | S59: {=IFERROR(INDEX(RDV!$C$7:$C$300& " "&RDV!$D$7:$D$300,SMALL(IF(RDV!$E$7:$E$300=S$56,ROW($7:$300)-6),ROW($A3))),"")} -> R3 Gyn | T59: {=IFERROR(INDEX(RDV!$C$7:$C$300& " "&RDV!$D$7:$D$300,SMALL(IF(RDV!$E$7:$E$300=T$56,ROW($7:$300)-6),ROW($A3))),"")} -> S3 GP | U59: {=IFERROR(INDEX(RDV!$C$7:$C$300& " "&RDV!$D$7:$D$300,SMALL(IF(RDV!$E$7:$E$300=U$56,ROW($7:$300)-6),ROW($A3))),"")} -> T3 GP
O60: {=IFERROR(INDEX(RDV!$C$7:$C$300& " "&RDV!$D$7:$D$300,SMALL(IF(RDV!$E$7:$E$300=O$56,ROW($7:$300)-6),ROW($A4))),"")} -> N4 Gyn | P60: {=IFERROR(INDEX(RDV!$C$7:$C$300& " "&RDV!$D$7:$D$300,SMALL(IF(RDV!$E$7:$E$300=P$56,ROW($7:$300)-6),ROW($A4))),"")} -> O4 Gyn | Q60: {=IFERROR(INDEX(RDV!$C$7:$C$300& " "&RDV!$D$7:$D$300,SMALL(IF(RDV!$E$7:$E$300=Q$56,ROW($7:$300)-6),ROW($A4))),"")} -> MMM Gyn | R60: {=IFERROR(INDEX(RDV!$C$7:$C$300& " "&RDV!$D$7:$D$300,SMALL(IF(RDV!$E$7:$E$300=R$56,ROW($7:$300)-6),ROW($A4))),"")} -> Q4 GP | S60: {=IFERROR(INDEX(RDV!$C$7:$C$300& " "&RDV!$D$7:$D$300,SMALL(IF(RDV!$E$7:$E$300=S$56,ROW($7:$300)-6),ROW($A4))),"")} -> R4 GP | T60: {=IFERROR(INDEX(RDV!$C$7:$C$300& " "&RDV!$D$7:$D$300,SMALL(IF(RDV!$E$7:$E$300=T$56,ROW($7:$300)-6),ROW($A4))),"")} -> S4 GP | U60: {=IFERROR(INDEX(RDV!$C$7:$C$300& " "&RDV!$D$7:$D$300,SMALL(IF(RDV!$E$7:$E$300=U$56,ROW($7:$300)-6),ROW($A4))),"")} -> T4 GP
O61: {=IFERROR(INDEX(RDV!$C$7:$C$300& " "&RDV!$D$7:$D$300,SMALL(IF(RDV!$E$7:$E$300=O$56,ROW($7:$300)-6),ROW($A5))),"")} -> N5 Gyn | P61: {=IFERROR(INDEX(RDV!$C$7:$C$300& " "&RDV!$D$7:$D$300,SMALL(IF(RDV!$E$7:$E$300=P$56,ROW($7:$300)-6),ROW($A5))),"")} -> O5 Gyn | Q61: {=IFERROR(INDEX(RDV!$C$7:$C$300& " "&RDV!$D$7:$D$300,SMALL(IF(RDV!$E$7:$E$300=Q$56,ROW($7:$300)-6),ROW($A5))),"")} -> P5 GP | R61: {=IFERROR(INDEX(RDV!$C$7:$C$300& " "&RDV!$D$7:$D$300,SMALL(IF(RDV!$E$7:$E$300=R$56,ROW($7:$300)-6),ROW($A5))),"")} -> Q5 GP | S61: {=IFERROR(INDEX(RDV!$C$7:$C$300& " "&RDV!$D$7:$D$300,SMALL(IF(RDV!$E$7:$E$300=S$56,ROW($7:$300)-6),ROW($A5))),"")} -> R5 GP | T61: {=IFERROR(INDEX(RDV!$C$7:$C$300& " "&RDV!$D$7:$D$300,SMALL(IF(RDV!$E$7:$E$300=T$56,ROW($7:$300)-6),ROW($A5))),"")} -> S5 GP | U61: {=IFERROR(INDEX(RDV!$C$7:$C$300& " "&RDV!$D$7:$D$300,SMALL(IF(RDV!$E$7:$E$300=U$56,ROW($7:$300)-6),ROW($A5))),"")} -> T5 GP
O62: {=IFERROR(INDEX(RDV!$C$7:$C$300& " "&RDV!$D$7:$D$300,SMALL(IF(RDV!$E$7:$E$300=O$56,ROW($7:$300)-6),ROW($A6))),"")} -> N6 Gyn | P62: {=IFERROR(INDEX(RDV!$C$7:$C$300& " "&RDV!$D$7:$D$300,SMALL(IF(RDV!$E$7:$E$300=P$56,ROW($7:$300)-6),ROW($A6))),"")} -> O6 Gyn | Q62: {=IFERROR(INDEX(RDV!$C$7:$C$300& " "&RDV!$D$7:$D$300,SMALL(IF(RDV!$E$7:$E$300=Q$56,ROW($7:$300)-6),ROW($A6))),"")} -> P6 GP | R62: {=IFERROR(INDEX(RDV!$C$7:$C$300& " "&RDV!$D$7:$D$300,SMALL(IF(RDV!$E$7:$E$300=R$56,ROW($7:$300)-6),ROW($A6))),"")} -> Q6 GP | S62: {=IFERROR(INDEX(RDV!$C$7:$C$300& " "&RDV!$D$7:$D$300,SMALL(IF(RDV!$E$7:$E$300=S$56,ROW($7:$300)-6),ROW($A6))),"")} -> R6 GP | T62: {=IFERROR(INDEX(RDV!$C$7:$C$300& " "&RDV!$D$7:$D$300,SMALL(IF(RDV!$E$7:$E$300=T$56,ROW($7:$300)-6),ROW($A6))),"")} -> S6 GP | U62: {=IFERROR(INDEX(RDV!$C$7:$C$300& " "&RDV!$D$7:$D$300,SMALL(IF(RDV!$E$7:$E$300=U$56,ROW($7:$300)-6),ROW($A6))),"")} -> T6 GP
O63: {=IFERROR(INDEX(RDV!$C$7:$C$300& " "&RDV!$D$7:$D$300,SMALL(IF(RDV!$E$7:$E$300=O$56,ROW($7:$300)-6),ROW($A7))),"")} -> N7 Gyn | P63: {=IFERROR(INDEX(RDV!$C$7:$C$300& " "&RDV!$D$7:$D$300,SMALL(IF(RDV!$E$7:$E$300=P$56,ROW($7:$300)-6),ROW($A7))),"")} -> O7 Gyn | Q63: {=IFERROR(INDEX(RDV!$C$7:$C$300& " "&RDV!$D$7:$D$300,SMALL(IF(RDV!$E$7:$E$300=Q$56,ROW($7:$300)-6),ROW($A7))),"")} -> P7 GP | R63: {=IFERROR(INDEX(RDV!$C$7:$C$300& " "&RDV!$D$7:$D$300,SMALL(IF(RDV!$E$7:$E$300=R$56,ROW($7:$300)-6),ROW($A7))),"")} -> Q7 GP | S63: {=IFERROR(INDEX(RDV!$C$7:$C$300& " "&RDV!$D$7:$D$300,SMALL(IF(RDV!$E$7:$E$300=S$56,ROW($7:$300)-6),ROW($A7))),"")} -> R7 GP | T63: {=IFERROR(INDEX(RDV!$C$7:$C$300& " "&RDV!$D$7:$D$300,SMALL(IF(RDV!$E$7:$E$300=T$56,ROW($7:$300)-6),ROW($A7))),"")} -> S7 GP | U63: {=IFERROR(INDEX(RDV!$C$7:$C$300& " "&RDV!$D$7:$D$300,SMALL(IF(RDV!$E$7:$E$300=U$56,ROW($7:$300)-6),ROW($A7))),"")} -> T7 GP
O64: {=IFERROR(INDEX(RDV!$C$7:$C$300& " "&RDV!$D$7:$D$300,SMALL(IF(RDV!$E$7:$E$300=O$56,ROW($7:$300)-6),ROW($A8))),"")} -> N8 Gyn | P64: {=IFERROR(INDEX(RDV!$C$7:$C$300& " "&RDV!$D$7:$D$300,SMALL(IF(RDV!$E$7:$E$300=P$56,ROW($7:$300)-6),ROW($A8))),"")} -> O8 Gyn | Q64: {=IFERROR(INDEX(RDV!$C$7:$C$300& " "&RDV!$D$7:$D$300,SMALL(IF(RDV!$E$7:$E$300=Q$56,ROW($7:$300)-6),ROW($A8))),"")} -> P8 GP | R64: {=IFERROR(INDEX(RDV!$C$7:$C$300& " "&RDV!$D$7:$D$300,SMALL(IF(RDV!$E$7:$E$300=R$56,ROW($7:$300)-6),ROW($A8))),"")} -> Q8 GP | S64: {=IFERROR(INDEX(RDV!$C$7:$C$300& " "&RDV!$D$7:$D$300,SMALL(IF(RDV!$E$7:$E$300=S$56,ROW($7:$300)-6),ROW($A8))),"")} -> R8 GP | T64: {=IFERROR(INDEX(RDV!$C$7:$C$300& " "&RDV!$D$7:$D$300,SMALL(IF(RDV!$E$7:$E$300=T$56,ROW($7:$300)-6),ROW($A8))),"")} -> S8 GP | U64: {=IFERROR(INDEX(RDV!$C$7:$C$300& " "&RDV!$D$7:$D$300,SMALL(IF(RDV!$E$7:$E$300=U$56,ROW($7:$300)-6),ROW($A8))),"")} -> T8 GP
O65: {=IFERROR(INDEX(RDV!$C$7:$C$300& " "&RDV!$D$7:$D$300,SMALL(IF(RDV!$E$7:$E$300=O$56,ROW($7:$300)-6),ROW($A9))),"")} -> N9 Gyn | P65: {=IFERROR(INDEX(RDV!$C$7:$C$300& " "&RDV!$D$7:$D$300,SMALL(IF(RDV!$E$7:$E$300=P$56,ROW($7:$300)-6),ROW($A9))),"")} -> O9 Gyn | Q65: {=IFERROR(INDEX(RDV!$C$7:$C$300& " "&RDV!$D$7:$D$300,SMALL(IF(RDV!$E$7:$E$300=Q$56,ROW($7:$300)-6),ROW($A9))),"")} -> P9 GP | R65: {=IFERROR(INDEX(RDV!$C$7:$C$300& " "&RDV!$D$7:$D$300,SMALL(IF(RDV!$E$7:$E$300=R$56,ROW($7:$300)-6),ROW($A9))),"")} -> Q9 GP | S65: {=IFERROR(INDEX(RDV!$C$7:$C$300& " "&RDV!$D$7:$D$300,SMALL(IF(RDV!$E$7:$E$300=S$56,ROW($7:$300)-6),ROW($A9))),"")} -> R9 GP | T65: {=IFERROR(INDEX(RDV!$C$7:$C$300& " "&RDV!$D$7:$D$300,SMALL(IF(RDV!$E$7:$E$300=T$56,ROW($7:$300)-6),ROW($A9))),"")} -> S9 GP | U65: {=IFERROR(INDEX(RDV!$C$7:$C$300& " "&RDV!$D$7:$D$300,SMALL(IF(RDV!$E$7:$E$300=U$56,ROW($7:$300)-6),ROW($A9))),"")} -> T9 Gyn
O66: {=IFERROR(INDEX(RDV!$C$7:$C$300& " "&RDV!$D$7:$D$300,SMALL(IF(RDV!$E$7:$E$300=O$56,ROW($7:$300)-6),ROW($A10))),"")} -> N10 Gyn | P66: {=IFERROR(INDEX(RDV!$C$7:$C$300& " "&RDV!$D$7:$D$300,SMALL(IF(RDV!$E$7:$E$300=P$56,ROW($7:$300)-6),ROW($A10))),"")} -> O10 Gyn | Q66: {=IFERROR(INDEX(RDV!$C$7:$C$300& " "&RDV!$D$7:$D$300,SMALL(IF(RDV!$E$7:$E$300=Q$56,ROW($7:$300)-6),ROW($A10))),"")} -> P10 GP | R66: {=IFERROR(INDEX(RDV!$C$7:$C$300& " "&RDV!$D$7:$D$300,SMALL(IF(RDV!$E$7:$E$300=R$56,ROW($7:$300)-6),ROW($A10))),"")} -> Q10 GP | S66: {=IFERROR(INDEX(RDV!$C$7:$C$300& " "&RDV!$D$7:$D$300,SMALL(IF(RDV!$E$7:$E$300=S$56,ROW($7:$300)-6),ROW($A10))),"")} -> R10 GP | T66: {=IFERROR(INDEX(RDV!$C$7:$C$300& " "&RDV!$D$7:$D$300,SMALL(IF(RDV!$E$7:$E$300=T$56,ROW($7:$300)-6),ROW($A10))),"")} -> S10 GP | U66: {=IFERROR(INDEX(RDV!$C$7:$C$300& " "&RDV!$D$7:$D$300,SMALL(IF(RDV!$E$7:$E$300=U$56,ROW($7:$300)-6),ROW($A10))),"")}
O67: {=IFERROR(INDEX(RDV!$C$7:$C$300& " "&RDV!$D$7:$D$300,SMALL(IF(RDV!$E$7:$E$300=O$56,ROW($7:$300)-6),ROW($A11))),"")} | P67: {=IFERROR(INDEX(RDV!$C$7:$C$300& " "&RDV!$D$7:$D$300,SMALL(IF(RDV!$E$7:$E$300=P$56,ROW($7:$300)-6),ROW($A11))),"")} -> O11 Gyn | Q67: {=IFERROR(INDEX(RDV!$C$7:$C$300& " "&RDV!$D$7:$D$300,SMALL(IF(RDV!$E$7:$E$300=Q$56,ROW($7:$300)-6),ROW($A11))),"")} -> P11 GP | R67: {=IFERROR(INDEX(RDV!$C$7:$C$300& " "&RDV!$D$7:$D$300,SMALL(IF(RDV!$E$7:$E$300=R$56,ROW($7:$300)-6),ROW($A11))),"")} -> Q11 GP | S67: {=IFERROR(INDEX(RDV!$C$7:$C$300& " "&RDV!$D$7:$D$300,SMALL(IF(RDV!$E$7:$E$300=S$56,ROW($7:$300)-6),ROW($A11))),"")} -> R11 GP | T67: {=IFERROR(INDEX(RDV!$C$7:$C$300& " "&RDV!$D$7:$D$300,SMALL(IF(RDV!$E$7:$E$300=T$56,ROW($7:$300)-6),ROW($A11))),"")} -> S11 GP | U67: {=IFERROR(INDEX(RDV!$C$7:$C$300& " "&RDV!$D$7:$D$300,SMALL(IF(RDV!$E$7:$E$300=U$56,ROW($7:$300)-6),ROW($A11))),"")}
O68: {=IFERROR(INDEX(RDV!$C$7:$C$300& " "&RDV!$D$7:$D$300,SMALL(IF(RDV!$E$7:$E$300=O$56,ROW($7:$300)-6),ROW($A12))),"")} | P68: {=IFERROR(INDEX(RDV!$C$7:$C$300& " "&RDV!$D$7:$D$300,SMALL(IF(RDV!$E$7:$E$300=P$56,ROW($7:$300)-6),ROW($A12))),"")} -> O12 GP | Q68: {=IFERROR(INDEX(RDV!$C$7:$C$300& " "&RDV!$D$7:$D$300,SMALL(IF(RDV!$E$7:$E$300=Q$56,ROW($7:$300)-6),ROW($A12))),"")} -> P12 GP | R68: {=IFERROR(INDEX(RDV!$C$7:$C$300& " "&RDV!$D$7:$D$300,SMALL(IF(RDV!$E$7:$E$300=R$56,ROW($7:$300)-6),ROW($A12))),"")} -> Q12 GP | S68: {=IFERROR(INDEX(RDV!$C$7:$C$300& " "&RDV!$D$7:$D$300,SMALL(IF(RDV!$E$7:$E$300=S$56,ROW($7:$300)-6),ROW($A12))),"")} -> R12 GP | T68: {=IFERROR(INDEX(RDV!$C$7:$C$300& " "&RDV!$D$7:$D$300,SMALL(IF(RDV!$E$7:$E$300=T$56,ROW($7:$300)-6),ROW($A12))),"")} | U68: {=IFERROR(INDEX(RDV!$C$7:$C$300& " "&RDV!$D$7:$D$300,SMALL(IF(RDV!$E$7:$E$300=U$56,ROW($7:$300)-6),ROW($A12))),"")}
... O81: {=IFERROR(INDEX(RDV!$C$7:$C$300& " "&RDV!$D$7:$D$300,SMALL(IF(RDV!$E$7:$E$300=O$56,ROW($7:$300)-6),ROW($A25))),"")} | P81: {=IFERROR(INDEX(RDV!$C$7:$C$300& " "&RDV!$D$7:$D$300,SMALL(IF(RDV!$E$7:$E$300=P$56,ROW($7:$300)-6),ROW($A25))),"")} | Q81: {=IFERROR(INDEX(RDV!$C$7:$C$300& " "&RDV!$D$7:$D$300,SMALL(IF(RDV!$E$7:$E$300=Q$56,ROW($7:$300)-6),ROW($A25))),"")} | R81: {=IFERROR(INDEX(RDV!$C$7:$C$300& " "&RDV!$D$7:$D$300,SMALL(IF(RDV!$E$7:$E$300=R$56,ROW($7:$300)-6),ROW($A25))),"")} | S81: {=IFERROR(INDEX(RDV!$C$7:$C$300& " "&RDV!$D$7:$D$300,SMALL(IF(RDV!$E$7:$E$300=S$56,ROW($7:$300)-6),ROW($A25))),"")} | T81: {=IFERROR(INDEX(RDV!$C$7:$C$300& " "&RDV!$D$7:$D$300,SMALL(IF(RDV!$E$7:$E$300=T$56,ROW($7:$300)-6),ROW($A25))),"")} | U81: {=IFERROR(INDEX(RDV!$C$7:$C$300& " "&RDV!$D$7:$D$300,SMALL(IF(RDV!$E$7:$E$300=U$56,ROW($7:$300)-6),ROW($A25))),"")}
O82: 42359 | P82: 42360 | Q82: 42361 | R82: 42362 | S82: 42363 | T82: 42364 | U82: 42365
O83: {=IFERROR(INDEX(RDV!$C$7:$C$300& " "&RDV!$D$7:$D$300,SMALL(IF(RDV!$E$7:$E$300=O$82,ROW($7:$300)-6),ROW($A1))),"")} -> U1 GP | P83: {=IFERROR(INDEX(RDV!$C$7:$C$300& " "&RDV!$D$7:$D$300,SMALL(IF(RDV!$E$7:$E$300=P$82,ROW($7:$300)-6),ROW($A1))),"")} -> V1 Gyn | Q83: {=IFERROR(INDEX(RDV!$C$7:$C$300& " "&RDV!$D$7:$D$300,SMALL(IF(RDV!$E$7:$E$300=Q$82,ROW($7:$300)-6),ROW($A1))),"")} -> W1 GP | R83: {=IFERROR(INDEX(RDV!$C$7:$C$300& " "&RDV!$D$7:$D$300,SMALL(IF(RDV!$E$7:$E$300=R$82,ROW($7:$300)-6),ROW($A1))),"")} -> X1 GP | S83: {=IFERROR(INDEX(RDV!$C$7:$C$300& " "&RDV!$D$7:$D$300,SMALL(IF(RDV!$E$7:$E$300=S$82,ROW($7:$300)-6),ROW($A1))),"")} -> Y1 GP | T83: {=IFERROR(INDEX(RDV!$C$7:$C$300& " "&RDV!$D$7:$D$300,SMALL(IF(RDV!$E$7:$E$300=T$82,ROW($7:$300)-6),ROW($A1))),"")} -> Z1 GP | U83: {=IFERROR(INDEX(RDV!$C$7:$C$300& " "&RDV!$D$7:$D$300,SMALL(IF(RDV!$E$7:$E$300=U$82,ROW($7:$300)-6),ROW($A1))),"")} -> AAAA GP
O84: {=IFERROR(INDEX(RDV!$C$7:$C$300& " "&RDV!$D$7:$D$300,SMALL(IF(RDV!$E$7:$E$300=O$82,ROW($7:$300)-6),ROW($A2))),"")} -> U2 GP | P84: {=IFERROR(INDEX(RDV!$C$7:$C$300& " "&RDV!$D$7:$D$300,SMALL(IF(RDV!$E$7:$E$300=P$82,ROW($7:$300)-6),ROW($A2))),"")} -> V2 GP | Q84: {=IFERROR(INDEX(RDV!$C$7:$C$300& " "&RDV!$D$7:$D$300,SMALL(IF(RDV!$E$7:$E$300=Q$82,ROW($7:$300)-6),ROW($A2))),"")} -> W2 GP | R84: {=IFERROR(INDEX(RDV!$C$7:$C$300& " "&RDV!$D$7:$D$300,SMALL(IF(RDV!$E$7:$E$300=R$82,ROW($7:$300)-6),ROW($A2))),"")} -> X2 GP | S84: {=IFERROR(INDEX(RDV!$C$7:$C$300& " "&RDV!$D$7:$D$300,SMALL(IF(RDV!$E$7:$E$300=S$82,ROW($7:$300)-6),ROW($A2))),"")} -> Y2 GP | T84: {=IFERROR(INDEX(RDV!$C$7:$C$300& " "&RDV!$D$7:$D$300,SMALL(IF(RDV!$E$7:$E$300=T$82,ROW($7:$300)-6),ROW($A2))),"")} -> Z2 GP | U84: {=IFERROR(INDEX(RDV!$C$7:$C$300& " "&RDV!$D$7:$D$300,SMALL(IF(RDV!$E$7:$E$300=U$82,ROW($7:$300)-6),ROW($A2))),"")}
O85: {=IFERROR(INDEX(RDV!$C$7:$C$300& " "&RDV!$D$7:$D$300,SMALL(IF(RDV!$E$7:$E$300=O$82,ROW($7:$300)-6),ROW($A3))),"")} -> U3 GP | P85: {=IFERROR(INDEX(RDV!$C$7:$C$300& " "&RDV!$D$7:$D$300,SMALL(IF(RDV!$E$7:$E$300=P$82,ROW($7:$300)-6),ROW($A3))),"")} -> V3 GP | Q85: {=IFERROR(INDEX(RDV!$C$7:$C$300& " "&RDV!$D$7:$D$300,SMALL(IF(RDV!$E$7:$E$300=Q$82,ROW($7:$300)-6),ROW($A3))),"")} -> W3 GP | R85: {=IFERROR(INDEX(RDV!$C$7:$C$300& " "&RDV!$D$7:$D$300,SMALL(IF(RDV!$E$7:$E$300=R$82,ROW($7:$300)-6),ROW($A3))),"")} -> X3 GP | S85: {=IFERROR(INDEX(RDV!$C$7:$C$300& " "&RDV!$D$7:$D$300,SMALL(IF(RDV!$E$7:$E$300=S$82,ROW($7:$300)-6),ROW($A3))),"")} -> Y3 GP | T85: {=IFERROR(INDEX(RDV!$C$7:$C$300& " "&RDV!$D$7:$D$300,SMALL(IF(RDV!$E$7:$E$300=T$82,ROW($7:$300)-6),ROW($A3))),"")} -> Z3 GP | U85: {=IFERROR(INDEX(RDV!$C$7:$C$300& " "&RDV!$D$7:$D$300,SMALL(IF(RDV!$E$7:$E$300=U$82,ROW($7:$300)-6),ROW($A3))),"")}
O86: {=IFERROR(INDEX(RDV!$C$7:$C$300& " "&RDV!$D$7:$D$300,SMALL(IF(RDV!$E$7:$E$300=O$82,ROW($7:$300)-6),ROW($A4))),"")} -> U4 GP | P86: {=IFERROR(INDEX(RDV!$C$7:$C$300& " "&RDV!$D$7:$D$300,SMALL(IF(RDV!$E$7:$E$300=P$82,ROW($7:$300)-6),ROW($A4))),"")} -> V4 GP | Q86: {=IFERROR(INDEX(RDV!$C$7:$C$300& " "&RDV!$D$7:$D$300,SMALL(IF(RDV!$E$7:$E$300=Q$82,ROW($7:$300)-6),ROW($A4))),"")} -> W4 GP | R86: {=IFERROR(INDEX(RDV!$C$7:$C$300& " "&RDV!$D$7:$D$300,SMALL(IF(RDV!$E$7:$E$300=R$82,ROW($7:$300)-6),ROW($A4))),"")} -> X4 GP | S86: {=IFERROR(INDEX(RDV!$C$7:$C$300& " "&RDV!$D$7:$D$300,SMALL(IF(RDV!$E$7:$E$300=S$82,ROW($7:$300)-6),ROW($A4))),"")} -> Y4 GP | T86: {=IFERROR(INDEX(RDV!$C$7:$C$300& " "&RDV!$D$7:$D$300,SMALL(IF(RDV!$E$7:$E$300=T$82,ROW($7:$300)-6),ROW($A4))),"")} -> Z4 GP | U86: {=IFERROR(INDEX(RDV!$C$7:$C$300& " "&RDV!$D$7:$D$300,SMALL(IF(RDV!$E$7:$E$300=U$82,ROW($7:$300)-6),ROW($A4))),"")}
O87: {=IFERROR(INDEX(RDV!$C$7:$C$300& " "&RDV!$D$7:$D$300,SMALL(IF(RDV!$E$7:$E$300=O$82,ROW($7:$300)-6),ROW($A5))),"")} -> U5 GP | P87: {=IFERROR(INDEX(RDV!$C$7:$C$300& " "&RDV!$D$7:$D$300,SMALL(IF(RDV!$E$7:$E$300=P$82,ROW($7:$300)-6),ROW($A5))),"")} -> V5 GP | Q87: {=IFERROR(INDEX(RDV!$C$7:$C$300& " "&RDV!$D$7:$D$300,SMALL(IF(RDV!$E$7:$E$300=Q$82,ROW($7:$300)-6),ROW($A5))),"")} -> W5 GP | R87: {=IFERROR(INDEX(RDV!$C$7:$C$300& " "&RDV!$D$7:$D$300,SMALL(IF(RDV!$E$7:$E$300=R$82,ROW($7:$300)-6),ROW($A5))),"")} -> MMM GP | S87: {=IFERROR(INDEX(RDV!$C$7:$C$300& " "&RDV!$D$7:$D$300,SMALL(IF(RDV!$E$7:$E$300=S$82,ROW($7:$300)-6),ROW($A5))),"")} -> Y5 GP | T87: {=IFERROR(INDEX(RDV!$C$7:$C$300& " "&RDV!$D$7:$D$300,SMALL(IF(RDV!$E$7:$E$300=T$82,ROW($7:$300)-6),ROW($A5))),"")} -> Z5 GP | U87: {=IFERROR(INDEX(RDV!$C$7:$C$300& " "&RDV!$D$7:$D$300,SMALL(IF(RDV!$E$7:$E$300=U$82,ROW($7:$300)-6),ROW($A5))),"")}
O88: {=IFERROR(INDEX(RDV!$C$7:$C$300& " "&RDV!$D$7:$D$300,SMALL(IF(RDV!$E$7:$E$300=O$82,ROW($7:$300)-6),ROW($A6))),"")} -> U6 GP | P88: {=IFERROR(INDEX(RDV!$C$7:$C$300& " "&RDV!$D$7:$D$300,SMALL(IF(RDV!$E$7:$E$300=P$82,ROW($7:$300)-6),ROW($A6))),"")} -> V6 GP | Q88: {=IFERROR(INDEX(RDV!$C$7:$C$300& " "&RDV!$D$7:$D$300,SMALL(IF(RDV!$E$7:$E$300=Q$82,ROW($7:$300)-6),ROW($A6))),"")} -> W6 GP | R88: {=IFERROR(INDEX(RDV!$C$7:$C$300& " "&RDV!$D$7:$D$300,SMALL(IF(RDV!$E$7:$E$300=R$82,ROW($7:$300)-6),ROW($A6))),"")} -> X6 GP | S88: {=IFERROR(INDEX(RDV!$C$7:$C$300& " "&RDV!$D$7:$D$300,SMALL(IF(RDV!$E$7:$E$300=S$82,ROW($7:$300)-6),ROW($A6))),"")} -> Y6 GP | T88: {=IFERROR(INDEX(RDV!$C$7:$C$300& " "&RDV!$D$7:$D$300,SMALL(IF(RDV!$E$7:$E$300=T$82,ROW($7:$300)-6),ROW($A6))),"")} -> Z6 GP | U88: {=IFERROR(INDEX(RDV!$C$7:$C$300& " "&RDV!$D$7:$D$300,SMALL(IF(RDV!$E$7:$E$300=U$82,ROW($7:$300)-6),ROW($A6))),"")}
O89: {=IFERROR(INDEX(RDV!$C$7:$C$300& " "&RDV!$D$7:$D$300,SMALL(IF(RDV!$E$7:$E$300=O$82,ROW($7:$300)-6),ROW($A7))),"")} -> U7 GP | P89: {=IFERROR(INDEX(RDV!$C$7:$C$300& " "&RDV!$D$7:$D$300,SMALL(IF(RDV!$E$7:$E$300=P$82,ROW($7:$300)-6),ROW($A7))),"")} -> V7 GP | Q89: {=IFERROR(INDEX(RDV!$C$7:$C$300& " "&RDV!$D$7:$D$300,SMALL(IF(RDV!$E$7:$E$300=Q$82,ROW($7:$300)-6),ROW($A7))),"")} -> W7 GP | R89: {=IFERROR(INDEX(RDV!$C$7:$C$300& " "&RDV!$D$7:$D$300,SMALL(IF(RDV!$E$7:$E$300=R$82,ROW($7:$300)-6),ROW($A7))),"")} -> X7 GP | S89: {=IFERROR(INDEX(RDV!$C$7:$C$300& " "&RDV!$D$7:$D$300,SMALL(IF(RDV!$E$7:$E$300=S$82,ROW($7:$300)-6),ROW($A7))),"")} -> Y7 GP | T89: {=IFERROR(INDEX(RDV!$C$7:$C$300& " "&RDV!$D$7:$D$300,SMALL(IF(RDV!$E$7:$E$300=T$82,ROW($7:$300)-6),ROW($A7))),"")} -> Z7 GP | U89: {=IFERROR(INDEX(RDV!$C$7:$C$300& " "&RDV!$D$7:$D$300,SMALL(IF(RDV!$E$7:$E$300=U$82,ROW($7:$300)-6),ROW($A7))),"")}
O90: {=IFERROR(INDEX(RDV!$C$7:$C$300& " "&RDV!$D$7:$D$300,SMALL(IF(RDV!$E$7:$E$300=O$82,ROW($7:$300)-6),ROW($A8))),"")} -> U8 GP | P90: {=IFERROR(INDEX(RDV!$C$7:$C$300& " "&RDV!$D$7:$D$300,SMALL(IF(RDV!$E$7:$E$300=P$82,ROW($7:$300)-6),ROW($A8))),"")} -> V8 GP | Q90: {=IFERROR(INDEX(RDV!$C$7:$C$300& " "&RDV!$D$7:$D$300,SMALL(IF(RDV!$E$7:$E$300=Q$82,ROW($7:$300)-6),ROW($A8))),"")} -> W8 GP | R90: {=IFERROR(INDEX(RDV!$C$7:$C$300& " "&RDV!$D$7:$D$300,SMALL(IF(RDV!$E$7:$E$300=R$82,ROW($7:$300)-6),ROW($A8))),"")} -> X8 GP | S90: {=IFERROR(INDEX(RDV!$C$7:$C$300& " "&RDV!$D$7:$D$300,SMALL(IF(RDV!$E$7:$E$300=S$82,ROW($7:$300)-6),ROW($A8))),"")} -> Y8 GP | T90: {=IFERROR(INDEX(RDV!$C$7:$C$300& " "&RDV!$D$7:$D$300,SMALL(IF(RDV!$E$7:$E$300=T$82,ROW($7:$300)-6),ROW($A8))),"")} -> Z8 GP | U90: {=IFERROR(INDEX(RDV!$C$7:$C$300& " "&RDV!$D$7:$D$300,SMALL(IF(RDV!$E$7:$E$300=U$82,ROW($7:$300)-6),ROW($A8))),"")}
O91: {=IFERROR(INDEX(RDV!$C$7:$C$300& " "&RDV!$D$7:$D$300,SMALL(IF(RDV!$E$7:$E$300=O$82,ROW($7:$300)-6),ROW($A9))),"")} -> U9 GP | P91: {=IFERROR(INDEX(RDV!$C$7:$C$300& " "&RDV!$D$7:$D$300,SMALL(IF(RDV!$E$7:$E$300=P$82,ROW($7:$300)-6),ROW($A9))),"")} -> V9 GP | Q91: {=IFERROR(INDEX(RDV!$C$7:$C$300& " "&RDV!$D$7:$D$300,SMALL(IF(RDV!$E$7:$E$300=Q$82,ROW($7:$300)-6),ROW($A9))),"")} | R91: {=IFERROR(INDEX(RDV!$C$7:$C$300& " "&RDV!$D$7:$D$300,SMALL(IF(RDV!$E$7:$E$300=R$82,ROW($7:$300)-6),ROW($A9))),"")} | S91: {=IFERROR(INDEX(RDV!$C$7:$C$300& " "&RDV!$D$7:$D$300,SMALL(IF(RDV!$E$7:$E$300=S$82,ROW($7:$300)-6),ROW($A9))),"")} -> Y9 GP | T91: {=IFERROR(INDEX(RDV!$C$7:$C$300& " "&RDV!$D$7:$D$300,SMALL(IF(RDV!$E$7:$E$300=T$82,ROW($7:$300)-6),ROW($A9))),"")} -> Z9 GP | U91: {=IFERROR(INDEX(RDV!$C$7:$C$300& " "&RDV!$D$7:$D$300,SMALL(IF(RDV!$E$7:$E$300=U$82,ROW($7:$300)-6),ROW($A9))),"")}
O92: {=IFERROR(INDEX(RDV!$C$7:$C$300& " "&RDV!$D$7:$D$300,SMALL(IF(RDV!$E$7:$E$300=O$82,ROW($7:$300)-6),ROW($A10))),"")} -> U10 GP | P92: {=IFERROR(INDEX(RDV!$C$7:$C$300& " "&RDV!$D$7:$D$300,SMALL(IF(RDV!$E$7:$E$300=P$82,ROW($7:$300)-6),ROW($A10))),"")} | Q92: {=IFERROR(INDEX(RDV!$C$7:$C$300& " "&RDV!$D$7:$D$300,SMALL(IF(RDV!$E$7:$E$300=Q$82,ROW($7:$300)-6),ROW($A10))),"")} | R92: {=IFERROR(INDEX(RDV!$C$7:$C$300& " "&RDV!$D$7:$D$300,SMALL(IF(RDV!$E$7:$E$300=R$82,ROW($7:$300)-6),ROW($A10))),"")} | S92: {=IFERROR(INDEX(RDV!$C$7:$C$300& " "&RDV!$D$7:$D$300,SMALL(IF(RDV!$E$7:$E$300=S$82,ROW($7:$300)-6),ROW($A10))),"")} | T92: {=IFERROR(INDEX(RDV!$C$7:$C$300& " "&RDV!$D$7:$D$300,SMALL(IF(RDV!$E$7:$E$300=T$82,ROW($7:$300)-6),ROW($A10))),"")} | U92: {=IFERROR(INDEX(RDV!$C$7:$C$300& " "&RDV!$D$7:$D$300,SMALL(IF(RDV!$E$7:$E$300=U$82,ROW($7:$300)-6),ROW($A10))),"")}
O93: {=IFERROR(INDEX(RDV!$C$7:$C$300& " "&RDV!$D$7:$D$300,SMALL(IF(RDV!$E$7:$E$300=O$82,ROW($7:$300)-6),ROW($A11))),"")} -> U11 GP | P93: {=IFERROR(INDEX(RDV!$C$7:$C$300& " "&RDV!$D$7:$D$300,SMALL(IF(RDV!$E$7:$E$300=P$82,ROW($7:$300)-6),ROW($A11))),"")} | Q93: {=IFERROR(INDEX(RDV!$C$7:$C$300& " "&RDV!$D$7:$D$300,SMALL(IF(RDV!$E$7:$E$300=Q$82,ROW($7:$300)-6),ROW($A11))),"")} | R93: {=IFERROR(INDEX(RDV!$C$7:$C$300& " "&RDV!$D$7:$D$300,SMALL(IF(RDV!$E$7:$E$300=R$82,ROW($7:$300)-6),ROW($A11))),"")} | S93: {=IFERROR(INDEX(RDV!$C$7:$C$300& " "&RDV!$D$7:$D$300,SMALL(IF(RDV!$E$7:$E$300=S$82,ROW($7:$300)-6),ROW($A11))),"")} | T93: {=IFERROR(INDEX(RDV!$C$7:$C$300& " "&RDV!$D$7:$D$300,SMALL(IF(RDV!$E$7:$E$300=T$82,ROW($7:$300)-6),ROW($A11))),"")} | U93: {=IFERROR(INDEX(RDV!$C$7:$C$300& " "&RDV!$D$7:$D$300,SMALL(IF(RDV!$E$7:$E$300=U$82,ROW($7:$300)-6),ROW($A11))),"")}
O94: {=IFERROR(INDEX(RDV!$C$7:$C$300& " "&RDV!$D$7:$D$300,SMALL(IF(RDV!$E$7:$E$300=O$82,ROW($7:$300)-6),ROW($A12))),"")} -> U12 GP | P94: {=IFERROR(INDEX(RDV!$C$7:$C$300& " "&RDV!$D$7:$D$300,SMALL(IF(RDV!$E$7:$E$300=P$82,ROW($7:$300)-6),ROW($A12))),"")} | Q94: {=IFERROR(INDEX(RDV!$C$7:$C$300& " "&RDV!$D$7:$D$300,SMALL(IF(RDV!$E$7:$E$300=Q$82,ROW($7:$300)-6),ROW($A12))),"")} | R94: {=IFERROR(INDEX(RDV!$C$7:$C$300& " "&RDV!$D$7:$D$300,SMALL(IF(RDV!$E$7:$E$300=R$82,ROW($7:$300)-6),ROW($A12))),"")} | S94: {=IFERROR(INDEX(RDV!$C$7:$C$300& " "&RDV!$D$7:$D$300,SMALL(IF(RDV!$E$7:$E$300=S$82,ROW($7:$300)-6),ROW($A12))),"")} | T94: {=IFERROR(INDEX(RDV!$C$7:$C$300& " "&RDV!$D$7:$D$300,SMALL(IF(RDV!$E$7:$E$300=T$82,ROW($7:$300)-6),ROW($A12))),"")} | U94: {=IFERROR(INDEX(RDV!$C$7:$C$300& " "&RDV!$D$7:$D$300,SMALL(IF(RDV!$E$7:$E$300=U$82,ROW($7:$300)-6),ROW($A12))),"")}
... O107: {=IFERROR(INDEX(RDV!$C$7:$C$300& " "&RDV!$D$7:$D$300,SMALL(IF(RDV!$E$7:$E$300=O$82,ROW($7:$300)-6),ROW($A25))),"")} | P107: {=IFERROR(INDEX(RDV!$C$7:$C$300& " "&RDV!$D$7:$D$300,SMALL(IF(RDV!$E$7:$E$300=P$82,ROW($7:$300)-6),ROW($A25))),"")} | Q107: {=IFERROR(INDEX(RDV!$C$7:$C$300& " "&RDV!$D$7:$D$300,SMALL(IF(RDV!$E$7:$E$300=Q$82,ROW($7:$300)-6),ROW($A25))),"")} | R107: {=IFERROR(INDEX(RDV!$C$7:$C$300& " "&RDV!$D$7:$D$300,SMALL(IF(RDV!$E$7:$E$300=R$82,ROW($7:$300)-6),ROW($A25))),"")} | S107: {=IFERROR(INDEX(RDV!$C$7:$C$300& " "&RDV!$D$7:$D$300,SMALL(IF(RDV!$E$7:$E$300=S$82,ROW($7:$300)-6),ROW($A25))),"")} | T107: {=IFERROR(INDEX(RDV!$C$7:$C$300& " "&RDV!$D$7:$D$300,SMALL(IF(RDV!$E$7:$E$300=T$82,ROW($7:$300)-6),ROW($A25))),"")} | U107: {=IFERROR(INDEX(RDV!$C$7:$C$300& " "&RDV!$D$7:$D$300,SMALL(IF(RDV!$E$7:$E$300=U$82,ROW($7:$300)-6),ROW($A25))),"")}
O108: 42366 | P108: 42367 | Q108: 42368 | R108: 42369
O109: {=IFERROR(INDEX(RDV!$C$7:$C$300& " "&RDV!$D$7:$D$300,SMALL(IF(RDV!$E$7:$E$300=O$108,ROW($7:$300)-6),ROW($A1))),"")} -> BBBB GP | P109: {=IFERROR(INDEX(RDV!$C$7:$C$300& " "&RDV!$D$7:$D$300,SMALL(IF(RDV!$E$7:$E$300=P$108,ROW($7:$300)-6),ROW($A1))),"")} -> CCCC GP | Q109: {=IFERROR(INDEX(RDV!$C$7:$C$300& " "&RDV!$D$7:$D$300,SMALL(IF(RDV!$E$7:$E$300=Q$108,ROW($7:$300)-6),ROW($A1))),"")} -> EEEEE GP | R109: {=IFERROR(INDEX(RDV!$C$7:$C$300& " "&RDV!$D$7:$D$300,SMALL(IF(RDV!$E$7:$E$300=R$108,ROW($7:$300)-6),ROW($A1))),"")} -> GGGGG GP
O110: {=IFERROR(INDEX(RDV!$C$7:$C$300& " "&RDV!$D$7:$D$300,SMALL(IF(RDV!$E$7:$E$300=O$108,ROW($7:$300)-6),ROW($A2))),"")} | P110: {=IFERROR(INDEX(RDV!$C$7:$C$300& " "&RDV!$D$7:$D$300,SMALL(IF(RDV!$E$7:$E$300=P$108,ROW($7:$300)-6),ROW($A2))),"")} -> DDDD GP | Q110: {=IFERROR(INDEX(RDV!$C$7:$C$300& " "&RDV!$D$7:$D$300,SMALL(IF(RDV!$E$7:$E$300=Q$108,ROW($7:$300)-6),ROW($A2))),"")} -> FFFFF GP | R110: {=IFERROR(INDEX(RDV!$C$7:$C$300& " "&RDV!$D$7:$D$300,SMALL(IF(RDV!$E$7:$E$300=R$108,ROW($7:$300)-6),ROW($A2))),"")} -> HHHHHH GP
O111: {=IFERROR(INDEX(RDV!$C$7:$C$300& " "&RDV!$D$7:$D$300,SMALL(IF(RDV!$E$7:$E$300=O$108,ROW($7:$300)-6),ROW($A3))),"")} | P111: {=IFERROR(INDEX(RDV!$C$7:$C$300& " "&RDV!$D$7:$D$300,SMALL(IF(RDV!$E$7:$E$300=P$108,ROW($7:$300)-6),ROW($A3))),"")} | Q111: {=IFERROR(INDEX(RDV!$C$7:$C$300& " "&RDV!$D$7:$D$300,SMALL(IF(RDV!$E$7:$E$300=Q$108,ROW($7:$300)-6),ROW($A3))),"")} | R111: {=IFERROR(INDEX(RDV!$C$7:$C$300& " "&RDV!$D$7:$D$300,SMALL(IF(RDV!$E$7:$E$300=R$108,ROW($7:$300)-6),ROW($A3))),"")}
O112: {=IFERROR(INDEX(RDV!$C$7:$C$300& " "&RDV!$D$7:$D$300,SMALL(IF(RDV!$E$7:$E$300=O$108,ROW($7:$300)-6),ROW($A4))),"")} | P112: {=IFERROR(INDEX(RDV!$C$7:$C$300& " "&RDV!$D$7:$D$300,SMALL(IF(RDV!$E$7:$E$300=P$108,ROW($7:$300)-6),ROW($A4))),"")} | Q112: {=IFERROR(INDEX(RDV!$C$7:$C$300& " "&RDV!$D$7:$D$300,SMALL(IF(RDV!$E$7:$E$300=Q$108,ROW($7:$300)-6),ROW($A4))),"")} | R112: {=IFERROR(INDEX(RDV!$C$7:$C$300& " "&RDV!$D$7:$D$300,SMALL(IF(RDV!$E$7:$E$300=R$108,ROW($7:$300)-6),ROW($A4))),"")}
O113: {=IFERROR(INDEX(RDV!$C$7:$C$300& " "&RDV!$D$7:$D$300,SMALL(IF(RDV!$E$7:$E$300=O$108,ROW($7:$300)-6),ROW($A5))),"")} | P113: {=IFERROR(INDEX(RDV!$C$7:$C$300& " "&RDV!$D$7:$D$300,SMALL(IF(RDV!$E$7:$E$300=P$108,ROW($7:$300)-6),ROW($A5))),"")} | Q113: {=IFERROR(INDEX(RDV!$C$7:$C$300& " "&RDV!$D$7:$D$300,SMALL(IF(RDV!$E$7:$E$300=Q$108,ROW($7:$300)-6),ROW($A5))),"")} | R113: {=IFERROR(INDEX(RDV!$C$7:$C$300& " "&RDV!$D$7:$D$300,SMALL(IF(RDV!$E$7:$E$300=R$108,ROW($7:$300)-6),ROW($A5))),"")}
O114: {=IFERROR(INDEX(RDV!$C$7:$C$300& " "&RDV!$D$7:$D$300,SMALL(IF(RDV!$E$7:$E$300=O$108,ROW($7:$300)-6),ROW($A6))),"")} | P114: {=IFERROR(INDEX(RDV!$C$7:$C$300& " "&RDV!$D$7:$D$300,SMALL(IF(RDV!$E$7:$E$300=P$108,ROW($7:$300)-6),ROW($A6))),"")} | Q114: {=IFERROR(INDEX(RDV!$C$7:$C$300& " "&RDV!$D$7:$D$300,SMALL(IF(RDV!$E$7:$E$300=Q$108,ROW($7:$300)-6),ROW($A6))),"")} | R114: {=IFERROR(INDEX(RDV!$C$7:$C$300& " "&RDV!$D$7:$D$300,SMALL(IF(RDV!$E$7:$E$300=R$108,ROW($7:$300)-6),ROW($A6))),"")}
O115: {=IFERROR(INDEX(RDV!$C$7:$C$300& " "&RDV!$D$7:$D$300,SMALL(IF(RDV!$E$7:$E$300=O$108,ROW($7:$300)-6),ROW($A7))),"")} | P115: {=IFERROR(INDEX(RDV!$C$7:$C$300& " "&RDV!$D$7:$D$300,SMALL(IF(RDV!$E$7:$E$300=P$108,ROW($7:$300)-6),ROW($A7))),"")} | Q115: {=IFERROR(INDEX(RDV!$C$7:$C$300& " "&RDV!$D$7:$D$300,SMALL(IF(RDV!$E$7:$E$300=Q$108,ROW($7:$300)-6),ROW($A7))),"")} | R115: {=IFERROR(INDEX(RDV!$C$7:$C$300& " "&RDV!$D$7:$D$300,SMALL(IF(RDV!$E$7:$E$300=R$108,ROW($7:$300)-6),ROW($A7))),"")}
O116: {=IFERROR(INDEX(RDV!$C$7:$C$300& " "&RDV!$D$7:$D$300,SMALL(IF(RDV!$E$7:$E$300=O$108,ROW($7:$300)-6),ROW($A8))),"")} | P116: {=IFERROR(INDEX(RDV!$C$7:$C$300& " "&RDV!$D$7:$D$300,SMALL(IF(RDV!$E$7:$E$300=P$108,ROW($7:$300)-6),ROW($A8))),"")} | Q116: {=IFERROR(INDEX(RDV!$C$7:$C$300& " "&RDV!$D$7:$D$300,SMALL(IF(RDV!$E$7:$E$300=Q$108,ROW($7:$300)-6),ROW($A8))),"")} | R116: {=IFERROR(INDEX(RDV!$C$7:$C$300& " "&RDV!$D$7:$D$300,SMALL(IF(RDV!$E$7:$E$300=R$108,ROW($7:$300)-6),ROW($A8))),"")}
O117: {=IFERROR(INDEX(RDV!$C$7:$C$300& " "&RDV!$D$7:$D$300,SMALL(IF(RDV!$E$7:$E$300=O$108,ROW($7:$300)-6),ROW($A9))),"")} | P117: {=IFERROR(INDEX(RDV!$C$7:$C$300& " "&RDV!$D$7:$D$300,SMALL(IF(RDV!$E$7:$E$300=P$108,ROW($7:$300)-6),ROW($A9))),"")} | Q117: {=IFERROR(INDEX(RDV!$C$7:$C$300& " "&RDV!$D$7:$D$300,SMALL(IF(RDV!$E$7:$E$300=Q$108,ROW($7:$300)-6),ROW($A9))),"")} | R117: {=IFERROR(INDEX(RDV!$C$7:$C$300& " "&RDV!$D$7:$D$300,SMALL(IF(RDV!$E$7:$E$300=R$108,ROW($7:$300)-6),ROW($A9))),"")}
O118: {=IFERROR(INDEX(RDV!$C$7:$C$300& " "&RDV!$D$7:$D$300,SMALL(IF(RDV!$E$7:$E$300=O$108,ROW($7:$300)-6),ROW($A10))),"")} | P118: {=IFERROR(INDEX(RDV!$C$7:$C$300& " "&RDV!$D$7:$D$300,SMALL(IF(RDV!$E$7:$E$300=P$108,ROW($7:$300)-6),ROW($A10))),"")} | Q118: {=IFERROR(INDEX(RDV!$C$7:$C$300& " "&RDV!$D$7:$D$300,SMALL(IF(RDV!$E$7:$E$300=Q$108,ROW($7:$300)-6),ROW($A10))),"")} | R118: {=IFERROR(INDEX(RDV!$C$7:$C$300& " "&RDV!$D$7:$D$300,SMALL(IF(RDV!$E$7:$E$300=R$108,ROW($7:$300)-6),ROW($A10))),"")}
O119: {=IFERROR(INDEX(RDV!$C$7:$C$300& " "&RDV!$D$7:$D$300,SMALL(IF(RDV!$E$7:$E$300=O$108,ROW($7:$300)-6),ROW($A11))),"")} | P119: {=IFERROR(INDEX(RDV!$C$7:$C$300& " "&RDV!$D$7:$D$300,SMALL(IF(RDV!$E$7:$E$300=P$108,ROW($7:$300)-6),ROW($A11))),"")} | Q119: {=IFERROR(INDEX(RDV!$C$7:$C$300& " "&RDV!$D$7:$D$300,SMALL(IF(RDV!$E$7:$E$300=Q$108,ROW($7:$300)-6),ROW($A11))),"")} | R119: {=IFERROR(INDEX(RDV!$C$7:$C$300& " "&RDV!$D$7:$D$300,SMALL(IF(RDV!$E$7:$E$300=R$108,ROW($7:$300)-6),ROW($A11))),"")}
O120: {=IFERROR(INDEX(RDV!$C$7:$C$300& " "&RDV!$D$7:$D$300,SMALL(IF(RDV!$E$7:$E$300=O$108,ROW($7:$300)-6),ROW($A12))),"")} | P120: {=IFERROR(INDEX(RDV!$C$7:$C$300& " "&RDV!$D$7:$D$300,SMALL(IF(RDV!$E$7:$E$300=P$108,ROW($7:$300)-6),ROW($A12))),"")} | Q120: {=IFERROR(INDEX(RDV!$C$7:$C$300& " "&RDV!$D$7:$D$300,SMALL(IF(RDV!$E$7:$E$300=Q$108,ROW($7:$300)-6),ROW($A12))),"")} | R120: {=IFERROR(INDEX(RDV!$C$7:$C$300& " "&RDV!$D$7:$D$300,SMALL(IF(RDV!$E$7:$E$300=R$108,ROW($7:$300)-6),ROW($A12))),"")}
... O133: {=IFERROR(INDEX(RDV!$C$7:$C$300& " "&RDV!$D$7:$D$300,SMALL(IF(RDV!$E$7:$E$300=O$108,ROW($7:$300)-6),ROW($A25))),"")} | P133: {=IFERROR(INDEX(RDV!$C$7:$C$300& " "&RDV!$D$7:$D$300,SMALL(IF(RDV!$E$7:$E$300=P$108,ROW($7:$300)-6),ROW($A25))),"")} | Q133: {=IFERROR(INDEX(RDV!$C$7:$C$300& " "&RDV!$D$7:$D$300,SMALL(IF(RDV!$E$7:$E$300=Q$108,ROW($7:$300)-6),ROW($A25))),"")} | R133: {=IFERROR(INDEX(RDV!$C$7:$C$300& " "&RDV!$D$7:$D$300,SMALL(IF(RDV!$E$7:$E$300=R$108,ROW($7:$300)-6),ROW($A25))),"")}
