Workbook
Name numerocommande: Feuil2!$A$1

Sheet Feuil1
A1: N° Commande | B1: 305812694 | E1: =B3+B4 -> 42340.542
A2: Lieu de chargement | B2: =VLOOKUP(B1,Feuil2!A1:AC48,3,FALSE) -> ARLES | E2: =IF(E1>$B$8,"Stop arriver ",E1+Feuil3!$B$8) -> 42340.583
A3: Horaire de chargement | B3: =VLOOKUP(B1,Feuil2!A1:AC48,8,FALSE) -> 0.54166667 | E3: =IF(E2>$B$8,"Stop arriver ",E2+Feuil3!$B$8) -> 42340.625
A4: Date de chargement | B4: =VLOOKUP($B$1,Feuil2!$A$1:$AC$48,7,FALSE) -> 42340 | E4: =IF(E3>$B$8,"Stop arriver ",E3+Feuil3!$B$8) -> 42340.667
A5: Lieu de livraison | B5: =VLOOKUP($B$1,Feuil2!$A$1:$AC$48,6,FALSE) -> CASTETS | E5: =IF(E4>$B$8,"Stop arriver ",E4+Feuil3!$B$8) -> 42340.708
A6: Date de livraison | B6: =VLOOKUP($B$1,Feuil2!$A$1:$AC$48,15,FALSE) -> 42341 | E6: =IF(E5>$B$8,"Stop arriver ",E5+Feuil3!$B$8) -> 42340.75
A7: Horaire de livraison | B7: =VLOOKUP($B$1,Feuil2!$A$1:$AC$48,16,FALSE) -> 0.375 | E7: =IF(E6>$B$8,"Stop arriver ",E6+Feuil3!$B$8) -> 42340.792
A8: Date et livraison | B8: =B6+B7 -> 42341.375 | E8: =IF(E7>$B$8,"Stop arriver ",E7+Feuil3!$B$8) -> 42340.833
A9: Transporteur | B9: =VLOOKUP($B$1,Feuil2!$A$1:$AC$48,26,FALSE) -> LEROY LOGISTIQUE | E9: =IF(E8>$B$8,"Stop arriver ",E8+Feuil3!$B$8) -> 42340.875
A10: Km | B10: =VLOOKUP($B$1,Feuil2!$A$1:$AC$48,28,FALSE) -> 618 | E10: =IF(E9>$B$8,"Stop arriver ",E9+Feuil3!$B$8) -> 42340.917
A11: Temps de trajet | B11: =(B10/70)/24 -> 0.36785714 | E11: =IF(E10>$B$8,"Stop arriver ",E10+Feuil3!$B$8) -> 42340.958

Sheet Feuil2
A1: N° commande SAP | B1: Raison sociale chargt: | C1: Localité chargt | D1: Raison sociale client destinataire | E1: Nom directeur livraison | F1: Localité livr: | G1: Date RDV chargt: | H1: Heure RDV chargt: | I1: Date arrivée sur site | J1: Heure arrivée sur site | K1: Date début chargement | L1: Heure début chargement | M1: Date départ du site | N1: Heure départ du site | O1: Date livraison prévisionnelle | P1: Heure Livraison prévisionnelle mini | Q1: Heure Livraison prévisionnelle maxi | R1: Date arrivée sur site liv | S1: Heure arrivée sur site liv | T1: Date début livraison | U1: Heure début livraison | V1: Date départ du site liv | W1: Heure départ du site liv | X1: Poids (en Kgs) | Y1: Nb Palettes Sol | Z1: Transporteur | AA1: Code Site | AB1: Kms charge théoriques | AC1: Calcul émission CO2
A2: 304719843 | B2: NW DC ARLES | C2: ARLES | D2: ID LOGISTICS CAVAILLON | E2: 3558496 | F2: CAVAILLON | G2: 42339 | H2: 0.625 | I2: 42339 | J2: 0.54166667 | K2: 42339 | L2: 0.54513889 | M2: 42339 | N2: 0.55902778 | O2: 42340 | P2: 0.20833333 | Q2: 0.20833333 | R2: 42340 | S2: 0.20833333 | T2: 42340 | U2: 0.20833333 | V2: 42340 | W2: 0.25 | X2: 24752 | Y2: 26 | Z2: TGS BOISSONS | AA2: 6562 | AB2: 43 | AC2: 52.9426
A3: 305253407 | B3: NW DC ARLES | C3: ARLES | D3: LOGIDIS ID LOGISTICS GRANS 1 | E3: 2700921 | F3: MIRAMAS | G3: 42339 | H3: 0.33333333 | I3: 42339 | J3: 0.34375 | K3: 42339 | L3: 0.34722222 | M3: 42339 | N3: 0.36041667 | O3: 42339 | P3: 0.41666667 | Q3: 0.41666667 | R3: 42339 | S3: 0.40972222 | T3: 42339 | U3: 0.41666667 | V3: 42339 | W3: 0.44791667 | X3: 27096 | Y3: 24 | Z3: DUPESSEY | AA3: 6562 | AB3: 38 | AC3: 47.7127
A4: 305253410 | B4: NW DC ARLES | C4: ARLES | D4: LOGIDIS ID LOGISTICS GRANS 1 | E4: 2700921 | F4: MIRAMAS | G4: 42340 | H4: 0.41666667 | I4: 42340 | J4: 0.375 | K4: 42340 | L4: 0.375 | M4: 42340 | N4: 0.39583333 | O4: 42341 | P4: 0.41666667 | Q4: 0.41666667 | R4: 42341 | S4: 0.41666667 | T4: 42341 | U4: 0.41666667 | V4: 42341 | W4: 0.45833333 | X4: 26472 | Y4: 24 | Z4: MAUFFREY | AA4: 6562 | AB4: 38 | AC4: 47.4714
A5: 305273197 | B5: NW DC ARLES | C5: ARLES | D5: SOC COOP APPROVISIONNEMENT IDF | E5: 4683020 | F5: SAVIGNY LE TEMPLE | G5: 42339 | H5: 0.4375 | I5: 42339 | J5: 0.42361111 | K5: 42339 | L5: 0.42708333 | M5: 42339 | N5: 0.45138889 | O5: 42341 | P5: 0.20833333 | Q5: 0.20833333 | R5: 42341 | S5: 0.19791667 | T5: 42341 | U5: 0.22916667 | V5: 42341 | W5: 0.26388889 | X5: 20176 | Y5: 26 | Z5: LA FLECHE | AA5: 6562 | AB5: 709 | AC5: 716.2549
A6: 305273201 | B6: NW DC ARLES | C6: ARLES | D6: SOC COOP APPROVISIONNEMENT IDF | E6: 4683020 | F6: SAVIGNY LE TEMPLE | G6: 42340 | H6: 0.5625 | I6: 42340 | J6: 0.57638889 | K6: 42340 | L6: 0.57638889 | M6: 42340 | N6: 0.60416667 | O6: 42342 | P6: 0.20833333 | Q6: 0.20833333 | R6: 42342 | S6: 0.19791667 | T6: 42342 | U6: 0.22916667 | V6: 42342 | W6: 0.26388889 | X6: 20176 | Y6: 26 | Z6: LA FLECHE | AA6: 6562 | AB6: 709 | AC6: 716.2549
A7: 305283722 | B7: NW DC ARLES | C7: ARLES | D7: AUCHAN GARONS | E7: 3549047 | F7: GARONS | G7: 42339 | H7: 0.58333333 | I7: 42339 | J7: 0.64583333 | K7: 42339 | L7: 0.64583333 | M7: 42339 | N7: 0.66319444 | O7: 42340 | P7: 0.41666667 | Q7: 0.41666667 | R7: 42340 | S7: 0.41666667 | T7: 42340 | U7: 0.41666667 | V7: 42340 | W7: 0.45833333 | X7: 24752 | Y7: 26 | Z7: MAUFFREY | AA7: 6562 | AB7: 22 | AC7: 27.0882
A8: 305287440 | B8: NW DC ARLES | C8: ARLES | D8: AUCHAN GARONS | E8: 3549047 | F8: GARONS | G8: 42339 | H8: 0.47916667 | I8: 42339 | J8: 0.45833333 | K8: 42339 | L8: 0.46180556 | M8: 42339 | N8: 0.48263889 | O8: 42339 | P8: 0.60416667 | Q8: 0.60416667 | R8: 42339 | S8: 0.60416667 | T8: 42339 | U8: 0.60416667 | V8: 42339 | W8: 0.64583333 | X8: 24752 | Y8: 26 | Z8: MAUFFREY | AA8: 6562 | AB8: 22 | AC8: 27.0882
A9: 305316583 | B9: NW DC ARLES | C9: ARLES | D9: LOGIDIS | E9: 769166 | F9: COLOMIERS | G9: 42340 | H9: 0.58333333 | I9: 42340 | J9: 0.55208333 | K9: 42340 | L9: 0.55208333 | M9: 42340 | N9: 0.57638889 | O9: 42341 | P9: 0.41666667 | Q9: 0.41666667 | R9: 42341 | S9: 0.41666667 | T9: 42341 | U9: 0.41666667 | V9: 42341 | W9: 0.41666667 | X9: 26808 | Y9: 24 | Z9: JACQUEMMOZ | AA9: 6562 | AB9: 326 | AC9: 363.0087
A10: 305316980 | B10: NW DC ARLES | C10: ARLES | D10: LOGIDIS | E10: 769166 | F10: COLOMIERS | G10: 42339 | H10: 0.60416667 | I10: 42339 | J10: 0.45833333 | K10: 42339 | L10: 0.46180556 | M10: 42339 | N10: 0.47222222 | O10: 42340 | P10: 0.41666667 | Q10: 0.41666667 | R10: 42340 | S10: 0.41666667 | T10: 42340 | U10: 0.41666667 | V10: 42340 | W10: 0.44791667 | X10: 26322 | Y10: 24 | Z10: DHL SUPPLY CHAIN | AA10: 6562 | AB10: 326 | AC10: 361.3726
A11: 305513968 | B11: NW DC ARLES | C11: ARLES | D11: SA COOP ACHATS EN COMMUN LE MI | E11: 770574 | F11: ENTRAIGUES SUR LA SORGUE | G11: 42339 | H11: 0.58333333 | I11: 42339 | J11: 0.41666667 | K11: 42339 | L11: 0.42013889 | M11: 42339 | N11: 0.4375 | O11: 42340 | P11: 0.4375 | Q11: 0.4375 | R11: 42340 | S11: 0.4375 | T11: 42340 | U11: 0.4375 | V11: 42340 | W11: 0.47916667 | X11: 26160 | Y11: 24 | Z11: TGS BOISSONS | AA11: 6562 | AB11: 47 | AC11: 58.5748
A12: 305549353 | B12: NW DC ARLES | C12: ARLES | D12: SYSTEME U | E12: 883462 | F12: MIRAMAS | G12: 42339 | H12: 0.45833333 | I12: 42339 | J12: 0.45833333 | K12: 42339 | L12: 0.46180556 | M12: 42339 | N12: 0.47916667 | O12: 42339 | P12: 0.625 | Q12: 0.625 | R12: 42339 | S12: 0.65416667 | T12: 42339 | U12: 0.65416667 | V12: 42339 | W12: 0.69583333 | X12: 27048 | Y12: 24 | Z12: SYSTEME U VENDARGUES | AA12: 6562 | AB12: 38 | AC12: 47.6859
A13: 305626322 | B13: NW DC ARLES | C13: ARLES | D13: SYSTEME U CENTRALE REGIONALE S | E13: 4071043 | F13: CLERMONT L HERAULT | G13: 42340 | H13: 0.58333333 | I13: 42340 | J13: 0.55208333 | K13: 42340 | L13: 0.5625 | M13: 42340 | N13: 0.56944444 | O13: 42341 | P13: 0.47916667 | Q13: 0.47916667 | R13: 42341 | S13: 0.4375 | T13: 42341 | U13: 0.45833333 | V13: 42341 | W13: 0.48958333 | X13: 27168 | Y13: 24 | Z13: TRANSPORTS DOUMEN SAS | AA13: 6562 | AB13: 126 | AC13: 145.1498
... A47: 305899060 | B47: NW DC ARLES | C47: ARLES | D47: LOGIDIS COMPTOIRS MODERNES | E47: 766430 | F47: SALON DE PROVENCE | G47: 42340 | H47: 0.5 | I47: 42340 | J47: 0.49305556 | K47: 42340 | L47: 0.50694444 | M47: 42340 | N47: 0.5125 | O47: 42341 | P47: 0.33333333 | Q47: 0.33333333 | R47: 42341 | S47: 0.33333333 | T47: 42341 | U47: 0.33333333 | V47: 42341 | W47: 0.36458333 | X47: 26358 | Y47: 24 | Z47: DHL SUPPLY CHAIN | AA47: 6562 | AB47: 43 | AC47: 53.6668
A48: 305934800 | B48: NW DC ARLES | C48: ARLES | D48: METRO EXEL SERVICES LOG | E48: 3374145 | F48: ARLES | G48: 42339 | H48: 0 | O48: 42339 | P48: 0.99930556 | Q48: 0.99930556 | X48: 27475 | Y48: 25 | Z48: TRANSPORTEUR EXWORKS | AA48: 6562 | AB48: 0

Sheet Feuil3
A1: Temps de conduite | B1: 0.1875
B2: 0.16666667
B3: 0.14583333
B4: 0.125
B5: 0.10416667
B6: 0.083333333
B7: 0.0625
B8: 0.041666667
B9: 0.020833333
A10: Temps de chargement | B10: 0.0625
A11: Temps de déchargement | B11: 0.0625
A12: Coupure | B12: 0.041666667
A13: Pause | B13: 0.45833333
