Workbook

Sheet CST GLOBAL
A1: SUIVI CST
C2: Réalisé 2013 | D2: Réalisé 2014 | E2: Budget Primitif 2015 | F2: Budget Rectif 2015 | G2: Budget Primitif 2016 | H2: Budget Primitif 2017 | I2: % var 2015/2014 | K2: T1 2015 | L2: T2 2015 | M2: T3 2015 | N2: T4 2015 | O2: Réalisé 2015 | P2: % réalisé/budget
B4: Produits
B5: ANTENNE MAULEON / ODACE | C5: 46013.55 | D5: 46637 | E5: =SUMPRODUCT((#REF!="ANTENNE MAULEON / ODACE")*(#REF!="Produits")*(#REF!="CST")*(#REF!="DEVECO"),(#REF!)) -> #REF! | F5: =SUMPRODUCT(('05.10'!$E$1:$E$1897="ANTENNE MAULEON / ODACE")*('05.10'!$U$1:$U$1897="Produits")*('05.10'!$T$1:$T$1897="CST")*('05.10'!$R$1:$R$1897="DEVECO"),('05.10'!$L$1:$L$1897)) -> 48424 | G5: =SUMPRODUCT(('05.10'!$E$1:$E$1897="ANTENNE MAULEON / ODACE")*('05.10'!$U$1:$U$1897="Produits")*('05.10'!$T$1:$T$1897="CST")*('05.10'!$R$1:$R$1897="DEVECO"),('05.10'!$P$1:$P$1897)) -> 50438 | H5: =SUMPRODUCT(('05.10'!$E$1:$E$1897="ANTENNE MAULEON / ODACE")*('05.10'!$U$1:$U$1897="Produits")*('05.10'!$T$1:$T$1897="CST")*('05.10'!$R$1:$R$1897="DEVECO"),('05.10'!$Q$1:$Q$1897)) -> 48306 | I5: =+(F5-D5)/D5 -> 0.038317216 | K5: =SUMPRODUCT((#REF!="ANTENNE MAULEON / ODACE")*(#REF!="Produits")*(#REF!="CST")*(#REF!="DEVECO"),(#REF!)) -> #REF! | L5: =SUMPRODUCT((#REF!="ANTENNE MAULEON / ODACE")*(#REF!="Produits")*(#REF!="CST")*(#REF!="DEVECO"),(#REF!))-$K5 -> #REF! | M5: =SUMPRODUCT(('05.10'!$E$1:$E$1897="ANTENNE MAULEON / ODACE")*('05.10'!$F$1:$F$1897="*")*('05.10'!$U$1:$U$1897="Produits")*('05.10'!$T$1:$T$1897="CST")*('05.10'!$R$1:$R$1897="DEVECO"),('05.10'!$O$1:$O$1897))-$K5-$L5 -> #REF! | O5: =+K5+L5+M5+N5 -> #REF! | P5: =+O5/E5 -> #REF!
B6: CLUSTER TOURISME / GOAZEN | C6: 15449.7 | D6: 12342.33 | E6: =SUMPRODUCT((#REF!="CLUSTER TOURISME / GOAZEN")*(#REF!="Produits")*(#REF!="CST")*(#REF!="DEVECO"),(#REF!)) -> #REF! | F6: =SUMPRODUCT(('05.10'!$E$1:$E$1897="CLUSTER TOURISME / GOAZEN")*('05.10'!$U$1:$U$1897="Produits")*('05.10'!$T$1:$T$1897="CST")*('05.10'!$R$1:$R$1897="DEVECO"),('05.10'!$L$1:$L$1897)) -> 12500 | G6: =SUMPRODUCT(('05.10'!$E$1:$E$1897="CLUSTER TOURISME / GOAZEN")*('05.10'!$U$1:$U$1897="Produits")*('05.10'!$T$1:$T$1897="CST")*('05.10'!$R$1:$R$1897="DEVECO"),('05.10'!$P$1:$P$1897)) -> 57000 | H6: =SUMPRODUCT(('05.10'!$E$1:$E$1897="CLUSTER TOURISME / GOAZEN")*('05.10'!$U$1:$U$1897="Produits")*('05.10'!$T$1:$T$1897="CST")*('05.10'!$R$1:$R$1897="DEVECO"),('05.10'!$Q$1:$Q$1897)) -> 57000 | I6: =+(F6-D6)/D6 -> 0.012774735 | K6: =SUMPRODUCT((#REF!="CLUSTER TOURISME / GOAZEN")*(#REF!="Produits")*(#REF!="CST")*(#REF!="DEVECO"),(#REF!)) -> #REF! | L6: =SUMPRODUCT((#REF!="CLUSTER TOURISME / GOAZEN")*(#REF!="Produits")*(#REF!="CST")*(#REF!="DEVECO"),(#REF!))-$K6 -> #REF! | M6: =SUMPRODUCT(('05.10'!$E$1:$E$1897="CLUSTER TOURISME / GOAZEN")*('05.10'!$U$1:$U$1897="Produits")*('05.10'!$T$1:$T$1897="CST")*('05.10'!$R$1:$R$1897="DEVECO"),('05.10'!$O$1:$O$1897))-$K6-L6 -> #REF! | O6: =+K6+L6+M6+N6 -> #REF! | P6: =+O6/E6 -> #REF!
B7: COMMERCE RURAL | C7: 0 | D7: 7000.02 | E7: =SUMPRODUCT((#REF!="COMMERCE RURAL")*(#REF!="Produits")*(#REF!="CST")*(#REF!="DEVECO"),(#REF!)) -> #REF! | F7: =SUMPRODUCT(('05.10'!$E$1:$E$1897="COMMERCE RURAL")*('05.10'!$U$1:$U$1897="Produits")*('05.10'!$T$1:$T$1897="CST")*('05.10'!$R$1:$R$1897="DEVECO"),('05.10'!$L$1:$L$1897)) -> 0 | G7: =SUMPRODUCT(('05.10'!$E$1:$E$1897="COMMERCE RURAL")*('05.10'!$U$1:$U$1897="Produits")*('05.10'!$T$1:$T$1897="CST")*('05.10'!$R$1:$R$1897="DEVECO"),('05.10'!$P$1:$P$1897)) -> 0 | H7: =SUMPRODUCT(('05.10'!$E$1:$E$1897="COMMERCE RURAL")*('05.10'!$U$1:$U$1897="Produits")*('05.10'!$T$1:$T$1897="CST")*('05.10'!$R$1:$R$1897="DEVECO"),('05.10'!$Q$1:$Q$1897)) -> 0 | I7: =+(F7-D7)/D7 -> -1 | K7: =SUMPRODUCT((#REF!="COMMERCE RURAL")*(#REF!="Produits")*(#REF!="CST")*(#REF!="DEVECO"),(#REF!)) -> #REF! | L7: =SUMPRODUCT((#REF!="COMMERCE RURAL")*(#REF!="Produits")*(#REF!="CST")*(#REF!="DEVECO"),(#REF!))-$K7 -> #REF! | M7: =SUMPRODUCT(('05.10'!$E$1:$E$1897="COMMERCE RURAL")*('05.10'!$U$1:$U$1897="Produits")*('05.10'!$T$1:$T$1897="CST")*('05.10'!$R$1:$R$1897="DEVECO"),('05.10'!$O$1:$O$1897))-$K7-$L7 -> #REF! | O7: =+K7+L7+M7+N7 -> #REF! | P7: =+O7/E7 -> #REF!
B8: COMMERCE URBAIN | C8: 4350 | D8: 2320 | E8: =SUMPRODUCT((#REF!="COMMERCE URBAIN")*(#REF!="Produits")*(#REF!="CST")*(#REF!="DEVECO"),(#REF!)) -> #REF! | F8: =SUMPRODUCT(('05.10'!$E$1:$E$1897="COMMERCE URBAIN")*('05.10'!$U$1:$U$1897="Produits")*('05.10'!$T$1:$T$1897="CST")*('05.10'!$R$1:$R$1897="DEVECO"),('05.10'!$L$1:$L$1897)) -> 13275 | G8: =SUMPRODUCT(('05.10'!$E$1:$E$1897="COMMERCE URBAIN")*('05.10'!$U$1:$U$1897="Produits")*('05.10'!$T$1:$T$1897="CST")*('05.10'!$R$1:$R$1897="DEVECO"),('05.10'!$P$1:$P$1897)) -> 25000 | H8: =SUMPRODUCT(('05.10'!$E$1:$E$1897="COMMERCE URBAIN")*('05.10'!$U$1:$U$1897="Produits")*('05.10'!$T$1:$T$1897="CST")*('05.10'!$R$1:$R$1897="DEVECO"),('05.10'!$Q$1:$Q$1897)) -> 25000 | I8: =+(F8-D8)/D8 -> 4.7219828 | K8: =SUMPRODUCT((#REF!="COMMERCE URBAIN")*(#REF!="Produits")*(#REF!="CST")*(#REF!="DEVECO"),(#REF!)) -> #REF! | L8: =SUMPRODUCT((#REF!="COMMERCE URBAIN")*(#REF!="Produits")*(#REF!="CST")*(#REF!="DEVECO"),(#REF!))-$K8 -> #REF! | M8: =SUMPRODUCT(('05.10'!$E$1:$E$1897="COMMERCE URBAIN")*('05.10'!$U$1:$U$1897="Produits")*('05.10'!$T$1:$T$1897="CST")*('05.10'!$R$1:$R$1897="DEVECO"),('05.10'!$O$1:$O$1897))-$K8-$L8 -> #REF! | O8: =+K8+L8+M8+N8 -> #REF! | P8: =+O8/E8 -> #REF!
B9: HOTELLERIE / TOURISME | C9: 7105.55 | D9: 1136.57 | E9: =SUMPRODUCT((#REF!="HOTELLERIE / TOURISME")*(#REF!="Produits")*(#REF!="CST")*(#REF!="DEVECO"),(#REF!)) -> #REF! | F9: =SUMPRODUCT(('05.10'!$E$1:$E$1897="HOTELLERIE / TOURISME")*('05.10'!$U$1:$U$1897="Produits")*('05.10'!$T$1:$T$1897="CST")*('05.10'!$R$1:$R$1897="DEVECO"),('05.10'!$L$1:$L$1897)) -> 0 | G9: =SUMPRODUCT(('05.10'!$E$1:$E$1897="HOTELLERIE / TOURISME")*('05.10'!$U$1:$U$1897="Produits")*('05.10'!$T$1:$T$1897="CST")*('05.10'!$R$1:$R$1897="DEVECO"),('05.10'!$P$1:$P$1897)) -> 0 | H9: =SUMPRODUCT(('05.10'!$E$1:$E$1897="HOTELLERIE / TOURISME")*('05.10'!$U$1:$U$1897="Produits")*('05.10'!$T$1:$T$1897="CST")*('05.10'!$R$1:$R$1897="DEVECO"),('05.10'!$Q$1:$Q$1897)) -> 0 | I9: =+(F9-D9)/D9 -> -1 | K9: =SUMPRODUCT((#REF!="HOTELLERIE / TOURISME")*(#REF!="Produits")*(#REF!="CST")*(#REF!="DEVECO"),(#REF!)) -> #REF! | L9: =SUMPRODUCT((#REF!="HOTELLERIE / TOURISME")*(#REF!="Produits")*(#REF!="CST")*(#REF!="DEVECO"),(#REF!))-$K9 -> #REF! | M9: =SUMPRODUCT(('05.10'!$E$1:$E$1897="HOTELLERIE / TOURISME")*('05.10'!$U$1:$U$1897="Produits")*('05.10'!$T$1:$T$1897="CST")*('05.10'!$R$1:$R$1897="DEVECO"),('05.10'!$O$1:$O$1897))-$K9-$L9 -> #REF! | O9: =+K9+L9+M9+N9 -> #REF! | P9: =+O9/E9 -> #REF!
B10: NOUVELLES PRESTATIONS | C10: 0 | D10: 0 | E10: 0 | F10: 0 | G10: =SUMPRODUCT((#REF!="PRE2")*(#REF!="Produits")*(#REF!="CST")*(#REF!="DEVECO"),(#REF!))+SUMPRODUCT((#REF!="PRE3")*(#REF!="Produits")*(#REF!="CST")*(#REF!="DEVECO"),(#REF!))+SUMPRODUCT((#REF!="PRE4")*(#REF!="Produits")*(#REF!="CST")*(#REF!="DEVECO"),(#REF!))+SUMPRODUCT((#REF!="PRE5")*(#REF!="Produits")*(#REF!="CST")*(#REF!="DEVECO"),(#REF!))+SUMPRODUCT((#REF!="PRE6")*(#REF!="Produits")*(#REF!="CST")*(#REF!="DEVECO"),(#REF!))+SUMPRODUCT((#REF!="PRE7")*(#REF!="Produits")*(#REF!="CST")*(#REF!="DEVECO"),(#REF!)) -> #REF! | H10: =SUMPRODUCT((#REF!="PRE2")*(#REF!="Produits")*(#REF!="CST")*(#REF!="DEVECO"),(#REF!))+SUMPRODUCT((#REF!="PRE3")*(#REF!="Produits")*(#REF!="CST")*(#REF!="DEVECO"),(#REF!))+SUMPRODUCT((#REF!="PRE4")*(#REF!="Produits")*(#REF!="CST")*(#REF!="DEVECO"),(#REF!))+SUMPRODUCT((#REF!="PRE5")*(#REF!="Produits")*(#REF!="CST")*(#REF!="DEVECO"),(#REF!))+SUMPRODUCT((#REF!="PRE6")*(#REF!="Produits")*(#REF!="CST")*(#REF!="DEVECO"),(#REF!))+SUMPRODUCT((#REF!="PRE7")*(#REF!="Produits")*(#REF!="CST")*(#REF!="DEVECO"),(#REF!))+SUMPRODUCT((#REF!="PRE8")*(#REF!="Produits")*(#REF!="CST")*(#REF!="DEVECO"),(#REF!)) -> #REF!
B11: Total produits | C11: =SUM(C5:C10) -> 72918.8 | D11: =SUM(D5:D10) -> 69435.92 | E11: =SUM(E5:E10) -> #REF! | F11: =SUM(F5:F10) -> 74199 | G11: =SUM(G5:G10) -> #REF! | H11: =SUM(H5:H10) -> #REF! | I11: =+(F11-D11)/D11 -> 0.068596772 | K11: =SUM(K5:K10) -> #REF! | L11: =SUM(L5:L10) -> #REF! | M11: =SUM(M5:M10) -> #REF! | N11: =SUM(N5:N10) -> 0 | O11: =SUM(O5:O9) -> #REF! | P11: =+O11/E11 -> #REF!
B13: Charges
B14: ANTENNE MAULEON / ODACE | C14: =55225.81+46014 -> 101239.81 | D14: =55488.43+46634 -> 102122.43 | E14: =-(SUMPRODUCT((#REF!="ANTENNE MAULEON / ODACE")*(#REF!="Charges")*(#REF!="CST")*(#REF!="DEVECO"),(#REF!))) -> #REF! | F14: =-(SUMPRODUCT(('05.10'!$E$1:$E$1897="ANTENNE MAULEON / ODACE")*('05.10'!$U$1:$U$1897="Charges")*('05.10'!$T$1:$T$1897="CST")*('05.10'!$R$1:$R$1897="DEVECO"),('05.10'!$L$1:$L$1897))) -> 103614 | G14: =-(SUMPRODUCT(('05.10'!$E$1:$E$1897="ANTENNE MAULEON / ODACE")*('05.10'!$U$1:$U$1897="Charges")*('05.10'!$T$1:$T$1897="CST")*('05.10'!$R$1:$R$1897="DEVECO"),('05.10'!$P$1:$P$1897))) -> 103375 | H14: =-(SUMPRODUCT(('05.10'!$E$1:$E$1897="ANTENNE MAULEON / ODACE")*('05.10'!$U$1:$U$1897="Charges")*('05.10'!$T$1:$T$1897="CST")*('05.10'!$R$1:$R$1897="DEVECO"),('05.10'!$Q$1:$Q$1897))) -> 103496 | I14: =+(F14-D14)/D14 -> 0.014605704 | K14: =-(SUMPRODUCT((#REF!="ANTENNE MAULEON / ODACE")*(#REF!="charges")*(#REF!="CST")*(#REF!="DEVECO"),(#REF!))) -> #REF! | L14: =-(SUMPRODUCT((#REF!="ANTENNE MAULEON / ODACE")*(#REF!="Charges")*(#REF!="CST")*(#REF!="DEVECO"),(#REF!)))-$K$14 -> #REF! | M14: =-(SUMPRODUCT(('05.10'!$E$1:$E$1897="ANTENNE MAULEON / ODACE")*('05.10'!$F$1:$F$1897="*")*('05.10'!$U$1:$U$1897="Charges")*('05.10'!$T$1:$T$1897="CST")*('05.10'!$R$1:$R$1897="DEVECO"),('05.10'!$O$1:$O$1897)))-$K$14-$L$14 -> #REF! | O14: =+K14+L14+M14+N14 -> #REF! | P14: =+O14/E14 -> #REF!
B15: CLUSTER TOURISME / GOAZEN | C15: 90134 | D15: =98292 -> 98292 | E15: =-(SUMPRODUCT((#REF!="CLUSTER TOURISME / GOAZEN")*(#REF!="Charges")*(#REF!="CST")*(#REF!="DEVECO"),(#REF!))) -> #REF! | F15: =-(SUMPRODUCT(('05.10'!$E$1:$E$1897="CLUSTER TOURISME / GOAZEN")*('05.10'!$U$1:$U$1897="Charges")*('05.10'!$T$1:$T$1897="CST")*('05.10'!$R$1:$R$1897="DEVECO"),('05.10'!$L$1:$L$1897))) -> 89861 | G15: =-(SUMPRODUCT(('05.10'!$E$1:$E$1897="CLUSTER TOURISME / GOAZEN")*('05.10'!$U$1:$U$1897="Charges")*('05.10'!$T$1:$T$1897="CST")*('05.10'!$R$1:$R$1897="DEVECO"),('05.10'!$P$1:$P$1897))) -> 89255 | H15: =-(SUMPRODUCT(('05.10'!$E$1:$E$1897="CLUSTER TOURISME / GOAZEN")*('05.10'!$U$1:$U$1897="Charges")*('05.10'!$T$1:$T$1897="CST")*('05.10'!$R$1:$R$1897="DEVECO"),('05.10'!$Q$1:$Q$1897))) -> 89376 | I15: =+(F15-D15)/D15 -> -0.085775038 | K15: =-(SUMPRODUCT((#REF!="CLUSTER TOURISME / GOAZEN")*(#REF!="Charges")*(#REF!="CST")*(#REF!="DEVECO"),(#REF!))) -> #REF! | L15: =-(SUMPRODUCT((#REF!="CLUSTER TOURISME / GOAZEN")*(#REF!="Charges")*(#REF!="CST")*(#REF!="DEVECO"),(#REF!)))-$K$15 -> #REF! | M15: =-(SUMPRODUCT(('05.10'!$E$1:$E$1897="CLUSTER TOURISME / GOAZEN")*('05.10'!$U$1:$U$1897="Charges")*('05.10'!$T$1:$T$1897="CST")*('05.10'!$R$1:$R$1897="DEVECO"),('05.10'!$O$1:$O$1897)))-K15-L15 -> #REF! | O15: =+K15+L15+M15+N15 -> #REF! | P15: =+O15/E15 -> #REF!
B16: COMMERCE RURAL | C16: 75011 | D16: 76408 | E16: =-(SUMPRODUCT((#REF!="COMMERCE RURAL")*(#REF!="Charges")*(#REF!="CST")*(#REF!="DEVECO"),(#REF!))) -> #REF! | F16: =-(SUMPRODUCT(('05.10'!$E$1:$E$1897="COMMERCE RURAL")*('05.10'!$U$1:$U$1897="Charges")*('05.10'!$T$1:$T$1897="CST")*('05.10'!$R$1:$R$1897="DEVECO"),('05.10'!$L$1:$L$1897))) -> 700 | G16: =-(SUMPRODUCT(('05.10'!$E$1:$E$1897="COMMERCE RURAL")*('05.10'!$U$1:$U$1897="Charges")*('05.10'!$T$1:$T$1897="CST")*('05.10'!$R$1:$R$1897="DEVECO"),('05.10'!$P$1:$P$1897))) -> 0 | H16: =-(SUMPRODUCT(('05.10'!$E$1:$E$1897="COMMERCE RURAL")*('05.10'!$U$1:$U$1897="Charges")*('05.10'!$T$1:$T$1897="CST")*('05.10'!$R$1:$R$1897="DEVECO"),('05.10'!$Q$1:$Q$1897))) -> 0 | I16: =+(F16-D16)/D16 -> -0.99083866 | K16: =-(SUMPRODUCT((#REF!="COMMERCE RURAL")*(#REF!="Charges")*(#REF!="CST")*(#REF!="DEVECO"),(#REF!))) -> #REF! | L16: =-(SUMPRODUCT((#REF!="COMMERCE RURAL")*(#REF!="Charges")*(#REF!="CST")*(#REF!="DEVECO"),(#REF!)))-$K$16 -> #REF! | M16: =-(SUMPRODUCT(('05.10'!$E$1:$E$1897="COMMERCE RURAL")*('05.10'!$U$1:$U$1897="Charges")*('05.10'!$T$1:$T$1897="CST")*('05.10'!$R$1:$R$1897="DEVECO"),('05.10'!$O$1:$O$1897)))-K16-L16 -> #REF! | O16: =+K16+L16+M16+N16 -> #REF! | P16: =+O16/E16 -> #REF!
B17: COMMERCE URBAIN | C17: 107102 | D17: 155630 | E17: =-(SUMPRODUCT((#REF!="COMMERCE URBAIN")*(#REF!="Charges")*(#REF!="CST")*(#REF!="DEVECO"),(#REF!))) -> #REF! | F17: =-(SUMPRODUCT(('05.10'!$E$1:$E$1897="COMMERCE URBAIN")*('05.10'!$U$1:$U$1897="Charges")*('05.10'!$T$1:$T$1897="CST")*('05.10'!$R$1:$R$1897="DEVECO"),('05.10'!$L$1:$L$1897))) -> 237206 | G17: =-(SUMPRODUCT(('05.10'!$E$1:$E$1897="COMMERCE URBAIN")*('05.10'!$U$1:$U$1897="Charges")*('05.10'!$T$1:$T$1897="CST")*('05.10'!$R$1:$R$1897="DEVECO"),('05.10'!$P$1:$P$1897))) -> 232719 | H17: =-(SUMPRODUCT(('05.10'!$E$1:$E$1897="COMMERCE URBAIN")*('05.10'!$U$1:$U$1897="Charges")*('05.10'!$T$1:$T$1897="CST")*('05.10'!$R$1:$R$1897="DEVECO"),('05.10'!$Q$1:$Q$1897))) -> 232946 | I17: =+(F17-D17)/D17 -> 0.52416629 | K17: =-(SUMPRODUCT((#REF!="COMMERCE URBAIN")*(#REF!="Charges")*(#REF!="CST")*(#REF!="DEVECO"),(#REF!))) -> #REF! | L17: =-(SUMPRODUCT((#REF!="COMMERCE URBAIN")*(#REF!="Charges")*(#REF!="CST")*(#REF!="DEVECO"),(#REF!)))-$K$17 -> #REF! | M17: =-(SUMPRODUCT(('05.10'!$E$1:$E$1897="COMMERCE URBAIN")*('05.10'!$U$1:$U$1897="Charges")*('05.10'!$T$1:$T$1897="CST")*('05.10'!$R$1:$R$1897="DEVECO"),('05.10'!$O$1:$O$1897)))-K17-L17 -> #REF! | O17: =+K17+L17+M17+N17 -> #REF! | P17: =+O17/E17 -> #REF!
B18: HOTELLERIE / TOURISME | C18: 50562 | D18: 50741 | E18: =-(SUMPRODUCT((#REF!="HOTELLERIE / TOURISME")*(#REF!="Charges")*(#REF!="CST")*(#REF!="DEVECO"),(#REF!))) -> #REF! | F18: =-(SUMPRODUCT(('05.10'!$E$1:$E$1897="HOTELLERIE / TOURISME")*('05.10'!$U$1:$U$1897="Charges")*('05.10'!$T$1:$T$1897="CST")*('05.10'!$R$1:$R$1897="DEVECO"),('05.10'!$L$1:$L$1897))) -> 54094 | G18: =-(SUMPRODUCT(('05.10'!$E$1:$E$1897="HOTELLERIE / TOURISME")*('05.10'!$U$1:$U$1897="Charges")*('05.10'!$T$1:$T$1897="CST")*('05.10'!$R$1:$R$1897="DEVECO"),('05.10'!$P$1:$P$1897))) -> 57181 | H18: =-(SUMPRODUCT(('05.10'!$E$1:$E$1897="HOTELLERIE / TOURISME")*('05.10'!$U$1:$U$1897="Charges")*('05.10'!$T$1:$T$1897="CST")*('05.10'!$R$1:$R$1897="DEVECO"),('05.10'!$Q$1:$Q$1897))) -> 57204 | I18: =+(F18-D18)/D18 -> 0.066080684 | K18: =-(SUMPRODUCT((#REF!="HOTELLERIE / TOURISME")*(#REF!="Charges")*(#REF!="CST")*(#REF!="DEVECO"),(#REF!))) -> #REF! | L18: =-(SUMPRODUCT((#REF!="HOTELLERIE / TOURISME")*(#REF!="Charges")*(#REF!="CST")*(#REF!="DEVECO"),(#REF!)))-$K$18 -> #REF! | M18: =-(SUMPRODUCT(('05.10'!$E$1:$E$1897="HOTELLERIE / TOURISME")*('05.10'!$U$1:$U$1897="Charges")*('05.10'!$T$1:$T$1897="CST")*('05.10'!$R$1:$R$1897="DEVECO"),('05.10'!$O$1:$O$1897)))-K18-L18 -> #REF! | O18: =+K18+L18+M18+N18 -> #REF! | P18: =+O18/E18 -> #REF!
B19: NOUVELLES PRESTATIONS | C19: 0 | D19: 0 | E19: 0 | F19: 0
B20: Total Charges | C20: =SUM(C14:C19) -> 424048.81 | D20: =SUM(D14:D19) -> 483193.43 | E20: =SUM(E14:E19) -> #REF! | F20: =SUM(F14:F19) -> 485475 | G20: =SUM(G14:G19) -> 482530 | H20: =SUM(H14:H19) -> 483022 | I20: =+(F20-D20)/D20 -> 0.0047218564 | K20: =SUM(K14:K19) -> #REF! | L20: =SUM(L14:L19) -> #REF! | M20: =SUM(M14:M19) -> #REF! | N20: =SUM(N14:N19) -> 0 | O20: =SUM(O14:O18) -> #REF! | P20: =+O20/E20 -> #REF!
B22: Ressource fiscale affectée
B23: ANTENNE MAULEON / ODACE | C23: =C5-C14 -> -55226.26 | D23: =D5-D14 -> -55485.43 | E23: =+E5-E14 -> #REF! | F23: =+F5-F14 -> -55190 | G23: =+G5-G14 -> -52937 | H23: =+H5-H14 -> -55190 | I23: =+I5-I14 -> 0.023711512 | K23: =K5-K14 -> #REF! | L23: =L5-L14 -> #REF! | M23: =M5-M14 -> #REF! | O23: =+K23+L23+M23+N23 -> #REF! | P23: =+O23/E23 -> #REF!
B24: CLUSTER TOURISME / GOAZEN | C24: =C6-C15 -> -74684.3 | D24: =D6-D15 -> -85949.67 | E24: =+E6-E15 -> #REF! | F24: =+F6-F15 -> -77361 | G24: =+G6-G15 -> -32255 | H24: =+H6-H15 -> -32376 | I24: =+I6-I15 -> 0.098549773 | K24: =K6-K15 -> #REF! | L24: =L6-L15 -> #REF! | M24: =M6-M15 -> #REF! | O24: =+K24+L24+M24+N24 -> #REF! | P24: =+O24/E24 -> #REF!
B25: COMMERCE RURAL | C25: =C7-C16 -> -75011 | D25: =D7-D16 -> -69407.98 | E25: =+E7-E16 -> #REF! | F25: =+F7-F16 -> -700 | G25: =+G7-G16 -> 0 | H25: =+H7-H16 -> 0 | I25: =+I7-I16 -> -0.0091613444 | K25: =K7-K16 -> #REF! | L25: =L7-L16 -> #REF! | M25: =M7-M16 -> #REF! | O25: =+K25+L25+M25+N25 -> #REF! | P25: =+O25/E25 -> #REF!
B26: COMMERCE URBAIN | C26: =C8-C17 -> -102752 | D26: =D8-D17 -> -153310 | E26: =+E8-E17 -> #REF! | F26: =+F8-F17 -> -223931 | G26: =+G8-G17 -> -207719 | H26: =+H8-H17 -> -207946 | I26: =+I8-I17 -> 4.1978165 | K26: =K8-K17 -> #REF! | L26: =L8-L17 -> #REF! | M26: =M8-M17 -> #REF! | O26: =+K26+L26+M26+N26 -> #REF! | P26: =+O26/E26 -> #REF!
B27: HOTELLERIE / TOURISME | C27: =C9-C18 -> -43456.45 | D27: =D9-D18 -> -49604.43 | E27: =+E9-E18 -> #REF! | F27: =+F9-F18 -> -54094 | G27: =+G9-G18 -> -57181 | H27: =+H9-H18 -> -57204 | I27: =+I9-I18 -> -1.0660807 | K27: =K9-K18 -> #REF! | L27: =L9-L18 -> #REF! | M27: =M9-M18 -> #REF! | O27: =+K27+L27+M27+N27 -> #REF! | P27: =+O27/E27 -> #REF!
B28: NOUVELLES PRESTATIONS | C28: 0 | D28: 0 | E28: 0 | F28: 0
B29: Total Ressource fiscale affectée | C29: =+C11-C20 -> -351130.01 | D29: =+D11-D20 -> -413757.51 | E29: =+E11-E20 -> #REF! | F29: =+F11-F20 -> -411276 | G29: =+G11-G20 -> #REF! | H29: =+H11-H20 -> #REF! | I29: =+(E29-D29)/D29 -> #REF! | K29: =+K11-K20 -> #REF! | L29: =+L11-L20 -> #REF! | M29: =+M11-M20 -> #REF! | N29: =+N11+N20 -> 0 | O29: =+O11+O20 -> #REF! | P29: =+O29/E29 -> #REF!
B31: Provisions | C31: -331 | D31: -560 | E31: =SUMPRODUCT((#REF!="*")*(#REF!="Provisions")*(#REF!="CST")*(#REF!="DEVECO"),(#REF!)) -> #REF! | F31: =SUMPRODUCT(('05.10'!$F$1:$F$1897="*")*('05.10'!$U$1:$U$1897="Provisions")*('05.10'!$T$1:$T$1897="CST")*('05.10'!$R$1:$R$1897="DEVECO"),('05.10'!$L$1:$L$1897)) -> -408 | G31: =SUMPRODUCT(('05.10'!$F$1:$F$1897="*")*('05.10'!$U$1:$U$1897="Provisions")*('05.10'!$T$1:$T$1897="CST")*('05.10'!$R$1:$R$1897="DEVECO"),('05.10'!$P$1:$P$1897)) -> 0 | H31: =SUMPRODUCT(('05.10'!$F$1:$F$1897="*")*('05.10'!$U$1:$U$1897="Provisions")*('05.10'!$T$1:$T$1897="CST")*('05.10'!$R$1:$R$1897="DEVECO"),('05.10'!$Q$1:$Q$1897)) -> 0 | K31: =SUMPRODUCT((#REF!="*")*(#REF!="Provisions")*(#REF!="CST")*(#REF!="DEVECO"),(#REF!)) -> #REF! | L31: =SUMPRODUCT((#REF!="Provisions")*(#REF!="CST")*(#REF!="DEVECO"),(#REF!))-K31 -> #REF! | M31: =SUMPRODUCT(('05.10'!$F$1:$F$1897="*")*('05.10'!$U$1:$U$1897="Provisions")*('05.10'!$T$1:$T$1897="CST")*('05.10'!$R$1:$R$1897="DEVECO"),('05.10'!$O$1:$O$1897))-K31-L31 -> #REF!
B33: Résultat net | C33: =C29+C31 -> -351461.01 | D33: =D29+D31 -> -414317.51 | E33: =E29+E31 -> #REF! | F33: =F29+F31 -> -411684 | G33: =G29+G31 -> #REF! | H33: =H29+H31 -> #REF! | I33: =I29+I31 -> #REF! | K33: =K29+K31 -> #REF! | L33: =L29+L31 -> #REF! | M33: =M29+M31 -> #REF! | N33: =N29+N31 -> 0 | O33: =O29+O31 -> #REF!

Sheet 05.10
A1: Année | B1: Société | C1: Ets | D1: Section | E1: Lib section | F1: Action | G1: Chapitre | H1: Lib chapitre | I1: Compte | J1: Libellé compte | K1: N-1 Exé | L1: Simulé | M1: Dernier voté | N1: Engagé | O1: Cptabilisé | P1: N+1 Prim | Q1: N+2 | R1: DEVECO 1 | S1: DEVECO 2 | T1: DEVECO 3 | U1: Produit/ Charges
A2: 2015 | B2: 10 | D2: 44 | E2: GESTION DU PERSONNEL | F2: PEC | G2: 67 | H2: CHARGES EXCEPTIONNELLES | I2: 671800 | J2: AUTRES CHARGES EXCEPTION- | K2: -44057 | L2: 0 | M2: 0 | P2: 0 | Q2: 0 | R2: =+VLOOKUP($D2,TP!$B:$E,3,FALSE) -> Services support | S2: =+VLOOKUP($D2,TP!$B:$E,4,FALSE) -> 0 | T2: =+VLOOKUP($D2,TP!$B:$F,5,FALSE) -> 0 | U2: =+VLOOKUP($G2,TP!$G:$J,4,FALSE) -> Charges
A3: 2015 | B3: 10 | D3: 44 | E3: GESTION DU PERSONNEL | F3: PEC | G3: 78 | H3: REPRISES S/AMORTISSEMENTS | I3: 781500 | J3: REPRISES S/ PROVISIONS P/ | K3: 22285 | L3: 0 | M3: 0 | P3: 0 | Q3: 0 | R3: =+VLOOKUP($D3,TP!$B:$E,3,FALSE) -> Services support | S3: =+VLOOKUP($D3,TP!$B:$E,4,FALSE) -> 0 | T3: =+VLOOKUP($D3,TP!$B:$F,5,FALSE) -> 0 | U3: =+VLOOKUP($G3,TP!$G:$J,4,FALSE) -> Provisions
A4: 2015 | B4: 10 | D4: 44 | E4: GESTION DU PERSONNEL | F4: * | G4: 28 | H4: AMORTISSEMENTS DES IMMO - | I4: 281832 | J4: AMORTISSEMENTS MATERIEL | K4: 470.7 | L4: 0 | M4: 0 | P4: 0 | Q4: 0 | R4: =+VLOOKUP($D4,TP!$B:$E,3,FALSE) -> Services support | S4: =+VLOOKUP($D4,TP!$B:$E,4,FALSE) -> 0 | T4: =+VLOOKUP($D4,TP!$B:$F,5,FALSE) -> 0 | U4: =+VLOOKUP($G4,TP!$G:$J,4,FALSE)
A5: 2015 | B5: 10 | D5: 44 | E5: GESTION DU PERSONNEL | F5: * | G5: 60 | H5: ACHATS | I5: 606320 | J5: PETIT MATERIEL-OUTILLAGE | K5: 0 | L5: -400 | M5: -100 | P5: -100 | Q5: -100 | R5: =+VLOOKUP($D5,TP!$B:$E,3,FALSE) -> Services support | S5: =+VLOOKUP($D5,TP!$B:$E,4,FALSE) -> 0 | T5: =+VLOOKUP($D5,TP!$B:$F,5,FALSE) -> 0 | U5: =+VLOOKUP($G5,TP!$G:$J,4,FALSE) -> Charges
A6: 2015 | B6: 10 | D6: 44 | E6: GESTION DU PERSONNEL | F6: * | G6: 60 | H6: ACHATS | I6: 606320 | J6: PETIT MATERIEL-OUTILLAGE | O6: -377.88 | R6: =+VLOOKUP($D6,TP!$B:$E,3,FALSE) -> Services support | S6: =+VLOOKUP($D6,TP!$B:$E,4,FALSE) -> 0 | T6: =+VLOOKUP($D6,TP!$B:$F,5,FALSE) -> 0 | U6: =+VLOOKUP($G6,TP!$G:$J,4,FALSE) -> Charges
A7: 2015 | B7: 10 | D7: 44 | E7: GESTION DU PERSONNEL | F7: * | G7: 60 | H7: ACHATS | I7: 606320 | J7: PETIT MATERIEL-OUTILLAGE | O7: -24.99 | R7: =+VLOOKUP($D7,TP!$B:$E,3,FALSE) -> Services support | S7: =+VLOOKUP($D7,TP!$B:$E,4,FALSE) -> 0 | T7: =+VLOOKUP($D7,TP!$B:$F,5,FALSE) -> 0 | U7: =+VLOOKUP($G7,TP!$G:$J,4,FALSE) -> Charges
A8: 2015 | B8: 10 | D8: 44 | E8: GESTION DU PERSONNEL | F8: * | G8: 60 | H8: ACHATS | I8: 606410 | J8: FOURNITURES DE BUREAU | K8: -590.09 | L8: -800 | M8: -700 | P8: -700 | Q8: -700 | R8: =+VLOOKUP($D8,TP!$B:$E,3,FALSE) -> Services support | S8: =+VLOOKUP($D8,TP!$B:$E,4,FALSE) -> 0 | T8: =+VLOOKUP($D8,TP!$B:$F,5,FALSE) -> 0 | U8: =+VLOOKUP($G8,TP!$G:$J,4,FALSE) -> Charges
A9: 2015 | B9: 10 | D9: 44 | E9: GESTION DU PERSONNEL | F9: * | G9: 60 | H9: ACHATS | I9: 606410 | J9: FOURNITURES DE BUREAU | O9: -43.14 | R9: =+VLOOKUP($D9,TP!$B:$E,3,FALSE) -> Services support | S9: =+VLOOKUP($D9,TP!$B:$E,4,FALSE) -> 0 | T9: =+VLOOKUP($D9,TP!$B:$F,5,FALSE) -> 0 | U9: =+VLOOKUP($G9,TP!$G:$J,4,FALSE) -> Charges
A10: 2015 | B10: 10 | D10: 44 | E10: GESTION DU PERSONNEL | F10: * | G10: 60 | H10: ACHATS | I10: 606410 | J10: FOURNITURES DE BUREAU | O10: -67.27 | R10: =+VLOOKUP($D10,TP!$B:$E,3,FALSE) -> Services support | S10: =+VLOOKUP($D10,TP!$B:$E,4,FALSE) -> 0 | T10: =+VLOOKUP($D10,TP!$B:$F,5,FALSE) -> 0 | U10: =+VLOOKUP($G10,TP!$G:$J,4,FALSE) -> Charges
A11: 2015 | B11: 10 | D11: 44 | E11: GESTION DU PERSONNEL | F11: * | G11: 60 | H11: ACHATS | I11: 606410 | J11: FOURNITURES DE BUREAU | O11: -230.4 | R11: =+VLOOKUP($D11,TP!$B:$E,3,FALSE) -> Services support | S11: =+VLOOKUP($D11,TP!$B:$E,4,FALSE) -> 0 | T11: =+VLOOKUP($D11,TP!$B:$F,5,FALSE) -> 0 | U11: =+VLOOKUP($G11,TP!$G:$J,4,FALSE) -> Charges
A12: 2015 | B12: 10 | D12: 44 | E12: GESTION DU PERSONNEL | F12: * | G12: 60 | H12: ACHATS | I12: 606410 | J12: FOURNITURES DE BUREAU | O12: -72.78 | R12: =+VLOOKUP($D12,TP!$B:$E,3,FALSE) -> Services support | S12: =+VLOOKUP($D12,TP!$B:$E,4,FALSE) -> 0 | T12: =+VLOOKUP($D12,TP!$B:$F,5,FALSE) -> 0 | U12: =+VLOOKUP($G12,TP!$G:$J,4,FALSE) -> Charges
A13: 2015 | B13: 10 | D13: 44 | E13: GESTION DU PERSONNEL | F13: * | G13: 60 | H13: ACHATS | I13: 606410 | J13: FOURNITURES DE BUREAU | O13: -3.98 | R13: =+VLOOKUP($D13,TP!$B:$E,3,FALSE) -> Services support | S13: =+VLOOKUP($D13,TP!$B:$E,4,FALSE) -> 0 | T13: =+VLOOKUP($D13,TP!$B:$F,5,FALSE) -> 0 | U13: =+VLOOKUP($G13,TP!$G:$J,4,FALSE) -> Charges
A14: 2015 | B14: 10 | D14: 44 | E14: GESTION DU PERSONNEL | F14: * | G14: 60 | H14: ACHATS | I14: 606410 | J14: FOURNITURES DE BUREAU | O14: -70.58 | R14: =+VLOOKUP($D14,TP!$B:$E,3,FALSE) -> Services support | S14: =+VLOOKUP($D14,TP!$B:$E,4,FALSE) -> 0 | T14: =+VLOOKUP($D14,TP!$B:$F,5,FALSE) -> 0 | U14: =+VLOOKUP($G14,TP!$G:$J,4,FALSE) -> Charges
A15: 2015 | B15: 10 | D15: 44 | E15: GESTION DU PERSONNEL | F15: * | G15: 60 | H15: ACHATS | I15: 606410 | J15: FOURNITURES DE BUREAU | O15: -11.4 | R15: =+VLOOKUP($D15,TP!$B:$E,3,FALSE) -> Services support | S15: =+VLOOKUP($D15,TP!$B:$E,4,FALSE) -> 0 | T15: =+VLOOKUP($D15,TP!$B:$F,5,FALSE) -> 0 | U15: =+VLOOKUP($G15,TP!$G:$J,4,FALSE) -> Charges
A16: 2015 | B16: 10 | D16: 44 | E16: GESTION DU PERSONNEL | F16: * | G16: 60 | H16: ACHATS | I16: 606410 | J16: FOURNITURES DE BUREAU | O16: -61.2 | R16: =+VLOOKUP($D16,TP!$B:$E,3,FALSE) -> Services support | S16: =+VLOOKUP($D16,TP!$B:$E,4,FALSE) -> 0 | T16: =+VLOOKUP($D16,TP!$B:$F,5,FALSE) -> 0 | U16: =+VLOOKUP($G16,TP!$G:$J,4,FALSE) -> Charges
A17: 2015 | B17: 10 | D17: 44 | E17: GESTION DU PERSONNEL | F17: * | G17: 60 | H17: ACHATS | I17: 606410 | J17: FOURNITURES DE BUREAU | O17: -53.11 | R17: =+VLOOKUP($D17,TP!$B:$E,3,FALSE) -> Services support | S17: =+VLOOKUP($D17,TP!$B:$E,4,FALSE) -> 0 | T17: =+VLOOKUP($D17,TP!$B:$F,5,FALSE) -> 0 | U17: =+VLOOKUP($G17,TP!$G:$J,4,FALSE) -> Charges
A18: 2015 | B18: 10 | D18: 44 | E18: GESTION DU PERSONNEL | F18: * | G18: 60 | H18: ACHATS | I18: 606410 | J18: FOURNITURES DE BUREAU | O18: -40.58 | R18: =+VLOOKUP($D18,TP!$B:$E,3,FALSE) -> Services support | S18: =+VLOOKUP($D18,TP!$B:$E,4,FALSE) -> 0 | T18: =+VLOOKUP($D18,TP!$B:$F,5,FALSE) -> 0 | U18: =+VLOOKUP($G18,TP!$G:$J,4,FALSE) -> Charges
A19: 2015 | B19: 10 | D19: 44 | E19: GESTION DU PERSONNEL | F19: * | G19: 60 | H19: ACHATS | I19: 606430 | J19: COMSOMMABLE INFORMATIQUE | K19: -15.74 | L19: 0 | M19: 0 | P19: 0 | Q19: 0 | R19: =+VLOOKUP($D19,TP!$B:$E,3,FALSE) -> Services support | S19: =+VLOOKUP($D19,TP!$B:$E,4,FALSE) -> 0 | T19: =+VLOOKUP($D19,TP!$B:$F,5,FALSE) -> 0 | U19: =+VLOOKUP($G19,TP!$G:$J,4,FALSE) -> Charges
A20: 2015 | B20: 10 | D20: 44 | E20: GESTION DU PERSONNEL | F20: * | G20: 61 | H20: SERVICES EXTERIEURS | I20: 615610 | J20: MAINTENANCE | O20: -50.62 | R20: =+VLOOKUP($D20,TP!$B:$E,3,FALSE) -> Services support | S20: =+VLOOKUP($D20,TP!$B:$E,4,FALSE) -> 0 | T20: =+VLOOKUP($D20,TP!$B:$F,5,FALSE) -> 0 | U20: =+VLOOKUP($G20,TP!$G:$J,4,FALSE) -> Charges
A21: 2015 | B21: 10 | D21: 44 | E21: GESTION DU PERSONNEL | F21: * | G21: 61 | H21: SERVICES EXTERIEURS | I21: 615610 | J21: MAINTENANCE | O21: 50.62 | R21: =+VLOOKUP($D21,TP!$B:$E,3,FALSE) -> Services support | S21: =+VLOOKUP($D21,TP!$B:$E,4,FALSE) -> 0 | T21: =+VLOOKUP($D21,TP!$B:$F,5,FALSE) -> 0 | U21: =+VLOOKUP($G21,TP!$G:$J,4,FALSE) -> Charges
A22: 2015 | B22: 10 | D22: 44 | E22: GESTION DU PERSONNEL | F22: * | G22: 61 | H22: SERVICES EXTERIEURS | I22: 615610 | J22: MAINTENANCE | K22: -155.04 | L22: -150 | M22: 0 | P22: -150 | Q22: -150 | R22: =+VLOOKUP($D22,TP!$B:$E,3,FALSE) -> Services support | S22: =+VLOOKUP($D22,TP!$B:$E,4,FALSE) -> 0 | T22: =+VLOOKUP($D22,TP!$B:$F,5,FALSE) -> 0 | U22: =+VLOOKUP($G22,TP!$G:$J,4,FALSE) -> Charges
A23: 2015 | B23: 10 | D23: 44 | E23: GESTION DU PERSONNEL | F23: * | G23: 61 | H23: SERVICES EXTERIEURS | I23: 615610 | J23: MAINTENANCE | O23: -39.02 | R23: =+VLOOKUP($D23,TP!$B:$E,3,FALSE) -> Services support | S23: =+VLOOKUP($D23,TP!$B:$E,4,FALSE) -> 0 | T23: =+VLOOKUP($D23,TP!$B:$F,5,FALSE) -> 0 | U23: =+VLOOKUP($G23,TP!$G:$J,4,FALSE) -> Charges
A24: 2015 | B24: 10 | D24: 44 | E24: GESTION DU PERSONNEL | F24: * | G24: 61 | H24: SERVICES EXTERIEURS | I24: 615610 | J24: MAINTENANCE | O24: -48.3 | R24: =+VLOOKUP($D24,TP!$B:$E,3,FALSE) -> Services support | S24: =+VLOOKUP($D24,TP!$B:$E,4,FALSE) -> 0 | T24: =+VLOOKUP($D24,TP!$B:$F,5,FALSE) -> 0 | U24: =+VLOOKUP($G24,TP!$G:$J,4,FALSE) -> Charges
A25: 2015 | B25: 10 | D25: 44 | E25: GESTION DU PERSONNEL | F25: * | G25: 61 | H25: SERVICES EXTERIEURS | I25: 615620 | J25: MAINTENANCE MAT.INFORMAT. | K25: -4125.88 | L25: -2015 | M25: -770 | P25: -2050 | Q25: -2100 | R25: =+VLOOKUP($D25,TP!$B:$E,3,FALSE) -> Services support | S25: =+VLOOKUP($D25,TP!$B:$E,4,FALSE) -> 0 | T25: =+VLOOKUP($D25,TP!$B:$F,5,FALSE) -> 0 | U25: =+VLOOKUP($G25,TP!$G:$J,4,FALSE) -> Charges
A26: 2015 | B26: 10 | D26: 44 | E26: GESTION DU PERSONNEL | F26: * | G26: 61 | H26: SERVICES EXTERIEURS | I26: 615620 | J26: MAINTENANCE MAT.INFORMAT. | O26: -108.32 | R26: =+VLOOKUP($D26,TP!$B:$E,3,FALSE) -> Services support | S26: =+VLOOKUP($D26,TP!$B:$E,4,FALSE) -> 0 | T26: =+VLOOKUP($D26,TP!$B:$F,5,FALSE) -> 0 | U26: =+VLOOKUP($G26,TP!$G:$J,4,FALSE) -> Charges
A27: 2015 | B27: 10 | D27: 44 | E27: GESTION DU PERSONNEL | F27: * | G27: 61 | H27: SERVICES EXTERIEURS | I27: 615620 | J27: MAINTENANCE MAT.INFORMAT. | O27: -108.32 | R27: =+VLOOKUP($D27,TP!$B:$E,3,FALSE) -> Services support | S27: =+VLOOKUP($D27,TP!$B:$E,4,FALSE) -> 0 | T27: =+VLOOKUP($D27,TP!$B:$F,5,FALSE) -> 0 | U27: =+VLOOKUP($G27,TP!$G:$J,4,FALSE) -> Charges
A28: 2015 | B28: 10 | D28: 44 | E28: GESTION DU PERSONNEL | F28: * | G28: 61 | H28: SERVICES EXTERIEURS | I28: 615620 | J28: MAINTENANCE MAT.INFORMAT. | O28: -108.32 | R28: =+VLOOKUP($D28,TP!$B:$E,3,FALSE) -> Services support | S28: =+VLOOKUP($D28,TP!$B:$E,4,FALSE) -> 0 | T28: =+VLOOKUP($D28,TP!$B:$F,5,FALSE) -> 0 | U28: =+VLOOKUP($G28,TP!$G:$J,4,FALSE) -> Charges
A29: 2015 | B29: 10 | D29: 44 | E29: GESTION DU PERSONNEL | F29: * | G29: 61 | H29: SERVICES EXTERIEURS | I29: 615620 | J29: MAINTENANCE MAT.INFORMAT. | O29: -1582.62 | R29: =+VLOOKUP($D29,TP!$B:$E,3,FALSE) -> Services support | S29: =+VLOOKUP($D29,TP!$B:$E,4,FALSE) -> 0 | T29: =+VLOOKUP($D29,TP!$B:$F,5,FALSE) -> 0 | U29: =+VLOOKUP($G29,TP!$G:$J,4,FALSE) -> Charges
A30: 2015 | B30: 10 | D30: 44 | E30: GESTION DU PERSONNEL | F30: * | G30: 61 | H30: SERVICES EXTERIEURS | I30: 618100 | J30: ABONNEMENT DOCUMENTATION | K30: -1594.11 | L30: -850 | M30: -800 | P30: -850 | Q30: -850 | R30: =+VLOOKUP($D30,TP!$B:$E,3,FALSE) -> Services support | S30: =+VLOOKUP($D30,TP!$B:$E,4,FALSE) -> 0 | T30: =+VLOOKUP($D30,TP!$B:$F,5,FALSE) -> 0 | U30: =+VLOOKUP($G30,TP!$G:$J,4,FALSE) -> Charges
A31: 2015 | B31: 10 | D31: 44 | E31: GESTION DU PERSONNEL | F31: * | G31: 61 | H31: SERVICES EXTERIEURS | I31: 618100 | J31: ABONNEMENT DOCUMENTATION | O31: -304.8 | R31: =+VLOOKUP($D31,TP!$B:$E,3,FALSE) -> Services support | S31: =+VLOOKUP($D31,TP!$B:$E,4,FALSE) -> 0 | T31: =+VLOOKUP($D31,TP!$B:$F,5,FALSE) -> 0 | U31: =+VLOOKUP($G31,TP!$G:$J,4,FALSE) -> Charges
A32: 2015 | B32: 10 | D32: 44 | E32: GESTION DU PERSONNEL | F32: * | G32: 61 | H32: SERVICES EXTERIEURS | I32: 618100 | J32: ABONNEMENT DOCUMENTATION | O32: -138.86 | R32: =+VLOOKUP($D32,TP!$B:$E,3,FALSE) -> Services support | S32: =+VLOOKUP($D32,TP!$B:$E,4,FALSE) -> 0 | T32: =+VLOOKUP($D32,TP!$B:$F,5,FALSE) -> 0 | U32: =+VLOOKUP($G32,TP!$G:$J,4,FALSE) -> Charges
A33: 2015 | B33: 10 | D33: 44 | E33: GESTION DU PERSONNEL | F33: * | G33: 61 | H33: SERVICES EXTERIEURS | I33: 618100 | J33: ABONNEMENT DOCUMENTATION | O33: -275.67 | R33: =+VLOOKUP($D33,TP!$B:$E,3,FALSE) -> Services support | S33: =+VLOOKUP($D33,TP!$B:$E,4,FALSE) -> 0 | T33: =+VLOOKUP($D33,TP!$B:$F,5,FALSE) -> 0 | U33: =+VLOOKUP($G33,TP!$G:$J,4,FALSE) -> Charges
A34: 2015 | B34: 10 | D34: 44 | E34: GESTION DU PERSONNEL | F34: * | G34: 61 | H34: SERVICES EXTERIEURS | I34: 618100 | J34: ABONNEMENT DOCUMENTATION | O34: -79 | R34: =+VLOOKUP($D34,TP!$B:$E,3,FALSE) -> Services support | S34: =+VLOOKUP($D34,TP!$B:$E,4,FALSE) -> 0 | T34: =+VLOOKUP($D34,TP!$B:$F,5,FALSE) -> 0 | U34: =+VLOOKUP($G34,TP!$G:$J,4,FALSE) -> Charges
A35: 2015 | B35: 10 | D35: 44 | E35: GESTION DU PERSONNEL | F35: * | G35: 61 | H35: SERVICES EXTERIEURS | I35: 618110 | J35: OUVRAGES DOCUMENTATION | K35: -240.82 | L35: -200 | M35: -200 | P35: -200 | Q35: -200 | R35: =+VLOOKUP($D35,TP!$B:$E,3,FALSE) -> Services support | S35: =+VLOOKUP($D35,TP!$B:$E,4,FALSE) -> 0 | T35: =+VLOOKUP($D35,TP!$B:$F,5,FALSE) -> 0 | U35: =+VLOOKUP($G35,TP!$G:$J,4,FALSE) -> Charges
A36: 2015 | B36: 10 | D36: 44 | E36: GESTION DU PERSONNEL | F36: * | G36: 61 | H36: SERVICES EXTERIEURS | I36: 618110 | J36: OUVRAGES DOCUMENTATION | O36: -135 | R36: =+VLOOKUP($D36,TP!$B:$E,3,FALSE) -> Services support | S36: =+VLOOKUP($D36,TP!$B:$E,4,FALSE) -> 0 | T36: =+VLOOKUP($D36,TP!$B:$F,5,FALSE) -> 0 | U36: =+VLOOKUP($G36,TP!$G:$J,4,FALSE) -> Charges
A37: 2015 | B37: 10 | D37: 44 | E37: GESTION DU PERSONNEL | F37: * | G37: 61 | H37: SERVICES EXTERIEURS | I37: 618110 | J37: OUVRAGES DOCUMENTATION | N37: -65.01 | R37: =+VLOOKUP($D37,TP!$B:$E,3,FALSE) -> Services support | S37: =+VLOOKUP($D37,TP!$B:$E,4,FALSE) -> 0 | T37: =+VLOOKUP($D37,TP!$B:$F,5,FALSE) -> 0 | U37: =+VLOOKUP($G37,TP!$G:$J,4,FALSE) -> Charges
A38: 2015 | B38: 10 | D38: 44 | E38: GESTION DU PERSONNEL | F38: * | G38: 62 | H38: AUT. SERVICES EXTERIEURS | I38: 186287 | J38: F.P.C. | K38: -3000 | L38: 0 | M38: 0 | P38: 0 | Q38: 0 | R38: =+VLOOKUP($D38,TP!$B:$E,3,FALSE) -> Services support | S38: =+VLOOKUP($D38,TP!$B:$E,4,FALSE) -> 0 | T38: =+VLOOKUP($D38,TP!$B:$F,5,FALSE) -> 0 | U38: =+VLOOKUP($G38,TP!$G:$J,4,FALSE) -> Charges
A39: 2015 | B39: 10 | D39: 44 | E39: GESTION DU PERSONNEL | F39: * | G39: 62 | H39: AUT. SERVICES EXTERIEURS | I39: 621100 | J39: PERSONNEL INTERIMAIRE | K39: -3067.6 | L39: 0 | M39: 0 | P39: 0 | Q39: 0 | R39: =+VLOOKUP($D39,TP!$B:$E,3,FALSE) -> Services support | S39: =+VLOOKUP($D39,TP!$B:$E,4,FALSE) -> 0 | T39: =+VLOOKUP($D39,TP!$B:$F,5,FALSE) -> 0 | U39: =+VLOOKUP($G39,TP!$G:$J,4,FALSE) -> Charges
A40: 2015 | B40: 10 | D40: 44 | E40: GESTION DU PERSONNEL | F40: * | G40: 62 | H40: AUT. SERVICES EXTERIEURS | I40: 621400 | J40: PERS. DETACHE PERMANENTS | K40: 0 | L40: 0 | M40: -22070 | P40: 0 | Q40: 0 | R40: =+VLOOKUP($D40,TP!$B:$E,3,FALSE) -> Services support | S40: =+VLOOKUP($D40,TP!$B:$E,4,FALSE) -> 0 | T40: =+VLOOKUP($D40,TP!$B:$F,5,FALSE) -> 0 | U40: =+VLOOKUP($G40,TP!$G:$J,4,FALSE) -> Charges
...

Sheet TP
A1: Table paramètre
U2: Etat fi | V2: (Tous)
A3: 1 - Service Général : Services support / DEVECO | G3: 2 - Bilan / CR | N3: 3 - Détail charges / Produits
A4: Société | B4: Section | C4: Lib section | G4: Chapitre | H4: Lib chapitre | I4: Etat fi | J4: CR | N4: Chapitre | O4: Lib chapitre | P4: Compte | Q4: Libellé compte | U4: Étiquettes de lignes
A5: 10 | B5: 11 | C5: PRESIDENCE | D5: Services support | G5: 10 | H5: CAPITAL ET RESERVES | I5: Bilan | N5: 60 | O5: ACHATS | P5: 186064 | Q5: FOURNITURES DE BUREAU
A6: 10 | B6: 13 | C6: DIRECTION GENERALE | D6: Services support | G6: 11 | H6: REPORT A NOUVEAU | I6: Bilan | P6: 604500 | Q6: MISE A JOUR DE LOGICIELS | U6: 102800 ECART D'OUVERTURE PREMIER
A7: 10 | B7: 14 | C7: JURIDIQUE | D7: Services support | G7: 13 | H7: SUBVENTIONS D'INVESTISS. | I7: Bilan | P7: 605000 | Q7: ACHAT MATERIEL,EQUIPEMENT | U7: 110100 REPORT ANV CRED.N.AFFECTE
A8: 10 | B8: 15 | C8: ACHATS / MARCHÉS PUBLICS | D8: Services support | G8: 15 | H8: PROVISIONS POUR RISQUES & | I8: Bilan | P8: 606110 | Q8: EAU | U8: 151801 AUT.PROVIS°P/RISQUES D.E
A9: 10 | B9: 21 | C9: COMMUNICATION | D9: Services support | G9: 16 | H9: EMPRUNTS ET DETTES ASSIM. | I9: Bilan | P9: 606120 | Q9: ELECTRICITE | U9: 158801 AUT.PROV.P/CHARGES D.E.
A10: 10 | B10: 22 | C10: ARCHIVES | D10: Services support | G10: 20 | H10: IMMO. INCORPORELLES | I10: Bilan | P10: 606140 | Q10: GAZ DE CHAUFFAGE | U10: 158802 AUT.PROV.P/CHARGES AUGM.
A11: 10 | B11: 32 | C11: IMPLANTATIONS | D11: Implantations | G11: 21 | H11: IMMO. CORPORELLES | I11: Bilan | P11: 606150 | Q11: AIR COMPRIME, OXYGENE, | U11: 158803 AUT.PROV.P/CHARGES DIMIN.
A12: 10 | B12: 33 | C12: SPL GLISSE | D12: DEVECO | E12: SPL GLISSE | F12: Transverse | G12: 22 | H12: IMMO. EN CONCESSION | I12: Bilan | P12: 606310 | Q12: PRODUITS D'ENTRETIEN & DE | U12: 164001 EMPRUNTS ETAB.CREDIT D.E.
A13: 10 | B13: 41 | C13: ACCUEIL | D13: Services support | G13: 23 | H13: IMMOBILISATIONS EN COURS | I13: Bilan | P13: 606320 | Q13: PETIT MATERIEL-OUTILLAGE | U13: 164002 EMPRUNTS ET.CREDIT VERSES
A14: 10 | B14: 42 | C14: FINANCE GESTION | D14: Services support | G14: 26 | H14: PARTICIPATIONS & CREANCES | I14: Bilan | P14: 606410 | Q14: FOURNITURES DE BUREAU | U14: 165101 DEPOTS DEBUT EXERCICE
A15: 10 | B15: 43 | C15: INFORMATIQUE | D15: Services support | G15: 27 | H15: AUTRES IMMO. FINANCIERES | I15: Bilan | P15: 606420 | Q15: IMPRIMES DIVERS | U15: 168841 INT.COURUS ETAB.DE CREDIT
A16: 10 | B16: 44 | C16: GESTION DU PERSONNEL | D16: Services support | G16: 28 | H16: AMORTISSEMENTS DES IMMO - | I16: Bilan | P16: 606430 | Q16: COMSOMMABLE INFORMATIQUE | U16: 168842 INT.COURUS ETAB. CREDIT
A17: 10 | B17: 52 | C17: RELATIONS INTERNATIONALES | D17: DEVECO | E17: RELATIONS INTERNATIONALES | F17: Transverse | G17: 29 | H17: PROVISIONS P/DEPRECIATION | I17: Bilan | P17: 606440 | Q17: FOURNITURES SCOLAIRES ET | U17: 168843 INT.COURUS ETAB. CREDIT
A18: 10 | B18: 53 | C18: INFO. AUX ENTREPRISES | D18: DEVECO | E18: Guichet unique | F18: GU | G18: 30 | H18: Erreur | I18: Bilan | P18: 606810 | Q18: HABILLEMENT ET VETEMENTS | U18: 186287 F.P.C.
A19: 10 | B19: 55 | C19: RETRAITE-AGEFICE | D19: DEVECO | E19: RETRAITE-AGEFICE | F19: Transverse | G19: 40 | H19: FOURNISSEURS ET COMPTES | I19: Bilan | P19: 606820 | Q19: COMBUSTIBLES, CARBURANT, | U19: 186400 SALAIRES ET CHARGES SOC.
A20: 10 | B20: 58 | C20: MARQUE TERRITORIALE | D20: DEVECO | E20: MARQUE TERRITORIALE | F20: Transverse | G20: 41 | H20: CLIENTS-COMPTES RATTACHES | I20: Bilan | P20: 625700 | Q20: RECEPTIONS | U20: 186800 CONTRIBUTIONS VERSEES
A21: 10 | B21: 61 | C21: ESTIA / FORMATION | D21: Services support | G21: 42 | H21: PERSONNEL ET COMPTES | I21: Bilan | N21: 61 | O21: SERVICES EXTERIEURS | P21: 186132 | Q21: LOCATION BUREAUX-SALLES | U21: 187067 PRESTATIONS DE FORMATION
A22: 10 | B22: 71 | C22: HOTEL CONSULAIRE | D22: Services support | G22: 44 | H22: ETAT-AUTRES COLLECTIVITES | I22: Bilan | P22: 186140 | Q22: CHARGES LOCATIVES | U22: 187068 LOCAT° BUREAUX-SALLES
A23: 10 | B23: 91 | C23: MOYENS GENERAUX | D23: Services support | G23: 46 | H23: DEBITEURS ET CREDITEURS | I23: Bilan | P23: 611000 | Q23: SOUS TRAITANCE | U23: 187080 INTER SERV. TELEPHONE
A24: 10 | B24: 121 | C24: ASSEMBLEE DES ELUS | D24: Services support | G24: 48 | H24: COMPTES DE REGULARISATION | I24: Bilan | P24: 612210 | Q24: CREDIT-BAIL MOBILIER | U24: 187081 INTER S.CHARGES LOCATIVES
A25: 10 | B25: 122 | C25: ELECTIONS CONSULAIRES | D25: Services support | G25: 49 | H25: PROVISIONS P/DEPRECIATION | I25: Bilan | P25: 612220 | Q25: CREDIT-BAIL DU MATERIEL | U25: 187082 REMBT FOURNITURES BUREAU
A26: 10 | B26: 451 | C26: EQUIPEMENTS | D26: Services support | G26: 50 | H26: VALEURS MOBILIERES DE | I26: Bilan | P26: 613200 | Q26: LOCATIONS IMMOBILIERES | U26: 187083 REMBT PHOTOCOPIES
A27: 10 | B27: 452 | C27: PORT DE SAINT JEAN DE LUZ | D27: Services support | G27: 51 | H27: BANQUES, ETABLISSEMENTS | I27: Bilan | P27: 613510 | Q27: LOCATIONS MOBILIERES | U27: 187084 INTER SERV. FRAIS DE PERS
A28: 10 | B28: 453 | C28: PORT DE BAYONNE | D28: Services support | G28: 60 | H28: ACHATS | I28: CR | J28: Charges | P28: 613520 | Q28: LOCATION MAT.INFORMATIQUE | U28: 187086 INTER SERV. DEPLACEMENTS
A29: 10 | B29: 511 | C29: COMMERCE URBAIN | D29: DEVECO | E29: Commerce / Tourisme | F29: CST | G29: 61 | H29: SERVICES EXTERIEURS | I29: CR | J29: Charges | P29: 613530 | Q29: LOCATIONS DE VEHICULES | U29: 187087 INTER SERV. AFFRANCHISST
A30: 10 | B30: 512 | C30: INDUSTRIE | D30: DEVECO | E30: PME | F30: PME | G30: 62 | H30: AUT. SERVICES EXTERIEURS | I30: CR | J30: Charges | P30: 614000 | Q30: CHARGES LOCATIVES | U30: 187089 AUTRES PRODUITS
A31: 10 | B31: 513 | C31: HOTELLERIE / TOURISME | D31: DEVECO | E31: Commerce / Tourisme | F31: CST | G31: 63 | H31: IMPOTS ET TAXES ET VERSTS | I31: CR | J31: Charges | P31: 615200 | Q31: ENTR.REPAR.BIENS IMMOBIL. | U31: 187681 INTERETS AVANCES TRESO.
A32: 10 | B32: 514 | C32: CREATION / TRANSMISSION | D32: DEVECO | E32: Création / Transmission | F32: C°/T° | G32: 64 | H32: CHARGES DE PERSONNEL | I32: CR | J32: Charges | P32: 615510 | Q32: ENTR.REPAR.BIENS MOBILIER | U32: 187800 CONTRIBUTIONS RECUES
A33: 10 | B33: 515 | C33: N.T.I.C. | D33: DEVECO | E33: N.T.I.C. | F33: Transverse | G33: 65 | H33: AUTRES CHARGES DE GESTION | I33: CR | J33: Charges | P33: 615520 | Q33: ENTR.REPAR.MAT.INFORMATIQ | U33: 204001 PARTICIP.FONDS ENTREPRISE
A34: 10 | B34: 517 | C34: C.F.E. | D34: DEVECO | E34: Guichet unique | F34: GU | G34: 66 | H34: CHARGES FINANCIERES | I34: CR | J34: Charges | P34: 615610 | Q34: MAINTENANCE | U34: 205101 LOGICIELS DEBUT EXERCICE
A35: 10 | B35: 518 | C35: CCGA / TRANSMISSION ENTR. | D35: DEVECO | E35: Création / Transmission | F35: C°/T° | G35: 67 | H35: CHARGES EXCEPTIONNELLES | I35: CR | J35: Charges | P35: 615620 | Q35: MAINTENANCE MAT.INFORMAT. | U35: 205102 LOGICIELS AUGMENTATION
A36: 10 | B36: 521 | C36: CCI TRANSFRONTALIERE | D36: DEVECO | E36: CCI TRANSFRONTALIERE | F36: Transverse | G36: 68 | H36: DOTATIONS AMORTISSEMENTS | I36: CR | J36: Provisions | P36: 616110 | Q36: PRIMES D'ASSURANCES | U36: 205103 LOGICIELS DIMINUTION
A37: 10 | B37: 522 | C37: FORMALITÉS INTERNATIONAL. | D37: DEVECO | E37: Guichet unique | F37: GU | G37: 69 | H37: IMPOTS SUR LES BENEFICES | I37: CR | J37: Charges | P37: 616200 | Q37: ASS.DOMMAGES CONSTRUCTION | U37: 211101 TERRAINS NUS DEBUT EXERC.
A38: 10 | B38: 533 | C38: SERVICE ETUDES | D38: DEVECO | E38: SERVICE ETUDES | F38: Transverse | G38: 70 | H38: VENTE PROD. FAB.,PRESTAT° | I38: CR | J38: Produits | P38: 617000 | Q38: ETUDES ET RECHERCHES | U38: 212001 AGENCEMENTS, AMENAGEMENTS
A39: 10 | B39: 542 | C39: ANTENNE MAULEON / ODACE | D39: DEVECO | E39: Commerce / Tourisme | F39: CST | G39: 74 | H39: SUBVENTIONS EXPLOITATION | I39: CR | J39: Produits | P39: 618100 | Q39: ABONNEMENT DOCUMENTATION | U39: 213151 CONSTRUCT°ENSEMBLES IMMO.
A40: 10 | B40: 621 | C40: C.E.L. CCF BAYONNE | D40: Services support | G40: 75 | H40: AUTRES PRODUITS GESTION | I40: CR | J40: Produits | P40: 618110 | Q40: OUVRAGES DOCUMENTATION | U40: 213501 CONSTRUCT° INSTALLAT°GLES
...
