Workbook

Sheet S18
A1: 42492
A4: Planning préparation | F4: Objectif SEB + PAC (J+1) | K4: Prod Prépa | P4: État (instant t) | U4: Reste à expédier
A5: Tonnage jour | D5: =SUM(G16,L16,L21,L26,L31,L36,L41,Q16,Q21,Q26,Q31,Q36,Q41,V16,V21,V26,V31,V36,V41) -> 24.178 | F5: Nb colis à SEB | I5: =SUM(I14,N14,N19,N24,N29,N34,N39,S14,S19,S24,S29,S34,S39,X14,X19,X24,X29,X34,X39) -> 443 | K5: Nb colis préparés | N5: =AB12 -> 690 | P5: Nb colis SEB | S5: =AE12 -> 443 | U5: Nb dossier à quai | X5: =AG12-AI12 -> 0 | AB5: Nb dossier à quai | AD5: =SUM(X5,X48,X91,X134,X177,X220) -> 1
A6: Nb colis à préparer | D6: =SUM(G14,L14,L19,L24,L29,L34,L39,Q14,Q19,Q24,Q29,Q34,Q39,V14,V19,V24,V29,V34,V39) -> 690 | F6: Nb colis nus | I6: =D6-I5 -> 247 | K6: Nb prélèvement | N6: =AC12 -> 252 | P6: NB colis devant chaîne | S6: =AF12-AE12 -> 0 | U6: Nb colis à quai | X6: =AH12-AJ12 -> 0 | AB6: Nb colis à quai | AD6: =SUM(X6,X49,X92,X135,X178,X221) -> 362
A7: Nb de lignes | D7: =SUM(G15,L15,L20,L25,L30,L35,L40,Q15,Q20,Q25,Q30,Q35,Q40,V15,V20,V25,V30,V35,V40) -> 252 | K7: Tonnage effectué | N7: =AD12 -> 24.178 | AB7: NB colis devant chaîne | AD7: =SUM(S6,S49,S92,S135,S178) -> 0
A8: Nb de dossier | D8: =COUNTA(F12,K12,K17,K22,K27,K32,K37,P12,P17,P22,P27,P32,P37,U12,U17,U22,U27,U32,U37) -> 15
K9: Reste à prélever | N9: =D6-N5 -> 0 | P9: Reste à suremballer | S9: =I5-S5 -> 0
K10: Nb lignes restantes | N10: =D7-N6 -> 0
A11: ÉQUIPE 1 | F11: ÉQUIPE 2 | K11: ÉQUIPE 3 | P11: ÉQUIPE 4 | U11: ÉQUIPE 5 | AB11: Prépa | AE11: SEB | AG11: Zone PAP
K12: 501-04/05 | L12: TR | N12: TR | O12: EF | P12: 511-04/05 | Q12: TR | S12: TR | T12: EF | U12: 507-04/05 | V12: TR | X12: TR | Y12: EF | AB12: =SUM(AB13:AB30) -> 690 | AC12: =SUM(AC13:AC30) -> 252 | AD12: =SUM(AD13:AD30) -> 24.178 | AE12: =SUM(AE13:AE30) -> 443 | AF12: =SUM(AF13:AF30) -> 443 | AG12: =SUM(AG13:AG30) -> 15 | AH12: =SUM(AH13:AH30) -> 690 | AI12: =SUM(AI13:AI30) -> 15 | AJ12: =SUM(AJ13:AJ30) -> 690
AB13: =IF(L12="TR",L14,"") -> 26 | AC13: =IF(L12="TR",L15,"") -> 16 | AD13: =IF(L12="TR",L16,"") -> 0.705 | AE13: =IF(N12="TR",N14,"") -> 22 | AF13: =IF(L12="TR",N14,"") -> 22 | AG13: =IF(N12="TR",1,"") -> 1 | AH13: =IF(N12="TR",L14,"") -> 26 | AI13: =IF(O12="EF",1,"") -> 1 | AJ13: =IF(O12="EF",L14,"") -> 26
K14: TOTAL | L14: 26 | M14: Nb SEB | N14: 22 | P14: TOTAL | Q14: 7 | R14: Nb SEB | S14: 7 | U14: TOTAL | V14: 46 | W14: Nb SEB | X14: 46 | AB14: =IF(L17="TR",L19,"") -> 6 | AC14: =IF(L17="TR",L20,"") -> 3 | AD14: =IF(L17="TR",L21,"") -> 0.091 | AE14: =IF(N17="TR",N19,"") -> 2 | AF14: =IF(L17="TR",N19,"") -> 2 | AG14: =IF(N17="TR",1,"") -> 1 | AH14: =IF(N17="TR",L19,"") -> 6 | AI14: =IF(O17="EF",1,"") -> 1 | AJ14: =IF(O17="EF",L19,"") -> 6
K15: Nb prvlt | L15: 16 | P15: Nb prvlt | Q15: 7 | U15: Nb prvlt | V15: 35 | AB15: =IF(L22="TR",L24,"") -> 3 | AC15: =IF(L22="TR",L25,"") -> 2 | AD15: =IF(L22="TR",L26,"") -> 0.103 | AE15: =IF(N22="TR",N24,"") -> 3 | AF15: =IF(L22="TR",N24,"") -> 3 | AG15: =IF(N22="TR",1,"") -> 1 | AH15: =IF(N22="TR",L24,"") -> 3 | AI15: =IF(O22="EF",1,"") -> 1 | AJ15: =IF(O22="EF",L24,"") -> 3
K16: Tonnage | L16: 0.705 | P16: Tonnage | Q16: 0.164 | U16: Tonnage | V16: 1.231 | AB16: =IF(L27="TR",L29,"") -> 35 | AC16: =IF(L27="TR",L30,"") -> 22 | AD16: =IF(L27="TR",L31,"") -> 1.252 | AE16: =IF(N27="TR",N29,"") -> 33 | AF16: =IF(L27="TR",N29,"") -> 33 | AG16: =IF(N27="TR",1,"") -> 1 | AH16: =IF(N27="TR",L29,"") -> 35 | AI16: =IF(O27="EF",1,"") -> 1 | AJ16: =IF(O27="EF",L29,"") -> 35
K17: 504-04/05 | L17: TR | N17: TR | O17: EF | P17: 512-04/05 | Q17: TR | S17: TR | T17: EF | U17: 518-04/05 | V17: TR | X17: TR | Y17: EF | AB17: =IF(L32="TR",L34,"") -> 20 | AC17: =IF(L32="TR",L35,"") -> 20 | AD17: =IF(L32="TR",L36,"") -> 0.756 | AE17: =IF(N32="TR",N34,"") -> 15 | AF17: =IF(L32="TR",N34,"") -> 15 | AG17: =IF(N32="TR",1,"") -> 1 | AH17: =IF(N32="TR",L34,"") -> 20 | AI17: =IF(O32="EF",1,"") -> 1 | AJ17: =IF(O32="EF",L34,"") -> 20
AB18: =IF(L37="TR",L39,"") -> 79 | AC18: =IF(L37="TR",L40,"") -> 37 | AD18: =IF(L37="TR",L41,"") -> 2.144 | AE18: =IF(N37="TR",N39,"") -> 47 | AF18: =IF(L37="TR",N39,"") -> 47 | AG18: =IF(N37="TR",1,"") -> 1 | AH18: =IF(N37="TR",L39,"") -> 79 | AI18: =IF(O37="EF",1,"") -> 1 | AJ18: =IF(O37="EF",L39,"") -> 79
K19: TOTAL | L19: 6 | M19: Nb SEB | N19: 2 | P19: TOTAL | Q19: 18 | R19: Nb SEB | S19: 7 | U19: TOTAL | V19: 1 | W19: Nb SEB | X19: 1 | AB19: =IF(Q12="TR",Q14,"") -> 7 | AC19: =IF(Q12="TR",Q15,"") -> 7 | AD19: =IF(Q12="TR",Q16,"") -> 0.164 | AE19: =IF(S12="TR",S14,"") -> 7 | AF19: =IF(Q12="TR",S14,"") -> 7 | AG19: =IF(S12="TR",1,"") -> 1 | AH19: =IF(S12="TR",Q14,"") -> 7 | AI19: =IF(T12="EF",1,"") -> 1 | AJ19: =IF(T12="EF",Q14,"") -> 7
K20: Nb prvlt | L20: 3 | P20: Nb prvlt | Q20: 8 | U20: Nb prvlt | V20: 1 | AB20: =IF(Q17="TR",Q19,"") -> 18 | AC20: =IF(Q17="TR",Q20,"") -> 8 | AD20: =IF(Q17="TR",Q21,"") -> 0.351 | AE20: =IF(S17="TR",S19,"") -> 7 | AF20: =IF(Q17="TR",S19,"") -> 7 | AG20: =IF(S17="TR",1,"") -> 1 | AH20: =IF(S17="TR",Q19,"") -> 18 | AI20: =IF(T17="EF",1,"") -> 1 | AJ20: =IF(T17="EF",Q19,"") -> 18
K21: Tonnage | L21: 0.091 | P21: Tonnage | Q21: 0.351 | U21: Tonnage | V21: 0.029 | AB21: =IF(Q22="TR",Q24,"") -> 77 | AC21: =IF(Q22="TR",Q25,"") -> 30 | AD21: =IF(Q22="TR",Q26,"") -> 2.818 | AE21: =IF(S22="TR",S24,"") -> 73 | AF21: =IF(Q22="TR",S24,"") -> 73 | AG21: =IF(S22="TR",1,"") -> 1 | AH21: =IF(S22="TR",Q24,"") -> 77 | AI21: =IF(T22="EF",1,"") -> 1 | AJ21: =IF(T22="EF",Q24,"") -> 77
K22: 505-04/05 | L22: TR | N22: TR | O22: EF | P22: 513-04/05 | Q22: TR | S22: TR | T22: EF | U22: 523-04/05 | V22: TR | X22: TR | Y22: EF | AB22: =IF(Q27="TR",Q29,"") -> 21 | AC22: =IF(Q27="TR",Q30,"") -> 17 | AD22: =IF(Q27="TR",Q31,"") -> 0.667 | AE22: =IF(S27="TR",S29,"") -> 18 | AF22: =IF(Q27="TR",S29,"") -> 18 | AG22: =IF(S27="TR",1,"") -> 1 | AH22: =IF(S27="TR",Q29,"") -> 21 | AI22: =IF(T27="EF",1,"") -> 1 | AJ22: =IF(T27="EF",Q29,"") -> 21
AB23: =IF(Q32="TR",Q34,"") -> 28 | AC23: =IF(Q32="TR",Q35,"") -> 22 | AD23: =IF(Q32="TR",Q36,"") -> 0.953 | AE23: =IF(S32="TR",S34,"") -> 28 | AF23: =IF(Q32="TR",S34,"") -> 28 | AG23: =IF(S32="TR",1,"") -> 1 | AH23: =IF(S32="TR",Q34,"") -> 28 | AI23: =IF(T32="EF",1,"") -> 1 | AJ23: =IF(T32="EF",Q34,"") -> 28
K24: TOTAL | L24: 3 | M24: Nb SEB | N24: 3 | P24: TOTAL | Q24: 77 | R24: Nb SEB | S24: 73 | U24: TOTAL | V24: 309 | W24: Nb SEB | X24: 129 | AB24: =IF(Q37="TR",Q39,"") -> 14 | AC24: =IF(Q37="TR",Q40,"") -> 11 | AD24: =IF(Q37="TR",Q41,"") -> 0.399 | AE24: =IF(S37="TR",S39,"") -> 12 | AF24: =IF(Q37="TR",S39,"") -> 12 | AG24: =IF(S37="TR",1,"") -> 1 | AH24: =IF(S37="TR",Q39,"") -> 14 | AI24: =IF(T37="EF",1,"") -> 1 | AJ24: =IF(T37="EF",Q39,"") -> 14
K25: Nb prvlt | L25: 2 | P25: Nb prvlt | Q25: 30 | U25: Nb prvlt | V25: 21 | AB25: =IF(V12="TR",V14,"") -> 46 | AC25: =IF(V12="TR",V15,"") -> 35 | AD25: =IF(V12="TR",V16,"") -> 1.231 | AE25: =IF(X12="TR",X14,"") -> 46 | AF25: =IF(V12="TR",X14,"") -> 46 | AG25: =IF(X12="TR",1,"") -> 1 | AH25: =IF(X12="TR",V14,"") -> 46 | AI25: =IF(Y12="EF",1,"") -> 1 | AJ25: =IF(Y12="EF",V14,"") -> 46
K26: Tonnage | L26: 0.103 | P26: Tonnage | Q26: 2.818 | U26: Tonnage | V26: 12.515 | AB26: =IF(V17="TR",V19,"") -> 1 | AC26: =IF(V17="TR",V20,"") -> 1 | AD26: =IF(V17="TR",V21,"") -> 0.029 | AE26: =IF(X17="TR",X19,"") -> 1 | AF26: =IF(V17="TR",X19,"") -> 1 | AG26: =IF(X17="TR",1,"") -> 1 | AH26: =IF(X17="TR",V19,"") -> 1 | AI26: =IF(Y17="EF",1,"") -> 1 | AJ26: =IF(Y17="EF",V19,"") -> 1
K27: 506-04/05 | L27: TR | N27: TR | O27: EF | P27: 515-04/05 | Q27: TR | S27: TR | T27: EF | AB27: =IF(V22="TR",V24,"") -> 309 | AC27: =IF(V22="TR",V25,"") -> 21 | AD27: =IF(V22="TR",V26,"") -> 12.515 | AE27: =IF(X22="TR",X24,"") -> 129 | AF27: =IF(V22="TR",X24,"") -> 129 | AG27: =IF(X22="TR",1,"") -> 1 | AH27: =IF(X22="TR",V24,"") -> 309 | AI27: =IF(Y22="EF",1,"") -> 1 | AJ27: =IF(Y22="EF",V24,"") -> 309
AB28: =IF(V27="TR",V29,"") | AC28: =IF(V27="TR",V30,"") | AD28: =IF(V27="TR",V31,"") | AE28: =IF(X27="TR",X29,"") | AF28: =IF(V27="TR",X29,"") | AG28: =IF(X27="TR",1,"") | AH28: =IF(X27="TR",V29,"") | AI28: =IF(Y27="EF",1,"") | AJ28: =IF(Y27="EF",V29,"")
K29: TOTAL | L29: 35 | M29: Nb SEB | N29: 33 | P29: TOTAL | Q29: 21 | R29: Nb SEB | S29: 18 | U29: TOTAL | W29: Nb SEB | AB29: =IF(V32="TR",V34,"") | AC29: =IF(V32="TR",V35,"") | AD29: =IF(V32="TR",V36,"") | AE29: =IF(X32="TR",X34,"") | AF29: =IF(V32="TR",X34,"") | AG29: =IF(X32="TR",1,"") | AH29: =IF(X32="TR",V34,"") | AI29: =IF(Y32="EF",1,"") | AJ29: =IF(Y32="EF",V34,"")
K30: Nb prvlt | L30: 22 | P30: Nb prvlt | Q30: 17 | U30: Nb prvlt | AB30: =IF(V37="TR",V39,"") | AC30: =IF(V37="TR",V40,"") | AD30: =IF(V37="TR",V41,"") | AE30: =IF(X37="TR",X39,"") | AF30: =IF(V37="TR",X39,"") | AG30: =IF(X37="TR",1,"") | AH30: =IF(X37="TR",V39,"") | AI30: =IF(Y37="EF",1,"") | AJ30: =IF(Y37="EF",V39,"")
K31: Tonnage | L31: 1.252 | P31: Tonnage | Q31: 0.667 | U31: Tonnage
K32: 510-04/05 | L32: TR | N32: TR | O32: EF | P32: 516-04/05 | Q32: TR | S32: TR | T32: EF
K34: TOTAL | L34: 20 | M34: Nb SEB | N34: 15 | P34: TOTAL | Q34: 28 | R34: Nb SEB | S34: 28 | U34: TOTAL | W34: Nb SEB
K35: Nb prvlt | L35: 20 | P35: Nb prvlt | Q35: 22 | U35: Nb prvlt
K36: Tonnage | L36: 0.756 | P36: Tonnage | Q36: 0.953 | U36: Tonnage
K37: 519-04/05 | L37: TR | N37: TR | O37: EF | P37: 517-04/05 | Q37: TR | S37: TR | T37: EF
K39: TOTAL | L39: 79 | M39: Nb SEB | N39: 47 | P39: TOTAL | Q39: 14 | R39: Nb SEB | S39: 12 | U39: TOTAL | W39: Nb SEB
K40: Nb prvlt | L40: 37 | P40: Nb prvlt | Q40: 11 | U40: Nb prvlt
K41: Tonnage | L41: 2.144 | P41: Tonnage | Q41: 0.399 | U41: Tonnage
A44: =A1+1 -> 42493
A47: Planning préparation | F47: Objectif SEB + PAC (J+1) | K47: Prod Prépa | P47: État (instant t) | U47: Reste à expédier
A48: Tonnage jour | D48: =SUM(L59,L64,L69,L74,L79,L84,Q59,Q64,Q69,Q74,Q79,Q84,V59,V64,V69,V74,V79,V84) -> 20.908 | F48: Nb colis à SEB | I48: =SUM(N57,N62,N67,N72,N77,N82,S57,S62,S67,S72,S77,S82,X57,X62,X67,X72,X77,X82) -> 546 | K48: Nb colis préparés | N48: =AB55 -> 918 | P48: Nb colis SEB | S48: =AE55 -> 546 | U48: Nb dossier à quai | X48: =AG55-AI55 -> 0
...

Sheet S19
A1: 42499
A4: Planning préparation | F4: Objectif SEB + PAC (J+1) | K4: Prod Prépa | P4: État (instant t) | U4: Reste à expédier
A5: Tonnage jour | D5: =SUM(G16,L16,L21,L26,L31,L36,L41,Q16,Q21,Q26,Q31,Q36,Q41,V16,V21,V26,V31,V36,V41) -> 25.691 | F5: Nb colis à SEB | I5: =SUM(I14,N14,N19,N24,N29,N34,N39,S14,S19,S24,S29,S34,S39,X14,X19,X24,X29,X34,X39) -> 782 | K5: Nb colis préparés | N5: =AB12 -> 1088 | P5: Nb colis SEB | S5: =AE12 -> 782 | U5: Nb dossier à quai | X5: =AG12-AI12 -> 0 | AB5: Nb dossier à quai | AD5: =SUM(X5,X48,X91,X134,X177,X220) -> 4
A6: Nb colis à préparer | D6: =SUM(G14,L14,L19,L24,L29,L34,L39,Q14,Q19,Q24,Q29,Q34,Q39,V14,V19,V24,V29,V34,V39) -> 1088 | F6: Nb colis nus | I6: =D6-I5 -> 306 | K6: Nb prélèvement | N6: =AC12 -> 263 | P6: NB colis devant chaîne | S6: =AF12-AE12 -> 0 | U6: Nb colis à quai | X6: =AH12-AJ12 -> 0 | AB6: Nb colis à quai | AD6: =SUM(X6,X49,X92,X135,X178,X221) -> 148
A7: Nb de lignes | D7: =SUM(G15,L15,L20,L25,L30,L35,L40,Q15,Q20,Q25,Q30,Q35,Q40,V15,V20,V25,V30,V35,V40) -> 263 | K7: Tonnage effectué | N7: =AD12 -> 25.691 | AB7: NB colis devant chaîne | AD7: =SUM(S6,S49,S92,S135,S178) -> 0
A8: Nb de dossier | D8: =COUNTA(F12,K12,K17,K22,K27,K32,K37,P12,P17,P22,P27,P32,P37,U12,U17,U22,U27,U32,U37) -> 14
K9: Reste à prélever | N9: =D6-N5 -> 0 | P9: Reste à suremballer | S9: =I5-S5 -> 0
K10: Nb lignes restantes | N10: =D7-N6 -> 0
A11: ÉQUIPE 1 | F11: ÉQUIPE 2 | K11: ÉQUIPE 3 | P11: ÉQUIPE 4 | U11: ÉQUIPE 5 | AB11: Prépa | AE11: SEB | AG11: Zone PAP
K12: 500-11/05 | L12: TR | N12: TR | O12: EF | P12: 506-11/05 | Q12: TR | S12: TR | T12: EF | U12: 522-11/05 | V12: TR | X12: TR | Y12: EF | AB12: =SUM(AB13:AB30) -> 1088 | AC12: =SUM(AC13:AC30) -> 263 | AD12: =SUM(AD13:AD30) -> 25.691 | AE12: =SUM(AE13:AE30) -> 782 | AF12: =SUM(AF13:AF30) -> 782 | AG12: =SUM(AG13:AG30) -> 14 | AH12: =SUM(AH13:AH30) -> 1088 | AI12: =SUM(AI13:AI30) -> 14 | AJ12: =SUM(AJ13:AJ30) -> 1088
AB13: =IF(L12="TR",L14,"") -> 397 | AC13: =IF(L12="TR",L15,"") -> 10 | AD13: =IF(L12="TR",L16,"") -> 5.571 | AE13: =IF(N12="TR",N14,"") -> 397 | AF13: =IF(L12="TR",N14,"") -> 397 | AG13: =IF(N12="TR",1,"") -> 1 | AH13: =IF(N12="TR",L14,"") -> 397 | AI13: =IF(O12="EF",1,"") -> 1 | AJ13: =IF(O12="EF",L14,"") -> 397
K14: TOTAL | L14: 397 | M14: Nb SEB | N14: 397 | P14: TOTAL | Q14: 29 | R14: Nb SEB | S14: 27 | U14: TOTAL | V14: 135 | W14: Nb SEB | X14: 56 | AB14: =IF(L17="TR",L19,"") -> 46 | AC14: =IF(L17="TR",L20,"") -> 16 | AD14: =IF(L17="TR",L21,"") -> 1.068 | AE14: =IF(N17="TR",N19,"") -> 44 | AF14: =IF(L17="TR",N19,"") -> 44 | AG14: =IF(N17="TR",1,"") -> 1 | AH14: =IF(N17="TR",L19,"") -> 46 | AI14: =IF(O17="EF",1,"") -> 1 | AJ14: =IF(O17="EF",L19,"") -> 46
K15: Nb prvlt | L15: 10 | P15: Nb prvlt | Q15: 21 | U15: Nb prvlt | V15: 48 | AB15: =IF(L22="TR",L24,"") -> 59 | AC15: =IF(L22="TR",L25,"") -> 17 | AD15: =IF(L22="TR",L26,"") -> 1.604 | AE15: =IF(N22="TR",N24,"") -> 48 | AF15: =IF(L22="TR",N24,"") -> 48 | AG15: =IF(N22="TR",1,"") -> 1 | AH15: =IF(N22="TR",L24,"") -> 59 | AI15: =IF(O22="EF",1,"") -> 1 | AJ15: =IF(O22="EF",L24,"") -> 59
K16: Tonnage | L16: 5.571 | P16: Tonnage | Q16: 0.957 | U16: Tonnage | V16: 2.569 | AB16: =IF(L27="TR",L29,"") -> 5 | AC16: =IF(L27="TR",L30,"") -> 3 | AD16: =IF(L27="TR",L31,"") -> 0.59 | AE16: =IF(N27="TR",N29,"") -> 0 | AF16: =IF(L27="TR",N29,"") -> 0 | AG16: =IF(N27="TR",1,"") -> 1 | AH16: =IF(N27="TR",L29,"") -> 5 | AI16: =IF(O27="EF",1,"") -> 1 | AJ16: =IF(O27="EF",L29,"") -> 5
K17: 501-11/05 | L17: TR | N17: TR | O17: EF | P17: 507-11/05 | Q17: TR | S17: TR | T17: EF | U17: 523-11/05 | V17: TR | X17: TR | Y17: EF | AB17: =IF(L32="TR",L34,"") -> 13 | AC17: =IF(L32="TR",L35,"") -> 6 | AD17: =IF(L32="TR",L36,"") -> 0.17 | AE17: =IF(N32="TR",N34,"") -> 6 | AF17: =IF(L32="TR",N34,"") -> 6 | AG17: =IF(N32="TR",1,"") -> 1 | AH17: =IF(N32="TR",L34,"") -> 13 | AI17: =IF(O32="EF",1,"") -> 1 | AJ17: =IF(O32="EF",L34,"") -> 13
AB18: =IF(L37="TR",L39,"") -> 11 | AC18: =IF(L37="TR",L40,"") -> 9 | AD18: =IF(L37="TR",L41,"") -> 0.35 | AE18: =IF(N37="TR",N39,"") -> 10 | AF18: =IF(L37="TR",N39,"") -> 10 | AG18: =IF(N37="TR",1,"") -> 1 | AH18: =IF(N37="TR",L39,"") -> 11 | AI18: =IF(O37="EF",1,"") -> 1 | AJ18: =IF(O37="EF",L39,"") -> 11
K19: TOTAL | L19: 46 | M19: Nb SEB | N19: 44 | P19: TOTAL | Q19: 4 | R19: Nb SEB | S19: 4 | U19: TOTAL | V19: 287 | W19: Nb SEB | X19: 105 | AB19: =IF(Q12="TR",Q14,"") -> 29 | AC19: =IF(Q12="TR",Q15,"") -> 21 | AD19: =IF(Q12="TR",Q16,"") -> 0.957 | AE19: =IF(S12="TR",S14,"") -> 27 | AF19: =IF(Q12="TR",S14,"") -> 27 | AG19: =IF(S12="TR",1,"") -> 1 | AH19: =IF(S12="TR",Q14,"") -> 29 | AI19: =IF(T12="EF",1,"") -> 1 | AJ19: =IF(T12="EF",Q14,"") -> 29
K20: Nb prvlt | L20: 16 | P20: Nb prvlt | Q20: 3 | U20: Nb prvlt | V20: 59 | AB20: =IF(Q17="TR",Q19,"") -> 4 | AC20: =IF(Q17="TR",Q20,"") -> 3 | AD20: =IF(Q17="TR",Q21,"") -> 0.078 | AE20: =IF(S17="TR",S19,"") -> 4 | AF20: =IF(Q17="TR",S19,"") -> 4 | AG20: =IF(S17="TR",1,"") -> 1 | AH20: =IF(S17="TR",Q19,"") -> 4 | AI20: =IF(T17="EF",1,"") -> 1 | AJ20: =IF(T17="EF",Q19,"") -> 4
K21: Tonnage | L21: 1.068 | P21: Tonnage | Q21: 0.078 | U21: Tonnage | V21: 10.199 | AB21: =IF(Q22="TR",Q24,"") -> 47 | AC21: =IF(Q22="TR",Q25,"") -> 33 | AD21: =IF(Q22="TR",Q26,"") -> 1.243 | AE21: =IF(S22="TR",S24,"") -> 47 | AF21: =IF(Q22="TR",S24,"") -> 47 | AG21: =IF(S22="TR",1,"") -> 1 | AH21: =IF(S22="TR",Q24,"") -> 47 | AI21: =IF(T22="EF",1,"") -> 1 | AJ21: =IF(T22="EF",Q24,"") -> 47
K22: 502-11/05 | L22: TR | N22: TR | O22: EF | P22: 508-11/05 | Q22: TR | S22: TR | T22: EF | AB22: =IF(Q27="TR",Q29,"") -> 11 | AC22: =IF(Q27="TR",Q30,"") -> 8 | AD22: =IF(Q27="TR",Q31,"") -> 0.25 | AE22: =IF(S27="TR",S29,"") -> 11 | AF22: =IF(Q27="TR",S29,"") -> 11 | AG22: =IF(S27="TR",1,"") -> 1 | AH22: =IF(S27="TR",Q29,"") -> 11 | AI22: =IF(T27="EF",1,"") -> 1 | AJ22: =IF(T27="EF",Q29,"") -> 11
AB23: =IF(Q32="TR",Q34,"") -> 32 | AC23: =IF(Q32="TR",Q35,"") -> 21 | AD23: =IF(Q32="TR",Q36,"") -> 0.75 | AE23: =IF(S32="TR",S34,"") -> 19 | AF23: =IF(Q32="TR",S34,"") -> 19 | AG23: =IF(S32="TR",1,"") -> 1 | AH23: =IF(S32="TR",Q34,"") -> 32 | AI23: =IF(T32="EF",1,"") -> 1 | AJ23: =IF(T32="EF",Q34,"") -> 32
K24: TOTAL | L24: 59 | M24: Nb SEB | N24: 48 | P24: TOTAL | Q24: 47 | R24: Nb SEB | S24: 47 | U24: TOTAL | W24: Nb SEB | AB24: =IF(Q37="TR",Q39,"") -> 12 | AC24: =IF(Q37="TR",Q40,"") -> 9 | AD24: =IF(Q37="TR",Q41,"") -> 0.292 | AE24: =IF(S37="TR",S39,"") -> 8 | AF24: =IF(Q37="TR",S39,"") -> 8 | AG24: =IF(S37="TR",1,"") -> 1 | AH24: =IF(S37="TR",Q39,"") -> 12 | AI24: =IF(T37="EF",1,"") -> 1 | AJ24: =IF(T37="EF",Q39,"") -> 12
K25: Nb prvlt | L25: 17 | P25: Nb prvlt | Q25: 33 | U25: Nb prvlt | AB25: =IF(V12="TR",V14,"") -> 135 | AC25: =IF(V12="TR",V15,"") -> 48 | AD25: =IF(V12="TR",V16,"") -> 2.569 | AE25: =IF(X12="TR",X14,"") -> 56 | AF25: =IF(V12="TR",X14,"") -> 56 | AG25: =IF(X12="TR",1,"") -> 1 | AH25: =IF(X12="TR",V14,"") -> 135 | AI25: =IF(Y12="EF",1,"") -> 1 | AJ25: =IF(Y12="EF",V14,"") -> 135
K26: Tonnage | L26: 1.604 | P26: Tonnage | Q26: 1.243 | U26: Tonnage | AB26: =IF(V17="TR",V19,"") -> 287 | AC26: =IF(V17="TR",V20,"") -> 59 | AD26: =IF(V17="TR",V21,"") -> 10.199 | AE26: =IF(X17="TR",X19,"") -> 105 | AF26: =IF(V17="TR",X19,"") -> 105 | AG26: =IF(X17="TR",1,"") -> 1 | AH26: =IF(X17="TR",V19,"") -> 287 | AI26: =IF(Y17="EF",1,"") -> 1 | AJ26: =IF(Y17="EF",V19,"") -> 287
K27: 503-11/05 | L27: TR | N27: TR | O27: EF | P27: 509-11/05 | Q27: TR | S27: TR | T27: EF | AB27: =IF(V22="TR",V24,"") | AC27: =IF(V22="TR",V25,"") | AD27: =IF(V22="TR",V26,"") | AE27: =IF(X22="TR",X24,"") | AF27: =IF(V22="TR",X24,"") | AG27: =IF(X22="TR",1,"") | AH27: =IF(X22="TR",V24,"") | AI27: =IF(Y22="EF",1,"") | AJ27: =IF(Y22="EF",V24,"")
AB28: =IF(V27="TR",V29,"") | AC28: =IF(V27="TR",V30,"") | AD28: =IF(V27="TR",V31,"") | AE28: =IF(X27="TR",X29,"") | AF28: =IF(V27="TR",X29,"") | AG28: =IF(X27="TR",1,"") | AH28: =IF(X27="TR",V29,"") | AI28: =IF(Y27="EF",1,"") | AJ28: =IF(Y27="EF",V29,"")
K29: TOTAL | L29: 5 | M29: Nb SEB | N29: 0 | P29: TOTAL | Q29: 11 | R29: Nb SEB | S29: 11 | U29: TOTAL | W29: Nb SEB | AB29: =IF(V32="TR",V34,"") | AC29: =IF(V32="TR",V35,"") | AD29: =IF(V32="TR",V36,"") | AE29: =IF(X32="TR",X34,"") | AF29: =IF(V32="TR",X34,"") | AG29: =IF(X32="TR",1,"") | AH29: =IF(X32="TR",V34,"") | AI29: =IF(Y32="EF",1,"") | AJ29: =IF(Y32="EF",V34,"")
K30: Nb prvlt | L30: 3 | P30: Nb prvlt | Q30: 8 | U30: Nb prvlt | AB30: =IF(V37="TR",V39,"") | AC30: =IF(V37="TR",V40,"") | AD30: =IF(V37="TR",V41,"") | AE30: =IF(X37="TR",X39,"") | AF30: =IF(V37="TR",X39,"") | AG30: =IF(X37="TR",1,"") | AH30: =IF(X37="TR",V39,"") | AI30: =IF(Y37="EF",1,"") | AJ30: =IF(Y37="EF",V39,"")
K31: Tonnage | L31: 0.59 | P31: Tonnage | Q31: 0.25 | U31: Tonnage
K32: 504-11/05 | L32: TR | N32: TR | O32: EF | P32: 513-11/05 | Q32: TR | S32: TR | T32: EF
K34: TOTAL | L34: 13 | M34: Nb SEB | N34: 6 | P34: TOTAL | Q34: 32 | R34: Nb SEB | S34: 19 | U34: TOTAL | W34: Nb SEB
K35: Nb prvlt | L35: 6 | P35: Nb prvlt | Q35: 21 | U35: Nb prvlt
K36: Tonnage | L36: 0.17 | P36: Tonnage | Q36: 0.75 | U36: Tonnage
K37: 505-11/05 | L37: TR | N37: TR | O37: EF | P37: 521-11/05 | Q37: TR | S37: TR | T37: EF
K39: TOTAL | L39: 11 | M39: Nb SEB | N39: 10 | P39: TOTAL | Q39: 12 | R39: Nb SEB | S39: 8 | U39: TOTAL | W39: Nb SEB
K40: Nb prvlt | L40: 9 | P40: Nb prvlt | Q40: 9 | U40: Nb prvlt
K41: Tonnage | L41: 0.35 | P41: Tonnage | Q41: 0.292 | U41: Tonnage
A44: =A1+1 -> 42500
A47: Planning préparation | F47: Objectif SEB + PAC (J+1) | K47: Prod Prépa | P47: État (instant t) | U47: Reste à expédier
A48: Tonnage jour | D48: =SUM(L59,L64,L69,L74,L79,L84,Q59,Q64,Q69,Q74,Q79,Q84,V59,V64,V69,V74,V79,V84) -> 23.454 | F48: Nb colis à SEB | I48: =SUM(N57,N62,N67,N72,N77,N82,S57,S62,S67,S72,S77,S82,X57,X62,X67,X72,X77,X82) -> 633 | K48: Nb colis préparés | N48: =AB55 -> 1053 | P48: Nb colis SEB | S48: =AE55 -> 633 | U48: Nb dossier à quai | X48: =AG55-AI55 -> 2
...

Sheet S20
A1: 42506
A4: Planning préparation | F4: Objectif SEB + PAC (J+1) | K4: Prod Prépa | P4: État (instant t) | U4: Reste à expédier
A5: Tonnage jour | D5: =SUM(G16,L16,L21,L26,L31,L36,L41,Q16,Q21,Q26,Q31,Q36,Q41,V16,V21,V26,V31,V36,V41) -> 0 | F5: Nb colis à SEB | I5: =SUM(I14,N14,N19,N24,N29,N34,N39,S14,S19,S24,S29,S34,S39,X14,X19,X24,X29,X34,X39) -> 0 | K5: Nb colis préparés | N5: =AB12 -> 0 | P5: Nb colis SEB | S5: =AE12 -> 0 | U5: Nb dossier à quai | X5: =AG12-AI12 -> 0 | AB5: Nb dossier à quai | AD5: =SUM(X5,X48,X91,X134,X177,X220) -> 16
A6: Nb colis à préparer | D6: =SUM(G14,L14,L19,L24,L29,L34,L39,Q14,Q19,Q24,Q29,Q34,Q39,V14,V19,V24,V29,V34,V39) -> 0 | F6: Nb colis nus | I6: =D6-I5 -> 0 | K6: Nb prélèvement | N6: =AC12 -> 0 | P6: NB colis devant chaîne | S6: =AF12-AE12 -> 0 | U6: Nb colis à quai | X6: =AH12-AJ12 -> 0 | AB6: Nb colis à quai | AD6: =SUM(X6,X49,X92,X135,X178,X221) -> 1787
A7: Nb de lignes | D7: =SUM(G15,L15,L20,L25,L30,L35,L40,Q15,Q20,Q25,Q30,Q35,Q40,V15,V20,V25,V30,V35,V40) -> 0 | K7: Tonnage effectué | N7: =AD12 -> 0 | AB7: NB colis devant chaîne | AD7: =SUM(S6,S49,S92,S135,S178) -> 0
A8: Nb de dossier | D8: =COUNTA(F12,K12,K17,K22,K27,K32,K37,P12,P17,P22,P27,P32,P37,U12,U17,U22,U27,U32,U37) -> 0
K9: Reste à prélever | N9: =D6-N5 -> 0 | P9: Reste à suremballer | S9: =I5-S5 -> 0
K10: Nb lignes restantes | N10: =D7-N6 -> 0
A11: ÉQUIPE 1 | F11: ÉQUIPE 2 | K11: ÉQUIPE 3 | P11: ÉQUIPE 4 | U11: ÉQUIPE 5 | AB11: Prépa | AE11: SEB | AG11: Zone PAP
AB12: =SUM(AB13:AB30) -> 0 | AC12: =SUM(AC13:AC30) -> 0 | AD12: =SUM(AD13:AD30) -> 0 | AE12: =SUM(AE13:AE30) -> 0 | AF12: =SUM(AF13:AF30) -> 0 | AG12: =SUM(AG13:AG30) -> 0 | AH12: =SUM(AH13:AH30) -> 0 | AI12: =SUM(AI13:AI30) -> 0 | AJ12: =SUM(AJ13:AJ30) -> 0
AB13: =IF(L12="TR",L14,"") | AC13: =IF(L12="TR",L15,"") | AD13: =IF(L12="TR",L16,"") | AE13: =IF(N12="TR",N14,"") | AF13: =IF(L12="TR",N14,"") | AG13: =IF(N12="TR",1,"") | AH13: =IF(N12="TR",L14,"") | AI13: =IF(O12="EF",1,"") | AJ13: =IF(O12="EF",L14,"")
K14: TOTAL | M14: Nb SEB | P14: TOTAL | R14: Nb SEB | U14: TOTAL | W14: Nb SEB | AB14: =IF(L17="TR",L19,"") | AC14: =IF(L17="TR",L20,"") | AD14: =IF(L17="TR",L21,"") | AE14: =IF(N17="TR",N19,"") | AF14: =IF(L17="TR",N19,"") | AG14: =IF(N17="TR",1,"") | AH14: =IF(N17="TR",L19,"") | AI14: =IF(O17="EF",1,"") | AJ14: =IF(O17="EF",L19,"")
K15: Nb prvlt | P15: Nb prvlt | U15: Nb prvlt | AB15: =IF(L22="TR",L24,"") | AC15: =IF(L22="TR",L25,"") | AD15: =IF(L22="TR",L26,"") | AE15: =IF(N22="TR",N24,"") | AF15: =IF(L22="TR",N24,"") | AG15: =IF(N22="TR",1,"") | AH15: =IF(N22="TR",L24,"") | AI15: =IF(O22="EF",1,"") | AJ15: =IF(O22="EF",L24,"")
K16: Tonnage | P16: Tonnage | U16: Tonnage | AB16: =IF(L27="TR",L29,"") | AC16: =IF(L27="TR",L30,"") | AD16: =IF(L27="TR",L31,"") | AE16: =IF(N27="TR",N29,"") | AF16: =IF(L27="TR",N29,"") | AG16: =IF(N27="TR",1,"") | AH16: =IF(N27="TR",L29,"") | AI16: =IF(O27="EF",1,"") | AJ16: =IF(O27="EF",L29,"")
AB17: =IF(L32="TR",L34,"") | AC17: =IF(L32="TR",L35,"") | AD17: =IF(L32="TR",L36,"") | AE17: =IF(N32="TR",N34,"") | AF17: =IF(L32="TR",N34,"") | AG17: =IF(N32="TR",1,"") | AH17: =IF(N32="TR",L34,"") | AI17: =IF(O32="EF",1,"") | AJ17: =IF(O32="EF",L34,"")
AB18: =IF(L37="TR",L39,"") | AC18: =IF(L37="TR",L40,"") | AD18: =IF(L37="TR",L41,"") | AE18: =IF(N37="TR",N39,"") | AF18: =IF(L37="TR",N39,"") | AG18: =IF(N37="TR",1,"") | AH18: =IF(N37="TR",L39,"") | AI18: =IF(O37="EF",1,"") | AJ18: =IF(O37="EF",L39,"")
K19: TOTAL | M19: Nb SEB | P19: TOTAL | R19: Nb SEB | U19: TOTAL | W19: Nb SEB | AB19: =IF(Q12="TR",Q14,"") | AC19: =IF(Q12="TR",Q15,"") | AD19: =IF(Q12="TR",Q16,"") | AE19: =IF(S12="TR",S14,"") | AF19: =IF(Q12="TR",S14,"") | AG19: =IF(S12="TR",1,"") | AH19: =IF(S12="TR",Q14,"") | AI19: =IF(T12="EF",1,"") | AJ19: =IF(T12="EF",Q14,"")
K20: Nb prvlt | P20: Nb prvlt | U20: Nb prvlt | AB20: =IF(Q17="TR",Q19,"") | AC20: =IF(Q17="TR",Q20,"") | AD20: =IF(Q17="TR",Q21,"") | AE20: =IF(S17="TR",S19,"") | AF20: =IF(Q17="TR",S19,"") | AG20: =IF(S17="TR",1,"") | AH20: =IF(S17="TR",Q19,"") | AI20: =IF(T17="EF",1,"") | AJ20: =IF(T17="EF",Q19,"")
K21: Tonnage | P21: Tonnage | U21: Tonnage | AB21: =IF(Q22="TR",Q24,"") | AC21: =IF(Q22="TR",Q25,"") | AD21: =IF(Q22="TR",Q26,"") | AE21: =IF(S22="TR",S24,"") | AF21: =IF(Q22="TR",S24,"") | AG21: =IF(S22="TR",1,"") | AH21: =IF(S22="TR",Q24,"") | AI21: =IF(T22="EF",1,"") | AJ21: =IF(T22="EF",Q24,"")
AB22: =IF(Q27="TR",Q29,"") | AC22: =IF(Q27="TR",Q30,"") | AD22: =IF(Q27="TR",Q31,"") | AE22: =IF(S27="TR",S29,"") | AF22: =IF(Q27="TR",S29,"") | AG22: =IF(S27="TR",1,"") | AH22: =IF(S27="TR",Q29,"") | AI22: =IF(T27="EF",1,"") | AJ22: =IF(T27="EF",Q29,"")
AB23: =IF(Q32="TR",Q34,"") | AC23: =IF(Q32="TR",Q35,"") | AD23: =IF(Q32="TR",Q36,"") | AE23: =IF(S32="TR",S34,"") | AF23: =IF(Q32="TR",S34,"") | AG23: =IF(S32="TR",1,"") | AH23: =IF(S32="TR",Q34,"") | AI23: =IF(T32="EF",1,"") | AJ23: =IF(T32="EF",Q34,"")
K24: TOTAL | M24: Nb SEB | P24: TOTAL | R24: Nb SEB | U24: TOTAL | W24: Nb SEB | AB24: =IF(Q37="TR",Q39,"") | AC24: =IF(Q37="TR",Q40,"") | AD24: =IF(Q37="TR",Q41,"") | AE24: =IF(S37="TR",S39,"") | AF24: =IF(Q37="TR",S39,"") | AG24: =IF(S37="TR",1,"") | AH24: =IF(S37="TR",Q39,"") | AI24: =IF(T37="EF",1,"") | AJ24: =IF(T37="EF",Q39,"")
K25: Nb prvlt | P25: Nb prvlt | U25: Nb prvlt | AB25: =IF(V12="TR",V14,"") | AC25: =IF(V12="TR",V15,"") | AD25: =IF(V12="TR",V16,"") | AE25: =IF(X12="TR",X14,"") | AF25: =IF(V12="TR",X14,"") | AG25: =IF(X12="TR",1,"") | AH25: =IF(X12="TR",V14,"") | AI25: =IF(Y12="EF",1,"") | AJ25: =IF(Y12="EF",V14,"")
K26: Tonnage | P26: Tonnage | U26: Tonnage | AB26: =IF(V17="TR",V19,"") | AC26: =IF(V17="TR",V20,"") | AD26: =IF(V17="TR",V21,"") | AE26: =IF(X17="TR",X19,"") | AF26: =IF(V17="TR",X19,"") | AG26: =IF(X17="TR",1,"") | AH26: =IF(X17="TR",V19,"") | AI26: =IF(Y17="EF",1,"") | AJ26: =IF(Y17="EF",V19,"")
AB27: =IF(V22="TR",V24,"") | AC27: =IF(V22="TR",V25,"") | AD27: =IF(V22="TR",V26,"") | AE27: =IF(X22="TR",X24,"") | AF27: =IF(V22="TR",X24,"") | AG27: =IF(X22="TR",1,"") | AH27: =IF(X22="TR",V24,"") | AI27: =IF(Y22="EF",1,"") | AJ27: =IF(Y22="EF",V24,"")
AB28: =IF(V27="TR",V29,"") | AC28: =IF(V27="TR",V30,"") | AD28: =IF(V27="TR",V31,"") | AE28: =IF(X27="TR",X29,"") | AF28: =IF(V27="TR",X29,"") | AG28: =IF(X27="TR",1,"") | AH28: =IF(X27="TR",V29,"") | AI28: =IF(Y27="EF",1,"") | AJ28: =IF(Y27="EF",V29,"")
K29: TOTAL | M29: Nb SEB | P29: TOTAL | R29: Nb SEB | U29: TOTAL | W29: Nb SEB | AB29: =IF(V32="TR",V34,"") | AC29: =IF(V32="TR",V35,"") | AD29: =IF(V32="TR",V36,"") | AE29: =IF(X32="TR",X34,"") | AF29: =IF(V32="TR",X34,"") | AG29: =IF(X32="TR",1,"") | AH29: =IF(X32="TR",V34,"") | AI29: =IF(Y32="EF",1,"") | AJ29: =IF(Y32="EF",V34,"")
K30: Nb prvlt | P30: Nb prvlt | U30: Nb prvlt | AB30: =IF(V37="TR",V39,"") | AC30: =IF(V37="TR",V40,"") | AD30: =IF(V37="TR",V41,"") | AE30: =IF(X37="TR",X39,"") | AF30: =IF(V37="TR",X39,"") | AG30: =IF(X37="TR",1,"") | AH30: =IF(X37="TR",V39,"") | AI30: =IF(Y37="EF",1,"") | AJ30: =IF(Y37="EF",V39,"")
K31: Tonnage | P31: Tonnage | U31: Tonnage
K34: TOTAL | M34: Nb SEB | P34: TOTAL | R34: Nb SEB | U34: TOTAL | W34: Nb SEB
K35: Nb prvlt | P35: Nb prvlt | U35: Nb prvlt
K36: Tonnage | P36: Tonnage | U36: Tonnage
K39: TOTAL | M39: Nb SEB | P39: TOTAL | R39: Nb SEB | U39: TOTAL | W39: Nb SEB
K40: Nb prvlt | P40: Nb prvlt | U40: Nb prvlt
K41: Tonnage | P41: Tonnage | U41: Tonnage
A44: =A1+1 -> 42507
A47: Planning préparation | F47: Objectif SEB + PAC (J+1) | K47: Prod Prépa | P47: État (instant t) | U47: Reste à expédier
A48: Tonnage jour | D48: =SUM(L59,L64,L69,L74,L79,L84,Q59,Q64,Q69,Q74,Q79,Q84,V59,V64,V69,V74,V79,V84) -> 25.296 | F48: Nb colis à SEB | I48: =SUM(N57,N62,N67,N72,N77,N82,S57,S62,S67,S72,S77,S82,X57,X62,X67,X72,X77,X82) -> 708 | K48: Nb colis préparés | N48: =AB55 -> 1177 | P48: Nb colis SEB | S48: =AE55 -> 708 | U48: Nb dossier à quai | X48: =AG55-AI55 -> 8
A49: Nb colis à préparer | D49: =SUM(L57,L62,L67,L72,L77,L82,Q57,Q62,Q67,Q72,Q77,Q82,V57,V62,V67,V72,V77,V82) -> 1177 | F49: Nb colis nus | I49: =D49-I48 -> 469 | K49: Nb prélèvement | N49: =AC55 -> 184 | P49: NB colis devant chaîne | S49: =AF55-AE55 -> 0 | U49: Nb colis à quai | X49: =AH55-AJ55 -> 441
A50: Nb de lignes | D50: =SUM(L58,L63,L68,L73,L78,L83,Q58,Q63,Q68,Q73,Q78,Q83,V58,V63,V68,V73,V78,V83) -> 184 | K50: Tonnage effectué | N50: =AD55 -> 25.296
...

Sheet S21
A1: 42513
A4: Planning préparation | F4: Objectif SEB + PAC (J+1) | K4: Prod Prépa | P4: État (instant t) | U4: Reste à expédier
A5: Tonnage jour | D5: =SUM(G16,L16,L21,L26,L31,L36,L41,Q16,Q21,Q26,Q31,Q36,Q41,V16,V21,V26,V31,V36,V41) -> 29.131 | F5: Nb colis à SEB | I5: =SUM(I14,N14,N19,N24,N29,N34,N39,S14,S19,S24,S29,S34,S39,X14,X19,X24,X29,X34,X39) -> 695 | K5: Nb colis préparés | N5: =AB12 -> 1146 | P5: Nb colis SEB | S5: =AE12 -> 695 | U5: Nb dossier à quai | X5: =AG12-AI12 -> 12 | AB5: Nb dossier à quai | AD5: =SUM(X5,X48,X91,X134,X177,X220) -> 24
A6: Nb colis à préparer | D6: =SUM(G14,L14,L19,L24,L29,L34,L39,Q14,Q19,Q24,Q29,Q34,Q39,V14,V19,V24,V29,V34,V39) -> 1146 | F6: Nb colis nus | I6: =D6-I5 -> 451 | K6: Nb prélèvement | N6: =AC12 -> 355 | P6: NB colis devant chaîne | S6: =AF12-AE12 -> 0 | U6: Nb colis à quai | X6: =AH12-AJ12 -> 955 | AB6: Nb colis à quai | AD6: =SUM(X6,X49,X92,X135,X178,X221) -> 1680
A7: Nb de lignes | D7: =SUM(G15,L15,L20,L25,L30,L35,L40,Q15,Q20,Q25,Q30,Q35,Q40,V15,V20,V25,V30,V35,V40) -> 355 | K7: Tonnage effectué | N7: =AD12 -> 29.131 | AB7: NB colis devant chaîne | AD7: =SUM(S6,S49,S92,S135,S178) -> 797
A8: Nb de dossier | D8: =COUNTA(F12,K12,K17,K22,K27,K32,K37,P12,P17,P22,P27,P32,P37,U12,U17,U22,U27,U32,U37) -> 16
K9: Reste à prélever | N9: =D6-N5 -> 0 | P9: Reste à suremballer | S9: =I5-S5 -> 0
K10: Nb lignes restantes | N10: =D7-N6 -> 0
A11: ÉQUIPE 1 | F11: ÉQUIPE 2 | K11: ÉQUIPE 3 | P11: ÉQUIPE 4 | U11: ÉQUIPE 5 | AB11: Prépa | AE11: SEB | AG11: Zone PAP
K12: 500-25/05 | L12: TR | N12: TR | P12: 503-25/05 | Q12: TR | S12: TR | U12: 524-26/05 | V12: TR | X12: TR | AB12: =SUM(AB13:AB30) -> 1146 | AC12: =SUM(AC13:AC30) -> 355 | AD12: =SUM(AD13:AD30) -> 29.131 | AE12: =SUM(AE13:AE30) -> 695 | AF12: =SUM(AF13:AF30) -> 695 | AG12: =SUM(AG13:AG30) -> 16 | AH12: =SUM(AH13:AH30) -> 1146 | AI12: =SUM(AI13:AI30) -> 4 | AJ12: =SUM(AJ13:AJ30) -> 191
AB13: =IF(L12="TR",L14,"") -> 158 | AC13: =IF(L12="TR",L15,"") -> 8 | AD13: =IF(L12="TR",L16,"") -> 4.728 | AE13: =IF(N12="TR",N14,"") -> 127 | AF13: =IF(L12="TR",N14,"") -> 127 | AG13: =IF(N12="TR",1,"") -> 1 | AH13: =IF(N12="TR",L14,"") -> 158 | AI13: =IF(O12="EF",1,"") | AJ13: =IF(O12="EF",L14,"")
K14: TOTAL | L14: 158 | M14: Nb SEB | N14: 127 | P14: TOTAL | Q14: 67 | R14: Nb SEB | S14: 67 | U14: TOTAL | V14: 105 | W14: Nb SEB | X14: 52 | AB14: =IF(L17="TR",L19,"") -> 22 | AC14: =IF(L17="TR",L20,"") -> 12 | AD14: =IF(L17="TR",L21,"") -> 0.642 | AE14: =IF(N17="TR",N19,"") -> 17 | AF14: =IF(L17="TR",N19,"") -> 17 | AG14: =IF(N17="TR",1,"") -> 1 | AH14: =IF(N17="TR",L19,"") -> 22 | AI14: =IF(O17="EF",1,"") -> 1 | AJ14: =IF(O17="EF",L19,"") -> 22
K15: Nb prvlt | L15: 8 | P15: Nb prvlt | Q15: 53 | U15: Nb prvlt | V15: 17 | AB15: =IF(L22="TR",L24,"") -> 67 | AC15: =IF(L22="TR",L25,"") -> 35 | AD15: =IF(L22="TR",L26,"") -> 1.752 | AE15: =IF(N22="TR",N24,"") -> 35 | AF15: =IF(L22="TR",N24,"") -> 35 | AG15: =IF(N22="TR",1,"") -> 1 | AH15: =IF(N22="TR",L24,"") -> 67 | AI15: =IF(O22="EF",1,"") -> 1 | AJ15: =IF(O22="EF",L24,"") -> 67
K16: Tonnage | L16: 4.728 | P16: Tonnage | Q16: 1.778 | U16: Tonnage | V16: 0.911 | AB16: =IF(L27="TR",L29,"") -> 7 | AC16: =IF(L27="TR",L30,"") -> 5 | AD16: =IF(L27="TR",L31,"") -> 0.182 | AE16: =IF(N27="TR",N29,"") -> 6 | AF16: =IF(L27="TR",N29,"") -> 6 | AG16: =IF(N27="TR",1,"") -> 1 | AH16: =IF(N27="TR",L29,"") -> 7 | AI16: =IF(O27="EF",1,"") | AJ16: =IF(O27="EF",L29,"")
K17: 501-25/05 | L17: TR | N17: TR | O17: EF | P17: 504-25/05 | Q17: TR | S17: TR | U17: 525-26/05 | V17: TR | X17: TR | AB17: =IF(L32="TR",L34,"") -> 10 | AC17: =IF(L32="TR",L35,"") -> 21 | AD17: =IF(L32="TR",L36,"") -> 0.851 | AE17: =IF(N32="TR",N34,"") -> 6 | AF17: =IF(L32="TR",N34,"") -> 6 | AG17: =IF(N32="TR",1,"") -> 1 | AH17: =IF(N32="TR",L34,"") -> 10 | AI17: =IF(O32="EF",1,"") -> 1 | AJ17: =IF(O32="EF",L34,"") -> 10
AB18: =IF(L37="TR",L39,"") -> 9 | AC18: =IF(L37="TR",L40,"") -> 6 | AD18: =IF(L37="TR",L41,"") -> 0.249 | AE18: =IF(N37="TR",N39,"") -> 5 | AF18: =IF(L37="TR",N39,"") -> 5 | AG18: =IF(N37="TR",1,"") -> 1 | AH18: =IF(N37="TR",L39,"") -> 9 | AI18: =IF(O37="EF",1,"") | AJ18: =IF(O37="EF",L39,"")
K19: TOTAL | L19: 22 | M19: Nb SEB | N19: 17 | P19: TOTAL | Q19: 18 | R19: Nb SEB | S19: 9 | U19: TOTAL | V19: 13 | W19: Nb SEB | X19: 6 | AB19: =IF(Q12="TR",Q14,"") -> 67 | AC19: =IF(Q12="TR",Q15,"") -> 53 | AD19: =IF(Q12="TR",Q16,"") -> 1.778 | AE19: =IF(S12="TR",S14,"") -> 67 | AF19: =IF(Q12="TR",S14,"") -> 67 | AG19: =IF(S12="TR",1,"") -> 1 | AH19: =IF(S12="TR",Q14,"") -> 67 | AI19: =IF(T12="EF",1,"") | AJ19: =IF(T12="EF",Q14,"")
K20: Nb prvlt | L20: 12 | P20: Nb prvlt | Q20: 13 | U20: Nb prvlt | V20: 12 | AB20: =IF(Q17="TR",Q19,"") -> 18 | AC20: =IF(Q17="TR",Q20,"") -> 13 | AD20: =IF(Q17="TR",Q21,"") -> 0.412 | AE20: =IF(S17="TR",S19,"") -> 9 | AF20: =IF(Q17="TR",S19,"") -> 9 | AG20: =IF(S17="TR",1,"") -> 1 | AH20: =IF(S17="TR",Q19,"") -> 18 | AI20: =IF(T17="EF",1,"") | AJ20: =IF(T17="EF",Q19,"")
K21: Tonnage | L21: 0.642 | P21: Tonnage | Q21: 0.412 | U21: Tonnage | V21: 0.411 | AB21: =IF(Q22="TR",Q24,"") -> 49 | AC21: =IF(Q22="TR",Q25,"") -> 31 | AD21: =IF(Q22="TR",Q26,"") -> 1.172 | AE21: =IF(S22="TR",S24,"") -> 35 | AF21: =IF(Q22="TR",S24,"") -> 35 | AG21: =IF(S22="TR",1,"") -> 1 | AH21: =IF(S22="TR",Q24,"") -> 49 | AI21: =IF(T22="EF",1,"") | AJ21: =IF(T22="EF",Q24,"")
K22: 502-25/05 | L22: TR | N22: TR | O22: EF | P22: 505-25/05 | Q22: TR | S22: TR | U22: 526-26/05 | V22: TR | X22: TR | AB22: =IF(Q27="TR",Q29,"") -> 92 | AC22: =IF(Q27="TR",Q30,"") -> 34 | AD22: =IF(Q27="TR",Q31,"") -> 1.312 | AE22: =IF(S27="TR",S29,"") -> 13 | AF22: =IF(Q27="TR",S29,"") -> 13 | AG22: =IF(S27="TR",1,"") -> 1 | AH22: =IF(S27="TR",Q29,"") -> 92 | AI22: =IF(T27="EF",1,"") -> 1 | AJ22: =IF(T27="EF",Q29,"") -> 92
AB23: =IF(Q32="TR",Q34,"") -> 134 | AC23: =IF(Q32="TR",Q35,"") -> 59 | AD23: =IF(Q32="TR",Q36,"") -> 4.328 | AE23: =IF(S32="TR",S34,"") -> 61 | AF23: =IF(Q32="TR",S34,"") -> 61 | AG23: =IF(S32="TR",1,"") -> 1 | AH23: =IF(S32="TR",Q34,"") -> 134 | AI23: =IF(T32="EF",1,"") | AJ23: =IF(T32="EF",Q34,"")
K24: TOTAL | L24: 67 | M24: Nb SEB | N24: 35 | P24: TOTAL | Q24: 49 | R24: Nb SEB | S24: 35 | U24: TOTAL | V24: 21 | W24: Nb SEB | X24: 7 | AB24: =IF(Q37="TR",Q39,"") -> 43 | AC24: =IF(Q37="TR",Q40,"") -> 11 | AD24: =IF(Q37="TR",Q41,"") -> 0.426 | AE24: =IF(S37="TR",S39,"") -> 34 | AF24: =IF(Q37="TR",S39,"") -> 34 | AG24: =IF(S37="TR",1,"") -> 1 | AH24: =IF(S37="TR",Q39,"") -> 43 | AI24: =IF(T37="EF",1,"") | AJ24: =IF(T37="EF",Q39,"")
K25: Nb prvlt | L25: 35 | P25: Nb prvlt | Q25: 31 | U25: Nb prvlt | V25: 4 | AB25: =IF(V12="TR",V14,"") -> 105 | AC25: =IF(V12="TR",V15,"") -> 17 | AD25: =IF(V12="TR",V16,"") -> 0.911 | AE25: =IF(X12="TR",X14,"") -> 52 | AF25: =IF(V12="TR",X14,"") -> 52 | AG25: =IF(X12="TR",1,"") -> 1 | AH25: =IF(X12="TR",V14,"") -> 105 | AI25: =IF(Y12="EF",1,"") | AJ25: =IF(Y12="EF",V14,"")
K26: Tonnage | L26: 1.752 | P26: Tonnage | Q26: 1.172 | U26: Tonnage | V26: 0.332 | AB26: =IF(V17="TR",V19,"") -> 13 | AC26: =IF(V17="TR",V20,"") -> 12 | AD26: =IF(V17="TR",V21,"") -> 0.411 | AE26: =IF(X17="TR",X19,"") -> 6 | AF26: =IF(V17="TR",X19,"") -> 6 | AG26: =IF(X17="TR",1,"") -> 1 | AH26: =IF(X17="TR",V19,"") -> 13 | AI26: =IF(Y17="EF",1,"") | AJ26: =IF(Y17="EF",V19,"")
K27: 505-26/05 | L27: TR | N27: TR | P27: 509-25/05 | Q27: TR | S27: TR | T27: EF | U27: 540-26/05 | V27: TR | X27: TR | AB27: =IF(V22="TR",V24,"") -> 21 | AC27: =IF(V22="TR",V25,"") -> 4 | AD27: =IF(V22="TR",V26,"") -> 0.332 | AE27: =IF(X22="TR",X24,"") -> 7 | AF27: =IF(V22="TR",X24,"") -> 7 | AG27: =IF(X22="TR",1,"") -> 1 | AH27: =IF(X22="TR",V24,"") -> 21 | AI27: =IF(Y22="EF",1,"") | AJ27: =IF(Y22="EF",V24,"")
AB28: =IF(V27="TR",V29,"") -> 331 | AC28: =IF(V27="TR",V30,"") -> 34 | AD28: =IF(V27="TR",V31,"") -> 9.645 | AE28: =IF(X27="TR",X29,"") -> 215 | AF28: =IF(V27="TR",X29,"") -> 215 | AG28: =IF(X27="TR",1,"") -> 1 | AH28: =IF(X27="TR",V29,"") -> 331 | AI28: =IF(Y27="EF",1,"") | AJ28: =IF(Y27="EF",V29,"")
K29: TOTAL | L29: 7 | M29: Nb SEB | N29: 6 | P29: TOTAL | Q29: 92 | R29: Nb SEB | S29: 13 | U29: TOTAL | V29: 331 | W29: Nb SEB | X29: 215 | AB29: =IF(V32="TR",V34,"") | AC29: =IF(V32="TR",V35,"") | AD29: =IF(V32="TR",V36,"") | AE29: =IF(X32="TR",X34,"") | AF29: =IF(V32="TR",X34,"") | AG29: =IF(X32="TR",1,"") | AH29: =IF(X32="TR",V34,"") | AI29: =IF(Y32="EF",1,"") | AJ29: =IF(Y32="EF",V34,"")
K30: Nb prvlt | L30: 5 | P30: Nb prvlt | Q30: 34 | U30: Nb prvlt | V30: 34 | AB30: =IF(V37="TR",V39,"") | AC30: =IF(V37="TR",V40,"") | AD30: =IF(V37="TR",V41,"") | AE30: =IF(X37="TR",X39,"") | AF30: =IF(V37="TR",X39,"") | AG30: =IF(X37="TR",1,"") | AH30: =IF(X37="TR",V39,"") | AI30: =IF(Y37="EF",1,"") | AJ30: =IF(Y37="EF",V39,"")
K31: Tonnage | L31: 0.182 | P31: Tonnage | Q31: 1.312 | U31: Tonnage | V31: 9.645
K32: 504-26/05 | L32: TR | N32: TR | O32: EF | P32: 513-25/05 | Q32: TR | S32: TR
K34: TOTAL | L34: 10 | M34: Nb SEB | N34: 6 | P34: TOTAL | Q34: 134 | R34: Nb SEB | S34: 61 | U34: TOTAL | W34: Nb SEB
K35: Nb prvlt | L35: 21 | P35: Nb prvlt | Q35: 59 | U35: Nb prvlt
K36: Tonnage | L36: 0.851 | P36: Tonnage | Q36: 4.328 | U36: Tonnage
K37: 502-26/05 | L37: TR | N37: TR | P37: 522-26/05 | Q37: TR | S37: TR
K39: TOTAL | L39: 9 | M39: Nb SEB | N39: 5 | P39: TOTAL | Q39: 43 | R39: Nb SEB | S39: 34 | U39: TOTAL | W39: Nb SEB
K40: Nb prvlt | L40: 6 | P40: Nb prvlt | Q40: 11 | U40: Nb prvlt
K41: Tonnage | L41: 0.249 | P41: Tonnage | Q41: 0.426 | U41: Tonnage
A44: =A1+1 -> 42514
A47: Planning préparation | F47: Objectif SEB + PAC (J+1) | K47: Prod Prépa | P47: État (instant t) | U47: Reste à expédier
A48: Tonnage jour | D48: =SUM(L59,L64,L69,L74,L79,L84,Q59,Q64,Q69,Q74,Q79,Q84,V59,V64,V69,V74,V79,V84) -> 30.794 | F48: Nb colis à SEB | I48: =SUM(N57,N62,N67,N72,N77,N82,S57,S62,S67,S72,S77,S82,X57,X62,X67,X72,X77,X82) -> 679 | K48: Nb colis préparés | N48: =AB55 -> 1132 | P48: Nb colis SEB | S48: =AE55 -> 286 | U48: Nb dossier à quai | X48: =AG55-AI55 -> 11
...

Sheet Récap
A1: Date | C1: État zone PAP
B2: Nb colis devant chaîne | C2: Nb de dossiers | D2: Nb de colis
A3: 42491 | B3: =IF(A3=TODAY(),SUM('[1]S1:S52'!$AD$7),"") | C3: =IF(A3=TODAY(),SUM('[1]S1:S52'!$AD$5),"") | D3: =IF(A3=TODAY(),SUM('[1]S1:S52'!$AD$6),"")
A4: 42492 | B4: =IF(A4>TODAY(),"",SUM('S18:S21'!$AD$7)) -> 797 | C4: =IF(A4>TODAY(),"",SUM('S18:S21'!$AD$5)) -> 45 | D4: =IF(A4>TODAY(),"",SUM('S18:S21'!$AD$6)) -> 3977 | E4: Je voudrai connaître la valeur de la somme au dernier enregistrement du 02/05/2016
A5: 42493 | B5: =IF(A5>TODAY(),"",SUM('S18:S21'!$AD$7)) -> 797 | C5: =IF(A5>TODAY(),"",SUM('S18:S21'!$AD$5)) -> 45 | D5: =IF(A5>TODAY(),"",SUM('S18:S21'!$AD$6)) -> 3977
A6: 42494 | B6: =IF(A6>TODAY(),"",SUM('S18:S21'!$AD$7)) -> 797 | C6: =IF(A6>TODAY(),"",SUM('S18:S21'!$AD$5)) -> 45 | D6: =IF(A6>TODAY(),"",SUM('S18:S21'!$AD$6)) -> 3977
A7: 42495 | B7: =IF(A7>TODAY(),"",SUM('S18:S21'!$AD$7)) -> 797 | C7: =IF(A7>TODAY(),"",SUM('S18:S21'!$AD$5)) -> 45 | D7: =IF(A7>TODAY(),"",SUM('S18:S21'!$AD$6)) -> 3977
A8: 42496 | B8: =IF(A8>TODAY(),"",SUM('S18:S21'!$AD$7)) -> 797 | C8: =IF(A8>TODAY(),"",SUM('S18:S21'!$AD$5)) -> 45 | D8: =IF(A8>TODAY(),"",SUM('S18:S21'!$AD$6)) -> 3977
A9: 42497 | B9: =IF(A9>TODAY(),"",SUM('S18:S21'!$AD$7)) -> 797 | C9: =IF(A9>TODAY(),"",SUM('S18:S21'!$AD$5)) -> 45 | D9: =IF(A9>TODAY(),"",SUM('S18:S21'!$AD$6)) -> 3977
A10: 42498 | B10: =IF(A10>TODAY(),"",SUM('S18:S21'!$AD$7)) -> 797 | C10: =IF(A10>TODAY(),"",SUM('S18:S21'!$AD$5)) -> 45 | D10: =IF(A10>TODAY(),"",SUM('S18:S21'!$AD$6)) -> 3977
A11: 42499 | B11: =IF(A11>TODAY(),"",SUM('S18:S21'!$AD$7)) -> 797 | C11: =IF(A11>TODAY(),"",SUM('S18:S21'!$AD$5)) -> 45 | D11: =IF(A11>TODAY(),"",SUM('S18:S21'!$AD$6)) -> 3977
A12: 42500 | B12: =IF(A12>TODAY(),"",SUM('S18:S21'!$AD$7)) -> 797 | C12: =IF(A12>TODAY(),"",SUM('S18:S21'!$AD$5)) -> 45 | D12: =IF(A12>TODAY(),"",SUM('S18:S21'!$AD$6)) -> 3977
A13: 42501 | B13: =IF(A13>TODAY(),"",SUM('S18:S21'!$AD$7)) -> 797 | C13: =IF(A13>TODAY(),"",SUM('S18:S21'!$AD$5)) -> 45 | D13: =IF(A13>TODAY(),"",SUM('S18:S21'!$AD$6)) -> 3977
A14: 42502 | B14: =IF(A14>TODAY(),"",SUM('S18:S21'!$AD$7)) -> 797 | C14: =IF(A14>TODAY(),"",SUM('S18:S21'!$AD$5)) -> 45 | D14: =IF(A14>TODAY(),"",SUM('S18:S21'!$AD$6)) -> 3977
A15: 42503 | B15: =IF(A15>TODAY(),"",SUM('S18:S21'!$AD$7)) -> 797 | C15: =IF(A15>TODAY(),"",SUM('S18:S21'!$AD$5)) -> 45 | D15: =IF(A15>TODAY(),"",SUM('S18:S21'!$AD$6)) -> 3977
A16: 42504 | B16: =IF(A16>TODAY(),"",SUM('S18:S21'!$AD$7)) -> 797 | C16: =IF(A16>TODAY(),"",SUM('S18:S21'!$AD$5)) -> 45 | D16: =IF(A16>TODAY(),"",SUM('S18:S21'!$AD$6)) -> 3977
... A26: 42514 | B26: =IF(A26>TODAY(),"",SUM('S18:S21'!$AD$7)) -> 797 | C26: =IF(A26>TODAY(),"",SUM('S18:S21'!$AD$5)) -> 45 | D26: =IF(A26>TODAY(),"",SUM('S18:S21'!$AD$6)) -> 3977
A27: 42515 | B27: =IF(A27>TODAY(),"",SUM('S18:S21'!$AD$7)) -> 797 | C27: =IF(A27>TODAY(),"",SUM('S18:S21'!$AD$5)) -> 45 | D27: =IF(A27>TODAY(),"",SUM('S18:S21'!$AD$6)) -> 3977 | E27: Valeur d'aujourd'hui au dernier enregistrement, demain le 25/05 cette valeur doit-être la même (figer) et ne pas évoluer
A28: 42516 | B28: =IF(A28>TODAY(),"",SUM('S18:S21'!$AD$7)) | C28: =IF(A28>TODAY(),"",SUM('S18:S21'!$AD$5)) | D28: =IF(A28>TODAY(),"",SUM('S18:S21'!$AD$6))
A29: 42517 | B29: =IF(A29>TODAY(),"",SUM('S18:S21'!$AD$7)) | C29: =IF(A29>TODAY(),"",SUM('S18:S21'!$AD$5)) | D29: =IF(A29>TODAY(),"",SUM('S18:S21'!$AD$6))
A30: 42518 | B30: =IF(A30>TODAY(),"",SUM('S18:S21'!$AD$7)) | C30: =IF(A30>TODAY(),"",SUM('S18:S21'!$AD$5)) | D30: =IF(A30>TODAY(),"",SUM('S18:S21'!$AD$6))
A31: 42519 | B31: =IF(A31>TODAY(),"",SUM('S18:S21'!$AD$7)) | C31: =IF(A31>TODAY(),"",SUM('S18:S21'!$AD$5)) | D31: =IF(A31>TODAY(),"",SUM('S18:S21'!$AD$6))
A32: 42520 | B32: =IF(A32>TODAY(),"",SUM('S18:S21'!$AD$7)) | C32: =IF(A32>TODAY(),"",SUM('S18:S21'!$AD$5)) | D32: =IF(A32>TODAY(),"",SUM('S18:S21'!$AD$6))
A33: 42521 | B33: =IF(A33>TODAY(),"",SUM('S18:S21'!$AD$7)) | C33: =IF(A33>TODAY(),"",SUM('S18:S21'!$AD$5)) | D33: =IF(A33>TODAY(),"",SUM('S18:S21'!$AD$6))
