Workbook

Sheet S18
A1: 42492
A4: Planning préparation | F4: Objectif SEB + PAC (J+1) | K4: Prod Prépa | P4: État (instant t) | U4: Reste à expédier
A5: Tonnage jour | D5: =SUM(G16,L16,L21,L26,L31,L36,L41,Q16,Q21,Q26,Q31,Q36,Q41,V16,V21,V26,V31,V36,V41) -> 24.178 | F5: Nb colis à SEB | I5: =SUM(I14,N14,N19,N24,N29,N34,N39,S14,S19,S24,S29,S34,S39,X14,X19,X24,X29,X34,X39) -> 443 | K5: Nb colis préparés | N5: =AB12 -> 690 | P5: Nb colis SEB | S5: =AE12 -> 443 | U5: Nb dossier à quai | X5: =AG12-AI12 -> 0 | AB5: Nb dossier à quai | AD5: =SUM(X5,X48,X91,X134,X177,X220) -> 1
A6: Nb colis à préparer | D6: =SUM(G14,L14,L19,L24,L29,L34,L39,Q14,Q19,Q24,Q29,Q34,Q39,V14,V19,V24,V29,V34,V39) -> 690 | F6: Nb colis nus | I6: =D6-I5 -> 247 | K6: Nb prélèvement | N6: =AC12 -> 252 | P6: NB colis devant chaîne | S6: =AF12-AE12 -> 0 | U6: Nb colis à quai | X6: =AH12-AJ12 -> 0 | AB6: Nb colis à quai | AD6: =SUM(X6,X49,X92,X135,X178,X221) -> 362
A7: Nb de lignes | D7: =SUM(G15,L15,L20,L25,L30,L35,L40,Q15,Q20,Q25,Q30,Q35,Q40,V15,V20,V25,V30,V35,V40) -> 252 | K7: Tonnage effectué | N7: =AD12 -> 24.178 | AB7: NB colis devant chaîne | AD7: =SUM(S6,S49,S92,S135,S178) -> 0
A8: Nb de dossier | D8: =COUNTA(F12,K12,K17,K22,K27,K32,K37,P12,P17,P22,P27,P32,P37,U12,U17,U22,U27,U32,U37) -> 15
K9: Reste à prélever | N9: =D6-N5 -> 0 | P9: Reste à suremballer | S9: =I5-S5 -> 0
K10: Nb lignes restantes | N10: =D7-N6 -> 0
A11: ÉQUIPE 1 | F11: ÉQUIPE 2 | K11: ÉQUIPE 3 | P11: ÉQUIPE 4 | U11: ÉQUIPE 5 | AB11: Prépa | AE11: SEB | AG11: Zone PAP
K12: 501-04/05 | L12: TR | N12: TR | O12: EF | P12: 511-04/05 | Q12: TR | S12: TR | T12: EF | U12: 507-04/05 | V12: TR | X12: TR | Y12: EF | AB12: =SUM(AB13:AB30) -> 690 | AC12: =SUM(AC13:AC30) -> 252 | AD12: =SUM(AD13:AD30) -> 24.178 | AE12: =SUM(AE13:AE30) -> 443 | AF12: =SUM(AF13:AF30) -> 443 | AG12: =SUM(AG13:AG30) -> 15 | AH12: =SUM(AH13:AH30) -> 690 | AI12: =SUM(AI13:AI30) -> 15 | AJ12: =SUM(AJ13:AJ30) -> 690
AB13: =IF(L12="TR",L14,"") -> 26 | AC13: =IF(L12="TR",L15,"") -> 16 | AD13: =IF(L12="TR",L16,"") -> 0.705 | AE13: =IF(N12="TR",N14,"") -> 22 | AF13: =IF(L12="TR",N14,"") -> 22 | AG13: =IF(N12="TR",1,"") -> 1 | AH13: =IF(N12="TR",L14,"") -> 26 | AI13: =IF(O12="EF",1,"") -> 1 | AJ13: =IF(O12="EF",L14,"") -> 26
K14: TOTAL | L14: 26 | M14: Nb SEB | N14: 22 | P14: TOTAL | Q14: 7 | R14: Nb SEB | S14: 7 | U14: TOTAL | V14: 46 | W14: Nb SEB | X14: 46 | AB14: =IF(L17="TR",L19,"") -> 6 | AC14: =IF(L17="TR",L20,"") -> 3 | AD14: =IF(L17="TR",L21,"") -> 0.091 | AE14: =IF(N17="TR",N19,"") -> 2 | AF14: =IF(L17="TR",N19,"") -> 2 | AG14: =IF(N17="TR",1,"") -> 1 | AH14: =IF(N17="TR",L19,"") -> 6 | AI14: =IF(O17="EF",1,"") -> 1 | AJ14: =IF(O17="EF",L19,"") -> 6
K15: Nb prvlt | L15: 16 | P15: Nb prvlt | Q15: 7 | U15: Nb prvlt | V15: 35 | AB15: =IF(L22="TR",L24,"") -> 3 | AC15: =IF(L22="TR",L25,"") -> 2 | AD15: =IF(L22="TR",L26,"") -> 0.103 | AE15: =IF(N22="TR",N24,"") -> 3 | AF15: =IF(L22="TR",N24,"") -> 3 | AG15: =IF(N22="TR",1,"") -> 1 | AH15: =IF(N22="TR",L24,"") -> 3 | AI15: =IF(O22="EF",1,"") -> 1 | AJ15: =IF(O22="EF",L24,"") -> 3
K16: Tonnage | L16: 0.705 | P16: Tonnage | Q16: 0.164 | U16: Tonnage | V16: 1.231 | AB16: =IF(L27="TR",L29,"") -> 35 | AC16: =IF(L27="TR",L30,"") -> 22 | AD16: =IF(L27="TR",L31,"") -> 1.252 | AE16: =IF(N27="TR",N29,"") -> 33 | AF16: =IF(L27="TR",N29,"") -> 33 | AG16: =IF(N27="TR",1,"") -> 1 | AH16: =IF(N27="TR",L29,"") -> 35 | AI16: =IF(O27="EF",1,"") -> 1 | AJ16: =IF(O27="EF",L29,"") -> 35
K17: 504-04/05 | L17: TR | N17: TR | O17: EF | P17: 512-04/05 | Q17: TR | S17: TR | T17: EF | U17: 518-04/05 | V17: TR | X17: TR | Y17: EF | AB17: =IF(L32="TR",L34,"") -> 20 | AC17: =IF(L32="TR",L35,"") -> 20 | AD17: =IF(L32="TR",L36,"") -> 0.756 | AE17: =IF(N32="TR",N34,"") -> 15 | AF17: =IF(L32="TR",N34,"") -> 15 | AG17: =IF(N32="TR",1,"") -> 1 | AH17: =IF(N32="TR",L34,"") -> 20 | AI17: =IF(O32="EF",1,"") -> 1 | AJ17: =IF(O32="EF",L34,"") -> 20
AB18: =IF(L37="TR",L39,"") -> 79 | AC18: =IF(L37="TR",L40,"") -> 37 | AD18: =IF(L37="TR",L41,"") -> 2.144 | AE18: =IF(N37="TR",N39,"") -> 47 | AF18: =IF(L37="TR",N39,"") -> 47 | AG18: =IF(N37="TR",1,"") -> 1 | AH18: =IF(N37="TR",L39,"") -> 79 | AI18: =IF(O37="EF",1,"") -> 1 | AJ18: =IF(O37="EF",L39,"") -> 79
K19: TOTAL | L19: 6 | M19: Nb SEB | N19: 2 | P19: TOTAL | Q19: 18 | R19: Nb SEB | S19: 7 | U19: TOTAL | V19: 1 | W19: Nb SEB | X19: 1 | AB19: =IF(Q12="TR",Q14,"") -> 7 | AC19: =IF(Q12="TR",Q15,"") -> 7 | AD19: =IF(Q12="TR",Q16,"") -> 0.164 | AE19: =IF(S12="TR",S14,"") -> 7 | AF19: =IF(Q12="TR",S14,"") -> 7 | AG19: =IF(S12="TR",1,"") -> 1 | AH19: =IF(S12="TR",Q14,"") -> 7 | AI19: =IF(T12="EF",1,"") -> 1 | AJ19: =IF(T12="EF",Q14,"") -> 7
K20: Nb prvlt | L20: 3 | P20: Nb prvlt | Q20: 8 | U20: Nb prvlt | V20: 1 | AB20: =IF(Q17="TR",Q19,"") -> 18 | AC20: =IF(Q17="TR",Q20,"") -> 8 | AD20: =IF(Q17="TR",Q21,"") -> 0.351 | AE20: =IF(S17="TR",S19,"") -> 7 | AF20: =IF(Q17="TR",S19,"") -> 7 | AG20: =IF(S17="TR",1,"") -> 1 | AH20: =IF(S17="TR",Q19,"") -> 18 | AI20: =IF(T17="EF",1,"") -> 1 | AJ20: =IF(T17="EF",Q19,"") -> 18
K21: Tonnage | L21: 0.091 | P21: Tonnage | Q21: 0.351 | U21: Tonnage | V21: 0.029 | AB21: =IF(Q22="TR",Q24,"") -> 77 | AC21: =IF(Q22="TR",Q25,"") -> 30 | AD21: =IF(Q22="TR",Q26,"") -> 2.818 | AE21: =IF(S22="TR",S24,"") -> 73 | AF21: =IF(Q22="TR",S24,"") -> 73 | AG21: =IF(S22="TR",1,"") -> 1 | AH21: =IF(S22="TR",Q24,"") -> 77 | AI21: =IF(T22="EF",1,"") -> 1 | AJ21: =IF(T22="EF",Q24,"") -> 77
K22: 505-04/05 | L22: TR | N22: TR | O22: EF | P22: 513-04/05 | Q22: TR | S22: TR | T22: EF | U22: 523-04/05 | V22: TR | X22: TR | Y22: EF | AB22: =IF(Q27="TR",Q29,"") -> 21 | AC22: =IF(Q27="TR",Q30,"") -> 17 | AD22: =IF(Q27="TR",Q31,"") -> 0.667 | AE22: =IF(S27="TR",S29,"") -> 18 | AF22: =IF(Q27="TR",S29,"") -> 18 | AG22: =IF(S27="TR",1,"") -> 1 | AH22: =IF(S27="TR",Q29,"") -> 21 | AI22: =IF(T27="EF",1,"") -> 1 | AJ22: =IF(T27="EF",Q29,"") -> 21
AB23: =IF(Q32="TR",Q34,"") -> 28 | AC23: =IF(Q32="TR",Q35,"") -> 22 | AD23: =IF(Q32="TR",Q36,"") -> 0.953 | AE23: =IF(S32="TR",S34,"") -> 28 | AF23: =IF(Q32="TR",S34,"") -> 28 | AG23: =IF(S32="TR",1,"") -> 1 | AH23: =IF(S32="TR",Q34,"") -> 28 | AI23: =IF(T32="EF",1,"") -> 1 | AJ23: =IF(T32="EF",Q34,"") -> 28
K24: TOTAL | L24: 3 | M24: Nb SEB | N24: 3 | P24: TOTAL | Q24: 77 | R24: Nb SEB | S24: 73 | U24: TOTAL | V24: 309 | W24: Nb SEB | X24: 129 | AB24: =IF(Q37="TR",Q39,"") -> 14 | AC24: =IF(Q37="TR",Q40,"") -> 11 | AD24: =IF(Q37="TR",Q41,"") -> 0.399 | AE24: =IF(S37="TR",S39,"") -> 12 | AF24: =IF(Q37="TR",S39,"") -> 12 | AG24: =IF(S37="TR",1,"") -> 1 | AH24: =IF(S37="TR",Q39,"") -> 14 | AI24: =IF(T37="EF",1,"") -> 1 | AJ24: =IF(T37="EF",Q39,"") -> 14
K25: Nb prvlt | L25: 2 | P25: Nb prvlt | Q25: 30 | U25: Nb prvlt | V25: 21 | AB25: =IF(V12="TR",V14,"") -> 46 | AC25: =IF(V12="TR",V15,"") -> 35 | AD25: =IF(V12="TR",V16,"") -> 1.231 | AE25: =IF(X12="TR",X14,"") -> 46 | AF25: =IF(V12="TR",X14,"") -> 46 | AG25: =IF(X12="TR",1,"") -> 1 | AH25: =IF(X12="TR",V14,"") -> 46 | AI25: =IF(Y12="EF",1,"") -> 1 | AJ25: =IF(Y12="EF",V14,"") -> 46
K26: Tonnage | L26: 0.103 | P26: Tonnage | Q26: 2.818 | U26: Tonnage | V26: 12.515 | AB26: =IF(V17="TR",V19,"") -> 1 | AC26: =IF(V17="TR",V20,"") -> 1 | AD26: =IF(V17="TR",V21,"") -> 0.029 | AE26: =IF(X17="TR",X19,"") -> 1 | AF26: =IF(V17="TR",X19,"") -> 1 | AG26: =IF(X17="TR",1,"") -> 1 | AH26: =IF(X17="TR",V19,"") -> 1 | AI26: =IF(Y17="EF",1,"") -> 1 | AJ26: =IF(Y17="EF",V19,"") -> 1
K27: 506-04/05 | L27: TR | N27: TR | O27: EF | P27: 515-04/05 | Q27: TR | S27: TR | T27: EF | AB27: =IF(V22="TR",V24,"") -> 309 | AC27: =IF(V22="TR",V25,"") -> 21 | AD27: =IF(V22="TR",V26,"") -> 12.515 | AE27: =IF(X22="TR",X24,"") -> 129 | AF27: =IF(V22="TR",X24,"") -> 129 | AG27: =IF(X22="TR",1,"") -> 1 | AH27: =IF(X22="TR",V24,"") -> 309 | AI27: =IF(Y22="EF",1,"") -> 1 | AJ27: =IF(Y22="EF",V24,"") -> 309
AB28: =IF(V27="TR",V29,"") | AC28: =IF(V27="TR",V30,"") | AD28: =IF(V27="TR",V31,"") | AE28: =IF(X27="TR",X29,"") | AF28: =IF(V27="TR",X29,"") | AG28: =IF(X27="TR",1,"") | AH28: =IF(X27="TR",V29,"") | AI28: =IF(Y27="EF",1,"") | AJ28: =IF(Y27="EF",V29,"")
K29: TOTAL | L29: 35 | M29: Nb SEB | N29: 33 | P29: TOTAL | Q29: 21 | R29: Nb SEB | S29: 18 | U29: TOTAL | W29: Nb SEB | AB29: =IF(V32="TR",V34,"") | AC29: =IF(V32="TR",V35,"") | AD29: =IF(V32="TR",V36,"") | AE29: =IF(X32="TR",X34,"") | AF29: =IF(V32="TR",X34,"") | AG29: =IF(X32="TR",1,"") | AH29: =IF(X32="TR",V34,"") | AI29: =IF(Y32="EF",1,"") | AJ29: =IF(Y32="EF",V34,"")
K30: Nb prvlt | L30: 22 | P30: Nb prvlt | Q30: 17 | U30: Nb prvlt | AB30: =IF(V37="TR",V39,"") | AC30: =IF(V37="TR",V40,"") | AD30: =IF(V37="TR",V41,"") | AE30: =IF(X37="TR",X39,"") | AF30: =IF(V37="TR",X39,"") | AG30: =IF(X37="TR",1,"") | AH30: =IF(X37="TR",V39,"") | AI30: =IF(Y37="EF",1,"") | AJ30: =IF(Y37="EF",V39,"")
K31: Tonnage | L31: 1.252 | P31: Tonnage | Q31: 0.667 | U31: Tonnage
K32: 510-04/05 | L32: TR | N32: TR | O32: EF | P32: 516-04/05 | Q32: TR | S32: TR | T32: EF
K34: TOTAL | L34: 20 | M34: Nb SEB | N34: 15 | P34: TOTAL | Q34: 28 | R34: Nb SEB | S34: 28 | U34: TOTAL | W34: Nb SEB
K35: Nb prvlt | L35: 20 | P35: Nb prvlt | Q35: 22 | U35: Nb prvlt
K36: Tonnage | L36: 0.756 | P36: Tonnage | Q36: 0.953 | U36: Tonnage
K37: 519-04/05 | L37: TR | N37: TR | O37: EF | P37: 517-04/05 | Q37: TR | S37: TR | T37: EF
K39: TOTAL | L39: 79 | M39: Nb SEB | N39: 47 | P39: TOTAL | Q39: 14 | R39: Nb SEB | S39: 12 | U39: TOTAL | W39: Nb SEB
K40: Nb prvlt | L40: 37 | P40: Nb prvlt | Q40: 11 | U40: Nb prvlt
K41: Tonnage | L41: 2.144 | P41: Tonnage | Q41: 0.399 | U41: Tonnage
A44: =A1+1 -> 42493
A47: Planning préparation | F47: Objectif SEB + PAC (J+1) | K47: Prod Prépa | P47: État (instant t) | U47: Reste à expédier
A48: Tonnage jour | D48: =SUM(L59,L64,L69,L74,L79,L84,Q59,Q64,Q69,Q74,Q79,Q84,V59,V64,V69,V74,V79,V84) -> 20.908 | F48: Nb colis à SEB | I48: =SUM(N57,N62,N67,N72,N77,N82,S57,S62,S67,S72,S77,S82,X57,X62,X67,X72,X77,X82) -> 546 | K48: Nb colis préparés | N48: =AB55 -> 918 | P48: Nb colis SEB | S48: =AE55 -> 546 | U48: Nb dossier à quai | X48: =AG55-AI55 -> 0
A49: Nb colis à préparer | D49: =SUM(L57,L62,L67,L72,L77,L82,Q57,Q62,Q67,Q72,Q77,Q82,V57,V62,V67,V72,V77,V82) -> 918 | F49: Nb colis nus | I49: =D49-I48 -> 372 | K49: Nb prélèvement | N49: =AC55 -> 226 | P49: NB colis devant chaîne | S49: =AF55-AE55 -> 0 | U49: Nb colis à quai | X49: =AH55-AJ55 -> 0
A50: Nb de lignes | D50: =SUM(L58,L63,L68,L73,L78,L83,Q58,Q63,Q68,Q73,Q78,Q83,V58,V63,V68,V73,V78,V83) -> 226 | K50: Tonnage effectué | N50: =AD55 -> 20.908
A51: Nb de dossier | D51: =COUNTA(K55,K60,K65,K70,K75,K80,P55,P60,P65,P70,P75,P80,U55,U60,U65,U70,U75,U80) -> 18
K52: Reste à prélever | N52: =D49-N48 -> 0 | P52: Reste à suremballer | S52: =I48-S48 -> 0
K53: Nb lignes restantes | N53: =D50-N49 -> 0
A54: ÉQUIPE 1 | F54: ÉQUIPE 2 | K54: ÉQUIPE 3 | P54: ÉQUIPE 4 | U54: ÉQUIPE 5 | AB54: Prépa | AE54: SEB | AG54: Zone PAP
K55: 500-06/05 | L55: TR | N55: TR | O55: EF | P55: 502-06/05 | Q55: TR | S55: TR | T55: EF | U55: 532-04/05 | V55: TR | X55: TR | Y55: EF | AB55: =SUM(AB56:AB73) -> 918 | AC55: =SUM(AC56:AC73) -> 226 | AD55: =SUM(AD56:AD73) -> 20.908 | AE55: =SUM(AE56:AE73) -> 546 | AF55: =SUM(AF56:AF73) -> 546 | AG55: =SUM(AG56:AG73) -> 18 | AH55: =SUM(AH56:AH73) -> 918 | AI55: =SUM(AI56:AI73) -> 18 | AJ55: =SUM(AJ56:AJ73) -> 918
AB56: =IF(L55="TR",L57,"") -> 50 | AC56: =IF(L55="TR",L58,"") -> 0 | AD56: =IF(L55="TR",L59,"") -> 0 | AE56: =IF(N55="TR",N57,"") -> 42 | AF56: =IF(L55="TR",N57,"") -> 42 | AG56: =IF(N55="TR",1,"") -> 1 | AH56: =IF(N55="TR",L57,"") -> 50 | AI56: =IF(O55="EF",1,"") -> 1 | AJ56: =IF(O55="EF",L57,"") -> 50
K57: TOTAL | L57: 50 | M57: Nb SEB | N57: 42 | P57: TOTAL | Q57: 16 | R57: Nb SEB | S57: 16 | U57: TOTAL | V57: 20 | W57: Nb SEB | X57: 11 | AB57: =IF(L60="TR",L62,"") -> 32 | AC57: =IF(L60="TR",L63,"") -> 12 | AD57: =IF(L60="TR",L64,"") -> 0.582 | AE57: =IF(N60="TR",N62,"") -> 19 | AF57: =IF(L60="TR",N62,"") -> 19 | AG57: =IF(N60="TR",1,"") -> 1 | AH57: =IF(N60="TR",L62,"") -> 32 | AI57: =IF(O60="EF",1,"") -> 1 | AJ57: =IF(O60="EF",L62,"") -> 32
K58: Nb prvlt | P58: Nb prvlt | Q58: 9 | U58: Nb prvlt | V58: 5 | AB58: =IF(L65="TR",L67,"") -> 54 | AC58: =IF(L65="TR",L68,"") -> 13 | AD58: =IF(L65="TR",L69,"") -> 0.835 | AE58: =IF(N65="TR",N67,"") -> 25 | AF58: =IF(L65="TR",N67,"") -> 25 | AG58: =IF(N65="TR",1,"") -> 1 | AH58: =IF(N65="TR",L67,"") -> 54 | AI58: =IF(O65="EF",1,"") -> 1 | AJ58: =IF(O65="EF",L67,"") -> 54
K59: Tonnage | P59: Tonnage | Q59: 0.465 | U59: Tonnage | V59: 0.418 | AB59: =IF(L70="TR",L72,"") -> 29 | AC59: =IF(L70="TR",L73,"") -> 5 | AD59: =IF(L70="TR",L74,"") -> 0.69 | AE59: =IF(N70="TR",N72,"") -> 18 | AF59: =IF(L70="TR",N72,"") -> 18 | AG59: =IF(N70="TR",1,"") -> 1 | AH59: =IF(N70="TR",L72,"") -> 29 | AI59: =IF(O70="EF",1,"") -> 1 | AJ59: =IF(O70="EF",L72,"") -> 29
K60: 520-04/05 | L60: TR | N60: TR | O60: EF | P60: 508-09/05 | Q60: TR | S60: TR | T60: EF | U60: 533-04/05 | V60: TR | X60: TR | Y60: EF | AB60: =IF(L75="TR",L77,"") -> 3 | AC60: =IF(L75="TR",L78,"") -> 3 | AD60: =IF(L75="TR",L79,"") -> 0.038 | AE60: =IF(N75="TR",N77,"") -> 3 | AF60: =IF(L75="TR",N77,"") -> 3 | AG60: =IF(N75="TR",1,"") -> 1 | AH60: =IF(N75="TR",L77,"") -> 3 | AI60: =IF(O75="EF",1,"") -> 1 | AJ60: =IF(O75="EF",L77,"") -> 3
AB61: =IF(L80="TR",L82,"") -> 46 | AC61: =IF(L80="TR",L83,"") -> 9 | AD61: =IF(L80="TR",L84,"") -> 1.441 | AE61: =IF(N80="TR",N82,"") -> 46 | AF61: =IF(L80="TR",N82,"") -> 46 | AG61: =IF(N80="TR",1,"") -> 1 | AH61: =IF(N80="TR",L82,"") -> 46 | AI61: =IF(O80="EF",1,"") -> 1 | AJ61: =IF(O80="EF",L82,"") -> 46
K62: TOTAL | L62: 32 | M62: Nb SEB | N62: 19 | P62: TOTAL | Q62: 170 | R62: Nb SEB | S62: 141 | U62: TOTAL | V62: 31 | W62: Nb SEB | X62: 8 | AB62: =IF(Q55="TR",Q57,"") -> 16 | AC62: =IF(Q55="TR",Q58,"") -> 9 | AD62: =IF(Q55="TR",Q59,"") -> 0.465 | AE62: =IF(S55="TR",S57,"") -> 16 | AF62: =IF(Q55="TR",S57,"") -> 16 | AG62: =IF(S55="TR",1,"") -> 1 | AH62: =IF(S55="TR",Q57,"") -> 16 | AI62: =IF(T55="EF",1,"") -> 1 | AJ62: =IF(T55="EF",Q57,"") -> 16
K63: Nb prvlt | L63: 12 | P63: Nb prvlt | Q63: 41 | U63: Nb prvlt | V63: 10 | AB63: =IF(Q60="TR",Q62,"") -> 170 | AC63: =IF(Q60="TR",Q63,"") -> 41 | AD63: =IF(Q60="TR",Q64,"") -> 4.702 | AE63: =IF(S60="TR",S62,"") -> 141 | AF63: =IF(Q60="TR",S62,"") -> 141 | AG63: =IF(S60="TR",1,"") -> 1 | AH63: =IF(S60="TR",Q62,"") -> 170 | AI63: =IF(T60="EF",1,"") -> 1 | AJ63: =IF(T60="EF",Q62,"") -> 170
K64: Tonnage | L64: 0.582 | P64: Tonnage | Q64: 4.702 | U64: Tonnage | V64: 0.741 | AB64: =IF(Q65="TR",Q67,"") -> 19 | AC64: =IF(Q65="TR",Q68,"") -> 0 | AD64: =IF(Q65="TR",Q69,"") -> 0 | AE64: =IF(S65="TR",S67,"") -> 14 | AF64: =IF(Q65="TR",S67,"") -> 14 | AG64: =IF(S65="TR",1,"") -> 1 | AH64: =IF(S65="TR",Q67,"") -> 19 | AI64: =IF(T65="EF",1,"") -> 1 | AJ64: =IF(T65="EF",Q67,"") -> 19
K65: 521-04/05 | L65: TR | N65: TR | O65: EF | P65: 500-08/05 | Q65: TR | S65: TR | T65: EF | U65: 534-04/05 | V65: TR | X65: TR | Y65: EF | AB65: =IF(Q70="TR",Q72,"") -> 87 | AC65: =IF(Q70="TR",Q73,"") -> 19 | AD65: =IF(Q70="TR",Q74,"") -> 2.78 | AE65: =IF(S70="TR",S72,"") -> 37 | AF65: =IF(Q70="TR",S72,"") -> 37 | AG65: =IF(S70="TR",1,"") -> 1 | AH65: =IF(S70="TR",Q72,"") -> 87 | AI65: =IF(T70="EF",1,"") -> 1 | AJ65: =IF(T70="EF",Q72,"") -> 87
AB66: =IF(Q75="TR",Q77,"") -> 97 | AC66: =IF(Q75="TR",Q78,"") -> 18 | AD66: =IF(Q75="TR",Q79,"") -> 3.022 | AE66: =IF(S75="TR",S77,"") -> 22 | AF66: =IF(Q75="TR",S77,"") -> 22 | AG66: =IF(S75="TR",1,"") -> 1 | AH66: =IF(S75="TR",Q77,"") -> 97 | AI66: =IF(T75="EF",1,"") -> 1 | AJ66: =IF(T75="EF",Q77,"") -> 97
K67: TOTAL | L67: 54 | M67: Nb SEB | N67: 25 | P67: TOTAL | Q67: 19 | R67: Nb SEB | S67: 14 | U67: TOTAL | V67: 82 | W67: Nb SEB | X67: 53 | AB67: =IF(Q80="TR",Q82,"") -> 22 | AC67: =IF(Q80="TR",Q83,"") -> 10 | AD67: =IF(Q80="TR",Q84,"") -> 0.596 | AE67: =IF(S80="TR",S82,"") -> 8 | AF67: =IF(Q80="TR",S82,"") -> 8 | AG67: =IF(S80="TR",1,"") -> 1 | AH67: =IF(S80="TR",Q82,"") -> 22 | AI67: =IF(T80="EF",1,"") -> 1 | AJ67: =IF(T80="EF",Q82,"") -> 22
K68: Nb prvlt | L68: 13 | P68: Nb prvlt | U68: Nb prvlt | V68: 7 | AB68: =IF(V55="TR",V57,"") -> 20 | AC68: =IF(V55="TR",V58,"") -> 5 | AD68: =IF(V55="TR",V59,"") -> 0.418 | AE68: =IF(X55="TR",X57,"") -> 11 | AF68: =IF(V55="TR",X57,"") -> 11 | AG68: =IF(X55="TR",1,"") -> 1 | AH68: =IF(X55="TR",V57,"") -> 20 | AI68: =IF(Y55="EF",1,"") -> 1 | AJ68: =IF(Y55="EF",V57,"") -> 20
K69: Tonnage | L69: 0.835 | P69: Tonnage | U69: Tonnage | V69: 0.628 | AB69: =IF(V60="TR",V62,"") -> 31 | AC69: =IF(V60="TR",V63,"") -> 10 | AD69: =IF(V60="TR",V64,"") -> 0.741 | AE69: =IF(X60="TR",X62,"") -> 8 | AF69: =IF(V60="TR",X62,"") -> 8 | AG69: =IF(X60="TR",1,"") -> 1 | AH69: =IF(X60="TR",V62,"") -> 31 | AI69: =IF(Y60="EF",1,"") -> 1 | AJ69: =IF(Y60="EF",V62,"") -> 31
K70: 522-04/05 | L70: TR | N70: TR | O70: EF | P70: 506-06/05 | Q70: TR | S70: TR | T70: EF | U70: 515-06/05 | V70: TR | X70: TR | Y70: EF | AB70: =IF(V65="TR",V67,"") -> 82 | AC70: =IF(V65="TR",V68,"") -> 7 | AD70: =IF(V65="TR",V69,"") -> 0.628 | AE70: =IF(X65="TR",X67,"") -> 53 | AF70: =IF(V65="TR",X67,"") -> 53 | AG70: =IF(X65="TR",1,"") -> 1 | AH70: =IF(X65="TR",V67,"") -> 82 | AI70: =IF(Y65="EF",1,"") -> 1 | AJ70: =IF(Y65="EF",V67,"") -> 82
AB71: =IF(V70="TR",V72,"") -> 16 | AC71: =IF(V70="TR",V73,"") -> 17 | AD71: =IF(V70="TR",V74,"") -> 0.644 | AE71: =IF(X70="TR",X72,"") -> 16 | AF71: =IF(V70="TR",X72,"") -> 16 | AG71: =IF(X70="TR",1,"") -> 1 | AH71: =IF(X70="TR",V72,"") -> 16 | AI71: =IF(Y70="EF",1,"") -> 1 | AJ71: =IF(Y70="EF",V72,"") -> 16
K72: TOTAL | L72: 29 | M72: Nb SEB | N72: 18 | P72: TOTAL | Q72: 87 | R72: Nb SEB | S72: 37 | U72: TOTAL | V72: 16 | W72: Nb SEB | X72: 16 | AB72: =IF(V75="TR",V77,"") -> 134 | AC72: =IF(V75="TR",V78,"") -> 41 | AD72: =IF(V75="TR",V79,"") -> 3.094 | AE72: =IF(X75="TR",X77,"") -> 57 | AF72: =IF(V75="TR",X77,"") -> 57 | AG72: =IF(X75="TR",1,"") -> 1 | AH72: =IF(X75="TR",V77,"") -> 134 | AI72: =IF(Y75="EF",1,"") -> 1 | AJ72: =IF(Y75="EF",V77,"") -> 134
K73: Nb prvlt | L73: 5 | P73: Nb prvlt | Q73: 19 | U73: Nb prvlt | V73: 17 | AB73: =IF(V80="TR",V82,"") -> 10 | AC73: =IF(V80="TR",V83,"") -> 7 | AD73: =IF(V80="TR",V84,"") -> 0.232 | AE73: =IF(X80="TR",X82,"") -> 10 | AF73: =IF(V80="TR",X82,"") -> 10 | AG73: =IF(X80="TR",1,"") -> 1 | AH73: =IF(X80="TR",V82,"") -> 10 | AI73: =IF(Y80="EF",1,"") -> 1 | AJ73: =IF(Y80="EF",V82,"") -> 10
K74: Tonnage | L74: 0.69 | P74: Tonnage | Q74: 2.78 | U74: Tonnage | V74: 0.644
K75: 501-06/05 | L75: TR | N75: TR | O75: EF | P75: 507-06/05 | Q75: TR | S75: TR | T75: EF | U75: 542-06/04 | V75: TR | X75: TR | Y75: EF
O76: =L77 -> 3
K77: TOTAL | L77: 3 | M77: Nb SEB | N77: 3 | P77: TOTAL | Q77: 97 | R77: Nb SEB | S77: 22 | U77: TOTAL | V77: 134 | W77: Nb SEB | X77: 57
K78: Nb prvlt | L78: 3 | N78: =L77 -> 3 | P78: Nb prvlt | Q78: 18 | U78: Nb prvlt | V78: 41
K79: Tonnage | L79: 0.038 | N79: =COUNTA(K75) -> 1 | P79: Tonnage | Q79: 3.022 | U79: Tonnage | V79: 3.094
K80: 526-04/05 | L80: TR | N80: TR | O80: EF | P80: 531-04/05 | Q80: TR | S80: TR | T80: EF | U80: 524-06/05 | V80: TR | X80: TR | Y80: EF
O81: =L82 -> 46
K82: TOTAL | L82: 46 | M82: Nb SEB | N82: 46 | P82: TOTAL | Q82: 22 | R82: Nb SEB | S82: 8 | U82: TOTAL | V82: 10 | W82: Nb SEB | X82: 10
K83: Nb prvlt | L83: 9 | N83: =L82 -> 46 | P83: Nb prvlt | Q83: 10 | U83: Nb prvlt | V83: 7
K84: Tonnage | L84: 1.441 | N84: =COUNTA(K80) -> 1 | P84: Tonnage | Q84: 0.596 | U84: Tonnage | V84: 0.232
A87: =A1+2 -> 42494
A90: Planning préparation | F90: Objectif SEB + PAC (J+1) | K90: Prod Prépa | P90: État (instant t) | U90: Reste à expédier
A91: Tonnage jour | D91: =SUM(L102,L107,L112,L117,L122,L127,Q102,Q107,Q112,Q117,Q122,Q127,V102,V107,V112,V117,V122,V127) -> 35.989 | F91: Nb colis à SEB | I91: =SUM(N100,N105,N110,N115,N120,N125,S100,S105,S110,S115,S120,S125,X100,X105,X110,X115,X120,X125) -> 1067 | K91: Nb colis préparés | N91: =AB98 -> 1150 | P91: Nb colis SEB | S91: =AE98 -> 1067 | U91: Nb dossier à quai | X91: =AG98-AI98 -> 0
A92: Nb colis à préparer | D92: =SUM(L100,L105,L110,L115,L120,L125,Q100,Q105,Q110,Q115,Q120,Q125,V100,V105,V110,V115,V120,V125) -> 1150 | F92: Nb colis nus | I92: =D92-I91 -> 83 | K92: Nb prélèvement | N92: =AC98 -> 131 | P92: NB colis devant chaîne | S92: =AF98-AE98 -> 0 | U92: Nb colis à quai | X92: =AH98-AJ98 -> 0
A93: Nb de lignes | D93: =SUM(L101,L106,L111,L116,L121,L126,Q101,Q106,Q111,Q116,Q121,Q126,V101,V106,V111,V116,V121,V126) -> 131 | K93: Tonnage effectué | N93: =AD98 -> 35.989
A94: Nb de dossier | D94: =COUNTA(K98,K103,K108,K113,K118,K123,P98,P103,P108,P113,P118,P123,U98,U103,U108,U113,U118,U123) -> 13
K95: Reste à prélever | N95: =D92-N91 -> 0 | P95: Reste à suremballer | S95: =I91-S91 -> 0
K96: Nb lignes restantes | N96: =D93-N92 -> 0
A97: ÉQUIPE 1 | F97: ÉQUIPE 2 | K97: ÉQUIPE 3 | P97: ÉQUIPE 4 | U97: ÉQUIPE 5 | AB97: Prépa | AE97: SEB | AG97: Zone PAP
K98: 500-09/05 | L98: TR | N98: TR | O98: EF | P98: 509-09/05 | Q98: TR | S98: TR | T98: EF | U98: 528-09/05 | V98: TR | X98: TR | Y98: EF | AB98: =SUM(AB99:AB116) -> 1150 | AC98: =SUM(AC99:AC116) -> 131 | AD98: =SUM(AD99:AD116) -> 35.989 | AE98: =SUM(AE99:AE116) -> 1067 | AF98: =SUM(AF99:AF116) -> 1067 | AG98: =SUM(AG99:AG116) -> 13 | AH98: =SUM(AH99:AH116) -> 1150 | AI98: =SUM(AI99:AI116) -> 13 | AJ98: =SUM(AJ99:AJ116) -> 1150
AB99: =IF(L98="TR",L100,"") -> 335 | AC99: =IF(L98="TR",L101,"") -> 9 | AD99: =IF(L98="TR",L102,"") -> 10.98 | AE99: =IF(N98="TR",N100,"") -> 335 | AF99: =IF(L98="TR",N100,"") -> 335 | AG99: =IF(N98="TR",1,"") -> 1 | AH99: =IF(N98="TR",L100,"") -> 335 | AI99: =IF(O98="EF",1,"") -> 1 | AJ99: =IF(O98="EF",L100,"") -> 335
K100: TOTAL | L100: 335 | M100: Nb SEB | N100: 335 | P100: TOTAL | Q100: 20 | R100: Nb SEB | S100: 17 | U100: TOTAL | V100: 195 | W100: Nb SEB | X100: 131 | AB100: =IF(L103="TR",L105,"") -> 150 | AC100: =IF(L103="TR",L106,"") -> 1 | AD100: =IF(L103="TR",L107,"") -> 4.2 | AE100: =IF(N103="TR",N105,"") -> 150 | AF100: =IF(L103="TR",N105,"") -> 150 | AG100: =IF(N103="TR",1,"") -> 1 | AH100: =IF(N103="TR",L105,"") -> 150 | AI100: =IF(O103="EF",1,"") -> 1 | AJ100: =IF(O103="EF",L105,"") -> 150
K101: Nb prvlt | L101: 9 | P101: Nb prvlt | Q101: 11 | U101: Nb prvlt | V101: 40 | AB101: =IF(L108="TR",L110,"") -> 22 | AC101: =IF(L108="TR",L111,"") -> 1 | AD101: =IF(L108="TR",L112,"") -> 0.99 | AE101: =IF(N108="TR",N110,"") -> 22 | AF101: =IF(L108="TR",N110,"") -> 22 | AG101: =IF(N108="TR",1,"") -> 1 | AH101: =IF(N108="TR",L110,"") -> 22 | AI101: =IF(O108="EF",1,"") -> 1 | AJ101: =IF(O108="EF",L110,"") -> 22
K102: Tonnage | L102: 10.98 | P102: Tonnage | Q102: 0.597 | U102: Tonnage | V102: 5.375 | AB102: =IF(L113="TR",L115,"") -> 297 | AC102: =IF(L113="TR",L116,"") -> 11 | AD102: =IF(L113="TR",L117,"") -> 9.588 | AE102: =IF(N113="TR",N115,"") -> 297 | AF102: =IF(L113="TR",N115,"") -> 297 | AG102: =IF(N113="TR",1,"") -> 1 | AH102: =IF(N113="TR",L115,"") -> 297 | AI102: =IF(O113="EF",1,"") -> 1 | AJ102: =IF(O113="EF",L115,"") -> 297
K103: 501-09/05 | L103: TR | N103: TR | O103: EF | P103: 510-09/05 | Q103: TR | S103: TR | T103: EF | AB103: =IF(L118="TR",L120,"") -> 3 | AC103: =IF(L118="TR",L121,"") -> 3 | AD103: =IF(L118="TR",L122,"") -> 0.046 | AE103: =IF(N118="TR",N120,"") -> 3 | AF103: =IF(L118="TR",N120,"") -> 3 | AG103: =IF(N118="TR",1,"") -> 1 | AH103: =IF(N118="TR",L120,"") -> 3 | AI103: =IF(O118="EF",1,"") -> 1 | AJ103: =IF(O118="EF",L120,"") -> 3
AB104: =IF(L123="TR",L125,"") -> 29 | AC104: =IF(L123="TR",L126,"") -> 19 | AD104: =IF(L123="TR",L127,"") -> 0.91 | AE104: =IF(N123="TR",N125,"") -> 25 | AF104: =IF(L123="TR",N125,"") -> 25 | AG104: =IF(N123="TR",1,"") -> 1 | AH104: =IF(N123="TR",L125,"") -> 29 | AI104: =IF(O123="EF",1,"") -> 1 | AJ104: =IF(O123="EF",L125,"") -> 29
K105: TOTAL | L105: 150 | M105: Nb SEB | N105: 150 | P105: TOTAL | Q105: 10 | R105: Nb SEB | S105: 9 | U105: TOTAL | W105: Nb SEB | AB105: =IF(Q98="TR",Q100,"") -> 20 | AC105: =IF(Q98="TR",Q101,"") -> 11 | AD105: =IF(Q98="TR",Q102,"") -> 0.597 | AE105: =IF(S98="TR",S100,"") -> 17 | AF105: =IF(Q98="TR",S100,"") -> 17 | AG105: =IF(S98="TR",1,"") -> 1 | AH105: =IF(S98="TR",Q100,"") -> 20 | AI105: =IF(T98="EF",1,"") -> 1 | AJ105: =IF(T98="EF",Q100,"") -> 20
K106: Nb prvlt | L106: 1 | P106: Nb prvlt | Q106: 5 | U106: Nb prvlt | AB106: =IF(Q103="TR",Q105,"") -> 10 | AC106: =IF(Q103="TR",Q106,"") -> 5 | AD106: =IF(Q103="TR",Q107,"") -> 0.17 | AE106: =IF(S103="TR",S105,"") -> 9 | AF106: =IF(Q103="TR",S105,"") -> 9 | AG106: =IF(S103="TR",1,"") -> 1 | AH106: =IF(S103="TR",Q105,"") -> 10 | AI106: =IF(T103="EF",1,"") -> 1 | AJ106: =IF(T103="EF",Q105,"") -> 10
K107: Tonnage | L107: 4.2 | P107: Tonnage | Q107: 0.17 | U107: Tonnage | AB107: =IF(Q108="TR",Q110,"") -> 23 | AC107: =IF(Q108="TR",Q111,"") -> 20 | AD107: =IF(Q108="TR",Q112,"") -> 0.629 | AE107: =IF(S108="TR",S110,"") -> 18 | AF107: =IF(Q108="TR",S110,"") -> 18 | AG107: =IF(S108="TR",1,"") -> 1 | AH107: =IF(S108="TR",Q110,"") -> 23 | AI107: =IF(T108="EF",1,"") -> 1 | AJ107: =IF(T108="EF",Q110,"") -> 23
K108: 502-09/05 | L108: TR | N108: TR | O108: EF | P108: 511-09/05 | Q108: TR | S108: TR | T108: EF | AB108: =IF(Q113="TR",Q115,"") -> 19 | AC108: =IF(Q113="TR",Q116,"") -> 9 | AD108: =IF(Q113="TR",Q117,"") -> 0.535 | AE108: =IF(S113="TR",S115,"") -> 16 | AF108: =IF(Q113="TR",S115,"") -> 16 | AG108: =IF(S113="TR",1,"") -> 1 | AH108: =IF(S113="TR",Q115,"") -> 19 | AI108: =IF(T113="EF",1,"") -> 1 | AJ108: =IF(T113="EF",Q115,"") -> 19
AB109: =IF(Q118="TR",Q120,"") -> 3 | AC109: =IF(Q118="TR",Q121,"") -> 0 | AD109: =IF(Q118="TR",Q122,"") -> 0 | AE109: =IF(S118="TR",S120,"") -> 0 | AF109: =IF(Q118="TR",S120,"") -> 0 | AG109: =IF(S118="TR",1,"") -> 1 | AH109: =IF(S118="TR",Q120,"") -> 3 | AI109: =IF(T118="EF",1,"") -> 1 | AJ109: =IF(T118="EF",Q120,"") -> 3
K110: TOTAL | L110: 22 | M110: Nb SEB | N110: 22 | P110: TOTAL | Q110: 23 | R110: Nb SEB | S110: 18 | U110: TOTAL | W110: Nb SEB | AB110: =IF(Q123="TR",Q125,"") -> 44 | AC110: =IF(Q123="TR",Q126,"") -> 2 | AD110: =IF(Q123="TR",Q127,"") -> 1.969 | AE110: =IF(S123="TR",S125,"") -> 44 | AF110: =IF(Q123="TR",S125,"") -> 44 | AG110: =IF(S123="TR",1,"") -> 1 | AH110: =IF(S123="TR",Q125,"") -> 44 | AI110: =IF(T123="EF",1,"") -> 1 | AJ110: =IF(T123="EF",Q125,"") -> 44
K111: Nb prvlt | L111: 1 | P111: Nb prvlt | Q111: 20 | U111: Nb prvlt | AB111: =IF(V98="TR",V100,"") -> 195 | AC111: =IF(V98="TR",V101,"") -> 40 | AD111: =IF(V98="TR",V102,"") -> 5.375 | AE111: =IF(X98="TR",X100,"") -> 131 | AF111: =IF(V98="TR",X100,"") -> 131 | AG111: =IF(X98="TR",1,"") -> 1 | AH111: =IF(X98="TR",V100,"") -> 195 | AI111: =IF(Y98="EF",1,"") -> 1 | AJ111: =IF(Y98="EF",V100,"") -> 195
K112: Tonnage | L112: 0.99 | P112: Tonnage | Q112: 0.629 | U112: Tonnage | AB112: =IF(V103="TR",V105,"") | AC112: =IF(V103="TR",V106,"") | AD112: =IF(V103="TR",V107,"") | AE112: =IF(X103="TR",X105,"") | AF112: =IF(V103="TR",X105,"") | AG112: =IF(X103="TR",1,"") | AH112: =IF(X103="TR",V105,"") | AI112: =IF(Y103="EF",1,"") | AJ112: =IF(Y103="EF",V105,"")
...

Sheet S19
A1: 42499
A4: Planning préparation | F4: Objectif SEB + PAC (J+1) | K4: Prod Prépa | P4: État (instant t) | U4: Reste à expédier
A5: Tonnage jour | D5: =SUM(G16,L16,L21,L26,L31,L36,L41,Q16,Q21,Q26,Q31,Q36,Q41,V16,V21,V26,V31,V36,V41) -> 25.691 | F5: Nb colis à SEB | I5: =SUM(I14,N14,N19,N24,N29,N34,N39,S14,S19,S24,S29,S34,S39,X14,X19,X24,X29,X34,X39) -> 782 | K5: Nb colis préparés | N5: =AB12 -> 1088 | P5: Nb colis SEB | S5: =AE12 -> 782 | U5: Nb dossier à quai | X5: =AG12-AI12 -> 0 | AB5: Nb dossier à quai | AD5: =SUM(X5,X48,X91,X134,X177,X220) -> 4
A6: Nb colis à préparer | D6: =SUM(G14,L14,L19,L24,L29,L34,L39,Q14,Q19,Q24,Q29,Q34,Q39,V14,V19,V24,V29,V34,V39) -> 1088 | F6: Nb colis nus | I6: =D6-I5 -> 306 | K6: Nb prélèvement | N6: =AC12 -> 263 | P6: NB colis devant chaîne | S6: =AF12-AE12 -> 0 | U6: Nb colis à quai | X6: =AH12-AJ12 -> 0 | AB6: Nb colis à quai | AD6: =SUM(X6,X49,X92,X135,X178,X221) -> 148
A7: Nb de lignes | D7: =SUM(G15,L15,L20,L25,L30,L35,L40,Q15,Q20,Q25,Q30,Q35,Q40,V15,V20,V25,V30,V35,V40) -> 263 | K7: Tonnage effectué | N7: =AD12 -> 25.691 | AB7: NB colis devant chaîne | AD7: =SUM(S6,S49,S92,S135,S178) -> 0
A8: Nb de dossier | D8: =COUNTA(F12,K12,K17,K22,K27,K32,K37,P12,P17,P22,P27,P32,P37,U12,U17,U22,U27,U32,U37) -> 14
K9: Reste à prélever | N9: =D6-N5 -> 0 | P9: Reste à suremballer | S9: =I5-S5 -> 0
K10: Nb lignes restantes | N10: =D7-N6 -> 0
A11: ÉQUIPE 1 | F11: ÉQUIPE 2 | K11: ÉQUIPE 3 | P11: ÉQUIPE 4 | U11: ÉQUIPE 5 | AB11: Prépa | AE11: SEB | AG11: Zone PAP
K12: 500-11/05 | L12: TR | N12: TR | O12: EF | P12: 506-11/05 | Q12: TR | S12: TR | T12: EF | U12: 522-11/05 | V12: TR | X12: TR | Y12: EF | AB12: =SUM(AB13:AB30) -> 1088 | AC12: =SUM(AC13:AC30) -> 263 | AD12: =SUM(AD13:AD30) -> 25.691 | AE12: =SUM(AE13:AE30) -> 782 | AF12: =SUM(AF13:AF30) -> 782 | AG12: =SUM(AG13:AG30) -> 14 | AH12: =SUM(AH13:AH30) -> 1088 | AI12: =SUM(AI13:AI30) -> 14 | AJ12: =SUM(AJ13:AJ30) -> 1088
AB13: =IF(L12="TR",L14,"") -> 397 | AC13: =IF(L12="TR",L15,"") -> 10 | AD13: =IF(L12="TR",L16,"") -> 5.571 | AE13: =IF(N12="TR",N14,"") -> 397 | AF13: =IF(L12="TR",N14,"") -> 397 | AG13: =IF(N12="TR",1,"") -> 1 | AH13: =IF(N12="TR",L14,"") -> 397 | AI13: =IF(O12="EF",1,"") -> 1 | AJ13: =IF(O12="EF",L14,"") -> 397
K14: TOTAL | L14: 397 | M14: Nb SEB | N14: 397 | P14: TOTAL | Q14: 29 | R14: Nb SEB | S14: 27 | U14: TOTAL | V14: 135 | W14: Nb SEB | X14: 56 | AB14: =IF(L17="TR",L19,"") -> 46 | AC14: =IF(L17="TR",L20,"") -> 16 | AD14: =IF(L17="TR",L21,"") -> 1.068 | AE14: =IF(N17="TR",N19,"") -> 44 | AF14: =IF(L17="TR",N19,"") -> 44 | AG14: =IF(N17="TR",1,"") -> 1 | AH14: =IF(N17="TR",L19,"") -> 46 | AI14: =IF(O17="EF",1,"") -> 1 | AJ14: =IF(O17="EF",L19,"") -> 46
K15: Nb prvlt | L15: 10 | P15: Nb prvlt | Q15: 21 | U15: Nb prvlt | V15: 48 | AB15: =IF(L22="TR",L24,"") -> 59 | AC15: =IF(L22="TR",L25,"") -> 17 | AD15: =IF(L22="TR",L26,"") -> 1.604 | AE15: =IF(N22="TR",N24,"") -> 48 | AF15: =IF(L22="TR",N24,"") -> 48 | AG15: =IF(N22="TR",1,"") -> 1 | AH15: =IF(N22="TR",L24,"") -> 59 | AI15: =IF(O22="EF",1,"") -> 1 | AJ15: =IF(O22="EF",L24,"") -> 59
K16: Tonnage | L16: 5.571 | P16: Tonnage | Q16: 0.957 | U16: Tonnage | V16: 2.569 | AB16: =IF(L27="TR",L29,"") -> 5 | AC16: =IF(L27="TR",L30,"") -> 3 | AD16: =IF(L27="TR",L31,"") -> 0.59 | AE16: =IF(N27="TR",N29,"") -> 0 | AF16: =IF(L27="TR",N29,"") -> 0 | AG16: =IF(N27="TR",1,"") -> 1 | AH16: =IF(N27="TR",L29,"") -> 5 | AI16: =IF(O27="EF",1,"") -> 1 | AJ16: =IF(O27="EF",L29,"") -> 5
K17: 501-11/05 | L17: TR | N17: TR | O17: EF | P17: 507-11/05 | Q17: TR | S17: TR | T17: EF | U17: 523-11/05 | V17: TR | X17: TR | Y17: EF | AB17: =IF(L32="TR",L34,"") -> 13 | AC17: =IF(L32="TR",L35,"") -> 6 | AD17: =IF(L32="TR",L36,"") -> 0.17 | AE17: =IF(N32="TR",N34,"") -> 6 | AF17: =IF(L32="TR",N34,"") -> 6 | AG17: =IF(N32="TR",1,"") -> 1 | AH17: =IF(N32="TR",L34,"") -> 13 | AI17: =IF(O32="EF",1,"") -> 1 | AJ17: =IF(O32="EF",L34,"") -> 13
AB18: =IF(L37="TR",L39,"") -> 11 | AC18: =IF(L37="TR",L40,"") -> 9 | AD18: =IF(L37="TR",L41,"") -> 0.35 | AE18: =IF(N37="TR",N39,"") -> 10 | AF18: =IF(L37="TR",N39,"") -> 10 | AG18: =IF(N37="TR",1,"") -> 1 | AH18: =IF(N37="TR",L39,"") -> 11 | AI18: =IF(O37="EF",1,"") -> 1 | AJ18: =IF(O37="EF",L39,"") -> 11
K19: TOTAL | L19: 46 | M19: Nb SEB | N19: 44 | P19: TOTAL | Q19: 4 | R19: Nb SEB | S19: 4 | U19: TOTAL | V19: 287 | W19: Nb SEB | X19: 105 | AB19: =IF(Q12="TR",Q14,"") -> 29 | AC19: =IF(Q12="TR",Q15,"") -> 21 | AD19: =IF(Q12="TR",Q16,"") -> 0.957 | AE19: =IF(S12="TR",S14,"") -> 27 | AF19: =IF(Q12="TR",S14,"") -> 27 | AG19: =IF(S12="TR",1,"") -> 1 | AH19: =IF(S12="TR",Q14,"") -> 29 | AI19: =IF(T12="EF",1,"") -> 1 | AJ19: =IF(T12="EF",Q14,"") -> 29
K20: Nb prvlt | L20: 16 | P20: Nb prvlt | Q20: 3 | U20: Nb prvlt | V20: 59 | AB20: =IF(Q17="TR",Q19,"") -> 4 | AC20: =IF(Q17="TR",Q20,"") -> 3 | AD20: =IF(Q17="TR",Q21,"") -> 0.078 | AE20: =IF(S17="TR",S19,"") -> 4 | AF20: =IF(Q17="TR",S19,"") -> 4 | AG20: =IF(S17="TR",1,"") -> 1 | AH20: =IF(S17="TR",Q19,"") -> 4 | AI20: =IF(T17="EF",1,"") -> 1 | AJ20: =IF(T17="EF",Q19,"") -> 4
K21: Tonnage | L21: 1.068 | P21: Tonnage | Q21: 0.078 | U21: Tonnage | V21: 10.199 | AB21: =IF(Q22="TR",Q24,"") -> 47 | AC21: =IF(Q22="TR",Q25,"") -> 33 | AD21: =IF(Q22="TR",Q26,"") -> 1.243 | AE21: =IF(S22="TR",S24,"") -> 47 | AF21: =IF(Q22="TR",S24,"") -> 47 | AG21: =IF(S22="TR",1,"") -> 1 | AH21: =IF(S22="TR",Q24,"") -> 47 | AI21: =IF(T22="EF",1,"") -> 1 | AJ21: =IF(T22="EF",Q24,"") -> 47
K22: 502-11/05 | L22: TR | N22: TR | O22: EF | P22: 508-11/05 | Q22: TR | S22: TR | T22: EF | AB22: =IF(Q27="TR",Q29,"") -> 11 | AC22: =IF(Q27="TR",Q30,"") -> 8 | AD22: =IF(Q27="TR",Q31,"") -> 0.25 | AE22: =IF(S27="TR",S29,"") -> 11 | AF22: =IF(Q27="TR",S29,"") -> 11 | AG22: =IF(S27="TR",1,"") -> 1 | AH22: =IF(S27="TR",Q29,"") -> 11 | AI22: =IF(T27="EF",1,"") -> 1 | AJ22: =IF(T27="EF",Q29,"") -> 11
AB23: =IF(Q32="TR",Q34,"") -> 32 | AC23: =IF(Q32="TR",Q35,"") -> 21 | AD23: =IF(Q32="TR",Q36,"") -> 0.75 | AE23: =IF(S32="TR",S34,"") -> 19 | AF23: =IF(Q32="TR",S34,"") -> 19 | AG23: =IF(S32="TR",1,"") -> 1 | AH23: =IF(S32="TR",Q34,"") -> 32 | AI23: =IF(T32="EF",1,"") -> 1 | AJ23: =IF(T32="EF",Q34,"") -> 32
K24: TOTAL | L24: 59 | M24: Nb SEB | N24: 48 | P24: TOTAL | Q24: 47 | R24: Nb SEB | S24: 47 | U24: TOTAL | W24: Nb SEB | AB24: =IF(Q37="TR",Q39,"") -> 12 | AC24: =IF(Q37="TR",Q40,"") -> 9 | AD24: =IF(Q37="TR",Q41,"") -> 0.292 | AE24: =IF(S37="TR",S39,"") -> 8 | AF24: =IF(Q37="TR",S39,"") -> 8 | AG24: =IF(S37="TR",1,"") -> 1 | AH24: =IF(S37="TR",Q39,"") -> 12 | AI24: =IF(T37="EF",1,"") -> 1 | AJ24: =IF(T37="EF",Q39,"") -> 12
K25: Nb prvlt | L25: 17 | P25: Nb prvlt | Q25: 33 | U25: Nb prvlt | AB25: =IF(V12="TR",V14,"") -> 135 | AC25: =IF(V12="TR",V15,"") -> 48 | AD25: =IF(V12="TR",V16,"") -> 2.569 | AE25: =IF(X12="TR",X14,"") -> 56 | AF25: =IF(V12="TR",X14,"") -> 56 | AG25: =IF(X12="TR",1,"") -> 1 | AH25: =IF(X12="TR",V14,"") -> 135 | AI25: =IF(Y12="EF",1,"") -> 1 | AJ25: =IF(Y12="EF",V14,"") -> 135
K26: Tonnage | L26: 1.604 | P26: Tonnage | Q26: 1.243 | U26: Tonnage | AB26: =IF(V17="TR",V19,"") -> 287 | AC26: =IF(V17="TR",V20,"") -> 59 | AD26: =IF(V17="TR",V21,"") -> 10.199 | AE26: =IF(X17="TR",X19,"") -> 105 | AF26: =IF(V17="TR",X19,"") -> 105 | AG26: =IF(X17="TR",1,"") -> 1 | AH26: =IF(X17="TR",V19,"") -> 287 | AI26: =IF(Y17="EF",1,"") -> 1 | AJ26: =IF(Y17="EF",V19,"") -> 287
K27: 503-11/05 | L27: TR | N27: TR | O27: EF | P27: 509-11/05 | Q27: TR | S27: TR | T27: EF | AB27: =IF(V22="TR",V24,"") | AC27: =IF(V22="TR",V25,"") | AD27: =IF(V22="TR",V26,"") | AE27: =IF(X22="TR",X24,"") | AF27: =IF(V22="TR",X24,"") | AG27: =IF(X22="TR",1,"") | AH27: =IF(X22="TR",V24,"") | AI27: =IF(Y22="EF",1,"") | AJ27: =IF(Y22="EF",V24,"")
AB28: =IF(V27="TR",V29,"") | AC28: =IF(V27="TR",V30,"") | AD28: =IF(V27="TR",V31,"") | AE28: =IF(X27="TR",X29,"") | AF28: =IF(V27="TR",X29,"") | AG28: =IF(X27="TR",1,"") | AH28: =IF(X27="TR",V29,"") | AI28: =IF(Y27="EF",1,"") | AJ28: =IF(Y27="EF",V29,"")
K29: TOTAL | L29: 5 | M29: Nb SEB | N29: 0 | P29: TOTAL | Q29: 11 | R29: Nb SEB | S29: 11 | U29: TOTAL | W29: Nb SEB | AB29: =IF(V32="TR",V34,"") | AC29: =IF(V32="TR",V35,"") | AD29: =IF(V32="TR",V36,"") | AE29: =IF(X32="TR",X34,"") | AF29: =IF(V32="TR",X34,"") | AG29: =IF(X32="TR",1,"") | AH29: =IF(X32="TR",V34,"") | AI29: =IF(Y32="EF",1,"") | AJ29: =IF(Y32="EF",V34,"")
K30: Nb prvlt | L30: 3 | P30: Nb prvlt | Q30: 8 | U30: Nb prvlt | AB30: =IF(V37="TR",V39,"") | AC30: =IF(V37="TR",V40,"") | AD30: =IF(V37="TR",V41,"") | AE30: =IF(X37="TR",X39,"") | AF30: =IF(V37="TR",X39,"") | AG30: =IF(X37="TR",1,"") | AH30: =IF(X37="TR",V39,"") | AI30: =IF(Y37="EF",1,"") | AJ30: =IF(Y37="EF",V39,"")
K31: Tonnage | L31: 0.59 | P31: Tonnage | Q31: 0.25 | U31: Tonnage
K32: 504-11/05 | L32: TR | N32: TR | O32: EF | P32: 513-11/05 | Q32: TR | S32: TR | T32: EF
K34: TOTAL | L34: 13 | M34: Nb SEB | N34: 6 | P34: TOTAL | Q34: 32 | R34: Nb SEB | S34: 19 | U34: TOTAL | W34: Nb SEB
K35: Nb prvlt | L35: 6 | P35: Nb prvlt | Q35: 21 | U35: Nb prvlt
K36: Tonnage | L36: 0.17 | P36: Tonnage | Q36: 0.75 | U36: Tonnage
K37: 505-11/05 | L37: TR | N37: TR | O37: EF | P37: 521-11/05 | Q37: TR | S37: TR | T37: EF
K39: TOTAL | L39: 11 | M39: Nb SEB | N39: 10 | P39: TOTAL | Q39: 12 | R39: Nb SEB | S39: 8 | U39: TOTAL | W39: Nb SEB
K40: Nb prvlt | L40: 9 | P40: Nb prvlt | Q40: 9 | U40: Nb prvlt
K41: Tonnage | L41: 0.35 | P41: Tonnage | Q41: 0.292 | U41: Tonnage
A44: =A1+1 -> 42500
A47: Planning préparation | F47: Objectif SEB + PAC (J+1) | K47: Prod Prépa | P47: État (instant t) | U47: Reste à expédier
A48: Tonnage jour | D48: =SUM(L59,L64,L69,L74,L79,L84,Q59,Q64,Q69,Q74,Q79,Q84,V59,V64,V69,V74,V79,V84) -> 23.454 | F48: Nb colis à SEB | I48: =SUM(N57,N62,N67,N72,N77,N82,S57,S62,S67,S72,S77,S82,X57,X62,X67,X72,X77,X82) -> 633 | K48: Nb colis préparés | N48: =AB55 -> 1053 | P48: Nb colis SEB | S48: =AE55 -> 633 | U48: Nb dossier à quai | X48: =AG55-AI55 -> 2
A49: Nb colis à préparer | D49: =SUM(L57,L62,L67,L72,L77,L82,Q57,Q62,Q67,Q72,Q77,Q82,V57,V62,V67,V72,V77,V82) -> 1053 | F49: Nb colis nus | I49: =D49-I48 -> 420 | K49: Nb prélèvement | N49: =AC55 -> 190 | P49: NB colis devant chaîne | S49: =AF55-AE55 -> 0 | U49: Nb colis à quai | X49: =AH55-AJ55 -> 38
A50: Nb de lignes | D50: =SUM(L58,L63,L68,L73,L78,L83,Q58,Q63,Q68,Q73,Q78,Q83,V58,V63,V68,V73,V78,V83) -> 190 | K50: Tonnage effectué | N50: =AD55 -> 23.454
A51: Nb de dossier | D51: =COUNTA(K55,K60,K65,K70,K75,K80,P55,P60,P65,P70,P75,P80,U55,U60,U65,U70,U75,U80) -> 16
K52: Reste à prélever | N52: =D49-N48 -> 0 | P52: Reste à suremballer | S52: =I48-S48 -> 0
K53: Nb lignes restantes | N53: =D50-N49 -> 0
A54: ÉQUIPE 1 | F54: ÉQUIPE 2 | K54: ÉQUIPE 3 | P54: ÉQUIPE 4 | U54: ÉQUIPE 5 | AB54: Prépa | AE54: SEB | AG54: Zone PAP
K55: 501-12/05 | L55: TR | N55: TR | P55: 506-12/05 | Q55: TR | S55: TR | T55: EF | U55: 532-11/05 | V55: TR | X55: TR | Y55: EF | AB55: =SUM(AB56:AB73) -> 1053 | AC55: =SUM(AC56:AC73) -> 190 | AD55: =SUM(AD56:AD73) -> 23.454 | AE55: =SUM(AE56:AE73) -> 633 | AF55: =SUM(AF56:AF73) -> 633 | AG55: =SUM(AG56:AG73) -> 16 | AH55: =SUM(AH56:AH73) -> 1053 | AI55: =SUM(AI56:AI73) -> 14 | AJ55: =SUM(AJ56:AJ73) -> 1015
AB56: =IF(L55="TR",L57,"") -> 14 | AC56: =IF(L55="TR",L58,"") -> 12 | AD56: =IF(L55="TR",L59,"") -> 0.533 | AE56: =IF(N55="TR",N57,"") -> 14 | AF56: =IF(L55="TR",N57,"") -> 14 | AG56: =IF(N55="TR",1,"") -> 1 | AH56: =IF(N55="TR",L57,"") -> 14 | AI56: =IF(O55="EF",1,"") | AJ56: =IF(O55="EF",L57,"")
K57: TOTAL | L57: 14 | M57: Nb SEB | N57: 14 | P57: TOTAL | Q57: 256 | R57: Nb SEB | S57: 97 | U57: TOTAL | V57: 21 | W57: Nb SEB | X57: 8 | AB57: =IF(L60="TR",L62,"") -> 3 | AC57: =IF(L60="TR",L63,"") -> 1 | AD57: =IF(L60="TR",L64,"") -> 0.108 | AE57: =IF(N60="TR",N62,"") -> 3 | AF57: =IF(L60="TR",N62,"") -> 3 | AG57: =IF(N60="TR",1,"") -> 1 | AH57: =IF(N60="TR",L62,"") -> 3 | AI57: =IF(O60="EF",1,"") -> 1 | AJ57: =IF(O60="EF",L62,"") -> 3
K58: Nb prvlt | L58: 12 | P58: Nb prvlt | Q58: 17 | U58: Nb prvlt | V58: 3 | AB58: =IF(L65="TR",L67,"") -> 20 | AC58: =IF(L65="TR",L68,"") -> 9 | AD58: =IF(L65="TR",L69,"") -> 0.506 | AE58: =IF(N65="TR",N67,"") -> 20 | AF58: =IF(L65="TR",N67,"") -> 20 | AG58: =IF(N65="TR",1,"") -> 1 | AH58: =IF(N65="TR",L67,"") -> 20 | AI58: =IF(O65="EF",1,"") -> 1 | AJ58: =IF(O65="EF",L67,"") -> 20
K59: Tonnage | L59: 0.533 | P59: Tonnage | Q59: 4.402 | U59: Tonnage | V59: 0.443 | AB59: =IF(L70="TR",L72,"") -> 73 | AC59: =IF(L70="TR",L73,"") -> 34 | AD59: =IF(L70="TR",L74,"") -> 2.372 | AE59: =IF(N70="TR",N72,"") -> 69 | AF59: =IF(L70="TR",N72,"") -> 69 | AG59: =IF(N70="TR",1,"") -> 1 | AH59: =IF(N70="TR",L72,"") -> 73 | AI59: =IF(O70="EF",1,"") -> 1 | AJ59: =IF(O70="EF",L72,"") -> 73
K60: 502-12/05 | L60: TR | N60: TR | O60: EF | P60: 507-12/05 | Q60: TR | S60: TR | T60: EF | U60: 521-12/05 | V60: TR | X60: TR | Y60: EF | AB60: =IF(L75="TR",L77,"") -> 32 | AC60: =IF(L75="TR",L78,"") -> 26 | AD60: =IF(L75="TR",L79,"") -> 0.884 | AE60: =IF(N75="TR",N77,"") -> 23 | AF60: =IF(L75="TR",N77,"") -> 23 | AG60: =IF(N75="TR",1,"") -> 1 | AH60: =IF(N75="TR",L77,"") -> 32 | AI60: =IF(O75="EF",1,"") -> 1 | AJ60: =IF(O75="EF",L77,"") -> 32
AB61: =IF(L80="TR",L82,"") -> 4 | AC61: =IF(L80="TR",L83,"") -> 3 | AD61: =IF(L80="TR",L84,"") -> 0.053 | AE61: =IF(N80="TR",N82,"") -> 4 | AF61: =IF(L80="TR",N82,"") -> 4 | AG61: =IF(N80="TR",1,"") -> 1 | AH61: =IF(N80="TR",L82,"") -> 4 | AI61: =IF(O80="EF",1,"") -> 1 | AJ61: =IF(O80="EF",L82,"") -> 4
K62: TOTAL | L62: 3 | M62: Nb SEB | N62: 3 | P62: TOTAL | Q62: 264 | R62: Nb SEB | S62: 109 | U62: TOTAL | V62: 21 | W62: Nb SEB | X62: 21 | AB62: =IF(Q55="TR",Q57,"") -> 256 | AC62: =IF(Q55="TR",Q58,"") -> 17 | AD62: =IF(Q55="TR",Q59,"") -> 4.402 | AE62: =IF(S55="TR",S57,"") -> 97 | AF62: =IF(Q55="TR",S57,"") -> 97 | AG62: =IF(S55="TR",1,"") -> 1 | AH62: =IF(S55="TR",Q57,"") -> 256 | AI62: =IF(T55="EF",1,"") -> 1 | AJ62: =IF(T55="EF",Q57,"") -> 256
K63: Nb prvlt | L63: 1 | P63: Nb prvlt | Q63: 15 | U63: Nb prvlt | V63: 17 | AB63: =IF(Q60="TR",Q62,"") -> 264 | AC63: =IF(Q60="TR",Q63,"") -> 15 | AD63: =IF(Q60="TR",Q64,"") -> 4.369 | AE63: =IF(S60="TR",S62,"") -> 109 | AF63: =IF(Q60="TR",S62,"") -> 109 | AG63: =IF(S60="TR",1,"") -> 1 | AH63: =IF(S60="TR",Q62,"") -> 264 | AI63: =IF(T60="EF",1,"") -> 1 | AJ63: =IF(T60="EF",Q62,"") -> 264
K64: Tonnage | L64: 0.108 | P64: Tonnage | Q64: 4.369 | U64: Tonnage | V64: 0.722 | AB64: =IF(Q65="TR",Q67,"") -> 15 | AC64: =IF(Q65="TR",Q68,"") -> 3 | AD64: =IF(Q65="TR",Q69,"") -> 0.417 | AE64: =IF(S65="TR",S67,"") -> 2 | AF64: =IF(Q65="TR",S67,"") -> 2 | AG64: =IF(S65="TR",1,"") -> 1 | AH64: =IF(S65="TR",Q67,"") -> 15 | AI64: =IF(T65="EF",1,"") -> 1 | AJ64: =IF(T65="EF",Q67,"") -> 15
K65: 500-12/05 | L65: TR | N65: TR | O65: EF | P65: 508-12/05 | Q65: TR | S65: TR | T65: EF | U65: 540-17/05 | V65: TR | X65: TR | Y65: EF | AB65: =IF(Q70="TR",Q72,"") -> 2 | AC65: =IF(Q70="TR",Q73,"") -> 2 | AD65: =IF(Q70="TR",Q74,"") -> 0.037 | AE65: =IF(S70="TR",S72,"") -> 2 | AF65: =IF(Q70="TR",S72,"") -> 2 | AG65: =IF(S70="TR",1,"") -> 1 | AH65: =IF(S70="TR",Q72,"") -> 2 | AI65: =IF(T70="EF",1,"") -> 1 | AJ65: =IF(T70="EF",Q72,"") -> 2
AB66: =IF(Q75="TR",Q77,"") -> 24 | AC66: =IF(Q75="TR",Q78,"") -> 9 | AD66: =IF(Q75="TR",Q79,"") -> 0.403 | AE66: =IF(S75="TR",S77,"") -> 11 | AF66: =IF(Q75="TR",S77,"") -> 11 | AG66: =IF(S75="TR",1,"") -> 1 | AH66: =IF(S75="TR",Q77,"") -> 24 | AI66: =IF(T75="EF",1,"") | AJ66: =IF(T75="EF",Q77,"")
K67: TOTAL | L67: 20 | M67: Nb SEB | N67: 20 | P67: TOTAL | Q67: 15 | R67: Nb SEB | S67: 2 | U67: TOTAL | W67: Nb SEB | X67: 50 | AB67: =IF(Q80="TR",Q82,"") -> 125 | AC67: =IF(Q80="TR",Q83,"") -> 19 | AD67: =IF(Q80="TR",Q84,"") -> 4.271 | AE67: =IF(S80="TR",S82,"") -> 81 | AF67: =IF(Q80="TR",S82,"") -> 81 | AG67: =IF(S80="TR",1,"") -> 1 | AH67: =IF(S80="TR",Q82,"") -> 125 | AI67: =IF(T80="EF",1,"") -> 1 | AJ67: =IF(T80="EF",Q82,"") -> 125
K68: Nb prvlt | L68: 9 | P68: Nb prvlt | Q68: 3 | U68: Nb prvlt | AB68: =IF(V55="TR",V57,"") -> 21 | AC68: =IF(V55="TR",V58,"") -> 3 | AD68: =IF(V55="TR",V59,"") -> 0.443 | AE68: =IF(X55="TR",X57,"") -> 8 | AF68: =IF(V55="TR",X57,"") -> 8 | AG68: =IF(X55="TR",1,"") -> 1 | AH68: =IF(X55="TR",V57,"") -> 21 | AI68: =IF(Y55="EF",1,"") -> 1 | AJ68: =IF(Y55="EF",V57,"") -> 21
K69: Tonnage | L69: 0.506 | P69: Tonnage | Q69: 0.417 | U69: Tonnage | AB69: =IF(V60="TR",V62,"") -> 21 | AC69: =IF(V60="TR",V63,"") -> 17 | AD69: =IF(V60="TR",V64,"") -> 0.722 | AE69: =IF(X60="TR",X62,"") -> 21 | AF69: =IF(V60="TR",X62,"") -> 21 | AG69: =IF(X60="TR",1,"") -> 1 | AH69: =IF(X60="TR",V62,"") -> 21 | AI69: =IF(Y60="EF",1,"") -> 1 | AJ69: =IF(Y60="EF",V62,"") -> 21
K70: 503-12/05 | L70: TR | N70: TR | O70: EF | P70: 516-12/05 | Q70: TR | S70: TR | T70: EF | U70: 537-12/05 | V70: TR | X70: TR | Y70: EF | AB70: =IF(V65="TR",V67,"") -> 0 | AC70: =IF(V65="TR",V68,"") -> 0 | AD70: =IF(V65="TR",V69,"") -> 0 | AE70: =IF(X65="TR",X67,"") -> 50 | AF70: =IF(V65="TR",X67,"") -> 50 | AG70: =IF(X65="TR",1,"") -> 1 | AH70: =IF(X65="TR",V67,"") -> 0 | AI70: =IF(Y65="EF",1,"") -> 1 | AJ70: =IF(Y65="EF",V67,"") -> 0
AB71: =IF(V70="TR",V72,"") -> 179 | AC71: =IF(V70="TR",V73,"") -> 20 | AD71: =IF(V70="TR",V74,"") -> 3.934 | AE71: =IF(X70="TR",X72,"") -> 119 | AF71: =IF(V70="TR",X72,"") -> 119 | AG71: =IF(X70="TR",1,"") -> 1 | AH71: =IF(X70="TR",V72,"") -> 179 | AI71: =IF(Y70="EF",1,"") -> 1 | AJ71: =IF(Y70="EF",V72,"") -> 179
K72: TOTAL | L72: 73 | M72: Nb SEB | N72: 69 | P72: TOTAL | Q72: 2 | R72: Nb SEB | S72: 2 | U72: TOTAL | V72: 179 | W72: Nb SEB | X72: 119 | AB72: =IF(V75="TR",V77,"") | AC72: =IF(V75="TR",V78,"") | AD72: =IF(V75="TR",V79,"") | AE72: =IF(X75="TR",X77,"") | AF72: =IF(V75="TR",X77,"") | AG72: =IF(X75="TR",1,"") | AH72: =IF(X75="TR",V77,"") | AI72: =IF(Y75="EF",1,"") | AJ72: =IF(Y75="EF",V77,"")
K73: Nb prvlt | L73: 34 | P73: Nb prvlt | Q73: 2 | U73: Nb prvlt | V73: 20 | AB73: =IF(V80="TR",V82,"") | AC73: =IF(V80="TR",V83,"") | AD73: =IF(V80="TR",V84,"") | AE73: =IF(X80="TR",X82,"") | AF73: =IF(V80="TR",X82,"") | AG73: =IF(X80="TR",1,"") | AH73: =IF(X80="TR",V82,"") | AI73: =IF(Y80="EF",1,"") | AJ73: =IF(Y80="EF",V82,"")
K74: Tonnage | L74: 2.372 | P74: Tonnage | Q74: 0.037 | U74: Tonnage | V74: 3.934
K75: 504-12/05 | L75: TR | N75: TR | O75: EF | P75: 524-11/05 | Q75: TR | S75: TR
O76: =L77 -> 32
K77: TOTAL | L77: 32 | M77: Nb SEB | N77: 23 | P77: TOTAL | Q77: 24 | R77: Nb SEB | S77: 11 | U77: TOTAL | W77: Nb SEB
K78: Nb prvlt | L78: 26 | N78: =L77 -> 32 | P78: Nb prvlt | Q78: 9 | U78: Nb prvlt
K79: Tonnage | L79: 0.884 | N79: =COUNTA(K75) -> 1 | P79: Tonnage | Q79: 0.403 | U79: Tonnage
K80: 505-12/05 | L80: TR | N80: TR | O80: EF | P80: 525-11/05 | Q80: TR | S80: TR | T80: EF
O81: =L82 -> 4
K82: TOTAL | L82: 4 | M82: Nb SEB | N82: 4 | P82: TOTAL | Q82: 125 | R82: Nb SEB | S82: 81 | U82: TOTAL | W82: Nb SEB
K83: Nb prvlt | L83: 3 | N83: =L82 -> 4 | P83: Nb prvlt | Q83: 19 | U83: Nb prvlt
K84: Tonnage | L84: 0.053 | N84: =COUNTA(K80) -> 1 | P84: Tonnage | Q84: 4.271 | U84: Tonnage
A87: =A1+2 -> 42501
A90: Planning préparation | F90: Objectif SEB + PAC (J+1) | K90: Prod Prépa | P90: État (instant t) | U90: Reste à expédier
A91: Tonnage jour | D91: =SUM(L102,L107,L112,L117,L122,L127,Q102,Q107,Q112,Q117,Q122,Q127,V102,V107,V112,V117,V122,V127) -> 16.921 | F91: Nb colis à SEB | I91: =SUM(N100,N105,N110,N115,N120,N125,S100,S105,S110,S115,S120,S125,X100,X105,X110,X115,X120,X125) -> 586 | K91: Nb colis préparés | N91: =AB98 -> 667 | P91: Nb colis SEB | S91: =AE98 -> 586 | U91: Nb dossier à quai | X91: =AG98-AI98 -> 2
A92: Nb colis à préparer | D92: =SUM(L100,L105,L110,L115,L120,L125,Q100,Q105,Q110,Q115,Q120,Q125,V100,V105,V110,V115,V120,V125) -> 667 | F92: Nb colis nus | I92: =D92-I91 -> 81 | K92: Nb prélèvement | N92: =AC98 -> 293 | P92: NB colis devant chaîne | S92: =AF98-AE98 -> 0 | U92: Nb colis à quai | X92: =AH98-AJ98 -> 110
A93: Nb de lignes | D93: =SUM(L101,L106,L111,L116,L121,L126,Q101,Q106,Q111,Q116,Q121,Q126,V101,V106,V111,V116,V121,V126) -> 293 | K93: Tonnage effectué | N93: =AD98 -> 16.921
A94: Nb de dossier | D94: =COUNTA(K98,K103,K108,K113,K118,K123,P98,P103,P108,P113,P118,P123,U98,U103,U108,U113,U118,U123) -> 16
K95: Reste à prélever | N95: =D92-N91 -> 0 | P95: Reste à suremballer | S95: =I91-S91 -> 0
K96: Nb lignes restantes | N96: =D93-N92 -> 0
A97: ÉQUIPE 1 | F97: ÉQUIPE 2 | K97: ÉQUIPE 3 | P97: ÉQUIPE 4 | U97: ÉQUIPE 5 | AB97: Prépa | AE97: SEB | AG97: Zone PAP
K98: 501-13/05 | L98: TR | N98: TR | O98: EF | P98: 517-12/05 | Q98: TR | S98: TR | U98: 505-1605 | V98: TR | X98: TR | AB98: =SUM(AB99:AB116) -> 667 | AC98: =SUM(AC99:AC116) -> 293 | AD98: =SUM(AD99:AD116) -> 16.921 | AE98: =SUM(AE99:AE116) -> 586 | AF98: =SUM(AF99:AF116) -> 586 | AG98: =SUM(AG99:AG116) -> 16 | AH98: =SUM(AH99:AH116) -> 667 | AI98: =SUM(AI99:AI116) -> 14 | AJ98: =SUM(AJ99:AJ116) -> 557
AB99: =IF(L98="TR",L100,"") -> 101 | AC99: =IF(L98="TR",L101,"") -> 44 | AD99: =IF(L98="TR",L102,"") -> 2.767 | AE99: =IF(N98="TR",N100,"") -> 75 | AF99: =IF(L98="TR",N100,"") -> 75 | AG99: =IF(N98="TR",1,"") -> 1 | AH99: =IF(N98="TR",L100,"") -> 101 | AI99: =IF(O98="EF",1,"") -> 1 | AJ99: =IF(O98="EF",L100,"") -> 101
K100: TOTAL | L100: 101 | M100: Nb SEB | N100: 75 | P100: TOTAL | Q100: 82 | R100: Nb SEB | S100: 20 | U100: TOTAL | V100: 28 | W100: Nb SEB | X100: 26 | AB100: =IF(L103="TR",L105,"") -> 15 | AC100: =IF(L103="TR",L106,"") -> 9 | AD100: =IF(L103="TR",L107,"") -> 0.428 | AE100: =IF(N103="TR",N105,"") -> 15 | AF100: =IF(L103="TR",N105,"") -> 15 | AG100: =IF(N103="TR",1,"") -> 1 | AH100: =IF(N103="TR",L105,"") -> 15 | AI100: =IF(O103="EF",1,"") -> 1 | AJ100: =IF(O103="EF",L105,"") -> 15
K101: Nb prvlt | L101: 44 | P101: Nb prvlt | Q101: 5 | U101: Nb prvlt | V101: 23 | AB101: =IF(L108="TR",L110,"") -> 32 | AC101: =IF(L108="TR",L111,"") -> 23 | AD101: =IF(L108="TR",L112,"") -> 0.871 | AE101: =IF(N108="TR",N110,"") -> 17 | AF101: =IF(L108="TR",N110,"") -> 17 | AG101: =IF(N108="TR",1,"") -> 1 | AH101: =IF(N108="TR",L110,"") -> 32 | AI101: =IF(O108="EF",1,"") -> 1 | AJ101: =IF(O108="EF",L110,"") -> 32
K102: Tonnage | L102: 2.767 | P102: Tonnage | Q102: 1.605 | U102: Tonnage | V102: 0.806 | AB102: =IF(L113="TR",L115,"") -> 21 | AC102: =IF(L113="TR",L116,"") -> 20 | AD102: =IF(L113="TR",L117,"") -> 0.774 | AE102: =IF(N113="TR",N115,"") -> 21 | AF102: =IF(L113="TR",N115,"") -> 21 | AG102: =IF(N113="TR",1,"") -> 1 | AH102: =IF(N113="TR",L115,"") -> 21 | AI102: =IF(O113="EF",1,"") -> 1 | AJ102: =IF(O113="EF",L115,"") -> 21
K103: 500-16/05 | L103: TR | N103: TR | O103: EF | P103: 526-11/05 | Q103: TR | S103: TR | T103: EF | U103: 506-16/05 | V103: TR | X103: TR | Y103: EF | AB103: =IF(L118="TR",L120,"") -> 26 | AC103: =IF(L118="TR",L121,"") -> 26 | AD103: =IF(L118="TR",L122,"") -> 0.721 | AE103: =IF(N118="TR",N120,"") -> 26 | AF103: =IF(L118="TR",N120,"") -> 26 | AG103: =IF(N118="TR",1,"") -> 1 | AH103: =IF(N118="TR",L120,"") -> 26 | AI103: =IF(O118="EF",1,"") -> 1 | AJ103: =IF(O118="EF",L120,"") -> 26
AB104: =IF(L123="TR",L125,"") -> 1 | AC104: =IF(L123="TR",L126,"") -> 1 | AD104: =IF(L123="TR",L127,"") -> 0.019 | AE104: =IF(N123="TR",N125,"") -> 1 | AF104: =IF(L123="TR",N125,"") -> 1 | AG104: =IF(N123="TR",1,"") -> 1 | AH104: =IF(N123="TR",L125,"") -> 1 | AI104: =IF(O123="EF",1,"") -> 1 | AJ104: =IF(O123="EF",L125,"") -> 1
K105: TOTAL | L105: 15 | M105: Nb SEB | N105: 15 | P105: TOTAL | Q105: 129 | R105: Nb SEB | S105: 103 | U105: TOTAL | V105: 13 | W105: Nb SEB | X105: 10 | AB105: =IF(Q98="TR",Q100,"") -> 82 | AC105: =IF(Q98="TR",Q101,"") -> 5 | AD105: =IF(Q98="TR",Q102,"") -> 1.605 | AE105: =IF(S98="TR",S100,"") -> 20 | AF105: =IF(Q98="TR",S100,"") -> 20 | AG105: =IF(S98="TR",1,"") -> 1 | AH105: =IF(S98="TR",Q100,"") -> 82 | AI105: =IF(T98="EF",1,"") | AJ105: =IF(T98="EF",Q100,"")
K106: Nb prvlt | L106: 9 | P106: Nb prvlt | Q106: 13 | U106: Nb prvlt | V106: 12 | AB106: =IF(Q103="TR",Q105,"") -> 129 | AC106: =IF(Q103="TR",Q106,"") -> 13 | AD106: =IF(Q103="TR",Q107,"") -> 1.151 | AE106: =IF(S103="TR",S105,"") -> 103 | AF106: =IF(Q103="TR",S105,"") -> 103 | AG106: =IF(S103="TR",1,"") -> 1 | AH106: =IF(S103="TR",Q105,"") -> 129 | AI106: =IF(T103="EF",1,"") -> 1 | AJ106: =IF(T103="EF",Q105,"") -> 129
K107: Tonnage | L107: 0.428 | P107: Tonnage | Q107: 1.151 | U107: Tonnage | V107: 0.375 | AB107: =IF(Q108="TR",Q110,"") | AC107: =IF(Q108="TR",Q111,"") | AD107: =IF(Q108="TR",Q112,"") | AE107: =IF(S108="TR",S110,"") | AF107: =IF(Q108="TR",S110,"") | AG107: =IF(S108="TR",1,"") | AH107: =IF(S108="TR",Q110,"") | AI107: =IF(T108="EF",1,"") | AJ107: =IF(T108="EF",Q110,"")
K108: 501-16/05 | L108: TR | N108: TR | O108: EF | U108: 529-11/05 | V108: TR | X108: TR | Y108: EF | AB108: =IF(Q113="TR",Q115,"") -> 120 | AC108: =IF(Q113="TR",Q116,"") -> 36 | AD108: =IF(Q113="TR",Q117,"") -> 3.445 | AE108: =IF(S113="TR",S115,"") -> 96 | AF108: =IF(Q113="TR",S115,"") -> 96 | AG108: =IF(S113="TR",1,"") -> 1 | AH108: =IF(S113="TR",Q115,"") -> 120 | AI108: =IF(T113="EF",1,"") -> 1 | AJ108: =IF(T113="EF",Q115,"") -> 120
AB109: =IF(Q118="TR",Q120,"") -> 11 | AC109: =IF(Q118="TR",Q121,"") -> 11 | AD109: =IF(Q118="TR",Q122,"") -> 0.282 | AE109: =IF(S118="TR",S120,"") -> 8 | AF109: =IF(Q118="TR",S120,"") -> 8 | AG109: =IF(S118="TR",1,"") -> 1 | AH109: =IF(S118="TR",Q120,"") -> 11 | AI109: =IF(T118="EF",1,"") -> 1 | AJ109: =IF(T118="EF",Q120,"") -> 11
K110: TOTAL | L110: 32 | M110: Nb SEB | N110: 17 | P110: TOTAL | R110: Nb SEB | U110: TOTAL | V110: 20 | W110: Nb SEB | X110: 100 | AB110: =IF(Q123="TR",Q125,"") -> 19 | AC110: =IF(Q123="TR",Q126,"") -> 14 | AD110: =IF(Q123="TR",Q127,"") -> 0.641 | AE110: =IF(S123="TR",S125,"") -> 19 | AF110: =IF(Q123="TR",S125,"") -> 19 | AG110: =IF(S123="TR",1,"") -> 1 | AH110: =IF(S123="TR",Q125,"") -> 19 | AI110: =IF(T123="EF",1,"") -> 1 | AJ110: =IF(T123="EF",Q125,"") -> 19
K111: Nb prvlt | L111: 23 | P111: Nb prvlt | U111: Nb prvlt | V111: 41 | AB111: =IF(V98="TR",V100,"") -> 28 | AC111: =IF(V98="TR",V101,"") -> 23 | AD111: =IF(V98="TR",V102,"") -> 0.806 | AE111: =IF(X98="TR",X100,"") -> 26 | AF111: =IF(V98="TR",X100,"") -> 26 | AG111: =IF(X98="TR",1,"") -> 1 | AH111: =IF(X98="TR",V100,"") -> 28 | AI111: =IF(Y98="EF",1,"") | AJ111: =IF(Y98="EF",V100,"")
K112: Tonnage | L112: 0.871 | P112: Tonnage | U112: Tonnage | V112: 2.316 | AB112: =IF(V103="TR",V105,"") -> 13 | AC112: =IF(V103="TR",V106,"") -> 12 | AD112: =IF(V103="TR",V107,"") -> 0.375 | AE112: =IF(X103="TR",X105,"") -> 10 | AF112: =IF(V103="TR",X105,"") -> 10 | AG112: =IF(X103="TR",1,"") -> 1 | AH112: =IF(X103="TR",V105,"") -> 13 | AI112: =IF(Y103="EF",1,"") -> 1 | AJ112: =IF(Y103="EF",V105,"") -> 13
...

Sheet S20
A1: 42506
A4: Planning préparation | F4: Objectif SEB + PAC (J+1) | K4: Prod Prépa | P4: État (instant t) | U4: Reste à expédier
A5: Tonnage jour | D5: =SUM(G16,L16,L21,L26,L31,L36,L41,Q16,Q21,Q26,Q31,Q36,Q41,V16,V21,V26,V31,V36,V41) -> 0 | F5: Nb colis à SEB | I5: =SUM(I14,N14,N19,N24,N29,N34,N39,S14,S19,S24,S29,S34,S39,X14,X19,X24,X29,X34,X39) -> 0 | K5: Nb colis préparés | N5: =AB12 -> 0 | P5: Nb colis SEB | S5: =AE12 -> 0 | U5: Nb dossier à quai | X5: =AG12-AI12 -> 0 | AB5: Nb dossier à quai | AD5: =SUM(X5,X48,X91,X134,X177,X220) -> 16
A6: Nb colis à préparer | D6: =SUM(G14,L14,L19,L24,L29,L34,L39,Q14,Q19,Q24,Q29,Q34,Q39,V14,V19,V24,V29,V34,V39) -> 0 | F6: Nb colis nus | I6: =D6-I5 -> 0 | K6: Nb prélèvement | N6: =AC12 -> 0 | P6: NB colis devant chaîne | S6: =AF12-AE12 -> 0 | U6: Nb colis à quai | X6: =AH12-AJ12 -> 0 | AB6: Nb colis à quai | AD6: =SUM(X6,X49,X92,X135,X178,X221) -> 1787
A7: Nb de lignes | D7: =SUM(G15,L15,L20,L25,L30,L35,L40,Q15,Q20,Q25,Q30,Q35,Q40,V15,V20,V25,V30,V35,V40) -> 0 | K7: Tonnage effectué | N7: =AD12 -> 0 | AB7: NB colis devant chaîne | AD7: =SUM(S6,S49,S92,S135,S178) -> 0
A8: Nb de dossier | D8: =COUNTA(F12,K12,K17,K22,K27,K32,K37,P12,P17,P22,P27,P32,P37,U12,U17,U22,U27,U32,U37) -> 0
K9: Reste à prélever | N9: =D6-N5 -> 0 | P9: Reste à suremballer | S9: =I5-S5 -> 0
K10: Nb lignes restantes | N10: =D7-N6 -> 0
A11: ÉQUIPE 1 | F11: ÉQUIPE 2 | K11: ÉQUIPE 3 | P11: ÉQUIPE 4 | U11: ÉQUIPE 5 | AB11: Prépa | AE11: SEB | AG11: Zone PAP
AB12: =SUM(AB13:AB30) -> 0 | AC12: =SUM(AC13:AC30) -> 0 | AD12: =SUM(AD13:AD30) -> 0 | AE12: =SUM(AE13:AE30) -> 0 | AF12: =SUM(AF13:AF30) -> 0 | AG12: =SUM(AG13:AG30) -> 0 | AH12: =SUM(AH13:AH30) -> 0 | AI12: =SUM(AI13:AI30) -> 0 | AJ12: =SUM(AJ13:AJ30) -> 0
AB13: =IF(L12="TR",L14,"") | AC13: =IF(L12="TR",L15,"") | AD13: =IF(L12="TR",L16,"") | AE13: =IF(N12="TR",N14,"") | AF13: =IF(L12="TR",N14,"") | AG13: =IF(N12="TR",1,"") | AH13: =IF(N12="TR",L14,"") | AI13: =IF(O12="EF",1,"") | AJ13: =IF(O12="EF",L14,"")
K14: TOTAL | M14: Nb SEB | P14: TOTAL | R14: Nb SEB | U14: TOTAL | W14: Nb SEB | AB14: =IF(L17="TR",L19,"") | AC14: =IF(L17="TR",L20,"") | AD14: =IF(L17="TR",L21,"") | AE14: =IF(N17="TR",N19,"") | AF14: =IF(L17="TR",N19,"") | AG14: =IF(N17="TR",1,"") | AH14: =IF(N17="TR",L19,"") | AI14: =IF(O17="EF",1,"") | AJ14: =IF(O17="EF",L19,"")
K15: Nb prvlt | P15: Nb prvlt | U15: Nb prvlt | AB15: =IF(L22="TR",L24,"") | AC15: =IF(L22="TR",L25,"") | AD15: =IF(L22="TR",L26,"") | AE15: =IF(N22="TR",N24,"") | AF15: =IF(L22="TR",N24,"") | AG15: =IF(N22="TR",1,"") | AH15: =IF(N22="TR",L24,"") | AI15: =IF(O22="EF",1,"") | AJ15: =IF(O22="EF",L24,"")
K16: Tonnage | P16: Tonnage | U16: Tonnage | AB16: =IF(L27="TR",L29,"") | AC16: =IF(L27="TR",L30,"") | AD16: =IF(L27="TR",L31,"") | AE16: =IF(N27="TR",N29,"") | AF16: =IF(L27="TR",N29,"") | AG16: =IF(N27="TR",1,"") | AH16: =IF(N27="TR",L29,"") | AI16: =IF(O27="EF",1,"") | AJ16: =IF(O27="EF",L29,"")
AB17: =IF(L32="TR",L34,"") | AC17: =IF(L32="TR",L35,"") | AD17: =IF(L32="TR",L36,"") | AE17: =IF(N32="TR",N34,"") | AF17: =IF(L32="TR",N34,"") | AG17: =IF(N32="TR",1,"") | AH17: =IF(N32="TR",L34,"") | AI17: =IF(O32="EF",1,"") | AJ17: =IF(O32="EF",L34,"")
AB18: =IF(L37="TR",L39,"") | AC18: =IF(L37="TR",L40,"") | AD18: =IF(L37="TR",L41,"") | AE18: =IF(N37="TR",N39,"") | AF18: =IF(L37="TR",N39,"") | AG18: =IF(N37="TR",1,"") | AH18: =IF(N37="TR",L39,"") | AI18: =IF(O37="EF",1,"") | AJ18: =IF(O37="EF",L39,"")
K19: TOTAL | M19: Nb SEB | P19: TOTAL | R19: Nb SEB | U19: TOTAL | W19: Nb SEB | AB19: =IF(Q12="TR",Q14,"") | AC19: =IF(Q12="TR",Q15,"") | AD19: =IF(Q12="TR",Q16,"") | AE19: =IF(S12="TR",S14,"") | AF19: =IF(Q12="TR",S14,"") | AG19: =IF(S12="TR",1,"") | AH19: =IF(S12="TR",Q14,"") | AI19: =IF(T12="EF",1,"") | AJ19: =IF(T12="EF",Q14,"")
K20: Nb prvlt | P20: Nb prvlt | U20: Nb prvlt | AB20: =IF(Q17="TR",Q19,"") | AC20: =IF(Q17="TR",Q20,"") | AD20: =IF(Q17="TR",Q21,"") | AE20: =IF(S17="TR",S19,"") | AF20: =IF(Q17="TR",S19,"") | AG20: =IF(S17="TR",1,"") | AH20: =IF(S17="TR",Q19,"") | AI20: =IF(T17="EF",1,"") | AJ20: =IF(T17="EF",Q19,"")
K21: Tonnage | P21: Tonnage | U21: Tonnage | AB21: =IF(Q22="TR",Q24,"") | AC21: =IF(Q22="TR",Q25,"") | AD21: =IF(Q22="TR",Q26,"") | AE21: =IF(S22="TR",S24,"") | AF21: =IF(Q22="TR",S24,"") | AG21: =IF(S22="TR",1,"") | AH21: =IF(S22="TR",Q24,"") | AI21: =IF(T22="EF",1,"") | AJ21: =IF(T22="EF",Q24,"")
AB22: =IF(Q27="TR",Q29,"") | AC22: =IF(Q27="TR",Q30,"") | AD22: =IF(Q27="TR",Q31,"") | AE22: =IF(S27="TR",S29,"") | AF22: =IF(Q27="TR",S29,"") | AG22: =IF(S27="TR",1,"") | AH22: =IF(S27="TR",Q29,"") | AI22: =IF(T27="EF",1,"") | AJ22: =IF(T27="EF",Q29,"")
AB23: =IF(Q32="TR",Q34,"") | AC23: =IF(Q32="TR",Q35,"") | AD23: =IF(Q32="TR",Q36,"") | AE23: =IF(S32="TR",S34,"") | AF23: =IF(Q32="TR",S34,"") | AG23: =IF(S32="TR",1,"") | AH23: =IF(S32="TR",Q34,"") | AI23: =IF(T32="EF",1,"") | AJ23: =IF(T32="EF",Q34,"")
K24: TOTAL | M24: Nb SEB | P24: TOTAL | R24: Nb SEB | U24: TOTAL | W24: Nb SEB | AB24: =IF(Q37="TR",Q39,"") | AC24: =IF(Q37="TR",Q40,"") | AD24: =IF(Q37="TR",Q41,"") | AE24: =IF(S37="TR",S39,"") | AF24: =IF(Q37="TR",S39,"") | AG24: =IF(S37="TR",1,"") | AH24: =IF(S37="TR",Q39,"") | AI24: =IF(T37="EF",1,"") | AJ24: =IF(T37="EF",Q39,"")
K25: Nb prvlt | P25: Nb prvlt | U25: Nb prvlt | AB25: =IF(V12="TR",V14,"") | AC25: =IF(V12="TR",V15,"") | AD25: =IF(V12="TR",V16,"") | AE25: =IF(X12="TR",X14,"") | AF25: =IF(V12="TR",X14,"") | AG25: =IF(X12="TR",1,"") | AH25: =IF(X12="TR",V14,"") | AI25: =IF(Y12="EF",1,"") | AJ25: =IF(Y12="EF",V14,"")
K26: Tonnage | P26: Tonnage | U26: Tonnage | AB26: =IF(V17="TR",V19,"") | AC26: =IF(V17="TR",V20,"") | AD26: =IF(V17="TR",V21,"") | AE26: =IF(X17="TR",X19,"") | AF26: =IF(V17="TR",X19,"") | AG26: =IF(X17="TR",1,"") | AH26: =IF(X17="TR",V19,"") | AI26: =IF(Y17="EF",1,"") | AJ26: =IF(Y17="EF",V19,"")
AB27: =IF(V22="TR",V24,"") | AC27: =IF(V22="TR",V25,"") | AD27: =IF(V22="TR",V26,"") | AE27: =IF(X22="TR",X24,"") | AF27: =IF(V22="TR",X24,"") | AG27: =IF(X22="TR",1,"") | AH27: =IF(X22="TR",V24,"") | AI27: =IF(Y22="EF",1,"") | AJ27: =IF(Y22="EF",V24,"")
AB28: =IF(V27="TR",V29,"") | AC28: =IF(V27="TR",V30,"") | AD28: =IF(V27="TR",V31,"") | AE28: =IF(X27="TR",X29,"") | AF28: =IF(V27="TR",X29,"") | AG28: =IF(X27="TR",1,"") | AH28: =IF(X27="TR",V29,"") | AI28: =IF(Y27="EF",1,"") | AJ28: =IF(Y27="EF",V29,"")
K29: TOTAL | M29: Nb SEB | P29: TOTAL | R29: Nb SEB | U29: TOTAL | W29: Nb SEB | AB29: =IF(V32="TR",V34,"") | AC29: =IF(V32="TR",V35,"") | AD29: =IF(V32="TR",V36,"") | AE29: =IF(X32="TR",X34,"") | AF29: =IF(V32="TR",X34,"") | AG29: =IF(X32="TR",1,"") | AH29: =IF(X32="TR",V34,"") | AI29: =IF(Y32="EF",1,"") | AJ29: =IF(Y32="EF",V34,"")
K30: Nb prvlt | P30: Nb prvlt | U30: Nb prvlt | AB30: =IF(V37="TR",V39,"") | AC30: =IF(V37="TR",V40,"") | AD30: =IF(V37="TR",V41,"") | AE30: =IF(X37="TR",X39,"") | AF30: =IF(V37="TR",X39,"") | AG30: =IF(X37="TR",1,"") | AH30: =IF(X37="TR",V39,"") | AI30: =IF(Y37="EF",1,"") | AJ30: =IF(Y37="EF",V39,"")
K31: Tonnage | P31: Tonnage | U31: Tonnage
K34: TOTAL | M34: Nb SEB | P34: TOTAL | R34: Nb SEB | U34: TOTAL | W34: Nb SEB
K35: Nb prvlt | P35: Nb prvlt | U35: Nb prvlt
K36: Tonnage | P36: Tonnage | U36: Tonnage
K39: TOTAL | M39: Nb SEB | P39: TOTAL | R39: Nb SEB | U39: TOTAL | W39: Nb SEB
K40: Nb prvlt | P40: Nb prvlt | U40: Nb prvlt
K41: Tonnage | P41: Tonnage | U41: Tonnage
A44: =A1+1 -> 42507
A47: Planning préparation | F47: Objectif SEB + PAC (J+1) | K47: Prod Prépa | P47: État (instant t) | U47: Reste à expédier
A48: Tonnage jour | D48: =SUM(L59,L64,L69,L74,L79,L84,Q59,Q64,Q69,Q74,Q79,Q84,V59,V64,V69,V74,V79,V84) -> 25.296 | F48: Nb colis à SEB | I48: =SUM(N57,N62,N67,N72,N77,N82,S57,S62,S67,S72,S77,S82,X57,X62,X67,X72,X77,X82) -> 708 | K48: Nb colis préparés | N48: =AB55 -> 1177 | P48: Nb colis SEB | S48: =AE55 -> 708 | U48: Nb dossier à quai | X48: =AG55-AI55 -> 8
A49: Nb colis à préparer | D49: =SUM(L57,L62,L67,L72,L77,L82,Q57,Q62,Q67,Q72,Q77,Q82,V57,V62,V67,V72,V77,V82) -> 1177 | F49: Nb colis nus | I49: =D49-I48 -> 469 | K49: Nb prélèvement | N49: =AC55 -> 184 | P49: NB colis devant chaîne | S49: =AF55-AE55 -> 0 | U49: Nb colis à quai | X49: =AH55-AJ55 -> 441
A50: Nb de lignes | D50: =SUM(L58,L63,L68,L73,L78,L83,Q58,Q63,Q68,Q73,Q78,Q83,V58,V63,V68,V73,V78,V83) -> 184 | K50: Tonnage effectué | N50: =AD55 -> 25.296
A51: Nb de dossier | D51: =COUNTA(K55,K60,K65,K70,K75,K80,P55,P60,P65,P70,P75,P80,U55,U60,U65,U70,U75,U80) -> 17
K52: Reste à prélever | N52: =D49-N48 -> 0 | P52: Reste à suremballer | S52: =I48-S48 -> 0
K53: Nb lignes restantes | N53: =D50-N49 -> 0
A54: ÉQUIPE 1 | F54: ÉQUIPE 2 | K54: ÉQUIPE 3 | P54: ÉQUIPE 4 | U54: ÉQUIPE 5 | AB54: Prépa | AE54: SEB | AG54: Zone PAP
K55: 502-04/05 | L55: TR | N55: TR | O55: EF | P55: 510-19/05 | Q55: TR | S55: TR | T55: EF | U55: 520-19/05 | V55: TR | X55: TR | Y55: EF | AB55: =SUM(AB56:AB73) -> 1177 | AC55: =SUM(AC56:AC73) -> 184 | AD55: =SUM(AD56:AD73) -> 25.296 | AE55: =SUM(AE56:AE73) -> 708 | AF55: =SUM(AF56:AF73) -> 708 | AG55: =SUM(AG56:AG73) -> 17 | AH55: =SUM(AH56:AH73) -> 1177 | AI55: =SUM(AI56:AI73) -> 9 | AJ55: =SUM(AJ56:AJ73) -> 736
AB56: =IF(L55="TR",L57,"") -> 390 | AC56: =IF(L55="TR",L58,"") -> 13 | AD56: =IF(L55="TR",L59,"") -> 10.682 | AE56: =IF(N55="TR",N57,"") -> 280 | AF56: =IF(L55="TR",N57,"") -> 280 | AG56: =IF(N55="TR",1,"") -> 1 | AH56: =IF(N55="TR",L57,"") -> 390 | AI56: =IF(O55="EF",1,"") -> 1 | AJ56: =IF(O55="EF",L57,"") -> 390
K57: TOTAL | L57: 390 | M57: Nb SEB | N57: 280 | P57: TOTAL | Q57: 9 | R57: Nb SEB | S57: 9 | U57: TOTAL | V57: 115 | W57: Nb SEB | X57: 52 | AB57: =IF(L60="TR",L62,"") -> 7 | AC57: =IF(L60="TR",L63,"") -> 6 | AD57: =IF(L60="TR",L64,"") -> 0.09 | AE57: =IF(N60="TR",N62,"") -> 0 | AF57: =IF(L60="TR",N62,"") -> 0 | AG57: =IF(N60="TR",1,"") -> 1 | AH57: =IF(N60="TR",L62,"") -> 7 | AI57: =IF(O60="EF",1,"") -> 1 | AJ57: =IF(O60="EF",L62,"") -> 7
K58: Nb prvlt | L58: 13 | P58: Nb prvlt | Q58: 9 | U58: Nb prvlt | V58: 18 | AB58: =IF(L65="TR",L67,"") -> 1 | AC58: =IF(L65="TR",L68,"") -> 1 | AD58: =IF(L65="TR",L69,"") -> 0.028 | AE58: =IF(N65="TR",N67,"") -> 1 | AF58: =IF(L65="TR",N67,"") -> 1 | AG58: =IF(N65="TR",1,"") -> 1 | AH58: =IF(N65="TR",L67,"") -> 1 | AI58: =IF(O65="EF",1,"") -> 1 | AJ58: =IF(O65="EF",L67,"") -> 1
K59: Tonnage | L59: 10.682 | P59: Tonnage | Q59: 0.286 | U59: Tonnage | V59: 1.317 | AB59: =IF(L70="TR",L72,"") -> 67 | AC59: =IF(L70="TR",L73,"") -> 13 | AD59: =IF(L70="TR",L74,"") -> 0.832 | AE59: =IF(N70="TR",N72,"") -> 17 | AF59: =IF(L70="TR",N72,"") -> 17 | AG59: =IF(N70="TR",1,"") -> 1 | AH59: =IF(N70="TR",L72,"") -> 67 | AI59: =IF(O70="EF",1,"") | AJ59: =IF(O70="EF",L72,"")
K60: 501-19/05 | L60: TR | N60: TR | O60: EF | P60: 511-19/05 | Q60: TR | S60: TR | T60: EF | U60: 523-19/05 | V60: TR | X60: TR | AB60: =IF(L75="TR",L77,"") -> 78 | AC60: =IF(L75="TR",L78,"") -> 13 | AD60: =IF(L75="TR",L79,"") -> 0.857 | AE60: =IF(N75="TR",N77,"") -> 18 | AF60: =IF(L75="TR",N77,"") -> 18 | AG60: =IF(N75="TR",1,"") -> 1 | AH60: =IF(N75="TR",L77,"") -> 78 | AI60: =IF(O75="EF",1,"") | AJ60: =IF(O75="EF",L77,"")
AB61: =IF(L80="TR",L82,"") -> 3 | AC61: =IF(L80="TR",L83,"") -> 3 | AD61: =IF(L80="TR",L84,"") -> 0.125 | AE61: =IF(N80="TR",N82,"") -> 3 | AF61: =IF(L80="TR",N82,"") -> 3 | AG61: =IF(N80="TR",1,"") -> 1 | AH61: =IF(N80="TR",L82,"") -> 3 | AI61: =IF(O80="EF",1,"") -> 1 | AJ61: =IF(O80="EF",L82,"") -> 3
K62: TOTAL | L62: 7 | M62: Nb SEB | P62: TOTAL | Q62: 29 | R62: Nb SEB | S62: 12 | U62: TOTAL | V62: 13 | W62: Nb SEB | X62: 7 | AB62: =IF(Q55="TR",Q57,"") -> 9 | AC62: =IF(Q55="TR",Q58,"") -> 9 | AD62: =IF(Q55="TR",Q59,"") -> 0.286 | AE62: =IF(S55="TR",S57,"") -> 9 | AF62: =IF(Q55="TR",S57,"") -> 9 | AG62: =IF(S55="TR",1,"") -> 1 | AH62: =IF(S55="TR",Q57,"") -> 9 | AI62: =IF(T55="EF",1,"") -> 1 | AJ62: =IF(T55="EF",Q57,"") -> 9
K63: Nb prvlt | L63: 6 | P63: Nb prvlt | Q63: 14 | U63: Nb prvlt | V63: 10 | AB63: =IF(Q60="TR",Q62,"") -> 29 | AC63: =IF(Q60="TR",Q63,"") -> 14 | AD63: =IF(Q60="TR",Q64,"") -> 1.208 | AE63: =IF(S60="TR",S62,"") -> 12 | AF63: =IF(Q60="TR",S62,"") -> 12 | AG63: =IF(S60="TR",1,"") -> 1 | AH63: =IF(S60="TR",Q62,"") -> 29 | AI63: =IF(T60="EF",1,"") -> 1 | AJ63: =IF(T60="EF",Q62,"") -> 29
K64: Tonnage | L64: 0.09 | P64: Tonnage | Q64: 1.208 | U64: Tonnage | V64: 0.271 | AB64: =IF(Q65="TR",Q67,"") -> 124 | AC64: =IF(Q65="TR",Q68,"") -> 6 | AD64: =IF(Q65="TR",Q69,"") -> 0.82 | AE64: =IF(S65="TR",S67,"") -> 124 | AF64: =IF(Q65="TR",S67,"") -> 124 | AG64: =IF(S65="TR",1,"") -> 1 | AH64: =IF(S65="TR",Q67,"") -> 124 | AI64: =IF(T65="EF",1,"") -> 1 | AJ64: =IF(T65="EF",Q67,"") -> 124
K65: 502-19/05 | L65: TR | N65: TR | O65: EF | P65: 516-19/05 | Q65: TR | S65: TR | T65: EF | U65: 536-19/05 | V65: TR | X65: TR | AB65: =IF(Q70="TR",Q72,"") -> 58 | AC65: =IF(Q70="TR",Q73,"") -> 2 | AD65: =IF(Q70="TR",Q74,"") -> 0.348 | AE65: =IF(S70="TR",S72,"") -> 58 | AF65: =IF(Q70="TR",S72,"") -> 58 | AG65: =IF(S70="TR",1,"") -> 1 | AH65: =IF(S70="TR",Q72,"") -> 58 | AI65: =IF(T70="EF",1,"") -> 1 | AJ65: =IF(T70="EF",Q72,"") -> 58
AB66: =IF(Q75="TR",Q77,"") -> 22 | AC66: =IF(Q75="TR",Q78,"") -> 2 | AD66: =IF(Q75="TR",Q79,"") -> 0.891 | AE66: =IF(S75="TR",S77,"") -> 22 | AF66: =IF(Q75="TR",S77,"") -> 22 | AG66: =IF(S75="TR",1,"") -> 1 | AH66: =IF(S75="TR",Q77,"") -> 22 | AI66: =IF(T75="EF",1,"") | AJ66: =IF(T75="EF",Q77,"")
K67: TOTAL | L67: 1 | M67: Nb SEB | N67: 1 | P67: TOTAL | Q67: 124 | R67: Nb SEB | S67: 124 | U67: TOTAL | V67: 142 | W67: Nb SEB | X67: 33 | AB67: =IF(Q80="TR",Q82,"") -> 87 | AC67: =IF(Q80="TR",Q83,"") -> 15 | AD67: =IF(Q80="TR",Q84,"") -> 2.856 | AE67: =IF(S80="TR",S82,"") -> 48 | AF67: =IF(Q80="TR",S82,"") -> 48 | AG67: =IF(S80="TR",1,"") -> 1 | AH67: =IF(S80="TR",Q82,"") -> 87 | AI67: =IF(T80="EF",1,"") | AJ67: =IF(T80="EF",Q82,"")
K68: Nb prvlt | L68: 1 | P68: Nb prvlt | Q68: 6 | U68: Nb prvlt | V68: 30 | AB68: =IF(V55="TR",V57,"") -> 115 | AC68: =IF(V55="TR",V58,"") -> 18 | AD68: =IF(V55="TR",V59,"") -> 1.317 | AE68: =IF(X55="TR",X57,"") -> 52 | AF68: =IF(V55="TR",X57,"") -> 52 | AG68: =IF(X55="TR",1,"") -> 1 | AH68: =IF(X55="TR",V57,"") -> 115 | AI68: =IF(Y55="EF",1,"") -> 1 | AJ68: =IF(Y55="EF",V57,"") -> 115
K69: Tonnage | L69: 0.028 | P69: Tonnage | Q69: 0.82 | U69: Tonnage | V69: 3.724 | AB69: =IF(V60="TR",V62,"") -> 13 | AC69: =IF(V60="TR",V63,"") -> 10 | AD69: =IF(V60="TR",V64,"") -> 0.271 | AE69: =IF(X60="TR",X62,"") -> 7 | AF69: =IF(V60="TR",X62,"") -> 7 | AG69: =IF(X60="TR",1,"") -> 1 | AH69: =IF(X60="TR",V62,"") -> 13 | AI69: =IF(Y60="EF",1,"") | AJ69: =IF(Y60="EF",V62,"")
K70: 503-19/05 | L70: TR | N70: TR | P70: 517-19/05 | Q70: TR | S70: TR | T70: EF | U70: 537-19/05 | V70: TR | X70: TR | AB70: =IF(V65="TR",V67,"") -> 142 | AC70: =IF(V65="TR",V68,"") -> 30 | AD70: =IF(V65="TR",V69,"") -> 3.724 | AE70: =IF(X65="TR",X67,"") -> 33 | AF70: =IF(V65="TR",X67,"") -> 33 | AG70: =IF(X65="TR",1,"") -> 1 | AH70: =IF(X65="TR",V67,"") -> 142 | AI70: =IF(Y65="EF",1,"") | AJ70: =IF(Y65="EF",V67,"")
AB71: =IF(V70="TR",V72,"") -> 23 | AC71: =IF(V70="TR",V73,"") -> 21 | AD71: =IF(V70="TR",V74,"") -> 0.682 | AE71: =IF(X70="TR",X72,"") -> 23 | AF71: =IF(V70="TR",X72,"") -> 23 | AG71: =IF(X70="TR",1,"") -> 1 | AH71: =IF(X70="TR",V72,"") -> 23 | AI71: =IF(Y70="EF",1,"") | AJ71: =IF(Y70="EF",V72,"")
K72: TOTAL | L72: 67 | M72: Nb SEB | N72: 17 | P72: TOTAL | Q72: 58 | R72: Nb SEB | S72: 58 | U72: TOTAL | V72: 23 | W72: Nb SEB | X72: 23 | AB72: =IF(V75="TR",V77,"") -> 9 | AC72: =IF(V75="TR",V78,"") -> 8 | AD72: =IF(V75="TR",V79,"") -> 0.279 | AE72: =IF(X75="TR",X77,"") -> 1 | AF72: =IF(V75="TR",X77,"") -> 1 | AG72: =IF(X75="TR",1,"") -> 1 | AH72: =IF(X75="TR",V77,"") -> 9 | AI72: =IF(Y75="EF",1,"") | AJ72: =IF(Y75="EF",V77,"")
K73: Nb prvlt | L73: 13 | P73: Nb prvlt | Q73: 2 | U73: Nb prvlt | V73: 21 | AB73: =IF(V80="TR",V82,"") | AC73: =IF(V80="TR",V83,"") | AD73: =IF(V80="TR",V84,"") | AE73: =IF(X80="TR",X82,"") | AF73: =IF(V80="TR",X82,"") | AG73: =IF(X80="TR",1,"") | AH73: =IF(X80="TR",V82,"") | AI73: =IF(Y80="EF",1,"") | AJ73: =IF(Y80="EF",V82,"")
K74: Tonnage | L74: 0.832 | P74: Tonnage | Q74: 0.348 | U74: Tonnage | V74: 0.682
K75: 504-19/05 | L75: TR | N75: TR | P75: 518-19/05 | Q75: TR | S75: TR | U75: 541-19/05 | V75: TR | X75: TR
O76: =L77 -> 78
K77: TOTAL | L77: 78 | M77: Nb SEB | N77: 18 | P77: TOTAL | Q77: 22 | R77: Nb SEB | S77: 22 | U77: TOTAL | V77: 9 | W77: Nb SEB | X77: 1
K78: Nb prvlt | L78: 13 | N78: =L77 -> 78 | P78: Nb prvlt | Q78: 2 | U78: Nb prvlt | V78: 8
K79: Tonnage | L79: 0.857 | N79: =COUNTA(K75) -> 1 | P79: Tonnage | Q79: 0.891 | U79: Tonnage | V79: 0.279
K80: 509-19/05 | L80: TR | N80: TR | O80: EF | P80: 519-19/05 | Q80: TR | S80: TR
O81: =L82 -> 3
K82: TOTAL | L82: 3 | M82: Nb SEB | N82: 3 | P82: TOTAL | Q82: 87 | R82: Nb SEB | S82: 48 | U82: TOTAL | W82: Nb SEB
K83: Nb prvlt | L83: 3 | N83: =L82 -> 3 | P83: Nb prvlt | Q83: 15 | U83: Nb prvlt
K84: Tonnage | L84: 0.125 | N84: =COUNTA(K80) -> 1 | P84: Tonnage | Q84: 2.856 | U84: Tonnage
A87: =A1+2 -> 42508
A90: Planning préparation | F90: Objectif SEB + PAC (J+1) | K90: Prod Prépa | P90: État (instant t) | U90: Reste à expédier
A91: Tonnage jour | D91: =SUM(L102,L107,L112,L117,L122,L127,Q102,Q107,Q112,Q117,Q122,Q127,V102,V107,V112,V117,V122,V127) -> 20.432 | F91: Nb colis à SEB | I91: =SUM(N100,N105,N110,N115,N120,N125,S100,S105,S110,S115,S120,S125,X100,X105,X110,X115,X120,X125) -> 654 | K91: Nb colis préparés | N91: =AB98 -> 782 | P91: Nb colis SEB | S91: =AE98 -> 654 | U91: Nb dossier à quai | X91: =AG98-AI98 -> 3
A92: Nb colis à préparer | D92: =SUM(L100,L105,L110,L115,L120,L125,Q100,Q105,Q110,Q115,Q120,Q125,V100,V105,V110,V115,V120,V125) -> 782 | F92: Nb colis nus | I92: =D92-I91 -> 128 | K92: Nb prélèvement | N92: =AC98 -> 108 | P92: NB colis devant chaîne | S92: =AF98-AE98 -> 0 | U92: Nb colis à quai | X92: =AH98-AJ98 -> 79
A93: Nb de lignes | D93: =SUM(L101,L106,L111,L116,L121,L126,Q101,Q106,Q111,Q116,Q121,Q126,V101,V106,V111,V116,V121,V126) -> 108 | K93: Tonnage effectué | N93: =AD98 -> 20.432
A94: Nb de dossier | D94: =COUNTA(K98,K103,K108,K113,K118,K123,P98,P103,P108,P113,P118,P123,U98,U103,U108,U113,U118,U123) -> 9
K95: Reste à prélever | N95: =D92-N91 -> 0 | P95: Reste à suremballer | S95: =I91-S91 -> 0
K96: Nb lignes restantes | N96: =D93-N92 -> 0
A97: ÉQUIPE 1 | F97: ÉQUIPE 2 | K97: ÉQUIPE 3 | P97: ÉQUIPE 4 | U97: ÉQUIPE 5 | AB97: Prépa | AE97: SEB | AG97: Zone PAP
K98: 500-20/05 | L98: TR | N98: TR | O98: EF | P98: 515-19/05 | Q98: TR | S98: TR | AB98: =SUM(AB99:AB116) -> 782 | AC98: =SUM(AC99:AC116) -> 108 | AD98: =SUM(AD99:AD116) -> 20.432 | AE98: =SUM(AE99:AE116) -> 654 | AF98: =SUM(AF99:AF116) -> 654 | AG98: =SUM(AG99:AG116) -> 9 | AH98: =SUM(AH99:AH116) -> 782 | AI98: =SUM(AI99:AI116) -> 6 | AJ98: =SUM(AJ99:AJ116) -> 703
AB99: =IF(L98="TR",L100,"") -> 321 | AC99: =IF(L98="TR",L101,"") -> 11 | AD99: =IF(L98="TR",L102,"") -> 12.2 | AE99: =IF(N98="TR",N100,"") -> 321 | AF99: =IF(L98="TR",N100,"") -> 321 | AG99: =IF(N98="TR",1,"") -> 1 | AH99: =IF(N98="TR",L100,"") -> 321 | AI99: =IF(O98="EF",1,"") -> 1 | AJ99: =IF(O98="EF",L100,"") -> 321
K100: TOTAL | L100: 321 | M100: Nb SEB | N100: 321 | P100: TOTAL | Q100: 13 | R100: Nb SEB | S100: 13 | U100: TOTAL | W100: Nb SEB | AB100: =IF(L103="TR",L105,"") -> 4 | AC100: =IF(L103="TR",L106,"") -> 3 | AD100: =IF(L103="TR",L107,"") -> 0.064 | AE100: =IF(N103="TR",N105,"") -> 4 | AF100: =IF(L103="TR",N105,"") -> 4 | AG100: =IF(N103="TR",1,"") -> 1 | AH100: =IF(N103="TR",L105,"") -> 4 | AI100: =IF(O103="EF",1,"") -> 1 | AJ100: =IF(O103="EF",L105,"") -> 4
K101: Nb prvlt | L101: 11 | P101: Nb prvlt | Q101: 1 | U101: Nb prvlt | AB101: =IF(L108="TR",L110,"") -> 193 | AC101: =IF(L108="TR",L111,"") -> 56 | AD101: =IF(L108="TR",L112,"") -> 3.831 | AE101: =IF(N108="TR",N110,"") -> 91 | AF101: =IF(L108="TR",N110,"") -> 91 | AG101: =IF(N108="TR",1,"") -> 1 | AH101: =IF(N108="TR",L110,"") -> 193 | AI101: =IF(O108="EF",1,"") -> 1 | AJ101: =IF(O108="EF",L110,"") -> 193
K102: Tonnage | L102: 12.2 | P102: Tonnage | Q102: 0.357 | U102: Tonnage | AB102: =IF(L113="TR",L115,"") -> 41 | AC102: =IF(L113="TR",L116,"") -> 10 | AD102: =IF(L113="TR",L117,"") -> 0.74 | AE102: =IF(N113="TR",N115,"") -> 28 | AF102: =IF(L113="TR",N115,"") -> 28 | AG102: =IF(N113="TR",1,"") -> 1 | AH102: =IF(N113="TR",L115,"") -> 41 | AI102: =IF(O113="EF",1,"") | AJ102: =IF(O113="EF",L115,"")
K103: 503-20/05 | L103: TR | N103: TR | O103: EF | P103: 516-20/05 | Q103: TR | S103: TR | T103: EF | AB103: =IF(L118="TR",L120,"") -> 25 | AC103: =IF(L118="TR",L121,"") -> 5 | AD103: =IF(L118="TR",L122,"") -> 0.796 | AE103: =IF(N118="TR",N120,"") -> 18 | AF103: =IF(L118="TR",N120,"") -> 18 | AG103: =IF(N118="TR",1,"") -> 1 | AH103: =IF(N118="TR",L120,"") -> 25 | AI103: =IF(O118="EF",1,"") | AJ103: =IF(O118="EF",L120,"")
AB104: =IF(L123="TR",L125,"") -> 169 | AC104: =IF(L123="TR",L126,"") -> 6 | AD104: =IF(L123="TR",L127,"") -> 1.915 | AE104: =IF(N123="TR",N125,"") -> 163 | AF104: =IF(L123="TR",N125,"") -> 163 | AG104: =IF(N123="TR",1,"") -> 1 | AH104: =IF(N123="TR",L125,"") -> 169 | AI104: =IF(O123="EF",1,"") -> 1 | AJ104: =IF(O123="EF",L125,"") -> 169
K105: TOTAL | L105: 4 | M105: Nb SEB | N105: 4 | P105: TOTAL | Q105: 12 | R105: Nb SEB | S105: 12 | U105: TOTAL | W105: Nb SEB | AB105: =IF(Q98="TR",Q100,"") -> 13 | AC105: =IF(Q98="TR",Q101,"") -> 1 | AD105: =IF(Q98="TR",Q102,"") -> 0.357 | AE105: =IF(S98="TR",S100,"") -> 13 | AF105: =IF(Q98="TR",S100,"") -> 13 | AG105: =IF(S98="TR",1,"") -> 1 | AH105: =IF(S98="TR",Q100,"") -> 13 | AI105: =IF(T98="EF",1,"") | AJ105: =IF(T98="EF",Q100,"")
K106: Nb prvlt | L106: 3 | P106: Nb prvlt | Q106: 12 | U106: Nb prvlt | AB106: =IF(Q103="TR",Q105,"") -> 12 | AC106: =IF(Q103="TR",Q106,"") -> 12 | AD106: =IF(Q103="TR",Q107,"") -> 0.395 | AE106: =IF(S103="TR",S105,"") -> 12 | AF106: =IF(Q103="TR",S105,"") -> 12 | AG106: =IF(S103="TR",1,"") -> 1 | AH106: =IF(S103="TR",Q105,"") -> 12 | AI106: =IF(T103="EF",1,"") -> 1 | AJ106: =IF(T103="EF",Q105,"") -> 12
K107: Tonnage | L107: 0.064 | P107: Tonnage | Q107: 0.395 | U107: Tonnage | AB107: =IF(Q108="TR",Q110,"") -> 4 | AC107: =IF(Q108="TR",Q111,"") -> 4 | AD107: =IF(Q108="TR",Q112,"") -> 0.134 | AE107: =IF(S108="TR",S110,"") -> 4 | AF107: =IF(Q108="TR",S110,"") -> 4 | AG107: =IF(S108="TR",1,"") -> 1 | AH107: =IF(S108="TR",Q110,"") -> 4 | AI107: =IF(T108="EF",1,"") -> 1 | AJ107: =IF(T108="EF",Q110,"") -> 4
K108: 504-20/05 | L108: TR | N108: TR | O108: EF | P108: 527-20/05 | Q108: TR | S108: TR | T108: EF | AB108: =IF(Q113="TR",Q115,"") | AC108: =IF(Q113="TR",Q116,"") | AD108: =IF(Q113="TR",Q117,"") | AE108: =IF(S113="TR",S115,"") | AF108: =IF(Q113="TR",S115,"") | AG108: =IF(S113="TR",1,"") | AH108: =IF(S113="TR",Q115,"") | AI108: =IF(T113="EF",1,"") | AJ108: =IF(T113="EF",Q115,"")
AB109: =IF(Q118="TR",Q120,"") | AC109: =IF(Q118="TR",Q121,"") | AD109: =IF(Q118="TR",Q122,"") | AE109: =IF(S118="TR",S120,"") | AF109: =IF(Q118="TR",S120,"") | AG109: =IF(S118="TR",1,"") | AH109: =IF(S118="TR",Q120,"") | AI109: =IF(T118="EF",1,"") | AJ109: =IF(T118="EF",Q120,"")
K110: TOTAL | L110: 193 | M110: Nb SEB | N110: 91 | P110: TOTAL | Q110: 4 | R110: Nb SEB | S110: 4 | U110: TOTAL | W110: Nb SEB | AB110: =IF(Q123="TR",Q125,"") | AC110: =IF(Q123="TR",Q126,"") | AD110: =IF(Q123="TR",Q127,"") | AE110: =IF(S123="TR",S125,"") | AF110: =IF(Q123="TR",S125,"") | AG110: =IF(S123="TR",1,"") | AH110: =IF(S123="TR",Q125,"") | AI110: =IF(T123="EF",1,"") | AJ110: =IF(T123="EF",Q125,"")
K111: Nb prvlt | L111: 56 | P111: Nb prvlt | Q111: 4 | U111: Nb prvlt | AB111: =IF(V98="TR",V100,"") | AC111: =IF(V98="TR",V101,"") | AD111: =IF(V98="TR",V102,"") | AE111: =IF(X98="TR",X100,"") | AF111: =IF(V98="TR",X100,"") | AG111: =IF(X98="TR",1,"") | AH111: =IF(X98="TR",V100,"") | AI111: =IF(Y98="EF",1,"") | AJ111: =IF(Y98="EF",V100,"")
K112: Tonnage | L112: 3.831 | P112: Tonnage | Q112: 0.134 | U112: Tonnage | AB112: =IF(V103="TR",V105,"") | AC112: =IF(V103="TR",V106,"") | AD112: =IF(V103="TR",V107,"") | AE112: =IF(X103="TR",X105,"") | AF112: =IF(V103="TR",X105,"") | AG112: =IF(X103="TR",1,"") | AH112: =IF(X103="TR",V105,"") | AI112: =IF(Y103="EF",1,"") | AJ112: =IF(Y103="EF",V105,"")
K113: 505-20/05 | L113: TR | N113: TR | AB113: =IF(V108="TR",V110,"") | AC113: =IF(V108="TR",V111,"") | AD113: =IF(V108="TR",V112,"") | AE113: =IF(X108="TR",X110,"") | AF113: =IF(V108="TR",X110,"") | AG113: =IF(X108="TR",1,"") | AH113: =IF(X108="TR",V110,"") | AI113: =IF(Y108="EF",1,"") | AJ113: =IF(Y108="EF",V110,"")
AB114: =IF(V113="TR",V115,"") | AC114: =IF(V113="TR",V116,"") | AD114: =IF(V113="TR",V117,"") | AE114: =IF(X113="TR",X115,"") | AF114: =IF(V113="TR",X115,"") | AG114: =IF(X113="TR",1,"") | AH114: =IF(X113="TR",V115,"") | AI114: =IF(Y113="EF",1,"") | AJ114: =IF(Y113="EF",V115,"")
...

Sheet S21
A1: 42513
A4: Planning préparation | F4: Objectif SEB + PAC (J+1) | K4: Prod Prépa | P4: État (instant t) | U4: Reste à expédier
A5: Tonnage jour | D5: =SUM(G16,L16,L21,L26,L31,L36,L41,Q16,Q21,Q26,Q31,Q36,Q41,V16,V21,V26,V31,V36,V41) -> 29.131 | F5: Nb colis à SEB | I5: =SUM(I14,N14,N19,N24,N29,N34,N39,S14,S19,S24,S29,S34,S39,X14,X19,X24,X29,X34,X39) -> 695 | K5: Nb colis préparés | N5: =AB12 -> 1146 | P5: Nb colis SEB | S5: =AE12 -> 695 | U5: Nb dossier à quai | X5: =AG12-AI12 -> 12 | AB5: Nb dossier à quai | AD5: =SUM(X5,X48,X91,X134,X177,X220) -> 24
A6: Nb colis à préparer | D6: =SUM(G14,L14,L19,L24,L29,L34,L39,Q14,Q19,Q24,Q29,Q34,Q39,V14,V19,V24,V29,V34,V39) -> 1146 | F6: Nb colis nus | I6: =D6-I5 -> 451 | K6: Nb prélèvement | N6: =AC12 -> 355 | P6: NB colis devant chaîne | S6: =AF12-AE12 -> 0 | U6: Nb colis à quai | X6: =AH12-AJ12 -> 955 | AB6: Nb colis à quai | AD6: =SUM(X6,X49,X92,X135,X178,X221) -> 1680
A7: Nb de lignes | D7: =SUM(G15,L15,L20,L25,L30,L35,L40,Q15,Q20,Q25,Q30,Q35,Q40,V15,V20,V25,V30,V35,V40) -> 355 | K7: Tonnage effectué | N7: =AD12 -> 29.131 | AB7: NB colis devant chaîne | AD7: =SUM(S6,S49,S92,S135,S178) -> 797
A8: Nb de dossier | D8: =COUNTA(F12,K12,K17,K22,K27,K32,K37,P12,P17,P22,P27,P32,P37,U12,U17,U22,U27,U32,U37) -> 16
K9: Reste à prélever | N9: =D6-N5 -> 0 | P9: Reste à suremballer | S9: =I5-S5 -> 0
K10: Nb lignes restantes | N10: =D7-N6 -> 0
A11: ÉQUIPE 1 | F11: ÉQUIPE 2 | K11: ÉQUIPE 3 | P11: ÉQUIPE 4 | U11: ÉQUIPE 5 | AB11: Prépa | AE11: SEB | AG11: Zone PAP
K12: 500-25/05 | L12: TR | N12: TR | P12: 503-25/05 | Q12: TR | S12: TR | U12: 524-26/05 | V12: TR | X12: TR | AB12: =SUM(AB13:AB30) -> 1146 | AC12: =SUM(AC13:AC30) -> 355 | AD12: =SUM(AD13:AD30) -> 29.131 | AE12: =SUM(AE13:AE30) -> 695 | AF12: =SUM(AF13:AF30) -> 695 | AG12: =SUM(AG13:AG30) -> 16 | AH12: =SUM(AH13:AH30) -> 1146 | AI12: =SUM(AI13:AI30) -> 4 | AJ12: =SUM(AJ13:AJ30) -> 191
AB13: =IF(L12="TR",L14,"") -> 158 | AC13: =IF(L12="TR",L15,"") -> 8 | AD13: =IF(L12="TR",L16,"") -> 4.728 | AE13: =IF(N12="TR",N14,"") -> 127 | AF13: =IF(L12="TR",N14,"") -> 127 | AG13: =IF(N12="TR",1,"") -> 1 | AH13: =IF(N12="TR",L14,"") -> 158 | AI13: =IF(O12="EF",1,"") | AJ13: =IF(O12="EF",L14,"")
K14: TOTAL | L14: 158 | M14: Nb SEB | N14: 127 | P14: TOTAL | Q14: 67 | R14: Nb SEB | S14: 67 | U14: TOTAL | V14: 105 | W14: Nb SEB | X14: 52 | AB14: =IF(L17="TR",L19,"") -> 22 | AC14: =IF(L17="TR",L20,"") -> 12 | AD14: =IF(L17="TR",L21,"") -> 0.642 | AE14: =IF(N17="TR",N19,"") -> 17 | AF14: =IF(L17="TR",N19,"") -> 17 | AG14: =IF(N17="TR",1,"") -> 1 | AH14: =IF(N17="TR",L19,"") -> 22 | AI14: =IF(O17="EF",1,"") -> 1 | AJ14: =IF(O17="EF",L19,"") -> 22
K15: Nb prvlt | L15: 8 | P15: Nb prvlt | Q15: 53 | U15: Nb prvlt | V15: 17 | AB15: =IF(L22="TR",L24,"") -> 67 | AC15: =IF(L22="TR",L25,"") -> 35 | AD15: =IF(L22="TR",L26,"") -> 1.752 | AE15: =IF(N22="TR",N24,"") -> 35 | AF15: =IF(L22="TR",N24,"") -> 35 | AG15: =IF(N22="TR",1,"") -> 1 | AH15: =IF(N22="TR",L24,"") -> 67 | AI15: =IF(O22="EF",1,"") -> 1 | AJ15: =IF(O22="EF",L24,"") -> 67
K16: Tonnage | L16: 4.728 | P16: Tonnage | Q16: 1.778 | U16: Tonnage | V16: 0.911 | AB16: =IF(L27="TR",L29,"") -> 7 | AC16: =IF(L27="TR",L30,"") -> 5 | AD16: =IF(L27="TR",L31,"") -> 0.182 | AE16: =IF(N27="TR",N29,"") -> 6 | AF16: =IF(L27="TR",N29,"") -> 6 | AG16: =IF(N27="TR",1,"") -> 1 | AH16: =IF(N27="TR",L29,"") -> 7 | AI16: =IF(O27="EF",1,"") | AJ16: =IF(O27="EF",L29,"")
K17: 501-25/05 | L17: TR | N17: TR | O17: EF | P17: 504-25/05 | Q17: TR | S17: TR | U17: 525-26/05 | V17: TR | X17: TR | AB17: =IF(L32="TR",L34,"") -> 10 | AC17: =IF(L32="TR",L35,"") -> 21 | AD17: =IF(L32="TR",L36,"") -> 0.851 | AE17: =IF(N32="TR",N34,"") -> 6 | AF17: =IF(L32="TR",N34,"") -> 6 | AG17: =IF(N32="TR",1,"") -> 1 | AH17: =IF(N32="TR",L34,"") -> 10 | AI17: =IF(O32="EF",1,"") -> 1 | AJ17: =IF(O32="EF",L34,"") -> 10
AB18: =IF(L37="TR",L39,"") -> 9 | AC18: =IF(L37="TR",L40,"") -> 6 | AD18: =IF(L37="TR",L41,"") -> 0.249 | AE18: =IF(N37="TR",N39,"") -> 5 | AF18: =IF(L37="TR",N39,"") -> 5 | AG18: =IF(N37="TR",1,"") -> 1 | AH18: =IF(N37="TR",L39,"") -> 9 | AI18: =IF(O37="EF",1,"") | AJ18: =IF(O37="EF",L39,"")
K19: TOTAL | L19: 22 | M19: Nb SEB | N19: 17 | P19: TOTAL | Q19: 18 | R19: Nb SEB | S19: 9 | U19: TOTAL | V19: 13 | W19: Nb SEB | X19: 6 | AB19: =IF(Q12="TR",Q14,"") -> 67 | AC19: =IF(Q12="TR",Q15,"") -> 53 | AD19: =IF(Q12="TR",Q16,"") -> 1.778 | AE19: =IF(S12="TR",S14,"") -> 67 | AF19: =IF(Q12="TR",S14,"") -> 67 | AG19: =IF(S12="TR",1,"") -> 1 | AH19: =IF(S12="TR",Q14,"") -> 67 | AI19: =IF(T12="EF",1,"") | AJ19: =IF(T12="EF",Q14,"")
K20: Nb prvlt | L20: 12 | P20: Nb prvlt | Q20: 13 | U20: Nb prvlt | V20: 12 | AB20: =IF(Q17="TR",Q19,"") -> 18 | AC20: =IF(Q17="TR",Q20,"") -> 13 | AD20: =IF(Q17="TR",Q21,"") -> 0.412 | AE20: =IF(S17="TR",S19,"") -> 9 | AF20: =IF(Q17="TR",S19,"") -> 9 | AG20: =IF(S17="TR",1,"") -> 1 | AH20: =IF(S17="TR",Q19,"") -> 18 | AI20: =IF(T17="EF",1,"") | AJ20: =IF(T17="EF",Q19,"")
K21: Tonnage | L21: 0.642 | P21: Tonnage | Q21: 0.412 | U21: Tonnage | V21: 0.411 | AB21: =IF(Q22="TR",Q24,"") -> 49 | AC21: =IF(Q22="TR",Q25,"") -> 31 | AD21: =IF(Q22="TR",Q26,"") -> 1.172 | AE21: =IF(S22="TR",S24,"") -> 35 | AF21: =IF(Q22="TR",S24,"") -> 35 | AG21: =IF(S22="TR",1,"") -> 1 | AH21: =IF(S22="TR",Q24,"") -> 49 | AI21: =IF(T22="EF",1,"") | AJ21: =IF(T22="EF",Q24,"")
K22: 502-25/05 | L22: TR | N22: TR | O22: EF | P22: 505-25/05 | Q22: TR | S22: TR | U22: 526-26/05 | V22: TR | X22: TR | AB22: =IF(Q27="TR",Q29,"") -> 92 | AC22: =IF(Q27="TR",Q30,"") -> 34 | AD22: =IF(Q27="TR",Q31,"") -> 1.312 | AE22: =IF(S27="TR",S29,"") -> 13 | AF22: =IF(Q27="TR",S29,"") -> 13 | AG22: =IF(S27="TR",1,"") -> 1 | AH22: =IF(S27="TR",Q29,"") -> 92 | AI22: =IF(T27="EF",1,"") -> 1 | AJ22: =IF(T27="EF",Q29,"") -> 92
AB23: =IF(Q32="TR",Q34,"") -> 134 | AC23: =IF(Q32="TR",Q35,"") -> 59 | AD23: =IF(Q32="TR",Q36,"") -> 4.328 | AE23: =IF(S32="TR",S34,"") -> 61 | AF23: =IF(Q32="TR",S34,"") -> 61 | AG23: =IF(S32="TR",1,"") -> 1 | AH23: =IF(S32="TR",Q34,"") -> 134 | AI23: =IF(T32="EF",1,"") | AJ23: =IF(T32="EF",Q34,"")
K24: TOTAL | L24: 67 | M24: Nb SEB | N24: 35 | P24: TOTAL | Q24: 49 | R24: Nb SEB | S24: 35 | U24: TOTAL | V24: 21 | W24: Nb SEB | X24: 7 | AB24: =IF(Q37="TR",Q39,"") -> 43 | AC24: =IF(Q37="TR",Q40,"") -> 11 | AD24: =IF(Q37="TR",Q41,"") -> 0.426 | AE24: =IF(S37="TR",S39,"") -> 34 | AF24: =IF(Q37="TR",S39,"") -> 34 | AG24: =IF(S37="TR",1,"") -> 1 | AH24: =IF(S37="TR",Q39,"") -> 43 | AI24: =IF(T37="EF",1,"") | AJ24: =IF(T37="EF",Q39,"")
K25: Nb prvlt | L25: 35 | P25: Nb prvlt | Q25: 31 | U25: Nb prvlt | V25: 4 | AB25: =IF(V12="TR",V14,"") -> 105 | AC25: =IF(V12="TR",V15,"") -> 17 | AD25: =IF(V12="TR",V16,"") -> 0.911 | AE25: =IF(X12="TR",X14,"") -> 52 | AF25: =IF(V12="TR",X14,"") -> 52 | AG25: =IF(X12="TR",1,"") -> 1 | AH25: =IF(X12="TR",V14,"") -> 105 | AI25: =IF(Y12="EF",1,"") | AJ25: =IF(Y12="EF",V14,"")
K26: Tonnage | L26: 1.752 | P26: Tonnage | Q26: 1.172 | U26: Tonnage | V26: 0.332 | AB26: =IF(V17="TR",V19,"") -> 13 | AC26: =IF(V17="TR",V20,"") -> 12 | AD26: =IF(V17="TR",V21,"") -> 0.411 | AE26: =IF(X17="TR",X19,"") -> 6 | AF26: =IF(V17="TR",X19,"") -> 6 | AG26: =IF(X17="TR",1,"") -> 1 | AH26: =IF(X17="TR",V19,"") -> 13 | AI26: =IF(Y17="EF",1,"") | AJ26: =IF(Y17="EF",V19,"")
K27: 505-26/05 | L27: TR | N27: TR | P27: 509-25/05 | Q27: TR | S27: TR | T27: EF | U27: 540-26/05 | V27: TR | X27: TR | AB27: =IF(V22="TR",V24,"") -> 21 | AC27: =IF(V22="TR",V25,"") -> 4 | AD27: =IF(V22="TR",V26,"") -> 0.332 | AE27: =IF(X22="TR",X24,"") -> 7 | AF27: =IF(V22="TR",X24,"") -> 7 | AG27: =IF(X22="TR",1,"") -> 1 | AH27: =IF(X22="TR",V24,"") -> 21 | AI27: =IF(Y22="EF",1,"") | AJ27: =IF(Y22="EF",V24,"")
AB28: =IF(V27="TR",V29,"") -> 331 | AC28: =IF(V27="TR",V30,"") -> 34 | AD28: =IF(V27="TR",V31,"") -> 9.645 | AE28: =IF(X27="TR",X29,"") -> 215 | AF28: =IF(V27="TR",X29,"") -> 215 | AG28: =IF(X27="TR",1,"") -> 1 | AH28: =IF(X27="TR",V29,"") -> 331 | AI28: =IF(Y27="EF",1,"") | AJ28: =IF(Y27="EF",V29,"")
K29: TOTAL | L29: 7 | M29: Nb SEB | N29: 6 | P29: TOTAL | Q29: 92 | R29: Nb SEB | S29: 13 | U29: TOTAL | V29: 331 | W29: Nb SEB | X29: 215 | AB29: =IF(V32="TR",V34,"") | AC29: =IF(V32="TR",V35,"") | AD29: =IF(V32="TR",V36,"") | AE29: =IF(X32="TR",X34,"") | AF29: =IF(V32="TR",X34,"") | AG29: =IF(X32="TR",1,"") | AH29: =IF(X32="TR",V34,"") | AI29: =IF(Y32="EF",1,"") | AJ29: =IF(Y32="EF",V34,"")
K30: Nb prvlt | L30: 5 | P30: Nb prvlt | Q30: 34 | U30: Nb prvlt | V30: 34 | AB30: =IF(V37="TR",V39,"") | AC30: =IF(V37="TR",V40,"") | AD30: =IF(V37="TR",V41,"") | AE30: =IF(X37="TR",X39,"") | AF30: =IF(V37="TR",X39,"") | AG30: =IF(X37="TR",1,"") | AH30: =IF(X37="TR",V39,"") | AI30: =IF(Y37="EF",1,"") | AJ30: =IF(Y37="EF",V39,"")
K31: Tonnage | L31: 0.182 | P31: Tonnage | Q31: 1.312 | U31: Tonnage | V31: 9.645
K32: 504-26/05 | L32: TR | N32: TR | O32: EF | P32: 513-25/05 | Q32: TR | S32: TR
K34: TOTAL | L34: 10 | M34: Nb SEB | N34: 6 | P34: TOTAL | Q34: 134 | R34: Nb SEB | S34: 61 | U34: TOTAL | W34: Nb SEB
K35: Nb prvlt | L35: 21 | P35: Nb prvlt | Q35: 59 | U35: Nb prvlt
K36: Tonnage | L36: 0.851 | P36: Tonnage | Q36: 4.328 | U36: Tonnage
K37: 502-26/05 | L37: TR | N37: TR | P37: 522-26/05 | Q37: TR | S37: TR
K39: TOTAL | L39: 9 | M39: Nb SEB | N39: 5 | P39: TOTAL | Q39: 43 | R39: Nb SEB | S39: 34 | U39: TOTAL | W39: Nb SEB
K40: Nb prvlt | L40: 6 | P40: Nb prvlt | Q40: 11 | U40: Nb prvlt
K41: Tonnage | L41: 0.249 | P41: Tonnage | Q41: 0.426 | U41: Tonnage
A44: =A1+1 -> 42514
A47: Planning préparation | F47: Objectif SEB + PAC (J+1) | K47: Prod Prépa | P47: État (instant t) | U47: Reste à expédier
A48: Tonnage jour | D48: =SUM(L59,L64,L69,L74,L79,L84,Q59,Q64,Q69,Q74,Q79,Q84,V59,V64,V69,V74,V79,V84) -> 30.794 | F48: Nb colis à SEB | I48: =SUM(N57,N62,N67,N72,N77,N82,S57,S62,S67,S72,S77,S82,X57,X62,X67,X72,X77,X82) -> 679 | K48: Nb colis préparés | N48: =AB55 -> 1132 | P48: Nb colis SEB | S48: =AE55 -> 286 | U48: Nb dossier à quai | X48: =AG55-AI55 -> 11
A49: Nb colis à préparer | D49: =SUM(L57,L62,L67,L72,L77,L82,Q57,Q62,Q67,Q72,Q77,Q82,V57,V62,V67,V72,V77,V82) -> 1132 | F49: Nb colis nus | I49: =D49-I48 -> 453 | K49: Nb prélèvement | N49: =AC55 -> 211 | P49: NB colis devant chaîne | S49: =AF55-AE55 -> 393 | U49: Nb colis à quai | X49: =AH55-AJ55 -> 715
A50: Nb de lignes | D50: =SUM(L58,L63,L68,L73,L78,L83,Q58,Q63,Q68,Q73,Q78,Q83,V58,V63,V68,V73,V78,V83) -> 211 | K50: Tonnage effectué | N50: =AD55 -> 30.794
A51: Nb de dossier | D51: =COUNTA(K55,K60,K65,K70,K75,K80,P55,P60,P65,P70,P75,P80,U55,U60,U65,U70,U75,U80) -> 14
K52: Reste à prélever | N52: =D49-N48 -> 0 | P52: Reste à suremballer | S52: =I48-S48 -> 393
K53: Nb lignes restantes | N53: =D50-N49 -> 0
A54: ÉQUIPE 1 | F54: ÉQUIPE 2 | K54: ÉQUIPE 3 | P54: ÉQUIPE 4 | U54: ÉQUIPE 5 | AB54: Prépa | AE54: SEB | AG54: Zone PAP
K55: 501-26/05 | L55: TR | N55: TR | P55: 503-26/05 | Q55: TR | S55: TR | T55: EF | U55: 506-30/05 | V55: TR | X55: LA | AB55: =SUM(AB56:AB73) -> 1132 | AC55: =SUM(AC56:AC73) -> 211 | AD55: =SUM(AD56:AD73) -> 30.794 | AE55: =SUM(AE56:AE73) -> 286 | AF55: =SUM(AF56:AF73) -> 679 | AG55: =SUM(AG56:AG73) -> 13 | AH55: =SUM(AH56:AH73) -> 724 | AI55: =SUM(AI56:AI73) -> 2 | AJ55: =SUM(AJ56:AJ73) -> 9
AB56: =IF(L55="TR",L57,"") -> 37 | AC56: =IF(L55="TR",L58,"") -> 28 | AD56: =IF(L55="TR",L59,"") -> 1.34 | AE56: =IF(N55="TR",N57,"") -> 35 | AF56: =IF(L55="TR",N57,"") -> 35 | AG56: =IF(N55="TR",1,"") -> 1 | AH56: =IF(N55="TR",L57,"") -> 37 | AI56: =IF(O55="EF",1,"") | AJ56: =IF(O55="EF",L57,"")
K57: TOTAL | L57: 37 | M57: Nb SEB | N57: 35 | P57: TOTAL | Q57: 2 | R57: Nb SEB | S57: 2 | U57: TOTAL | V57: 408 | W57: Nb SEB | X57: 393 | AB57: =IF(L60="TR",L62,"") -> 60 | AC57: =IF(L60="TR",L63,"") -> 29 | AD57: =IF(L60="TR",L64,"") -> 2.336 | AE57: =IF(N60="TR",N62,"") -> 54 | AF57: =IF(L60="TR",N62,"") -> 54 | AG57: =IF(N60="TR",1,"") -> 1 | AH57: =IF(N60="TR",L62,"") -> 60 | AI57: =IF(O60="EF",1,"") | AJ57: =IF(O60="EF",L62,"")
K58: Nb prvlt | L58: 28 | P58: Nb prvlt | Q58: 2 | U58: Nb prvlt | V58: 9 | AB58: =IF(L65="TR",L67,"") -> 7 | AC58: =IF(L65="TR",L68,"") -> 5 | AD58: =IF(L65="TR",L69,"") -> 0.173 | AE58: =IF(N65="TR",N67,"") -> 5 | AF58: =IF(L65="TR",N67,"") -> 5 | AG58: =IF(N65="TR",1,"") -> 1 | AH58: =IF(N65="TR",L67,"") -> 7 | AI58: =IF(O65="EF",1,"") -> 1 | AJ58: =IF(O65="EF",L67,"") -> 7
K59: Tonnage | L59: 1.34 | P59: Tonnage | Q59: 0.049 | U59: Tonnage | V59: 15.358 | AB59: =IF(L70="TR",L72,"") -> 40 | AC59: =IF(L70="TR",L73,"") -> 32 | AD59: =IF(L70="TR",L74,"") -> 1.055 | AE59: =IF(N70="TR",N72,"") -> 31 | AF59: =IF(L70="TR",N72,"") -> 31 | AG59: =IF(N70="TR",1,"") -> 1 | AH59: =IF(N70="TR",L72,"") -> 40 | AI59: =IF(O70="EF",1,"") | AJ59: =IF(O70="EF",L72,"")
K60: 510-26/05 | L60: TR | N60: TR | P60: 512-26/05 | Q60: TR | S60: TR | U60: 533-26/05 | V60: TR | X60: TR | AB60: =IF(L75="TR",L77,"") -> 20 | AC60: =IF(L75="TR",L78,"") -> 14 | AD60: =IF(L75="TR",L79,"") -> 0.488 | AE60: =IF(N75="TR",N77,"") -> 10 | AF60: =IF(L75="TR",N77,"") -> 10 | AG60: =IF(N75="TR",1,"") -> 1 | AH60: =IF(N75="TR",L77,"") -> 20 | AI60: =IF(O75="EF",1,"") | AJ60: =IF(O75="EF",L77,"")
AB61: =IF(L80="TR",L82,"") -> 28 | AC61: =IF(L80="TR",L83,"") -> 16 | AD61: =IF(L80="TR",L84,"") -> 0.676 | AE61: =IF(N80="TR",N82,"") -> 16 | AF61: =IF(L80="TR",N82,"") -> 16 | AG61: =IF(N80="TR",1,"") -> 1 | AH61: =IF(N80="TR",L82,"") -> 28 | AI61: =IF(O80="EF",1,"") | AJ61: =IF(O80="EF",L82,"")
K62: TOTAL | L62: 60 | M62: Nb SEB | N62: 54 | P62: TOTAL | Q62: 162 | R62: Nb SEB | S62: 17 | U62: TOTAL | V62: 24 | W62: Nb SEB | X62: 24 | AB62: =IF(Q55="TR",Q57,"") -> 2 | AC62: =IF(Q55="TR",Q58,"") -> 2 | AD62: =IF(Q55="TR",Q59,"") -> 0.049 | AE62: =IF(S55="TR",S57,"") -> 2 | AF62: =IF(Q55="TR",S57,"") -> 2 | AG62: =IF(S55="TR",1,"") -> 1 | AH62: =IF(S55="TR",Q57,"") -> 2 | AI62: =IF(T55="EF",1,"") -> 1 | AJ62: =IF(T55="EF",Q57,"") -> 2
K63: Nb prvlt | L63: 29 | P63: Nb prvlt | Q63: 21 | U63: Nb prvlt | V63: 17 | AB63: =IF(Q60="TR",Q62,"") -> 162 | AC63: =IF(Q60="TR",Q63,"") -> 21 | AD63: =IF(Q60="TR",Q64,"") -> 1.882 | AE63: =IF(S60="TR",S62,"") -> 17 | AF63: =IF(Q60="TR",S62,"") -> 17 | AG63: =IF(S60="TR",1,"") -> 1 | AH63: =IF(S60="TR",Q62,"") -> 162 | AI63: =IF(T60="EF",1,"") | AJ63: =IF(T60="EF",Q62,"")
K64: Tonnage | L64: 2.336 | P64: Tonnage | Q64: 1.882 | U64: Tonnage | V64: 0.626 | AB64: =IF(Q65="TR",Q67,"") -> 185 | AC64: =IF(Q65="TR",Q68,"") -> 22 | AD64: =IF(Q65="TR",Q69,"") -> 1.854 | AE64: =IF(S65="TR",S67,"") -> 15 | AF64: =IF(Q65="TR",S67,"") -> 15 | AG64: =IF(S65="TR",1,"") -> 1 | AH64: =IF(S65="TR",Q67,"") -> 185 | AI64: =IF(T65="EF",1,"") | AJ64: =IF(T65="EF",Q67,"")
K65: 509-26/05 | L65: TR | N65: TR | O65: EF | P65: 513-26/05 | Q65: TR | S65: TR | AB65: =IF(Q70="TR",Q72,"") -> 19 | AC65: =IF(Q70="TR",Q73,"") -> 3 | AD65: =IF(Q70="TR",Q74,"") -> 0.567 | AE65: =IF(S70="TR",S72,"") -> 9 | AF65: =IF(Q70="TR",S72,"") -> 9 | AG65: =IF(S70="TR",1,"") -> 1 | AH65: =IF(S70="TR",Q72,"") -> 19 | AI65: =IF(T70="EF",1,"") | AJ65: =IF(T70="EF",Q72,"")
AB66: =IF(Q75="TR",Q77,"") -> 56 | AC66: =IF(Q75="TR",Q78,"") -> 6 | AD66: =IF(Q75="TR",Q79,"") -> 1.778 | AE66: =IF(S75="TR",S77,"") -> 56 | AF66: =IF(Q75="TR",S77,"") -> 56 | AG66: =IF(S75="TR",1,"") -> 1 | AH66: =IF(S75="TR",Q77,"") -> 56 | AI66: =IF(T75="EF",1,"") | AJ66: =IF(T75="EF",Q77,"")
K67: TOTAL | L67: 7 | M67: Nb SEB | N67: 5 | P67: TOTAL | Q67: 185 | R67: Nb SEB | S67: 15 | U67: TOTAL | W67: Nb SEB | AB67: =IF(Q80="TR",Q82,"") -> 84 | AC67: =IF(Q80="TR",Q83,"") -> 7 | AD67: =IF(Q80="TR",Q84,"") -> 2.612 | AE67: =IF(S80="TR",S82,"") -> 12 | AF67: =IF(Q80="TR",S82,"") -> 12 | AG67: =IF(S80="TR",1,"") -> 1 | AH67: =IF(S80="TR",Q82,"") -> 84 | AI67: =IF(T80="EF",1,"") | AJ67: =IF(T80="EF",Q82,"")
K68: Nb prvlt | L68: 5 | P68: Nb prvlt | Q68: 22 | U68: Nb prvlt | AB68: =IF(V55="TR",V57,"") -> 408 | AC68: =IF(V55="TR",V58,"") -> 9 | AD68: =IF(V55="TR",V59,"") -> 15.358 | AE68: =IF(X55="TR",X57,"") | AF68: =IF(V55="TR",X57,"") -> 393 | AG68: =IF(X55="TR",1,"") | AH68: =IF(X55="TR",V57,"") | AI68: =IF(Y55="EF",1,"") | AJ68: =IF(Y55="EF",V57,"")
K69: Tonnage | L69: 0.173 | P69: Tonnage | Q69: 1.854 | U69: Tonnage | AB69: =IF(V60="TR",V62,"") -> 24 | AC69: =IF(V60="TR",V63,"") -> 17 | AD69: =IF(V60="TR",V64,"") -> 0.626 | AE69: =IF(X60="TR",X62,"") -> 24 | AF69: =IF(V60="TR",X62,"") -> 24 | AG69: =IF(X60="TR",1,"") -> 1 | AH69: =IF(X60="TR",V62,"") -> 24 | AI69: =IF(Y60="EF",1,"") | AJ69: =IF(Y60="EF",V62,"")
K70: 508-26/05 | L70: TR | N70: TR | P70: 514-26/05 | Q70: TR | S70: TR | AB70: =IF(V65="TR",V67,"") | AC70: =IF(V65="TR",V68,"") | AD70: =IF(V65="TR",V69,"") | AE70: =IF(X65="TR",X67,"") | AF70: =IF(V65="TR",X67,"") | AG70: =IF(X65="TR",1,"") | AH70: =IF(X65="TR",V67,"") | AI70: =IF(Y65="EF",1,"") | AJ70: =IF(Y65="EF",V67,"")
AB71: =IF(V70="TR",V72,"") | AC71: =IF(V70="TR",V73,"") | AD71: =IF(V70="TR",V74,"") | AE71: =IF(X70="TR",X72,"") | AF71: =IF(V70="TR",X72,"") | AG71: =IF(X70="TR",1,"") | AH71: =IF(X70="TR",V72,"") | AI71: =IF(Y70="EF",1,"") | AJ71: =IF(Y70="EF",V72,"")
K72: TOTAL | L72: 40 | M72: Nb SEB | N72: 31 | P72: TOTAL | Q72: 19 | R72: Nb SEB | S72: 9 | U72: TOTAL | W72: Nb SEB | AB72: =IF(V75="TR",V77,"") | AC72: =IF(V75="TR",V78,"") | AD72: =IF(V75="TR",V79,"") | AE72: =IF(X75="TR",X77,"") | AF72: =IF(V75="TR",X77,"") | AG72: =IF(X75="TR",1,"") | AH72: =IF(X75="TR",V77,"") | AI72: =IF(Y75="EF",1,"") | AJ72: =IF(Y75="EF",V77,"")
K73: Nb prvlt | L73: 32 | P73: Nb prvlt | Q73: 3 | U73: Nb prvlt | AB73: =IF(V80="TR",V82,"") | AC73: =IF(V80="TR",V83,"") | AD73: =IF(V80="TR",V84,"") | AE73: =IF(X80="TR",X82,"") | AF73: =IF(V80="TR",X82,"") | AG73: =IF(X80="TR",1,"") | AH73: =IF(X80="TR",V82,"") | AI73: =IF(Y80="EF",1,"") | AJ73: =IF(Y80="EF",V82,"")
K74: Tonnage | L74: 1.055 | P74: Tonnage | Q74: 0.567 | U74: Tonnage
K75: 507-26/05 | L75: TR | N75: TR | P75: 520-26/05 | Q75: TR | S75: TR
O76: =L77 -> 20
K77: TOTAL | L77: 20 | M77: Nb SEB | N77: 10 | P77: TOTAL | Q77: 56 | R77: Nb SEB | S77: 56 | U77: TOTAL | W77: Nb SEB
K78: Nb prvlt | L78: 14 | N78: =L77 -> 20 | P78: Nb prvlt | Q78: 6 | U78: Nb prvlt
K79: Tonnage | L79: 0.488 | N79: =COUNTA(K75) -> 1 | P79: Tonnage | Q79: 1.778 | U79: Tonnage
K80: 506-26/05 | L80: TR | N80: TR | P80: 521-26/05 | Q80: TR | S80: TR
O81: =L82 -> 28
K82: TOTAL | L82: 28 | M82: Nb SEB | N82: 16 | P82: TOTAL | Q82: 84 | R82: Nb SEB | S82: 12 | U82: TOTAL | W82: Nb SEB
K83: Nb prvlt | L83: 16 | N83: =L82 -> 28 | P83: Nb prvlt | Q83: 7 | U83: Nb prvlt
K84: Tonnage | L84: 0.676 | N84: =COUNTA(K80) -> 1 | P84: Tonnage | Q84: 2.612 | U84: Tonnage
A87: =A1+2 -> 42515
A90: Planning préparation | F90: Objectif SEB + PAC (J+1) | K90: Prod Prépa | P90: État (instant t) | U90: Reste à expédier
A91: Tonnage jour | D91: =SUM(L102,L107,L112,L117,L122,L127,Q102,Q107,Q112,Q117,Q122,Q127,V102,V107,V112,V117,V122,V127) -> 24.267 | F91: Nb colis à SEB | I91: =SUM(N100,N105,N110,N115,N120,N125,S100,S105,S110,S115,S120,S125,X100,X105,X110,X115,X120,X125) -> 422 | K91: Nb colis préparés | N91: =AB98 -> 636 | P91: Nb colis SEB | S91: =AE98 -> 10 | U91: Nb dossier à quai | X91: =AG98-AI98 -> 1
A92: Nb colis à préparer | D92: =SUM(L100,L105,L110,L115,L120,L125,Q100,Q105,Q110,Q115,Q120,Q125,V100,V105,V110,V115,V120,V125) -> 972 | F92: Nb colis nus | I92: =D92-I91 -> 550 | K92: Nb prélèvement | N92: =AC98 -> 77 | P92: NB colis devant chaîne | S92: =AF98-AE98 -> 404 | U92: Nb colis à quai | X92: =AH98-AJ98 -> 10
A93: Nb de lignes | D93: =SUM(L101,L106,L111,L116,L121,L126,Q101,Q106,Q111,Q116,Q121,Q126,V101,V106,V111,V116,V121,V126) -> 190 | K93: Tonnage effectué | N93: =AD98 -> 16.519
A94: Nb de dossier | D94: =COUNTA(K98,K103,K108,K113,K118,K123,P98,P103,P108,P113,P118,P123,U98,U103,U108,U113,U118,U123) -> 7
K95: Reste à prélever | N95: =D92-N91 -> 336 | P95: Reste à suremballer | S95: =I91-S91 -> 412
K96: Nb lignes restantes | N96: =D93-N92 -> 113
A97: ÉQUIPE 1 | F97: ÉQUIPE 2 | K97: ÉQUIPE 3 | P97: ÉQUIPE 4 | U97: ÉQUIPE 5 | AB97: Prépa | AE97: SEB | AG97: Zone PAP
K98: 500-27/05 | L98: TR | N98: TR | P98: 517-27/05 | Q98: TR | AB98: =SUM(AB99:AB116) -> 636 | AC98: =SUM(AC99:AC116) -> 77 | AD98: =SUM(AD99:AD116) -> 16.519 | AE98: =SUM(AE99:AE116) -> 10 | AF98: =SUM(AF99:AF116) -> 414 | AG98: =SUM(AG99:AG116) -> 1 | AH98: =SUM(AH99:AH116) -> 10 | AI98: =SUM(AI99:AI116) -> 0 | AJ98: =SUM(AJ99:AJ116) -> 0
AB99: =IF(L98="TR",L100,"") -> 10 | AC99: =IF(L98="TR",L101,"") -> 8 | AD99: =IF(L98="TR",L102,"") -> 0.359 | AE99: =IF(N98="TR",N100,"") -> 10 | AF99: =IF(L98="TR",N100,"") -> 10 | AG99: =IF(N98="TR",1,"") -> 1 | AH99: =IF(N98="TR",L100,"") -> 10 | AI99: =IF(O98="EF",1,"") | AJ99: =IF(O98="EF",L100,"")
K100: TOTAL | L100: 10 | M100: Nb SEB | N100: 10 | P100: TOTAL | Q100: 20 | R100: Nb SEB | S100: 20 | U100: TOTAL | W100: Nb SEB | AB100: =IF(L103="TR",L105,"") -> 19 | AC100: =IF(L103="TR",L106,"") -> 13 | AD100: =IF(L103="TR",L107,"") -> 0.557 | AE100: =IF(N103="TR",N105,"") | AF100: =IF(L103="TR",N105,"") -> 19 | AG100: =IF(N103="TR",1,"") | AH100: =IF(N103="TR",L105,"") | AI100: =IF(O103="EF",1,"") | AJ100: =IF(O103="EF",L105,"")
K101: Nb prvlt | L101: 8 | P101: Nb prvlt | Q101: 13 | U101: Nb prvlt | AB101: =IF(L108="TR",L110,"") | AC101: =IF(L108="TR",L111,"") | AD101: =IF(L108="TR",L112,"") | AE101: =IF(N108="TR",N110,"") | AF101: =IF(L108="TR",N110,"") | AG101: =IF(N108="TR",1,"") | AH101: =IF(N108="TR",L110,"") | AI101: =IF(O108="EF",1,"") | AJ101: =IF(O108="EF",L110,"")
K102: Tonnage | L102: 0.359 | P102: Tonnage | Q102: 0.62 | U102: Tonnage | AB102: =IF(L113="TR",L115,"") -> 86 | AC102: =IF(L113="TR",L116,"") -> 33 | AD102: =IF(L113="TR",L117,"") -> 2.845 | AE102: =IF(N113="TR",N115,"") | AF102: =IF(L113="TR",N115,"") -> 67 | AG102: =IF(N113="TR",1,"") | AH102: =IF(N113="TR",L115,"") | AI102: =IF(O113="EF",1,"") | AJ102: =IF(O113="EF",L115,"")
K103: 501-27/05 | L103: TR | AB103: =IF(L118="TR",L120,"") -> 464 | AC103: =IF(L118="TR",L121,"") -> 4 | AD103: =IF(L118="TR",L122,"") -> 11.067 | AE103: =IF(N118="TR",N120,"") | AF103: =IF(L118="TR",N120,"") -> 280 | AG103: =IF(N118="TR",1,"") | AH103: =IF(N118="TR",L120,"") | AI103: =IF(O118="EF",1,"") | AJ103: =IF(O118="EF",L120,"")
AB104: =IF(L123="TR",L125,"") -> 37 | AC104: =IF(L123="TR",L126,"") -> 6 | AD104: =IF(L123="TR",L127,"") -> 1.071 | AE104: =IF(N123="TR",N125,"") | AF104: =IF(L123="TR",N125,"") -> 18 | AG104: =IF(N123="TR",1,"") | AH104: =IF(N123="TR",L125,"") | AI104: =IF(O123="EF",1,"") | AJ104: =IF(O123="EF",L125,"")
K105: TOTAL | L105: 19 | M105: Nb SEB | N105: 19 | P105: TOTAL | R105: Nb SEB | U105: TOTAL | W105: Nb SEB | AB105: =IF(Q98="TR",Q100,"") -> 20 | AC105: =IF(Q98="TR",Q101,"") -> 13 | AD105: =IF(Q98="TR",Q102,"") -> 0.62 | AE105: =IF(S98="TR",S100,"") | AF105: =IF(Q98="TR",S100,"") -> 20 | AG105: =IF(S98="TR",1,"") | AH105: =IF(S98="TR",Q100,"") | AI105: =IF(T98="EF",1,"") | AJ105: =IF(T98="EF",Q100,"")
K106: Nb prvlt | L106: 13 | P106: Nb prvlt | U106: Nb prvlt | AB106: =IF(Q103="TR",Q105,"") | AC106: =IF(Q103="TR",Q106,"") | AD106: =IF(Q103="TR",Q107,"") | AE106: =IF(S103="TR",S105,"") | AF106: =IF(Q103="TR",S105,"") | AG106: =IF(S103="TR",1,"") | AH106: =IF(S103="TR",Q105,"") | AI106: =IF(T103="EF",1,"") | AJ106: =IF(T103="EF",Q105,"")
K107: Tonnage | L107: 0.557 | P107: Tonnage | U107: Tonnage | AB107: =IF(Q108="TR",Q110,"") | AC107: =IF(Q108="TR",Q111,"") | AD107: =IF(Q108="TR",Q112,"") | AE107: =IF(S108="TR",S110,"") | AF107: =IF(Q108="TR",S110,"") | AG107: =IF(S108="TR",1,"") | AH107: =IF(S108="TR",Q110,"") | AI107: =IF(T108="EF",1,"") | AJ107: =IF(T108="EF",Q110,"")
K108: 502-27/05 | AB108: =IF(Q113="TR",Q115,"") | AC108: =IF(Q113="TR",Q116,"") | AD108: =IF(Q113="TR",Q117,"") | AE108: =IF(S113="TR",S115,"") | AF108: =IF(Q113="TR",S115,"") | AG108: =IF(S113="TR",1,"") | AH108: =IF(S113="TR",Q115,"") | AI108: =IF(T113="EF",1,"") | AJ108: =IF(T113="EF",Q115,"")
AB109: =IF(Q118="TR",Q120,"") | AC109: =IF(Q118="TR",Q121,"") | AD109: =IF(Q118="TR",Q122,"") | AE109: =IF(S118="TR",S120,"") | AF109: =IF(Q118="TR",S120,"") | AG109: =IF(S118="TR",1,"") | AH109: =IF(S118="TR",Q120,"") | AI109: =IF(T118="EF",1,"") | AJ109: =IF(T118="EF",Q120,"")
K110: TOTAL | L110: 336 | M110: Nb SEB | N110: 8 | P110: TOTAL | R110: Nb SEB | U110: TOTAL | W110: Nb SEB | AB110: =IF(Q123="TR",Q125,"") | AC110: =IF(Q123="TR",Q126,"") | AD110: =IF(Q123="TR",Q127,"") | AE110: =IF(S123="TR",S125,"") | AF110: =IF(Q123="TR",S125,"") | AG110: =IF(S123="TR",1,"") | AH110: =IF(S123="TR",Q125,"") | AI110: =IF(T123="EF",1,"") | AJ110: =IF(T123="EF",Q125,"")
K111: Nb prvlt | L111: 113 | P111: Nb prvlt | U111: Nb prvlt | AB111: =IF(V98="TR",V100,"") | AC111: =IF(V98="TR",V101,"") | AD111: =IF(V98="TR",V102,"") | AE111: =IF(X98="TR",X100,"") | AF111: =IF(V98="TR",X100,"") | AG111: =IF(X98="TR",1,"") | AH111: =IF(X98="TR",V100,"") | AI111: =IF(Y98="EF",1,"") | AJ111: =IF(Y98="EF",V100,"")
K112: Tonnage | L112: 7.748 | P112: Tonnage | U112: Tonnage | AB112: =IF(V103="TR",V105,"") | AC112: =IF(V103="TR",V106,"") | AD112: =IF(V103="TR",V107,"") | AE112: =IF(X103="TR",X105,"") | AF112: =IF(V103="TR",X105,"") | AG112: =IF(X103="TR",1,"") | AH112: =IF(X103="TR",V105,"") | AI112: =IF(Y103="EF",1,"") | AJ112: =IF(Y103="EF",V105,"")
...

Sheet Récap
A1: Date | C1: État zone PAP
B2: Nb colis devant chaîne | C2: Nb de dossiers | D2: Nb de colis
A3: 42491 | B3: =IF(A3=TODAY(),SUM('[1]S1:S52'!$AD$7),"") | C3: =IF(A3=TODAY(),SUM('[1]S1:S52'!$AD$5),"") | D3: =IF(A3=TODAY(),SUM('[1]S1:S52'!$AD$6),"")
A4: 42492 | B4: =IF(A4>TODAY(),"",SUM('S18:S21'!$AD$7)) -> 797 | C4: =IF(A4>TODAY(),"",SUM('S18:S21'!$AD$5)) -> 45 | D4: =IF(A4>TODAY(),"",SUM('S18:S21'!$AD$6)) -> 3977 | E4: Je voudrai connaître la valeur de la somme au dernier enregistrement du 02/05/2016
A5: 42493 | B5: =IF(A5>TODAY(),"",SUM('S18:S21'!$AD$7)) -> 797 | C5: =IF(A5>TODAY(),"",SUM('S18:S21'!$AD$5)) -> 45 | D5: =IF(A5>TODAY(),"",SUM('S18:S21'!$AD$6)) -> 3977
A6: 42494 | B6: =IF(A6>TODAY(),"",SUM('S18:S21'!$AD$7)) -> 797 | C6: =IF(A6>TODAY(),"",SUM('S18:S21'!$AD$5)) -> 45 | D6: =IF(A6>TODAY(),"",SUM('S18:S21'!$AD$6)) -> 3977
A7: 42495 | B7: =IF(A7>TODAY(),"",SUM('S18:S21'!$AD$7)) -> 797 | C7: =IF(A7>TODAY(),"",SUM('S18:S21'!$AD$5)) -> 45 | D7: =IF(A7>TODAY(),"",SUM('S18:S21'!$AD$6)) -> 3977
A8: 42496 | B8: =IF(A8>TODAY(),"",SUM('S18:S21'!$AD$7)) -> 797 | C8: =IF(A8>TODAY(),"",SUM('S18:S21'!$AD$5)) -> 45 | D8: =IF(A8>TODAY(),"",SUM('S18:S21'!$AD$6)) -> 3977
A9: 42497 | B9: =IF(A9>TODAY(),"",SUM('S18:S21'!$AD$7)) -> 797 | C9: =IF(A9>TODAY(),"",SUM('S18:S21'!$AD$5)) -> 45 | D9: =IF(A9>TODAY(),"",SUM('S18:S21'!$AD$6)) -> 3977
A10: 42498 | B10: =IF(A10>TODAY(),"",SUM('S18:S21'!$AD$7)) -> 797 | C10: =IF(A10>TODAY(),"",SUM('S18:S21'!$AD$5)) -> 45 | D10: =IF(A10>TODAY(),"",SUM('S18:S21'!$AD$6)) -> 3977
A11: 42499 | B11: =IF(A11>TODAY(),"",SUM('S18:S21'!$AD$7)) -> 797 | C11: =IF(A11>TODAY(),"",SUM('S18:S21'!$AD$5)) -> 45 | D11: =IF(A11>TODAY(),"",SUM('S18:S21'!$AD$6)) -> 3977
A12: 42500 | B12: =IF(A12>TODAY(),"",SUM('S18:S21'!$AD$7)) -> 797 | C12: =IF(A12>TODAY(),"",SUM('S18:S21'!$AD$5)) -> 45 | D12: =IF(A12>TODAY(),"",SUM('S18:S21'!$AD$6)) -> 3977
A13: 42501 | B13: =IF(A13>TODAY(),"",SUM('S18:S21'!$AD$7)) -> 797 | C13: =IF(A13>TODAY(),"",SUM('S18:S21'!$AD$5)) -> 45 | D13: =IF(A13>TODAY(),"",SUM('S18:S21'!$AD$6)) -> 3977
A14: 42502 | B14: =IF(A14>TODAY(),"",SUM('S18:S21'!$AD$7)) -> 797 | C14: =IF(A14>TODAY(),"",SUM('S18:S21'!$AD$5)) -> 45 | D14: =IF(A14>TODAY(),"",SUM('S18:S21'!$AD$6)) -> 3977
A15: 42503 | B15: =IF(A15>TODAY(),"",SUM('S18:S21'!$AD$7)) -> 797 | C15: =IF(A15>TODAY(),"",SUM('S18:S21'!$AD$5)) -> 45 | D15: =IF(A15>TODAY(),"",SUM('S18:S21'!$AD$6)) -> 3977
A16: 42504 | B16: =IF(A16>TODAY(),"",SUM('S18:S21'!$AD$7)) -> 797 | C16: =IF(A16>TODAY(),"",SUM('S18:S21'!$AD$5)) -> 45 | D16: =IF(A16>TODAY(),"",SUM('S18:S21'!$AD$6)) -> 3977
... A26: 42514 | B26: =IF(A26>TODAY(),"",SUM('S18:S21'!$AD$7)) -> 797 | C26: =IF(A26>TODAY(),"",SUM('S18:S21'!$AD$5)) -> 45 | D26: =IF(A26>TODAY(),"",SUM('S18:S21'!$AD$6)) -> 3977
A27: 42515 | B27: =IF(A27>TODAY(),"",SUM('S18:S21'!$AD$7)) -> 797 | C27: =IF(A27>TODAY(),"",SUM('S18:S21'!$AD$5)) -> 45 | D27: =IF(A27>TODAY(),"",SUM('S18:S21'!$AD$6)) -> 3977 | E27: Valeur d'aujourd'hui au dernier enregistrement, demain le 25/05 cette valeur doit-être la même (figer) et ne pas évoluer
A28: 42516 | B28: =IF(A28>TODAY(),"",SUM('S18:S21'!$AD$7)) | C28: =IF(A28>TODAY(),"",SUM('S18:S21'!$AD$5)) | D28: =IF(A28>TODAY(),"",SUM('S18:S21'!$AD$6))
A29: 42517 | B29: =IF(A29>TODAY(),"",SUM('S18:S21'!$AD$7)) | C29: =IF(A29>TODAY(),"",SUM('S18:S21'!$AD$5)) | D29: =IF(A29>TODAY(),"",SUM('S18:S21'!$AD$6))
A30: 42518 | B30: =IF(A30>TODAY(),"",SUM('S18:S21'!$AD$7)) | C30: =IF(A30>TODAY(),"",SUM('S18:S21'!$AD$5)) | D30: =IF(A30>TODAY(),"",SUM('S18:S21'!$AD$6))
A31: 42519 | B31: =IF(A31>TODAY(),"",SUM('S18:S21'!$AD$7)) | C31: =IF(A31>TODAY(),"",SUM('S18:S21'!$AD$5)) | D31: =IF(A31>TODAY(),"",SUM('S18:S21'!$AD$6))
A32: 42520 | B32: =IF(A32>TODAY(),"",SUM('S18:S21'!$AD$7)) | C32: =IF(A32>TODAY(),"",SUM('S18:S21'!$AD$5)) | D32: =IF(A32>TODAY(),"",SUM('S18:S21'!$AD$6))
A33: 42521 | B33: =IF(A33>TODAY(),"",SUM('S18:S21'!$AD$7)) | C33: =IF(A33>TODAY(),"",SUM('S18:S21'!$AD$5)) | D33: =IF(A33>TODAY(),"",SUM('S18:S21'!$AD$6))
