Workbook

Sheet 2014
A1: Maison | B1: Echantillon Reçu | C1: Nombre | D1: Dégusté | E1: Prix | F1: Total
A2: Champagne De Castelnau | B2: Blanc de Blancs 2000 | C2: 1 | D2: 1 | E2: 37 | F2: =E2*C2 -> 37
B3: Brut Millésimé 2004 | C3: 1 | D3: 1 | E3: 37 | F3: =E3*C3 -> 37
B4: Brut Rosé | C4: 1 | D4: 1 | E4: 24 | F4: =E4*C4 -> 24
A5: Champagne Michel Loriot | B5: Authentic Meunier | C5: 2 | D5: 2 | E5: 22 | F5: =E5*C5 -> 44
B6: Cuvée Théodorine | C6: 1 | D6: 1 | E6: 24 | F6: =E6*C6 -> 24
B7: Cuvée Patrimony | C7: 1 | D7: 1 | E7: 23 | F7: =E7*C7 -> 23
B8: Cuvée Palmyre | C8: 1 | D8: 1 | E8: 24 | F8: =E8*C8 -> 24
A9: Champagne Collet | B9: Coffret So Collet "Blanc de Blancs Collection Privée" | C9: 1 | D9: 1 | E9: 56 | F9: =E9*C9 -> 56
B10: Esprit Couture | C10: 1 | D10: 1 | E10: 145 | F10: =E10*C10 -> 145
A11: Champagne Brimoncourt | B11: Brut Rosé | C11: 1 | D11: 1 | E11: 37 | F11: =E11*C11 -> 37
B12: Brut Régence | C12: 1 | D12: 1 | E12: 29 | F12: =E12*C12 -> 29
A13: Champagne Philippe Gonet | B13: Signature Blanc de Blancs | C13: 1 | D13: 1 | E13: 26 | F13: =E13*C13 -> 26
B14: Cuvée Or | C14: 1 | D14: 1 | E14: 69 | F14: =E14*C14 -> 69
A15: Champagne Pannier | B15: Cuvée Louis Eugene "Blanc de Noirs 2009" | C15: 1 | D15: 1 | E15: 31 | F15: =E15*C15 -> 31
B16: Rubis Velours | C16: 1 | D16: 1 | E16: 69 | F16: =E16*C16 -> 69
A17: Champagne Lenoble | B17: Grand Cru Blanc de Blancs Chouilly | C17: 1 | D17: 1 | E17: 32 | F17: =E17*C17 -> 32
B18: Brut Intense | C18: 1 | D18: 1 | E18: 27 | F18: =E18*C18 -> 27
B19: Blanc de Noirs 2009 | C19: 1 | D19: 1 | E19: 45 | F19: =E19*C19 -> 45
A20: Champagne Moët et Chandon | B20: Ice Impérial | C20: 1 | D20: 1 | E20: 52.5 | F20: =E20*C20 -> 52.5
B21: Brut Vintage 2006 | C21: 1 | D21: 1 | E21: 56 | F21: =E21*C21 -> 56
A22: Champagne Mailly Grand Cru | B22: L'intemporelle Rosé 2008 | C22: 1 | D22: 1 | E22: 70 | F22: =E22*C22 -> 70
B23: Magnum Collection 1998 | C23: 1 | E23: 200 | F23: =E23*C23 -> 200
B24: Blanc de Noirs | C24: 1 | D24: 1 | E24: 32 | F24: =E24*C24 -> 32
A25: Chanpagne Nicolas Feuillatte | B25: Brut Réserve | C25: 2 | D25: 2 | E25: 23 | F25: =E25*C25 -> 46
B26: Brut | C26: 1 | D26: 1 | E26: 18 | F26: =E26*C26 -> 18
B27: Brut Chardonnay Millésime 2006 | C27: 1 | D27: 1 | E27: 35 | F27: =E27*C27 -> 35
B28: Cuvée Spécial 2006 | C28: 1 | D28: 1 | E28: 38 | F28: =E28*C28 -> 38
B29: Palme D'or 2004 | C29: 1 | D29: 1 | E29: 99 | F29: =E29*C29 -> 99
B30: Cuvée 225 Rosé 2006 | C30: 1 | D30: 1 | E30: 53 | F30: =E30*C30 -> 53
B31: Brut Rosé | C31: 2 | D31: 2 | E31: 25 | F31: =E31*C31 -> 50
A32: Chanmpagne Henriot | B32: Brut Rosé | C32: 1 | D32: 1 | E32: 35 | F32: =E32*C32 -> 35
B33: Rosé Millésimé 2008 | C33: 1 | D33: 1 | E33: 43 | F33: =E33*C33 -> 43
B34: Brut Souverain | C34: 1 | D34: 1 | E34: 29 | F34: =E34*C34 -> 29
B35: Blanc de Blancs | C35: 2 | D35: 2 | E35: 40 | F35: =E35*C35 -> 80
A36: Champagne De Saint Gall | B36: Extra Brut By Doucet | C36: 1 | D36: 1 | E36: 40 | F36: =E36*C36 -> 40
A37: Champagne Pol Roger | B37: Brut Vintage 2004 | C37: 1 | D37: 1 | E37: 50 | F37: =E37*C37 -> 50
B38: Brut Vintage Rosé 2006 | C38: 1 | D38: 1 | E38: 70 | F38: =E38*C38 -> 70
B39: Brut Reserve | C39: 1 | D39: 1 | E39: 30 | F39: =E39*C39 -> 30
B40: Blanc de Blancs Vintage 2004 | C40: 1 | D40: 1 | E40: 73 | F40: =E40*C40 -> 73
...

Sheet 2015
A1: Maison | B1: Echantillon Reçu | C1: Nombre | D1: Dégusté | E1: Prix | F1: Total
A2: Champagne Pierre Mignon | B2: Cuvée Feminity | C2: 1 | D2: 1 | E2: 35 | F2: =E2*C2 -> 35 | G2: Dégusté | H2: St Valentin
B3: Brut Prestige | C3: 1 | D3: 1 | E3: 18 | F3: =E3*C3 -> 18 | G3: Dégusté | H3: Echantillon Classique
B4: Blanc de Blancs Grand Cru | C4: 2 | D4: 2 | E4: 25 | F4: =E4*C4 -> 50 | G4: Dégusté | H4: Fête des Mères et Pères
B5: Cuvée Magnolia | C5: 1 | D5: 1 | E5: 35 | F5: =E5*C5 -> 35 | G5: Dégusté | H5: Fête des Mères et Pères
B6: Brut Prestige Rosé de Saignée | C6: 1 | D6: 1 | E6: 19 | F6: =E6*C6 -> 19 | G6: Dégusté | H6: Echantillon Classique
B7: Brut Grande Réserve | C7: 1 | D7: 1 | E7: 16.2 | F7: =E7*C7 -> 16.2 | G7: Dégusté | H7: Fêtes de fin d'année
B8: Cuvée Cœur d'Or 2006 | C8: 1 | D8: 1 | E8: 56 | F8: =E8*C8 -> 56 | G8: Dégusté | H8: Fêtes de fin d'année
B9: Année de Madame Millésime 2006 | C9: 1 | D9: 1 | E9: 22.5 | F9: =E9*C9 -> 22.5 | G9: Dégusté | H9: Echantillon Classique
B10: Année de Madame Rosé Millésime 2006 Privilége | C10: 1 | D10: 1 | E10: 56 | F10: =E10*C10 -> 56 | G10: Dégusté | H10: Echantillon Classique
B11: Cuvée Esprit de Noël 2006 | C11: 1 | D11: 1 | E11: 68 | F11: =E11*C11 -> 68 | G11: Dégusté | H11: Fêtes de fin d'année
F12: =E12*C12 -> 0
A13: Champagne Pannier | B13: Brut Rosé | C13: 1 | D13: 1 | E13: 28 | F13: =E13*C13 -> 28 | G13: Dégusté | H13: Quand l'œil est aveugle - Les Rosés
B14: Extra-Brut | C14: 1 | D14: 1 | E14: 26 | F14: =E14*C14 -> 26 | G14: Dégusté | H14: Fête des Mères et Pères
B15: Coffret Trilogie Velours (Rosé Velour, Blanc Velour et Rubis Velour) | C15: 3 | D15: 1 | E15: 63.333 | F15: =E15*C15 -> 189.999 | G15: Recu | H15: Fêtes de fin d'année
B16: Blanc de Blancs Millésime 2011 | C16: 1 | D16: 1 | E16: 30 | F16: =E16*C16 -> 30 | G16: Dégusté | H16: Fêtes de fin d'année
F17: =E17*C17 -> 0
A18: Champagne Nicolas Feuillatte | B18: Brut Réserve | C18: 2 | D18: 2 | E18: 23 | F18: =E18*C18 -> 46 | G18: Dégusté | H18: Echantillon Classique
B19: Brut Réserve Coffret Terre de Merveille | C19: 1 | D19: 1 | E19: 25 | F19: =E19*C19 -> 25 | G19: Dégusté | H19: Fêtes de fin d'année
B20: 1/4 Brut | C20: 1 | D20: 1 | E20: 12 | F20: =E20*C20 -> 12 | G20: Dégusté | H20: St Valentin
B21: 1/4 Rosé | C21: 1 | D21: 1 | E21: 12 | F21: =E21*C21 -> 12 | G21: Dégusté | H21: St Valentin
B22: Palme d'Or 2006 | C22: 2 | D22: 2 | E22: 90 | F22: =E22*C22 -> 180 | G22: Dégusté | H22: Fêtes de fin d'année
B23: Cuvée Spécial 2006 | C23: 1 | D23: 1 | E23: 38 | F23: =E23*C23 -> 38 | G23: Dégusté | H23: Echantillon Classique
B24: Brut Chardonnay Millésime 2006 (Sac Marin) | C24: 1 | D24: 1 | E24: 29 | F24: =E24*C24 -> 29 | G24: Dégusté | H24: Fête des Mères et Pères
B25: Brut Rosé (Sac Marin) | C25: 1 | D25: 1 | E25: 28 | F25: =E25*C25 -> 28 | G25: Dégusté | H25: Fête des Mères et Pères
B26: Grand Cru Pinot Noir Millésime 2006 | C26: 1 | D26: 1 | E26: 36 | F26: =E26*C26 -> 36 | G26: Dégusté | H26: Fêtes de fin d'année
B27: Grand Cru Chardonnay Millésime 2006 | C27: 1 | D27: 1 | E27: 36 | F27: =E27*C27 -> 36 | G27: Dégusté | H27: Fêtes de fin d'année
B28: Millésime 2008 | C28: 1 | D28: 1 | E28: 29 | F28: =E28*C28 -> 29 | G28: Dégusté | H28: Fêtes de fin d'année
B29: Palme d'Or Rosé 2006 | C29: 1 | D29: 1 | E29: 110 | F29: =E29*C29 -> 110 | G29: Dégusté | H29: Echantillon Classique
F30: =E30*C30 -> 0
A31: Champagne Moët et Chandon | B31: Rosé Impérial | C31: 1 | D31: 1 | E31: 40 | F31: =E31*C31 -> 40 | G31: Dégusté | H31: St Valentin
B32: Rosé Grand Vintage 2006 | C32: 1 | D32: 1 | E32: 45 | F32: =E32*C32 -> 45 | G32: Dégusté | H32: Fête des Mères et Pères
B33: Ice Impérial | C33: 1 | E33: 55 | F33: =E33*C33 -> 55 | G33: Recu | H33: Echantillon Classique
B34: Brut Impérial | C34: 1 | D34: 1 | E34: 35 | F34: =E34*C34 -> 35 | G34: Dégusté | H34: Fêtes de fin d'année
F35: =E35*C35 -> 0
A36: Champagne Henriot | B36: Brut Rosé | C36: 1 | D36: 1 | E36: 35 | F36: =E36*C36 -> 35 | G36: Dégusté | H36: St Valentin
B37: Squeeze Box Gris | C37: 1 | D37: 1 | E37: 33 | F37: =E37*C37 -> 33 | G37: Dégusté | H37: Fêtes de fin d'année
B38: Blanc de Blancs | C38: 1 | D38: 1 | E38: 38 | F38: =E38*C38 -> 38 | G38: Dégusté | H38: Fêtes de fin d'année
B39: Cuvée des enchanteleurs 1998 | C39: 1 | D39: 1 | E39: 120 | F39: =E39*C39 -> 120 | G39: Dégusté | H39: Fête des Mères et Pères
B40: Cuvée des enchanteleurs 2000 | C40: 1 | D40: 1 | E40: 120 | F40: =E40*C40 -> 120 | G40: Dégusté | H40: Fêtes de fin d'année
...

Sheet 2016
A1: Maison | B1: Echantillon Reçu | C1: Nombre | D1: Dégusté | E1: Prix | F1: Total | G1: Date
A2: Champagne Pierre Mignon | B2: Cuvée Privilege Rosé 2008 | C2: 1 | E2: 90 | F2: =E2*C2 -> 90 | G2: 42398 | H2: Recu | I2: St Valentin
B3: Cuvée Pure | C3: 1 | D3: 1 | E3: 28 | F3: =E3*C3 -> 28 | G3: 42503 | H3: Dégusté | I3: Fête des Mères et Pères
B4: Blanc de Blancs Grand Cru en coffret | C4: 1 | E4: 35 | F4: =E4*C4 -> 35 | G4: 42503 | H4: Recu | I4: Fête des Mères et Pères
B5: Cuvée Harmonie de Blanc Grand Cru 2008 | C5: 1 | D5: 1 | E5: 32 | F5: =E5*C5 -> 32 | G5: 42511 | H5: Dégusté | I5: Nouvelle Cuvée
B6: Clos des Graviers | C6: 1 | E6: 90 | F6: =E6*C6 -> 90 | G6: 42686 | H6: Recu | I6: Fêtes de fin d'année
B7: Blanc de Noirs | C7: 2 | E7: 30 | F7: =E7*C7 -> 60 | G7: 42686 | H7: Recu | I7: Fêtes de fin d'année
B8: Cuvée Désir et Sens Blanc de Blancs Grand Cru 2004 | C8: 1 | D8: 1 | E8: 82 | F8: =E8*C8 -> 82 | G8: 42511 | H8: Dégusté | I8: Nouvelle Cuvée
F9: =E9*C9 -> 0
A10: Champagne Pannier | B10: Cuvée Egérie Rosé de Saignée | C10: 1 | E10: 70 | F10: =E10*C10 -> 70 | G10: 42444 | H10: Recu | I10: Fête des Mères et Pères
B11: Blanc Velours | C11: 1 | E11: 60 | F11: =E11*C11 -> 60 | G11: 42674 | H11: Recu | I11: Fêtes de fin d'année
F12: =E12*C12 -> 0
A13: Champagne Nicolas Feuillatte | B13: Coffret seau Brut Rosé | C13: 1 | D13: 1 | E13: 31 | F13: =E13*C13 -> 31 | G13: 42407 | H13: Dégusté | I13: St Valentin
B14: Coffret Rosé Fête des meres | C14: 1 | D14: 1 | E14: 30 | F14: =E14*C14 -> 30 | G14: 42467 | H14: Dégusté | I14: Fête des Mères et Pères
B15: Ice Graphic Rosé | C15: 2 | E15: 35 | F15: =E15*C15 -> 70 | G15: 42606 | H15: Recu | I15: Nouvelle Cuvée
B16: Brut Réserve | C16: 1 | D16: 1 | E16: 27 | F16: =E16*C16 -> 27 | G16: 42671 | H16: Dégusté | I16: Fêtes de fin d'année
B17: Brut Grande Réserve | C17: 1 | D17: 1 | E17: 25 | F17: =E17*C17 -> 25 | G17: 42671 | H17: Dégusté | I17: Fêtes de fin d'année
B18: Millésime 2008 | C18: 1 | D18: 1 | E18: 32 | F18: =E18*C18 -> 32 | G18: 42671 | H18: Dégusté | I18: Fêtes de fin d'année
F19: =E19*C19 -> 0
A20: Champagne Don Caudron | B20: Cuvée Prédiction | C20: 1 | D20: 1 | E20: 30 | F20: =E20*C20 -> 30 | G20: 42691 | H20: Dégusté | I20: Fêtes de fin d'année
B21: Cuvée Epicurienne | C21: 1 | E21: 35 | F21: =E21*C21 -> 35 | G21: 42691 | H21: Recu | I21: Fêtes de fin d'année
B22: Cuvée Coralyne | C22: 1 | E22: 45 | F22: =E22*C22 -> 45 | G22: 42691 | H22: Recu | I22: Fêtes de fin d'année
F23: =E23*C23 -> 0
A24: Champagne Mouzon Leroux | B24: L'Atavique | C24: 1 | E24: 25 | F24: =E24*C24 -> 25 | G24: 42578 | H24: Recu | I24: Quand l'œil est aveugle - Les Grands Cru
F25: =E25*C25 -> 0
A26: Champagne Henriot | B26: Brut Rosé | C26: 2 | D26: 1 | E26: 38 | F26: =E26*C26 -> 76 | G26: 42396 | H26: Recu | I26: St Valentin
B27: Fancy Box Blanc de Blancs | C27: 1 | D27: 1 | E27: 39 | F27: =E27*C27 -> 39 | G27: 42651 | H27: Dégusté | I27: Fêtes de fin d'année
B28: Brut Rosé Millésime 2008 | C28: 1 | D28: 1 | E28: 43 | F28: =E28*C28 -> 43 | G28: 42464 | H28: Dégusté | I28: Beau Jour
F29: =E29*C29 -> 0
A30: Champagne Besserat de Bellefon | B30: Cuvée des Moines Blanc de Noirs | C30: 1 | D30: 1 | E30: 40 | F30: =E30*C30 -> 40 | G30: 42440 | H30: Dégusté | I30: Echantillon Classique
F31: =E31*C31 -> 0
A32: Champagne Devaux | B32: Cuvée D Rosé | C32: 1 | E32: 43 | F32: =E32*C32 -> 43 | G32: 42404 | H32: Recu | I32: St Valentin
B33: Cuvée Ultra D | C33: 1 | E33: 43 | F33: =E33*C33 -> 43 | G33: 42662 | H33: Recu | I33: Fêtes de fin d'année
B34: Cuvée Rosé | C34: 1 | D34: 1 | E34: 28 | F34: =E34*C34 -> 28 | G34: 42404 | H34: Dégusté | I34: St Valentin
B35: Grande Reserve | C35: 1 | D35: 1 | E35: 25 | F35: =E35*C35 -> 25 | G35: 42459 | H35: Dégusté | I35: Echantillon Classique
B36: Rosé des Riceys | C36: 2 | E36: 22 | F36: =E36*C36 -> 44 | G36: 42614 | H36: Recu | I36: Quand l'œil est aveugle - Les Coteaux Champenois
F37: =E37*C37 -> 0
A38: Champagne Drappier | B38: Grande Sendrée 2008 | C38: 2 | D38: 1 | E38: 82.5 | F38: =E38*C38 -> 165 | G38: 42521 | H38: Recu | I38: Echantillon Classique
B39: Grande Sendrée Rosé 2008 | C39: 1 | D39: 1 | E39: 82.5 | F39: =E39*C39 -> 82.5 | G39: 42650 | H39: Dégusté | I39: Fêtes de fin d'année
B40: Brut Nature Sans Soufre | C40: 1 | D40: 1 | E40: 38 | F40: =E40*C40 -> 38 | G40: 42650 | H40: Dégusté | I40: Fêtes de fin d'année
...

Sheet 2017
A1: Maison | B1: Echantillon Reçu | C1: Nombre | D1: Dégusté | E1: Prix | F1: Total | G1: Date
A2: Champagne Pierre Mignon | B2: Cuvée Feminity | C2: 1 | D2: 1 | E2: 35 | F2: =E2*C2 -> 35 | G2: 42776 | H2: Dégusté | I2: Saint Valentin
B3: Cuvée Esprit de Noël 2006 | C3: 1 | E3: 68 | F3: =E3*C3 -> 68 | G3: 43012 | H3: Recu | I3: Fêtes de fin d'année
F4: =E4*C4 -> 0
A5: Champagne Bollinger | B5: Grande Année 2007 | C5: 1 | E5: 110 | F5: =E5*C5 -> 110 | G5: 42755 | H5: Recu | I5: Nouvelle Cuvée
B6: Rosé 2006 | C6: 1 | E6: 89 | F6: =E6*C6 -> 89 | G6: 42996 | H6: Recu | I6: Fêtes de fin d'année
F7: =E7*C7 -> 0
A8: Champagne Nicolas Feuillatte | B8: 1/2 Brut Rosé | C8: 1 | D8: 1 | E8: 13 | F8: =E8*C8 -> 13 | G8: 42780 | H8: Dégusté | I8: Saint Valentin
B9: Brut Rosé | C9: 2 | E9: 26 | F9: =E9*C9 -> 52 | G9: 42829 | H9: Recu | I9: Beau Jour
B10: Blanc de Blancs Grand Cru 2008 | C10: 2 | D10: 2 | E10: 37.5 | F10: =E10*C10 -> 75 | G10: 43018 | H10: Dégusté | I10: Beau Jour
B11: Blanc de Blancs 2008 | C11: 1 | D11: 1 | E11: 32 | F11: =E11*C11 -> 32 | G11: 42829 | H11: Dégusté | I11: Beau Jour
B12: Brut Réserve | C12: 1 | D12: 1 | E12: 26 | F12: =E12*C12 -> 26 | G12: 43018 | H12: Dégusté | I12: Fêtes de fin d'année
B13: Millésime 2008 | C13: 1 | D13: 1 | E13: 30 | F13: =E13*C13 -> 30 | G13: 43018 | H13: Dégusté | I13: Fêtes de fin d'année
B14: Blanc de Noirs 2006 | C14: 1 | D14: 1 | E14: 37.5 | F14: =E14*C14 -> 37.5 | G14: 43018 | H14: Dégusté | I14: Fêtes de fin d'année
B15: Palme d'Or 2006 | C15: 1 | E15: 90 | F15: =E15*C15 -> 90 | G15: 43018 | H15: Recu | I15: Fêtes de fin d'année
F16: =E16*C16 -> 0
A17: Champagne Tribaut Schloesser | B17: Cuvée Authentique 2009 | C17: 1 | E17: 40 | F17: =E17*C17 -> 40 | G17: 42804 | H17: Recu | I17: Nouvelle Cuvée
F18: =E18*C18 -> 0
A19: Champagne Henriot | B19: Coffret Saint Valentin Brut Rosé | C19: 1 | E19: 55 | F19: =E19*C19 -> 55 | G19: 42767 | H19: Recu | I19: Saint Valentin
B20: Cuvée des Enchanteleurs 2000 | C20: 2 | E20: 120 | F20: =E20*C20 -> 240 | G20: 43032 | H20: Recu | I20: Quand l'œil est aveugle - Cuvée Haute Couture
B21: Blanc de Blancs | C21: 1 | E21: 39 | F21: =E21*C21 -> 39 | G21: 42978 | H21: Recu | I21: Fêtes de fin d'année
F22: =E22*C22 -> 0
A23: Champagne Gallimard | B23: Cuvée Amphoressence | C23: 1 | E23: 39 | F23: =E23*C23 -> 39 | G23: 42822 | H23: Recu | I23: Nouvelle Cuvée
F24: =E24*C24 -> 0
A25: Champagne Philippe Gamet | B25: Extra Brut Caractères | C25: 1 | E25: 43 | F25: =E25*C25 -> 43 | G25: 43070 | H25: Recu | I25: Fêtes de fin d'année
F26: =E26*C26 -> 0
A27: Champagne Devaux | B27: D Rosé | C27: 1 | E27: 47 | F27: =E27*C27 -> 47 | G27: 42761 | H27: Recu | I27: Saint Valentin
B28: Cuvée Augusta | C28: 1 | E28: 24 | F28: =E28*C28 -> 24 | G28: 42788 | H28: Recu | I28: Nouvelle Cuvée
B29: Version 1 Coteaux Champenois | C29: 1 | E29: 35 | F29: =E29*C29 -> 35 | G29: 43019 | H29: Recu | I29: Fêtes de fin d'année
B30: Cuvée Sténopé 2010 | C30: 1 | E30: 130 | F30: =E30*C30 -> 130 | G30: 43019 | H30: Recu | I30: Fêtes de fin d'année
F31: =E31*C31 -> 0
A32: Champagne Eric Tallet | B32: Bansionensi | C32: 1 | E32: 31 | F32: =E32*C32 -> 31 | G32: 42919 | H32: Recu | I32: Echantillon classique
B33: Le Bois de Binson | C33: 1 | E33: 49 | F33: =E33*C33 -> 49 | G33: 42919 | H33: Recu | I33: Echantillon classique
B34: Décennie 2004 | C34: 1 | E34: 45 | F34: =E34*C34 -> 45 | G34: 42919 | H34: Recu | I34: Echantillon classique
B35: Sur le grand Marais | C35: 1 | E35: 38 | F35: =E35*C35 -> 38 | G35: 42919 | H35: Recu | I35: Echantillon classique
F36: =E36*C36 -> 0
A37: Champagne Gremillet | B37: Brut étiquette Saint Valentin | C37: 1 | E37: 22 | F37: =E37*C37 -> 22 | G37: 42761 | H37: Recu | I37: Saint Valentin
B38: Coteaux Champenois Rouge "Balnot" | C38: 2 | E38: 26 | F38: =E38*C38 -> 52 | G38: 42786 | H38: Recu | I38: Quand l'œil est aveugle - Les Coteaux Champenois
F39: =E39*C39 -> 0
A40: Champagne Barrat Masson | B40: Fleur de Craie | C40: 1 | D40: 1 | E40: 34 | F40: =E40*C40 -> 34 | G40: 42835 | H40: Dégusté | I40: Article Secraie
...

Sheet Ancienne
A1: Maison | B1: Echantillon Reçu | C1: Nombre | D1: Dégusté | E1: Prix | F1: Total | G1: Date
A2: Champagne Mercier | B2: Brut | C2: 1 | E2: 18 | F2: =E2*C2 -> 18
A4: Champagne JM Godbillard et fils | B4: Grande Réserve 1er Cru | C4: 1 | E4: 20 | F4: =E4*C4 -> 20
A6: Chanpagne Janisson Baradon | B6: Extra Brut | C6: 1 | D6: 1 | E6: 25 | F6: =E6*C6 -> 25 | G6: 42659 | H6: Dégusté
B7: Brut Nature | C7: 1 | E7: 30 | F7: =E7*C7 -> 30
B8: Millésime 2002 | C8: 1 | D8: 1 | E8: 40 | F8: =E8*C8 -> 40 | G8: 42631 | H8: Dégusté
A10: Champagne Savart | B10: L'année 2008 | C10: 1 | E10: 40 | F10: =E10*C10 -> 40
B11: L'année 2009 | C11: 1 | D11: 1 | E11: 40 | F11: =E11*C11 -> 40 | G11: 42666 | H11: Dégusté
B12: Caliope 2006 | C12: 1 | D12: 1 | E12: 40 | F12: =E12*C12 -> 40 | G12: 42680 | H12: Dégusté
B13: La Dame de Cœur 2009 | C13: 1 | D13: 1 | E13: 62 | F13: =E13*C13 -> 62 | G13: 42848 | H13: Dégusté
B14: Bulle de Rosé | C14: 1 | D14: 1 | E14: 30 | F14: =E14*C14 -> 30 | G14: 42715 | H14: Dégusté
A16: Champagne Jeeper | B16: Grande Réserve Blanc de Blancs | C16: 1 | D16: 1 | E16: 20 | F16: =E16*C16 -> 20 | G16: 42638 | H16: Dégusté
A18: Chanpagne JM Séléque | B18: Comédie 2007 | C18: 1 | D18: 1 | E18: 40 | F18: =E18*C18 -> 40 | G18: 42624 | H18: Dégusté
B19: Comédie 2008 | C19: 1 | D19: 1 | E19: 40 | F19: =E19*C19 -> 40 | G19: 43009 | H19: Dégusté
B20: Partition 2008 | C20: 1 | D20: 1 | E20: 50 | F20: =E20*C20 -> 50 | G20: 42693 | H20: Dégusté
A22: Champagne Lanson | B22: Demi-Sec | C22: 1 | E22: 30 | F22: =E22*C22 -> 30
A24: Champagne Heidsieck & Co Monopole | B24: Grande Cuvée | C24: 1 | E24: 15 | F24: =E24*C24 -> 15
A26: Champagne Pierre Peters | B26: Les Chétillons 2002 | C26: 1 | D26: 1 | E26: 70 | F26: =E26*C26 -> 70 | G26: 42679 | H26: Dégusté
A28: Champagne Pierre Gimonnet | B28: Oenophile 2005 | C28: 1 | D28: 1 | E28: 35 | F28: =E28*C28 -> 35 | G28: 42649 | H28: Dégusté
A30: Champagne Olivier Horiot | B30: Séve Rosé de Saignée | C30: 1 | D30: 1 | E30: 35 | F30: =E30*C30 -> 35 | G30: 42617 | H30: Dégusté
A32: Champagne Vilmart & Cie | B32: Grand Cellier | C32: 1 | D32: 1 | E32: 40 | F32: =E32*C32 -> 40 | G32: 42652 | H32: Dégusté
A34: Champagne Jacquesson | B34: Cuvée 737 | C34: 1 | D34: 1 | E34: 35 | F34: =E34*C34 -> 35 | G34: 42743 | H34: Dégusté
A36: Champagne Bollinger | B36: Spécial Cuvée | C36: 1 | D36: 1 | E36: 40 | F36: =E36*C36 -> 40 | G36: 42645 | H36: Dégusté
A38: Champagne Bérèche et Fils | B38: Cuvée l'Instant Le Cran 2004 | C38: 1 | D38: 1 | E38: 50 | F38: =E38*C38 -> 50 | H38: Dégusté
A40: Champagne Vernier et Fils | B40: Cuvée Fleuron | C40: 1 | D40: 1 | E40: 18 | F40: =E40*C40 -> 18 | G40: 42918 | H40: Dégusté
A42: Champagne Charles de Courance | B42: Brut | C42: 1 | E42: 15 | F42: =E42*C42 -> 15
B45: Total Bouteilles | C45: =SUM(C2:C43) -> 25 | D45: =SUM(D2:D43) -> 18 | F45: =SUM(F2:F43) -> 878
B47: Bouteilles Restante | C47: =C45-D45 -> 7

Sheet Statistique
A2: Nb de bouteille reçu en 2014 | B2: ='2014'!C71 -> 77
A3: Nb de bouteille restante de 2014 | B3: ='2014'!C73 -> 1
A5: Nb de bouteille reçu en 2015 | B5: ='2015'!C207 -> 147
A6: Nb de bouteille restante de 2015 | B6: ='2015'!C209 -> 9
A8: Nb de bouteille reçu en 2016 | B8: ='2016'!C183 -> 144
A9: Nb de bouteille restante de 2016 | B9: ='2016'!C185 -> 68
A11: Nb de bouteille reçu en 2017 | B11: ='2017'!C193 -> 138
A12: Nb de bouteille restante de 2017 | B12: ='2017'!C195 -> 110
A14: Nb de bouteille ancienne | B14: =Ancienne!C45 -> 25
A15: Nb de bouteille restante | B15: =Ancienne!C47 -> 7
A17: Total de bouteille restante | B17: =B15+B12+B9+B6+B3 -> 195
