Workbook

Sheet 2014
A1: Maison | B1: Echantillon Reçu | C1: Nombre | D1: Dégusté | E1: Prix | F1: Total
A2: Champagne De Castelnau | B2: Blanc de Blancs 2000 | C2: 1 | D2: 1 | E2: 37 | F2: =E2*C2 -> 37
B3: Brut Millésimé 2004 | C3: 1 | D3: 1 | E3: 37 | F3: =E3*C3 -> 37
B4: Brut Rosé | C4: 1 | D4: 1 | E4: 24 | F4: =E4*C4 -> 24
A5: Champagne Michel Loriot | B5: Authentic Meunier | C5: 2 | D5: 2 | E5: 22 | F5: =E5*C5 -> 44
B6: Cuvée Théodorine | C6: 1 | D6: 1 | E6: 24 | F6: =E6*C6 -> 24
B7: Cuvée Patrimony | C7: 1 | D7: 1 | E7: 23 | F7: =E7*C7 -> 23
B8: Cuvée Palmyre | C8: 1 | D8: 1 | E8: 24 | F8: =E8*C8 -> 24
A9: Champagne Collet | B9: Coffret So Collet "Blanc de Blancs Collection Privée" | C9: 1 | D9: 1 | E9: 56 | F9: =E9*C9 -> 56
B10: Esprit Couture | C10: 1 | D10: 1 | E10: 145 | F10: =E10*C10 -> 145
A11: Champagne Brimoncourt | B11: Brut Rosé | C11: 1 | D11: 1 | E11: 37 | F11: =E11*C11 -> 37
B12: Brut Régence | C12: 1 | D12: 1 | E12: 29 | F12: =E12*C12 -> 29
A13: Champagne Philippe Gonet | B13: Signature Blanc de Blancs | C13: 1 | D13: 1 | E13: 26 | F13: =E13*C13 -> 26
B14: Cuvée Or | C14: 1 | D14: 1 | E14: 69 | F14: =E14*C14 -> 69
A15: Champagne Pannier | B15: Cuvée Louis Eugene "Blanc de Noirs 2009" | C15: 1 | D15: 1 | E15: 31 | F15: =E15*C15 -> 31
B16: Rubis Velours | C16: 1 | D16: 1 | E16: 69 | F16: =E16*C16 -> 69
A17: Champagne Lenoble | B17: Grand Cru Blanc de Blancs Chouilly | C17: 1 | D17: 1 | E17: 32 | F17: =E17*C17 -> 32
B18: Brut Intense | C18: 1 | D18: 1 | E18: 27 | F18: =E18*C18 -> 27
B19: Blanc de Noirs 2009 | C19: 1 | D19: 1 | E19: 45 | F19: =E19*C19 -> 45
A20: Champagne Moët et Chandon | B20: Ice Impérial | C20: 1 | D20: 1 | E20: 52.5 | F20: =E20*C20 -> 52.5
B21: Brut Vintage 2006 | C21: 1 | D21: 1 | E21: 56 | F21: =E21*C21 -> 56
A22: Champagne Mailly Grand Cru | B22: L'intemporelle Rosé 2008 | C22: 1 | D22: 1 | E22: 70 | F22: =E22*C22 -> 70
B23: Magnum Collection 1998 | C23: 1 | E23: 200 | F23: =E23*C23 -> 200
B24: Blanc de Noirs | C24: 1 | D24: 1 | E24: 32 | F24: =E24*C24 -> 32
A25: Chanpagne Nicolas Feuillatte | B25: Brut Réserve | C25: 2 | D25: 2 | E25: 23 | F25: =E25*C25 -> 46
B26: Brut | C26: 1 | D26: 1 | E26: 18 | F26: =E26*C26 -> 18
B27: Brut Chardonnay Millésime 2006 | C27: 1 | D27: 1 | E27: 35 | F27: =E27*C27 -> 35
B28: Cuvée Spécial 2006 | C28: 1 | D28: 1 | E28: 38 | F28: =E28*C28 -> 38
B29: Palme D'or 2004 | C29: 1 | D29: 1 | E29: 99 | F29: =E29*C29 -> 99
B30: Cuvée 225 Rosé 2006 | C30: 1 | D30: 1 | E30: 53 | F30: =E30*C30 -> 53
B31: Brut Rosé | C31: 2 | D31: 2 | E31: 25 | F31: =E31*C31 -> 50
A32: Chanmpagne Henriot | B32: Brut Rosé | C32: 1 | D32: 1 | E32: 35 | F32: =E32*C32 -> 35
B33: Rosé Millésimé 2008 | C33: 1 | D33: 1 | E33: 43 | F33: =E33*C33 -> 43
B34: Brut Souverain | C34: 1 | D34: 1 | E34: 29 | F34: =E34*C34 -> 29
B35: Blanc de Blancs | C35: 2 | D35: 2 | E35: 40 | F35: =E35*C35 -> 80
A36: Champagne De Saint Gall | B36: Extra Brut By Doucet | C36: 1 | D36: 1 | E36: 40 | F36: =E36*C36 -> 40
A37: Champagne Pol Roger | B37: Brut Vintage 2004 | C37: 1 | D37: 1 | E37: 50 | F37: =E37*C37 -> 50
B38: Brut Vintage Rosé 2006 | C38: 1 | D38: 1 | E38: 70 | F38: =E38*C38 -> 70
B39: Brut Reserve | C39: 1 | D39: 1 | E39: 30 | F39: =E39*C39 -> 30
B40: Blanc de Blancs Vintage 2004 | C40: 1 | D40: 1 | E40: 73 | F40: =E40*C40 -> 73
A41: Champagne Devaux | B41: Le D Rosé | C41: 1 | D41: 1 | E41: 43 | F41: =E41*C41 -> 43
B42: Le D Millésime 2006 | C42: 1 | D42: 1 | E42: 50 | F42: =E42*C42 -> 50
A43: Champagne Colin | B43: Brut Rosé 1er Cru | C43: 1 | D43: 1 | E43: 20.5 | F43: =E43*C43 -> 20.5
B44: Cuvée Parallele | C44: 1 | D44: 1 | E44: 25 | F44: =E44*C44 -> 25
B45: Cuvée Coup de Cœur 2004 | C45: 1 | D45: 1 | E45: 45 | F45: =E45*C45 -> 45
B46: Cuvée Grand Cru Blanc de Blancs 2006 | C46: 1 | D46: 1 | E46: 33 | F46: =E46*C46 -> 33
A47: Gremillet | B47: Brut Rosé | C47: 1 | D47: 1 | E47: 19.5 | F47: =E47*C47 -> 19.5
B48: Brut | C48: 1 | D48: 1 | E48: 21 | F48: =E48*C48 -> 21
A49: Drappier | B49: Carte d'Or | C49: 1 | D49: 1 | E49: 23 | F49: =E49*C49 -> 23
B50: 100% Pinot Noir Brut Nature | C50: 2 | D50: 2 | E50: 25 | F50: =E50*C50 -> 50
B51: Cuvée Charles de Gaulle | C51: 1 | D51: 1 | E51: 30 | F51: =E51*C51 -> 30
B52: Blanc de Blancs Signature | C52: 1 | D52: 1 | E52: 27 | F52: =E52*C52 -> 27
B53: Grande Sendrée 2006 | C53: 1 | D53: 1 | E53: 48 | F53: =E53*C53 -> 48
A54: Gimonnet | B54: Spécial Club 2005 | C54: 1 | D54: 1 | E54: 40 | F54: =E54*C54 -> 40
B55: Oger Grand Cru | C55: 1 | D55: 1 | E55: 30 | F55: =E55*C55 -> 30
B56: Oenophile 2008 | C56: 1 | D56: 1 | E56: 33 | F56: =E56*C56 -> 33
A57: Lallier | B57: Millesime 2008 | C57: 1 | D57: 1 | E57: 38 | F57: =E57*C57 -> 38
A58: Ayala | B58: Blanc de Blancs 2007 | C58: 1 | D58: 1 | E58: 50 | F58: =E58*C58 -> 50
A59: Gosset | B59: Grand Rosé | C59: 1 | D59: 1 | E59: 46 | F59: =E59*C59 -> 46
A60: De Sousa | B60: Cuvée Umami | C60: 1 | D60: 1 | E60: 150 | F60: =E60*C60 -> 150
A61: Gosset Brabant | B61: Noirs d'Ay | C61: 1 | D61: 1 | E61: 40 | F61: =E61*C61 -> 40
A62: Bourdaire Gallois | B62: Brut | C62: 3 | D62: 3 | E62: 20 | F62: =E62*C62 -> 60
B63: Blanc de Blancs | C63: 2 | D63: 2 | E63: 28 | F63: =E63*C63 -> 56
B64: Millésime 2005 | C64: 1 | D64: 1 | E64: 39 | F64: =E64*C64 -> 39
B65: Cuvée Prestige | C65: 1 | D65: 1 | E65: 25 | F65: =E65*C65 -> 25
A66: Deutz | B66: Blanc de Blancs 2008 | C66: 1 | D66: 1 | E66: 53 | F66: =E66*C66 -> 53
B67: Blanc de Blancs 1988 | C67: 1 | D67: 1 | E67: 150 | F67: =E67*C67 -> 150
A68: Pierre Gerbais | B68: L'audace | C68: 2 | D68: 2 | E68: 30 | F68: =E68*C68 -> 60
B69: L'original | C69: 1 | D69: 1 | E69: 40 | F69: =E69*C69 -> 40
B71: Total Bouteilles | C71: =SUM(C2:C69) -> 77 | D71: =SUM(D2:D69) -> 76 | F71: =SUM(F2:F69) -> 3323.5
B73: Bouteilles Restante | C73: =C71-D71 -> 1
B74: Bouteilles en attente de reception | C74: 0

Sheet 2015
A1: Maison | B1: Echantillon Reçu | C1: Nombre | D1: Dégusté | E1: Prix | F1: Total
A2: Champagne Pierre Mignon | B2: Cuvée Feminity | C2: 1 | D2: 1 | E2: 35 | F2: =E2*C2 -> 35 | G2: Dégusté | H2: St Valentin
B3: Brut Prestige | C3: 1 | D3: 1 | E3: 18 | F3: =E3*C3 -> 18 | G3: Dégusté | H3: Echantillon Classique
B4: Blanc de Blancs Grand Cru | C4: 2 | D4: 2 | E4: 25 | F4: =E4*C4 -> 50 | G4: Dégusté | H4: Fête des Mères et Pères
B5: Cuvée Magnolia | C5: 1 | D5: 1 | E5: 35 | F5: =E5*C5 -> 35 | G5: Dégusté | H5: Fête des Mères et Pères
B6: Brut Prestige Rosé de Saignée | C6: 1 | D6: 1 | E6: 19 | F6: =E6*C6 -> 19 | G6: Dégusté | H6: Echantillon Classique
B7: Brut Grande Réserve | C7: 1 | D7: 1 | E7: 16.2 | F7: =E7*C7 -> 16.2 | G7: Dégusté | H7: Fêtes de fin d'année
B8: Cuvée Cœur d'Or 2006 | C8: 1 | D8: 1 | E8: 56 | F8: =E8*C8 -> 56 | G8: Dégusté | H8: Fêtes de fin d'année
B9: Année de Madame Millésime 2006 | C9: 1 | D9: 1 | E9: 22.5 | F9: =E9*C9 -> 22.5 | G9: Dégusté | H9: Echantillon Classique
B10: Année de Madame Rosé Millésime 2006 Privilége | C10: 1 | D10: 1 | E10: 56 | F10: =E10*C10 -> 56 | G10: Dégusté | H10: Echantillon Classique
B11: Cuvée Esprit de Noël 2006 | C11: 1 | D11: 1 | E11: 68 | F11: =E11*C11 -> 68 | G11: Dégusté | H11: Fêtes de fin d'année
F12: =E12*C12 -> 0
A13: Champagne Pannier | B13: Brut Rosé | C13: 1 | D13: 1 | E13: 28 | F13: =E13*C13 -> 28 | G13: Dégusté | H13: Quand l'œil est aveugle - Les Rosés
B14: Extra-Brut | C14: 1 | D14: 1 | E14: 26 | F14: =E14*C14 -> 26 | G14: Dégusté | H14: Fête des Mères et Pères
B15: Coffret Trilogie Velours (Rosé Velour, Blanc Velour et Rubis Velour) | C15: 3 | D15: 1 | E15: 63.333 | F15: =E15*C15 -> 189.999 | G15: Recu | H15: Fêtes de fin d'année
B16: Blanc de Blancs Millésime 2011 | C16: 1 | D16: 1 | E16: 30 | F16: =E16*C16 -> 30 | G16: Dégusté | H16: Fêtes de fin d'année
F17: =E17*C17 -> 0
A18: Champagne Nicolas Feuillatte | B18: Brut Réserve | C18: 2 | D18: 2 | E18: 23 | F18: =E18*C18 -> 46 | G18: Dégusté | H18: Echantillon Classique
B19: Brut Réserve Coffret Terre de Merveille | C19: 1 | D19: 1 | E19: 25 | F19: =E19*C19 -> 25 | G19: Dégusté | H19: Fêtes de fin d'année
B20: 1/4 Brut | C20: 1 | D20: 1 | E20: 12 | F20: =E20*C20 -> 12 | G20: Dégusté | H20: St Valentin
B21: 1/4 Rosé | C21: 1 | D21: 1 | E21: 12 | F21: =E21*C21 -> 12 | G21: Dégusté | H21: St Valentin
B22: Palme d'Or 2006 | C22: 2 | D22: 2 | E22: 90 | F22: =E22*C22 -> 180 | G22: Dégusté | H22: Fêtes de fin d'année
B23: Cuvée Spécial 2006 | C23: 1 | D23: 1 | E23: 38 | F23: =E23*C23 -> 38 | G23: Dégusté | H23: Echantillon Classique
B24: Brut Chardonnay Millésime 2006 (Sac Marin) | C24: 1 | D24: 1 | E24: 29 | F24: =E24*C24 -> 29 | G24: Dégusté | H24: Fête des Mères et Pères
B25: Brut Rosé (Sac Marin) | C25: 1 | D25: 1 | E25: 28 | F25: =E25*C25 -> 28 | G25: Dégusté | H25: Fête des Mères et Pères
B26: Grand Cru Pinot Noir Millésime 2006 | C26: 1 | D26: 1 | E26: 36 | F26: =E26*C26 -> 36 | G26: Dégusté | H26: Fêtes de fin d'année
B27: Grand Cru Chardonnay Millésime 2006 | C27: 1 | D27: 1 | E27: 36 | F27: =E27*C27 -> 36 | G27: Dégusté | H27: Fêtes de fin d'année
B28: Millésime 2008 | C28: 1 | D28: 1 | E28: 29 | F28: =E28*C28 -> 29 | G28: Dégusté | H28: Fêtes de fin d'année
B29: Palme d'Or Rosé 2006 | C29: 1 | D29: 1 | E29: 110 | F29: =E29*C29 -> 110 | G29: Dégusté | H29: Echantillon Classique
F30: =E30*C30 -> 0
A31: Champagne Moët et Chandon | B31: Rosé Impérial | C31: 1 | D31: 1 | E31: 40 | F31: =E31*C31 -> 40 | G31: Dégusté | H31: St Valentin
B32: Rosé Grand Vintage 2006 | C32: 1 | D32: 1 | E32: 45 | F32: =E32*C32 -> 45 | G32: Dégusté | H32: Fête des Mères et Pères
B33: Ice Impérial | C33: 1 | E33: 55 | F33: =E33*C33 -> 55 | G33: Recu | H33: Echantillon Classique
B34: Brut Impérial | C34: 1 | D34: 1 | E34: 35 | F34: =E34*C34 -> 35 | G34: Dégusté | H34: Fêtes de fin d'année
F35: =E35*C35 -> 0
A36: Champagne Henriot | B36: Brut Rosé | C36: 1 | D36: 1 | E36: 35 | F36: =E36*C36 -> 35 | G36: Dégusté | H36: St Valentin
B37: Squeeze Box Gris | C37: 1 | D37: 1 | E37: 33 | F37: =E37*C37 -> 33 | G37: Dégusté | H37: Fêtes de fin d'année
B38: Blanc de Blancs | C38: 1 | D38: 1 | E38: 38 | F38: =E38*C38 -> 38 | G38: Dégusté | H38: Fêtes de fin d'année
B39: Cuvée des enchanteleurs 1998 | C39: 1 | D39: 1 | E39: 120 | F39: =E39*C39 -> 120 | G39: Dégusté | H39: Fête des Mères et Pères
B40: Cuvée des enchanteleurs 2000 | C40: 1 | D40: 1 | E40: 120 | F40: =E40*C40 -> 120 | G40: Dégusté | H40: Fêtes de fin d'année
F41: =E41*C41 -> 0
A42: Champagne Lacourte Godbillon | B42: Brut | C42: 1 | D42: 1 | E42: 22 | F42: =E42*C42 -> 22 | G42: Dégusté | H42: Echantillon Classique
B43: Cuvée Vanité | C43: 1 | D43: 1 | E43: 33 | F43: =E43*C43 -> 33 | G43: Dégusté | H43: Echantillon Classique
F44: =E44*C44 -> 0
A45: Champagne Devaux | B45: D Rosé | C45: 2 | D45: 2 | E45: 43 | F45: =E45*C45 -> 86 | G45: Dégusté | H45: St Valentin
B46: Devaux Oeil de Perdrix (Monoprix) | C46: 2 | D46: 2 | E46: 25 | F46: =E46*C46 -> 50 | G46: Dégusté | H46: Quand l'œil est aveugle - Les Rosés
B47: Cuvée D | C47: 1 | D47: 1 | E47: 35 | F47: =E47*C47 -> 35 | G47: Dégusté | H47: Fêtes de fin d'année
B48: Devaux Grande Réserve | C48: 1 | D48: 1 | E48: 25 | F48: =E48*C48 -> 25 | G48: Dégusté | H48: Fête des Mères et Pères
B49: Cuvée Sténopé 2008 | C49: 1 | D49: 1 | E49: 130 | F49: =E49*C49 -> 130 | G49: Dégusté | H49: Fêtes de fin d'année
B50: Cuvée D millésime 2008 | C50: 1 | D50: 1 | E50: 50 | F50: =E50*C50 -> 50 | G50: Dégusté | H50: Nouvelle Cuvée
F51: =E51*C51 -> 0
A52: Champagne Drappier | B52: Millésime d'exception 2005 | C52: 1 | D52: 1 | E52: 77 | F52: =E52*C52 -> 77 | G52: Dégusté | H52: Echantillon Classique
B53: Brut Nature Sans Soufre | C53: 1 | D53: 1 | E53: 27 | F53: =E53*C53 -> 27 | G53: Dégusté | H53: Echantillon Classique
B54: Grande Sendrée Rosé 2006 | C54: 1 | D54: 1 | E54: 60 | F54: =E54*C54 -> 60 | G54: Dégusté | H54: Quand l'œil est aveugle - Les Rosés
F55: =E55*C55 -> 0
A56: Champagne Gremillet | B56: Blanc de Noirs | C56: 1 | D56: 1 | E56: 30 | F56: =E56*C56 -> 30 | G56: Dégusté | H56: St Valentin
B57: Brut Rosé | C57: 1 | D57: 1 | E57: 19.5 | F57: =E57*C57 -> 19.5 | G57: Dégusté | H57: Fête des Mères et Pères
B58: Cuvée Evidence | C58: 1 | D58: 1 | E58: 44 | F58: =E58*C58 -> 44 | G58: Dégusté | H58: Fêtes de fin d'année
B59: Millésime 2010 | C59: 1 | D59: 1 | E59: 40 | F59: =E59*C59 -> 40 | G59: Dégusté | H59: Fêtes de fin d'année
F60: =E60*C60 -> 0
A61: Champagne Philippe Gonet | B61: Brut Rosé | C61: 1 | D61: 1 | E61: 39 | F61: =E61*C61 -> 39 | G61: Dégusté | H61: St Valentin
F62: =E62*C62 -> 0
A63: Champagne Billecart Salmon | B63: Brut Rosé 1/2 | C63: 1 | D63: 1 | E63: 30 | F63: =E63*C63 -> 30 | G63: Dégusté | H63: St Valentin
F64: =E64*C64 -> 0
A65: Champagne De Barfontarc | B65: 100% Noirs | C65: 1 | D65: 1 | E65: 30 | F65: =E65*C65 -> 30 | G65: Dégusté | H65: Echantillon Classique
B66: 100% Blancs | C66: 1 | D66: 1 | E66: 30 | F66: =E66*C66 -> 30 | G66: Dégusté | H66: Echantillon Classique
B67: Brut Rosé | C67: 1 | E67: 16 | F67: =E67*C67 -> 16 | G67: Recu | H67: St Valentin
B68: Extra-Brut | C68: 1 | D68: 1 | E68: 35 | F68: =E68*C68 -> 35 | G68: Dégusté | H68: Echantillon Classique
F69: =E69*C69 -> 0
A70: Champagne Cattier | B70: 1/4 Brut (en coffret 2 Quart) | C70: 1 | D70: 1 | E70: 28 | F70: =E70*C70 -> 28 | G70: Dégusté | H70: St Valentin
B71: Brut Blanc de Blancs 1er Cru | C71: 1 | D71: 1 | E71: 33 | F71: =E71*C71 -> 33 | G71: Dégusté | H71: Quand l'œil est aveugle - Les Cépages
B72: Glamour Rosé | C72: 1 | D72: 1 | E72: 29 | F72: =E72*C72 -> 29 | G72: Dégusté | H72: Fête des Mères et Pères
B73: Brut Antique 1er Cru | C73: 1 | E73: 25 | F73: =E73*C73 -> 25 | G73: Recu | H73: Echantillon Classique
F74: =E74*C74 -> 0
A75: Champagne H. Blin | B75: Coffret Plaisir Rosé | C75: 1 | D75: 1 | E75: 35.5 | F75: =E75*C75 -> 35.5 | G75: Dégusté | H75: St Valentin
F76: =E76*C76 -> 0
A77: Champagne Pierre Gimonnet | B77: Rosé de Blanc | C77: 1 | D77: 1 | E77: 28 | F77: =E77*C77 -> 28 | G77: Dégusté | H77: Quand l'œil est aveugle - Les Rosés
B78: Cuvée Spécial Club 2009 | C78: 1 | D78: 1 | E78: 40 | F78: =E78*C78 -> 40 | G78: Dégusté | H78: Fêtes de fin d'année
F79: =E79*C79 -> 0
A80: Champagne Gosset-Brabant | B80: Brut Rosé 1er Cru | C80: 1 | D80: 1 | E80: 23.5 | F80: =E80*C80 -> 23.5 | G80: Dégusté | H80: Quand l'œil est aveugle - Les Rosés
F81: =E81*C81 -> 0
A82: Champagne Philipponnat | B82: Reserve Royale (Base 2005, Dégorgement 10/2008) | C82: 1 | D82: 1 | E82: 30 | F82: =E82*C82 -> 30 | G82: Dégusté | H82: Quand l'œil est aveugle - Le Vieillissement du Champagne
B83: Reserve Royale (Base 2011, Dégorgement 12/2014) | C83: 1 | D83: 1 | E83: 30 | F83: =E83*C83 -> 30 | G83: Dégusté | H83: Quand l'œil est aveugle - Le Vieillissement du Champagne
F84: =E84*C84 -> 0
A85: Champagne Solemme | B85: Nature de Solemme | C85: 1 | D85: 1 | E85: 45 | F85: =E85*C85 -> 45 | G85: Dégusté | H85: Echantillon Classique
F86: =E86*C86 -> 0
A87: Champagne Jeeper | B87: 1/2 Brut Grande Reserve | C87: 1 | D87: 1 | E87: 20 | F87: =E87*C87 -> 20 | G87: Dégusté | H87: St Valentin
F88: =E88*C88 -> 0
A89: Champagne Ayala | B89: Rosé Majeur | C89: 1 | D89: 1 | E89: 39 | F89: =E89*C89 -> 39 | G89: Dégusté | H89: Beau Jour
B90: Perle d'Ayala 2005 | C90: 1 | D90: 1 | E90: 74 | F90: =E90*C90 -> 74 | G90: Dégusté | H90: Fêtes de fin d'année
F91: =E91*C91 -> 0
A92: Champagne Mailly Grand Cru | B92: Brut Rosé | C92: 1 | D92: 1 | E92: 39 | F92: =E92*C92 -> 39 | G92: Dégusté | H92: Quand l'œil est aveugle - Les Rosés
B93: O de Mailly 2008 | C93: 1 | D93: 1 | E93: 39 | F93: =E93*C93 -> 39 | G93: Dégusté | H93: Fêtes de fin d'année
F94: =E94*C94 -> 0
A95: Champagne De Sousa | B95: Brut Réserve Grand Cru Blanc de Blancs | C95: 1 | D95: 1 | E95: 33 | F95: =E95*C95 -> 33 | G95: Dégusté | H95: Fab'ulleuse
B96: Cuvée Mycorhise | C96: 1 | D96: 1 | E96: 45 | F96: =E96*C96 -> 45 | G96: Dégusté | H96: Nouvelle Cuvée
F97: =E97*C97 -> 0
A98: Champagne Baillette-Prudhomme | B98: Rosé de Saignée | C98: 1 | D98: 1 | E98: 23 | F98: =E98*C98 -> 23 | G98: Dégusté | H98: Fab'ulleuse
F99: =E99*C99 -> 0
A100: Champagne Bonnevie Bocart | B100: Brut Tradition | C100: 1 | D100: 1 | E100: 18 | F100: =E100*C100 -> 18 | G100: Dégusté | H100: Fab'ulleuse
...

Sheet 2016
A1: Maison | B1: Echantillon Reçu | C1: Nombre | D1: Dégusté | E1: Prix | F1: Total | G1: Date
A2: Champagne Pierre Mignon | B2: Cuvée Privilege Rosé 2008 | C2: 1 | E2: 90 | F2: =E2*C2 -> 90 | G2: 42398 | H2: Recu | I2: St Valentin
B3: Cuvée Pure | C3: 1 | D3: 1 | E3: 28 | F3: =E3*C3 -> 28 | G3: 42503 | H3: Dégusté | I3: Fête des Mères et Pères
B4: Blanc de Blancs Grand Cru en coffret | C4: 1 | E4: 35 | F4: =E4*C4 -> 35 | G4: 42503 | H4: Recu | I4: Fête des Mères et Pères
B5: Cuvée Harmonie de Blanc Grand Cru 2008 | C5: 1 | D5: 1 | E5: 32 | F5: =E5*C5 -> 32 | G5: 42511 | H5: Dégusté | I5: Nouvelle Cuvée
B6: Clos des Graviers | C6: 1 | E6: 90 | F6: =E6*C6 -> 90 | G6: 42686 | H6: Recu | I6: Fêtes de fin d'année
B7: Blanc de Noirs | C7: 2 | E7: 30 | F7: =E7*C7 -> 60 | G7: 42686 | H7: Recu | I7: Fêtes de fin d'année
B8: Cuvée Désir et Sens Blanc de Blancs Grand Cru 2004 | C8: 1 | D8: 1 | E8: 82 | F8: =E8*C8 -> 82 | G8: 42511 | H8: Dégusté | I8: Nouvelle Cuvée
F9: =E9*C9 -> 0
A10: Champagne Pannier | B10: Cuvée Egérie Rosé de Saignée | C10: 1 | E10: 70 | F10: =E10*C10 -> 70 | G10: 42444 | H10: Recu | I10: Fête des Mères et Pères
B11: Blanc Velours | C11: 1 | E11: 60 | F11: =E11*C11 -> 60 | G11: 42674 | H11: Recu | I11: Fêtes de fin d'année
F12: =E12*C12 -> 0
A13: Champagne Nicolas Feuillatte | B13: Coffret seau Brut Rosé | C13: 1 | D13: 1 | E13: 31 | F13: =E13*C13 -> 31 | G13: 42407 | H13: Dégusté | I13: St Valentin
B14: Coffret Rosé Fête des meres | C14: 1 | D14: 1 | E14: 30 | F14: =E14*C14 -> 30 | G14: 42467 | H14: Dégusté | I14: Fête des Mères et Pères
B15: Ice Graphic Rosé | C15: 2 | E15: 35 | F15: =E15*C15 -> 70 | G15: 42606 | H15: Recu | I15: Nouvelle Cuvée
B16: Brut Réserve | C16: 1 | D16: 1 | E16: 27 | F16: =E16*C16 -> 27 | G16: 42671 | H16: Dégusté | I16: Fêtes de fin d'année
B17: Brut Grande Réserve | C17: 1 | D17: 1 | E17: 25 | F17: =E17*C17 -> 25 | G17: 42671 | H17: Dégusté | I17: Fêtes de fin d'année
B18: Millésime 2008 | C18: 1 | D18: 1 | E18: 32 | F18: =E18*C18 -> 32 | G18: 42671 | H18: Dégusté | I18: Fêtes de fin d'année
F19: =E19*C19 -> 0
A20: Champagne Don Caudron | B20: Cuvée Prédiction | C20: 1 | D20: 1 | E20: 30 | F20: =E20*C20 -> 30 | G20: 42691 | H20: Dégusté | I20: Fêtes de fin d'année
B21: Cuvée Epicurienne | C21: 1 | E21: 35 | F21: =E21*C21 -> 35 | G21: 42691 | H21: Recu | I21: Fêtes de fin d'année
B22: Cuvée Coralyne | C22: 1 | E22: 45 | F22: =E22*C22 -> 45 | G22: 42691 | H22: Recu | I22: Fêtes de fin d'année
F23: =E23*C23 -> 0
A24: Champagne Mouzon Leroux | B24: L'Atavique | C24: 1 | E24: 25 | F24: =E24*C24 -> 25 | G24: 42578 | H24: Recu | I24: Quand l'œil est aveugle - Les Grands Cru
F25: =E25*C25 -> 0
A26: Champagne Henriot | B26: Brut Rosé | C26: 2 | D26: 1 | E26: 38 | F26: =E26*C26 -> 76 | G26: 42396 | H26: Recu | I26: St Valentin
B27: Fancy Box Blanc de Blancs | C27: 1 | D27: 1 | E27: 39 | F27: =E27*C27 -> 39 | G27: 42651 | H27: Dégusté | I27: Fêtes de fin d'année
B28: Brut Rosé Millésime 2008 | C28: 1 | D28: 1 | E28: 43 | F28: =E28*C28 -> 43 | G28: 42464 | H28: Dégusté | I28: Beau Jour
F29: =E29*C29 -> 0
A30: Champagne Besserat de Bellefon | B30: Cuvée des Moines Blanc de Noirs | C30: 1 | D30: 1 | E30: 40 | F30: =E30*C30 -> 40 | G30: 42440 | H30: Dégusté | I30: Echantillon Classique
F31: =E31*C31 -> 0
A32: Champagne Devaux | B32: Cuvée D Rosé | C32: 1 | E32: 43 | F32: =E32*C32 -> 43 | G32: 42404 | H32: Recu | I32: St Valentin
B33: Cuvée Ultra D | C33: 1 | E33: 43 | F33: =E33*C33 -> 43 | G33: 42662 | H33: Recu | I33: Fêtes de fin d'année
B34: Cuvée Rosé | C34: 1 | D34: 1 | E34: 28 | F34: =E34*C34 -> 28 | G34: 42404 | H34: Dégusté | I34: St Valentin
B35: Grande Reserve | C35: 1 | D35: 1 | E35: 25 | F35: =E35*C35 -> 25 | G35: 42459 | H35: Dégusté | I35: Echantillon Classique
B36: Rosé des Riceys | C36: 2 | E36: 22 | F36: =E36*C36 -> 44 | G36: 42614 | H36: Recu | I36: Quand l'œil est aveugle - Les Coteaux Champenois
F37: =E37*C37 -> 0
A38: Champagne Drappier | B38: Grande Sendrée 2008 | C38: 2 | D38: 1 | E38: 82.5 | F38: =E38*C38 -> 165 | G38: 42521 | H38: Recu | I38: Echantillon Classique
B39: Grande Sendrée Rosé 2008 | C39: 1 | D39: 1 | E39: 82.5 | F39: =E39*C39 -> 82.5 | G39: 42650 | H39: Dégusté | I39: Fêtes de fin d'année
B40: Brut Nature Sans Soufre | C40: 1 | D40: 1 | E40: 38 | F40: =E40*C40 -> 38 | G40: 42650 | H40: Dégusté | I40: Fêtes de fin d'année
B41: Brut Nature | C41: 1 | D41: 1 | E41: 33.5 | F41: =E41*C41 -> 33.5 | G41: 42650 | H41: Dégusté | I41: Fêtes de fin d'année
B42: Brut Nature Rosé | C42: 1 | D42: 1 | E42: 35.5 | F42: =E42*C42 -> 35.5 | G42: 42650 | H42: Dégusté | I42: Fêtes de fin d'année
B43: Urville Rouge | C43: 2 | D43: 1 | E43: 28 | F43: =E43*C43 -> 56 | G43: 42621 | H43: Recu | I43: Quand l'œil est aveugle - Les Coteaux Champenois
B44: Blanc de Noirs | C44: 2 | E44: 28 | F44: =E44*C44 -> 56 | G44: 42621 | H44: Recu | I44: Quand l'œil est aveugle - Les Coteaux Champenois
F45: =E45*C45 -> 0
A46: Champagne Gremillet | B46: Blanc de Noirs Rouge Passion | C46: 1 | D46: 1 | E46: 35 | F46: =E46*C46 -> 35 | G46: 42396 | H46: Dégusté | I46: St Valentin
B47: Rosé Vrai | C47: 1 | E47: 24 | F47: =E47*C47 -> 24 | G47: 42476 | H47: Recu | I47: Nouvelle Cuvée
F48: =E48*C48 -> 0
A49: Champagne Philippe Gamet | B49: Brut Saignée | C49: 1 | D49: 1 | E49: 24 | F49: =E49*C49 -> 24 | G49: 42542 | H49: Dégusté | I49: Echantillon Classique
F50: =E50*C50 -> 0
A51: Champagne Bergeronneau Marion | B51: Clos des Bergeronneau | C51: 1 | D51: 1 | E51: 62 | F51: =E51*C51 -> 62 | G51: 42539 | H51: Dégusté | I51: Quand l'œil est aveugle - Les Clos
F52: =E52*C52 -> 0
A53: Champagne Mandois | B53: Brut Nature | C53: 1 | D53: 1 | E53: 30 | F53: =E53*C53 -> 30 | G53: 42516 | H53: Dégusté | I53: Nouvelle Cuvée
B54: Clos Mandois 2004 | C54: 1 | E54: 100 | F54: =E54*C54 -> 100 | G54: 42674 | H54: Recu | I54: Fêtes de fin d'année
F55: =E55*C55 -> 0
A56: Champagne Cattier | B56: Cuvée Red Kiss Rosé | C56: 1 | E56: 55 | F56: =E56*C56 -> 55 | G56: 42395 | H56: Recu | I56: St Valentin
B57: Rosé 1er Cru | C57: 1 | D57: 1 | E57: 35 | F57: =E57*C57 -> 35 | G57: 42510 | H57: Dégusté | I57: Fête des Mères et Pères
B58: Clos du Moulin | C58: 1 | D58: 1 | E58: 65 | F58: =E58*C58 -> 65 | G58: 42522 | H58: Dégusté | I58: Quand l'œil est aveugle - Les Clos
B59: Clos du Moulin Rosé | C59: 2 | D59: 1 | E59: 75 | F59: =E59*C59 -> 150 | G59: 42686 | H59: Recu | I59: Fêtes de fin d'année
F60: =E60*C60 -> 0
A61: Champagne Guy Charbaut | B61: Brut Rosé 1er Cru | C61: 1 | E61: 23 | F61: =E61*C61 -> 23 | G61: 42419 | H61: Recu | I61: St Valentin
F62: =E62*C62 -> 0
A63: Champagne Pierre Gimonnet | B63: Spécial Club Oger Grand Cru 2012 | C63: 1 | E63: 45 | F63: =E63*C63 -> 45 | G63: 42661 | H63: Recu | I63: Quand l'œil est aveugle - Les Grands Cru
B64: Fleuron 2009 | C64: 1 | E64: 33 | F64: =E64*C64 -> 33 | G64: 42661 | H64: Recu | I64: Fêtes de fin d'année
F65: =E65*C65 -> 0
A66: Champagne Gosset-Brabant | B66: Noirs d'Aÿ | C66: 1 | E66: 35 | F66: =E66*C66 -> 35 | G66: 42661 | H66: Recu | I66: Quand l'œil est aveugle - Les Grands Cru
F67: =E67*C67 -> 0
A68: Champagne Dumesnil | B68: Rosé | C68: 1 | E68: 25 | F68: =E68*C68 -> 25 | G68: 42542 | H68: Recu | I68: Echantillon Classique
F69: =E69*C69 -> 0
A70: Champagne Ayala | B70: Cuvée Rosé N°8 | C70: 1 | D70: 1 | E70: 50 | F70: =E70*C70 -> 50 | G70: 42482 | H70: Dégusté | I70: Nouvelle Cuvée
B71: Blanc de Blancs 2008 | C71: 1 | E71: 48 | F71: =E71*C71 -> 48 | G71: 42629 | H71: Recu | I71: Nouvelle Cuvée
F72: =E72*C72 -> 0
A73: Champagne Mailly Grand Cru | B73: Brut Réserve | C73: 1 | E73: 27 | F73: =E73*C73 -> 27 | G73: 42661 | H73: Recu | I73: Quand l'œil est aveugle - Les Grands Cru
B74: Blanc de Noirs | C74: 1 | E74: 32 | F74: =E74*C74 -> 32 | G74: 42642 | H74: Recu | I74: Echantillon Classique
F75: =E75*C75 -> 0
A76: Champagne De Sousa | B76: Cuvée 3A | C76: 1 | D76: 1 | E76: 43 | F76: =E76*C76 -> 43 | G76: 42385 | H76: Dégusté | I76: St Valentin
B77: Coffret 2 Rosé (Rosé de Saignée et Cuvée Distinguée) | C77: 2 | D77: 1 | E77: 48 | F77: =E77*C77 -> 96 | G77: 42515 | H77: Recu | I77: Fête des Mères et Pères
B78: Blanc de Noirs Grand Cru | C78: 1 | D78: 1 | E78: 48 | F78: =E78*C78 -> 48 | G78: 42655 | H78: Dégusté | I78: Nouvelle Cuvée
F79: =E79*C79 -> 0
A80: Champagne Colin | B80: Cuvée Enjoleuse 2007 | C80: 1 | D80: 1 | E80: 40 | F80: =E80*C80 -> 40 | G80: 42415 | H80: Dégusté | I80: St Valentin
F81: =E81*C81 -> 0
A82: Champagne Bonnaire | B82: Blanc de Blancs Grand Cru | C82: 2 | E82: 25.5 | F82: =E82*C82 -> 51 | G82: 03/082016 | H82: Recu | I82: Quand l'œil est aveugle - Les Grands Cru
F83: =E83*C83 -> 0
A84: Champagne Jacques Rousseaux | B84: Cuvée Grande Reserve | C84: 2 | D84: 1 | E84: 25.1 | F84: =E84*C84 -> 50.2 | G84: 42579 | H84: Recu | I84: Quand l'œil est aveugle - Les Grands Cru
F85: =E85*C85 -> 0
A86: Champagne Claude Cazals | B86: La Chapelle du Clos 2007 | C86: 2 | D86: 1 | E86: 65 | F86: =E86*C86 -> 130 | G86: 42544 | H86: Recu | I86: Quand l'œil est aveugle - Les Clos
F87: =E87*C87 -> 0
A88: Champagne Doyard | B88: Clos de l'Abbaye 2011 | C88: 1 | D88: 1 | E88: 70 | F88: =E88*C88 -> 70 | G88: 42525 | H88: Dégusté | I88: Quand l'œil est aveugle - Les Clos
F89: =E89*C89 -> 0
A90: Champagne Veuve Clicquot | B90: Coffret Clic'Call Rosé | C90: 1 | D90: 1 | E90: 40 | F90: =E90*C90 -> 40 | G90: 42398 | H90: Dégusté | I90: St Valentin
B91: Coffret Clicquot Message Rosé | C91: 1 | D91: 1 | E91: 40 | F91: =E91*C91 -> 40 | G91: 42398 | H91: Dégusté | I91: St Valentin
B92: La Grande Dame Rosé 2006 | C92: 1 | D92: 1 | E92: 300 | F92: =E92*C92 -> 300 | G92: 42459 | H92: Dégusté | I92: Echantillon Classique
B93: Vintage 2008 | C93: 1 | E93: 58 | F93: =E93*C93 -> 58 | G93: 42482 | H93: Recu | I93: Nouvelle Cuvée
B94: Vintage Rosé 2008 | C94: 2 | D94: 2 | E94: 62 | F94: =E94*C94 -> 124 | G94: 42684 | H94: Dégusté | I94: Fêtes de fin d'année
B95: Coffret Clicquot Arrow | C95: 1 | D95: 1 | E95: 44 | F95: =E95*C95 -> 44 | G95: 42684 | H95: Dégusté | I95: Fêtes de fin d'année
B96: Rich Rosé | C96: 1 | E96: 56 | F96: =E96*C96 -> 56 | G96: 42552 | H96: Recu | I96: Nouvelle Cuvée
F97: =E97*C97 -> 0
A98: Champagne Delamotte | B98: Brut Blanc de Blancs | C98: 2 | D98: 2 | E98: 42 | F98: =E98*C98 -> 84 | G98: 42630 | H98: Dégusté | I98: Fêtes de fin d'année
F99: =E99*C99 -> 0
A100: Champagne Rodez | B100: Blanc de Noirs | C100: 2 | D100: 1 | E100: 40 | F100: =E100*C100 -> 80 | G100: 42625 | H100: Recu | I100: Quand l'œil est aveugle - Les Grands Cru
...

Sheet 2017
A1: Maison | B1: Echantillon Reçu | C1: Nombre | D1: Dégusté | E1: Prix | F1: Total | G1: Date
A2: Champagne Pierre Mignon | B2: Cuvée Feminity | C2: 1 | D2: 1 | E2: 35 | F2: =E2*C2 -> 35 | G2: 42776 | H2: Dégusté | I2: Saint Valentin
B3: Cuvée Esprit de Noël 2006 | C3: 1 | E3: 68 | F3: =E3*C3 -> 68 | G3: 43012 | H3: Recu | I3: Fêtes de fin d'année
F4: =E4*C4 -> 0
A5: Champagne Bollinger | B5: Grande Année 2007 | C5: 1 | E5: 110 | F5: =E5*C5 -> 110 | G5: 42755 | H5: Recu | I5: Nouvelle Cuvée
B6: Rosé 2006 | C6: 1 | E6: 89 | F6: =E6*C6 -> 89 | G6: 42996 | H6: Recu | I6: Fêtes de fin d'année
F7: =E7*C7 -> 0
A8: Champagne Nicolas Feuillatte | B8: 1/2 Brut Rosé | C8: 1 | D8: 1 | E8: 13 | F8: =E8*C8 -> 13 | G8: 42780 | H8: Dégusté | I8: Saint Valentin
B9: Brut Rosé | C9: 2 | E9: 26 | F9: =E9*C9 -> 52 | G9: 42829 | H9: Recu | I9: Beau Jour
B10: Blanc de Blancs Grand Cru 2008 | C10: 2 | D10: 2 | E10: 37.5 | F10: =E10*C10 -> 75 | G10: 43018 | H10: Dégusté | I10: Beau Jour
B11: Blanc de Blancs 2008 | C11: 1 | D11: 1 | E11: 32 | F11: =E11*C11 -> 32 | G11: 42829 | H11: Dégusté | I11: Beau Jour
B12: Brut Réserve | C12: 1 | D12: 1 | E12: 26 | F12: =E12*C12 -> 26 | G12: 43018 | H12: Dégusté | I12: Fêtes de fin d'année
B13: Millésime 2008 | C13: 1 | D13: 1 | E13: 30 | F13: =E13*C13 -> 30 | G13: 43018 | H13: Dégusté | I13: Fêtes de fin d'année
B14: Blanc de Noirs 2006 | C14: 1 | D14: 1 | E14: 37.5 | F14: =E14*C14 -> 37.5 | G14: 43018 | H14: Dégusté | I14: Fêtes de fin d'année
B15: Palme d'Or 2006 | C15: 1 | E15: 90 | F15: =E15*C15 -> 90 | G15: 43018 | H15: Recu | I15: Fêtes de fin d'année
F16: =E16*C16 -> 0
A17: Champagne Tribaut Schloesser | B17: Cuvée Authentique 2009 | C17: 1 | E17: 40 | F17: =E17*C17 -> 40 | G17: 42804 | H17: Recu | I17: Nouvelle Cuvée
F18: =E18*C18 -> 0
A19: Champagne Henriot | B19: Coffret Saint Valentin Brut Rosé | C19: 1 | E19: 55 | F19: =E19*C19 -> 55 | G19: 42767 | H19: Recu | I19: Saint Valentin
B20: Cuvée des Enchanteleurs 2000 | C20: 2 | E20: 120 | F20: =E20*C20 -> 240 | G20: 43032 | H20: Recu | I20: Quand l'œil est aveugle - Cuvée Haute Couture
B21: Blanc de Blancs | C21: 1 | E21: 39 | F21: =E21*C21 -> 39 | G21: 42978 | H21: Recu | I21: Fêtes de fin d'année
F22: =E22*C22 -> 0
A23: Champagne Gallimard | B23: Cuvée Amphoressence | C23: 1 | E23: 39 | F23: =E23*C23 -> 39 | G23: 42822 | H23: Recu | I23: Nouvelle Cuvée
F24: =E24*C24 -> 0
A25: Champagne Philippe Gamet | B25: Extra Brut Caractères | C25: 1 | E25: 43 | F25: =E25*C25 -> 43 | G25: 43070 | H25: Recu | I25: Fêtes de fin d'année
F26: =E26*C26 -> 0
A27: Champagne Devaux | B27: D Rosé | C27: 1 | E27: 47 | F27: =E27*C27 -> 47 | G27: 42761 | H27: Recu | I27: Saint Valentin
B28: Cuvée Augusta | C28: 1 | E28: 24 | F28: =E28*C28 -> 24 | G28: 42788 | H28: Recu | I28: Nouvelle Cuvée
B29: Version 1 Coteaux Champenois | C29: 1 | E29: 35 | F29: =E29*C29 -> 35 | G29: 43019 | H29: Recu | I29: Fêtes de fin d'année
B30: Cuvée Sténopé 2010 | C30: 1 | E30: 130 | F30: =E30*C30 -> 130 | G30: 43019 | H30: Recu | I30: Fêtes de fin d'année
F31: =E31*C31 -> 0
A32: Champagne Eric Tallet | B32: Bansionensi | C32: 1 | E32: 31 | F32: =E32*C32 -> 31 | G32: 42919 | H32: Recu | I32: Echantillon classique
B33: Le Bois de Binson | C33: 1 | E33: 49 | F33: =E33*C33 -> 49 | G33: 42919 | H33: Recu | I33: Echantillon classique
B34: Décennie 2004 | C34: 1 | E34: 45 | F34: =E34*C34 -> 45 | G34: 42919 | H34: Recu | I34: Echantillon classique
B35: Sur le grand Marais | C35: 1 | E35: 38 | F35: =E35*C35 -> 38 | G35: 42919 | H35: Recu | I35: Echantillon classique
F36: =E36*C36 -> 0
A37: Champagne Gremillet | B37: Brut étiquette Saint Valentin | C37: 1 | E37: 22 | F37: =E37*C37 -> 22 | G37: 42761 | H37: Recu | I37: Saint Valentin
B38: Coteaux Champenois Rouge "Balnot" | C38: 2 | E38: 26 | F38: =E38*C38 -> 52 | G38: 42786 | H38: Recu | I38: Quand l'œil est aveugle - Les Coteaux Champenois
F39: =E39*C39 -> 0
A40: Champagne Barrat Masson | B40: Fleur de Craie | C40: 1 | D40: 1 | E40: 34 | F40: =E40*C40 -> 34 | G40: 42835 | H40: Dégusté | I40: Article Secraie
F41: =E41*C41 -> 0
A42: Champagne Benoit Cocteaux | B42: Or Blanc | C42: 1 | D42: 1 | E42: 22 | F42: =E42*C42 -> 22 | G42: 42835 | H42: Dégusté | I42: Article Secraie
F43: =E43*C43 -> 0
A44: Champagne Mandois | B44: Rosé Grande Réserve | C44: 1 | E44: 28 | F44: =E44*C44 -> 28 | G44: 42858 | H44: Recu | I44: Beau Jour
B45: Blanc de Noirs 2012 | C45: 1 | E45: 32 | F45: =E45*C45 -> 32 | G45: 43012 | H45: Recu | I45: Fêtes de fin d'année
F46: =E46*C46 -> 0
A47: Champagne Cattier | B47: Brut Icône | C47: 1 | D47: 1 | E47: 24.9 | F47: =E47*C47 -> 24.9 | G47: 42747 | H47: Dégusté | I47: Article Sponcor
B48: Brut Quartz | C48: 1 | D48: 1 | E48: 23.9 | F48: =E48*C48 -> 23.9 | G48: 42747 | H48: Dégusté | I48: Article Sponcor
F49: =E49*C49 -> 0
A50: Champagne Cédric Guyot | B50: Millésime 2010 | C50: 1 | D50: 1 | E50: 15.5 | F50: =E50*C50 -> 15.5 | G50: 42835 | H50: Dégusté | I50: Article Secraie
F51: =E51*C51 -> 0
A52: Champagne Pierre Gimonnet | B52: Rosé de Blancs | C52: 1 | E52: 29 | F52: =E52*C52 -> 29 | G52: 42887 | H52: Recu | I52: Echantillon classique
B53: Cuvée Fleuron 2010 | C53: 1 | E53: 33 | F53: =E53*C53 -> 33 | G53: 43020 | H53: Recu | I53: Fêtes de fin d'année
B54: Cuvée Gastronome 2012 | C54: 2 | D54: 1 | E54: 29 | F54: =E54*C54 -> 58 | G54: 42887 | H54: Recu | I54: Echantillon classique
F55: =E55*C55 -> 0
A56: Champagne Gosset-Brabant | B56: Rosé 1er Cru | C56: 1 | E56: 35 | F56: =E56*C56 -> 35 | G56: 42887 | H56: Recu | I56: Echantillon classique
B57: Cuvée Gabriel 2008 | C57: 1 | E57: 49 | F57: =E57*C57 -> 49 | G57: 43020 | H57: Recu | I57: Fêtes de fin d'année
F58: =E58*C58 -> 0
A59: Champagne Pierre Launay | B59: Extra-Brut Blanc de Blancs Millésime 2008 | C59: 1 | D59: 1 | E59: 31.5 | F59: =E59*C59 -> 31.5 | G59: 42835 | H59: Dégusté | I59: Article Secraie
F60: =E60*C60 -> 0
A61: Champagne Ayala | B61: Brut Majeur | C61: 1 | D61: 1 | E61: 28 | F61: =E61*C61 -> 28 | G61: 42811 | H61: Dégusté | I61: Echantillon classique
B62: Blanc de Blancs 2010 | C62: 1 | E62: 49 | F62: =E62*C62 -> 49 | G62: 42996 | H62: Recu | I62: Fêtes de fin d'année
F63: =E63*C63 -> 0
A64: Champagne Collet | B64: Rosé Dry Collection privée | C64: 1 | E64: 43 | F64: =E64*C64 -> 43 | G64: 42832 | H64: Recu | I64: Fêtes des mères et pères
B65: Blanc de Noirs 1er Cru | C65: 1 | E65: 36 | F65: =E65*C65 -> 36 | G65: 43027 | H65: Recu | I65: Fêtes de fin d'année
B66: Brut Vintage 2008 Collection privée | C66: 1 | E66: 56 | F66: =E66*C66 -> 56 | G66: 42832 | H66: Recu | I66: Fêtes des mères et pères
F67: =E67*C67 -> 0
A68: Champagne Louis de Sacy | B68: Grand Cru | C68: 1 | E68: 36 | F68: =E68*C68 -> 36 | G68: 42866 | H68: Recu | I68: Nouvelle etiquette
B69: Rosé de Saignée | C69: 1 | E69: 46 | F69: =E69*C69 -> 46 | G69: 42866 | H69: Recu | I69: Nouvelle etiquette
B70: Originel | C70: 1 | E70: 27 | F70: =E70*C70 -> 27 | G70: 42866 | H70: Recu | I70: Nouvelle etiquette
B71: Inédite | C71: 1 | E71: 57 | F71: =E71*C71 -> 57 | G71: 42866 | H71: Recu | I71: Nouvelle etiquette
F72: =E72*C72 -> 0
A73: Champagne Bernard Doyard | B73: Brut Tradition | C73: 1 | D73: 1 | E73: 16 | F73: =E73*C73 -> 16 | G73: 42835 | H73: Dégusté | I73: Article Secraie
F74: =E74*C74 -> 0
A75: Champagne Marie Copinet | B75: Brut Nature | C75: 1 | D75: 1 | E75: 30 | F75: =E75*C75 -> 30 | G75: 42835 | H75: Dégusté | I75: Article Secraie
F76: =E76*C76 -> 0
A77: Champagne Delong Marlene | B77: Esprit Nature Chardonnay | C77: 1 | D77: 1 | E77: 33 | F77: =E77*C77 -> 33 | G77: 42835 | H77: Dégusté | I77: Article Secraie
F78: =E78*C78 -> 0
A79: Champagne Frederic Torchet | B79: Blanc de Blancs | C79: 1 | E79: 20 | F79: =E79*C79 -> 20 | G79: 42835 | H79: Recu | I79: Article Secraie
F80: =E80*C80 -> 0
A81: Champagne Michel Marcoult | B81: Cuvée Authentique Les Macrêts | C81: 1 | E81: 25 | F81: =E81*C81 -> 25 | G81: 42835 | H81: Recu | I81: Article Secraie
F82: =E82*C82 -> 0
A83: Champagne Veuve Clicquot | B83: Coffret Clicquot Flag Rosé | C83: 1 | E83: 50 | F83: =E83*C83 -> 50 | G83: 42752 | H83: Recu | I83: Saint Valentin
B84: Cuvée Demi Sec | C84: 1 | E84: 50 | F84: =E84*C84 -> 50 | G84: 42822 | H84: Recu | I84: Article Sponcor
B85: Cork Ice Jacket | C85: 1 | D85: 1 | E85: 40 | F85: =E85*C85 -> 40 | G85: 42905 | H85: Dégusté | I85: Echantillon classique
B86: Coffret Arrow | C86: 1 | D86: 1 | E86: 52 | F86: =E86*C86 -> 52 | G86: 43012 | H86: Dégusté | I86: Fêtes de fin d'année
B87: Coffret Arrow Magnétique | C87: 1 | D87: 1 | E87: 44 | F87: =E87*C87 -> 44 | G87: 43012 | H87: Dégusté | I87: Fêtes de fin d'année
B88: Extra Old Extra Brut | C88: 1 | E88: 80 | F88: =E88*C88 -> 80 | G88: 43073 | H88: Recu | I88: Fêtes de fin d'année
B89: La Grande Dame 2006 | C89: 2 | E89: 145 | F89: =E89*C89 -> 290 | G89: 43035 | H89: Recu | I89: Quand l'œil est aveugle - Cuvée Haute Couture
F90: =E90*C90 -> 0
A91: Champagne René Collet | B91: Empreinte de Terroir Chardonnay | C91: 1 | D91: 1 | E91: 22 | F91: =E91*C91 -> 22 | G91: 42835 | H91: Dégusté | I91: Article Secraie
F92: =E92*C92 -> 0
A93: Champagne G.Richomme | B93: Brut Grande Réserve Blanc de Blancs | C93: 1 | E93: 15 | F93: =E93*C93 -> 15 | G93: 42835 | H93: Recu | I93: Article Secraie
F94: =E94*C94 -> 0
A95: Champagne De Castelnau | B95: Brut Rosé | C95: 1 | E95: 32 | F95: =E95*C95 -> 32 | G95: 42842 | H95: Recu | I95: Beau Jour
B96: Brut Réserve | C96: 1 | E96: 28 | F96: =E96*C96 -> 28 | H96: Recu | I96: Fêtes de fin d'année
B97: Blancs de Blancs 2004 | C97: 1 | E97: 42 | F97: =E97*C97 -> 42 | H97: Recu | I97: Fêtes de fin d'année
F98: =E98*C98 -> 0
A99: Champagne Pannier | B99: Cuvée Egérie Rosé de Saignée | C99: 1 | E99: 70 | F99: =E99*C99 -> 70 | G99: 42852 | H99: Recu | I99: Beau Jour
B100: Cuvée Blanc de Noirs 2012 | C100: 1 | E100: 30 | F100: =E100*C100 -> 30 | G100: 43062 | H100: Recu | I100: Fêtes de fin d'année
...

Sheet Ancienne
A1: Maison | B1: Echantillon Reçu | C1: Nombre | D1: Dégusté | E1: Prix | F1: Total | G1: Date
A2: Champagne Mercier | B2: Brut | C2: 1 | E2: 18 | F2: =E2*C2 -> 18
A4: Champagne JM Godbillard et fils | B4: Grande Réserve 1er Cru | C4: 1 | E4: 20 | F4: =E4*C4 -> 20
A6: Chanpagne Janisson Baradon | B6: Extra Brut | C6: 1 | D6: 1 | E6: 25 | F6: =E6*C6 -> 25 | G6: 42659 | H6: Dégusté
B7: Brut Nature | C7: 1 | E7: 30 | F7: =E7*C7 -> 30
B8: Millésime 2002 | C8: 1 | D8: 1 | E8: 40 | F8: =E8*C8 -> 40 | G8: 42631 | H8: Dégusté
A10: Champagne Savart | B10: L'année 2008 | C10: 1 | E10: 40 | F10: =E10*C10 -> 40
B11: L'année 2009 | C11: 1 | D11: 1 | E11: 40 | F11: =E11*C11 -> 40 | G11: 42666 | H11: Dégusté
B12: Caliope 2006 | C12: 1 | D12: 1 | E12: 40 | F12: =E12*C12 -> 40 | G12: 42680 | H12: Dégusté
B13: La Dame de Cœur 2009 | C13: 1 | D13: 1 | E13: 62 | F13: =E13*C13 -> 62 | G13: 42848 | H13: Dégusté
B14: Bulle de Rosé | C14: 1 | D14: 1 | E14: 30 | F14: =E14*C14 -> 30 | G14: 42715 | H14: Dégusté
A16: Champagne Jeeper | B16: Grande Réserve Blanc de Blancs | C16: 1 | D16: 1 | E16: 20 | F16: =E16*C16 -> 20 | G16: 42638 | H16: Dégusté
A18: Chanpagne JM Séléque | B18: Comédie 2007 | C18: 1 | D18: 1 | E18: 40 | F18: =E18*C18 -> 40 | G18: 42624 | H18: Dégusté
B19: Comédie 2008 | C19: 1 | D19: 1 | E19: 40 | F19: =E19*C19 -> 40 | G19: 43009 | H19: Dégusté
B20: Partition 2008 | C20: 1 | D20: 1 | E20: 50 | F20: =E20*C20 -> 50 | G20: 42693 | H20: Dégusté
A22: Champagne Lanson | B22: Demi-Sec | C22: 1 | E22: 30 | F22: =E22*C22 -> 30
A24: Champagne Heidsieck & Co Monopole | B24: Grande Cuvée | C24: 1 | E24: 15 | F24: =E24*C24 -> 15
A26: Champagne Pierre Peters | B26: Les Chétillons 2002 | C26: 1 | D26: 1 | E26: 70 | F26: =E26*C26 -> 70 | G26: 42679 | H26: Dégusté
A28: Champagne Pierre Gimonnet | B28: Oenophile 2005 | C28: 1 | D28: 1 | E28: 35 | F28: =E28*C28 -> 35 | G28: 42649 | H28: Dégusté
A30: Champagne Olivier Horiot | B30: Séve Rosé de Saignée | C30: 1 | D30: 1 | E30: 35 | F30: =E30*C30 -> 35 | G30: 42617 | H30: Dégusté
A32: Champagne Vilmart & Cie | B32: Grand Cellier | C32: 1 | D32: 1 | E32: 40 | F32: =E32*C32 -> 40 | G32: 42652 | H32: Dégusté
A34: Champagne Jacquesson | B34: Cuvée 737 | C34: 1 | D34: 1 | E34: 35 | F34: =E34*C34 -> 35 | G34: 42743 | H34: Dégusté
A36: Champagne Bollinger | B36: Spécial Cuvée | C36: 1 | D36: 1 | E36: 40 | F36: =E36*C36 -> 40 | G36: 42645 | H36: Dégusté
A38: Champagne Bérèche et Fils | B38: Cuvée l'Instant Le Cran 2004 | C38: 1 | D38: 1 | E38: 50 | F38: =E38*C38 -> 50 | H38: Dégusté
A40: Champagne Vernier et Fils | B40: Cuvée Fleuron | C40: 1 | D40: 1 | E40: 18 | F40: =E40*C40 -> 18 | G40: 42918 | H40: Dégusté
A42: Champagne Charles de Courance | B42: Brut | C42: 1 | E42: 15 | F42: =E42*C42 -> 15
B45: Total Bouteilles | C45: =SUM(C2:C43) -> 25 | D45: =SUM(D2:D43) -> 18 | F45: =SUM(F2:F43) -> 878
B47: Bouteilles Restante | C47: =C45-D45 -> 7

Sheet Statistique
A2: Nb de bouteille reçu en 2014 | B2: ='2014'!C71 -> 77
A3: Nb de bouteille restante de 2014 | B3: ='2014'!C73 -> 1
A5: Nb de bouteille reçu en 2015 | B5: ='2015'!C207 -> 147
A6: Nb de bouteille restante de 2015 | B6: ='2015'!C209 -> 9
A8: Nb de bouteille reçu en 2016 | B8: ='2016'!C183 -> 144
A9: Nb de bouteille restante de 2016 | B9: ='2016'!C185 -> 68
A11: Nb de bouteille reçu en 2017 | B11: ='2017'!C193 -> 138
A12: Nb de bouteille restante de 2017 | B12: ='2017'!C195 -> 110
A14: Nb de bouteille ancienne | B14: =Ancienne!C45 -> 25
A15: Nb de bouteille restante | B15: =Ancienne!C47 -> 7
A17: Total de bouteille restante | B17: =B15+B12+B9+B6+B3 -> 195
