Workbook

Sheet Données
A1: CP | B1: Secteur | C1: Suspects | D1: client | E1: Critere 1 | F1: Critere 2 | G1: Critere 3 | H1: Critere 4 | I1: Critere 5 | J1: Critere 6 | K1: Critere 7
A2: 1 | B2: Rhône-Alpes | C2: 3567 | D2: 165
A3: 2 | B3: Nord / Ile de France | C3: 4234 | D3: 267
A4: 3 | B4: Centre | C4: 512 | D4: 23
A5: 4 | B5: Sud Est / PACA | C5: 1567 | D5: 515
A6: 5 | B6: Sud Est / PACA | C6: 2367 | D6: 359
A7: 6 | B7: Sud Est / PACA | C7: 10342 | D7: 905
A8: 7 | B8: Sud Est / PACA | C8: 6234 | D8: 515
A9: 8 | B9: Nord / Ile de France | C9: 731 | D9: 359
A10: 9 | B10: Sud Ouest / Occitanie | C10: 3234 | D10: 0
A11: 10 | B11: Nord / Ile de France | C11: 6434 | D11: 168
A12: 11 | B12: Sud Ouest / Occitanie | C12: 5678 | D12: 65
A13: 12 | B13: Sud Ouest / Occitanie | C13: 7856 | D13: 0
... A96: 95 | B96: Nord / Ile de France | C96: 7633 | D96: 635

Sheet Carte
A1: Secteur | B1: Suspects | C1: Prospects | D1: Clients | E1: Part de marché % | F1: Critere 1 | G1: Critere 2 | H1: Critere 3 | I1: Critere 4 | J1: Critere 5 | K1: Critere 6 | L1: Critere 7
A2: Nord / Ile de France | B2: =SUMIF(Données!B:C,Carte!A2,Données!C:C) -> 148768 | C2: =B2-D2 -> 144707 | D2: =SUMIF(Données!B:D,Carte!A2,Données!D:D) -> 4061 | E2: =D2/B2 -> 0.027297537
A3: Nord Ouest / Bretagne | B3: =SUMIF(Données!B:C,Carte!A3,Données!C:C) -> 67683 | C3: =B3-D3 -> 62767 | D3: =SUMIF(Données!B:D,Carte!A3,Données!D:D) -> 4916 | E3: =D3/B3 -> 0.072632714
A4: Grand Est | B4: =SUMIF(Données!B:C,Carte!A4,Données!C:C) -> 54334 | C4: =B4-D4 -> 51059 | D4: =SUMIF(Données!B:D,Carte!A4,Données!D:D) -> 3275 | E4: =D4/B4 -> 0.060275334
A5: Rhône-Alpes | B5: =SUMIF(Données!B:C,Carte!A5,Données!C:C) -> 74829 | C5: =B5-D5 -> 72626 | D5: =SUMIF(Données!B:D,Carte!A5,Données!D:D) -> 2203 | E5: =D5/B5 -> 0.029440458
A6: Sud Est / PACA | B6: =SUMIF(Données!B:C,Carte!A6,Données!C:C) -> 54035 | C6: =B6-D6 -> 49661 | D6: =SUMIF(Données!B:D,Carte!A6,Données!D:D) -> 4374 | E6: =D6/B6 -> 0.080947534
A7: Sud Ouest / Occitanie | B7: =SUMIF(Données!B:C,Carte!A7,Données!C:C) -> 52722 | C7: =B7-D7 -> 50698 | D7: =SUMIF(Données!B:D,Carte!A7,Données!D:D) -> 2024 | E7: =D7/B7 -> 0.038390046
A8: Centre | B8: =SUMIF(Données!B:C,Carte!A8,Données!C:C) -> 65141 | C8: =B8-D8 -> 62516 | D8: =SUMIF(Données!B:D,Carte!A8,Données!D:D) -> 2625 | E8: =D8/B8 -> 0.040297201
A9: x
A10: TOTAL | B10: =SUM(B2:B9) -> 517512 | C10: =SUM(C2:C9) -> 494034 | D10: =SUM(D2:D9) -> 23478 | E10: =D10/B10 -> 0.045367064

Sheet Secteur 1
A1: CP | B1: Secteur | C1: Suspects | D1: clients | E1: Part de marché | F1: Critere 1 | G1: Critere 2 | H1: Critere 3 | I1: Critere 4 | J1: Critere 5 | K1: Critere 6 | L1: Critere 7
A2: 14 | B2: Nord Ouest / Bretagne | C2: 3457 | D2: 473 | E2: =D2/C2 -> 0.13682384
A3: 22 | B3: Nord Ouest / Bretagne | C3: 6234 | D3: 534 | E3: =D3/C3 -> 0.085659288
A4: 29 | B4: Nord Ouest / Bretagne | C4: 3457 | D4: 515 | E4: =D4/C4 -> 0.1489731
A5: 35 | B5: Nord Ouest / Bretagne | C5: 2367 | D5: 544 | E5: =D5/C5 -> 0.22982678
A6: 44 | B6: Nord Ouest / Bretagne | C6: 3457 | D6: 534 | E6: =D6/C6 -> 0.15446919
A7: 49 | B7: Nord Ouest / Bretagne | C7: 10342 | D7: 359 | E7: =D7/C7 -> 0.034712822
A8: 50 | B8: Nord Ouest / Bretagne | C8: 6234 | D8: 905 | E8: =D8/C8 -> 0.14517164
A9: 53 | B9: Nord Ouest / Bretagne | C9: 6434 | D9: 0 | E9: =D9/C9 -> 0
A10: 56 | B10: Nord Ouest / Bretagne | C10: 16789 | D10: 0 | E10: =D10/C10 -> 0
A11: 61 | B11: Nord Ouest / Bretagne | C11: 5678 | D11: 147 | E11: =D11/C11 -> 0.025889398
A12: 72 | B12: Nord Ouest / Bretagne | C12: 3234 | D12: 905 | E12: =D12/C12 -> 0.27983921

Sheet Secteur 2
