Workbook
Name stock: 'STOCK 2015'!$A$7:$M$37

Sheet Référence

Sheet $Modele$
F2: A REMPLIR
A3: Fournisseur | B3: Nom | C3: REF | D3: MINI par COMMANDE | E3: Quantité par PQt | F3: Nb de palettes | G3: Qt par palette | H3: STOCK
A4: RAJA | B4: DISTRIMOUSSE | C4: DTM | D4: 84 | E4: 1 | G4: 12 | H4: 0
A5: RAJA | B5: QUICKBOXQB17 | C5: QB17 | D5: 780 | E5: 20 | G5: 780 | H5: 0
A6: RAJA | B6: QUICKBOXQB25 | C6: QB25 | D6: 520 | E6: 20 | G6: 520 | H6: 0
A7: RAJA | B7: PQ 2000 PAP DE SOIE PAM01 | C7: PAM01 | D7: 1 | E7: 2000 | G7: 2000 | H7: 0
A8: RAJA | B8: RL 1000 PASTILLE ADH ADP330 | C8: ADP330 | D8: 10 | E8: 1000 | G8: 1 | H8: 0
A9: RAJA | B9: POCHETTE MAIL TUFF MTG4N | C9: MTG4N | D9: 1 | E9: 50 | G9: 50 | H9: 0
A10: RAJA | B10: RAJAPOSTE RPT03 | C10: RPT03 | D10: 50 | E10: 50 | G10: 50 | H10: 0
A11: RAJA | B11: BBA31 (QB17) | C11: BBA31 | D11: 1080 | E11: 20 | G11: 1080 | H11: 0
A12: RAJA | B12: BBA25 (QB15) | C12: BBA25 | D12: 2160 | E12: 20 | G12: 2160 | H12: 0
A13: RAJA | B13: BBA45 (QB25) | C13: BBA45 | D13: 540 | E13: 20 | G13: 540 | H13: 0
A14: RAJA | B14: BBA50 (QB30) | C14: BBA50 | D14: 500 | E14: 20 | G14: 500 | H14: 0
A15: RAJA | B15: BBA55 (QB33) | C15: BBA55 | D15: 500 | E15: 20 | G15: 500 | H15: 0
... A26: RAJA | B26: ETIQUETTE NE PAS GERBER ETIC242 | C26: ETIC242 | D26: 1 | E26: 2 | G26: 2 | H26: 0
A27: RAJA | B27: ADHESIF ALEHOS G0016 | C27: G0016 | E27: 36 | G27: 36 | H27: 0
A28: RAJA | B28: SACHET PLASTIQUE 30X40 RGP10 | C28: RGP10 | D28: 1 | E28: 1000 | G28: 1000 | H28: 0
A29: RAJA | B29: SACHET PLASTIQUE 30X40 RGP09 | C29: RGP09 | D29: 1 | E29: 1000 | G29: 1000 | H29: 0
A30: RAJA | B30: GAINE | C30: GAINE35B | D30: 1 | E30: 1 | G30: 1 | H30: 0
A31: RAJA | B31: ETIQUETTE | C31: ETIC172 | D31: 1 | E31: 2 | G31: 0 | H31: 0
A33: RAJA | B33: CAS32 (PROMO) | C33: CAS32 | H33: 0
A34: RAJA | B34: CPL2532 (PROMO) | C34: CPL2532 | H34: 0

Sheet STOCK 2015
A2: http://www.raja.fr/?langId=-2&storeId=10051&catalogId=10051
F5: A REMPLIR | J5: CONSO 2014
A6: Fournisseur | B6: Nom | C6: REF | D6: MINI par COMMANDE | E6: Quantité par PQt | F6: Nb de palettes | G6: Qt par palette | H6: STOCK | I6: Stock futur | J6: St au PQT | K6: PAR AN | L6: PAR MOIS | M6: PAR J
A7: RAJA | B7: DISTRIMOUSSE | C7: DTM | D7: 84 | E7: 1 | F7: 2 | G7: 12 | H7: 24 | I7: =H7+'ALERTE Cmd'!K10 -> 25 | J7: 24 | K7: 1056 | L7: 88 | M7: 4.4
A8: RAJA | B8: QUICKBOXQB17 | C8: QB17 | D8: 780 | E8: 20 | F8: 1 | G8: 780 | H8: 780 | I8: =H8+'ALERTE Cmd'!K11 -> 781 | J8: 39 | K8: 12440 | L8: 1036.6667 | M8: 51.833333
A9: RAJA | B9: QUICKBOXQB25 | C9: QB25 | D9: 520 | E9: 20 | F9: 0 | G9: 520 | H9: 0 | I9: =H9+'ALERTE Cmd'!K12 -> 1 | J9: 0 | K9: 9420 | L9: 785 | M9: 39.25
A10: RAJA | B10: PQ 2000 PAP DE SOIE PAM01 | C10: PAM01 | D10: 1 | E10: 2000 | F10: 6 | G10: 2000 | H10: 12000 | I10: =H10+'ALERTE Cmd'!K13 -> 12000 | J10: 6 | K10: 134000 | L10: 11166.667 | M10: 558.33333
A11: RAJA | B11: RL 1000 PASTILLE ADH ADP330 | C11: ADP330 | D11: 10 | E11: 1000 | F11: 0 | G11: 1 | H11: 0 | I11: =H11+'ALERTE Cmd'!K14 -> 1 | J11: 0 | K11: 0 | L11: 0 | M11: 0
A12: RAJA | B12: POCHETTE MAIL TUFF MTG4N | C12: MTG4N | D12: 1 | E12: 50 | F12: 9 | G12: 50 | H12: 10 | I12: =H12+'ALERTE Cmd'!K15 -> 10 | J12: 0.2 | K12: 115 | L12: 9.5833333 | M12: 0.47916667
A13: RAJA | B13: RAJAPOSTE RPT03 | C13: RPT03 | D13: 50 | E13: 50 | F13: 2 | G13: 50 | H13: 100 | I13: =H13+'ALERTE Cmd'!K16 -> 100 | J13: 2 | K13: 2050 | L13: 170.83333 | M13: 8.5416667
A14: RAJA | B14: BBA31 (QB17) | C14: BBA31 | D14: 1080 | E14: 20 | F14: 2 | G14: 1080 | H14: 2160 | I14: =H14+'ALERTE Cmd'!K17 -> 2160 | J14: 108 | K14: 41040 | L14: 3420 | M14: 171
A15: RAJA | B15: BBA25 (QB15) | C15: BBA25 | D15: 2160 | E15: 20 | F15: 0 | G15: 2160 | H15: 0 | I15: =H15+'ALERTE Cmd'!K18 -> 1 | J15: 0 | K15: 6480 | L15: 540 | M15: 27
A16: RAJA | B16: BBA45 (QB25) | C16: BBA45 | D16: 540 | E16: 20 | F16: 2 | G16: 540 | H16: 1080 | I16: =H16+'ALERTE Cmd'!K19 -> 1080 | J16: 54 | K16: 24280 | L16: 2023.3333 | M16: 101.16667
A17: RAJA | B17: BBA50 (QB30) | C17: BBA50 | D17: 500 | E17: 20 | F17: 0 | G17: 500 | H17: 0 | I17: =H17+'ALERTE Cmd'!K20 -> 1 | J17: 0 | K17: 14120 | L17: 1176.6667 | M17: 58.833333
A18: RAJA | B18: BBA55 (QB33) | C18: BBA55 | D18: 500 | E18: 20 | F18: 1 | G18: 500 | H18: 500 | I18: =H18+'ALERTE Cmd'!K21 -> 500 | J18: 25 | K18: 3300 | L18: 275 | M18: 13.75
... A28: RAJA | B28: BOB GAINE PE 200X350 GAINE20B | C28: GAINE20B | D28: 1 | E28: 1 | F28: 0 | G28: 1 | H28: 0 | I28: =H28+'ALERTE Cmd'!K31 -> 0 | J28: 0 | K28: 19 | L28: 1.5833333 | M28: 0.079166667
A29: RAJA | B29: ETIQUETTE NE PAS GERBER ETIC242 | C29: ETIC242 | D29: 1 | E29: 2 | G29: 2 | H29: 0 | I29: =H29+'ALERTE Cmd'!K32 -> 0 | J29: 0 | K29: 20 | L29: 1.6666667 | M29: 0.083333333
A30: RAJA | B30: ADHESIF ALEHOS G0016 | C30: G0016 | E30: 36 | G30: 36 | H30: 0 | I30: =H30+'ALERTE Cmd'!K33 -> 0 | J30: 0 | K30: 0 | L30: 0 | M30: 0
A31: RAJA | B31: SACHET PLASTIQUE 30X40 RGP10 | C31: RGP10 | D31: 1 | E31: 1000 | F31: 1 | G31: 1000 | H31: 1000 | I31: =H31+'ALERTE Cmd'!K34 -> 1000 | J31: 1 | K31: 14 | L31: 1.1666667 | M31: 0.058333333
A32: RAJA | B32: SACHET PLASTIQUE 30X40 RGP09 | C32: RGP09 | D32: 1 | E32: 1000 | F32: 1 | G32: 1000 | H32: 1000 | I32: =H32+'ALERTE Cmd'!K35 -> 1000 | J32: 1 | K32: 18 | L32: 1.5 | M32: 0.075
A33: RAJA | B33: GAINE | C33: GAINE35B | D33: 1 | E33: 1 | F33: 0 | G33: 1 | H33: 0 | I33: =H33+'ALERTE Cmd'!K36 -> 0 | J33: 0 | K33: 0 | L33: 0 | M33: 0
A34: RAJA | B34: ETIQUETTE | C34: ETIC172 | D34: 1 | E34: 2 | F34: 0 | G34: 0 | H34: 0 | I34: =H34+'ALERTE Cmd'!K37 -> 0
F35: 4 | H35: 2000 | I35: =H35+'ALERTE Cmd'!K38 -> 2000
A36: RAJA | B36: CAS32 (PROMO) | C36: CAS32 | F36: 0 | H36: 0 | I36: =H36+'ALERTE Cmd'!K39 -> 0
A37: RAJA | B37: CPL2532 (PROMO) | C37: CPL2532 | F37: 0 | H37: 0 | I37: =H37+'ALERTE Cmd'!K40 -> 0

Sheet ALERTE Cmd
B2: Nb jour sécurité pour futur cmd | C2: 5
B3: Nb jour pour futur cmd | C3: 4
B5: Date jour inventaire | C5: 42317
B6: Date jour commande | C6: 42317
A9: Fournisseur | B9: Nom | C9: REF | D9: Date prévue cmd future | E9: Date réalisation de la cmd | F9: ALERTE CMD | G9: Nb jour stock | H9: Mini stock par REF (conso pour 5j) | J9: Produit à commander (Rappel STOCK) | K9: A Commander
A10: RAJA | B10: DISTRIMOUSSE | C10: DTM | D10: =$C$5+G10 -> 42322.455 | E10: =D10-$C$3 -> 42318.455 | F10: =G10-4 -> 1.4545455 | G10: ='STOCK 2015'!H7/'STOCK 2015'!M7 -> 5.4545455 | H10: =$C$2*'STOCK 2015'!M7 -> 22 | J10: ='STOCK 2015'!H7 -> 24 | K10: =IF(J10>'STOCK 2015'!D7,0,1) -> 1 | L10: =si(RECHERCHEV(J10;stock;'STOCK 2015'!;4;FAUX)>'STOCK 2015'!D7;(RECHERCHEV('ALERTE Cmd'!J10;stock;'STOCK 2015'!;4;FAUX)<'STOCK 2015'!D7))
A11: RAJA | B11: QUICKBOXQB17 | C11: QB17 | D11: =$C$5+G11 -> 42332.048 | E11: =D11-$C$3 -> 42328.048 | F11: =G11-4 -> 11.048232 | G11: ='STOCK 2015'!H8/'STOCK 2015'!M8 -> 15.048232 | H11: =$C$2*'STOCK 2015'!M8 -> 259.16667 | J11: ='STOCK 2015'!H8 -> 780 | K11: =IF(J11>'STOCK 2015'!D8,0,1) -> 1
A12: RAJA | B12: QUICKBOXQB25 | C12: QB25 | D12: =$C$5+G12 -> 42317 | E12: =D12-$C$3 -> 42313 | F12: =G12-4 -> -4 | G12: ='STOCK 2015'!H9/'STOCK 2015'!M9 -> 0 | H12: =$C$2*'STOCK 2015'!M9 -> 196.25 | J12: ='STOCK 2015'!H9 -> 0 | K12: =IF(J12>'STOCK 2015'!D9,0,1) -> 1
A13: RAJA | B13: PQ 2000 PAP DE SOIE PAM01 | C13: PAM01 | D13: =$C$5+G13 -> 42338.493 | E13: =D13-$C$3 -> 42334.493 | F13: =G13-4 -> 17.492537 | G13: ='STOCK 2015'!H10/'STOCK 2015'!M10 -> 21.492537 | H13: =$C$2*'STOCK 2015'!M10 -> 2791.6667 | J13: ='STOCK 2015'!H10 -> 12000 | K13: =IF(J13>'STOCK 2015'!D10,0,1) -> 0
A14: RAJA | B14: RL 1000 PASTILLE ADH ADP330 | C14: ADP330 | D14: =$C$5+G14 -> #DIV/0! | E14: =D14-$C$3 -> #DIV/0! | F14: =G14-4 -> #DIV/0! | G14: ='STOCK 2015'!H11/'STOCK 2015'!M11 -> #DIV/0! | H14: =$C$2*'STOCK 2015'!M11 -> 0 | J14: ='STOCK 2015'!H11 -> 0 | K14: =IF(J14>'STOCK 2015'!D11,0,1) -> 1
A15: RAJA | B15: POCHETTE MAIL TUFF MTG4N | C15: MTG4N | D15: =$C$5+G15 -> 42337.87 | E15: =D15-$C$3 -> 42333.87 | F15: =G15-4 -> 16.869565 | G15: ='STOCK 2015'!H12/'STOCK 2015'!M12 -> 20.869565 | H15: =$C$2*'STOCK 2015'!M12 -> 2.3958333 | J15: ='STOCK 2015'!H12 -> 10 | K15: =IF(J15>'STOCK 2015'!D12,0,1) -> 0
A16: RAJA | B16: RAJAPOSTE RPT03 | C16: RPT03 | D16: =$C$5+G16 -> 42328.707 | E16: =D16-$C$3 -> 42324.707 | F16: =G16-4 -> 7.7073171 | G16: ='STOCK 2015'!H13/'STOCK 2015'!M13 -> 11.707317 | H16: =$C$2*'STOCK 2015'!M13 -> 42.708333 | J16: ='STOCK 2015'!H13 -> 100 | K16: =IF(J16>'STOCK 2015'!D13,0,1) -> 0
A17: RAJA | B17: BBA31 (QB17) | C17: BBA31 | D17: =$C$5+G17 -> 42329.632 | E17: =D17-$C$3 -> 42325.632 | F17: =G17-4 -> 8.6315789 | G17: ='STOCK 2015'!H14/'STOCK 2015'!M14 -> 12.631579 | H17: =$C$2*'STOCK 2015'!M14 -> 855 | J17: ='STOCK 2015'!H14 -> 2160 | K17: =IF(J17>'STOCK 2015'!D14,0,1) -> 0
A18: RAJA | B18: BBA25 (QB15) | C18: BBA25 | D18: =$C$5+G18 -> 42317 | E18: =D18-$C$3 -> 42313 | F18: =G18-4 -> -4 | G18: ='STOCK 2015'!H15/'STOCK 2015'!M15 -> 0 | H18: =$C$2*'STOCK 2015'!M15 -> 135 | J18: ='STOCK 2015'!H15 -> 0 | K18: =IF(J18>'STOCK 2015'!D15,0,1) -> 1
A19: RAJA | B19: BBA45 (QB25) | C19: BBA45 | D19: =$C$5+G19 -> 42327.675 | E19: =D19-$C$3 -> 42323.675 | F19: =G19-4 -> 6.675453 | G19: ='STOCK 2015'!H16/'STOCK 2015'!M16 -> 10.675453 | H19: =$C$2*'STOCK 2015'!M16 -> 505.83333 | J19: ='STOCK 2015'!H16 -> 1080 | K19: =IF(J19>'STOCK 2015'!D16,0,1) -> 0
A20: RAJA | B20: BBA50 (QB30) | C20: BBA50 | D20: =$C$5+G20 -> 42317 | E20: =D20-$C$3 -> 42313 | F20: =G20-4 -> -4 | G20: ='STOCK 2015'!H17/'STOCK 2015'!M17 -> 0 | H20: =$C$2*'STOCK 2015'!M17 -> 294.16667 | J20: ='STOCK 2015'!H17 -> 0 | K20: =IF(J20>'STOCK 2015'!D17,0,1) -> 1
A21: RAJA | B21: BBA55 (QB33) | C21: BBA55 | D21: =$C$5+G21 -> 42353.364 | E21: =D21-$C$3 -> 42349.364 | F21: =G21-4 -> 32.363636 | G21: ='STOCK 2015'!H18/'STOCK 2015'!M18 -> 36.363636 | H21: =$C$2*'STOCK 2015'!M18 -> 68.75 | J21: ='STOCK 2015'!H18 -> 500
A22: RAJA | B22: BBA40 | C22: BBA40 | D22: =$C$5+G22 -> 42330.333 | E22: =D22-$C$3 -> 42326.333 | F22: =G22-4 -> 9.3333333 | G22: ='STOCK 2015'!H19/'STOCK 2015'!M19 -> 13.333333 | H22: =$C$2*'STOCK 2015'!M19 -> 202.5 | J22: ='STOCK 2015'!H19 -> 540
A23: RAJA | B23: BBA41 | C23: BBA41 | D23: =$C$5+G23 -> 42337 | E23: =D23-$C$3 -> 42333 | F23: =G23-4 -> 16 | G23: ='STOCK 2015'!H20/'STOCK 2015'!M20 -> 20 | H23: =$C$2*'STOCK 2015'!M20 -> 135 | J23: ='STOCK 2015'!H20 -> 540
A24: RAJA | B24: PAPIER DE SOIE EN FEUILLE BLEU PAMBLM | C24: PAMBLM | D24: =$C$5+G24 -> 63262.455 | E24: =D24-$C$3 -> 63258.455 | F24: =G24-4 -> 20941.455 | G24: ='STOCK 2015'!H21/'STOCK 2015'!M21 -> 20945.455 | H24: =$C$2*'STOCK 2015'!M21 -> 0.6875 | J24: ='STOCK 2015'!H21 -> 2880
A25: RAJA | B25: CARTON FLOLAN 60X40X40 CAD29 | C25: CAD29 | D25: =$C$5+G25 -> 42338.818 | E25: =D25-$C$3 -> 42334.818 | F25: =G25-4 -> 17.818182 | G25: ='STOCK 2015'!H22/'STOCK 2015'!M22 -> 21.818182 | H25: =$C$2*'STOCK 2015'!M22 -> 82.5 | J25: ='STOCK 2015'!H22 -> 360
A26: RAJA | B26: RIGIBOX BOR30 | C26: BOR30 | D26: =$C$5+G26 -> 42446.73 | E26: =D26-$C$3 -> 42442.73 | F26: =G26-4 -> 125.72973 | G26: ='STOCK 2015'!H23/'STOCK 2015'!M23 -> 129.72973 | H26: =$C$2*'STOCK 2015'!M23 -> 15.416667 | J26: ='STOCK 2015'!H23 -> 400
A27: RAJA | B27: CARTON BLANC ABC110 | C27: ABC110 | D27: =$C$5+G27 -> 42317 | E27: =D27-$C$3 -> 42313 | F27: =G27-4 -> -4 | G27: ='STOCK 2015'!H24/'STOCK 2015'!M24 -> 0 | H27: =$C$2*'STOCK 2015'!M24 -> 0.083333333 | J27: ='STOCK 2015'!H24 -> 0
A28: RAJA | B28: CARTON CAS54 | C28: CAS54 | D28: =$C$5+G28 -> 42377 | E28: =D28-$C$3 -> 42373 | F28: =G28-4 -> 56 | G28: ='STOCK 2015'!H25/'STOCK 2015'!M25 -> 60 | H28: =$C$2*'STOCK 2015'!M25 -> 33.333333 | J28: ='STOCK 2015'!H25 -> 400
A29: RAJA | B29: CARTON CAS34 | C29: CAS34 | D29: =$C$5+G29 -> 42341.609 | E29: =D29-$C$3 -> 42337.609 | F29: =G29-4 -> 20.609075 | G29: ='STOCK 2015'!H26/'STOCK 2015'!M26 -> 24.609075 | H29: =$C$2*'STOCK 2015'!M26 -> 81.270833 | J29: ='STOCK 2015'!H26 -> 400
A30: RAJA | B30: SACHET A RABAT ADHESIF SPF12 | C30: SPF12 | D30: =$C$5+G30 -> 42317 | E30: =D30-$C$3 -> 42313 | F30: =G30-4 -> -4 | G30: ='STOCK 2015'!H27/'STOCK 2015'!M27 -> 0 | H30: =$C$2*'STOCK 2015'!M27 -> 0.33333333 | J30: ='STOCK 2015'!H27 -> 0
A31: RAJA | B31: BOB GAINE PE 200X350 GAINE20B | C31: GAINE20B | D31: =$C$5+G31 -> 42317 | E31: =D31-$C$3 -> 42313 | F31: =G31-4 -> -4 | G31: ='STOCK 2015'!H28/'STOCK 2015'!M28 -> 0 | H31: =$C$2*'STOCK 2015'!M28 -> 0.39583333 | J31: ='STOCK 2015'!H28 -> 0
A32: RAJA | B32: ETIQUETTE NE PAS GERBER ETIC242 | C32: ETIC242 | D32: =$C$5+G32 -> 42317 | E32: =D32-$C$3 -> 42313 | F32: =G32-4 -> -4 | G32: ='STOCK 2015'!H29/'STOCK 2015'!M29 -> 0 | H32: =$C$2*'STOCK 2015'!M29 -> 0.41666667 | J32: ='STOCK 2015'!H29 -> 0
... A37: RAJA | B37: ETIQUETTE | C37: ETIC172 | D37: =$C$5+G37 -> #DIV/0! | E37: =D37-$C$3 -> #DIV/0! | F37: =G37-4 -> #DIV/0! | G37: ='STOCK 2015'!H34/'STOCK 2015'!M34 -> #DIV/0! | H37: =$C$2*'STOCK 2015'!M34 -> 0 | J37: ='STOCK 2015'!H34 -> 0
D38: =$C$5+G38 -> #DIV/0! | E38: =D38-$C$3 -> #DIV/0! | F38: =G38-4 -> #DIV/0! | G38: ='STOCK 2015'!H35/'STOCK 2015'!M35 -> #DIV/0! | H38: =$C$2*'STOCK 2015'!M35 -> 0 | J38: ='STOCK 2015'!H35 -> 2000
A39: RAJA | B39: CAS32 (PROMO) | C39: CAS32 | D39: =$C$5+G39 -> #DIV/0! | E39: =D39-$C$3 -> #DIV/0! | F39: =G39-4 -> #DIV/0! | G39: ='STOCK 2015'!H36/'STOCK 2015'!M36 -> #DIV/0! | H39: =$C$2*'STOCK 2015'!M36 -> 0 | J39: ='STOCK 2015'!H36 -> 0
A40: RAJA | B40: CPL2532 (PROMO) | C40: CPL2532 | D40: =$C$5+G40 -> #DIV/0! | E40: =D40-$C$3 -> #DIV/0! | F40: =G40-4 -> #DIV/0! | G40: ='STOCK 2015'!H37/'STOCK 2015'!M37 -> #DIV/0! | H40: =$C$2*'STOCK 2015'!M37 -> 0 | J40: ='STOCK 2015'!H37 -> 0

Sheet  Suivi cmd RAJA
G2: Total par produit - Consommation - Montant total
B4: 42005 | D4: 42036 | F4: 42064 | H4: 42095 | J4: 42125 | L4: 42156 | N4: 42186 | P4: 42217 | R4: 42248 | T4: 42278 | V4: 42309 | X4: 42339
A5: Fournisseur - Nom - Ref | B5: N° Cmd | C5: Qt | D5: N° Cmd | E5: Qt | F5: N° Cmd | G5: Qt | H5: N° Cmd | I5: Qt | J5: N° Cmd | K5: Qt | L5: N° Cmd | M5: Qt | N5: N° Cmd | O5: Qt | P5: N° Cmd | Q5: Qt | R5: N° Cmd | S5: Qt | T5: N° Cmd | U5: Qt | V5: N° Cmd | W5: Qt | X5: N° Cmd | Y5: Qt
A6: ='$Modele$'!A4&"-"&'$Modele$'!B4&"-"&'$Modele$'!C4 -> RAJA-DISTRIMOUSSE-DTM
B7: 593506 | C7: 84
B8: 598559 | C8: 84
A9: ='$Modele$'!A5&"-"&'$Modele$'!B5&"-"&'$Modele$'!C5 -> RAJA-QUICKBOXQB17 -QB17
A12: ='$Modele$'!A6&"-"&'$Modele$'!B6&"-"&'$Modele$'!C6 -> RAJA-QUICKBOXQB25-QB25 | B12: 590847 | C12: 520
A15: ='$Modele$'!A7&"-"&'$Modele$'!B7&"-"&'$Modele$'!C7 -> RAJA-PQ 2000 PAP DE SOIE PAM01-PAM01 | C15: 5
B16: 593506 | C16: 4
A18: ='$Modele$'!A8&"-"&'$Modele$'!B8&"-"&'$Modele$'!C8 -> RAJA-RL 1000 PASTILLE ADH ADP330-ADP330
A21: ='$Modele$'!A9&"-"&'$Modele$'!B9&"-"&'$Modele$'!C9 -> RAJA-POCHETTE MAIL TUFF MTG4N-MTG4N | B21: 590847 | C21: 10
A24: ='$Modele$'!A10&"-"&'$Modele$'!B10&"-"&'$Modele$'!C10 -> RAJA-RAJAPOSTE RPT03-RPT03 | B24: 590847 | C24: 100
B26: 598559 | C26: 100
A27: ='$Modele$'!A11&"-"&'$Modele$'!B11&"-"&'$Modele$'!C11 -> RAJA-BBA31 (QB17)-BBA31
B28: 593506 | C28: 1080
B29: 598559 | C29: 3240
A30: ='$Modele$'!A12&"-"&'$Modele$'!B12&"-"&'$Modele$'!C12 -> RAJA-BBA25 (QB15)-BBA25
A33: ='$Modele$'!A13&"-"&'$Modele$'!B13&"-"&'$Modele$'!C13 -> RAJA-BBA45 (QB25)-BBA45
B35: 598559 | C35: 1000
A36: ='$Modele$'!A14&"-"&'$Modele$'!B14&"-"&'$Modele$'!C14 -> RAJA-BBA50 (QB30)-BBA50
B38: 598559 | C38: 500
A39: ='$Modele$'!A15&"-"&'$Modele$'!B15&"-"&'$Modele$'!C15 -> RAJA-BBA55 (QB33)-BBA55
A42: ='$Modele$'!A16&"-"&'$Modele$'!B16&"-"&'$Modele$'!C16 -> RAJA-BBA40-BBA40 | B42: 590847 | C42: 1080
B43: 593506 | C43: 540
B44: 598559 | C44: 1080
A45: ='$Modele$'!A17&"-"&'$Modele$'!B17&"-"&'$Modele$'!C17 -> RAJA-BBA41-BBA41 | B45: 590847 | C45: 580
B46: 593506 | C46: 500
B47: 598559 | C47: 1620
A48: ='$Modele$'!A18&"-"&'$Modele$'!B18&"-"&'$Modele$'!C18 -> RAJA-PAPIER DE SOIE EN FEUILLE BLEU PAMBLM-PAMBLM
B49: 593506 | C49: 5
A51: ='$Modele$'!A19&"-"&'$Modele$'!B19&"-"&'$Modele$'!C19 -> RAJA-CARTON FLOLAN 60X40X40 CAD29-CAD29 | B51: 590847 | C51: 240
B53: 598559 | C53: 240
A54: ='$Modele$'!A20&"-"&'$Modele$'!B20&"-"&'$Modele$'!C20 -> RAJA-RIGIBOX BOR30-BOR30
B55: 593506 | C55: 100
A57: ='$Modele$'!A21&"-"&'$Modele$'!B21&"-"&'$Modele$'!C21 -> RAJA-CARTON BLANC ABC110-ABC110 | B57: 590847 | C57: 1
B59: 598559 | C59: 1
A60: ='$Modele$'!A22&"-"&'$Modele$'!B22&"-"&'$Modele$'!C22 -> RAJA-CARTON CAS54-CAS54 | B60: 590847 | C60: 200
B62: 598559 | C62: 400
A63: ='$Modele$'!A23&"-"&'$Modele$'!B23&"-"&'$Modele$'!C23 -> RAJA-CARTON CAS34-CAS34
...

Sheet Conso - Montant total
C1: Informations :
C2: 1 mois = | D2: 20 | E2: jours ouvrés
C3: 1 année = | D3: 240 | E3: jours ouvrés
C5: Mois | D5: 11
C7: Consommation | E7: Montant TOTAL 2015
A8: Fournisseur - Nom - Ref | B8: TOTAL par produit | C8: par jour | D8: par mois | E8: Prix unitaire HT | F8: HT | G8: TVA | H8: TTC
A9: ='$Modele$'!A4&"-"&'$Modele$'!B4&"-"&'$Modele$'!C4 -> RAJA-DISTRIMOUSSE-DTM | B9: =' Suivi cmd RAJA'!C6+' Suivi cmd RAJA'!C7+' Suivi cmd RAJA'!C8+' Suivi cmd RAJA'!E6+' Suivi cmd RAJA'!E7+' Suivi cmd RAJA'!E8+' Suivi cmd RAJA'!G6+' Suivi cmd RAJA'!G7+' Suivi cmd RAJA'!G8+' Suivi cmd RAJA'!I6+' Suivi cmd RAJA'!I7+' Suivi cmd RAJA'!I8+' Suivi cmd RAJA'!K6+' Suivi cmd RAJA'!K7+' Suivi cmd RAJA'!K8+' Suivi cmd RAJA'!M6+' Suivi cmd RAJA'!M7+' Suivi cmd RAJA'!M8+' Suivi cmd RAJA'!O6+' Suivi cmd RAJA'!O7+' Suivi cmd RAJA'!O8+' Suivi cmd RAJA'!Q6+' Suivi cmd RAJA'!Q7+' Suivi cmd RAJA'!Q8+' Suivi cmd RAJA'!S6+' Suivi cmd RAJA'!S7+' Suivi cmd RAJA'!S8+' Suivi cmd RAJA'!U6+' Suivi cmd RAJA'!U7+' Suivi cmd RAJA'!U8+' Suivi cmd RAJA'!W6+' Suivi cmd RAJA'!W7+' Suivi cmd RAJA'!W8+' Suivi cmd RAJA'!Y6+' Suivi cmd RAJA'!Y7+' Suivi cmd RAJA'!Y8 -> 168 | C9: =B9/$D$3 -> 0.7 | D9: =C9*$D$2*$D$5 -> 154 | E9: 6.35 | F9: =B9*E9 -> 1066.8 | G9: =F9*20% -> 213.36 | H9: =F9+G9 -> 1280.16
A10: ='$Modele$'!A5&"-"&'$Modele$'!B5&"-"&'$Modele$'!C5 -> RAJA-QUICKBOXQB17 -QB17 | B10: =' Suivi cmd RAJA'!C9+' Suivi cmd RAJA'!C10+' Suivi cmd RAJA'!C11+' Suivi cmd RAJA'!E9+' Suivi cmd RAJA'!E10+' Suivi cmd RAJA'!E11+' Suivi cmd RAJA'!G9+' Suivi cmd RAJA'!G10+' Suivi cmd RAJA'!G11+' Suivi cmd RAJA'!I9+' Suivi cmd RAJA'!I10+' Suivi cmd RAJA'!I11+' Suivi cmd RAJA'!K9+' Suivi cmd RAJA'!K10+' Suivi cmd RAJA'!K11+' Suivi cmd RAJA'!M9+' Suivi cmd RAJA'!M10+' Suivi cmd RAJA'!M11+' Suivi cmd RAJA'!O9+' Suivi cmd RAJA'!O10+' Suivi cmd RAJA'!O11+' Suivi cmd RAJA'!Q9+' Suivi cmd RAJA'!Q10+' Suivi cmd RAJA'!Q11+' Suivi cmd RAJA'!S9+' Suivi cmd RAJA'!S10+' Suivi cmd RAJA'!S11+' Suivi cmd RAJA'!U9+' Suivi cmd RAJA'!U10+' Suivi cmd RAJA'!U11+' Suivi cmd RAJA'!W9+' Suivi cmd RAJA'!W10+' Suivi cmd RAJA'!W11+' Suivi cmd RAJA'!Y9+' Suivi cmd RAJA'!Y10+' Suivi cmd RAJA'!Y11 -> 0 | C10: =B10/$D$3 -> 0 | D10: =C10*$D$2*$D$5 -> 0 | E10: 0.58 | F10: =B10*E10 -> 0 | G10: =F10*20% -> 0 | H10: =F10+G10 -> 0
A11: ='$Modele$'!A6&"-"&'$Modele$'!B6&"-"&'$Modele$'!C6 -> RAJA-QUICKBOXQB25-QB25 | B11: =' Suivi cmd RAJA'!C12+' Suivi cmd RAJA'!C13+' Suivi cmd RAJA'!C14+' Suivi cmd RAJA'!E12+' Suivi cmd RAJA'!E13+' Suivi cmd RAJA'!E14+' Suivi cmd RAJA'!G12+' Suivi cmd RAJA'!G13+' Suivi cmd RAJA'!G14+' Suivi cmd RAJA'!I12+' Suivi cmd RAJA'!I13+' Suivi cmd RAJA'!I14+' Suivi cmd RAJA'!K12+' Suivi cmd RAJA'!K13+' Suivi cmd RAJA'!K14+' Suivi cmd RAJA'!M12+' Suivi cmd RAJA'!M13+' Suivi cmd RAJA'!M14+' Suivi cmd RAJA'!O12+' Suivi cmd RAJA'!O13+' Suivi cmd RAJA'!O14+' Suivi cmd RAJA'!Q12+' Suivi cmd RAJA'!Q13+' Suivi cmd RAJA'!Q14+' Suivi cmd RAJA'!S12+' Suivi cmd RAJA'!S13+' Suivi cmd RAJA'!S14+' Suivi cmd RAJA'!U12+' Suivi cmd RAJA'!U13+' Suivi cmd RAJA'!U14+' Suivi cmd RAJA'!W12+' Suivi cmd RAJA'!W13+' Suivi cmd RAJA'!W14+' Suivi cmd RAJA'!Y12+' Suivi cmd RAJA'!Y13+' Suivi cmd RAJA'!Y14 -> 520 | C11: =B11/$D$3 -> 2.1666667 | D11: =C11*$D$2*$D$5 -> 476.66667 | E11: 1.2 | F11: =B11*E11 -> 624 | G11: =F11*20% -> 124.8 | H11: =F11+G11 -> 748.8
A12: ='$Modele$'!A7&"-"&'$Modele$'!B7&"-"&'$Modele$'!C7 -> RAJA-PQ 2000 PAP DE SOIE PAM01-PAM01 | B12: =' Suivi cmd RAJA'!C15+' Suivi cmd RAJA'!C16+' Suivi cmd RAJA'!C17+' Suivi cmd RAJA'!E15+' Suivi cmd RAJA'!E16+' Suivi cmd RAJA'!E17+' Suivi cmd RAJA'!G15+' Suivi cmd RAJA'!G16+' Suivi cmd RAJA'!G17+' Suivi cmd RAJA'!I15+' Suivi cmd RAJA'!I16+' Suivi cmd RAJA'!I17+' Suivi cmd RAJA'!K15+' Suivi cmd RAJA'!K16+' Suivi cmd RAJA'!K17+' Suivi cmd RAJA'!M15+' Suivi cmd RAJA'!M16+' Suivi cmd RAJA'!M17+' Suivi cmd RAJA'!O15+' Suivi cmd RAJA'!O16+' Suivi cmd RAJA'!O17+' Suivi cmd RAJA'!Q15+' Suivi cmd RAJA'!Q16+' Suivi cmd RAJA'!Q17+' Suivi cmd RAJA'!S15+' Suivi cmd RAJA'!S16+' Suivi cmd RAJA'!S17+' Suivi cmd RAJA'!U15+' Suivi cmd RAJA'!U16+' Suivi cmd RAJA'!U17+' Suivi cmd RAJA'!W15+' Suivi cmd RAJA'!W16+' Suivi cmd RAJA'!W17+' Suivi cmd RAJA'!Y15+' Suivi cmd RAJA'!Y16+' Suivi cmd RAJA'!Y17 -> 9 | C12: =B12/$D$3 -> 0.0375 | D12: =C12*$D$2*$D$5 -> 8.25 | E12: 34.69 | F12: =B12*E12 -> 312.21 | G12: =F12*20% -> 62.442 | H12: =F12+G12 -> 374.652
A13: ='$Modele$'!A8&"-"&'$Modele$'!B8&"-"&'$Modele$'!C8 -> RAJA-RL 1000 PASTILLE ADH ADP330-ADP330 | B13: =' Suivi cmd RAJA'!C18+' Suivi cmd RAJA'!C19+' Suivi cmd RAJA'!C20+' Suivi cmd RAJA'!E18+' Suivi cmd RAJA'!E19+' Suivi cmd RAJA'!E20+' Suivi cmd RAJA'!G18+' Suivi cmd RAJA'!G19+' Suivi cmd RAJA'!G20+' Suivi cmd RAJA'!I18+' Suivi cmd RAJA'!I19+' Suivi cmd RAJA'!I20+' Suivi cmd RAJA'!K18+' Suivi cmd RAJA'!K19+' Suivi cmd RAJA'!K20+' Suivi cmd RAJA'!M18+' Suivi cmd RAJA'!M19+' Suivi cmd RAJA'!M20+' Suivi cmd RAJA'!O18+' Suivi cmd RAJA'!O19+' Suivi cmd RAJA'!O20+' Suivi cmd RAJA'!Q18+' Suivi cmd RAJA'!Q19+' Suivi cmd RAJA'!Q20+' Suivi cmd RAJA'!S18+' Suivi cmd RAJA'!S19+' Suivi cmd RAJA'!S20+' Suivi cmd RAJA'!U18+' Suivi cmd RAJA'!U19+' Suivi cmd RAJA'!U20+' Suivi cmd RAJA'!W18+' Suivi cmd RAJA'!W19+' Suivi cmd RAJA'!W20+' Suivi cmd RAJA'!Y18+' Suivi cmd RAJA'!Y19+' Suivi cmd RAJA'!Y20 -> 0 | C13: =B13/$D$3 -> 0 | D13: =C13*$D$2*$D$5 -> 0 | F13: =B13*E13 -> 0 | G13: =F13*20% -> 0 | H13: =F13+G13 -> 0
A14: ='$Modele$'!A9&"-"&'$Modele$'!B9&"-"&'$Modele$'!C9 -> RAJA-POCHETTE MAIL TUFF MTG4N-MTG4N | B14: =' Suivi cmd RAJA'!C21+' Suivi cmd RAJA'!C22+' Suivi cmd RAJA'!C23+' Suivi cmd RAJA'!E21+' Suivi cmd RAJA'!E22+' Suivi cmd RAJA'!E23+' Suivi cmd RAJA'!G21+' Suivi cmd RAJA'!G22+' Suivi cmd RAJA'!G23+' Suivi cmd RAJA'!I21+' Suivi cmd RAJA'!I22+' Suivi cmd RAJA'!I23+' Suivi cmd RAJA'!K21+' Suivi cmd RAJA'!K22+' Suivi cmd RAJA'!K23+' Suivi cmd RAJA'!M21+' Suivi cmd RAJA'!M22+' Suivi cmd RAJA'!M23+' Suivi cmd RAJA'!O21+' Suivi cmd RAJA'!O22+' Suivi cmd RAJA'!O23+' Suivi cmd RAJA'!Q21+' Suivi cmd RAJA'!Q22+' Suivi cmd RAJA'!Q23+' Suivi cmd RAJA'!S21+' Suivi cmd RAJA'!S22+' Suivi cmd RAJA'!S23+' Suivi cmd RAJA'!U21+' Suivi cmd RAJA'!U22+' Suivi cmd RAJA'!U23+' Suivi cmd RAJA'!W21+' Suivi cmd RAJA'!W22+' Suivi cmd RAJA'!W23+' Suivi cmd RAJA'!Y21+' Suivi cmd RAJA'!Y22+' Suivi cmd RAJA'!Y23 -> 10 | C14: =B14/$D$3 -> 0.041666667 | D14: =C14*$D$2*$D$5 -> 9.1666667 | E14: 13.8 | F14: =B14*E14 -> 138 | G14: =F14*20% -> 27.6 | H14: =F14+G14 -> 165.6
A15: ='$Modele$'!A10&"-"&'$Modele$'!B10&"-"&'$Modele$'!C10 -> RAJA-RAJAPOSTE RPT03-RPT03 | B15: =' Suivi cmd RAJA'!C24+' Suivi cmd RAJA'!C25+' Suivi cmd RAJA'!C26+' Suivi cmd RAJA'!E24+' Suivi cmd RAJA'!E25+' Suivi cmd RAJA'!E26+' Suivi cmd RAJA'!G24+' Suivi cmd RAJA'!G25+' Suivi cmd RAJA'!G26+' Suivi cmd RAJA'!I24+' Suivi cmd RAJA'!I25+' Suivi cmd RAJA'!I26+' Suivi cmd RAJA'!K24+' Suivi cmd RAJA'!K25+' Suivi cmd RAJA'!K26+' Suivi cmd RAJA'!M24+' Suivi cmd RAJA'!M25+' Suivi cmd RAJA'!M26+' Suivi cmd RAJA'!O24+' Suivi cmd RAJA'!O25+' Suivi cmd RAJA'!O26+' Suivi cmd RAJA'!Q24+' Suivi cmd RAJA'!Q25+' Suivi cmd RAJA'!Q26+' Suivi cmd RAJA'!S24+' Suivi cmd RAJA'!S25+' Suivi cmd RAJA'!S26+' Suivi cmd RAJA'!U24+' Suivi cmd RAJA'!U25+' Suivi cmd RAJA'!U26+' Suivi cmd RAJA'!W24+' Suivi cmd RAJA'!W25+' Suivi cmd RAJA'!W26+' Suivi cmd RAJA'!Y24+' Suivi cmd RAJA'!Y25+' Suivi cmd RAJA'!Y26 -> 200 | C15: =B15/$D$3 -> 0.83333333 | D15: =C15*$D$2*$D$5 -> 183.33333 | E15: 0.24 | F15: =B15*E15 -> 48 | G15: =F15*20% -> 9.6 | H15: =F15+G15 -> 57.6
A16: ='$Modele$'!A11&"-"&'$Modele$'!B11&"-"&'$Modele$'!C11 -> RAJA-BBA31 (QB17)-BBA31 | B16: =' Suivi cmd RAJA'!C27+' Suivi cmd RAJA'!C28+' Suivi cmd RAJA'!C29+' Suivi cmd RAJA'!E27+' Suivi cmd RAJA'!E28+' Suivi cmd RAJA'!E29+' Suivi cmd RAJA'!G27+' Suivi cmd RAJA'!G28+' Suivi cmd RAJA'!G29+' Suivi cmd RAJA'!I27+' Suivi cmd RAJA'!I28+' Suivi cmd RAJA'!I29+' Suivi cmd RAJA'!K27+' Suivi cmd RAJA'!K28+' Suivi cmd RAJA'!K29+' Suivi cmd RAJA'!M27+' Suivi cmd RAJA'!M28+' Suivi cmd RAJA'!M29+' Suivi cmd RAJA'!O27+' Suivi cmd RAJA'!O28+' Suivi cmd RAJA'!O29+' Suivi cmd RAJA'!Q27+' Suivi cmd RAJA'!Q28+' Suivi cmd RAJA'!Q29+' Suivi cmd RAJA'!S27+' Suivi cmd RAJA'!S28+' Suivi cmd RAJA'!S29+' Suivi cmd RAJA'!U27+' Suivi cmd RAJA'!U28+' Suivi cmd RAJA'!U29+' Suivi cmd RAJA'!W27+' Suivi cmd RAJA'!W28+' Suivi cmd RAJA'!W29+' Suivi cmd RAJA'!Y27+' Suivi cmd RAJA'!Y28+' Suivi cmd RAJA'!Y29 -> 4320 | C16: =B16/$D$3 -> 18 | D16: =C16*$D$2*$D$5 -> 3960 | E16: 0.58 | F16: =B16*E16 -> 2505.6 | G16: =F16*20% -> 501.12 | H16: =F16+G16 -> 3006.72
A17: ='$Modele$'!A12&"-"&'$Modele$'!B12&"-"&'$Modele$'!C12 -> RAJA-BBA25 (QB15)-BBA25 | B17: =' Suivi cmd RAJA'!C30+' Suivi cmd RAJA'!C31+' Suivi cmd RAJA'!C32+' Suivi cmd RAJA'!E30+' Suivi cmd RAJA'!E31+' Suivi cmd RAJA'!E32+' Suivi cmd RAJA'!G30+' Suivi cmd RAJA'!G31+' Suivi cmd RAJA'!G32+' Suivi cmd RAJA'!I30+' Suivi cmd RAJA'!I31+' Suivi cmd RAJA'!I32+' Suivi cmd RAJA'!K30+' Suivi cmd RAJA'!K31+' Suivi cmd RAJA'!K32+' Suivi cmd RAJA'!M30+' Suivi cmd RAJA'!M31+' Suivi cmd RAJA'!M32+' Suivi cmd RAJA'!O30+' Suivi cmd RAJA'!O31+' Suivi cmd RAJA'!O32+' Suivi cmd RAJA'!Q30+' Suivi cmd RAJA'!Q31+' Suivi cmd RAJA'!Q32+' Suivi cmd RAJA'!S30+' Suivi cmd RAJA'!S31+' Suivi cmd RAJA'!S32+' Suivi cmd RAJA'!U30+' Suivi cmd RAJA'!U31+' Suivi cmd RAJA'!U32+' Suivi cmd RAJA'!W30+' Suivi cmd RAJA'!W31+' Suivi cmd RAJA'!W32+' Suivi cmd RAJA'!Y30+' Suivi cmd RAJA'!Y31+' Suivi cmd RAJA'!Y32 -> 0 | C17: =B17/$D$3 -> 0 | D17: =C17*$D$2*$D$5 -> 0 | E17: 0.48 | F17: =B17*E17 -> 0 | G17: =F17*20% -> 0 | H17: =F17+G17 -> 0
A18: ='$Modele$'!A13&"-"&'$Modele$'!B13&"-"&'$Modele$'!C13 -> RAJA-BBA45 (QB25)-BBA45 | B18: =' Suivi cmd RAJA'!C33+' Suivi cmd RAJA'!C34+' Suivi cmd RAJA'!C35+' Suivi cmd RAJA'!E33+' Suivi cmd RAJA'!E34+' Suivi cmd RAJA'!E35+' Suivi cmd RAJA'!G33+' Suivi cmd RAJA'!G34+' Suivi cmd RAJA'!G35+' Suivi cmd RAJA'!I33+' Suivi cmd RAJA'!I34+' Suivi cmd RAJA'!I35+' Suivi cmd RAJA'!K33+' Suivi cmd RAJA'!K34+' Suivi cmd RAJA'!K35+' Suivi cmd RAJA'!M33+' Suivi cmd RAJA'!M34+' Suivi cmd RAJA'!M35+' Suivi cmd RAJA'!O33+' Suivi cmd RAJA'!O34+' Suivi cmd RAJA'!O35+' Suivi cmd RAJA'!Q33+' Suivi cmd RAJA'!Q34+' Suivi cmd RAJA'!Q35+' Suivi cmd RAJA'!S33+' Suivi cmd RAJA'!S34+' Suivi cmd RAJA'!S35+' Suivi cmd RAJA'!U33+' Suivi cmd RAJA'!U34+' Suivi cmd RAJA'!U35+' Suivi cmd RAJA'!W33+' Suivi cmd RAJA'!W34+' Suivi cmd RAJA'!W35+' Suivi cmd RAJA'!Y33+' Suivi cmd RAJA'!Y34+' Suivi cmd RAJA'!Y35 -> 1000 | C18: =B18/$D$3 -> 4.1666667 | D18: =C18*$D$2*$D$5 -> 916.66667 | E18: 0.69 | F18: =B18*E18 -> 690 | G18: =F18*20% -> 138 | H18: =F18+G18 -> 828
A19: ='$Modele$'!A14&"-"&'$Modele$'!B14&"-"&'$Modele$'!C14 -> RAJA-BBA50 (QB30)-BBA50 | B19: =' Suivi cmd RAJA'!C36+' Suivi cmd RAJA'!C37+' Suivi cmd RAJA'!C38+' Suivi cmd RAJA'!E36+' Suivi cmd RAJA'!E37+' Suivi cmd RAJA'!E38+' Suivi cmd RAJA'!G36+' Suivi cmd RAJA'!G37+' Suivi cmd RAJA'!G38+' Suivi cmd RAJA'!I36+' Suivi cmd RAJA'!I37+' Suivi cmd RAJA'!I38+' Suivi cmd RAJA'!K36+' Suivi cmd RAJA'!K37+' Suivi cmd RAJA'!K38+' Suivi cmd RAJA'!M36+' Suivi cmd RAJA'!M37+' Suivi cmd RAJA'!M38+' Suivi cmd RAJA'!O36+' Suivi cmd RAJA'!O37+' Suivi cmd RAJA'!O38+' Suivi cmd RAJA'!Q36+' Suivi cmd RAJA'!Q37+' Suivi cmd RAJA'!Q38+' Suivi cmd RAJA'!S36+' Suivi cmd RAJA'!S37+' Suivi cmd RAJA'!S38+' Suivi cmd RAJA'!U36+' Suivi cmd RAJA'!U37+' Suivi cmd RAJA'!U38+' Suivi cmd RAJA'!W36+' Suivi cmd RAJA'!W37+' Suivi cmd RAJA'!W38+' Suivi cmd RAJA'!Y36+' Suivi cmd RAJA'!Y37+' Suivi cmd RAJA'!Y38 -> 500 | C19: =B19/$D$3 -> 2.0833333 | D19: =C19*$D$2*$D$5 -> 458.33333 | E19: 1.17 | F19: =B19*E19 -> 585 | G19: =F19*20% -> 117 | H19: =F19+G19 -> 702
A20: ='$Modele$'!A15&"-"&'$Modele$'!B15&"-"&'$Modele$'!C15 -> RAJA-BBA55 (QB33)-BBA55 | B20: =' Suivi cmd RAJA'!C39+' Suivi cmd RAJA'!C40+' Suivi cmd RAJA'!C41+' Suivi cmd RAJA'!E39+' Suivi cmd RAJA'!E40+' Suivi cmd RAJA'!E41+' Suivi cmd RAJA'!G39+' Suivi cmd RAJA'!G40+' Suivi cmd RAJA'!G41+' Suivi cmd RAJA'!I39+' Suivi cmd RAJA'!I40+' Suivi cmd RAJA'!I41+' Suivi cmd RAJA'!K39+' Suivi cmd RAJA'!K40+' Suivi cmd RAJA'!K41+' Suivi cmd RAJA'!M39+' Suivi cmd RAJA'!M40+' Suivi cmd RAJA'!M41+' Suivi cmd RAJA'!O39+' Suivi cmd RAJA'!O40+' Suivi cmd RAJA'!O41+' Suivi cmd RAJA'!Q39+' Suivi cmd RAJA'!Q40+' Suivi cmd RAJA'!Q41+' Suivi cmd RAJA'!S39+' Suivi cmd RAJA'!S40+' Suivi cmd RAJA'!S41+' Suivi cmd RAJA'!U39+' Suivi cmd RAJA'!U40+' Suivi cmd RAJA'!U41+' Suivi cmd RAJA'!W39+' Suivi cmd RAJA'!W40+' Suivi cmd RAJA'!W41+' Suivi cmd RAJA'!Y39+' Suivi cmd RAJA'!Y40+' Suivi cmd RAJA'!Y41 -> 0 | C20: =B20/$D$3 -> 0 | D20: =C20*$D$2*$D$5 -> 0 | E20: 1.45 | F20: =B20*E20 -> 0 | G20: =F20*20% -> 0 | H20: =F20+G20 -> 0
A21: ='$Modele$'!A16&"-"&'$Modele$'!B16&"-"&'$Modele$'!C16 -> RAJA-BBA40-BBA40 | B21: =' Suivi cmd RAJA'!C42+' Suivi cmd RAJA'!C43+' Suivi cmd RAJA'!C44+' Suivi cmd RAJA'!E42+' Suivi cmd RAJA'!E43+' Suivi cmd RAJA'!E44+' Suivi cmd RAJA'!G42+' Suivi cmd RAJA'!G43+' Suivi cmd RAJA'!G44+' Suivi cmd RAJA'!I42+' Suivi cmd RAJA'!I43+' Suivi cmd RAJA'!I44+' Suivi cmd RAJA'!K42+' Suivi cmd RAJA'!K43+' Suivi cmd RAJA'!K44+' Suivi cmd RAJA'!M42+' Suivi cmd RAJA'!M43+' Suivi cmd RAJA'!M44+' Suivi cmd RAJA'!O42+' Suivi cmd RAJA'!O43+' Suivi cmd RAJA'!O44+' Suivi cmd RAJA'!Q42+' Suivi cmd RAJA'!Q43+' Suivi cmd RAJA'!Q44+' Suivi cmd RAJA'!S42+' Suivi cmd RAJA'!S43+' Suivi cmd RAJA'!S44+' Suivi cmd RAJA'!U42+' Suivi cmd RAJA'!U43+' Suivi cmd RAJA'!U44+' Suivi cmd RAJA'!W42+' Suivi cmd RAJA'!W43+' Suivi cmd RAJA'!W44+' Suivi cmd RAJA'!Y42+' Suivi cmd RAJA'!Y43+' Suivi cmd RAJA'!Y44 -> 2700 | C21: =B21/$D$3 -> 11.25 | D21: =C21*$D$2*$D$5 -> 2475 | E21: 0.6 | F21: =B21*E21 -> 1620 | G21: =F21*20% -> 324 | H21: =F21+G21 -> 1944
A22: ='$Modele$'!A17&"-"&'$Modele$'!B17&"-"&'$Modele$'!C17 -> RAJA-BBA41-BBA41 | B22: =' Suivi cmd RAJA'!C45+' Suivi cmd RAJA'!C46+' Suivi cmd RAJA'!C47+' Suivi cmd RAJA'!E45+' Suivi cmd RAJA'!E46+' Suivi cmd RAJA'!E47+' Suivi cmd RAJA'!G45+' Suivi cmd RAJA'!G46+' Suivi cmd RAJA'!G47+' Suivi cmd RAJA'!I45+' Suivi cmd RAJA'!I46+' Suivi cmd RAJA'!I47+' Suivi cmd RAJA'!K45+' Suivi cmd RAJA'!K46+' Suivi cmd RAJA'!K47+' Suivi cmd RAJA'!M45+' Suivi cmd RAJA'!M46+' Suivi cmd RAJA'!M47+' Suivi cmd RAJA'!O45+' Suivi cmd RAJA'!O46+' Suivi cmd RAJA'!O47+' Suivi cmd RAJA'!Q45+' Suivi cmd RAJA'!Q46+' Suivi cmd RAJA'!Q47+' Suivi cmd RAJA'!S45+' Suivi cmd RAJA'!S46+' Suivi cmd RAJA'!S47+' Suivi cmd RAJA'!U45+' Suivi cmd RAJA'!U46+' Suivi cmd RAJA'!U47+' Suivi cmd RAJA'!W45+' Suivi cmd RAJA'!W46+' Suivi cmd RAJA'!W47+' Suivi cmd RAJA'!Y45+' Suivi cmd RAJA'!Y46+' Suivi cmd RAJA'!Y47 -> 2700 | C22: =B22/$D$3 -> 11.25 | D22: =C22*$D$2*$D$5 -> 2475 | E22: 0.72 | F22: =B22*E22 -> 1944 | G22: =F22*20% -> 388.8 | H22: =F22+G22 -> 2332.8
A23: ='$Modele$'!A18&"-"&'$Modele$'!B18&"-"&'$Modele$'!C18 -> RAJA-PAPIER DE SOIE EN FEUILLE BLEU PAMBLM-PAMBLM | B23: =' Suivi cmd RAJA'!C48+' Suivi cmd RAJA'!C49+' Suivi cmd RAJA'!C50+' Suivi cmd RAJA'!E48+' Suivi cmd RAJA'!E49+' Suivi cmd RAJA'!E50+' Suivi cmd RAJA'!G48++' Suivi cmd RAJA'!G49+' Suivi cmd RAJA'!G50+' Suivi cmd RAJA'!I48+' Suivi cmd RAJA'!I49+' Suivi cmd RAJA'!I50+' Suivi cmd RAJA'!K48+' Suivi cmd RAJA'!K49+' Suivi cmd RAJA'!K50+' Suivi cmd RAJA'!M48+' Suivi cmd RAJA'!M49+' Suivi cmd RAJA'!M50+' Suivi cmd RAJA'!O48+' Suivi cmd RAJA'!O49+' Suivi cmd RAJA'!O50+' Suivi cmd RAJA'!Q48+' Suivi cmd RAJA'!Q49+' Suivi cmd RAJA'!Q50+' Suivi cmd RAJA'!S48+' Suivi cmd RAJA'!S49+' Suivi cmd RAJA'!S50+' Suivi cmd RAJA'!U48+' Suivi cmd RAJA'!U49+' Suivi cmd RAJA'!U50+' Suivi cmd RAJA'!W48+' Suivi cmd RAJA'!W49+' Suivi cmd RAJA'!W50+' Suivi cmd RAJA'!Y48+' Suivi cmd RAJA'!Y49+' Suivi cmd RAJA'!Y50 -> 5 | C23: =B23/$D$3 -> 0.020833333 | D23: =C23*$D$2*$D$5 -> 4.5833333 | E23: 22.16 | F23: =B23*E23 -> 110.8 | G23: =F23*20% -> 22.16 | H23: =F23+G23 -> 132.96
A24: ='$Modele$'!A19&"-"&'$Modele$'!B19&"-"&'$Modele$'!C19 -> RAJA-CARTON FLOLAN 60X40X40 CAD29-CAD29 | B24: =' Suivi cmd RAJA'!C51+' Suivi cmd RAJA'!C52+' Suivi cmd RAJA'!C53+' Suivi cmd RAJA'!E51+' Suivi cmd RAJA'!E52+' Suivi cmd RAJA'!E53+' Suivi cmd RAJA'!G51+' Suivi cmd RAJA'!G52+' Suivi cmd RAJA'!G53+' Suivi cmd RAJA'!I51+' Suivi cmd RAJA'!I52+' Suivi cmd RAJA'!I53+' Suivi cmd RAJA'!K51+' Suivi cmd RAJA'!K52+' Suivi cmd RAJA'!K53+' Suivi cmd RAJA'!M51+' Suivi cmd RAJA'!M52+' Suivi cmd RAJA'!M53+' Suivi cmd RAJA'!O51+' Suivi cmd RAJA'!O52+' Suivi cmd RAJA'!O53+' Suivi cmd RAJA'!Q51+' Suivi cmd RAJA'!Q52+' Suivi cmd RAJA'!Q53+' Suivi cmd RAJA'!S51+' Suivi cmd RAJA'!S52+' Suivi cmd RAJA'!S53+' Suivi cmd RAJA'!U51+' Suivi cmd RAJA'!U52+' Suivi cmd RAJA'!U53+' Suivi cmd RAJA'!W51+' Suivi cmd RAJA'!W52+' Suivi cmd RAJA'!W53+' Suivi cmd RAJA'!Y51+' Suivi cmd RAJA'!Y52+' Suivi cmd RAJA'!Y53 -> 480 | C24: =B24/$D$3 -> 2 | D24: =C24*$D$2*$D$5 -> 440 | E24: 1.24 | F24: =B24*E24 -> 595.2 | G24: =F24*20% -> 119.04 | H24: =F24+G24 -> 714.24
A25: ='$Modele$'!A20&"-"&'$Modele$'!B20&"-"&'$Modele$'!C20 -> RAJA-RIGIBOX BOR30-BOR30 | B25: =' Suivi cmd RAJA'!C54+' Suivi cmd RAJA'!C55+' Suivi cmd RAJA'!C56+' Suivi cmd RAJA'!E54+' Suivi cmd RAJA'!E55+' Suivi cmd RAJA'!E56+' Suivi cmd RAJA'!G54+' Suivi cmd RAJA'!G55+' Suivi cmd RAJA'!G56+' Suivi cmd RAJA'!I54+' Suivi cmd RAJA'!I55+' Suivi cmd RAJA'!I56+' Suivi cmd RAJA'!K54+' Suivi cmd RAJA'!K55+' Suivi cmd RAJA'!K56+' Suivi cmd RAJA'!M54+' Suivi cmd RAJA'!M55+' Suivi cmd RAJA'!M56+' Suivi cmd RAJA'!O54+' Suivi cmd RAJA'!O55+' Suivi cmd RAJA'!O56+' Suivi cmd RAJA'!Q54+' Suivi cmd RAJA'!Q55+' Suivi cmd RAJA'!Q56+' Suivi cmd RAJA'!S54+' Suivi cmd RAJA'!S55+' Suivi cmd RAJA'!S56+' Suivi cmd RAJA'!U54+' Suivi cmd RAJA'!U55+' Suivi cmd RAJA'!U56+' Suivi cmd RAJA'!W54+' Suivi cmd RAJA'!W55+' Suivi cmd RAJA'!W56+' Suivi cmd RAJA'!Y54+' Suivi cmd RAJA'!Y55+' Suivi cmd RAJA'!Y56 -> 100 | C25: =B25/$D$3 -> 0.41666667 | D25: =C25*$D$2*$D$5 -> 91.666667 | E25: 0.56 | F25: =B25*E25 -> 56 | G25: =F25*20% -> 11.2 | H25: =F25+G25 -> 67.2
A26: ='$Modele$'!A21&"-"&'$Modele$'!B21&"-"&'$Modele$'!C21 -> RAJA-CARTON BLANC ABC110-ABC110 | B26: =' Suivi cmd RAJA'!C57+' Suivi cmd RAJA'!C58+' Suivi cmd RAJA'!C59+' Suivi cmd RAJA'!E57+' Suivi cmd RAJA'!E58+' Suivi cmd RAJA'!E59+' Suivi cmd RAJA'!G57+' Suivi cmd RAJA'!G58+' Suivi cmd RAJA'!G59+' Suivi cmd RAJA'!I57+' Suivi cmd RAJA'!I58+' Suivi cmd RAJA'!I59+' Suivi cmd RAJA'!K57+' Suivi cmd RAJA'!K58+' Suivi cmd RAJA'!K59+' Suivi cmd RAJA'!M57+' Suivi cmd RAJA'!M58+' Suivi cmd RAJA'!M59+' Suivi cmd RAJA'!O57+' Suivi cmd RAJA'!O58+' Suivi cmd RAJA'!O59+' Suivi cmd RAJA'!Q57+' Suivi cmd RAJA'!Q58+' Suivi cmd RAJA'!Q59+' Suivi cmd RAJA'!S57+' Suivi cmd RAJA'!S58+' Suivi cmd RAJA'!S59+' Suivi cmd RAJA'!U57+' Suivi cmd RAJA'!U58+' Suivi cmd RAJA'!U59+' Suivi cmd RAJA'!W57+' Suivi cmd RAJA'!W58+' Suivi cmd RAJA'!W59+' Suivi cmd RAJA'!Y57+' Suivi cmd RAJA'!Y58+' Suivi cmd RAJA'!Y59 -> 2 | C26: =B26/$D$3 -> 0.0083333333 | D26: =C26*$D$2*$D$5 -> 1.8333333 | E26: 58.96 | F26: =B26*E26 -> 117.92 | G26: =F26*20% -> 23.584 | H26: =F26+G26 -> 141.504
A27: ='$Modele$'!A22&"-"&'$Modele$'!B22&"-"&'$Modele$'!C22 -> RAJA-CARTON CAS54-CAS54 | B27: =' Suivi cmd RAJA'!C60+' Suivi cmd RAJA'!C61+' Suivi cmd RAJA'!C62+' Suivi cmd RAJA'!E60+' Suivi cmd RAJA'!E61+' Suivi cmd RAJA'!E62+' Suivi cmd RAJA'!G60+' Suivi cmd RAJA'!G61+' Suivi cmd RAJA'!G62+' Suivi cmd RAJA'!I60+' Suivi cmd RAJA'!I61+' Suivi cmd RAJA'!I62+' Suivi cmd RAJA'!K60+' Suivi cmd RAJA'!K61+' Suivi cmd RAJA'!K62+' Suivi cmd RAJA'!M60+' Suivi cmd RAJA'!M61+' Suivi cmd RAJA'!M62+' Suivi cmd RAJA'!O60+' Suivi cmd RAJA'!O61+' Suivi cmd RAJA'!O62+' Suivi cmd RAJA'!Q60+' Suivi cmd RAJA'!Q61+' Suivi cmd RAJA'!Q62+' Suivi cmd RAJA'!S60+' Suivi cmd RAJA'!S61+' Suivi cmd RAJA'!S62+' Suivi cmd RAJA'!U60+' Suivi cmd RAJA'!U61+' Suivi cmd RAJA'!U62+' Suivi cmd RAJA'!W60+' Suivi cmd RAJA'!W61+' Suivi cmd RAJA'!W62+' Suivi cmd RAJA'!Y60+' Suivi cmd RAJA'!Y61+' Suivi cmd RAJA'!Y62 -> 600 | C27: =B27/$D$3 -> 2.5 | D27: =C27*$D$2*$D$5 -> 550 | E27: 0.84 | F27: =B27*E27 -> 504 | G27: =F27*20% -> 100.8 | H27: =F27+G27 -> 604.8
A28: ='$Modele$'!A23&"-"&'$Modele$'!B23&"-"&'$Modele$'!C23 -> RAJA-CARTON CAS34-CAS34 | B28: =' Suivi cmd RAJA'!C63+' Suivi cmd RAJA'!C64+' Suivi cmd RAJA'!C65+' Suivi cmd RAJA'!E63+' Suivi cmd RAJA'!E64+' Suivi cmd RAJA'!E65+' Suivi cmd RAJA'!G63+' Suivi cmd RAJA'!G64+' Suivi cmd RAJA'!G65+' Suivi cmd RAJA'!I63+' Suivi cmd RAJA'!I64+' Suivi cmd RAJA'!I65+' Suivi cmd RAJA'!K63+' Suivi cmd RAJA'!K64+' Suivi cmd RAJA'!K65+' Suivi cmd RAJA'!M63+' Suivi cmd RAJA'!M64+' Suivi cmd RAJA'!M65+' Suivi cmd RAJA'!O63+' Suivi cmd RAJA'!O64+' Suivi cmd RAJA'!O65+' Suivi cmd RAJA'!Q63+' Suivi cmd RAJA'!Q64+' Suivi cmd RAJA'!Q65+' Suivi cmd RAJA'!S63+' Suivi cmd RAJA'!S64+' Suivi cmd RAJA'!S65+' Suivi cmd RAJA'!U63+' Suivi cmd RAJA'!U64+' Suivi cmd RAJA'!U65+' Suivi cmd RAJA'!W63+' Suivi cmd RAJA'!W64+' Suivi cmd RAJA'!W65+' Suivi cmd RAJA'!Y63+' Suivi cmd RAJA'!Y64+' Suivi cmd RAJA'!Y65 -> 0 | C28: =B28/$D$3 -> 0 | D28: =C28*$D$2*$D$5 -> 0 | E28: 1.2 | F28: =B28*E28 -> 0 | G28: =F28*20% -> 0 | H28: =F28+G28 -> 0
A29: ='$Modele$'!A24&"-"&'$Modele$'!B24&"-"&'$Modele$'!C24 -> RAJA-SACHET A RABAT ADHESIF SPF12-SPF12 | B29: =' Suivi cmd RAJA'!C66+' Suivi cmd RAJA'!C67+' Suivi cmd RAJA'!C68+' Suivi cmd RAJA'!E66+' Suivi cmd RAJA'!E67+' Suivi cmd RAJA'!E68+' Suivi cmd RAJA'!G66+' Suivi cmd RAJA'!G67+' Suivi cmd RAJA'!G68+' Suivi cmd RAJA'!I66+' Suivi cmd RAJA'!I67+' Suivi cmd RAJA'!I68+' Suivi cmd RAJA'!K66+' Suivi cmd RAJA'!K67+' Suivi cmd RAJA'!K68+' Suivi cmd RAJA'!M66+' Suivi cmd RAJA'!M67+' Suivi cmd RAJA'!M68+' Suivi cmd RAJA'!O66+' Suivi cmd RAJA'!O67+' Suivi cmd RAJA'!O68+' Suivi cmd RAJA'!Q66+' Suivi cmd RAJA'!Q67+' Suivi cmd RAJA'!Q68+' Suivi cmd RAJA'!S66+' Suivi cmd RAJA'!S67+' Suivi cmd RAJA'!S68+' Suivi cmd RAJA'!U66+' Suivi cmd RAJA'!U67+' Suivi cmd RAJA'!U68+' Suivi cmd RAJA'!W66+' Suivi cmd RAJA'!W67+' Suivi cmd RAJA'!W68+' Suivi cmd RAJA'!Y66+' Suivi cmd RAJA'!Y67+' Suivi cmd RAJA'!Y68 -> 2 | C29: =B29/$D$3 -> 0.0083333333 | D29: =C29*$D$2*$D$5 -> 1.8333333 | E29: 47.4 | F29: =B29*E29 -> 94.8 | G29: =F29*20% -> 18.96 | H29: =F29+G29 -> 113.76
A30: ='$Modele$'!A25&"-"&'$Modele$'!B25&"-"&'$Modele$'!C25 -> RAJA-BOB GAINE PE 200X350 GAINE20B-GAINE20B | B30: =' Suivi cmd RAJA'!C69+' Suivi cmd RAJA'!C70+' Suivi cmd RAJA'!C71+' Suivi cmd RAJA'!E69+' Suivi cmd RAJA'!E70+' Suivi cmd RAJA'!E71+' Suivi cmd RAJA'!G69+' Suivi cmd RAJA'!G70+' Suivi cmd RAJA'!G71+' Suivi cmd RAJA'!I69+' Suivi cmd RAJA'!I70+' Suivi cmd RAJA'!I71+' Suivi cmd RAJA'!K69+' Suivi cmd RAJA'!K70+' Suivi cmd RAJA'!K71+' Suivi cmd RAJA'!M69+' Suivi cmd RAJA'!M70+' Suivi cmd RAJA'!M71+' Suivi cmd RAJA'!O69+' Suivi cmd RAJA'!O70+' Suivi cmd RAJA'!O71+' Suivi cmd RAJA'!Q69+' Suivi cmd RAJA'!Q70+' Suivi cmd RAJA'!Q71+' Suivi cmd RAJA'!S70+' Suivi cmd RAJA'!S71+' Suivi cmd RAJA'!S72+' Suivi cmd RAJA'!U70+' Suivi cmd RAJA'!U71+' Suivi cmd RAJA'!U72+' Suivi cmd RAJA'!W70+' Suivi cmd RAJA'!W71+' Suivi cmd RAJA'!W72+' Suivi cmd RAJA'!Y70+' Suivi cmd RAJA'!Y71+' Suivi cmd RAJA'!Y72 -> 2 | C30: =B30/$D$3 -> 0.0083333333 | D30: =C30*$D$2*$D$5 -> 1.8333333 | E30: 77.4 | F30: =B30*E30 -> 154.8 | G30: =F30*20% -> 30.96 | H30: =F30+G30 -> 185.76
A31: ='$Modele$'!A26&"-"&'$Modele$'!B26&"-"&'$Modele$'!C26 -> RAJA-ETIQUETTE NE PAS GERBER ETIC242-ETIC242 | B31: =' Suivi cmd RAJA'!C72+' Suivi cmd RAJA'!C73+' Suivi cmd RAJA'!C74+' Suivi cmd RAJA'!E72+' Suivi cmd RAJA'!E73+' Suivi cmd RAJA'!E74+' Suivi cmd RAJA'!G72+' Suivi cmd RAJA'!G73+' Suivi cmd RAJA'!G74+' Suivi cmd RAJA'!I72+' Suivi cmd RAJA'!I73+' Suivi cmd RAJA'!I74+' Suivi cmd RAJA'!K72+' Suivi cmd RAJA'!K73+' Suivi cmd RAJA'!K74+' Suivi cmd RAJA'!M72+' Suivi cmd RAJA'!M73+' Suivi cmd RAJA'!M74+' Suivi cmd RAJA'!O72+' Suivi cmd RAJA'!O73+' Suivi cmd RAJA'!O74+' Suivi cmd RAJA'!Q73+' Suivi cmd RAJA'!Q74+' Suivi cmd RAJA'!Q75+' Suivi cmd RAJA'!S73+' Suivi cmd RAJA'!S74+' Suivi cmd RAJA'!S75+' Suivi cmd RAJA'!U73+' Suivi cmd RAJA'!U74+' Suivi cmd RAJA'!U75+' Suivi cmd RAJA'!W73+' Suivi cmd RAJA'!W74+' Suivi cmd RAJA'!W75+' Suivi cmd RAJA'!Y73+' Suivi cmd RAJA'!Y74+' Suivi cmd RAJA'!Y75 -> 0 | C31: =B31/$D$3 -> 0 | D31: =C31*$D$2*$D$5 -> 0 | E31: 36.36 | F31: =B31*E31 -> 0 | G31: =F31*20% -> 0 | H31: =F31+G31 -> 0
A32: ='$Modele$'!A27&"-"&'$Modele$'!B27&"-"&'$Modele$'!C27 -> RAJA-ADHESIF ALEHOS G0016-G0016 | B32: =' Suivi cmd RAJA'!C75+' Suivi cmd RAJA'!C76+' Suivi cmd RAJA'!C77+' Suivi cmd RAJA'!E75+' Suivi cmd RAJA'!E76+' Suivi cmd RAJA'!E77+' Suivi cmd RAJA'!G75+' Suivi cmd RAJA'!G76+' Suivi cmd RAJA'!G77+' Suivi cmd RAJA'!I75+' Suivi cmd RAJA'!I76+' Suivi cmd RAJA'!I77+' Suivi cmd RAJA'!K75+' Suivi cmd RAJA'!K76+' Suivi cmd RAJA'!K77+' Suivi cmd RAJA'!M75+' Suivi cmd RAJA'!M76+' Suivi cmd RAJA'!M77+' Suivi cmd RAJA'!O75+' Suivi cmd RAJA'!O76+' Suivi cmd RAJA'!O77+' Suivi cmd RAJA'!Q75+' Suivi cmd RAJA'!Q76+' Suivi cmd RAJA'!Q77+' Suivi cmd RAJA'!S75+' Suivi cmd RAJA'!S76+' Suivi cmd RAJA'!S77+' Suivi cmd RAJA'!U74+' Suivi cmd RAJA'!U75+' Suivi cmd RAJA'!U75+' Suivi cmd RAJA'!U76+' Suivi cmd RAJA'!W74+' Suivi cmd RAJA'!W76+' Suivi cmd RAJA'!W77+' Suivi cmd RAJA'!Y75+' Suivi cmd RAJA'!Y76+' Suivi cmd RAJA'!Y77 -> 0 | C32: =B32/$D$3 -> 0 | D32: =C32*$D$2*$D$5 -> 0 | F32: =B32*E32 -> 0 | G32: =F32*20% -> 0 | H32: =F32+G32 -> 0
A33: ='$Modele$'!A28&"-"&'$Modele$'!B28&"-"&'$Modele$'!C28 -> RAJA-SACHET PLASTIQUE 30X40 RGP10-RGP10 | B33: =' Suivi cmd RAJA'!C78+' Suivi cmd RAJA'!C79+' Suivi cmd RAJA'!C80+' Suivi cmd RAJA'!E78+' Suivi cmd RAJA'!E79+' Suivi cmd RAJA'!E80+' Suivi cmd RAJA'!G78+' Suivi cmd RAJA'!G79+' Suivi cmd RAJA'!G80+' Suivi cmd RAJA'!I78+' Suivi cmd RAJA'!I79+' Suivi cmd RAJA'!I80+' Suivi cmd RAJA'!K78+' Suivi cmd RAJA'!K79+' Suivi cmd RAJA'!K80+' Suivi cmd RAJA'!M78+' Suivi cmd RAJA'!M79+' Suivi cmd RAJA'!M80+' Suivi cmd RAJA'!O78+' Suivi cmd RAJA'!O79+' Suivi cmd RAJA'!O80+' Suivi cmd RAJA'!Q78+' Suivi cmd RAJA'!Q79+' Suivi cmd RAJA'!Q80+' Suivi cmd RAJA'!S78+' Suivi cmd RAJA'!S79+' Suivi cmd RAJA'!S80+' Suivi cmd RAJA'!U78+' Suivi cmd RAJA'!U79+' Suivi cmd RAJA'!U80+' Suivi cmd RAJA'!W78+' Suivi cmd RAJA'!W79+' Suivi cmd RAJA'!W80+' Suivi cmd RAJA'!Y78+' Suivi cmd RAJA'!Y79+' Suivi cmd RAJA'!Y80 -> 1 | C33: =B33/$D$3 -> 0.0041666667 | D33: =C33*$D$2*$D$5 -> 0.91666667 | E33: 86.11 | F33: =B33*E33 -> 86.11 | G33: =F33*20% -> 17.222 | H33: =F33+G33 -> 103.332
A34: ='$Modele$'!A29&"-"&'$Modele$'!B29&"-"&'$Modele$'!C29 -> RAJA-SACHET PLASTIQUE 30X40 RGP09-RGP09 | B34: =' Suivi cmd RAJA'!C81+' Suivi cmd RAJA'!C82+' Suivi cmd RAJA'!C83+' Suivi cmd RAJA'!E81+' Suivi cmd RAJA'!E82+' Suivi cmd RAJA'!E83+' Suivi cmd RAJA'!G81+' Suivi cmd RAJA'!G82+' Suivi cmd RAJA'!G83+' Suivi cmd RAJA'!I81+' Suivi cmd RAJA'!I82+' Suivi cmd RAJA'!I83+' Suivi cmd RAJA'!K81+' Suivi cmd RAJA'!K82+' Suivi cmd RAJA'!K83+' Suivi cmd RAJA'!M81+' Suivi cmd RAJA'!M82+' Suivi cmd RAJA'!M83+' Suivi cmd RAJA'!O81+' Suivi cmd RAJA'!O82+' Suivi cmd RAJA'!O83+' Suivi cmd RAJA'!Q80+' Suivi cmd RAJA'!Q81+' Suivi cmd RAJA'!Q82+' Suivi cmd RAJA'!S80+' Suivi cmd RAJA'!S81+' Suivi cmd RAJA'!S82+' Suivi cmd RAJA'!U80+' Suivi cmd RAJA'!U81+' Suivi cmd RAJA'!U82+' Suivi cmd RAJA'!W81+' Suivi cmd RAJA'!W82+' Suivi cmd RAJA'!W83+' Suivi cmd RAJA'!Y81+' Suivi cmd RAJA'!Y82+' Suivi cmd RAJA'!Y83 -> 1 | C34: =B34/$D$3 -> 0.0041666667 | D34: =C34*$D$2*$D$5 -> 0.91666667 | E34: 64.39 | F34: =B34*E34 -> 64.39 | G34: =F34*20% -> 12.878 | H34: =F34+G34 -> 77.268
A35: ='$Modele$'!A30&"-"&'$Modele$'!B30&"-"&'$Modele$'!C30 -> RAJA-GAINE-GAINE35B | B35: =' Suivi cmd RAJA'!C84+' Suivi cmd RAJA'!C85+' Suivi cmd RAJA'!C86+' Suivi cmd RAJA'!E84+' Suivi cmd RAJA'!E85+' Suivi cmd RAJA'!E86+' Suivi cmd RAJA'!G84+' Suivi cmd RAJA'!G85+' Suivi cmd RAJA'!G86+' Suivi cmd RAJA'!I84+' Suivi cmd RAJA'!I85+' Suivi cmd RAJA'!I86+' Suivi cmd RAJA'!K84+' Suivi cmd RAJA'!K85+' Suivi cmd RAJA'!K86+' Suivi cmd RAJA'!M84+' Suivi cmd RAJA'!M85+' Suivi cmd RAJA'!M86+' Suivi cmd RAJA'!O84+' Suivi cmd RAJA'!O85+' Suivi cmd RAJA'!O86+' Suivi cmd RAJA'!Q84+' Suivi cmd RAJA'!Q85+' Suivi cmd RAJA'!Q86+' Suivi cmd RAJA'!S84+' Suivi cmd RAJA'!S85+' Suivi cmd RAJA'!S86+' Suivi cmd RAJA'!U84+' Suivi cmd RAJA'!U85+' Suivi cmd RAJA'!U86+' Suivi cmd RAJA'!W84+' Suivi cmd RAJA'!W85+' Suivi cmd RAJA'!W86+' Suivi cmd RAJA'!Y84+' Suivi cmd RAJA'!Y85+' Suivi cmd RAJA'!Y86 -> 0 | C35: =B35/$D$3 -> 0 | D35: =C35*$D$2*$D$5 -> 0 | F35: =B35*E35 -> 0 | G35: =F35*20% -> 0 | H35: =F35+G35 -> 0
A36: ='$Modele$'!A31&"-"&'$Modele$'!B31&"-"&'$Modele$'!C31 -> RAJA-ETIQUETTE -ETIC172 | B36: =' Suivi cmd RAJA'!C87+' Suivi cmd RAJA'!C88+' Suivi cmd RAJA'!C89+' Suivi cmd RAJA'!E87+' Suivi cmd RAJA'!E88+' Suivi cmd RAJA'!E89+' Suivi cmd RAJA'!G87+' Suivi cmd RAJA'!G88+' Suivi cmd RAJA'!G89+' Suivi cmd RAJA'!I87+' Suivi cmd RAJA'!I88+' Suivi cmd RAJA'!I89+' Suivi cmd RAJA'!K87+' Suivi cmd RAJA'!K88+' Suivi cmd RAJA'!K89+' Suivi cmd RAJA'!M87+' Suivi cmd RAJA'!M88+' Suivi cmd RAJA'!M89+' Suivi cmd RAJA'!O87+' Suivi cmd RAJA'!O88+' Suivi cmd RAJA'!O89+' Suivi cmd RAJA'!Q87+' Suivi cmd RAJA'!Q88+' Suivi cmd RAJA'!Q89+' Suivi cmd RAJA'!S87+' Suivi cmd RAJA'!S88+' Suivi cmd RAJA'!S89+' Suivi cmd RAJA'!U87+' Suivi cmd RAJA'!U88+' Suivi cmd RAJA'!U89+' Suivi cmd RAJA'!W87+' Suivi cmd RAJA'!W88+' Suivi cmd RAJA'!W89+' Suivi cmd RAJA'!Y87+' Suivi cmd RAJA'!Y88+' Suivi cmd RAJA'!Y89 -> 0 | C36: =B36/$D$3 -> 0 | D36: =C36*$D$2*$D$5 -> 0 | F36: =B36*E36 -> 0 | G36: =F36*20% -> 0 | H36: =F36+G36 -> 0
A37: ='$Modele$'!A32&"-"&'$Modele$'!B32&"-"&'$Modele$'!C32 -> -- | C37: =B37/$D$3 -> 0 | D37: =C37*$D$2*$D$5 -> 0 | F37: =B37*E37 -> 0 | G37: =F37*20% -> 0 | H37: =F37+G37 -> 0
A38: ='$Modele$'!A33&"-"&'$Modele$'!B33&"-"&'$Modele$'!C33 -> RAJA-CAS32 (PROMO)-CAS32 | B38: =' Suivi cmd RAJA'!C91+' Suivi cmd RAJA'!C92+' Suivi cmd RAJA'!C93+' Suivi cmd RAJA'!E91+' Suivi cmd RAJA'!E92+' Suivi cmd RAJA'!E93+' Suivi cmd RAJA'!G91+' Suivi cmd RAJA'!G92+' Suivi cmd RAJA'!G93+' Suivi cmd RAJA'!I91+' Suivi cmd RAJA'!I92+' Suivi cmd RAJA'!I93+' Suivi cmd RAJA'!K91+' Suivi cmd RAJA'!K92+' Suivi cmd RAJA'!K93+' Suivi cmd RAJA'!M91+' Suivi cmd RAJA'!M92+' Suivi cmd RAJA'!M93+' Suivi cmd RAJA'!O91+' Suivi cmd RAJA'!O92+' Suivi cmd RAJA'!O93+' Suivi cmd RAJA'!Q91+' Suivi cmd RAJA'!Q92+' Suivi cmd RAJA'!Q93+' Suivi cmd RAJA'!S91+' Suivi cmd RAJA'!S92+' Suivi cmd RAJA'!S93+' Suivi cmd RAJA'!U91+' Suivi cmd RAJA'!U92+' Suivi cmd RAJA'!U93+' Suivi cmd RAJA'!W91+' Suivi cmd RAJA'!W92+' Suivi cmd RAJA'!W93+' Suivi cmd RAJA'!Y91+' Suivi cmd RAJA'!Y92+' Suivi cmd RAJA'!Y93 -> 0 | C38: =B38/$D$3 -> 0 | D38: =C38*$D$2*$D$5 -> 0 | E38: 0.46 | F38: =B38*E38 -> 0 | G38: =F38*20% -> 0 | H38: =F38+G38 -> 0
A39: ='$Modele$'!A34&"-"&'$Modele$'!B34&"-"&'$Modele$'!C34 -> RAJA-CPL2532 (PROMO)-CPL2532 | B39: =' Suivi cmd RAJA'!C94+' Suivi cmd RAJA'!C95+' Suivi cmd RAJA'!C96+' Suivi cmd RAJA'!E94+' Suivi cmd RAJA'!E95+' Suivi cmd RAJA'!E96+' Suivi cmd RAJA'!G94+' Suivi cmd RAJA'!G95+' Suivi cmd RAJA'!G96+' Suivi cmd RAJA'!I94+' Suivi cmd RAJA'!I95+' Suivi cmd RAJA'!I96+' Suivi cmd RAJA'!K94+' Suivi cmd RAJA'!K95+' Suivi cmd RAJA'!K96+' Suivi cmd RAJA'!M94+' Suivi cmd RAJA'!M95+' Suivi cmd RAJA'!M96+' Suivi cmd RAJA'!O94+' Suivi cmd RAJA'!O95+' Suivi cmd RAJA'!O96+' Suivi cmd RAJA'!Q94+' Suivi cmd RAJA'!Q95+' Suivi cmd RAJA'!Q96+' Suivi cmd RAJA'!S94+' Suivi cmd RAJA'!S95+' Suivi cmd RAJA'!S96+' Suivi cmd RAJA'!U94+' Suivi cmd RAJA'!U95+' Suivi cmd RAJA'!U96+' Suivi cmd RAJA'!W94+' Suivi cmd RAJA'!W95+' Suivi cmd RAJA'!W96+' Suivi cmd RAJA'!Y94+' Suivi cmd RAJA'!Y95+' Suivi cmd RAJA'!Y96 -> 0 | C39: =B39/$D$3 -> 0 | D39: =C39*$D$2*$D$5 -> 0 | E39: 0.86 | F39: =B39*E39 -> 0 | G39: =F39*20% -> 0 | H39: =F39+G39 -> 0
A40: ETIQUETTENETIC172 | C40: =B40/$D$3 -> 0 | D40: =C40*$D$2*$D$5 -> 0 | E40: 24.72 | F40: =B40*E40 -> 0 | G40: =F40*20% -> 0 | H40: =F40+G40 -> 0

Sheet TARIFS
A2: Référence | B2: Intitulé | C2: Dimension | D2: Consommations 2013
A3: QB15 | B3: QUICKBOX BRUNE | C3: 25X15X10 | D3: 5000
A4: QB17 | B4: QUICKBOX BRUNE | C4: 27X19X12 | D4: 7500
A5: QB25 | B5: QUICKBOX BRUNE | C5: 35X22X14 | D5: 3750
A6: QB30 | B6: QUICKBOX BRUNE | C6: 43X30X12 | D6: 1250
A7: QB33 | B7: QUICKBOX BRUNE | C7: 43X35X20 | D7: 1000
A9: Estimations des consommations annuelles de Fastabox :
A11: Référence | B11: Intitulé | C11: Consommations 2013 | D11: Prix Raja 2013
A12: BBA25 | B12: FASTOBOX 25X15X10 | C12: 15000 | D12: 0.48
A13: BBA31 | B13: FASTOBOX 25X20X15 | C13: 22500 | D13: 0.58
A14: BBA45 | B14: FASTOBOX 35X22X13 | C14: 11250 | D14: 0.69
A15: BBA50 | B15: FASTOBOX 44X29X15 | C15: 3750 | D15: 1.17
A16: BBA55 | B16: FASTOBOX 49X36X26 | C16: 3000 | D16: 1.45
C18: Consommations 2015
A19: BBA31 (QB17) | C19: 55260
A20: BBA25 (QB15) | C20: 12960
A21: BBA45 (QB25) | C21: 1540
A22: BBA50 (QB30) | C22: 8000
A23: BBA55 (QB33) | C23: 7000
A24: BBA40 | C24: 24840
A25: BBA41 | C25: 18900

Sheet DEVIS

Sheet FACTURES
