Workbook

Sheet Equipes
A1: liste des équipes
A2: equipe 1
A3: equipe 2
A4: equipe 3
A5: equipe 4
A6: equipe 5
A7: equipe 6
A8: equipe 7
A9: equipe 8
A10: equipe 9
A11: equipe 10

Sheet Tournoi
A1: HEURE | B1: poule A | G1: classement | H1: Equipe | I1: Joué | J1: Gagné | K1: Nul | L1: Perdu | M1: GP | N1: GC | O1: GA | P1: PTS | AB1: MJ | AC1: MG | AD1: MN | AE1: MP | AF1: GP | AG1: GC | AH1: GA | AI1: PTS | AJ1: magic
A2: 09H00 | B2: =AA2 -> equipe 1 | C2: 1 | D2: 2 | E2: =AA3 -> equipe 2 | AA2: =Equipes!A2 -> equipe 1 | AB2: =SUMPRODUCT(($B$2:$B$11=$AA2)*($C$2:$C$11<>""))+SUMPRODUCT(($E$2:$E$11=$AA2)*($D$2:$D$11<>"")) -> 4 | AC2: =SUMPRODUCT(($B$2:$B$11=$AA2)*($C$2:$C$11>$D$2:$D$11))+SUMPRODUCT(($E$2:$E$11=$AA2)*($C$2:$C$11<$D$2:$D$11)) -> 0 | AD2: =AB2-AC2-AE2 -> 0 | AE2: =SUMPRODUCT(($B$2:$B$11=$AA2)*($C$2:$C$11<$D$2:$D$11))+SUMPRODUCT(($E$2:$E$11=$AA2)*($C$2:$C$11>$D$2:$D$11)) -> 4 | AF2: =SUMPRODUCT(($B$2:$B$11=$AA2)*($C$2:$C$11))+SUMPRODUCT(($E$2:$E$11=$AA2)*($D$2:$D$11)) -> 4 | AG2: =SUMPRODUCT(($B$2:$B$11=$AA2)*($D$2:$D$11))+SUMPRODUCT(($E$2:$E$11=$AA2)*($C$2:$C$11)) -> 8 | AH2: =AF2-AG2 -> -4 | AI2: =AC2*3+AD2*1 -> 0 | AJ2: =AI2*10000+AH2*100+AF2+AB2/100+ROW()/10000 -> -395.9598 | AK2: =RANK(AJ2,$AJ$2:$AJ$6) -> 5
A3: 09H30 | B3: =AA4 -> equipe 3 | C3: 1 | D3: 2 | E3: =AA5 -> equipe 4 | G3: 1 | H3: =INDEX($AA$2:$AA$6,MATCH(G3,$AK$2:$AK$6,0)) -> equipe 5 | I3: =VLOOKUP($H3,$AA$2:$AI$6,COLUMN(C1),FALSE) -> 3 | J3: =VLOOKUP($H3,$AA$2:$AI$6,COLUMN(D1),FALSE) -> 0 | K3: =VLOOKUP($H3,$AA$2:$AI$6,COLUMN(E1),FALSE) -> 1 | L3: =VLOOKUP($H3,$AA$2:$AI$6,COLUMN(F1),FALSE) -> 7 | M3: =VLOOKUP($H3,$AA$2:$AI$6,COLUMN(G1),FALSE) -> 5 | N3: =VLOOKUP($H3,$AA$2:$AI$6,COLUMN(H1),FALSE) -> 2 | O3: =VLOOKUP($H3,$AA$2:$AI$6,COLUMN(I1),FALSE) -> 9 | P3: =VLOOKUP($H3,$AA$2:$AI$6,COLUMN(J1),FALSE) -> #REF! | AA3: =Equipes!A3 -> equipe 2 | AB3: =SUMPRODUCT(($B$2:$B$11=$AA3)*($C$2:$C$11<>""))+SUMPRODUCT(($E$2:$E$11=$AA3)*($D$2:$D$11<>"")) -> 4 | AC3: =SUMPRODUCT(($B$2:$B$11=$AA3)*($C$2:$C$11>$D$2:$D$11))+SUMPRODUCT(($E$2:$E$11=$AA3)*($C$2:$C$11<$D$2:$D$11)) -> 3 | AD3: =AB3-AC3-AE3 -> 0 | AE3: =SUMPRODUCT(($B$2:$B$11=$AA3)*($C$2:$C$11<$D$2:$D$11))+SUMPRODUCT(($E$2:$E$11=$AA3)*($C$2:$C$11>$D$2:$D$11)) -> 1 | AF3: =SUMPRODUCT(($B$2:$B$11=$AA3)*($C$2:$C$11))+SUMPRODUCT(($E$2:$E$11=$AA3)*($D$2:$D$11)) -> 7 | AG3: =SUMPRODUCT(($B$2:$B$11=$AA3)*($D$2:$D$11))+SUMPRODUCT(($E$2:$E$11=$AA3)*($C$2:$C$11)) -> 5 | AH3: =AF3-AG3 -> 2 | AI3: =AC3*3+AD3*1 -> 9 | AJ3: =AI3*10000+AH3*100+AF3+AB3/100+ROW()/10000 -> 90207.04 | AK3: =RANK(AJ3,$AJ$2:$AJ$6) -> 2
A4: 10H00 | B4: =AA6 -> equipe 5 | C4: 1 | D4: 2 | E4: =AA3 -> equipe 2 | G4: 2 | H4: =INDEX($AA$2:$AA$6,MATCH(G4,$AK$2:$AK$6,0)) -> equipe 2 | I4: =VLOOKUP($H4,$AA$2:$AI$6,COLUMN(C2),FALSE) -> 3 | J4: =VLOOKUP($H4,$AA$2:$AI$6,COLUMN(D2),FALSE) -> 0 | K4: =VLOOKUP($H4,$AA$2:$AI$6,COLUMN(E2),FALSE) -> 1 | L4: =VLOOKUP($H4,$AA$2:$AI$6,COLUMN(F2),FALSE) -> 7 | M4: =VLOOKUP($H4,$AA$2:$AI$6,COLUMN(G2),FALSE) -> 5 | N4: =VLOOKUP($H4,$AA$2:$AI$6,COLUMN(H2),FALSE) -> 2 | O4: =VLOOKUP($H4,$AA$2:$AI$6,COLUMN(I2),FALSE) -> 9 | P4: =VLOOKUP($H4,$AA$2:$AI$6,COLUMN(J2),FALSE) -> #REF! | AA4: =Equipes!A4 -> equipe 3 | AB4: =SUMPRODUCT(($B$2:$B$11=$AA4)*($C$2:$C$11<>""))+SUMPRODUCT(($E$2:$E$11=$AA4)*($D$2:$D$11<>"")) -> 4 | AC4: =SUMPRODUCT(($B$2:$B$11=$AA4)*($C$2:$C$11>$D$2:$D$11))+SUMPRODUCT(($E$2:$E$11=$AA4)*($C$2:$C$11<$D$2:$D$11)) -> 2 | AD4: =AB4-AC4-AE4 -> 0 | AE4: =SUMPRODUCT(($B$2:$B$11=$AA4)*($C$2:$C$11<$D$2:$D$11))+SUMPRODUCT(($E$2:$E$11=$AA4)*($C$2:$C$11>$D$2:$D$11)) -> 2 | AF4: =SUMPRODUCT(($B$2:$B$11=$AA4)*($C$2:$C$11))+SUMPRODUCT(($E$2:$E$11=$AA4)*($D$2:$D$11)) -> 6 | AG4: =SUMPRODUCT(($B$2:$B$11=$AA4)*($D$2:$D$11))+SUMPRODUCT(($E$2:$E$11=$AA4)*($C$2:$C$11)) -> 6 | AH4: =AF4-AG4 -> 0 | AI4: =AC4*3+AD4*1 -> 6 | AJ4: =AI4*10000+AH4*100+AF4+AB4/100+ROW()/10000 -> 60006.04 | AK4: =RANK(AJ4,$AJ$2:$AJ$6) -> 4
A5: 10H30 | B5: =AA2 -> equipe 1 | C5: 1 | D5: 2 | E5: =AA4 -> equipe 3 | G5: 3 | H5: =INDEX($AA$2:$AA$6,MATCH(G5,$AK$2:$AK$6,0)) -> equipe 4 | I5: =VLOOKUP($H5,$AA$2:$AI$6,COLUMN(C3),FALSE) -> 2 | J5: =VLOOKUP($H5,$AA$2:$AI$6,COLUMN(D3),FALSE) -> 0 | K5: =VLOOKUP($H5,$AA$2:$AI$6,COLUMN(E3),FALSE) -> 2 | L5: =VLOOKUP($H5,$AA$2:$AI$6,COLUMN(F3),FALSE) -> 6 | M5: =VLOOKUP($H5,$AA$2:$AI$6,COLUMN(G3),FALSE) -> 6 | N5: =VLOOKUP($H5,$AA$2:$AI$6,COLUMN(H3),FALSE) -> 0 | O5: =VLOOKUP($H5,$AA$2:$AI$6,COLUMN(I3),FALSE) -> 6 | P5: =VLOOKUP($H5,$AA$2:$AI$6,COLUMN(J3),FALSE) -> #REF! | AA5: =Equipes!A5 -> equipe 4 | AB5: =SUMPRODUCT(($B$2:$B$11=$AA5)*($C$2:$C$11<>""))+SUMPRODUCT(($E$2:$E$11=$AA5)*($D$2:$D$11<>"")) -> 4 | AC5: =SUMPRODUCT(($B$2:$B$11=$AA5)*($C$2:$C$11>$D$2:$D$11))+SUMPRODUCT(($E$2:$E$11=$AA5)*($C$2:$C$11<$D$2:$D$11)) -> 2 | AD5: =AB5-AC5-AE5 -> 0 | AE5: =SUMPRODUCT(($B$2:$B$11=$AA5)*($C$2:$C$11<$D$2:$D$11))+SUMPRODUCT(($E$2:$E$11=$AA5)*($C$2:$C$11>$D$2:$D$11)) -> 2 | AF5: =SUMPRODUCT(($B$2:$B$11=$AA5)*($C$2:$C$11))+SUMPRODUCT(($E$2:$E$11=$AA5)*($D$2:$D$11)) -> 6 | AG5: =SUMPRODUCT(($B$2:$B$11=$AA5)*($D$2:$D$11))+SUMPRODUCT(($E$2:$E$11=$AA5)*($C$2:$C$11)) -> 6 | AH5: =AF5-AG5 -> 0 | AI5: =AC5*3+AD5*1 -> 6 | AJ5: =AI5*10000+AH5*100+AF5+AB5/100+ROW()/10000 -> 60006.041 | AK5: =RANK(AJ5,$AJ$2:$AJ$6) -> 3
A6: 11H00 | B6: =AA5 -> equipe 4 | C6: 1 | D6: 2 | E6: =AA3 -> equipe 2 | G6: 4 | H6: =INDEX($AA$2:$AA$6,MATCH(G6,$AK$2:$AK$6,0)) -> equipe 3 | I6: =VLOOKUP($H6,$AA$2:$AI$6,COLUMN(C4),FALSE) -> 2 | J6: =VLOOKUP($H6,$AA$2:$AI$6,COLUMN(D4),FALSE) -> 0 | K6: =VLOOKUP($H6,$AA$2:$AI$6,COLUMN(E4),FALSE) -> 2 | L6: =VLOOKUP($H6,$AA$2:$AI$6,COLUMN(F4),FALSE) -> 6 | M6: =VLOOKUP($H6,$AA$2:$AI$6,COLUMN(G4),FALSE) -> 6 | N6: =VLOOKUP($H6,$AA$2:$AI$6,COLUMN(H4),FALSE) -> 0 | O6: =VLOOKUP($H6,$AA$2:$AI$6,COLUMN(I4),FALSE) -> 6 | P6: =VLOOKUP($H6,$AA$2:$AI$6,COLUMN(J4),FALSE) -> #REF! | AA6: =Equipes!A6 -> equipe 5 | AB6: =SUMPRODUCT(($B$2:$B$11=$AA6)*($C$2:$C$11<>""))+SUMPRODUCT(($E$2:$E$11=$AA6)*($D$2:$D$11<>"")) -> 4 | AC6: =SUMPRODUCT(($B$2:$B$11=$AA6)*($C$2:$C$11>$D$2:$D$11))+SUMPRODUCT(($E$2:$E$11=$AA6)*($C$2:$C$11<$D$2:$D$11)) -> 3 | AD6: =AB6-AC6-AE6 -> 0 | AE6: =SUMPRODUCT(($B$2:$B$11=$AA6)*($C$2:$C$11<$D$2:$D$11))+SUMPRODUCT(($E$2:$E$11=$AA6)*($C$2:$C$11>$D$2:$D$11)) -> 1 | AF6: =SUMPRODUCT(($B$2:$B$11=$AA6)*($C$2:$C$11))+SUMPRODUCT(($E$2:$E$11=$AA6)*($D$2:$D$11)) -> 7 | AG6: =SUMPRODUCT(($B$2:$B$11=$AA6)*($D$2:$D$11))+SUMPRODUCT(($E$2:$E$11=$AA6)*($C$2:$C$11)) -> 5 | AH6: =AF6-AG6 -> 2 | AI6: =AC6*3+AD6*1 -> 9 | AJ6: =AI6*10000+AH6*100+AF6+AB6/100+ROW()/10000 -> 90207.041 | AK6: =RANK(AJ6,$AJ$2:$AJ$6) -> 1
A7: 11H30 | B7: =AA2 -> equipe 1 | C7: 1 | D7: 2 | E7: =AA6 -> equipe 5 | G7: 5 | H7: =INDEX($AA$2:$AA$6,MATCH(G7,$AK$2:$AK$6,0)) -> equipe 1 | I7: =VLOOKUP($H7,$AA$2:$AI$6,COLUMN(C5),FALSE) -> 0 | J7: =VLOOKUP($H7,$AA$2:$AI$6,COLUMN(D5),FALSE) -> 0 | K7: =VLOOKUP($H7,$AA$2:$AI$6,COLUMN(E5),FALSE) -> 4 | L7: =VLOOKUP($H7,$AA$2:$AI$6,COLUMN(F5),FALSE) -> 4 | M7: =VLOOKUP($H7,$AA$2:$AI$6,COLUMN(G5),FALSE) -> 8 | N7: =VLOOKUP($H7,$AA$2:$AI$6,COLUMN(H5),FALSE) -> -4 | O7: =VLOOKUP($H7,$AA$2:$AI$6,COLUMN(I5),FALSE) -> 0 | P7: =VLOOKUP($H7,$AA$2:$AI$6,COLUMN(J5),FALSE) -> #REF!
A8: 12H00 | B8: =AA3 -> equipe 2 | C8: 1 | D8: 2 | E8: =AA4 -> equipe 3
A9: 13H15 | B9: =AA5 -> equipe 4 | C9: 1 | D9: 2 | E9: =AA6 -> equipe 5
A10: 13H45 | B10: =AA2 -> equipe 1 | C10: 1 | D10: 2 | E10: =AA5 -> equipe 4
A11: 14H15 | B11: =AA4 -> equipe 3 | C11: 1 | D11: 2 | E11: =AA6 -> equipe 5
A12: 14H45
B13: poule B | G13: classement | H13: Equipe | I13: Joué | J13: Gagné | K13: Nul | L13: Perdu | M13: GP | N13: GC | O13: GA | P13: PTS | AB13: MJ | AC13: MG | AD13: MN | AE13: MP | AF13: GP | AG13: GC | AH13: GA | AI13: PTS | AJ13: magic
A14: 09H15 | B14: =AA14 -> equipe 6 | C14: 1 | D14: 0 | E14: =AA15 -> equipe 7 | AA14: =Equipes!A7 -> equipe 6 | AB14: =SUMPRODUCT(($B$14:$B$23=$AA14)*($C$14:$C$23<>""))+SUMPRODUCT(($E$14:$E$23=$AA14)*($D$14:$D$23<>"")) -> 4 | AC14: =SUMPRODUCT(($B$14:$B$23=$AA14)*($C$14:$C$23>$D$14:$D$23))+SUMPRODUCT(($E$14:$E$23=$AA14)*($C$14:$C$23<$D$14:$D$23)) -> 4 | AD14: =AB14-AC14-AE14 -> 0 | AE14: =SUMPRODUCT(($B$14:$B$23=$AA14)*($C$14:$C$23<$D$14:$D$23))+SUMPRODUCT(($E$14:$E$23=$AA14)*($C$14:$C$23>$D$14:$D$23)) -> 0 | AF14: =SUMPRODUCT(($B$14:$B$23=$AA14)*($C$14:$C$23))+SUMPRODUCT(($E$14:$E$23=$AA14)*($D$14:$D$23)) -> 4 | AG14: =SUMPRODUCT(($B$14:$B$23=$AA14)*($D$14:$D$23))+SUMPRODUCT(($E$14:$E$23=$AA14)*($C$14:$C$23)) -> 0 | AH14: =AF14-AG14 -> 4 | AI14: =AC14*3+AD14*1 -> 12 | AJ14: =AI14*10000+AH14*100+AF14+AB14/100+ROW()/10000 -> 120404.04 | AK14: =RANK(AJ14,$AJ$14:$AJ$18) -> 1
A15: 09H45 | B15: =AA16 -> equipe 8 | C15: 1 | D15: 0 | E15: =AA17 -> equipe 9 | G15: 1 | H15: =INDEX($AA$14:$AA$18,MATCH(G15,$AK$14:$AK$18,0)) -> equipe 6 | I15: =VLOOKUP($H15,$AA$14:$AI$18,COLUMN(C13),FALSE) -> 4 | J15: =VLOOKUP($H15,$AA$14:$AI$18,COLUMN(D13),FALSE) -> 0 | K15: =VLOOKUP($H15,$AA$14:$AI$18,COLUMN(E13),FALSE) -> 0 | L15: =VLOOKUP($H15,$AA$14:$AI$18,COLUMN(F13),FALSE) -> 4 | M15: =VLOOKUP($H15,$AA$14:$AI$18,COLUMN(G13),FALSE) -> 0 | N15: =VLOOKUP($H15,$AA$14:$AI$18,COLUMN(H13),FALSE) -> 4 | O15: =VLOOKUP($H15,$AA$14:$AI$18,COLUMN(I13),FALSE) -> 12 | P15: =VLOOKUP($H15,$AA$14:$AI$18,COLUMN(J13),FALSE) -> #REF! | AA15: =Equipes!A8 -> equipe 7 | AB15: =SUMPRODUCT(($B$14:$B$23=$AA15)*($C$14:$C$23<>""))+SUMPRODUCT(($E$14:$E$23=$AA15)*($D$14:$D$23<>"")) -> 4 | AC15: =SUMPRODUCT(($B$14:$B$23=$AA15)*($C$14:$C$23>$D$14:$D$23))+SUMPRODUCT(($E$14:$E$23=$AA15)*($C$14:$C$23<$D$14:$D$23)) -> 1 | AD15: =AB15-AC15-AE15 -> 0 | AE15: =SUMPRODUCT(($B$14:$B$23=$AA15)*($C$14:$C$23<$D$14:$D$23))+SUMPRODUCT(($E$14:$E$23=$AA15)*($C$14:$C$23>$D$14:$D$23)) -> 3 | AF15: =SUMPRODUCT(($B$14:$B$23=$AA15)*($C$14:$C$23))+SUMPRODUCT(($E$14:$E$23=$AA15)*($D$14:$D$23)) -> 1 | AG15: =SUMPRODUCT(($B$14:$B$23=$AA15)*($D$14:$D$23))+SUMPRODUCT(($E$14:$E$23=$AA15)*($C$14:$C$23)) -> 3 | AH15: =AF15-AG15 -> -2 | AI15: =AC15*3+AD15*1 -> 3 | AJ15: =AI15*10000+AH15*100+AF15+AB15/100+ROW()/10000 -> 29801.041 | AK15: =RANK(AJ15,$AJ$14:$AJ$18) -> 5
A16: 10H15 | B16: =AA18 -> equipe 10 | C16: 1 | D16: 0 | E16: =AA15 -> equipe 7 | G16: 2 | H16: =INDEX($AA$14:$AA$18,MATCH(G16,$AK$14:$AK$18,0)) -> equipe 9 | I16: =VLOOKUP($H16,$AA$14:$AI$18,COLUMN(C14),FALSE) -> 2 | J16: =VLOOKUP($H16,$AA$14:$AI$18,COLUMN(D14),FALSE) -> 0 | K16: =VLOOKUP($H16,$AA$14:$AI$18,COLUMN(E14),FALSE) -> 2 | L16: =VLOOKUP($H16,$AA$14:$AI$18,COLUMN(F14),FALSE) -> 2 | M16: =VLOOKUP($H16,$AA$14:$AI$18,COLUMN(G14),FALSE) -> 2 | N16: =VLOOKUP($H16,$AA$14:$AI$18,COLUMN(H14),FALSE) -> 0 | O16: =VLOOKUP($H16,$AA$14:$AI$18,COLUMN(I14),FALSE) -> 6 | P16: =VLOOKUP($H16,$AA$14:$AI$18,COLUMN(J14),FALSE) -> #REF! | AA16: =Equipes!A9 -> equipe 8 | AB16: =SUMPRODUCT(($B$14:$B$23=$AA16)*($C$14:$C$23<>""))+SUMPRODUCT(($E$14:$E$23=$AA16)*($D$14:$D$23<>"")) -> 4 | AC16: =SUMPRODUCT(($B$14:$B$23=$AA16)*($C$14:$C$23>$D$14:$D$23))+SUMPRODUCT(($E$14:$E$23=$AA16)*($C$14:$C$23<$D$14:$D$23)) -> 2 | AD16: =AB16-AC16-AE16 -> 0 | AE16: =SUMPRODUCT(($B$14:$B$23=$AA16)*($C$14:$C$23<$D$14:$D$23))+SUMPRODUCT(($E$14:$E$23=$AA16)*($C$14:$C$23>$D$14:$D$23)) -> 2 | AF16: =SUMPRODUCT(($B$14:$B$23=$AA16)*($C$14:$C$23))+SUMPRODUCT(($E$14:$E$23=$AA16)*($D$14:$D$23)) -> 2 | AG16: =SUMPRODUCT(($B$14:$B$23=$AA16)*($D$14:$D$23))+SUMPRODUCT(($E$14:$E$23=$AA16)*($C$14:$C$23)) -> 2 | AH16: =AF16-AG16 -> 0 | AI16: =AC16*3+AD16*1 -> 6 | AJ16: =AI16*10000+AH16*100+AF16+AB16/100+ROW()/10000 -> 60002.042 | AK16: =RANK(AJ16,$AJ$14:$AJ$18) -> 3
A17: 10H45 | B17: =AA14 -> equipe 6 | C17: 1 | D17: 0 | E17: =AA16 -> equipe 8 | G17: 3 | H17: =INDEX($AA$14:$AA$18,MATCH(G17,$AK$14:$AK$18,0)) -> equipe 8 | I17: =VLOOKUP($H17,$AA$14:$AI$18,COLUMN(C15),FALSE) -> 2 | J17: =VLOOKUP($H17,$AA$14:$AI$18,COLUMN(D15),FALSE) -> 0 | K17: =VLOOKUP($H17,$AA$14:$AI$18,COLUMN(E15),FALSE) -> 2 | L17: =VLOOKUP($H17,$AA$14:$AI$18,COLUMN(F15),FALSE) -> 2 | M17: =VLOOKUP($H17,$AA$14:$AI$18,COLUMN(G15),FALSE) -> 2 | N17: =VLOOKUP($H17,$AA$14:$AI$18,COLUMN(H15),FALSE) -> 0 | O17: =VLOOKUP($H17,$AA$14:$AI$18,COLUMN(I15),FALSE) -> 6 | P17: =VLOOKUP($H17,$AA$14:$AI$18,COLUMN(J15),FALSE) -> #REF! | AA17: =Equipes!A10 -> equipe 9 | AB17: =SUMPRODUCT(($B$14:$B$23=$AA17)*($C$14:$C$23<>""))+SUMPRODUCT(($E$14:$E$23=$AA17)*($D$14:$D$23<>"")) -> 4 | AC17: =SUMPRODUCT(($B$14:$B$23=$AA17)*($C$14:$C$23>$D$14:$D$23))+SUMPRODUCT(($E$14:$E$23=$AA17)*($C$14:$C$23<$D$14:$D$23)) -> 2 | AD17: =AB17-AC17-AE17 -> 0 | AE17: =SUMPRODUCT(($B$14:$B$23=$AA17)*($C$14:$C$23<$D$14:$D$23))+SUMPRODUCT(($E$14:$E$23=$AA17)*($C$14:$C$23>$D$14:$D$23)) -> 2 | AF17: =SUMPRODUCT(($B$14:$B$23=$AA17)*($C$14:$C$23))+SUMPRODUCT(($E$14:$E$23=$AA17)*($D$14:$D$23)) -> 2 | AG17: =SUMPRODUCT(($B$14:$B$23=$AA17)*($D$14:$D$23))+SUMPRODUCT(($E$14:$E$23=$AA17)*($C$14:$C$23)) -> 2 | AH17: =AF17-AG17 -> 0 | AI17: =AC17*3+AD17*1 -> 6 | AJ17: =AI17*10000+AH17*100+AF17+AB17/100+ROW()/10000 -> 60002.042 | AK17: =RANK(AJ17,$AJ$14:$AJ$18) -> 2
A18: 11H15 | B18: =AA17 -> equipe 9 | C18: 1 | D18: 0 | E18: =AA15 -> equipe 7 | G18: 4 | H18: =INDEX($AA$14:$AA$18,MATCH(G18,$AK$14:$AK$18,0)) -> equipe 10 | I18: =VLOOKUP($H18,$AA$14:$AI$18,COLUMN(C16),FALSE) -> 1 | J18: =VLOOKUP($H18,$AA$14:$AI$18,COLUMN(D16),FALSE) -> 0 | K18: =VLOOKUP($H18,$AA$14:$AI$18,COLUMN(E16),FALSE) -> 3 | L18: =VLOOKUP($H18,$AA$14:$AI$18,COLUMN(F16),FALSE) -> 1 | M18: =VLOOKUP($H18,$AA$14:$AI$18,COLUMN(G16),FALSE) -> 3 | N18: =VLOOKUP($H18,$AA$14:$AI$18,COLUMN(H16),FALSE) -> -2 | O18: =VLOOKUP($H18,$AA$14:$AI$18,COLUMN(I16),FALSE) -> 3 | P18: =VLOOKUP($H18,$AA$14:$AI$18,COLUMN(J16),FALSE) -> #REF! | AA18: =Equipes!A11 -> equipe 10 | AB18: =SUMPRODUCT(($B$14:$B$23=$AA18)*($C$14:$C$23<>""))+SUMPRODUCT(($E$14:$E$23=$AA18)*($D$14:$D$23<>"")) -> 4 | AC18: =SUMPRODUCT(($B$14:$B$23=$AA18)*($C$14:$C$23>$D$14:$D$23))+SUMPRODUCT(($E$14:$E$23=$AA18)*($C$14:$C$23<$D$14:$D$23)) -> 1 | AD18: =AB18-AC18-AE18 -> 0 | AE18: =SUMPRODUCT(($B$14:$B$23=$AA18)*($C$14:$C$23<$D$14:$D$23))+SUMPRODUCT(($E$14:$E$23=$AA18)*($C$14:$C$23>$D$14:$D$23)) -> 3 | AF18: =SUMPRODUCT(($B$14:$B$23=$AA18)*($C$14:$C$23))+SUMPRODUCT(($E$14:$E$23=$AA18)*($D$14:$D$23)) -> 1 | AG18: =SUMPRODUCT(($B$14:$B$23=$AA18)*($D$14:$D$23))+SUMPRODUCT(($E$14:$E$23=$AA18)*($C$14:$C$23)) -> 3 | AH18: =AF18-AG18 -> -2 | AI18: =AC18*3+AD18*1 -> 3 | AJ18: =AI18*10000+AH18*100+AF18+AB18/100+ROW()/10000 -> 29801.042 | AK18: =RANK(AJ18,$AJ$14:$AJ$18) -> 4
A19: 11H45 | B19: =AA14 -> equipe 6 | C19: 1 | D19: 0 | E19: =AA18 -> equipe 10 | G19: 5 | H19: =INDEX($AA$14:$AA$18,MATCH(G19,$AK$14:$AK$18,0)) -> equipe 7 | I19: =VLOOKUP($H19,$AA$14:$AI$18,COLUMN(C17),FALSE) -> 1 | J19: =VLOOKUP($H19,$AA$14:$AI$18,COLUMN(D17),FALSE) -> 0 | K19: =VLOOKUP($H19,$AA$14:$AI$18,COLUMN(E17),FALSE) -> 3 | L19: =VLOOKUP($H19,$AA$14:$AI$18,COLUMN(F17),FALSE) -> 1 | M19: =VLOOKUP($H19,$AA$14:$AI$18,COLUMN(G17),FALSE) -> 3 | N19: =VLOOKUP($H19,$AA$14:$AI$18,COLUMN(H17),FALSE) -> -2 | O19: =VLOOKUP($H19,$AA$14:$AI$18,COLUMN(I17),FALSE) -> 3 | P19: =VLOOKUP($H19,$AA$14:$AI$18,COLUMN(J17),FALSE) -> #REF!
A20: 12H15 | B20: =AA15 -> equipe 7 | C20: 1 | D20: 0 | E20: =AA16 -> equipe 8
A21: 13H30 | B21: =AA17 -> equipe 9 | C21: 1 | D21: 0 | E21: =AA18 -> equipe 10
A22: 14H00 | B22: =AA14 -> equipe 6 | C22: 1 | D22: 0 | E22: =AA17 -> equipe 9
A23: 14H30 | B23: =AA16 -> equipe 8 | C23: 1 | D23: 0 | E23: =AA18 -> equipe 10
G25: quarts de finale | M25: demi-finale | S25: finale | Y25: vainqueur
G26: =H4 -> equipe 2 | J26: =H17 -> equipe 8 | M26: =H3 -> equipe 5 | P26: =IF(H26<>"",IF(H26>I26,G26,J26),"") | S26: =IF(N26<>"",IF(N26>O26,M26,P26),"") | V26: =IF(N27<>"",IF(N27>O27,M27,P27),"") | Y26: =IF(T26<>"",IF(T26>U26,S26,V26),"")
G27: =H5 -> equipe 4 | J27: =H16 -> equipe 9 | M27: =H15 -> equipe 6 | P27: =IF(H27<>"",IF(H27>I27,G27,J27),"") | S27: =IF(K27<>"",IF(K27>L27,J27,M27),"") | T27: =IF(L27<>"",IF(L27>M27,K27,N27),"")
