Workbook

Sheet Paie
A1: TABLEAU DES ELEMENTS VARIABLES - AOUT 2017 | G1: 21
G2: 13
A3: Site | B3: Nom | C3: Prénom | D3: STATUT | E3: CONTRAT | F3: date d'entrée | G3: HORAIRE Mensualisé | H3: Mutuelle | I3: Montant Mutuelle | J3: Période essai
K4: Observations
A7: 31 | B7: ADRAS | C7: James | D7: Technicien | E7: CDI | F7: 41883 | G7: 151.67 | H7: NON | I7: 44.41
A8: 33 | B8: ARMAND | C8: Valentin | D8: VRP | E8: CDI | F8: 42800 | H8: Isolée | I8: 20.92 | K8: Rémunération mini garantie jusqu'au 31/12/2017 : 2 400€ brut
A9: 87 | B9: BABULE | C9: PASCAL | D9: Ouvrier | E9: CDI | F9: 38930 | G9: 156.67 | H9: Isolée | I9: 20.92
A10: 17 | B10: BALAND | C10: ALEXI | D10: Apprenti | E10: Apprentissage | F10: 42197 | G10: 151.67 | H10: NON
A11: 64 | B11: BAREIGTS | C11: Antoine | D11: Agent de maîtrise | E11: CDI | F11: 42464 | G11: Forfait jours | H11: Famille
A12: 17 | B12: BARRAUD | C12: CELINE | D12: Agent de maîtrise | E12: CDI | F12: 36801 | G12: 169 | H12: Isolée | I12: 20.92
A13: 44 | B13: BARTHELEMY | C13: MELISSA | D13: Employé | E13: Contrat pro | F13: 42254 | G13: 151.67 | H13: NON
A14: 44 | B14: BAUDUIN | C14: Rodolphe | D14: Technicien | E14: CDI | F14: 41337 | G14: 151.67 | H14: Isolée | I14: 20.92
A15: 33 | B15: BAZZO | C15: Dominique | D15: Cadre | E15: CDI | F15: 42709 | G15: Forfait jours | H15: Isolée | I15: 20.92 | K15: Garantie de salaire sur prime activité 480 euros brut à maintenir jusqu'au 31/12/2017
A16: 17 | B16: BENETEAUD | C16: FRANCK | D16: Technicien | E16: CDI | F16: 38901 | G16: 164.67 | H16: Dispensé
A17: 35 | B17: BERTHELOT | C17: Cédric | D17: Agent de maîtrise | E17: CDI | F17: 39237 | G17: 151.67 | H17: Isolée | I17: 20.92 | K17: Prime encadrement (régul août) = 120
A18: 33 | B18: BERTHON | C18: Céline | D18: Employé | E18: CDI | F18: 42737 | G18: 169 | H18: Isolée | I18: 20.92
A19: 31 | B19: BERTRAND | C19: FRANCOIS XAVIER | D19: Employé | E19: CDI | F19: 42646 | G19: 151.67
A20: 31 | B20: BERTRAND | C20: Laurence | D20: Comptable | E20: CDI | F20: 35855 | G20: 151.67 | H20: GDS | I20: 44.41
A21: 35 | B21: BIGOT | C21: DENIS | D21: Ouvrier | E21: CDI | F21: 28765 | G21: 151.67 | H21: Isolée | I21: 20.92
A22: 17 | B22: BILLAUD | C22: Mylène | D22: Employé | E22: CDI | F22: 42843 | G22: 151.67
A23: 29 | B23: BODENNEC | C23: GEORGES | D23: Technicien | E23: CDI | F23: 42856 | H23: Famille | I23: 95.75
A24: 31 | B24: BONOMETTI | C24: Vincent | D24: non cadre VRP | E24: CDI | F24: 42445 | H24: Isolée | I24: 20.92
A25: 85 | B25: BOUHIER | C25: Elie | D25: Technicien | E25: CDD | F25: 42898 | G25: 151.67 | H25: Isolé | I25: 20.92
A26: 22 | B26: BOURGAULT | C26: Nicolas | D26: Technicien | E26: CDI | F26: 41911 | G26: 151.67 | H26: Isolée | I26: 20.92
A27: 75 | B27: BOURGEOIS | C27: Olivier | D27: Cadre | E27: CDI | F27: 42370 | G27: Forfait jours | H27: Isolé | I27: 20.92
A28: 33 | B28: BOQUET | C28: Benoit | D28: Cadre | E28: CDI | F28: 42248 | H28: Isolée | K28: Pour mémoire : Acompte sur part variable versé en avril : 3000euros A déduire de la part variable qu'il percevra en 2017
A29: 87 | B29: BOURDET | C29: NICOLAS | D29: Technicien | E29: CDI | F29: 41946 | G29: 151.67 | H29: Isolée | I29: 20.92
A30: 44 | B30: BOUTEILLE | C30: ANGELIQUE | D30: Employé | E30: CDI | F30: 37508 | G30: 121.33 | H30: NON
A31: 72 | B31: BOUVET | C31: Timothé | D31: Ouvrier | E31: CDD | F31: 42948 | G31: 151.67 | H31: Non
A32: 31 | B32: BOYE | C32: Gilbert | D32: Magasinier | E32: CDI | F32: 37319 | G32: 169 | H32: GDS | I32: 44.41
A33: 35 | B33: BROYER | C33: Steve | D33: Magasinier | E33: CDD | F33: 42829 | G33: 151.67 | J33: 15 jours
A34: 35 | B34: BRUART | C34: CHRISTIAN | D34: Cadre | E34: CDI | F34: 40343 | G34: Forfait jours | H34: Isolée | I34: 20.92
A35: 87 | B35: BRUN | C35: BAPTISTE | D35: Agent de maîtrise | E35: CDI | F35: 41155 | G35: 151.67 | H35: Isolée | I35: 20.92
A36: 85 | B36: BULTEAU | C36: Flavian | D36: Ouvrier | E36: Contrat prof | F36: 42646 | G36: 151.67 | H36: Dispensé | I36: 0 | J36: 0
A37: 33 | B37: CALLEN | C37: MICKAEL | D37: VRP | E37: CDI | F37: 41715 | H37: Isolée | I37: 20.92
A38: 35 | B38: CAMEDDA | C38: FABIEN | D38: Cadre | E38: CDI | F38: 41246 | G38: Forfait jours | H38: Famille | I38: 95.75
A39: 29 | B39: CAN | C39: Sébastien | D39: Ouvrier | E39: CDI | F39: 37480 | G39: 151.67 | H39: Isolée | I39: 20.92 | K39: Prime encadrement (régul août) = 30
A40: 62 | B40: CARPENTIER | C40: Tony | D40: Ouvrier | E40: CDI | F40: 42555 | G40: 151.67 | H40: Famille | I40: 95.75 | J40: 2 mois
A41: 64 | B41: CARSUZAA | C41: NICOLAS | D41: Ouvrier | E41: CDI | F41: 40553 | G41: 151.67 | H41: Isolée | I41: 20.92
A42: 31 | B42: CERVOS | C42: Pierre | D42: VRP Cadre | E42: CDI | F42: 40397 | H42: GDS | I42: 44.41
...

Sheet Feuil1
A1: TP PARTNERS
A2: Contact: | C2: Responsable Ressources Humaines
A3: Autres contact: | D3: Gestionnaire Ressources Humaines
A4: Téléphone : 02 28 09
A6: Code Livrable | B6: Référence Client | C6: Nombre de carnet | D6: Nombre de titres | E6: TOTAL par bénéficiare | F6: Valeur faciale unitaire en € | G6: Part Patronale unitaire en € | H6: TOTAL par bénéficiaire en € | I6: NOM | J6: PRENOM | K6: Service
A7: 3293307 | B7: 3062581 | C7: 1 | D7: =SUMIFS('[1]Données paye'!$M:$M,'[1]Données paye'!$C:$C,I3,'[1]Données paye'!$D:$D,J3) -> #VALUE! | E7: =IF(D7>0,D7,"NON") -> #VALUE! | F7: 8.35 | G7: 4.18 | H7: =IF(E7="NON","",E7*F7) -> #VALUE! | I7: =Paie!B7 -> ADRAS | J7: James | K7: 31
A8: 3210736 | B8: 3062581 | C8: 1 | D8: =SUMIFS('[1]Données paye'!$M:$M,'[1]Données paye'!$C:$C,I4,'[1]Données paye'!$D:$D,J4) -> #VALUE! | E8: =IF(D8>0,D8,"NON") -> #VALUE! | F8: 8.35 | G8: 4.18 | H8: =IF(E8="NON","",E8*F8) -> #VALUE! | I8: =Paie!B9 -> BABULE | J8: Pascal | K8: 87
A9: 3210735 | B9: 3062581 | C9: 1 | D9: =SUMIFS('[1]Données paye'!$M:$M,'[1]Données paye'!$C:$C,I5,'[1]Données paye'!$D:$D,J5) -> #VALUE! | E9: =IF(D9>0,D9,"NON") -> #VALUE! | F9: 8.35 | G9: 4.18 | H9: =IF(E9="NON","",E9*F9) -> #VALUE! | I9: =Paie!B10 -> BALAND | J9: Alexi | K9: 17
A10: 3236430 | B10: 3062581 | C10: 1 | D10: =SUMIFS('[1]Données paye'!$M:$M,'[1]Données paye'!$C:$C,I6,'[1]Données paye'!$D:$D,J6) -> #VALUE! | E10: =IF(D10>0,D10,"NON") -> #VALUE! | F10: 8.35 | G10: 4.18 | H10: =IF(E10="NON","",E10*F10) -> #VALUE! | I10: =Paie!B11 -> BAREIGTS | J10: Antoine | K10: 64
A11: 3210735 | B11: 3062581 | C11: 1 | D11: =SUMIFS('[1]Données paye'!$M:$M,'[1]Données paye'!$C:$C,I7,'[1]Données paye'!$D:$D,J7) -> #VALUE! | E11: =IF(D11>0,D11,"NON") -> #VALUE! | F11: 8.35 | G11: 4.18 | H11: =IF(E11="NON","",E11*F11) -> #VALUE! | I11: =Paie!B12 -> BARRAUD | J11: Céline | K11: 17
A12: 3121803 | B12: 3062581 | C12: 1 | D12: =SUMIFS('[1]Données paye'!$M:$M,'[1]Données paye'!$C:$C,I8,'[1]Données paye'!$D:$D,J8) -> #VALUE! | E12: =IF(D12>0,D12,"NON") -> #VALUE! | F12: 8.35 | G12: 4.18 | H12: =IF(E12="NON","",E12*F12) -> #VALUE! | I12: =Paie!B13 -> BARTHELEMY | J12: Mélissa | K12: 44
A13: 3121803 | B13: 3062581 | C13: 1 | D13: =SUMIFS('[1]Données paye'!$M:$M,'[1]Données paye'!$C:$C,I9,'[1]Données paye'!$D:$D,J9) -> #VALUE! | E13: =IF(D13>0,D13,"NON") -> #VALUE! | F13: 8.35 | G13: 4.18 | H13: =IF(E13="NON","",E13*F13) -> #VALUE! | I13: =Paie!B14 -> BAUDUIN | J13: Rodolphe | K13: 44
A14: 3283895 | B14: 3062581 | C14: 1 | D14: =SUMIFS('[1]Données paye'!$M:$M,'[1]Données paye'!$C:$C,I10,'[1]Données paye'!$D:$D,J10) -> #VALUE! | E14: =IF(D14>0,D14,"NON") -> #VALUE! | F14: 8.35 | G14: 4.18 | H14: =IF(E14="NON","",E14*F14) -> #VALUE! | I14: =Paie!#REF! -> #REF! | J14: Jean-Luc | K14: 14
A15: 3169050 | B15: 3062581 | C15: 1 | D15: =SUMIFS('[1]Données paye'!$M:$M,'[1]Données paye'!$C:$C,I11,'[1]Données paye'!$D:$D,J11) -> #VALUE! | E15: =IF(D15>0,D15,"NON") -> #VALUE! | F15: 8.35 | G15: 4.18 | H15: =IF(E15="NON","",E15*F15) -> #VALUE! | I15: =Paie!B15 -> BAZZO | J15: Dominique | K15: 33
A16: 3210735 | B16: 3062581 | C16: 1 | D16: =SUMIFS('[1]Données paye'!$M:$M,'[1]Données paye'!$C:$C,I12,'[1]Données paye'!$D:$D,J12) -> #VALUE! | E16: =IF(D16>0,D16,"NON") -> #VALUE! | F16: 8.35 | G16: 4.18 | H16: =IF(E16="NON","",E16*F16) -> #VALUE! | I16: =Paie!B16 -> BENETEAUD | J16: Franck | K16: 17
A17: 3121787 | B17: 3062581 | C17: 1 | D17: =SUMIFS('[1]Données paye'!$M:$M,'[1]Données paye'!$C:$C,I13,'[1]Données paye'!$D:$D,J13) -> #VALUE! | E17: =IF(D17>0,D17,"NON") -> #VALUE! | F17: 8.35 | G17: 4.18 | H17: =IF(E17="NON","",E17*F17) -> #VALUE! | I17: =Paie!B17 -> BERTHELOT | J17: Cédric | K17: 35
A18: 3169050 | B18: 3062581 | C18: 1 | D18: =SUMIFS('[1]Données paye'!$M:$M,'[1]Données paye'!$C:$C,I14,'[1]Données paye'!$D:$D,J14) -> #VALUE! | E18: =IF(D18>0,D18,"NON") -> #VALUE! | F18: 8.35 | G18: 4.18 | H18: =IF(E18="NON","",E18*F18) -> #VALUE! | I18: =Paie!B18 -> BERTHON | J18: Céline | K18: 33
A19: 3293307 | B19: 3062581 | C19: 1 | D19: =SUMIFS('[1]Données paye'!$M:$M,'[1]Données paye'!$C:$C,I15,'[1]Données paye'!$D:$D,J15) -> #VALUE! | E19: =IF(D19>0,D19,"NON") -> #VALUE! | F19: 8.35 | G19: 4.18 | H19: =IF(E19="NON","",E19*F19) -> #VALUE! | I19: =Paie!B19 -> BERTRAND | J19: francois Xavier | K19: 31
A20: 3293307 | B20: 3062581 | C20: 1 | D20: =SUMIFS('[1]Données paye'!$M:$M,'[1]Données paye'!$C:$C,I16,'[1]Données paye'!$D:$D,J16) -> #VALUE! | E20: =IF(D20>0,D20,"NON") -> #VALUE! | F20: 8.35 | G20: 4.18 | H20: =IF(E20="NON","",E20*F20) -> #VALUE! | I20: =Paie!B20 -> BERTRAND | J20: Laurence | K20: 31
A21: 3121787 | B21: 3062581 | C21: 1 | D21: =SUMIFS('[1]Données paye'!$M:$M,'[1]Données paye'!$C:$C,I17,'[1]Données paye'!$D:$D,J17) -> #VALUE! | E21: =IF(D21>0,D21,"NON") -> #VALUE! | F21: 8.35 | G21: 4.18 | H21: =IF(E21="NON","",E21*F21) -> #VALUE! | I21: =Paie!B21 -> BIGOT | J21: Denis | K21: 35
A22: 3121798 | B22: 3062581 | C22: 1 | D22: =SUMIFS('[1]Données paye'!$M:$M,'[1]Données paye'!$C:$C,I18,'[1]Données paye'!$D:$D,J18) -> #VALUE! | E22: =IF(D22>0,D22,"NON") -> #VALUE! | F22: 8.35 | G22: 4.18 | H22: =IF(E22="NON","",E22*F22) -> #VALUE! | I22: =Paie!B23 -> BODENNEC | J22: Georges | K22: 29
A23: 3293307 | B23: 3062581 | C23: 1 | D23: =SUMIFS('[1]Données paye'!$M:$M,'[1]Données paye'!$C:$C,I19,'[1]Données paye'!$D:$D,J19) -> #VALUE! | E23: =IF(D23>0,D23,"NON") -> #VALUE! | F23: 8.35 | G23: 4.18 | H23: =IF(E23="NON","",E23*F23) -> #VALUE! | I23: =Paie!B24 -> BONOMETTI | J23: Vincent | K23: 31
A24: 3239719 | B24: 3062581 | C24: 1 | D24: =SUMIFS('[1]Données paye'!$M:$M,'[1]Données paye'!$C:$C,I20,'[1]Données paye'!$D:$D,J20) -> #VALUE! | E24: =IF(D24>0,D24,"NON") -> #VALUE! | F24: 8.35 | G24: 4.18 | H24: =IF(E24="NON","",E24*F24) -> #VALUE! | I24: =Paie!B26 -> BOURGAULT | J24: Nicolas | K24: 22
A25: 3210736 | B25: 3062581 | C25: 1 | D25: =SUMIFS('[1]Données paye'!$M:$M,'[1]Données paye'!$C:$C,I21,'[1]Données paye'!$D:$D,J21) -> #VALUE! | E25: =IF(D25>0,D25,"NON") -> #VALUE! | F25: 8.35 | G25: 4.18 | H25: =IF(E25="NON","",E25*F25) -> #VALUE! | I25: =Paie!B29 -> BOURDET | J25: Nicolas | K25: 87
A26: 3121803 | B26: 3062581 | C26: 1 | D26: =SUMIFS('[1]Données paye'!$M:$M,'[1]Données paye'!$C:$C,I22,'[1]Données paye'!$D:$D,J22) -> #VALUE! | E26: =IF(D26>0,D26,"NON") -> #VALUE! | F26: 8.35 | G26: 4.18 | H26: =IF(E26="NON","",E26*F26) -> #VALUE! | I26: =Paie!B30 -> BOUTEILLE | J26: Angélique | K26: 44
A27: 3293307 | B27: 3062581 | C27: 1 | D27: =SUMIFS('[1]Données paye'!$M:$M,'[1]Données paye'!$C:$C,I23,'[1]Données paye'!$D:$D,J23) -> #VALUE! | E27: =IF(D27>0,D27,"NON") -> #VALUE! | F27: 8.35 | G27: 4.18 | H27: =IF(E27="NON","",E27*F27) -> #VALUE! | I27: =Paie!B32 -> BOYE | J27: Gilbert | K27: 31
A28: 3121787 | B28: 3062581 | C28: 1 | D28: =SUMIFS('[1]Données paye'!$M:$M,'[1]Données paye'!$C:$C,I24,'[1]Données paye'!$D:$D,J24) -> #VALUE! | E28: =IF(D28>0,D28,"NON") -> #VALUE! | F28: 8.35 | G28: 4.18 | H28: =IF(E28="NON","",E28*F28) -> #VALUE! | I28: =Paie!B34 -> BRUART | J28: Christian | K28: 35
A29: 3210736 | B29: 3062581 | C29: 1 | D29: =SUMIFS('[1]Données paye'!$M:$M,'[1]Données paye'!$C:$C,I25,'[1]Données paye'!$D:$D,J25) -> #VALUE! | E29: =IF(D29>0,D29,"NON") -> #VALUE! | F29: 8.35 | G29: 4.18 | H29: =IF(E29="NON","",E29*F29) -> #VALUE! | I29: =Paie!B35 -> BRUN | J29: Baptiste | K29: 87
A30: 3121802 | B30: 3062581 | C30: 1 | D30: =SUMIFS('[1]Données paye'!$M:$M,'[1]Données paye'!$C:$C,I26,'[1]Données paye'!$D:$D,J26) -> #VALUE! | E30: =IF(D30>0,D30,"NON") -> #VALUE! | F30: 8.35 | G30: 4.18 | H30: =IF(E30="NON","",E30*F30) -> #VALUE! | I30: =Paie!B36 -> BULTEAU | J30: Flavian | K30: 85
A31: 3169050 | B31: 3062581 | C31: 1 | D31: =SUMIFS('[1]Données paye'!$M:$M,'[1]Données paye'!$C:$C,I27,'[1]Données paye'!$D:$D,J27) -> #VALUE! | E31: =IF(D31>0,D31,"NON") -> #VALUE! | F31: 8.35 | G31: 4.18 | H31: =IF(E31="NON","",E31*F31) -> #VALUE! | I31: =Paie!B37 -> CALLEN | J31: Mickael | K31: 33
A32: 3121787 | B32: 3062581 | C32: 1 | D32: =SUMIFS('[1]Données paye'!$M:$M,'[1]Données paye'!$C:$C,I28,'[1]Données paye'!$D:$D,J28) -> #VALUE! | E32: =IF(D32>0,D32,"NON") -> #VALUE! | F32: 8.35 | G32: 4.18 | H32: =IF(E32="NON","",E32*F32) -> #VALUE! | I32: =Paie!B38 -> CAMEDDA | J32: Fabien | K32: 35
A33: 3121798 | B33: 3062581 | C33: 1 | D33: =SUMIFS('[1]Données paye'!$M:$M,'[1]Données paye'!$C:$C,I29,'[1]Données paye'!$D:$D,J29) -> #VALUE! | E33: =IF(D33>0,D33,"NON") -> #VALUE! | F33: 8.35 | G33: 4.18 | H33: =IF(E33="NON","",E33*F33) -> #VALUE! | I33: =Paie!B39 -> CAN | J33: Sébastien | K33: 29
A34: 3301883 | B34: 3062581 | C34: 1 | D34: =SUMIFS('[1]Données paye'!$M:$M,'[1]Données paye'!$C:$C,I30,'[1]Données paye'!$D:$D,J30) -> #VALUE! | E34: =IF(D34>0,D34,"NON") -> #VALUE! | F34: 8.35 | G34: 4.18 | H34: =IF(E34="NON","",E34*F34) -> #VALUE! | I34: =Paie!B40 -> CARPENTIER | J34: Tony | K34: 62
A35: 3236430 | B35: 3062581 | C35: 1 | D35: =SUMIFS('[1]Données paye'!$M:$M,'[1]Données paye'!$C:$C,I31,'[1]Données paye'!$D:$D,J31) -> #VALUE! | E35: =IF(D35>0,D35,"NON") -> #VALUE! | F35: 8.35 | G35: 4.18 | H35: =IF(E35="NON","",E35*F35) -> #VALUE! | I35: =Paie!B41 -> CARSUZAA | J35: Nicolas | K35: 64
A36: 3293307 | B36: 3062581 | C36: 1 | D36: =SUMIFS('[1]Données paye'!$M:$M,'[1]Données paye'!$C:$C,I32,'[1]Données paye'!$D:$D,J32) -> #VALUE! | E36: =IF(D36>0,D36,"NON") -> #VALUE! | F36: 8.35 | G36: 4.18 | H36: =IF(E36="NON","",E36*F36) -> #VALUE! | I36: =Paie!B42 -> CERVOS | J36: Pierre | K36: 31
A37: 3293307 | B37: 3062581 | C37: 1 | D37: =SUMIFS('[1]Données paye'!$M:$M,'[1]Données paye'!$C:$C,I33,'[1]Données paye'!$D:$D,J33) -> #VALUE! | E37: =IF(D37>0,D37,"NON") -> #VALUE! | F37: 8.35 | G37: 4.18 | H37: =IF(E37="NON","",E37*F37) -> #VALUE! | I37: =Paie!B43 -> CHABRIER | J37: Serge | K37: 31
A38: 3210735 | B38: 3062581 | C38: 1 | D38: =SUMIFS('[1]Données paye'!$M:$M,'[1]Données paye'!$C:$C,I34,'[1]Données paye'!$D:$D,J34) -> #VALUE! | E38: =IF(D38>0,D38,"NON") -> #VALUE! | F38: 8.35 | G38: 4.18 | H38: =IF(E38="NON","",E38*F38) -> #VALUE! | I38: =Paie!B44 -> CHANUT | J38: Christophe | K38: 17
A39: 3121803 | B39: 3062581 | C39: 1 | D39: =SUMIFS('[1]Données paye'!$M:$M,'[1]Données paye'!$C:$C,I35,'[1]Données paye'!$D:$D,J35) -> #VALUE! | E39: =IF(D39>0,D39,"NON") -> #VALUE! | F39: 8.35 | G39: 4.18 | H39: =IF(E39="NON","",E39*F39) -> #VALUE! | I39: =Paie!B45 -> CHARBONNEAU | J39: Patrick | K39: 44
... A43: 3210735 | B43: 3062581 | C43: 1 | D43: =SUMIFS('[1]Données paye'!$M:$M,'[1]Données paye'!$C:$C,I39,'[1]Données paye'!$D:$D,J39) -> #VALUE! | E43: =IF(D43>0,D43,"NON") -> #VALUE! | F43: 8.35 | G43: 4.18 | H43: =IF(E43="NON","",E43*F43) -> #VALUE! | I43: =Paie!B49 -> CHIASSON | J43: Pascal | K43: 17
A44: 3121803 | B44: 3062581 | C44: 1 | D44: =SUMIFS('[1]Données paye'!$M:$M,'[1]Données paye'!$C:$C,I40,'[1]Données paye'!$D:$D,J40) -> #VALUE! | E44: =IF(D44>0,D44,"NON") -> #VALUE! | F44: 8.35 | G44: 4.18 | H44: =IF(E44="NON","",E44*F44) -> #VALUE! | I44: =Paie!#REF! -> #REF! | J44: Julien | K44: 44
...
