Workbook

Sheet Paie
A1: TABLEAU DES ELEMENTS VARIABLES - AOUT 2017 | G1: 21
G2: 13
A3: Site | B3: Nom | C3: Prénom | D3: STATUT | E3: CONTRAT | F3: date d'entrée | G3: HORAIRE Mensualisé | H3: Mutuelle | I3: Montant Mutuelle | J3: Période essai
K4: Observations
A7: 31 | B7: ADRAS | C7: James | D7: Technicien | E7: CDI | F7: 41883 | G7: 151.67 | H7: NON | I7: 44.41
A8: 33 | B8: ARMAND | C8: Valentin | D8: VRP | E8: CDI | F8: 42800 | H8: Isolée | I8: 20.92 | K8: Rémunération mini garantie jusqu'au 31/12/2017 : 2 400€ brut
A9: 87 | B9: BABULE | C9: PASCAL | D9: Ouvrier | E9: CDI | F9: 38930 | G9: 156.67 | H9: Isolée | I9: 20.92
A10: 17 | B10: BALAND | C10: ALEXI | D10: Apprenti | E10: Apprentissage | F10: 42197 | G10: 151.67 | H10: NON
A11: 64 | B11: BAREIGTS | C11: Antoine | D11: Agent de maîtrise | E11: CDI | F11: 42464 | G11: Forfait jours | H11: Famille
A12: 17 | B12: BARRAUD | C12: CELINE | D12: Agent de maîtrise | E12: CDI | F12: 36801 | G12: 169 | H12: Isolée | I12: 20.92
A13: 44 | B13: BARTHELEMY | C13: MELISSA | D13: Employé | E13: Contrat pro | F13: 42254 | G13: 151.67 | H13: NON
A14: 44 | B14: BAUDUIN | C14: Rodolphe | D14: Technicien | E14: CDI | F14: 41337 | G14: 151.67 | H14: Isolée | I14: 20.92
A15: 33 | B15: BAZZO | C15: Dominique | D15: Cadre | E15: CDI | F15: 42709 | G15: Forfait jours | H15: Isolée | I15: 20.92 | K15: Garantie de salaire sur prime activité 480 euros brut à maintenir jusqu'au 31/12/2017
A16: 17 | B16: BENETEAUD | C16: FRANCK | D16: Technicien | E16: CDI | F16: 38901 | G16: 164.67 | H16: Dispensé
A17: 35 | B17: BERTHELOT | C17: Cédric | D17: Agent de maîtrise | E17: CDI | F17: 39237 | G17: 151.67 | H17: Isolée | I17: 20.92 | K17: Prime encadrement (régul août) = 120
A18: 33 | B18: BERTHON | C18: Céline | D18: Employé | E18: CDI | F18: 42737 | G18: 169 | H18: Isolée | I18: 20.92
A19: 31 | B19: BERTRAND | C19: FRANCOIS XAVIER | D19: Employé | E19: CDI | F19: 42646 | G19: 151.67
A20: 31 | B20: BERTRAND | C20: Laurence | D20: Comptable | E20: CDI | F20: 35855 | G20: 151.67 | H20: GDS | I20: 44.41
A21: 35 | B21: BIGOT | C21: DENIS | D21: Ouvrier | E21: CDI | F21: 28765 | G21: 151.67 | H21: Isolée | I21: 20.92
A22: 17 | B22: BILLAUD | C22: Mylène | D22: Employé | E22: CDI | F22: 42843 | G22: 151.67
A23: 29 | B23: BODENNEC | C23: GEORGES | D23: Technicien | E23: CDI | F23: 42856 | H23: Famille | I23: 95.75
A24: 31 | B24: BONOMETTI | C24: Vincent | D24: non cadre VRP | E24: CDI | F24: 42445 | H24: Isolée | I24: 20.92
A25: 85 | B25: BOUHIER | C25: Elie | D25: Technicien | E25: CDD | F25: 42898 | G25: 151.67 | H25: Isolé | I25: 20.92
A26: 22 | B26: BOURGAULT | C26: Nicolas | D26: Technicien | E26: CDI | F26: 41911 | G26: 151.67 | H26: Isolée | I26: 20.92
A27: 75 | B27: BOURGEOIS | C27: Olivier | D27: Cadre | E27: CDI | F27: 42370 | G27: Forfait jours | H27: Isolé | I27: 20.92
A28: 33 | B28: BOQUET | C28: Benoit | D28: Cadre | E28: CDI | F28: 42248 | H28: Isolée | K28: Pour mémoire : Acompte sur part variable versé en avril : 3000euros A déduire de la part variable qu'il percevra en 2017
A29: 87 | B29: BOURDET | C29: NICOLAS | D29: Technicien | E29: CDI | F29: 41946 | G29: 151.67 | H29: Isolée | I29: 20.92
A30: 44 | B30: BOUTEILLE | C30: ANGELIQUE | D30: Employé | E30: CDI | F30: 37508 | G30: 121.33 | H30: NON
A31: 72 | B31: BOUVET | C31: Timothé | D31: Ouvrier | E31: CDD | F31: 42948 | G31: 151.67 | H31: Non
A32: 31 | B32: BOYE | C32: Gilbert | D32: Magasinier | E32: CDI | F32: 37319 | G32: 169 | H32: GDS | I32: 44.41
A33: 35 | B33: BROYER | C33: Steve | D33: Magasinier | E33: CDD | F33: 42829 | G33: 151.67 | J33: 15 jours
A34: 35 | B34: BRUART | C34: CHRISTIAN | D34: Cadre | E34: CDI | F34: 40343 | G34: Forfait jours | H34: Isolée | I34: 20.92
A35: 87 | B35: BRUN | C35: BAPTISTE | D35: Agent de maîtrise | E35: CDI | F35: 41155 | G35: 151.67 | H35: Isolée | I35: 20.92
A36: 85 | B36: BULTEAU | C36: Flavian | D36: Ouvrier | E36: Contrat prof | F36: 42646 | G36: 151.67 | H36: Dispensé | I36: 0 | J36: 0
A37: 33 | B37: CALLEN | C37: MICKAEL | D37: VRP | E37: CDI | F37: 41715 | H37: Isolée | I37: 20.92
A38: 35 | B38: CAMEDDA | C38: FABIEN | D38: Cadre | E38: CDI | F38: 41246 | G38: Forfait jours | H38: Famille | I38: 95.75
A39: 29 | B39: CAN | C39: Sébastien | D39: Ouvrier | E39: CDI | F39: 37480 | G39: 151.67 | H39: Isolée | I39: 20.92 | K39: Prime encadrement (régul août) = 30
A40: 62 | B40: CARPENTIER | C40: Tony | D40: Ouvrier | E40: CDI | F40: 42555 | G40: 151.67 | H40: Famille | I40: 95.75 | J40: 2 mois
A41: 64 | B41: CARSUZAA | C41: NICOLAS | D41: Ouvrier | E41: CDI | F41: 40553 | G41: 151.67 | H41: Isolée | I41: 20.92
A42: 31 | B42: CERVOS | C42: Pierre | D42: VRP Cadre | E42: CDI | F42: 40397 | H42: GDS | I42: 44.41
A43: 31 | B43: CHABRIER | C43: Serge | D43: Ouvrier | E43: CDI | F43: 42618 | G43: 151.67 | H43: Isolée
A44: 17 | B44: CHANUT | C44: Christophe | D44: Magasinier vendeur | E44: CDD | F44: 42492 | G44: 169 | H44: Isolée | I44: 20.92 | J44: 1 mois
A45: 44 | B45: CHARBONNEAU | C45: PATRICK | D45: VRP | E45: CDI | F45: 36220 | H45: Isolée
A46: 56 | B46: CHAUVET | C46: CHRISTIAN | D46: VRP | E46: CDI | F46: 42248 | H46: Famille
A47: 56 | B47: CHENY | C47: Julien | D47: contrat prof | E47: Contrat pro | F47: 42614 | G47: 151.67 | H47: Isolée
A48: 49 | B48: CHEPTOU | C48: Aymeric | D48: Agent de maîtrise | E48: CDI | F48: 38964 | G48: Forfait jours | H48: Famille | I48: 95.75 | K48: Annuler RTT du 14/08 En congés du 07/08 au 25/08
A49: 17 | B49: CHIASSON | C49: PASCAL | D49: Agent de maîtrise | E49: CDI | F49: 28310 | G49: 151.67 | H49: Famille | I49: 95.75 | K49: Prime encadrement (régul août ) = 360
A50: 44 | B50: COATLEVEN | C50: THIBAUD | D50: Employé | E50: CDI | F50: 41556 | G50: 169 | H50: Isolée | I50: 20.92
A51: 64 | B51: COELHO | C51: ARMAND | D51: Agent de maîtrise | E51: CDI | F51: 40140 | G51: Forfait jours | H51: Famille | I51: 95.75
A52: 44 | B52: COLAS | C52: Jean Pierre | D52: Cadre | E52: CDI | F52: 29255 | G52: Forfait jours | H52: NON
A53: 85 | B53: COTILLON | C53: stéphane | D53: Cadre | E53: CDI | F53: 38950 | G53: Forfait jours | H53: Famille | I53: 95.75 | K53: Augmentation à 3555€ brut mensuel à compter du 01/08 (faire le rattrapage de salaire pour août et septembre)
A54: 17 | B54: COURPRON | C54: ARNAUD | D54: Cadre | E54: CDI | F54: 33658 | G54: Forfait jours | H54: Famille | I54: 95.75
A55: 33 | B55: COUSTET | C55: CORINNE | D55: Employé | E55: CDI | F55: 38176 | G55: 151.67 | H55: Isolée | I55: 20.92
A56: 62 | B56: CUILLERIER | C56: OLIVIER | D56: Représentant exclusif | E56: CDI | F56: 42737 | H56: Famille | J56: 3
A57: 33 | B57: DAGNAUD | C57: RODOLPHE | D57: Ouvrier | E57: CDI | F57: 42248 | G57: 151.67 | H57: Isolée | I57: 20.92
A58: 31 | B58: DALSENO | C58: Jeremy | D58: Technicien | E58: CDI | F58: 41960 | G58: 151.67 | H58: GDS | I58: 44.41 | K58: Changement adresse : 855 Chemin du Cousturet, , 31870, BEAUMONT SUR LEZE
A59: 17 | B59: DAUSSY | C59: CHRISTINE | D59: Employé | E59: CDI | F59: 34351 | G59: 151.67 | H59: NON
A60: 85 | B60: DAVID | C60: PHILIPPE | D60: Agent de maîtrise | E60: CDI | F60: 34575 | G60: 151.67 | H60: Isolée | I60: 20.92
A61: 87 | B61: DAVOINE | C61: David | D61: Ouvrier | E61: CDI | F61: 42464 | G61: 151.67 | H61: Famille | I61: 95.75
A62: 62 | B62: DECARNELLE | C62: Francis | D62: idem bfctp | E62: novation | F62: 42446 | G62: 151.67 | H62: Isolée
A63: 76 | B63: DELEAU | C63: Julien | D63: Chef d'atelier | E63: CDI | F63: 42430 | G63: Forfait jours | H63: NON | I63: 0
A64: 62 | B64: DELPORTE | C64: MAXIME | E64: CDD Contrat prof | F64: 42583 | H64: Isolée
A65: 44 | B65: DENIER | C65: MARION | D65: Employé | E65: CDI | F65: 42072 | G65: 151.67 | H65: Famille | I65: 95.75
A66: 50 | B66: DEROCHE | C66: PHILIPPE | D66: Technicien | E66: CDI | F66: 29885 | G66: 162.5 | H66: Isolée | I66: 20.92
A67: 17 | B67: DESMONTS | C67: ARNAUD | D67: Cadre | E67: CDI | F67: 40588 | G67: Forfait jours | H67: Isolée | I67: 20.92
A68: 17 | B68: DORGHAM | C68: WALID | D68: Ouvrier | E68: CDI | F68: 40777 | G68: 151.67 | H68: Isolée | I68: 20.92
A69: 44 | B69: DRENO | C69: FABRICE | D69: Cadre | E69: CDI | F69: 41031 | G69: Forfait jours | H69: Isolée | I69: 20.92
A70: 33 | B70: DUCHAMP | C70: Bruno | D70: Agent de maîtrise | E70: CDI | F70: 42135 | G70: 151.67 | H70: Famille | I70: 95.75 | K70: Prime encadrement (régul août) = 270 Acompte 200€ à déduire
A71: 44 | B71: DUCLOS | C71: LOUIS ADRIEN | D71: Ouvrier | E71: CDD PROF | F71: 42261 | G71: 151.67 | H71: NON
A72: 49 | B72: DUCOURET | C72: Jean-Michel | D72: Ouvrier | E72: CDI | F72: 42507 | G72: 151.67 | H72: Famille | J72: 2 MOIS
A73: 17 | B73: DUMONTEIL | C73: OLIVIER | D73: VRP | E73: CDI | F73: 39692 | H73: Isolée | I73: 20.92
A74: 62 | B74: DUMORTIER | C74: OLIVIER | D74: vrp | E74: cdi | F74: 42465 | H74: famille | I74: 95.75
A75: 72 | B75: DUPONT | C75: BENOIT | D75: Employé | E75: CDI | F75: 41320 | G75: 169 | H75: Famille | I75: 95.75
A76: 35 | B76: DUPRIEZ | C76: Sylvain | D76: Cadre | E76: CDI | F76: 42814 | G76: Forfait jours | H76: Famille | I76: 95.75 | J76: 3 mois | K76: Part variable garantie jusqu'à fin 2017 : 500€ brut mensuel
A77: 87 | B77: DUPUY | C77: Axel | D77: Ouvrier | E77: Contrat prof | F77: 42576
A78: 35 | B78: DUSSOUR | C78: Olivier | D78: VRP | E78: CDI | F78: 42023 | H78: Isolée | I78: 20.92
A79: 35 | B79: DUVAL | C79: ETIENNE | D79: Mécanicien Dépanneur | E79: CDI | F79: 42618 | G79: 151.67 | H79: Isolée
A80: 17 | B80: EDELINE | C80: MARIE CHRISTINE | D80: Employé | E80: CDI | F80: 35368 | G80: 80.17 | H80: Dispensé | I80: 0
A81: 49 | B81: ELUERE | C81: David | D81: Ouvrier | E81: CDI | F81: 40057 | G81: 151.67 | H81: Famille | I81: 95.75
A82: 31 | B82: ESTRADA | C82: Jean André | D82: Mécanisien | E82: CDI | F82: 42366 | G82: 151.67 | H82: Isolée | I82: 44.41
A83: 33 | B83: ETOURNEAU | C83: MATHIEU | D83: Ouvrier | E83: CDD PROF | F83: 42261 | G83: 151.67 | H83: NON
A84: 75 | B84: EVRAD | C84: Jérôme | D84: Agent de maîtrise | E84: CDI | F84: 42370 | G84: 151.67 | H84: Famille | I84: 95.75
A85: 31 | B85: FLEJO | C85: Jérémy | D85: Technicien | E85: CDI | F85: 40644 | G85: 151.67 | H85: GDS | I85: 44.41
A86: 75 | B86: FOSSEY | C86: José | D86: Agent de maîtrise | E86: CDI | F86: 42370 | G86: 151.67 | H86: Famille | I86: 95.75
A87: 35 | B87: FOUCAULT | C87: Gwenaelle | D87: Employé | E87: cdi | F87: 42453 | G87: 169 | H87: Isolée | I87: 20.92
A88: 33 | B88: FOURNIER | C88: NICOLAS | D88: Employé | E88: CDI | F88: 32212 | G88: 162.5 | H88: Famille | I88: 95.75
A89: 44 | B89: FRAQUET | C89: Jean Marc | D89: Ouvrier | E89: CDI | F89: 36682 | G89: 151.67 | H89: Isolée | I89: 20.92
A90: 75 | B90: GAGNE | C90: Julien | D90: Cadre | E90: CDI | F90: 42370 | G90: Forfait jours | H90: Famille | I90: 95.75
A91: 31 | B91: GAILLARD | C91: Lionel | D91: Technicien | E91: CDI | F91: 40945 | G91: 151.67 | H91: GDS | I91: 44.41
A92: 35 | B92: GALAIS | C92: Jean luc | D92: Cadre | E92: CDI | F92: 38341 | G92: Forfait jours | H92: Isolée | I92: 20.92
A93: 35 | B93: GALLAIS | C93: Julien | D93: Ouvrier | E93: CDI | F93: 41855 | G93: 151.67 | H93: Isolée | I93: 20.92
A94: 33 | B94: GARCIA | C94: DAVID | D94: Ouvrier | E94: CDI | F94: 41913 | G94: 151.67 | H94: Isolée | I94: 20.92
A95: 64 | B95: GENEBES | C95: Damien | D95: Apprenti | E95: CDD | F95: 42614 | G95: 151.67 | H95: Isolée
A96: 14 | B96: GERVAIS | C96: Quentin | D96: Ouvrier | E96: CDI | F96: 42492 | G96: 151.67 | H96: Isolée | I96: 20.92 | J96: 2 MOIS
A97: 44 | B97: GILET | C97: JEROME | D97: Cadre | E97: CDI | F97: 37733 | G97: Forfait jours | H97: Isolée | I97: 20.92
A98: 64 | B98: GIORDANENGO | C98: JOEL | D98: Cadre | E98: CDI | F98: 40203 | G98: Forfait jours | H98: Famille | I98: 95.75
A99: 17 | B99: GIRODEAU | C99: JEAN PIERRE | D99: Employé | E99: CDI | F99: 30773 | G99: 169 | H99: Isolée | I99: 20.92
A100: 31 | B100: GIROLA | C100: Séverine | D100: Secretaire SAV | E100: CDI | F100: 35282 | G100: 151.67 | H100: NON
A101: 35 | B101: GLEDEL | C101: Anthony | D101: Agent de maîtrise | E101: CDI | F101: 41519 | G101: 151.67 | H101: Isolée | I101: 20.92
A102: 49 | B102: GLEDEL | C102: Didier | D102: Ouvrier | E102: CDI | F102: 42240 | G102: 151.67 | H102: Isolée | I102: 20.92
...

Sheet Feuil1
A1: TP PARTNERS
A2: Contact: | C2: Responsable Ressources Humaines
A3: Autres contact: | D3: Gestionnaire Ressources Humaines
A4: Téléphone : 02 28 09
A6: Code Livrable | B6: Référence Client | C6: Nombre de carnet | D6: Nombre de titres | E6: TOTAL par bénéficiare | F6: Valeur faciale unitaire en € | G6: Part Patronale unitaire en € | H6: TOTAL par bénéficiaire en € | I6: NOM | J6: PRENOM | K6: Service
A7: 3293307 | B7: 3062581 | C7: 1 | D7: =SUMIFS('[1]Données paye'!$M:$M,'[1]Données paye'!$C:$C,I3,'[1]Données paye'!$D:$D,J3) -> #VALUE! | E7: =IF(D7>0,D7,"NON") -> #VALUE! | F7: 8.35 | G7: 4.18 | H7: =IF(E7="NON","",E7*F7) -> #VALUE! | I7: =Paie!B7 -> ADRAS | J7: James | K7: 31
A8: 3210736 | B8: 3062581 | C8: 1 | D8: =SUMIFS('[1]Données paye'!$M:$M,'[1]Données paye'!$C:$C,I4,'[1]Données paye'!$D:$D,J4) -> #VALUE! | E8: =IF(D8>0,D8,"NON") -> #VALUE! | F8: 8.35 | G8: 4.18 | H8: =IF(E8="NON","",E8*F8) -> #VALUE! | I8: =Paie!B9 -> BABULE | J8: Pascal | K8: 87
A9: 3210735 | B9: 3062581 | C9: 1 | D9: =SUMIFS('[1]Données paye'!$M:$M,'[1]Données paye'!$C:$C,I5,'[1]Données paye'!$D:$D,J5) -> #VALUE! | E9: =IF(D9>0,D9,"NON") -> #VALUE! | F9: 8.35 | G9: 4.18 | H9: =IF(E9="NON","",E9*F9) -> #VALUE! | I9: =Paie!B10 -> BALAND | J9: Alexi | K9: 17
A10: 3236430 | B10: 3062581 | C10: 1 | D10: =SUMIFS('[1]Données paye'!$M:$M,'[1]Données paye'!$C:$C,I6,'[1]Données paye'!$D:$D,J6) -> #VALUE! | E10: =IF(D10>0,D10,"NON") -> #VALUE! | F10: 8.35 | G10: 4.18 | H10: =IF(E10="NON","",E10*F10) -> #VALUE! | I10: =Paie!B11 -> BAREIGTS | J10: Antoine | K10: 64
A11: 3210735 | B11: 3062581 | C11: 1 | D11: =SUMIFS('[1]Données paye'!$M:$M,'[1]Données paye'!$C:$C,I7,'[1]Données paye'!$D:$D,J7) -> #VALUE! | E11: =IF(D11>0,D11,"NON") -> #VALUE! | F11: 8.35 | G11: 4.18 | H11: =IF(E11="NON","",E11*F11) -> #VALUE! | I11: =Paie!B12 -> BARRAUD | J11: Céline | K11: 17
A12: 3121803 | B12: 3062581 | C12: 1 | D12: =SUMIFS('[1]Données paye'!$M:$M,'[1]Données paye'!$C:$C,I8,'[1]Données paye'!$D:$D,J8) -> #VALUE! | E12: =IF(D12>0,D12,"NON") -> #VALUE! | F12: 8.35 | G12: 4.18 | H12: =IF(E12="NON","",E12*F12) -> #VALUE! | I12: =Paie!B13 -> BARTHELEMY | J12: Mélissa | K12: 44
A13: 3121803 | B13: 3062581 | C13: 1 | D13: =SUMIFS('[1]Données paye'!$M:$M,'[1]Données paye'!$C:$C,I9,'[1]Données paye'!$D:$D,J9) -> #VALUE! | E13: =IF(D13>0,D13,"NON") -> #VALUE! | F13: 8.35 | G13: 4.18 | H13: =IF(E13="NON","",E13*F13) -> #VALUE! | I13: =Paie!B14 -> BAUDUIN | J13: Rodolphe | K13: 44
A14: 3283895 | B14: 3062581 | C14: 1 | D14: =SUMIFS('[1]Données paye'!$M:$M,'[1]Données paye'!$C:$C,I10,'[1]Données paye'!$D:$D,J10) -> #VALUE! | E14: =IF(D14>0,D14,"NON") -> #VALUE! | F14: 8.35 | G14: 4.18 | H14: =IF(E14="NON","",E14*F14) -> #VALUE! | I14: =Paie!#REF! -> #REF! | J14: Jean-Luc | K14: 14
A15: 3169050 | B15: 3062581 | C15: 1 | D15: =SUMIFS('[1]Données paye'!$M:$M,'[1]Données paye'!$C:$C,I11,'[1]Données paye'!$D:$D,J11) -> #VALUE! | E15: =IF(D15>0,D15,"NON") -> #VALUE! | F15: 8.35 | G15: 4.18 | H15: =IF(E15="NON","",E15*F15) -> #VALUE! | I15: =Paie!B15 -> BAZZO | J15: Dominique | K15: 33
A16: 3210735 | B16: 3062581 | C16: 1 | D16: =SUMIFS('[1]Données paye'!$M:$M,'[1]Données paye'!$C:$C,I12,'[1]Données paye'!$D:$D,J12) -> #VALUE! | E16: =IF(D16>0,D16,"NON") -> #VALUE! | F16: 8.35 | G16: 4.18 | H16: =IF(E16="NON","",E16*F16) -> #VALUE! | I16: =Paie!B16 -> BENETEAUD | J16: Franck | K16: 17
A17: 3121787 | B17: 3062581 | C17: 1 | D17: =SUMIFS('[1]Données paye'!$M:$M,'[1]Données paye'!$C:$C,I13,'[1]Données paye'!$D:$D,J13) -> #VALUE! | E17: =IF(D17>0,D17,"NON") -> #VALUE! | F17: 8.35 | G17: 4.18 | H17: =IF(E17="NON","",E17*F17) -> #VALUE! | I17: =Paie!B17 -> BERTHELOT | J17: Cédric | K17: 35
A18: 3169050 | B18: 3062581 | C18: 1 | D18: =SUMIFS('[1]Données paye'!$M:$M,'[1]Données paye'!$C:$C,I14,'[1]Données paye'!$D:$D,J14) -> #VALUE! | E18: =IF(D18>0,D18,"NON") -> #VALUE! | F18: 8.35 | G18: 4.18 | H18: =IF(E18="NON","",E18*F18) -> #VALUE! | I18: =Paie!B18 -> BERTHON | J18: Céline | K18: 33
A19: 3293307 | B19: 3062581 | C19: 1 | D19: =SUMIFS('[1]Données paye'!$M:$M,'[1]Données paye'!$C:$C,I15,'[1]Données paye'!$D:$D,J15) -> #VALUE! | E19: =IF(D19>0,D19,"NON") -> #VALUE! | F19: 8.35 | G19: 4.18 | H19: =IF(E19="NON","",E19*F19) -> #VALUE! | I19: =Paie!B19 -> BERTRAND | J19: francois Xavier | K19: 31
A20: 3293307 | B20: 3062581 | C20: 1 | D20: =SUMIFS('[1]Données paye'!$M:$M,'[1]Données paye'!$C:$C,I16,'[1]Données paye'!$D:$D,J16) -> #VALUE! | E20: =IF(D20>0,D20,"NON") -> #VALUE! | F20: 8.35 | G20: 4.18 | H20: =IF(E20="NON","",E20*F20) -> #VALUE! | I20: =Paie!B20 -> BERTRAND | J20: Laurence | K20: 31
A21: 3121787 | B21: 3062581 | C21: 1 | D21: =SUMIFS('[1]Données paye'!$M:$M,'[1]Données paye'!$C:$C,I17,'[1]Données paye'!$D:$D,J17) -> #VALUE! | E21: =IF(D21>0,D21,"NON") -> #VALUE! | F21: 8.35 | G21: 4.18 | H21: =IF(E21="NON","",E21*F21) -> #VALUE! | I21: =Paie!B21 -> BIGOT | J21: Denis | K21: 35
A22: 3121798 | B22: 3062581 | C22: 1 | D22: =SUMIFS('[1]Données paye'!$M:$M,'[1]Données paye'!$C:$C,I18,'[1]Données paye'!$D:$D,J18) -> #VALUE! | E22: =IF(D22>0,D22,"NON") -> #VALUE! | F22: 8.35 | G22: 4.18 | H22: =IF(E22="NON","",E22*F22) -> #VALUE! | I22: =Paie!B23 -> BODENNEC | J22: Georges | K22: 29
A23: 3293307 | B23: 3062581 | C23: 1 | D23: =SUMIFS('[1]Données paye'!$M:$M,'[1]Données paye'!$C:$C,I19,'[1]Données paye'!$D:$D,J19) -> #VALUE! | E23: =IF(D23>0,D23,"NON") -> #VALUE! | F23: 8.35 | G23: 4.18 | H23: =IF(E23="NON","",E23*F23) -> #VALUE! | I23: =Paie!B24 -> BONOMETTI | J23: Vincent | K23: 31
A24: 3239719 | B24: 3062581 | C24: 1 | D24: =SUMIFS('[1]Données paye'!$M:$M,'[1]Données paye'!$C:$C,I20,'[1]Données paye'!$D:$D,J20) -> #VALUE! | E24: =IF(D24>0,D24,"NON") -> #VALUE! | F24: 8.35 | G24: 4.18 | H24: =IF(E24="NON","",E24*F24) -> #VALUE! | I24: =Paie!B26 -> BOURGAULT | J24: Nicolas | K24: 22
A25: 3210736 | B25: 3062581 | C25: 1 | D25: =SUMIFS('[1]Données paye'!$M:$M,'[1]Données paye'!$C:$C,I21,'[1]Données paye'!$D:$D,J21) -> #VALUE! | E25: =IF(D25>0,D25,"NON") -> #VALUE! | F25: 8.35 | G25: 4.18 | H25: =IF(E25="NON","",E25*F25) -> #VALUE! | I25: =Paie!B29 -> BOURDET | J25: Nicolas | K25: 87
A26: 3121803 | B26: 3062581 | C26: 1 | D26: =SUMIFS('[1]Données paye'!$M:$M,'[1]Données paye'!$C:$C,I22,'[1]Données paye'!$D:$D,J22) -> #VALUE! | E26: =IF(D26>0,D26,"NON") -> #VALUE! | F26: 8.35 | G26: 4.18 | H26: =IF(E26="NON","",E26*F26) -> #VALUE! | I26: =Paie!B30 -> BOUTEILLE | J26: Angélique | K26: 44
A27: 3293307 | B27: 3062581 | C27: 1 | D27: =SUMIFS('[1]Données paye'!$M:$M,'[1]Données paye'!$C:$C,I23,'[1]Données paye'!$D:$D,J23) -> #VALUE! | E27: =IF(D27>0,D27,"NON") -> #VALUE! | F27: 8.35 | G27: 4.18 | H27: =IF(E27="NON","",E27*F27) -> #VALUE! | I27: =Paie!B32 -> BOYE | J27: Gilbert | K27: 31
A28: 3121787 | B28: 3062581 | C28: 1 | D28: =SUMIFS('[1]Données paye'!$M:$M,'[1]Données paye'!$C:$C,I24,'[1]Données paye'!$D:$D,J24) -> #VALUE! | E28: =IF(D28>0,D28,"NON") -> #VALUE! | F28: 8.35 | G28: 4.18 | H28: =IF(E28="NON","",E28*F28) -> #VALUE! | I28: =Paie!B34 -> BRUART | J28: Christian | K28: 35
A29: 3210736 | B29: 3062581 | C29: 1 | D29: =SUMIFS('[1]Données paye'!$M:$M,'[1]Données paye'!$C:$C,I25,'[1]Données paye'!$D:$D,J25) -> #VALUE! | E29: =IF(D29>0,D29,"NON") -> #VALUE! | F29: 8.35 | G29: 4.18 | H29: =IF(E29="NON","",E29*F29) -> #VALUE! | I29: =Paie!B35 -> BRUN | J29: Baptiste | K29: 87
A30: 3121802 | B30: 3062581 | C30: 1 | D30: =SUMIFS('[1]Données paye'!$M:$M,'[1]Données paye'!$C:$C,I26,'[1]Données paye'!$D:$D,J26) -> #VALUE! | E30: =IF(D30>0,D30,"NON") -> #VALUE! | F30: 8.35 | G30: 4.18 | H30: =IF(E30="NON","",E30*F30) -> #VALUE! | I30: =Paie!B36 -> BULTEAU | J30: Flavian | K30: 85
A31: 3169050 | B31: 3062581 | C31: 1 | D31: =SUMIFS('[1]Données paye'!$M:$M,'[1]Données paye'!$C:$C,I27,'[1]Données paye'!$D:$D,J27) -> #VALUE! | E31: =IF(D31>0,D31,"NON") -> #VALUE! | F31: 8.35 | G31: 4.18 | H31: =IF(E31="NON","",E31*F31) -> #VALUE! | I31: =Paie!B37 -> CALLEN | J31: Mickael | K31: 33
A32: 3121787 | B32: 3062581 | C32: 1 | D32: =SUMIFS('[1]Données paye'!$M:$M,'[1]Données paye'!$C:$C,I28,'[1]Données paye'!$D:$D,J28) -> #VALUE! | E32: =IF(D32>0,D32,"NON") -> #VALUE! | F32: 8.35 | G32: 4.18 | H32: =IF(E32="NON","",E32*F32) -> #VALUE! | I32: =Paie!B38 -> CAMEDDA | J32: Fabien | K32: 35
A33: 3121798 | B33: 3062581 | C33: 1 | D33: =SUMIFS('[1]Données paye'!$M:$M,'[1]Données paye'!$C:$C,I29,'[1]Données paye'!$D:$D,J29) -> #VALUE! | E33: =IF(D33>0,D33,"NON") -> #VALUE! | F33: 8.35 | G33: 4.18 | H33: =IF(E33="NON","",E33*F33) -> #VALUE! | I33: =Paie!B39 -> CAN | J33: Sébastien | K33: 29
A34: 3301883 | B34: 3062581 | C34: 1 | D34: =SUMIFS('[1]Données paye'!$M:$M,'[1]Données paye'!$C:$C,I30,'[1]Données paye'!$D:$D,J30) -> #VALUE! | E34: =IF(D34>0,D34,"NON") -> #VALUE! | F34: 8.35 | G34: 4.18 | H34: =IF(E34="NON","",E34*F34) -> #VALUE! | I34: =Paie!B40 -> CARPENTIER | J34: Tony | K34: 62
A35: 3236430 | B35: 3062581 | C35: 1 | D35: =SUMIFS('[1]Données paye'!$M:$M,'[1]Données paye'!$C:$C,I31,'[1]Données paye'!$D:$D,J31) -> #VALUE! | E35: =IF(D35>0,D35,"NON") -> #VALUE! | F35: 8.35 | G35: 4.18 | H35: =IF(E35="NON","",E35*F35) -> #VALUE! | I35: =Paie!B41 -> CARSUZAA | J35: Nicolas | K35: 64
A36: 3293307 | B36: 3062581 | C36: 1 | D36: =SUMIFS('[1]Données paye'!$M:$M,'[1]Données paye'!$C:$C,I32,'[1]Données paye'!$D:$D,J32) -> #VALUE! | E36: =IF(D36>0,D36,"NON") -> #VALUE! | F36: 8.35 | G36: 4.18 | H36: =IF(E36="NON","",E36*F36) -> #VALUE! | I36: =Paie!B42 -> CERVOS | J36: Pierre | K36: 31
A37: 3293307 | B37: 3062581 | C37: 1 | D37: =SUMIFS('[1]Données paye'!$M:$M,'[1]Données paye'!$C:$C,I33,'[1]Données paye'!$D:$D,J33) -> #VALUE! | E37: =IF(D37>0,D37,"NON") -> #VALUE! | F37: 8.35 | G37: 4.18 | H37: =IF(E37="NON","",E37*F37) -> #VALUE! | I37: =Paie!B43 -> CHABRIER | J37: Serge | K37: 31
A38: 3210735 | B38: 3062581 | C38: 1 | D38: =SUMIFS('[1]Données paye'!$M:$M,'[1]Données paye'!$C:$C,I34,'[1]Données paye'!$D:$D,J34) -> #VALUE! | E38: =IF(D38>0,D38,"NON") -> #VALUE! | F38: 8.35 | G38: 4.18 | H38: =IF(E38="NON","",E38*F38) -> #VALUE! | I38: =Paie!B44 -> CHANUT | J38: Christophe | K38: 17
A39: 3121803 | B39: 3062581 | C39: 1 | D39: =SUMIFS('[1]Données paye'!$M:$M,'[1]Données paye'!$C:$C,I35,'[1]Données paye'!$D:$D,J35) -> #VALUE! | E39: =IF(D39>0,D39,"NON") -> #VALUE! | F39: 8.35 | G39: 4.18 | H39: =IF(E39="NON","",E39*F39) -> #VALUE! | I39: =Paie!B45 -> CHARBONNEAU | J39: Patrick | K39: 44
... A43: 3210735 | B43: 3062581 | C43: 1 | D43: =SUMIFS('[1]Données paye'!$M:$M,'[1]Données paye'!$C:$C,I39,'[1]Données paye'!$D:$D,J39) -> #VALUE! | E43: =IF(D43>0,D43,"NON") -> #VALUE! | F43: 8.35 | G43: 4.18 | H43: =IF(E43="NON","",E43*F43) -> #VALUE! | I43: =Paie!B49 -> CHIASSON | J43: Pascal | K43: 17
A44: 3121803 | B44: 3062581 | C44: 1 | D44: =SUMIFS('[1]Données paye'!$M:$M,'[1]Données paye'!$C:$C,I40,'[1]Données paye'!$D:$D,J40) -> #VALUE! | E44: =IF(D44>0,D44,"NON") -> #VALUE! | F44: 8.35 | G44: 4.18 | H44: =IF(E44="NON","",E44*F44) -> #VALUE! | I44: =Paie!#REF! -> #REF! | J44: Julien | K44: 44
A45: 3121803 | B45: 3062581 | C45: 1 | D45: =SUMIFS('[1]Données paye'!$M:$M,'[1]Données paye'!$C:$C,I41,'[1]Données paye'!$D:$D,J41) -> #VALUE! | E45: =IF(D45>0,D45,"NON") -> #VALUE! | F45: 8.35 | G45: 4.18 | H45: =IF(E45="NON","",E45*F45) -> #VALUE! | I45: =Paie!B50 -> COATLEVEN | J45: Thibaud | K45: 44
A46: 3236430 | B46: 3062581 | C46: 1 | D46: =SUMIFS('[1]Données paye'!$M:$M,'[1]Données paye'!$C:$C,I42,'[1]Données paye'!$D:$D,J42) -> #VALUE! | E46: =IF(D46>0,D46,"NON") -> #VALUE! | F46: 8.35 | G46: 4.18 | H46: =IF(E46="NON","",E46*F46) -> #VALUE! | I46: =Paie!B51 -> COELHO | J46: Armand | K46: 64
A47: 3121803 | B47: 3062581 | C47: 1 | D47: =SUMIFS('[1]Données paye'!$M:$M,'[1]Données paye'!$C:$C,I43,'[1]Données paye'!$D:$D,J43) -> #VALUE! | E47: =IF(D47>0,D47,"NON") -> #VALUE! | F47: 8.35 | G47: 4.18 | H47: =IF(E47="NON","",E47*F47) -> #VALUE! | I47: =Paie!B52 -> COLAS | J47: Jean Pierre | K47: 44
A48: 3121802 | B48: 3062581 | C48: 1 | D48: =SUMIFS('[1]Données paye'!$M:$M,'[1]Données paye'!$C:$C,I44,'[1]Données paye'!$D:$D,J44) -> #VALUE! | E48: =IF(D48>0,D48,"NON") -> #VALUE! | F48: 8.35 | G48: 4.18 | H48: =IF(E48="NON","",E48*F48) -> #VALUE! | I48: =Paie!B53 -> COTILLON | J48: stéphane | K48: 85
A49: 3210735 | B49: 3062581 | C49: 1 | D49: =SUMIFS('[1]Données paye'!$M:$M,'[1]Données paye'!$C:$C,I45,'[1]Données paye'!$D:$D,J45) -> #VALUE! | E49: =IF(D49>0,D49,"NON") -> #VALUE! | F49: 8.35 | G49: 4.18 | H49: =IF(E49="NON","",E49*F49) -> #VALUE! | I49: =Paie!B54 -> COURPRON | J49: arnaud | K49: 17
A50: 3169050 | B50: 3062581 | C50: 1 | D50: =SUMIFS('[1]Données paye'!$M:$M,'[1]Données paye'!$C:$C,I46,'[1]Données paye'!$D:$D,J46) -> #VALUE! | E50: =IF(D50>0,D50,"NON") -> #VALUE! | F50: 8.35 | G50: 4.18 | H50: =IF(E50="NON","",E50*F50) -> #VALUE! | I50: =Paie!B55 -> COUSTET | J50: Corinne | K50: 33
A51: 3301884 | B51: 3062581 | C51: 1 | D51: =SUMIFS('[1]Données paye'!$M:$M,'[1]Données paye'!$C:$C,I47,'[1]Données paye'!$D:$D,J47) -> #VALUE! | E51: =IF(D51>0,D51,"NON") -> #VALUE! | F51: 8.35 | G51: 4.18 | H51: =IF(E51="NON","",E51*F51) -> #VALUE! | I51: =Paie!#REF! -> #REF! | J51: Quentin | K51: 35
A52: 3301883 | B52: 3062581 | C52: 1 | D52: =SUMIFS('[1]Données paye'!$M:$M,'[1]Données paye'!$C:$C,I48,'[1]Données paye'!$D:$D,J48) -> #VALUE! | E52: =IF(D52>0,D52,"NON") -> #VALUE! | F52: 8.35 | G52: 4.18 | H52: =IF(E52="NON","",E52*F52) -> #VALUE! | I52: =Paie!B56 -> CUILLERIER | J52: Olivier | K52: 62
A53: 3169050 | B53: 3062581 | C53: 1 | D53: =SUMIFS('[1]Données paye'!$M:$M,'[1]Données paye'!$C:$C,I49,'[1]Données paye'!$D:$D,J49) -> #VALUE! | E53: =IF(D53>0,D53,"NON") -> #VALUE! | F53: 8.35 | G53: 4.18 | H53: =IF(E53="NON","",E53*F53) -> #VALUE! | I53: =Paie!B57 -> DAGNAUD | J53: Rodolphe | K53: 33
A54: 3293307 | B54: 3062581 | C54: 1 | D54: =SUMIFS('[1]Données paye'!$M:$M,'[1]Données paye'!$C:$C,I50,'[1]Données paye'!$D:$D,J50) -> #VALUE! | E54: =IF(D54>0,D54,"NON") -> #VALUE! | F54: 8.35 | G54: 4.18 | H54: =IF(E54="NON","",E54*F54) -> #VALUE! | I54: =Paie!B58 -> DALSENO | J54: Jeremy | K54: 31
A55: 3210735 | B55: 3062581 | C55: 1 | D55: =SUMIFS('[1]Données paye'!$M:$M,'[1]Données paye'!$C:$C,I51,'[1]Données paye'!$D:$D,J51) -> #VALUE! | E55: =IF(D55>0,D55,"NON") -> #VALUE! | F55: 8.35 | G55: 4.18 | H55: =IF(E55="NON","",E55*F55) -> #VALUE! | I55: =Paie!B59 -> DAUSSY | J55: Christine | K55: 17
A56: 3121802 | B56: 3062581 | C56: 1 | D56: =SUMIFS('[1]Données paye'!$M:$M,'[1]Données paye'!$C:$C,I52,'[1]Données paye'!$D:$D,J52) -> #VALUE! | E56: =IF(D56>0,D56,"NON") -> #VALUE! | F56: 8.35 | G56: 4.18 | H56: =IF(E56="NON","",E56*F56) -> #VALUE! | I56: =Paie!B60 -> DAVID | J56: Philippe | K56: 85
A57: 3210736 | B57: 3062581 | C57: 1 | D57: =SUMIFS('[1]Données paye'!$M:$M,'[1]Données paye'!$C:$C,I53,'[1]Données paye'!$D:$D,J53) -> #VALUE! | E57: =IF(D57>0,D57,"NON") -> #VALUE! | F57: 8.35 | G57: 4.18 | H57: =IF(E57="NON","",E57*F57) -> #VALUE! | I57: =Paie!B61 -> DAVOINE | J57: David | K57: 87
A58: 3301883 | B58: 3062581 | C58: 1 | D58: =SUMIFS('[1]Données paye'!$M:$M,'[1]Données paye'!$C:$C,I54,'[1]Données paye'!$D:$D,J54) -> #VALUE! | E58: =IF(D58>0,D58,"NON") -> #VALUE! | F58: 8.35 | G58: 4.18 | H58: =IF(E58="NON","",E58*F58) -> #VALUE! | I58: =Paie!B62 -> DECARNELLE | J58: Francis | K58: 62
A59: 3169050 | B59: 3062581 | C59: 1 | D59: =SUMIFS('[1]Données paye'!$M:$M,'[1]Données paye'!$C:$C,I55,'[1]Données paye'!$D:$D,J55) -> #VALUE! | E59: =IF(D59>0,D59,"NON") -> #VALUE! | F59: 8.35 | G59: 4.18 | H59: =IF(E59="NON","",E59*F59) -> #VALUE! | I59: =Paie!#REF! -> #REF! | J59: Tristan | K59: 33
C60: 1 | D60: =SUMIFS('[1]Données paye'!$M:$M,'[1]Données paye'!$C:$C,I56,'[1]Données paye'!$D:$D,J56) -> #VALUE! | E60: =IF(D60>0,D60,"NON") -> #VALUE! | F60: 8.35 | G60: 4.18 | H60: =IF(E60="NON","",E60*F60) -> #VALUE! | I60: =Paie!B63 -> DELEAU | J60: Julien | K60: 76
A61: 3301883 | B61: 3062581 | C61: 1 | D61: =SUMIFS('[1]Données paye'!$M:$M,'[1]Données paye'!$C:$C,I57,'[1]Données paye'!$D:$D,J57) -> #VALUE! | E61: =IF(D61>0,D61,"NON") -> #VALUE! | F61: 8.35 | G61: 4.18 | H61: =IF(E61="NON","",E61*F61) -> #VALUE! | I61: =Paie!B64 -> DELPORTE | J61: Maxime | K61: 62
A62: 3121803 | B62: 3062581 | C62: 1 | D62: =SUMIFS('[1]Données paye'!$M:$M,'[1]Données paye'!$C:$C,I58,'[1]Données paye'!$D:$D,J58) -> #VALUE! | E62: =IF(D62>0,D62,"NON") -> #VALUE! | F62: 8.35 | G62: 4.18 | H62: =IF(E62="NON","",E62*F62) -> #VALUE! | I62: =Paie!B65 -> DENIER | J62: Marion | K62: 44
A63: 3283753 | B63: 3062581 | C63: 1 | D63: =SUMIFS('[1]Données paye'!$M:$M,'[1]Données paye'!$C:$C,I59,'[1]Données paye'!$D:$D,J59) -> #VALUE! | E63: =IF(D63>0,D63,"NON") -> #VALUE! | F63: 8.35 | G63: 4.18 | H63: =IF(E63="NON","",E63*F63) -> #VALUE! | I63: =Paie!B66 -> DEROCHE | J63: Philippe | K63: 50
A64: 3210736 | B64: 3062581 | C64: 1 | D64: =SUMIFS('[1]Données paye'!$M:$M,'[1]Données paye'!$C:$C,I60,'[1]Données paye'!$D:$D,J60) -> #VALUE! | E64: =IF(D64>0,D64,"NON") -> #VALUE! | F64: 8.35 | G64: 4.18 | H64: =IF(E64="NON","",E64*F64) -> #VALUE! | I64: =Paie!#REF! -> #REF! | J64: Jean Claude | K64: 87
A65: 3210735 | B65: 3062581 | C65: 1 | D65: =SUMIFS('[1]Données paye'!$M:$M,'[1]Données paye'!$C:$C,I61,'[1]Données paye'!$D:$D,J61) -> #VALUE! | E65: =IF(D65>0,D65,"NON") -> #VALUE! | F65: 8.35 | G65: 4.18 | H65: =IF(E65="NON","",E65*F65) -> #VALUE! | I65: =Paie!B67 -> DESMONTS | J65: Arnaud | K65: 17
A66: 3210736 | B66: 3062581 | C66: 1 | D66: =SUMIFS('[1]Données paye'!$M:$M,'[1]Données paye'!$C:$C,I62,'[1]Données paye'!$D:$D,J62) -> #VALUE! | E66: =IF(D66>0,D66,"NON") -> #VALUE! | F66: 8.35 | G66: 4.18 | H66: =IF(E66="NON","",E66*F66) -> #VALUE! | I66: =Paie!#REF! -> #REF! | J66: Sandra | K66: 87
A67: 3210735 | B67: 3062581 | C67: 1 | D67: =SUMIFS('[1]Données paye'!$M:$M,'[1]Données paye'!$C:$C,I63,'[1]Données paye'!$D:$D,J63) -> #VALUE! | E67: =IF(D67>0,D67,"NON") -> #VALUE! | F67: 8.35 | G67: 4.18 | H67: =IF(E67="NON","",E67*F67) -> #VALUE! | I67: =Paie!B68 -> DORGHAM | J67: Walid | K67: 17
A68: 3121803 | B68: 3062581 | C68: 1 | D68: =SUMIFS('[1]Données paye'!$M:$M,'[1]Données paye'!$C:$C,I64,'[1]Données paye'!$D:$D,J64) -> #VALUE! | E68: =IF(D68>0,D68,"NON") -> #VALUE! | F68: 8.35 | G68: 4.18 | H68: =IF(E68="NON","",E68*F68) -> #VALUE! | I68: =Paie!B69 -> DRENO | J68: Fabrice | K68: 44
A69: 3169050 | B69: 3062581 | C69: 1 | D69: =SUMIFS('[1]Données paye'!$M:$M,'[1]Données paye'!$C:$C,I65,'[1]Données paye'!$D:$D,J65) -> #VALUE! | E69: =IF(D69>0,D69,"NON") -> #VALUE! | F69: 8.35 | G69: 4.18 | H69: =IF(E69="NON","",E69*F69) -> #VALUE! | I69: =Paie!B70 -> DUCHAMP | J69: Bruno | K69: 33
A70: 3121803 | B70: 3062581 | C70: 1 | D70: =SUMIFS('[1]Données paye'!$M:$M,'[1]Données paye'!$C:$C,I66,'[1]Données paye'!$D:$D,J66) -> #VALUE! | E70: =IF(D70>0,D70,"NON") -> #VALUE! | F70: 8.35 | G70: 4.18 | H70: =IF(E70="NON","",E70*F70) -> #VALUE! | I70: =Paie!B71 -> DUCLOS | J70: Louis Adrien | K70: 44
A71: 3121801 | B71: 3062581 | C71: 1 | D71: =SUMIFS('[1]Données paye'!$M:$M,'[1]Données paye'!$C:$C,I67,'[1]Données paye'!$D:$D,J67) -> #VALUE! | E71: =IF(D71>0,D71,"NON") -> #VALUE! | F71: 8.35 | G71: 4.18 | H71: =IF(E71="NON","",E71*F71) -> #VALUE! | I71: =Paie!B72 -> DUCOURET | J71: Jean-Michel | K71: 49
A72: 3210735 | B72: 3062581 | C72: 1 | D72: =SUMIFS('[1]Données paye'!$M:$M,'[1]Données paye'!$C:$C,I68,'[1]Données paye'!$D:$D,J68) -> #VALUE! | E72: =IF(D72>0,D72,"NON") -> #VALUE! | F72: 8.35 | G72: 4.18 | H72: =IF(E72="NON","",E72*F72) -> #VALUE! | I72: =Paie!B73 -> DUMONTEIL | J72: Olivier | K72: 17
C73: 1 | D73: =SUMIFS('[1]Données paye'!$M:$M,'[1]Données paye'!$C:$C,I69,'[1]Données paye'!$D:$D,J69) -> #VALUE! | E73: =IF(D73>0,D73,"NON") -> #VALUE! | F73: 8.35 | G73: 4.18 | H73: =IF(E73="NON","",E73*F73) -> #VALUE! | I73: =Paie!B74 -> DUMORTIER | J73: Olivier | K73: 62
A74: 3121799 | B74: 3062581 | C74: 1 | D74: =SUMIFS('[1]Données paye'!$M:$M,'[1]Données paye'!$C:$C,I70,'[1]Données paye'!$D:$D,J70) -> #VALUE! | E74: =IF(D74>0,D74,"NON") -> #VALUE! | F74: 8.35 | G74: 4.18 | H74: =IF(E74="NON","",E74*F74) -> #VALUE! | I74: =Paie!B75 -> DUPONT | J74: Bénoit | K74: 72
A75: 3210736 | B75: 3062581 | C75: 1 | D75: =SUMIFS('[1]Données paye'!$M:$M,'[1]Données paye'!$C:$C,I71,'[1]Données paye'!$D:$D,J71) -> #VALUE! | E75: =IF(D75>0,D75,"NON") -> #VALUE! | F75: 8.35 | G75: 4.18 | H75: =IF(E75="NON","",E75*F75) -> #VALUE! | I75: =Paie!B77 -> DUPUY | J75: Axel | K75: 87
A76: 3121787 | B76: 3062581 | C76: 1 | D76: =SUMIFS('[1]Données paye'!$M:$M,'[1]Données paye'!$C:$C,I72,'[1]Données paye'!$D:$D,J72) -> #VALUE! | E76: =IF(D76>0,D76,"NON") -> #VALUE! | F76: 8.35 | G76: 4.18 | H76: =IF(E76="NON","",E76*F76) -> #VALUE! | I76: =Paie!B78 -> DUSSOUR | J76: Olivier | K76: 35
A77: 3121787 | B77: 3062581 | C77: 1 | D77: =SUMIFS('[1]Données paye'!$M:$M,'[1]Données paye'!$C:$C,I73,'[1]Données paye'!$D:$D,J73) -> #VALUE! | E77: =IF(D77>0,D77,"NON") -> #VALUE! | F77: 8.35 | G77: 4.18 | H77: =IF(E77="NON","",E77*F77) -> #VALUE! | I77: =Paie!B79 -> DUVAL | J77: Etienne | K77: 35
A78: 3210735 | B78: 3062581 | C78: 1 | D78: =SUMIFS('[1]Données paye'!$M:$M,'[1]Données paye'!$C:$C,I74,'[1]Données paye'!$D:$D,J74) -> #VALUE! | E78: =IF(D78>0,D78,"NON") -> #VALUE! | F78: 8.35 | G78: 4.18 | H78: =IF(E78="NON","",E78*F78) -> #VALUE! | I78: =Paie!B80 -> EDELINE | J78: Marie Christine | K78: 17
A79: 3121801 | B79: 3062581 | C79: 1 | D79: =SUMIFS('[1]Données paye'!$M:$M,'[1]Données paye'!$C:$C,I75,'[1]Données paye'!$D:$D,J75) -> #VALUE! | E79: =IF(D79>0,D79,"NON") -> #VALUE! | F79: 8.35 | G79: 4.18 | H79: =IF(E79="NON","",E79*F79) -> #VALUE! | I79: =Paie!B81 -> ELUERE | J79: David | K79: 49
A80: 3293307 | B80: 3062581 | C80: 1 | D80: =SUMIFS('[1]Données paye'!$M:$M,'[1]Données paye'!$C:$C,I76,'[1]Données paye'!$D:$D,J76) -> #VALUE! | E80: =IF(D80>0,D80,"NON") -> #VALUE! | F80: 8.35 | G80: 4.18 | H80: =IF(E80="NON","",E80*F80) -> #VALUE! | I80: =Paie!B82 -> ESTRADA | J80: Jean André | K80: 31
A81: 3169050 | B81: 3062581 | C81: 1 | D81: =SUMIFS('[1]Données paye'!$M:$M,'[1]Données paye'!$C:$C,I77,'[1]Données paye'!$D:$D,J77) -> #VALUE! | E81: =IF(D81>0,D81,"NON") -> #VALUE! | F81: 8.35 | G81: 4.18 | H81: =IF(E81="NON","",E81*F81) -> #VALUE! | I81: =Paie!B83 -> ETOURNEAU | J81: Mathieu | K81: 33
A82: 3293307 | B82: 3062581 | C82: 1 | D82: =SUMIFS('[1]Données paye'!$M:$M,'[1]Données paye'!$C:$C,I78,'[1]Données paye'!$D:$D,J78) -> #VALUE! | E82: =IF(D82>0,D82,"NON") -> #VALUE! | F82: 8.35 | G82: 4.18 | H82: =IF(E82="NON","",E82*F82) -> #VALUE! | I82: =Paie!B85 -> FLEJO | J82: Jérémy | K82: 31
A83: 3121787 | B83: 3062581 | C83: 1 | D83: =SUMIFS('[1]Données paye'!$M:$M,'[1]Données paye'!$C:$C,I79,'[1]Données paye'!$D:$D,J79) -> #VALUE! | E83: =IF(D83>0,D83,"NON") -> #VALUE! | F83: 8.35 | G83: 4.18 | H83: =IF(E83="NON","",E83*F83) -> #VALUE! | I83: =Paie!B87 -> FOUCAULT | J83: Gwenaelle | K83: 35
A84: 3169050 | B84: 3062581 | C84: 1 | D84: =SUMIFS('[1]Données paye'!$M:$M,'[1]Données paye'!$C:$C,I80,'[1]Données paye'!$D:$D,J80) -> #VALUE! | E84: =IF(D84>0,D84,"NON") -> #VALUE! | F84: 8.35 | G84: 4.18 | H84: =IF(E84="NON","",E84*F84) -> #VALUE! | I84: =Paie!B88 -> FOURNIER | J84: Nicolas | K84: 33
A85: 3121803 | B85: 3062581 | C85: 1 | D85: =SUMIFS('[1]Données paye'!$M:$M,'[1]Données paye'!$C:$C,I81,'[1]Données paye'!$D:$D,J81) -> #VALUE! | E85: =IF(D85>0,D85,"NON") -> #VALUE! | F85: 8.35 | G85: 4.18 | H85: =IF(E85="NON","",E85*F85) -> #VALUE! | I85: =Paie!B89 -> FRAQUET | J85: Jean Marc | K85: 44
A86: 3293307 | B86: 3062581 | C86: 1 | D86: =SUMIFS('[1]Données paye'!$M:$M,'[1]Données paye'!$C:$C,I82,'[1]Données paye'!$D:$D,J82) -> #VALUE! | E86: =IF(D86>0,D86,"NON") -> #VALUE! | F86: 8.35 | G86: 4.18 | H86: =IF(E86="NON","",E86*F86) -> #VALUE! | I86: =Paie!B91 -> GAILLARD | J86: Lionel | K86: 31
A87: 3121787 | B87: 3062581 | C87: 1 | D87: =SUMIFS('[1]Données paye'!$M:$M,'[1]Données paye'!$C:$C,I83,'[1]Données paye'!$D:$D,J83) -> #VALUE! | E87: =IF(D87>0,D87,"NON") -> #VALUE! | F87: 8.35 | G87: 4.18 | H87: =IF(E87="NON","",E87*F87) -> #VALUE! | I87: =Paie!B92 -> GALAIS | J87: Jean luc | K87: 35
A88: 3121787 | B88: 3062581 | C88: 1 | D88: =SUMIFS('[1]Données paye'!$M:$M,'[1]Données paye'!$C:$C,I84,'[1]Données paye'!$D:$D,J84) -> #VALUE! | E88: =IF(D88>0,D88,"NON") -> #VALUE! | F88: 8.35 | G88: 4.18 | H88: =IF(E88="NON","",E88*F88) -> #VALUE! | I88: =Paie!B93 -> GALLAIS | J88: Julien | K88: 35
A89: 3169050 | B89: 3062581 | C89: 1 | D89: =SUMIFS('[1]Données paye'!$M:$M,'[1]Données paye'!$C:$C,I85,'[1]Données paye'!$D:$D,J85) -> #VALUE! | E89: =IF(D89>0,D89,"NON") -> #VALUE! | F89: 8.35 | G89: 4.18 | H89: =IF(E89="NON","",E89*F89) -> #VALUE! | I89: =Paie!B94 -> GARCIA | J89: David | K89: 33
A90: 3236430 | B90: 3062581 | C90: 1 | D90: =SUMIFS('[1]Données paye'!$M:$M,'[1]Données paye'!$C:$C,I86,'[1]Données paye'!$D:$D,J86) -> #VALUE! | E90: =IF(D90>0,D90,"NON") -> #VALUE! | F90: 8.35 | G90: 4.18 | H90: =IF(E90="NON","",E90*F90) -> #VALUE! | I90: =Paie!B95 -> GENEBES | J90: Damien | K90: 64
A91: 3283895 | B91: 3062581 | C91: 1 | D91: =SUMIFS('[1]Données paye'!$M:$M,'[1]Données paye'!$C:$C,I87,'[1]Données paye'!$D:$D,J87) -> #VALUE! | E91: =IF(D91>0,D91,"NON") -> #VALUE! | F91: 8.35 | G91: 4.18 | H91: =IF(E91="NON","",E91*F91) -> #VALUE! | I91: =Paie!B96 -> GERVAIS | J91: Quentin | K91: 14
A92: 3121803 | B92: 3062581 | C92: 1 | D92: =SUMIFS('[1]Données paye'!$M:$M,'[1]Données paye'!$C:$C,I88,'[1]Données paye'!$D:$D,J88) -> #VALUE! | E92: =IF(D92>0,D92,"NON") -> #VALUE! | F92: 8.35 | G92: 4.18 | H92: =IF(E92="NON","",E92*F92) -> #VALUE! | I92: =Paie!B97 -> GILET | J92: Jérome | K92: 44
A93: 3236430 | B93: 3062581 | C93: 1 | D93: =SUMIFS('[1]Données paye'!$M:$M,'[1]Données paye'!$C:$C,I89,'[1]Données paye'!$D:$D,J89) -> #VALUE! | E93: =IF(D93>0,D93,"NON") -> #VALUE! | F93: 8.35 | G93: 4.18 | H93: =IF(E93="NON","",E93*F93) -> #VALUE! | I93: =Paie!B98 -> GIORDANENGO | J93: JOEL | K93: 64
A94: 3210735 | B94: 3062581 | C94: 1 | D94: =SUMIFS('[1]Données paye'!$M:$M,'[1]Données paye'!$C:$C,I90,'[1]Données paye'!$D:$D,J90) -> #VALUE! | E94: =IF(D94>0,D94,"NON") -> #VALUE! | F94: 8.35 | G94: 4.18 | H94: =IF(E94="NON","",E94*F94) -> #VALUE! | I94: =Paie!B99 -> GIRODEAU | J94: Jean Pierre | K94: 17
A95: 3293307 | B95: 3062581 | C95: 1 | D95: =SUMIFS('[1]Données paye'!$M:$M,'[1]Données paye'!$C:$C,I91,'[1]Données paye'!$D:$D,J91) -> #VALUE! | E95: =IF(D95>0,D95,"NON") -> #VALUE! | F95: 8.35 | G95: 4.18 | H95: =IF(E95="NON","",E95*F95) -> #VALUE! | I95: =Paie!B100 -> GIROLA | J95: Séverine | K95: 31
A96: 3121787 | B96: 3062581 | C96: 1 | D96: =SUMIFS('[1]Données paye'!$M:$M,'[1]Données paye'!$C:$C,I92,'[1]Données paye'!$D:$D,J92) -> #VALUE! | E96: =IF(D96>0,D96,"NON") -> #VALUE! | F96: 8.35 | G96: 4.18 | H96: =IF(E96="NON","",E96*F96) -> #VALUE! | I96: =Paie!B101 -> GLEDEL | J96: Anthony | K96: 35
A97: 3121801 | B97: 3062581 | C97: 1 | D97: =SUMIFS('[1]Données paye'!$M:$M,'[1]Données paye'!$C:$C,I93,'[1]Données paye'!$D:$D,J93) -> #VALUE! | E97: =IF(D97>0,D97,"NON") -> #VALUE! | F97: 8.35 | G97: 4.18 | H97: =IF(E97="NON","",E97*F97) -> #VALUE! | I97: =Paie!B102 -> GLEDEL | J97: Didier | K97: 49
... A103: 3283895 | B103: 3062581 | C103: 1 | D103: =SUMIFS('[1]Données paye'!$M:$M,'[1]Données paye'!$C:$C,I99,'[1]Données paye'!$D:$D,J99) -> #VALUE! | E103: =IF(D103>0,D103,"NON") -> #VALUE! | F103: 8.35 | G103: 4.18 | H103: =IF(E103="NON","",E103*F103) -> #VALUE! | I103: =Paie!B108 -> GUILLON | J103: Benoit | K103: 14
A104: 3121800 | B104: 3062581 | C104: 1 | D104: =SUMIFS('[1]Données paye'!$M:$M,'[1]Données paye'!$C:$C,I100,'[1]Données paye'!$D:$D,J100) -> #VALUE! | E104: =IF(D104>0,D104,"NON") -> #VALUE! | F104: 8.35 | G104: 4.18 | H104: =IF(E104="NON","",E104*F104) -> #VALUE! | I104: =Paie!B110 -> HAMONIAUX | J104: Kévin | K104: 56
A105: 3121787 | B105: 3062581 | C105: 1 | D105: =SUMIFS('[1]Données paye'!$M:$M,'[1]Données paye'!$C:$C,I101,'[1]Données paye'!$D:$D,J101) -> #VALUE! | E105: =IF(D105>0,D105,"NON") -> #VALUE! | F105: 8.35 | G105: 4.18 | H105: =IF(E105="NON","",E105*F105) -> #VALUE! | I105: =Paie!B111 -> HAREL | J105: Franck | K105: 35
A106: 3121787 | B106: 3062581 | C106: 1 | D106: =SUMIFS('[1]Données paye'!$M:$M,'[1]Données paye'!$C:$C,I102,'[1]Données paye'!$D:$D,J102) -> #VALUE! | E106: =IF(D106>0,D106,"NON") -> #VALUE! | F106: 8.35 | G106: 4.18 | H106: =IF(E106="NON","",E106*F106) -> #VALUE! | I106: =Paie!B112 -> HELEU | J106: Anthony | K106: 35
A107: 3169050 | B107: 3062581 | C107: 1 | D107: =SUMIFS('[1]Données paye'!$M:$M,'[1]Données paye'!$C:$C,I103,'[1]Données paye'!$D:$D,J103) -> #VALUE! | E107: 0 | F107: 8.35 | G107: 4.18 | H107: =IF(E107="NON","",E107*F107) -> 0 | I107: =Paie!#REF! -> #REF! | J107: Catherine | K107: 33
A108: 3121799 | B108: 3062581 | C108: 1 | D108: =SUMIFS('[1]Données paye'!$M:$M,'[1]Données paye'!$C:$C,I104,'[1]Données paye'!$D:$D,J104) -> #VALUE! | E108: =IF(D108>0,D108,"NON") -> #VALUE! | F108: 8.35 | G108: 4.18 | H108: =IF(E108="NON","",E108*F108) -> #VALUE! | I108: =Paie!B113 -> HUARD | J108: Francis | K108: 72
A109: 3239719 | B109: 3062581 | C109: 1 | D109: =SUMIFS('[1]Données paye'!$M:$M,'[1]Données paye'!$C:$C,I105,'[1]Données paye'!$D:$D,J105) -> #VALUE! | E109: =IF(D109>0,D109,"NON") -> #VALUE! | F109: 8.35 | G109: 4.18 | H109: =IF(E109="NON","",E109*F109) -> #VALUE! | I109: =Paie!B114 -> HUET | J109: Denis | K109: 22
...
