Workbook

Sheet Feuil1
A1: 3110 | B1: 1001159 | C1: COTE gauche dormant AEOS
A2: 3110 | B2: 1001160 | C2: COTE droit dormant AEOS
A3: 3110 | B3: 1001161 | C3: COTE haut dormant AEOS<1200
A4: 3111 | B4: 1001162 | C4: COTE haut dormant AEOS>1200
A5: 3110 | B5: 1001163 | C5: COTE bas dormant AEOS
A6: 3710 | B6: 1001164 | C6: COTE gauche dormant AEM
A7: 3710 | B7: 1001165 | C7: COTE droit dormant AEM
A8: 3710 | B8: 1001166 | C8: COTE haut dormant AEM<1200
A9: 3711 | B9: 1001167 | C9: COTE haut dormant AEM>1200
A10: 3710 | B10: 1001168 | C10: COTE bas dormant AEM
A11: 3810 | B11: 1001169 | C11: COTE gauche dormant AEP
A12: 3810 | B12: 1001170 | C12: COTE droit dormant AEP
... A33: 3710 | B33: 1001191 | C33: COTE bas ouvrant AEM

Sheet Feuil2
C2: valeur : | D2: 3710
C5: =VLOOKUP(D2,Feuil1!A:C,2,FALSE) -> 1001164
C6: =VLOOKUP(D2,Feuil1!A:C,2,FALSE) -> 1001164
C7: =VLOOKUP(D2,Feuil1!A:C,2,FALSE) -> 1001164
C8: =VLOOKUP(D2,Feuil1!A:C,2,FALSE) -> 1001164
C9: =VLOOKUP(D2,Feuil1!A:C,2,FALSE) -> 1001164
C10: =VLOOKUP(D2,Feuil1!A:C,2,FALSE) -> 1001164
C11: =VLOOKUP(D2,Feuil1!A:C,2,FALSE) -> 1001164
C12: =VLOOKUP(D2,Feuil1!A:C,2,FALSE) -> 1001164
C13: =VLOOKUP(D2,Feuil1!A:C,2,FALSE) -> 1001164
C14: =VLOOKUP(D2,Feuil1!A:C,2,FALSE) -> 1001164
C15: =VLOOKUP(D2,Feuil1!A:C,2,FALSE) -> 1001164
C16: =VLOOKUP(D2,Feuil1!A:C,2,FALSE) -> 1001164
C17: =VLOOKUP(D2,Feuil1!A:C,2,FALSE) -> 1001164
C18: =VLOOKUP(D2,Feuil1!A:C,2,FALSE) -> 1001164
C19: =VLOOKUP(D2,Feuil1!A:C,2,FALSE) -> 1001164
C20: =VLOOKUP(D2,Feuil1!A:C,2,FALSE) -> 1001164
C21: =VLOOKUP(D2,Feuil1!A:C,2,FALSE) -> 1001164
C22: =VLOOKUP(D2,Feuil1!A:C,2,FALSE) -> 1001164
C23: =VLOOKUP(D2,Feuil1!A:C,2,FALSE) -> 1001164
C24: =VLOOKUP(D2,Feuil1!A:C,2,FALSE) -> 1001164
C25: =VLOOKUP(D2,Feuil1!A:C,2,FALSE) -> 1001164
C26: =VLOOKUP(D2,Feuil1!A:C,2,FALSE) -> 1001164
C27: =VLOOKUP(D2,Feuil1!A:C,2,FALSE) -> 1001164
