Workbook

Sheet 2016
B2: Cellule colonne B car le fichier est anonymisé.
B3: Par un système de recherche V dans d'autre onglets de mon fichier de base, les colonnes se mettent à jour automatiquement. | AD3: Vm
B4: Je ne saisie que le matricule, les dates de debut et de fin d'arrêt | AD4: 0
A5: Mat. | B5: Nom Prénom | C5: Atelier | D5: secteur | E5: sexe | F5: Age | G5: tranche d'âge | H5: Ancienneté | I5: Categorie ancienneté | J5: arret N° en 2016 | K5: Trimestre | L5: Début | M5: Fin | N5: Mois du début de l'arrêt | O5: Mois de fin de l'arrêt | P5: Nombre de jours M | Q5: Nombre de jours M+1 | R5: Nombre de jours M+2 | S5: Nombre de jours M+3 | T5: Nombre jours arrêts | U5: type d'arrêt | V5: Date de début de MT/LM/AM | W5: Classification arrêts | X5: suite | Y5: VM le | Z5: infos nbre jrs arret calendaire | AA5: Colonne1
A6: 1/12 | B6: 0 Ne pas effacer cette ligne !! | D6: =VLOOKUP(A6,'[1]BDD RH'!$A$9:$W$453,4,FALSE) -> #N/A | E6: =VLOOKUP(A6,'[1]BDD RH'!$A$9:$W$453,3,FALSE) -> #N/A | F6: =DATEDIF((VLOOKUP(A6,'[1]BDD RH'!$A$2:$W$485,7,FALSE)),L6,"y") -> #N/A | G6: SI(F4<=19;"<20";SI(F4<=24;"20-24";SI(F4<=29;"25-29";SI(F4<=34;"30-34";SI(F4<=39;"35-39";SI(F4<=44;"40-44";SI(F4<=49;"45-49";FAUX)))))))*OU(SI(F4<=54;"50-54";SI(F4<=59;"55-59";SI(F4<=64;60-64;SI(F4<=69;"65-69";SI(F4>=70;"70 et plus";FAUX)))))) | H6: =DATEDIF((VLOOKUP(A6,'[1]BDD RH'!$A$2:$W$485,11,FALSE)),L6,"y") -> #N/A | I6: =IF(H6<2,"<2",IF(H6<6,"2/5",IF(H6<11,"6/10",IF(H6<16,"11/15",IF(H6<21,"16/20",IF(H6<26,"21/25",IF(H6>25,"26 et plus",FALSE))))))) -> #N/A | K6: =IF($N$19:$N$585<=3,1,IF($N$19:$N$585<=6,2,IF($N$19:$N$585<=9,3,IF($N$19:$N$585>9,4,FALSE)))) -> #VALUE! | N6: 1 | O6: =MONTH(M6) -> 1 | P6: 0 | Q6: =IF(O6-N6=0,0,IF(O6-N6=1,NETWORKDAYS(L6,M6,[1]Congés!$D$2:$D$160)-P6,IF(O6-N6=2,NETWORKDAYS(L6,EOMONTH(L6,1),[1]Congés!$D$2:$D$160)-P6,IF(O6-N6=3,NETWORKDAYS(L6,EOMONTH(L6,1),[1]Congés!$D$2:$D$160)-P6)))) -> 0 | R6: =IF(O6-N6<2,0,IF(O6-N6=2,NETWORKDAYS(L6,M6,[1]Congés!$D$2:$D$160)-Q6-P6,IF(O6-N6=3,NETWORKDAYS(L6,EOMONTH(L6,2),[1]Congés!$D$2:$D$160)-Q6-P6))) -> 0 | S6: =IF(O6-N6<3,0,NETWORKDAYS(L6,M6,[1]Congés!$D$2:$D$160)-R6-Q6-P6) -> 0 | T6: =NETWORKDAYS(L6,M6,[1]Congés!C$2:C$160) -> 0 | U6: Arrêt Maladie | W6: =IF(T6<3,"1) 1 à 2 jours",IF(T6<5,"2) 3 à 4 jours",IF(T6=5,"3) 5 jours",IF(T6<=10,"4) 6 à 10 jours",IF(T6>10,"5) plus de 10 jours"))))) -> 1) 1 à 2 jours | Z6: =M6-L6+1 -> 1
A7: 2/12 | B7: 0 Ne pas effacer cette ligne !! | C7: =VLOOKUP(A7,'[1]BDD RH'!$A$9:$W$453,16,FALSE) -> #N/A | D7: =VLOOKUP(A7,'[1]BDD RH'!$A$9:$W$453,4,FALSE) -> #N/A | E7: =VLOOKUP(A7,'[1]BDD RH'!$A$9:$W$453,3,FALSE) -> #N/A | F7: =DATEDIF((VLOOKUP(A7,'[1]BDD RH'!$A$2:$W$485,7,FALSE)),L7,"y") -> #N/A | H7: =DATEDIF((VLOOKUP(A7,'[1]BDD RH'!$A$2:$W$485,11,FALSE)),L7,"y") -> #N/A | I7: =IF(H7<2,"<2",IF(H7<6,"2/5",IF(H7<11,"6/10",IF(H7<16,"11/15",IF(H7<21,"16/20",IF(H7<26,"21/25",IF(H7>25,"26 et plus",FALSE))))))) -> #N/A | K7: =IF($N$19:$N$585<=3,1,IF($N$19:$N$585<=6,2,IF($N$19:$N$585<=9,3,IF($N$19:$N$585>9,4,FALSE)))) -> #VALUE! | N7: 2 | O7: =MONTH(M7) -> 1 | P7: 0 | Q7: =IF(O7-N7=0,0,IF(O7-N7=1,NETWORKDAYS(L7,M7,[1]Congés!$D$2:$D$160)-P7,IF(O7-N7=2,NETWORKDAYS(L7,EOMONTH(L7,1),[1]Congés!$D$2:$D$160)-P7,IF(O7-N7=3,NETWORKDAYS(L7,EOMONTH(L7,1),[1]Congés!$D$2:$D$160)-P7)))) -> FALSE | R7: =IF(O7-N7<2,0,IF(O7-N7=2,NETWORKDAYS(L7,M7,[1]Congés!$D$2:$D$160)-Q7-P7,IF(O7-N7=3,NETWORKDAYS(L7,EOMONTH(L7,2),[1]Congés!$D$2:$D$160)-Q7-P7))) -> 0 | S7: =IF(O7-N7<3,0,NETWORKDAYS(L7,M7,[1]Congés!$D$2:$D$160)-R7-Q7-P7) -> 0 | T7: =NETWORKDAYS(L7,M7,[1]Congés!C$2:C$160) -> 0 | U7: Mi-temps | W7: =IF(T7<3,"1) 1 à 2 jours",IF(T7<5,"2) 3 à 4 jours",IF(T7=5,"3) 5 jours",IF(T7<=10,"4) 6 à 10 jours",IF(T7>10,"5) plus de 10 jours"))))) -> 1) 1 à 2 jours | Z7: =M7-L7+1 -> 1
A8: 3/12 | B8: 0 Ne pas effacer cette ligne !! | C8: =VLOOKUP(A8,'[1]BDD RH'!$A$9:$W$453,16,FALSE) -> #N/A | D8: =VLOOKUP(A8,'[1]BDD RH'!$A$9:$W$453,4,FALSE) -> #N/A | E8: =VLOOKUP(A8,'[1]BDD RH'!$A$9:$W$453,3,FALSE) -> #N/A | F8: =DATEDIF((VLOOKUP(A8,'[1]BDD RH'!$A$2:$W$485,7,FALSE)),L8,"y") -> #N/A | G8: =IF(F8<=19,"<20",IF(F8<=24,"20-24",IF(F8<=29,"25-29",IF(F8<=34,"30-34",IF(F8<=39,"35-39",IF(F8<=44,"40-44",IF(F8<=49,"45-49",FALSE)))))))*OR(IF(F8<=54,"50-54",IF(F8<=59,"55-59",IF(F8<=64,60-64,IF(F8<=69,"65-69",IF(F8>=70,"70 et plus",FALSE)))))) -> #N/A | H8: =DATEDIF((VLOOKUP(A8,'[1]BDD RH'!$A$2:$W$485,11,FALSE)),L8,"y") -> #N/A | I8: =IF(H8<2,"<2",IF(H8<6,"2/5",IF(H8<11,"6/10",IF(H8<16,"11/15",IF(H8<21,"16/20",IF(H8<26,"21/25",IF(H8>25,"26 et plus",FALSE))))))) -> #N/A | K8: =IF($N$19:$N$585<=3,1,IF($N$19:$N$585<=6,2,IF($N$19:$N$585<=9,3,IF($N$19:$N$585>9,4,FALSE)))) -> #VALUE! | N8: 3 | O8: =MONTH(M8) -> 1 | P8: 0 | Q8: =IF(O8-N8=0,0,IF(O8-N8=1,NETWORKDAYS(L8,M8,[1]Congés!$D$2:$D$160)-P8,IF(O8-N8=2,NETWORKDAYS(L8,EOMONTH(L8,1),[1]Congés!$D$2:$D$160)-P8,IF(O8-N8=3,NETWORKDAYS(L8,EOMONTH(L8,1),[1]Congés!$D$2:$D$160)-P8)))) -> FALSE | R8: =IF(O8-N8<2,0,IF(O8-N8=2,NETWORKDAYS(L8,M8,[1]Congés!$D$2:$D$160)-Q8-P8,IF(O8-N8=3,NETWORKDAYS(L8,EOMONTH(L8,2),[1]Congés!$D$2:$D$160)-Q8-P8))) -> 0 | S8: =IF(O8-N8<3,0,NETWORKDAYS(L8,M8,[1]Congés!$D$2:$D$160)-R8-Q8-P8) -> 0 | T8: =NETWORKDAYS(L8,M8,[1]Congés!C$2:C$160) -> 0 | U8: AT 16 | W8: =IF(T8<3,"1) 1 à 2 jours",IF(T8<5,"2) 3 à 4 jours",IF(T8=5,"3) 5 jours",IF(T8<=10,"4) 6 à 10 jours",IF(T8>10,"5) plus de 10 jours"))))) -> 1) 1 à 2 jours | Z8: =M8-L8+1 -> 1
A9: 4/12 | B9: 0 Ne pas effacer cette ligne !! | C9: =VLOOKUP(A9,'[1]BDD RH'!$A$9:$W$453,16,FALSE) -> #N/A | D9: =VLOOKUP(A9,'[1]BDD RH'!$A$9:$W$453,4,FALSE) -> #N/A | E9: =VLOOKUP(A9,'[1]BDD RH'!$A$9:$W$453,3,FALSE) -> #N/A | F9: =DATEDIF((VLOOKUP(A9,'[1]BDD RH'!$A$2:$W$485,7,FALSE)),L9,"y") -> #N/A | G9: =IF(F9<=19,"<20",IF(F9<=24,"20-24",IF(F9<=29,"25-29",IF(F9<=34,"30-34",IF(F9<=39,"35-39",IF(F9<=44,"40-44",IF(F9<=49,"45-49",FALSE)))))))*OR(IF(F9<=54,"50-54",IF(F9<=59,"55-59",IF(F9<=64,60-64,IF(F9<=69,"65-69",IF(F9>=70,"70 et plus",FALSE)))))) -> #N/A | H9: =DATEDIF((VLOOKUP(A9,'[1]BDD RH'!$A$2:$W$485,11,FALSE)),L9,"y") -> #N/A | I9: =IF(H9<2,"<2",IF(H9<6,"2/5",IF(H9<11,"6/10",IF(H9<16,"11/15",IF(H9<21,"16/20",IF(H9<26,"21/25",IF(H9>25,"26 et plus",FALSE))))))) -> #N/A | K9: =IF($N$19:$N$585<=3,1,IF($N$19:$N$585<=6,2,IF($N$19:$N$585<=9,3,IF($N$19:$N$585>9,4,FALSE)))) -> #VALUE! | N9: 4 | O9: =MONTH(M9) -> 1 | P9: 0 | Q9: =IF(O9-N9=0,0,IF(O9-N9=1,NETWORKDAYS(L9,M9,[1]Congés!$D$2:$D$160)-P9,IF(O9-N9=2,NETWORKDAYS(L9,EOMONTH(L9,1),[1]Congés!$D$2:$D$160)-P9,IF(O9-N9=3,NETWORKDAYS(L9,EOMONTH(L9,1),[1]Congés!$D$2:$D$160)-P9)))) -> FALSE | R9: =IF(O9-N9<2,0,IF(O9-N9=2,NETWORKDAYS(L9,M9,[1]Congés!$D$2:$D$160)-Q9-P9,IF(O9-N9=3,NETWORKDAYS(L9,EOMONTH(L9,2),[1]Congés!$D$2:$D$160)-Q9-P9))) -> 0 | S9: =IF(O9-N9<3,0,NETWORKDAYS(L9,M9,[1]Congés!$D$2:$D$160)-R9-Q9-P9) -> 0 | T9: =NETWORKDAYS(L9,M9,[1]Congés!C$2:C$160) -> 0 | U9: AT 16 SPEC | W9: =IF(T9<3,"1) 1 à 2 jours",IF(T9<5,"2) 3 à 4 jours",IF(T9=5,"3) 5 jours",IF(T9<=10,"4) 6 à 10 jours",IF(T9>10,"5) plus de 10 jours"))))) -> 1) 1 à 2 jours | Z9: =M9-L9+1 -> 1
A10: 4/12 | B10: 0 Ne pas effacer cette ligne !! | C10: =VLOOKUP(A10,'[1]BDD RH'!$A$9:$W$453,16,FALSE) -> #N/A | D10: =VLOOKUP(A10,'[1]BDD RH'!$A$9:$W$453,4,FALSE) -> #N/A | E10: =VLOOKUP(A10,'[1]BDD RH'!$A$9:$W$453,3,FALSE) -> #N/A | F10: =DATEDIF((VLOOKUP(A10,'[1]BDD RH'!$A$2:$W$485,7,FALSE)),L10,"y") -> #N/A | G10: =IF(F10<=19,"<20",IF(F10<=24,"20-24",IF(F10<=29,"25-29",IF(F10<=34,"30-34",IF(F10<=39,"35-39",IF(F10<=44,"40-44",IF(F10<=49,"45-49",FALSE)))))))*OR(IF(F10<=54,"50-54",IF(F10<=59,"55-59",IF(F10<=64,60-64,IF(F10<=69,"65-69",IF(F10>=70,"70 et plus",FALSE)))))) -> #N/A | H10: =DATEDIF((VLOOKUP(A10,'[1]BDD RH'!$A$2:$W$485,11,FALSE)),L10,"y") -> #N/A | I10: =IF(H10<2,"<2",IF(H10<6,"2/5",IF(H10<11,"6/10",IF(H10<16,"11/15",IF(H10<21,"16/20",IF(H10<26,"21/25",IF(H10>25,"26 et plus",FALSE))))))) -> #N/A | K10: =IF($N$19:$N$585<=3,1,IF($N$19:$N$585<=6,2,IF($N$19:$N$585<=9,3,IF($N$19:$N$585>9,4,FALSE)))) -> #VALUE! | N10: 5 | O10: =MONTH(M10) -> 1 | P10: 0 | Q10: =IF(O10-N10=0,0,IF(O10-N10=1,NETWORKDAYS(L10,M10,[1]Congés!$D$2:$D$160)-P10,IF(O10-N10=2,NETWORKDAYS(L10,EOMONTH(L10,1),[1]Congés!$D$2:$D$160)-P10,IF(O10-N10=3,NETWORKDAYS(L10,EOMONTH(L10,1),[1]Congés!$D$2:$D$160)-P10)))) -> FALSE | R10: =IF(O10-N10<2,0,IF(O10-N10=2,NETWORKDAYS(L10,M10,[1]Congés!$D$2:$D$160)-Q10-P10,IF(O10-N10=3,NETWORKDAYS(L10,EOMONTH(L10,2),[1]Congés!$D$2:$D$160)-Q10-P10))) -> 0 | S10: =IF(O10-N10<3,0,NETWORKDAYS(L10,M10,[1]Congés!$D$2:$D$160)-R10-Q10-P10) -> 0 | T10: =NETWORKDAYS(L10,M10,[1]Congés!C$2:C$160) -> 0 | U10: AT 15 SPEC | W10: =IF(T10<3,"1) 1 à 2 jours",IF(T10<5,"2) 3 à 4 jours",IF(T10=5,"3) 5 jours",IF(T10<=10,"4) 6 à 10 jours",IF(T10>10,"5) plus de 10 jours"))))) -> 1) 1 à 2 jours | Z10: =M10-L10+1 -> 1
A11: 5/12 | B11: 0 Ne pas effacer cette ligne !! | C11: =VLOOKUP(A11,'[1]BDD RH'!$A$9:$W$453,16,FALSE) -> #N/A | D11: =VLOOKUP(A11,'[1]BDD RH'!$A$9:$W$453,4,FALSE) -> #N/A | E11: =VLOOKUP(A11,'[1]BDD RH'!$A$9:$W$453,3,FALSE) -> #N/A | F11: =DATEDIF((VLOOKUP(A11,'[1]BDD RH'!$A$2:$W$485,7,FALSE)),L11,"y") -> #N/A | G11: =IF(F11<=19,"<20",IF(F11<=24,"20-24",IF(F11<=29,"25-29",IF(F11<=34,"30-34",IF(F11<=39,"35-39",IF(F11<=44,"40-44",IF(F11<=49,"45-49",FALSE)))))))*OR(IF(F11<=54,"50-54",IF(F11<=59,"55-59",IF(F11<=64,60-64,IF(F11<=69,"65-69",IF(F11>=70,"70 et plus",FALSE)))))) -> #N/A | H11: =DATEDIF((VLOOKUP(A11,'[1]BDD RH'!$A$2:$W$485,11,FALSE)),L11,"y") -> #N/A | I11: =IF(H11<2,"<2",IF(H11<6,"2/5",IF(H11<11,"6/10",IF(H11<16,"11/15",IF(H11<21,"16/20",IF(H11<26,"21/25",IF(H11>25,"26 et plus",FALSE))))))) -> #N/A | K11: =IF($N$19:$N$585<=3,1,IF($N$19:$N$585<=6,2,IF($N$19:$N$585<=9,3,IF($N$19:$N$585>9,4,FALSE)))) -> #VALUE! | N11: 5 | O11: =MONTH(M11) -> 1 | P11: 0 | Q11: =IF(O11-N11=0,0,IF(O11-N11=1,NETWORKDAYS(L11,M11,[1]Congés!$D$2:$D$160)-P11,IF(O11-N11=2,NETWORKDAYS(L11,EOMONTH(L11,1),[1]Congés!$D$2:$D$160)-P11,IF(O11-N11=3,NETWORKDAYS(L11,EOMONTH(L11,1),[1]Congés!$D$2:$D$160)-P11)))) -> FALSE | R11: =IF(O11-N11<2,0,IF(O11-N11=2,NETWORKDAYS(L11,M11,[1]Congés!$D$2:$D$160)-Q11-P11,IF(O11-N11=3,NETWORKDAYS(L11,EOMONTH(L11,2),[1]Congés!$D$2:$D$160)-Q11-P11))) -> 0 | S11: =IF(O11-N11<3,0,NETWORKDAYS(L11,M11,[1]Congés!$D$2:$D$160)-R11-Q11-P11) -> 0 | T11: =NETWORKDAYS(L11,M11,[1]Congés!C$2:C$160) -> 0 | U11: AT 15 | W11: =IF(T11<3,"1) 1 à 2 jours",IF(T11<5,"2) 3 à 4 jours",IF(T11=5,"3) 5 jours",IF(T11<=10,"4) 6 à 10 jours",IF(T11>10,"5) plus de 10 jours"))))) -> 1) 1 à 2 jours | Z11: =M11-L11+1 -> 1
A12: 6/12 | B12: 0 Ne pas effacer cette ligne !! | C12: =VLOOKUP(A12,'[1]BDD RH'!$A$9:$W$453,16,FALSE) -> #N/A | D12: =VLOOKUP(A12,'[1]BDD RH'!$A$9:$W$453,4,FALSE) -> #N/A | E12: =VLOOKUP(A12,'[1]BDD RH'!$A$9:$W$453,3,FALSE) -> #N/A | F12: =DATEDIF((VLOOKUP(A12,'[1]BDD RH'!$A$2:$W$485,7,FALSE)),L12,"y") -> #N/A | G12: =IF(F12<=19,"<20",IF(F12<=24,"20-24",IF(F12<=29,"25-29",IF(F12<=34,"30-34",IF(F12<=39,"35-39",IF(F12<=44,"40-44",IF(F12<=49,"45-49",FALSE)))))))*AND(IF(F12<=54,"50-54",IF(F12<=59,"55-59",IF(F12<=64,60-64,IF(F12<=69,"65-69",IF(F12>=70,"70 et plus",FALSE)))))) -> #N/A | H12: =DATEDIF((VLOOKUP(A12,'[1]BDD RH'!$A$2:$W$485,11,FALSE)),L12,"y") -> #N/A | I12: =IF(H12<2,"<2",IF(H12<6,"2/5",IF(H12<11,"6/10",IF(H12<16,"11/15",IF(H12<21,"16/20",IF(H12<26,"21/25",IF(H12>25,"26 et plus",FALSE))))))) -> #N/A | K12: =IF($N$19:$N$585<=3,1,IF($N$19:$N$585<=6,2,IF($N$19:$N$585<=9,3,IF($N$19:$N$585>9,4,FALSE)))) -> #VALUE! | N12: 6 | O12: =MONTH(M12) -> 1 | P12: 0 | Q12: =IF(O12-N12=0,0,IF(O12-N12=1,NETWORKDAYS(L12,M12,[1]Congés!$D$2:$D$160)-P12,IF(O12-N12=2,NETWORKDAYS(L12,EOMONTH(L12,1),[1]Congés!$D$2:$D$160)-P12,IF(O12-N12=3,NETWORKDAYS(L12,EOMONTH(L12,1),[1]Congés!$D$2:$D$160)-P12)))) -> FALSE | R12: =IF(O12-N12<2,0,IF(O12-N12=2,NETWORKDAYS(L12,M12,[1]Congés!$D$2:$D$160)-Q12-P12,IF(O12-N12=3,NETWORKDAYS(L12,EOMONTH(L12,2),[1]Congés!$D$2:$D$160)-Q12-P12))) -> 0 | S12: =IF(O12-N12<3,0,NETWORKDAYS(L12,M12,[1]Congés!$D$2:$D$160)-R12-Q12-P12) -> 0 | T12: =NETWORKDAYS(L12,M12,[1]Congés!C$2:C$160) -> 0 | U12: ATT 16 | W12: =IF(T12<3,"1) 1 à 2 jours",IF(T12<5,"2) 3 à 4 jours",IF(T12=5,"3) 5 jours",IF(T12<=10,"4) 6 à 10 jours",IF(T12>10,"5) plus de 10 jours"))))) -> 1) 1 à 2 jours | Z12: =M12-L12+1 -> 1
A13: 7/12 | B13: 0 Ne pas effacer cette ligne !! | C13: =VLOOKUP(A13,'[1]BDD RH'!$A$9:$W$453,16,FALSE) -> #N/A | D13: =VLOOKUP(A13,'[1]BDD RH'!$A$9:$W$453,4,FALSE) -> #N/A | E13: =VLOOKUP(A13,'[1]BDD RH'!$A$9:$W$453,3,FALSE) -> #N/A | F13: =DATEDIF((VLOOKUP(A13,'[1]BDD RH'!$A$2:$W$485,7,FALSE)),L13,"y") -> #N/A | G13: =IF(F13<=19,"<20",IF(F13<=24,"20-24",IF(F13<=29,"25-29",IF(F13<=34,"30-34",IF(F13<=39,"35-39",IF(F13<=44,"40-44",IF(F13<=49,"45-49",FALSE)))))))*OR(IF(F13<=54,"50-54",IF(F13<=59,"55-59",IF(F13<=64,60-64,IF(F13<=69,"65-69",IF(F13>=70,"70 et plus",FALSE)))))) -> #N/A | H13: =DATEDIF((VLOOKUP(A13,'[1]BDD RH'!$A$2:$W$485,11,FALSE)),L13,"y") -> #N/A | I13: =IF(H13<2,"<2",IF(H13<6,"2/5",IF(H13<11,"6/10",IF(H13<16,"11/15",IF(H13<21,"16/20",IF(H13<26,"21/25",IF(H13>25,"26 et plus",FALSE))))))) -> #N/A | K13: =IF($N$19:$N$585<=3,1,IF($N$19:$N$585<=6,2,IF($N$19:$N$585<=9,3,IF($N$19:$N$585>9,4,FALSE)))) -> #VALUE! | N13: 7 | O13: =MONTH(M13) -> 1 | P13: 0 | Q13: =IF(O13-N13=0,0,IF(O13-N13=1,NETWORKDAYS(L13,M13,[1]Congés!$D$2:$D$160)-P13,IF(O13-N13=2,NETWORKDAYS(L13,EOMONTH(L13,1),[1]Congés!$D$2:$D$160)-P13,IF(O13-N13=3,NETWORKDAYS(L13,EOMONTH(L13,1),[1]Congés!$D$2:$D$160)-P13)))) -> FALSE | R13: =IF(O13-N13<2,0,IF(O13-N13=2,NETWORKDAYS(L13,M13,[1]Congés!$D$2:$D$160)-Q13-P13,IF(O13-N13=3,NETWORKDAYS(L13,EOMONTH(L13,2),[1]Congés!$D$2:$D$160)-Q13-P13))) -> 0 | S13: =IF(O13-N13<3,0,NETWORKDAYS(L13,M13,[1]Congés!$D$2:$D$160)-R13-Q13-P13) -> 0 | T13: =NETWORKDAYS(L13,M13,[1]Congés!C$2:C$160) -> 0 | U13: ATT 16 SPEC | W13: =IF(T13<3,"1) 1 à 2 jours",IF(T13<5,"2) 3 à 4 jours",IF(T13=5,"3) 5 jours",IF(T13<=10,"4) 6 à 10 jours",IF(T13>10,"5) plus de 10 jours"))))) -> 1) 1 à 2 jours | Z13: =M13-L13+1 -> 1
A14: 8/12 | B14: 0 Ne pas effacer cette ligne !! | C14: =VLOOKUP(A14,'[1]BDD RH'!$A$9:$W$453,16,FALSE) -> #N/A | D14: =VLOOKUP(A14,'[1]BDD RH'!$A$9:$W$453,4,FALSE) -> #N/A | E14: =VLOOKUP(A14,'[1]BDD RH'!$A$9:$W$453,3,FALSE) -> #N/A | F14: =DATEDIF((VLOOKUP(A14,'[1]BDD RH'!$A$2:$W$485,7,FALSE)),L14,"y") -> #N/A | G14: =IF(F14<=19,"<20",IF(F14<=24,"20-24",IF(F14<=29,"25-29",IF(F14<=34,"30-34",IF(F14<=39,"35-39",IF(F14<=44,"40-44",IF(F14<=49,"45-49",FALSE)))))))*OR(IF(F14<=54,"50-54",IF(F14<=59,"55-59",IF(F14<=64,60-64,IF(F14<=69,"65-69",IF(F14>=70,"70 et plus",FALSE)))))) -> #N/A | H14: =DATEDIF((VLOOKUP(A14,'[1]BDD RH'!$A$2:$W$485,11,FALSE)),L14,"y") -> #N/A | I14: =IF(H14<2,"<2",IF(H14<6,"2/5",IF(H14<11,"6/10",IF(H14<16,"11/15",IF(H14<21,"16/20",IF(H14<26,"21/25",IF(H14>25,"26 et plus",FALSE))))))) -> #N/A | K14: =IF($N$19:$N$585<=3,1,IF($N$19:$N$585<=6,2,IF($N$19:$N$585<=9,3,IF($N$19:$N$585>9,4,FALSE)))) -> #VALUE! | N14: 8 | O14: =MONTH(M14) -> 1 | P14: 0 | Q14: =IF(O14-N14=0,0,IF(O14-N14=1,NETWORKDAYS(L14,M14,[1]Congés!$D$2:$D$160)-P14,IF(O14-N14=2,NETWORKDAYS(L14,EOMONTH(L14,1),[1]Congés!$D$2:$D$160)-P14,IF(O14-N14=3,NETWORKDAYS(L14,EOMONTH(L14,1),[1]Congés!$D$2:$D$160)-P14)))) -> FALSE | R14: =IF(O14-N14<2,0,IF(O14-N14=2,NETWORKDAYS(L14,M14,[1]Congés!$D$2:$D$160)-Q14-P14,IF(O14-N14=3,NETWORKDAYS(L14,EOMONTH(L14,2),[1]Congés!$D$2:$D$160)-Q14-P14))) -> 0 | S14: =IF(O14-N14<3,0,NETWORKDAYS(L14,M14,[1]Congés!$D$2:$D$160)-R14-Q14-P14) -> 0 | T14: =NETWORKDAYS(L14,M14,[1]Congés!C$2:C$160) -> 0 | U14: LM Pro | W14: =IF(T14<3,"1) 1 à 2 jours",IF(T14<5,"2) 3 à 4 jours",IF(T14=5,"3) 5 jours",IF(T14<=10,"4) 6 à 10 jours",IF(T14>10,"5) plus de 10 jours"))))) -> 1) 1 à 2 jours | Z14: =M14-L14+1 -> 1
A15: 9/12 | B15: 0 Ne pas effacer cette ligne !! | C15: =VLOOKUP(A15,'[1]BDD RH'!$A$9:$W$453,16,FALSE) -> #N/A | D15: =VLOOKUP(A15,'[1]BDD RH'!$A$9:$W$453,4,FALSE) -> #N/A | E15: =VLOOKUP(A15,'[1]BDD RH'!$A$9:$W$453,3,FALSE) -> #N/A | F15: =DATEDIF((VLOOKUP(A15,'[1]BDD RH'!$A$2:$W$485,7,FALSE)),L15,"y") -> #N/A | G15: =IF(F15<=19,"<20",IF(F15<=24,"20-24",IF(F15<=29,"25-29",IF(F15<=34,"30-34",IF(F15<=39,"35-39",IF(F15<=44,"40-44",IF(F15<=49,"45-49",FALSE)))))))*OR(IF(F15<=54,"50-54",IF(F15<=59,"55-59",IF(F15<=64,60-64,IF(F15<=69,"65-69",IF(F15>=70,"70 et plus",FALSE)))))) -> #N/A | H15: =DATEDIF((VLOOKUP(A15,'[1]BDD RH'!$A$2:$W$485,11,FALSE)),L15,"y") -> #N/A | I15: =IF(H15<2,"<2",IF(H15<6,"2/5",IF(H15<11,"6/10",IF(H15<16,"11/15",IF(H15<21,"16/20",IF(H15<26,"21/25",IF(H15>25,"26 et plus",FALSE))))))) -> #N/A | K15: =IF($N$19:$N$585<=3,1,IF($N$19:$N$585<=6,2,IF($N$19:$N$585<=9,3,IF($N$19:$N$585>9,4,FALSE)))) -> #VALUE! | N15: 9 | O15: =MONTH(M15) -> 1 | P15: 0 | Q15: =IF(O15-N15=0,0,IF(O15-N15=1,NETWORKDAYS(L15,M15,[1]Congés!$D$2:$D$160)-P15,IF(O15-N15=2,NETWORKDAYS(L15,EOMONTH(L15,1),[1]Congés!$D$2:$D$160)-P15,IF(O15-N15=3,NETWORKDAYS(L15,EOMONTH(L15,1),[1]Congés!$D$2:$D$160)-P15)))) -> FALSE | R15: =IF(O15-N15<2,0,IF(O15-N15=2,NETWORKDAYS(L15,M15,[1]Congés!$D$2:$D$160)-Q15-P15,IF(O15-N15=3,NETWORKDAYS(L15,EOMONTH(L15,2),[1]Congés!$D$2:$D$160)-Q15-P15))) -> 0 | S15: =IF(O15-N15<3,0,NETWORKDAYS(L15,M15,[1]Congés!$D$2:$D$160)-R15-Q15-P15) -> 0 | T15: =NETWORKDAYS(L15,M15,[1]Congés!C$2:C$160) -> 0 | U15: M Pro | W15: =IF(T15<3,"1) 1 à 2 jours",IF(T15<5,"2) 3 à 4 jours",IF(T15=5,"3) 5 jours",IF(T15<=10,"4) 6 à 10 jours",IF(T15>10,"5) plus de 10 jours"))))) -> 1) 1 à 2 jours | Z15: =M15-L15+1 -> 1
A16: 10/12 | B16: 0 Ne pas effacer cette ligne !! | C16: =VLOOKUP(A16,'[1]BDD RH'!$A$9:$W$453,16,FALSE) -> #N/A | D16: =VLOOKUP(A16,'[1]BDD RH'!$A$9:$W$453,4,FALSE) -> #N/A | E16: =VLOOKUP(A16,'[1]BDD RH'!$A$9:$W$453,3,FALSE) -> #N/A | F16: =DATEDIF((VLOOKUP(A16,'[1]BDD RH'!$A$2:$W$485,7,FALSE)),L16,"y") -> #N/A | G16: =IF(F16<=19,"<20",IF(F16<=24,"20-24",IF(F16<=29,"25-29",IF(F16<=34,"30-34",IF(F16<=39,"35-39",IF(F16<=44,"40-44",IF(F16<=49,"45-49",FALSE)))))))*OR(IF(F16<=54,"50-54",IF(F16<=59,"55-59",IF(F16<=64,60-64,IF(F16<=69,"65-69",IF(F16>=70,"70 et plus",FALSE)))))) -> #N/A | H16: =DATEDIF((VLOOKUP(A16,'[1]BDD RH'!$A$2:$W$485,11,FALSE)),L16,"y") -> #N/A | I16: =IF(H16<2,"<2",IF(H16<6,"2/5",IF(H16<11,"6/10",IF(H16<16,"11/15",IF(H16<21,"16/20",IF(H16<26,"21/25",IF(H16>25,"26 et plus",FALSE))))))) -> #N/A | K16: =IF($N$19:$N$585<=3,1,IF($N$19:$N$585<=6,2,IF($N$19:$N$585<=9,3,IF($N$19:$N$585>9,4,FALSE)))) -> #VALUE! | N16: 10 | O16: =MONTH(M16) -> 1 | P16: 0 | Q16: =IF(O16-N16=0,0,IF(O16-N16=1,NETWORKDAYS(L16,M16,[1]Congés!$D$2:$D$160)-P16,IF(O16-N16=2,NETWORKDAYS(L16,EOMONTH(L16,1),[1]Congés!$D$2:$D$160)-P16,IF(O16-N16=3,NETWORKDAYS(L16,EOMONTH(L16,1),[1]Congés!$D$2:$D$160)-P16)))) -> FALSE | R16: =IF(O16-N16<2,0,IF(O16-N16=2,NETWORKDAYS(L16,M16,[1]Congés!$D$2:$D$160)-Q16-P16,IF(O16-N16=3,NETWORKDAYS(L16,EOMONTH(L16,2),[1]Congés!$D$2:$D$160)-Q16-P16))) -> 0 | S16: =IF(O16-N16<3,0,NETWORKDAYS(L16,M16,[1]Congés!$D$2:$D$160)-R16-Q16-P16) -> 0 | T16: =NETWORKDAYS(L16,M16,[1]Congés!C$2:C$160) -> 0 | U16: LM | W16: =IF(T16<3,"1) 1 à 2 jours",IF(T16<5,"2) 3 à 4 jours",IF(T16=5,"3) 5 jours",IF(T16<=10,"4) 6 à 10 jours",IF(T16>10,"5) plus de 10 jours"))))) -> 1) 1 à 2 jours | Z16: =M16-L16+1 -> 1
A17: 11/12 | B17: 0 Ne pas effacer cette ligne !! | C17: =VLOOKUP(A17,'[1]BDD RH'!$A$9:$W$453,16,FALSE) -> #N/A | D17: =VLOOKUP(A17,'[1]BDD RH'!$A$9:$W$453,4,FALSE) -> #N/A | E17: =VLOOKUP(A17,'[1]BDD RH'!$A$9:$W$453,3,FALSE) -> #N/A | F17: =DATEDIF((VLOOKUP(A17,'[1]BDD RH'!$A$2:$W$485,7,FALSE)),L17,"y") -> #N/A | G17: =IF(F17<=19,"<20",IF(F17<=24,"20-24",IF(F17<=29,"25-29",IF(F17<=34,"30-34",IF(F17<=39,"35-39",IF(F17<=44,"40-44",IF(F17<=49,"45-49",FALSE)))))))*OR(IF(F17<=54,"50-54",IF(F17<=59,"55-59",IF(F17<=64,60-64,IF(F17<=69,"65-69",IF(F17>=70,"70 et plus",FALSE)))))) -> #N/A | H17: =DATEDIF((VLOOKUP(A17,'[1]BDD RH'!$A$2:$W$485,11,FALSE)),L17,"y") -> #N/A | I17: =IF(H17<2,"<2",IF(H17<6,"2/5",IF(H17<11,"6/10",IF(H17<16,"11/15",IF(H17<21,"16/20",IF(H17<26,"21/25",IF(H17>25,"26 et plus",FALSE))))))) -> #N/A | K17: =IF($N$19:$N$585<=3,1,IF($N$19:$N$585<=6,2,IF($N$19:$N$585<=9,3,IF($N$19:$N$585>9,4,FALSE)))) -> #VALUE! | N17: 11 | O17: =MONTH(M17) -> 1 | P17: 0 | Q17: =IF(O17-N17=0,0,IF(O17-N17=1,NETWORKDAYS(L17,M17,[1]Congés!$D$2:$D$160)-P17,IF(O17-N17=2,NETWORKDAYS(L17,EOMONTH(L17,1),[1]Congés!$D$2:$D$160)-P17,IF(O17-N17=3,NETWORKDAYS(L17,EOMONTH(L17,1),[1]Congés!$D$2:$D$160)-P17)))) -> FALSE | R17: =IF(O17-N17<2,0,IF(O17-N17=2,NETWORKDAYS(L17,M17,[1]Congés!$D$2:$D$160)-Q17-P17,IF(O17-N17=3,NETWORKDAYS(L17,EOMONTH(L17,2),[1]Congés!$D$2:$D$160)-Q17-P17))) -> 0 | S17: =IF(O17-N17<3,0,NETWORKDAYS(L17,M17,[1]Congés!$D$2:$D$160)-R17-Q17-P17) -> 0 | T17: =NETWORKDAYS(L17,M17,[1]Congés!C$2:C$160) -> 0 | U17: ATT 15 | W17: =IF(T17<3,"1) 1 à 2 jours",IF(T17<5,"2) 3 à 4 jours",IF(T17=5,"3) 5 jours",IF(T17<=10,"4) 6 à 10 jours",IF(T17>10,"5) plus de 10 jours"))))) -> 1) 1 à 2 jours | Z17: =M17-L17+1 -> 1
A18: 12/12 | B18: 0 Ne pas effacer cette ligne !! | C18: =VLOOKUP(A18,'[1]BDD RH'!$A$9:$W$453,16,FALSE) -> #N/A | D18: =VLOOKUP(A18,'[1]BDD RH'!$A$9:$W$453,4,FALSE) -> #N/A | E18: =VLOOKUP(A18,'[1]BDD RH'!$A$9:$W$453,3,FALSE) -> #N/A | F18: =DATEDIF((VLOOKUP(A18,'[1]BDD RH'!$A$2:$W$485,7,FALSE)),L18,"y") -> #N/A | G18: =IF(F18<=19,"<20",IF(F18<=24,"20-24",IF(F18<=29,"25-29",IF(F18<=34,"30-34",IF(F18<=39,"35-39",IF(F18<=44,"40-44",IF(F18<=49,"45-49",FALSE)))))))*OR(IF(F18<=54,"50-54",IF(F18<=59,"55-59",IF(F18<=64,60-64,IF(F18<=69,"65-69",IF(F18>=70,"70 et plus",FALSE)))))) -> #N/A | H18: =DATEDIF((VLOOKUP(A18,'[1]BDD RH'!$A$2:$W$485,11,FALSE)),L18,"y") -> #N/A | I18: =IF(H18<2,"<2",IF(H18<6,"2/5",IF(H18<11,"6/10",IF(H18<16,"11/15",IF(H18<21,"16/20",IF(H18<26,"21/25",IF(H18>25,"26 et plus",FALSE))))))) -> #N/A | K18: =IF($N$19:$N$585<=3,1,IF($N$19:$N$585<=6,2,IF($N$19:$N$585<=9,3,IF($N$19:$N$585>9,4,FALSE)))) -> #VALUE! | N18: 12 | O18: =MONTH(M18) -> 1 | P18: 0 | Q18: =IF(O18-N18=0,0,IF(O18-N18=1,NETWORKDAYS(L18,M18,[1]Congés!$D$2:$D$160)-P18,IF(O18-N18=2,NETWORKDAYS(L18,EOMONTH(L18,1),[1]Congés!$D$2:$D$160)-P18,IF(O18-N18=3,NETWORKDAYS(L18,EOMONTH(L18,1),[1]Congés!$D$2:$D$160)-P18)))) -> FALSE | R18: =IF(O18-N18<2,0,IF(O18-N18=2,NETWORKDAYS(L18,M18,[1]Congés!$D$2:$D$160)-Q18-P18,IF(O18-N18=3,NETWORKDAYS(L18,EOMONTH(L18,2),[1]Congés!$D$2:$D$160)-Q18-P18))) -> 0 | S18: =IF(O18-N18<3,0,NETWORKDAYS(L18,M18,[1]Congés!$D$2:$D$160)-R18-Q18-P18) -> 0 | T18: =NETWORKDAYS(L18,M18,[1]Congés!C$2:C$160) -> 0 | U18: Arrêt Maladie | W18: =IF(T18<3,"1) 1 à 2 jours",IF(T18<5,"2) 3 à 4 jours",IF(T18=5,"3) 5 jours",IF(T18<=10,"4) 6 à 10 jours",IF(T18>10,"5) plus de 10 jours"))))) -> 1) 1 à 2 jours | Z18: =M18-L18+1 -> 1
A19: 16737 | C19: =VLOOKUP(A19,'[1]BDD RH'!$A$9:$W$453,16,FALSE) -> Evercalf | D19: =VLOOKUP(A19,'[1]BDD RH'!$A$9:$W$453,4,FALSE) -> t | E19: =VLOOKUP(A19,'[1]BDD RH'!$A$9:$W$453,3,FALSE) -> F | F19: =DATEDIF((VLOOKUP(A19,'[1]BDD RH'!$A$2:$W$485,7,FALSE)),L19,"y") -> 41 | G19: =IF(F19<=20,"<=20",IF(F19<=30,"21/30",IF(F19<=40,"31/40",IF(F19<=50,"41/50",IF(F19<=60,"51/60",IF(F19>60,"61 et plus",FALSE)))))) -> 41/50 | H19: =DATEDIF((VLOOKUP(A19,'[1]BDD RH'!$A$2:$W$485,11,FALSE)),L19,"y") -> 9 | I19: =IF(H19<2,"<2",IF(H19<6,"2/5",IF(H19<11,"6/10",IF(H19<16,"11/15",IF(H19<21,"16/20",IF(H19<26,"21/25",IF(H19>25,"26 et plus",FALSE))))))) -> 6/10 | J19: ABA00 | K19: =IF($N$19:$N$585<=3,1,IF($N$19:$N$585<=6,2,IF($N$19:$N$585<=9,3,IF($N$19:$N$585>9,4,FALSE)))) -> 1 | L19: 42370 | M19: 42372 | N19: =MONTH(L19) -> 1 | O19: =MONTH(M19) -> 1 | P19: =IF(O19-N19=0,NETWORKDAYS(L19,M19,[1]Congés!$D$2:$D$26),NETWORKDAYS(L19,EOMONTH(L19,0),[1]Congés!$D$2:$D$26)) -> 1 | Q19: =IF(O19-N19=0,0,IF(O19-N19=1,NETWORKDAYS(L19,M19,[1]Congés!$D$2:$D$160)-P19,IF(O19-N19=2,NETWORKDAYS(L19,EOMONTH(L19,1),[1]Congés!$D$2:$D$160)-P19,IF(O19-N19=3,NETWORKDAYS(L19,EOMONTH(L19,1),[1]Congés!$D$2:$D$160)-P19)))) -> 0 | R19: =IF(O19-N19<2,0,IF(O19-N19=2,NETWORKDAYS(L19,M19,[1]Congés!$D$2:$D$160)-Q19-P19,IF(O19-N19=3,NETWORKDAYS(L19,EOMONTH(L19,2),[1]Congés!$D$2:$D$160)-Q19-P19))) -> 0 | S19: =IF(O19-N19<3,0,NETWORKDAYS(L19,M19,[1]Congés!$D$2:$D$160)-R19-Q19-P19) -> 0 | T19: =NETWORKDAYS(L19,M19,[1]Congés!C$2:C$160) -> 0 | U19: LM | V19: 42254 | W19: =IF(T19<3,"1) 1 à 2 jours",IF(T19<5,"2) 3 à 4 jours",IF(T19=5,"3) 5 jours",IF(T19<=10,"4) 6 à 10 jours",IF(T19>10,"5) plus de 10 jours"))))) -> 1) 1 à 2 jours | X19: vm faite | Y19: 42402 | Z19: =M19-L19+1 -> 3
A20: 16737 | C20: =VLOOKUP(A20,'[1]BDD RH'!$A$9:$W$453,16,FALSE) -> Evercalf | D20: =VLOOKUP(A20,'[1]BDD RH'!$A$9:$W$453,4,FALSE) -> t | E20: =VLOOKUP(A20,'[1]BDD RH'!$A$9:$W$453,3,FALSE) -> F | F20: =DATEDIF((VLOOKUP(A20,'[1]BDD RH'!$A$2:$W$485,7,FALSE)),L20,"y") -> 41 | G20: =IF(F20<=20,"<=20",IF(F20<=30,"21/30",IF(F20<=40,"31/40",IF(F20<=50,"41/50",IF(F20<=60,"51/60",IF(F20>60,"61 et plus",FALSE)))))) -> 41/50 | H20: =DATEDIF((VLOOKUP(A20,'[1]BDD RH'!$A$2:$W$485,11,FALSE)),L20,"y") -> 9 | I20: =IF(H20<2,"<2",IF(H20<6,"2/5",IF(H20<11,"6/10",IF(H20<16,"11/15",IF(H20<21,"16/20",IF(H20<26,"21/25",IF(H20>25,"26 et plus",FALSE))))))) -> 6/10 | K20: =IF($N$19:$N$585<=3,1,IF($N$19:$N$585<=6,2,IF($N$19:$N$585<=9,3,IF($N$19:$N$585>9,4,FALSE)))) -> 1 | L20: 42373 | M20: 42433 | N20: =MONTH(L20) -> 1 | O20: =MONTH(M20) -> 3 | P20: =IF(O20-N20=0,NETWORKDAYS(L20,M20,[1]Congés!$D$2:$D$26),NETWORKDAYS(L20,EOMONTH(L20,0),[1]Congés!$D$2:$D$26)) -> 20 | Q20: =IF(O20-N20=0,0,IF(O20-N20=1,NETWORKDAYS(L20,M20,[1]Congés!$D$2:$D$160)-P20,IF(O20-N20=2,NETWORKDAYS(L20,EOMONTH(L20,1),[1]Congés!$D$2:$D$160)-P20,IF(O20-N20=3,NETWORKDAYS(L20,EOMONTH(L20,1),[1]Congés!$D$2:$D$160)-P20)))) -> 21 | R20: =IF(O20-N20<2,0,IF(O20-N20=2,NETWORKDAYS(L20,M20,[1]Congés!$D$2:$D$160)-Q20-P20,IF(O20-N20=3,NETWORKDAYS(L20,EOMONTH(L20,2),[1]Congés!$D$2:$D$160)-Q20-P20))) -> 4 | S20: =IF(O20-N20<3,0,NETWORKDAYS(L20,M20,[1]Congés!$D$2:$D$160)-R20-Q20-P20) -> 0 | T20: =NETWORKDAYS(L20,M20,[1]Congés!C$2:C$160) -> 45 | U20: Mi-temps | V20: 42373 | W20: =IF(T20<3,"1) 1 à 2 jours",IF(T20<5,"2) 3 à 4 jours",IF(T20=5,"3) 5 jours",IF(T20<=10,"4) 6 à 10 jours",IF(T20>10,"5) plus de 10 jours"))))) -> 5) plus de 10 jours | Z20: =M20-L20+1 -> 61
A21: 16737 | C21: =VLOOKUP(A21,'[1]BDD RH'!$A$9:$W$453,16,FALSE) -> Evercalf | D21: =VLOOKUP(A21,'[1]BDD RH'!$A$9:$W$453,4,FALSE) -> t | E21: =VLOOKUP(A21,'[1]BDD RH'!$A$9:$W$453,3,FALSE) -> F | F21: =DATEDIF((VLOOKUP(A21,'[1]BDD RH'!$A$2:$W$485,7,FALSE)),L21,"y") -> 41 | G21: =IF(F21<=20,"<=20",IF(F21<=30,"21/30",IF(F21<=40,"31/40",IF(F21<=50,"41/50",IF(F21<=60,"51/60",IF(F21>60,"61 et plus",FALSE)))))) -> 41/50 | H21: =DATEDIF((VLOOKUP(A21,'[1]BDD RH'!$A$2:$W$485,11,FALSE)),L21,"y") -> 9 | I21: =IF(H21<2,"<2",IF(H21<6,"2/5",IF(H21<11,"6/10",IF(H21<16,"11/15",IF(H21<21,"16/20",IF(H21<26,"21/25",IF(H21>25,"26 et plus",FALSE))))))) -> 6/10 | K21: =IF($N$19:$N$585<=3,1,IF($N$19:$N$585<=6,2,IF($N$19:$N$585<=9,3,IF($N$19:$N$585>9,4,FALSE)))) -> 1 | L21: 42436 | M21: 42517 | N21: =MONTH(L21) -> 3 | O21: =MONTH(M21) -> 5 | P21: =IF(O21-N21=0,NETWORKDAYS(L21,M21,[1]Congés!$D$2:$D$26),NETWORKDAYS(L21,EOMONTH(L21,0),[1]Congés!$D$2:$D$26)) -> 19 | Q21: =IF(O21-N21=0,0,IF(O21-N21=1,NETWORKDAYS(L21,M21,[1]Congés!$D$2:$D$160)-P21,IF(O21-N21=2,NETWORKDAYS(L21,EOMONTH(L21,1),[1]Congés!$D$2:$D$160)-P21,IF(O21-N21=3,NETWORKDAYS(L21,EOMONTH(L21,1),[1]Congés!$D$2:$D$160)-P21)))) -> 21 | R21: =IF(O21-N21<2,0,IF(O21-N21=2,NETWORKDAYS(L21,M21,[1]Congés!$D$2:$D$160)-Q21-P21,IF(O21-N21=3,NETWORKDAYS(L21,EOMONTH(L21,2),[1]Congés!$D$2:$D$160)-Q21-P21))) -> 20 | S21: =IF(O21-N21<3,0,NETWORKDAYS(L21,M21,[1]Congés!$D$2:$D$160)-R21-Q21-P21) -> 0 | T21: =NETWORKDAYS(L21,M21,[1]Congés!C$2:C$160) -> 56 | U21: Mi-temps | W21: =IF(T21<3,"1) 1 à 2 jours",IF(T21<5,"2) 3 à 4 jours",IF(T21=5,"3) 5 jours",IF(T21<=10,"4) 6 à 10 jours",IF(T21>10,"5) plus de 10 jours"))))) -> 5) plus de 10 jours | X21: TPT Vm à prévoir | Z21: =M21-L21+1 -> 82
A22: 17354 | C22: =VLOOKUP(A22,'[1]BDD RH'!$A$9:$W$453,16,FALSE) -> Courchevel | D22: =VLOOKUP(A22,'[1]BDD RH'!$A$9:$W$453,4,FALSE) -> t | E22: =VLOOKUP(A22,'[1]BDD RH'!$A$9:$W$453,3,FALSE) -> F | F22: =DATEDIF((VLOOKUP(A22,'[1]BDD RH'!$A$2:$W$485,7,FALSE)),L22,"y") -> 29 | G22: =IF(F22<=20,"<=20",IF(F22<=30,"21/30",IF(F22<=40,"31/40",IF(F22<=50,"41/50",IF(F22<=60,"51/60",IF(F22>60,"61 et plus",FALSE)))))) -> 21/30 | H22: =DATEDIF((VLOOKUP(A22,'[1]BDD RH'!$A$2:$W$485,11,FALSE)),L22,"y") -> 8 | I22: =IF(H22<2,"<2",IF(H22<6,"2/5",IF(H22<11,"6/10",IF(H22<16,"11/15",IF(H22<21,"16/20",IF(H22<26,"21/25",IF(H22>25,"26 et plus",FALSE))))))) -> 6/10 | J22: ACE01 | K22: =IF($N$19:$N$585<=3,1,IF($N$19:$N$585<=6,2,IF($N$19:$N$585<=9,3,IF($N$19:$N$585>9,4,FALSE)))) -> 1 | L22: 42376 | M22: 42408 | N22: =MONTH(L22) -> 1 | O22: =MONTH(M22) -> 2 | P22: =IF(O22-N22=0,NETWORKDAYS(L22,M22,[1]Congés!$D$2:$D$26),NETWORKDAYS(L22,EOMONTH(L22,0),[1]Congés!$D$2:$D$26)) -> 17 | Q22: =IF(O22-N22=0,0,IF(O22-N22=1,NETWORKDAYS(L22,M22,[1]Congés!$D$2:$D$160)-P22,IF(O22-N22=2,NETWORKDAYS(L22,EOMONTH(L22,1),[1]Congés!$D$2:$D$160)-P22,IF(O22-N22=3,NETWORKDAYS(L22,EOMONTH(L22,1),[1]Congés!$D$2:$D$160)-P22)))) -> 6 | R22: =IF(O22-N22<2,0,IF(O22-N22=2,NETWORKDAYS(L22,M22,[1]Congés!$D$2:$D$160)-Q22-P22,IF(O22-N22=3,NETWORKDAYS(L22,EOMONTH(L22,2),[1]Congés!$D$2:$D$160)-Q22-P22))) -> 0 | S22: =IF(O22-N22<3,0,NETWORKDAYS(L22,M22,[1]Congés!$D$2:$D$160)-R22-Q22-P22) -> 0 | T22: =NETWORKDAYS(L22,M22,[1]Congés!C$2:C$160) -> 23 | U22: Arrêt Maladie | V22: 42376 | W22: =IF(T22<3,"1) 1 à 2 jours",IF(T22<5,"2) 3 à 4 jours",IF(T22=5,"3) 5 jours",IF(T22<=10,"4) 6 à 10 jours",IF(T22>10,"5) plus de 10 jours"))))) -> 5) plus de 10 jours | X22: prol | Z22: =M22-L22+1 -> 33
A23: 17354 | C23: =VLOOKUP(A23,'[1]BDD RH'!$A$9:$W$453,16,FALSE) -> Courchevel | D23: =VLOOKUP(A23,'[1]BDD RH'!$A$9:$W$453,4,FALSE) -> t | E23: =VLOOKUP(A23,'[1]BDD RH'!$A$9:$W$453,3,FALSE) -> F | F23: =DATEDIF((VLOOKUP(A23,'[1]BDD RH'!$A$2:$W$485,7,FALSE)),L23,"y") -> 29 | G23: =IF(F23<=20,"<=20",IF(F23<=30,"21/30",IF(F23<=40,"31/40",IF(F23<=50,"41/50",IF(F23<=60,"51/60",IF(F23>60,"61 et plus",FALSE)))))) -> 21/30 | H23: =DATEDIF((VLOOKUP(A23,'[1]BDD RH'!$A$2:$W$485,11,FALSE)),L23,"y") -> 8 | I23: =IF(H23<2,"<2",IF(H23<6,"2/5",IF(H23<11,"6/10",IF(H23<16,"11/15",IF(H23<21,"16/20",IF(H23<26,"21/25",IF(H23>25,"26 et plus",FALSE))))))) -> 6/10 | J23: ACE01 | K23: =IF($N$19:$N$585<=3,1,IF($N$19:$N$585<=6,2,IF($N$19:$N$585<=9,3,IF($N$19:$N$585>9,4,FALSE)))) -> 1 | L23: 42409 | M23: 42422 | N23: =MONTH(L23) -> 2 | O23: =MONTH(M23) -> 2 | P23: =IF(O23-N23=0,NETWORKDAYS(L23,M23,[1]Congés!$D$2:$D$26),NETWORKDAYS(L23,EOMONTH(L23,0),[1]Congés!$D$2:$D$26)) -> 10 | Q23: =IF(O23-N23=0,0,IF(O23-N23=1,NETWORKDAYS(L23,M23,[1]Congés!$D$2:$D$160)-P23,IF(O23-N23=2,NETWORKDAYS(L23,EOMONTH(L23,1),[1]Congés!$D$2:$D$160)-P23,IF(O23-N23=3,NETWORKDAYS(L23,EOMONTH(L23,1),[1]Congés!$D$2:$D$160)-P23)))) -> 0 | R23: =IF(O23-N23<2,0,IF(O23-N23=2,NETWORKDAYS(L23,M23,[1]Congés!$D$2:$D$160)-Q23-P23,IF(O23-N23=3,NETWORKDAYS(L23,EOMONTH(L23,2),[1]Congés!$D$2:$D$160)-Q23-P23))) -> 0 | S23: =IF(O23-N23<3,0,NETWORKDAYS(L23,M23,[1]Congés!$D$2:$D$160)-R23-Q23-P23) -> 0 | T23: =NETWORKDAYS(L23,M23,[1]Congés!C$2:C$160) -> 10 | U23: Arrêt Maladie | V23: 42376 | W23: =IF(T23<3,"1) 1 à 2 jours",IF(T23<5,"2) 3 à 4 jours",IF(T23=5,"3) 5 jours",IF(T23<=10,"4) 6 à 10 jours",IF(T23>10,"5) plus de 10 jours"))))) -> 4) 6 à 10 jours | X23: vm à prévoir | Z23: =M23-L23+1 -> 14
A24: 11205 | C24: =VLOOKUP(A24,'[1]BDD RH'!$A$9:$W$453,16,FALSE) -> Gulliver | D24: =VLOOKUP(A24,'[1]BDD RH'!$A$9:$W$453,4,FALSE) -> t | E24: =VLOOKUP(A24,'[1]BDD RH'!$A$9:$W$453,3,FALSE) -> F | F24: =DATEDIF((VLOOKUP(A24,'[1]BDD RH'!$A$2:$W$485,7,FALSE)),L24,"y") -> 32 | G24: =IF(F24<=20,"<=20",IF(F24<=30,"21/30",IF(F24<=40,"31/40",IF(F24<=50,"41/50",IF(F24<=60,"51/60",IF(F24>60,"61 et plus",FALSE)))))) -> 31/40 | H24: =DATEDIF((VLOOKUP(A24,'[1]BDD RH'!$A$2:$W$485,11,FALSE)),L24,"y") -> 13 | I24: =IF(H24<2,"<2",IF(H24<6,"2/5",IF(H24<11,"6/10",IF(H24<16,"11/15",IF(H24<21,"16/20",IF(H24<26,"21/25",IF(H24>25,"26 et plus",FALSE))))))) -> 11/15 | J24: ALD01 | K24: =IF($N$19:$N$585<=3,1,IF($N$19:$N$585<=6,2,IF($N$19:$N$585<=9,3,IF($N$19:$N$585>9,4,FALSE)))) -> 1 | L24: 42444 | M24: 42449 | N24: =MONTH(L24) -> 3 | O24: =MONTH(M24) -> 3 | P24: =IF(O24-N24=0,NETWORKDAYS(L24,M24,[1]Congés!$D$2:$D$26),NETWORKDAYS(L24,EOMONTH(L24,0),[1]Congés!$D$2:$D$26)) -> 4 | Q24: =IF(O24-N24=0,0,IF(O24-N24=1,NETWORKDAYS(L24,M24,[1]Congés!$D$2:$D$160)-P24,IF(O24-N24=2,NETWORKDAYS(L24,EOMONTH(L24,1),[1]Congés!$D$2:$D$160)-P24,IF(O24-N24=3,NETWORKDAYS(L24,EOMONTH(L24,1),[1]Congés!$D$2:$D$160)-P24)))) -> 0 | R24: =IF(O24-N24<2,0,IF(O24-N24=2,NETWORKDAYS(L24,M24,[1]Congés!$D$2:$D$160)-Q24-P24,IF(O24-N24=3,NETWORKDAYS(L24,EOMONTH(L24,2),[1]Congés!$D$2:$D$160)-Q24-P24))) -> 0 | S24: =IF(O24-N24<3,0,NETWORKDAYS(L24,M24,[1]Congés!$D$2:$D$160)-R24-Q24-P24) -> 0 | T24: =NETWORKDAYS(L24,M24,[1]Congés!C$2:C$160) -> 4 | U24: Arrêt Maladie | V24: 42444 | W24: =IF(T24<3,"1) 1 à 2 jours",IF(T24<5,"2) 3 à 4 jours",IF(T24=5,"3) 5 jours",IF(T24<=10,"4) 6 à 10 jours",IF(T24>10,"5) plus de 10 jours"))))) -> 2) 3 à 4 jours | X24: prol | Z24: =M24-L24+1 -> 6
A25: 11205 | C25: =VLOOKUP(A25,'[1]BDD RH'!$A$9:$W$453,16,FALSE) -> Gulliver | D25: =VLOOKUP(A25,'[1]BDD RH'!$A$9:$W$453,4,FALSE) -> t | E25: =VLOOKUP(A25,'[1]BDD RH'!$A$9:$W$453,3,FALSE) -> F | F25: =DATEDIF((VLOOKUP(A25,'[1]BDD RH'!$A$2:$W$485,7,FALSE)),L25,"y") -> 32 | G25: =IF(F25<=20,"<=20",IF(F25<=30,"21/30",IF(F25<=40,"31/40",IF(F25<=50,"41/50",IF(F25<=60,"51/60",IF(F25>60,"61 et plus",FALSE)))))) -> 31/40 | H25: =DATEDIF((VLOOKUP(A25,'[1]BDD RH'!$A$2:$W$485,11,FALSE)),L25,"y") -> 13 | I25: =IF(H25<2,"<2",IF(H25<6,"2/5",IF(H25<11,"6/10",IF(H25<16,"11/15",IF(H25<21,"16/20",IF(H25<26,"21/25",IF(H25>25,"26 et plus",FALSE))))))) -> 11/15 | K25: =IF($N$19:$N$585<=3,1,IF($N$19:$N$585<=6,2,IF($N$19:$N$585<=9,3,IF($N$19:$N$585>9,4,FALSE)))) -> 1 | L25: 42450 | M25: 42456 | N25: =MONTH(L25) -> 3 | O25: =MONTH(M25) -> 3 | P25: =IF(O25-N25=0,NETWORKDAYS(L25,M25,[1]Congés!$D$2:$D$26),NETWORKDAYS(L25,EOMONTH(L25,0),[1]Congés!$D$2:$D$26)) -> 5 | Q25: =IF(O25-N25=0,0,IF(O25-N25=1,NETWORKDAYS(L25,M25,[1]Congés!$D$2:$D$160)-P25,IF(O25-N25=2,NETWORKDAYS(L25,EOMONTH(L25,1),[1]Congés!$D$2:$D$160)-P25,IF(O25-N25=3,NETWORKDAYS(L25,EOMONTH(L25,1),[1]Congés!$D$2:$D$160)-P25)))) -> 0 | R25: =IF(O25-N25<2,0,IF(O25-N25=2,NETWORKDAYS(L25,M25,[1]Congés!$D$2:$D$160)-Q25-P25,IF(O25-N25=3,NETWORKDAYS(L25,EOMONTH(L25,2),[1]Congés!$D$2:$D$160)-Q25-P25))) -> 0 | S25: =IF(O25-N25<3,0,NETWORKDAYS(L25,M25,[1]Congés!$D$2:$D$160)-R25-Q25-P25) -> 0 | T25: =NETWORKDAYS(L25,M25,[1]Congés!C$2:C$160) -> 5 | U25: Arrêt Maladie | V25: 42444 | W25: =IF(T25<3,"1) 1 à 2 jours",IF(T25<5,"2) 3 à 4 jours",IF(T25=5,"3) 5 jours",IF(T25<=10,"4) 6 à 10 jours",IF(T25>10,"5) plus de 10 jours"))))) -> 3) 5 jours | X25: * | Z25: =M25-L25+1 -> 7
A26: 4300 | C26: =VLOOKUP(A26,'[1]BDD RH'!$A$9:$W$453,16,FALSE) -> GEODIS | D26: =VLOOKUP(A26,'[1]BDD RH'!$A$9:$W$453,4,FALSE) -> s | E26: =VLOOKUP(A26,'[1]BDD RH'!$A$9:$W$453,3,FALSE) -> F | F26: =DATEDIF((VLOOKUP(A26,'[1]BDD RH'!$A$2:$W$485,7,FALSE)),L26,"y") -> 46 | G26: =IF(F26<=20,"<=20",IF(F26<=30,"21/30",IF(F26<=40,"31/40",IF(F26<=50,"41/50",IF(F26<=60,"51/60",IF(F26>60,"61 et plus",FALSE)))))) -> 41/50 | H26: =DATEDIF((VLOOKUP(A26,'[1]BDD RH'!$A$2:$W$485,11,FALSE)),L26,"y") -> 24 | I26: =IF(H26<2,"<2",IF(H26<6,"2/5",IF(H26<11,"6/10",IF(H26<16,"11/15",IF(H26<21,"16/20",IF(H26<26,"21/25",IF(H26>25,"26 et plus",FALSE))))))) -> 21/25 | J26: ALM01 | K26: =IF($N$19:$N$585<=3,1,IF($N$19:$N$585<=6,2,IF($N$19:$N$585<=9,3,IF($N$19:$N$585>9,4,FALSE)))) -> 1 | L26: 42370 | M26: 42380 | N26: =MONTH(L26) -> 1 | O26: =MONTH(M26) -> 1 | P26: =IF(O26-N26=0,NETWORKDAYS(L26,M26,[1]Congés!$D$2:$D$26),NETWORKDAYS(L26,EOMONTH(L26,0),[1]Congés!$D$2:$D$26)) -> 7 | Q26: =IF(O26-N26=0,0,IF(O26-N26=1,NETWORKDAYS(L26,M26,[1]Congés!$D$2:$D$160)-P26,IF(O26-N26=2,NETWORKDAYS(L26,EOMONTH(L26,1),[1]Congés!$D$2:$D$160)-P26,IF(O26-N26=3,NETWORKDAYS(L26,EOMONTH(L26,1),[1]Congés!$D$2:$D$160)-P26)))) -> 0 | R26: =IF(O26-N26<2,0,IF(O26-N26=2,NETWORKDAYS(L26,M26,[1]Congés!$D$2:$D$160)-Q26-P26,IF(O26-N26=3,NETWORKDAYS(L26,EOMONTH(L26,2),[1]Congés!$D$2:$D$160)-Q26-P26))) -> 0 | S26: =IF(O26-N26<3,0,NETWORKDAYS(L26,M26,[1]Congés!$D$2:$D$160)-R26-Q26-P26) -> 0 | T26: =NETWORKDAYS(L26,M26,[1]Congés!C$2:C$160) -> 6 | U26: LM | V26: 42032 | W26: =IF(T26<3,"1) 1 à 2 jours",IF(T26<5,"2) 3 à 4 jours",IF(T26=5,"3) 5 jours",IF(T26<=10,"4) 6 à 10 jours",IF(T26>10,"5) plus de 10 jours"))))) -> 4) 6 à 10 jours | X26: prol | Z26: =M26-L26+1 -> 11
A27: 4300 | C27: =VLOOKUP(A27,'[1]BDD RH'!$A$9:$W$453,16,FALSE) -> GEODIS | D27: =VLOOKUP(A27,'[1]BDD RH'!$A$9:$W$453,4,FALSE) -> s | E27: =VLOOKUP(A27,'[1]BDD RH'!$A$9:$W$453,3,FALSE) -> F | F27: =DATEDIF((VLOOKUP(A27,'[1]BDD RH'!$A$2:$W$485,7,FALSE)),L27,"y") -> 46 | G27: =IF(F27<=20,"<=20",IF(F27<=30,"21/30",IF(F27<=40,"31/40",IF(F27<=50,"41/50",IF(F27<=60,"51/60",IF(F27>60,"61 et plus",FALSE)))))) -> 41/50 | H27: =DATEDIF((VLOOKUP(A27,'[1]BDD RH'!$A$2:$W$485,11,FALSE)),L27,"y") -> 24 | I27: =IF(H27<2,"<2",IF(H27<6,"2/5",IF(H27<11,"6/10",IF(H27<16,"11/15",IF(H27<21,"16/20",IF(H27<26,"21/25",IF(H27>25,"26 et plus",FALSE))))))) -> 21/25 | J27: ALM01 | K27: =IF($N$19:$N$585<=3,1,IF($N$19:$N$585<=6,2,IF($N$19:$N$585<=9,3,IF($N$19:$N$585>9,4,FALSE)))) -> 1 | L27: 42381 | M27: 42464 | N27: =MONTH(L27) -> 1 | O27: =MONTH(M27) -> 4 | P27: =IF(O27-N27=0,NETWORKDAYS(L27,M27,[1]Congés!$D$2:$D$26),NETWORKDAYS(L27,EOMONTH(L27,0),[1]Congés!$D$2:$D$26)) -> 14 | Q27: =IF(O27-N27=0,0,IF(O27-N27=1,NETWORKDAYS(L27,M27,[1]Congés!$D$2:$D$160)-P27,IF(O27-N27=2,NETWORKDAYS(L27,EOMONTH(L27,1),[1]Congés!$D$2:$D$160)-P27,IF(O27-N27=3,NETWORKDAYS(L27,EOMONTH(L27,1),[1]Congés!$D$2:$D$160)-P27)))) -> 21 | R27: =IF(O27-N27<2,0,IF(O27-N27=2,NETWORKDAYS(L27,M27,[1]Congés!$D$2:$D$160)-Q27-P27,IF(O27-N27=3,NETWORKDAYS(L27,EOMONTH(L27,2),[1]Congés!$D$2:$D$160)-Q27-P27))) -> 23 | S27: =IF(O27-N27<3,0,NETWORKDAYS(L27,M27,[1]Congés!$D$2:$D$160)-R27-Q27-P27) -> 2 | T27: =NETWORKDAYS(L27,M27,[1]Congés!C$2:C$160) -> 59 | U27: LM | V27: 42032 | W27: =IF(T27<3,"1) 1 à 2 jours",IF(T27<5,"2) 3 à 4 jours",IF(T27=5,"3) 5 jours",IF(T27<=10,"4) 6 à 10 jours",IF(T27>10,"5) plus de 10 jours"))))) -> 5) plus de 10 jours | X27: prol | Z27: =M27-L27+1 -> 84
A28: 4300 | C28: =VLOOKUP(A28,'[1]BDD RH'!$A$9:$W$453,16,FALSE) -> GEODIS | D28: =VLOOKUP(A28,'[1]BDD RH'!$A$9:$W$453,4,FALSE) -> s | E28: =VLOOKUP(A28,'[1]BDD RH'!$A$9:$W$453,3,FALSE) -> F | F28: =DATEDIF((VLOOKUP(A28,'[1]BDD RH'!$A$2:$W$485,7,FALSE)),L28,"y") -> 46 | G28: =IF(F28<=20,"<=20",IF(F28<=30,"21/30",IF(F28<=40,"31/40",IF(F28<=50,"41/50",IF(F28<=60,"51/60",IF(F28>60,"61 et plus",FALSE)))))) -> 41/50 | H28: =DATEDIF((VLOOKUP(A28,'[1]BDD RH'!$A$2:$W$485,11,FALSE)),L28,"y") -> 25 | I28: =IF(H28<2,"<2",IF(H28<6,"2/5",IF(H28<11,"6/10",IF(H28<16,"11/15",IF(H28<21,"16/20",IF(H28<26,"21/25",IF(H28>25,"26 et plus",FALSE))))))) -> 21/25 | J28: ALM01 | K28: =IF($N$19:$N$585<=3,1,IF($N$19:$N$585<=6,2,IF($N$19:$N$585<=9,3,IF($N$19:$N$585>9,4,FALSE)))) -> 2 | L28: 42465 | M28: 42496 | N28: =MONTH(L28) -> 4 | O28: =MONTH(M28) -> 5 | P28: =IF(O28-N28=0,NETWORKDAYS(L28,M28,[1]Congés!$D$2:$D$26),NETWORKDAYS(L28,EOMONTH(L28,0),[1]Congés!$D$2:$D$26)) -> 19 | Q28: =IF(O28-N28=0,0,IF(O28-N28=1,NETWORKDAYS(L28,M28,[1]Congés!$D$2:$D$160)-P28,IF(O28-N28=2,NETWORKDAYS(L28,EOMONTH(L28,1),[1]Congés!$D$2:$D$160)-P28,IF(O28-N28=3,NETWORKDAYS(L28,EOMONTH(L28,1),[1]Congés!$D$2:$D$160)-P28)))) -> 5 | R28: =IF(O28-N28<2,0,IF(O28-N28=2,NETWORKDAYS(L28,M28,[1]Congés!$D$2:$D$160)-Q28-P28,IF(O28-N28=3,NETWORKDAYS(L28,EOMONTH(L28,2),[1]Congés!$D$2:$D$160)-Q28-P28))) -> 0 | S28: =IF(O28-N28<3,0,NETWORKDAYS(L28,M28,[1]Congés!$D$2:$D$160)-R28-Q28-P28) -> 0 | T28: =NETWORKDAYS(L28,M28,[1]Congés!C$2:C$160) -> 22 | U28: LM | V28: 42032 | W28: =IF(T28<3,"1) 1 à 2 jours",IF(T28<5,"2) 3 à 4 jours",IF(T28=5,"3) 5 jours",IF(T28<=10,"4) 6 à 10 jours",IF(T28>10,"5) plus de 10 jours"))))) -> 5) plus de 10 jours | X28: prol | Z28: =M28-L28+1 -> 32
A29: 4300 | C29: =VLOOKUP(A29,'[1]BDD RH'!$A$9:$W$453,16,FALSE) -> GEODIS | D29: =VLOOKUP(A29,'[1]BDD RH'!$A$9:$W$453,4,FALSE) -> s | E29: =VLOOKUP(A29,'[1]BDD RH'!$A$9:$W$453,3,FALSE) -> F | F29: =DATEDIF((VLOOKUP(A29,'[1]BDD RH'!$A$2:$W$485,7,FALSE)),L29,"y") -> 46 | G29: =IF(F29<=20,"<=20",IF(F29<=30,"21/30",IF(F29<=40,"31/40",IF(F29<=50,"41/50",IF(F29<=60,"51/60",IF(F29>60,"61 et plus",FALSE)))))) -> 41/50 | H29: =DATEDIF((VLOOKUP(A29,'[1]BDD RH'!$A$2:$W$485,11,FALSE)),L29,"y") -> 25 | I29: =IF(H29<2,"<2",IF(H29<6,"2/5",IF(H29<11,"6/10",IF(H29<16,"11/15",IF(H29<21,"16/20",IF(H29<26,"21/25",IF(H29>25,"26 et plus",FALSE))))))) -> 21/25 | J29: ALM01 | K29: =IF($N$19:$N$585<=3,1,IF($N$19:$N$585<=6,2,IF($N$19:$N$585<=9,3,IF($N$19:$N$585>9,4,FALSE)))) -> 2 | L29: 42497 | M29: 42588 | N29: =MONTH(L29) -> 5 | O29: =MONTH(M29) -> 8 | P29: =IF(O29-N29=0,NETWORKDAYS(L29,M29,[1]Congés!$D$2:$D$26),NETWORKDAYS(L29,EOMONTH(L29,0),[1]Congés!$D$2:$D$26)) -> 17 | Q29: =IF(O29-N29=0,0,IF(O29-N29=1,NETWORKDAYS(L29,M29,[1]Congés!$D$2:$D$160)-P29,IF(O29-N29=2,NETWORKDAYS(L29,EOMONTH(L29,1),[1]Congés!$D$2:$D$160)-P29,IF(O29-N29=3,NETWORKDAYS(L29,EOMONTH(L29,1),[1]Congés!$D$2:$D$160)-P29)))) -> 22 | R29: =IF(O29-N29<2,0,IF(O29-N29=2,NETWORKDAYS(L29,M29,[1]Congés!$D$2:$D$160)-Q29-P29,IF(O29-N29=3,NETWORKDAYS(L29,EOMONTH(L29,2),[1]Congés!$D$2:$D$160)-Q29-P29))) -> 21 | S29: =IF(O29-N29<3,0,NETWORKDAYS(L29,M29,[1]Congés!$D$2:$D$160)-R29-Q29-P29) -> 5 | T29: =NETWORKDAYS(L29,M29,[1]Congés!C$2:C$160) -> 57 | U29: LM | V29: 42032 | W29: =IF(T29<3,"1) 1 à 2 jours",IF(T29<5,"2) 3 à 4 jours",IF(T29=5,"3) 5 jours",IF(T29<=10,"4) 6 à 10 jours",IF(T29>10,"5) plus de 10 jours"))))) -> 5) plus de 10 jours | X29: prol | Z29: =M29-L29+1 -> 92
A30: 4300 | C30: =VLOOKUP(A30,'[1]BDD RH'!$A$9:$W$453,16,FALSE) -> GEODIS | D30: =VLOOKUP(A30,'[1]BDD RH'!$A$9:$W$453,4,FALSE) -> s | E30: =VLOOKUP(A30,'[1]BDD RH'!$A$9:$W$453,3,FALSE) -> F | F30: =DATEDIF((VLOOKUP(A30,'[1]BDD RH'!$A$2:$W$485,7,FALSE)),L30,"y") -> 46 | G30: =IF(F30<=20,"<=20",IF(F30<=30,"21/30",IF(F30<=40,"31/40",IF(F30<=50,"41/50",IF(F30<=60,"51/60",IF(F30>60,"61 et plus",FALSE)))))) -> 41/50 | H30: =DATEDIF((VLOOKUP(A30,'[1]BDD RH'!$A$2:$W$485,11,FALSE)),L30,"y") -> 25 | I30: =IF(H30<2,"<2",IF(H30<6,"2/5",IF(H30<11,"6/10",IF(H30<16,"11/15",IF(H30<21,"16/20",IF(H30<26,"21/25",IF(H30>25,"26 et plus",FALSE))))))) -> 21/25 | J30: ALM01 | K30: =IF($N$19:$N$585<=3,1,IF($N$19:$N$585<=6,2,IF($N$19:$N$585<=9,3,IF($N$19:$N$585>9,4,FALSE)))) -> 3 | L30: 42589 | M30: 42617 | N30: =MONTH(L30) -> 8 | O30: =MONTH(M30) -> 9 | P30: =IF(O30-N30=0,NETWORKDAYS(L30,M30,[1]Congés!$D$2:$D$26),NETWORKDAYS(L30,EOMONTH(L30,0),[1]Congés!$D$2:$D$26)) -> 18 | Q30: =IF(O30-N30=0,0,IF(O30-N30=1,NETWORKDAYS(L30,M30,[1]Congés!$D$2:$D$160)-P30,IF(O30-N30=2,NETWORKDAYS(L30,EOMONTH(L30,1),[1]Congés!$D$2:$D$160)-P30,IF(O30-N30=3,NETWORKDAYS(L30,EOMONTH(L30,1),[1]Congés!$D$2:$D$160)-P30)))) -> 2 | R30: =IF(O30-N30<2,0,IF(O30-N30=2,NETWORKDAYS(L30,M30,[1]Congés!$D$2:$D$160)-Q30-P30,IF(O30-N30=3,NETWORKDAYS(L30,EOMONTH(L30,2),[1]Congés!$D$2:$D$160)-Q30-P30))) -> 0 | S30: =IF(O30-N30<3,0,NETWORKDAYS(L30,M30,[1]Congés!$D$2:$D$160)-R30-Q30-P30) -> 0 | T30: =NETWORKDAYS(L30,M30,[1]Congés!C$2:C$160) -> 10 | U30: LM | V30: 42032 | W30: =IF(T30<3,"1) 1 à 2 jours",IF(T30<5,"2) 3 à 4 jours",IF(T30=5,"3) 5 jours",IF(T30<=10,"4) 6 à 10 jours",IF(T30>10,"5) plus de 10 jours"))))) -> 4) 6 à 10 jours | X30: vm à prévoir | Z30: =M30-L30+1 -> 29
A31: 18326 | C31: =VLOOKUP(A31,'[1]BDD RH'!$A$9:$W$453,16,FALSE) -> LOG | D31: =VLOOKUP(A31,'[1]BDD RH'!$A$9:$W$453,4,FALSE) -> c | E31: =VLOOKUP(A31,'[1]BDD RH'!$A$9:$W$453,3,FALSE) -> H | F31: =DATEDIF((VLOOKUP(A31,'[1]BDD RH'!$A$2:$W$485,7,FALSE)),L31,"y") -> 37 | G31: =IF(F31<=20,"<=20",IF(F31<=30,"21/30",IF(F31<=40,"31/40",IF(F31<=50,"41/50",IF(F31<=60,"51/60",IF(F31>60,"61 et plus",FALSE)))))) -> 31/40 | H31: =DATEDIF((VLOOKUP(A31,'[1]BDD RH'!$A$2:$W$485,11,FALSE)),L31,"y") -> 7 | I31: =IF(H31<2,"<2",IF(H31<6,"2/5",IF(H31<11,"6/10",IF(H31<16,"11/15",IF(H31<21,"16/20",IF(H31<26,"21/25",IF(H31>25,"26 et plus",FALSE))))))) -> 6/10 | J31: AMT01 | K31: =IF($N$19:$N$585<=3,1,IF($N$19:$N$585<=6,2,IF($N$19:$N$585<=9,3,IF($N$19:$N$585>9,4,FALSE)))) -> 2 | L31: 42471 | M31: 42473 | N31: =MONTH(L31) -> 4 | O31: =MONTH(M31) -> 4 | P31: =IF(O31-N31=0,NETWORKDAYS(L31,M31,[1]Congés!$D$2:$D$26),NETWORKDAYS(L31,EOMONTH(L31,0),[1]Congés!$D$2:$D$26)) -> 3 | Q31: =IF(O31-N31=0,0,IF(O31-N31=1,NETWORKDAYS(L31,M31,[1]Congés!$D$2:$D$160)-P31,IF(O31-N31=2,NETWORKDAYS(L31,EOMONTH(L31,1),[1]Congés!$D$2:$D$160)-P31,IF(O31-N31=3,NETWORKDAYS(L31,EOMONTH(L31,1),[1]Congés!$D$2:$D$160)-P31)))) -> 0 | R31: =IF(O31-N31<2,0,IF(O31-N31=2,NETWORKDAYS(L31,M31,[1]Congés!$D$2:$D$160)-Q31-P31,IF(O31-N31=3,NETWORKDAYS(L31,EOMONTH(L31,2),[1]Congés!$D$2:$D$160)-Q31-P31))) -> 0 | S31: =IF(O31-N31<3,0,NETWORKDAYS(L31,M31,[1]Congés!$D$2:$D$160)-R31-Q31-P31) -> 0 | T31: =NETWORKDAYS(L31,M31,[1]Congés!C$2:C$160) -> 3 | U31: Arrêt Maladie | W31: =IF(T31<3,"1) 1 à 2 jours",IF(T31<5,"2) 3 à 4 jours",IF(T31=5,"3) 5 jours",IF(T31<=10,"4) 6 à 10 jours",IF(T31>10,"5) plus de 10 jours"))))) -> 2) 3 à 4 jours | X31: * | Z31: =M31-L31+1 -> 3
A32: 20944 | C32: =VLOOKUP(A32,'[1]BDD RH'!$A$9:$W$453,16,FALSE) -> Evercalf | D32: =VLOOKUP(A32,'[1]BDD RH'!$A$9:$W$453,4,FALSE) -> t | E32: =VLOOKUP(A32,'[1]BDD RH'!$A$9:$W$453,3,FALSE) -> F | F32: =DATEDIF((VLOOKUP(A32,'[1]BDD RH'!$A$2:$W$485,7,FALSE)),L32,"y") -> 25 | G32: =IF(F32<=20,"<=20",IF(F32<=30,"21/30",IF(F32<=40,"31/40",IF(F32<=50,"41/50",IF(F32<=60,"51/60",IF(F32>60,"61 et plus",FALSE)))))) -> 21/30 | H32: =DATEDIF((VLOOKUP(A32,'[1]BDD RH'!$A$2:$W$485,11,FALSE)),L32,"y") -> 4 | I32: =IF(H32<2,"<2",IF(H32<6,"2/5",IF(H32<11,"6/10",IF(H32<16,"11/15",IF(H32<21,"16/20",IF(H32<26,"21/25",IF(H32>25,"26 et plus",FALSE))))))) -> 2/5 | J32: AML01 | K32: =IF($N$19:$N$585<=3,1,IF($N$19:$N$585<=6,2,IF($N$19:$N$585<=9,3,IF($N$19:$N$585>9,4,FALSE)))) -> 1 | L32: 42381 | M32: 42382 | N32: =MONTH(L32) -> 1 | O32: =MONTH(M32) -> 1 | P32: =IF(O32-N32=0,NETWORKDAYS(L32,M32,[1]Congés!$D$2:$D$26),NETWORKDAYS(L32,EOMONTH(L32,0),[1]Congés!$D$2:$D$26)) -> 2 | Q32: =IF(O32-N32=0,0,IF(O32-N32=1,NETWORKDAYS(L32,M32,[1]Congés!$D$2:$D$160)-P32,IF(O32-N32=2,NETWORKDAYS(L32,EOMONTH(L32,1),[1]Congés!$D$2:$D$160)-P32,IF(O32-N32=3,NETWORKDAYS(L32,EOMONTH(L32,1),[1]Congés!$D$2:$D$160)-P32)))) -> 0 | R32: =IF(O32-N32<2,0,IF(O32-N32=2,NETWORKDAYS(L32,M32,[1]Congés!$D$2:$D$160)-Q32-P32,IF(O32-N32=3,NETWORKDAYS(L32,EOMONTH(L32,2),[1]Congés!$D$2:$D$160)-Q32-P32))) -> 0 | S32: =IF(O32-N32<3,0,NETWORKDAYS(L32,M32,[1]Congés!$D$2:$D$160)-R32-Q32-P32) -> 0 | T32: =NETWORKDAYS(L32,M32,[1]Congés!C$2:C$160) -> 2 | U32: Arrêt Maladie | V32: 42381 | W32: =IF(T32<3,"1) 1 à 2 jours",IF(T32<5,"2) 3 à 4 jours",IF(T32=5,"3) 5 jours",IF(T32<=10,"4) 6 à 10 jours",IF(T32>10,"5) plus de 10 jours"))))) -> 1) 1 à 2 jours | X32: prol | Z32: =M32-L32+1 -> 2
A33: 20944 | C33: =VLOOKUP(A33,'[1]BDD RH'!$A$9:$W$453,16,FALSE) -> Evercalf | D33: =VLOOKUP(A33,'[1]BDD RH'!$A$9:$W$453,4,FALSE) -> t | E33: =VLOOKUP(A33,'[1]BDD RH'!$A$9:$W$453,3,FALSE) -> F | F33: =DATEDIF((VLOOKUP(A33,'[1]BDD RH'!$A$2:$W$485,7,FALSE)),L33,"y") -> 25 | G33: =IF(F33<=20,"<=20",IF(F33<=30,"21/30",IF(F33<=40,"31/40",IF(F33<=50,"41/50",IF(F33<=60,"51/60",IF(F33>60,"61 et plus",FALSE)))))) -> 21/30 | H33: =DATEDIF((VLOOKUP(A33,'[1]BDD RH'!$A$2:$W$485,11,FALSE)),L33,"y") -> 4 | I33: =IF(H33<2,"<2",IF(H33<6,"2/5",IF(H33<11,"6/10",IF(H33<16,"11/15",IF(H33<21,"16/20",IF(H33<26,"21/25",IF(H33>25,"26 et plus",FALSE))))))) -> 2/5 | J33: AML01 | K33: =IF($N$19:$N$585<=3,1,IF($N$19:$N$585<=6,2,IF($N$19:$N$585<=9,3,IF($N$19:$N$585>9,4,FALSE)))) -> 1 | L33: 42383 | M33: 42384 | N33: =MONTH(L33) -> 1 | O33: =MONTH(M33) -> 1 | P33: =IF(O33-N33=0,NETWORKDAYS(L33,M33,[1]Congés!$D$2:$D$26),NETWORKDAYS(L33,EOMONTH(L33,0),[1]Congés!$D$2:$D$26)) -> 2 | Q33: =IF(O33-N33=0,0,IF(O33-N33=1,NETWORKDAYS(L33,M33,[1]Congés!$D$2:$D$160)-P33,IF(O33-N33=2,NETWORKDAYS(L33,EOMONTH(L33,1),[1]Congés!$D$2:$D$160)-P33,IF(O33-N33=3,NETWORKDAYS(L33,EOMONTH(L33,1),[1]Congés!$D$2:$D$160)-P33)))) -> 0 | R33: =IF(O33-N33<2,0,IF(O33-N33=2,NETWORKDAYS(L33,M33,[1]Congés!$D$2:$D$160)-Q33-P33,IF(O33-N33=3,NETWORKDAYS(L33,EOMONTH(L33,2),[1]Congés!$D$2:$D$160)-Q33-P33))) -> 0 | S33: =IF(O33-N33<3,0,NETWORKDAYS(L33,M33,[1]Congés!$D$2:$D$160)-R33-Q33-P33) -> 0 | T33: =NETWORKDAYS(L33,M33,[1]Congés!C$2:C$160) -> 2 | U33: Arrêt Maladie | V33: 42381 | W33: =IF(T33<3,"1) 1 à 2 jours",IF(T33<5,"2) 3 à 4 jours",IF(T33=5,"3) 5 jours",IF(T33<=10,"4) 6 à 10 jours",IF(T33>10,"5) plus de 10 jours"))))) -> 1) 1 à 2 jours | X33: * | Z33: =M33-L33+1 -> 2
A34: 20944 | C34: =VLOOKUP(A34,'[1]BDD RH'!$A$9:$W$453,16,FALSE) -> Evercalf | D34: =VLOOKUP(A34,'[1]BDD RH'!$A$9:$W$453,4,FALSE) -> t | E34: =VLOOKUP(A34,'[1]BDD RH'!$A$9:$W$453,3,FALSE) -> F | F34: =DATEDIF((VLOOKUP(A34,'[1]BDD RH'!$A$2:$W$485,7,FALSE)),L34,"y") -> 26 | G34: =IF(F34<=20,"<=20",IF(F34<=30,"21/30",IF(F34<=40,"31/40",IF(F34<=50,"41/50",IF(F34<=60,"51/60",IF(F34>60,"61 et plus",FALSE)))))) -> 21/30 | H34: =DATEDIF((VLOOKUP(A34,'[1]BDD RH'!$A$2:$W$485,11,FALSE)),L34,"y") -> 4 | I34: =IF(H34<2,"<2",IF(H34<6,"2/5",IF(H34<11,"6/10",IF(H34<16,"11/15",IF(H34<21,"16/20",IF(H34<26,"21/25",IF(H34>25,"26 et plus",FALSE))))))) -> 2/5 | J34: AML02 | K34: =IF($N$19:$N$585<=3,1,IF($N$19:$N$585<=6,2,IF($N$19:$N$585<=9,3,IF($N$19:$N$585>9,4,FALSE)))) -> 1 | L34: 42450 | M34: 42451 | N34: =MONTH(L34) -> 3 | O34: =MONTH(M34) -> 3 | P34: =IF(O34-N34=0,NETWORKDAYS(L34,M34,[1]Congés!$D$2:$D$26),NETWORKDAYS(L34,EOMONTH(L34,0),[1]Congés!$D$2:$D$26)) -> 2 | Q34: =IF(O34-N34=0,0,IF(O34-N34=1,NETWORKDAYS(L34,M34,[1]Congés!$D$2:$D$160)-P34,IF(O34-N34=2,NETWORKDAYS(L34,EOMONTH(L34,1),[1]Congés!$D$2:$D$160)-P34,IF(O34-N34=3,NETWORKDAYS(L34,EOMONTH(L34,1),[1]Congés!$D$2:$D$160)-P34)))) -> 0 | R34: =IF(O34-N34<2,0,IF(O34-N34=2,NETWORKDAYS(L34,M34,[1]Congés!$D$2:$D$160)-Q34-P34,IF(O34-N34=3,NETWORKDAYS(L34,EOMONTH(L34,2),[1]Congés!$D$2:$D$160)-Q34-P34))) -> 0 | S34: =IF(O34-N34<3,0,NETWORKDAYS(L34,M34,[1]Congés!$D$2:$D$160)-R34-Q34-P34) -> 0 | T34: =NETWORKDAYS(L34,M34,[1]Congés!C$2:C$160) -> 2 | U34: Arrêt Maladie | V34: 42450 | W34: =IF(T34<3,"1) 1 à 2 jours",IF(T34<5,"2) 3 à 4 jours",IF(T34=5,"3) 5 jours",IF(T34<=10,"4) 6 à 10 jours",IF(T34>10,"5) plus de 10 jours"))))) -> 1) 1 à 2 jours | X34: prol | Z34: =M34-L34+1 -> 2
A35: 20944 | C35: =VLOOKUP(A35,'[1]BDD RH'!$A$9:$W$453,16,FALSE) -> Evercalf | D35: =VLOOKUP(A35,'[1]BDD RH'!$A$9:$W$453,4,FALSE) -> t | E35: =VLOOKUP(A35,'[1]BDD RH'!$A$9:$W$453,3,FALSE) -> F | F35: =DATEDIF((VLOOKUP(A35,'[1]BDD RH'!$A$2:$W$485,7,FALSE)),L35,"y") -> 26 | G35: =IF(F35<=20,"<=20",IF(F35<=30,"21/30",IF(F35<=40,"31/40",IF(F35<=50,"41/50",IF(F35<=60,"51/60",IF(F35>60,"61 et plus",FALSE)))))) -> 21/30 | H35: =DATEDIF((VLOOKUP(A35,'[1]BDD RH'!$A$2:$W$485,11,FALSE)),L35,"y") -> 4 | I35: =IF(H35<2,"<2",IF(H35<6,"2/5",IF(H35<11,"6/10",IF(H35<16,"11/15",IF(H35<21,"16/20",IF(H35<26,"21/25",IF(H35>25,"26 et plus",FALSE))))))) -> 2/5 | J35: AML02 | K35: =IF($N$19:$N$585<=3,1,IF($N$19:$N$585<=6,2,IF($N$19:$N$585<=9,3,IF($N$19:$N$585>9,4,FALSE)))) -> 1 | L35: 42452 | M35: 42454 | N35: =MONTH(L35) -> 3 | O35: =MONTH(M35) -> 3 | P35: =IF(O35-N35=0,NETWORKDAYS(L35,M35,[1]Congés!$D$2:$D$26),NETWORKDAYS(L35,EOMONTH(L35,0),[1]Congés!$D$2:$D$26)) -> 3 | Q35: =IF(O35-N35=0,0,IF(O35-N35=1,NETWORKDAYS(L35,M35,[1]Congés!$D$2:$D$160)-P35,IF(O35-N35=2,NETWORKDAYS(L35,EOMONTH(L35,1),[1]Congés!$D$2:$D$160)-P35,IF(O35-N35=3,NETWORKDAYS(L35,EOMONTH(L35,1),[1]Congés!$D$2:$D$160)-P35)))) -> 0 | R35: =IF(O35-N35<2,0,IF(O35-N35=2,NETWORKDAYS(L35,M35,[1]Congés!$D$2:$D$160)-Q35-P35,IF(O35-N35=3,NETWORKDAYS(L35,EOMONTH(L35,2),[1]Congés!$D$2:$D$160)-Q35-P35))) -> 0 | S35: =IF(O35-N35<3,0,NETWORKDAYS(L35,M35,[1]Congés!$D$2:$D$160)-R35-Q35-P35) -> 0 | T35: =NETWORKDAYS(L35,M35,[1]Congés!C$2:C$160) -> 3 | U35: Arrêt Maladie | V35: 42450 | W35: =IF(T35<3,"1) 1 à 2 jours",IF(T35<5,"2) 3 à 4 jours",IF(T35=5,"3) 5 jours",IF(T35<=10,"4) 6 à 10 jours",IF(T35>10,"5) plus de 10 jours"))))) -> 2) 3 à 4 jours | X35: * | Z35: =M35-L35+1 -> 3
A36: 16614 | C36: =VLOOKUP(A36,'[1]BDD RH'!$A$9:$W$453,16,FALSE) -> Courchevel | D36: =VLOOKUP(A36,'[1]BDD RH'!$A$9:$W$453,4,FALSE) -> t | E36: =VLOOKUP(A36,'[1]BDD RH'!$A$9:$W$453,3,FALSE) -> F | F36: =DATEDIF((VLOOKUP(A36,'[1]BDD RH'!$A$2:$W$485,7,FALSE)),L36,"y") -> 41 | G36: =IF(F36<=20,"<=20",IF(F36<=30,"21/30",IF(F36<=40,"31/40",IF(F36<=50,"41/50",IF(F36<=60,"51/60",IF(F36>60,"61 et plus",FALSE)))))) -> 41/50 | H36: =DATEDIF((VLOOKUP(A36,'[1]BDD RH'!$A$2:$W$485,11,FALSE)),L36,"y") -> 9 | I36: =IF(H36<2,"<2",IF(H36<6,"2/5",IF(H36<11,"6/10",IF(H36<16,"11/15",IF(H36<21,"16/20",IF(H36<26,"21/25",IF(H36>25,"26 et plus",FALSE))))))) -> 6/10 | J36: ABL01 | K36: =IF($N$19:$N$585<=3,1,IF($N$19:$N$585<=6,2,IF($N$19:$N$585<=9,3,IF($N$19:$N$585>9,4,FALSE)))) -> 1 | L36: 42374 | M36: 42375 | N36: =MONTH(L36) -> 1 | O36: =MONTH(M36) -> 1 | P36: =IF(O36-N36=0,NETWORKDAYS(L36,M36,[1]Congés!$D$2:$D$26),NETWORKDAYS(L36,EOMONTH(L36,0),[1]Congés!$D$2:$D$26)) -> 2 | Q36: =IF(O36-N36=0,0,IF(O36-N36=1,NETWORKDAYS(L36,M36,[1]Congés!$D$2:$D$160)-P36,IF(O36-N36=2,NETWORKDAYS(L36,EOMONTH(L36,1),[1]Congés!$D$2:$D$160)-P36,IF(O36-N36=3,NETWORKDAYS(L36,EOMONTH(L36,1),[1]Congés!$D$2:$D$160)-P36)))) -> 0 | R36: =IF(O36-N36<2,0,IF(O36-N36=2,NETWORKDAYS(L36,M36,[1]Congés!$D$2:$D$160)-Q36-P36,IF(O36-N36=3,NETWORKDAYS(L36,EOMONTH(L36,2),[1]Congés!$D$2:$D$160)-Q36-P36))) -> 0 | S36: =IF(O36-N36<3,0,NETWORKDAYS(L36,M36,[1]Congés!$D$2:$D$160)-R36-Q36-P36) -> 0 | T36: =NETWORKDAYS(L36,M36,[1]Congés!C$2:C$160) -> 2 | U36: Arrêt Maladie | W36: =IF(T36<3,"1) 1 à 2 jours",IF(T36<5,"2) 3 à 4 jours",IF(T36=5,"3) 5 jours",IF(T36<=10,"4) 6 à 10 jours",IF(T36>10,"5) plus de 10 jours"))))) -> 1) 1 à 2 jours | X36: * | Z36: =M36-L36+1 -> 2
A37: 16614 | C37: =VLOOKUP(A37,'[1]BDD RH'!$A$9:$W$453,16,FALSE) -> Courchevel | D37: =VLOOKUP(A37,'[1]BDD RH'!$A$9:$W$453,4,FALSE) -> t | E37: =VLOOKUP(A37,'[1]BDD RH'!$A$9:$W$453,3,FALSE) -> F | F37: =DATEDIF((VLOOKUP(A37,'[1]BDD RH'!$A$2:$W$485,7,FALSE)),L37,"y") -> 41 | G37: =IF(F37<=20,"<=20",IF(F37<=30,"21/30",IF(F37<=40,"31/40",IF(F37<=50,"41/50",IF(F37<=60,"51/60",IF(F37>60,"61 et plus",FALSE)))))) -> 41/50 | H37: =DATEDIF((VLOOKUP(A37,'[1]BDD RH'!$A$2:$W$485,11,FALSE)),L37,"y") -> 10 | I37: =IF(H37<2,"<2",IF(H37<6,"2/5",IF(H37<11,"6/10",IF(H37<16,"11/15",IF(H37<21,"16/20",IF(H37<26,"21/25",IF(H37>25,"26 et plus",FALSE))))))) -> 6/10 | J37: ABl02 | K37: =IF($N$19:$N$585<=3,1,IF($N$19:$N$585<=6,2,IF($N$19:$N$585<=9,3,IF($N$19:$N$585>9,4,FALSE)))) -> 1 | L37: 42450 | M37: 42451 | N37: =MONTH(L37) -> 3 | O37: =MONTH(M37) -> 3 | P37: =IF(O37-N37=0,NETWORKDAYS(L37,M37,[1]Congés!$D$2:$D$26),NETWORKDAYS(L37,EOMONTH(L37,0),[1]Congés!$D$2:$D$26)) -> 2 | Q37: =IF(O37-N37=0,0,IF(O37-N37=1,NETWORKDAYS(L37,M37,[1]Congés!$D$2:$D$160)-P37,IF(O37-N37=2,NETWORKDAYS(L37,EOMONTH(L37,1),[1]Congés!$D$2:$D$160)-P37,IF(O37-N37=3,NETWORKDAYS(L37,EOMONTH(L37,1),[1]Congés!$D$2:$D$160)-P37)))) -> 0 | R37: =IF(O37-N37<2,0,IF(O37-N37=2,NETWORKDAYS(L37,M37,[1]Congés!$D$2:$D$160)-Q37-P37,IF(O37-N37=3,NETWORKDAYS(L37,EOMONTH(L37,2),[1]Congés!$D$2:$D$160)-Q37-P37))) -> 0 | S37: =IF(O37-N37<3,0,NETWORKDAYS(L37,M37,[1]Congés!$D$2:$D$160)-R37-Q37-P37) -> 0 | T37: =NETWORKDAYS(L37,M37,[1]Congés!C$2:C$160) -> 2 | U37: Arrêt Maladie | W37: =IF(T37<3,"1) 1 à 2 jours",IF(T37<5,"2) 3 à 4 jours",IF(T37=5,"3) 5 jours",IF(T37<=10,"4) 6 à 10 jours",IF(T37>10,"5) plus de 10 jours"))))) -> 1) 1 à 2 jours | X37: * | Z37: =M37-L37+1 -> 2
A38: 81189 | C38: =VLOOKUP(A38,'[1]BDD RH'!$A$9:$W$453,16,FALSE) -> Evercalf | D38: =VLOOKUP(A38,'[1]BDD RH'!$A$9:$W$453,4,FALSE) -> t | E38: =VLOOKUP(A38,'[1]BDD RH'!$A$9:$W$453,3,FALSE) -> F | F38: =DATEDIF((VLOOKUP(A38,'[1]BDD RH'!$A$2:$W$485,7,FALSE)),L38,"y") -> 29 | G38: =IF(F38<=20,"<=20",IF(F38<=30,"21/30",IF(F38<=40,"31/40",IF(F38<=50,"41/50",IF(F38<=60,"51/60",IF(F38>60,"61 et plus",FALSE)))))) -> 21/30 | H38: =DATEDIF((VLOOKUP(A38,'[1]BDD RH'!$A$2:$W$485,11,FALSE)),L38,"y") -> 3 | I38: =IF(H38<2,"<2",IF(H38<6,"2/5",IF(H38<11,"6/10",IF(H38<16,"11/15",IF(H38<21,"16/20",IF(H38<26,"21/25",IF(H38>25,"26 et plus",FALSE))))))) -> 2/5 | J38: ARS01 | K38: =IF($N$19:$N$585<=3,1,IF($N$19:$N$585<=6,2,IF($N$19:$N$585<=9,3,IF($N$19:$N$585>9,4,FALSE)))) -> 1 | L38: 42410 | M38: 42411 | N38: =MONTH(L38) -> 2 | O38: =MONTH(M38) -> 2 | P38: =IF(O38-N38=0,NETWORKDAYS(L38,M38,[1]Congés!$D$2:$D$26),NETWORKDAYS(L38,EOMONTH(L38,0),[1]Congés!$D$2:$D$26)) -> 2 | Q38: =IF(O38-N38=0,0,IF(O38-N38=1,NETWORKDAYS(L38,M38,[1]Congés!$D$2:$D$160)-P38,IF(O38-N38=2,NETWORKDAYS(L38,EOMONTH(L38,1),[1]Congés!$D$2:$D$160)-P38,IF(O38-N38=3,NETWORKDAYS(L38,EOMONTH(L38,1),[1]Congés!$D$2:$D$160)-P38)))) -> 0 | R38: =IF(O38-N38<2,0,IF(O38-N38=2,NETWORKDAYS(L38,M38,[1]Congés!$D$2:$D$160)-Q38-P38,IF(O38-N38=3,NETWORKDAYS(L38,EOMONTH(L38,2),[1]Congés!$D$2:$D$160)-Q38-P38))) -> 0 | S38: =IF(O38-N38<3,0,NETWORKDAYS(L38,M38,[1]Congés!$D$2:$D$160)-R38-Q38-P38) -> 0 | T38: =NETWORKDAYS(L38,M38,[1]Congés!C$2:C$160) -> 2 | U38: Arrêt Maladie | V38: 42410 | W38: =IF(T38<3,"1) 1 à 2 jours",IF(T38<5,"2) 3 à 4 jours",IF(T38=5,"3) 5 jours",IF(T38<=10,"4) 6 à 10 jours",IF(T38>10,"5) plus de 10 jours"))))) -> 1) 1 à 2 jours | X38: prol | Z38: =M38-L38+1 -> 2
A39: 81189 | C39: =VLOOKUP(A39,'[1]BDD RH'!$A$9:$W$453,16,FALSE) -> Evercalf | D39: =VLOOKUP(A39,'[1]BDD RH'!$A$9:$W$453,4,FALSE) -> t | E39: =VLOOKUP(A39,'[1]BDD RH'!$A$9:$W$453,3,FALSE) -> F | F39: =DATEDIF((VLOOKUP(A39,'[1]BDD RH'!$A$2:$W$485,7,FALSE)),L39,"y") -> 29 | G39: =IF(F39<=20,"<=20",IF(F39<=30,"21/30",IF(F39<=40,"31/40",IF(F39<=50,"41/50",IF(F39<=60,"51/60",IF(F39>60,"61 et plus",FALSE)))))) -> 21/30 | H39: =DATEDIF((VLOOKUP(A39,'[1]BDD RH'!$A$2:$W$485,11,FALSE)),L39,"y") -> 3 | I39: =IF(H39<2,"<2",IF(H39<6,"2/5",IF(H39<11,"6/10",IF(H39<16,"11/15",IF(H39<21,"16/20",IF(H39<26,"21/25",IF(H39>25,"26 et plus",FALSE))))))) -> 2/5 | J39: ARS01 | K39: =IF($N$19:$N$585<=3,1,IF($N$19:$N$585<=6,2,IF($N$19:$N$585<=9,3,IF($N$19:$N$585>9,4,FALSE)))) -> 1 | L39: 42412 | M39: 42412 | N39: =MONTH(L39) -> 2 | O39: =MONTH(M39) -> 2 | P39: =IF(O39-N39=0,NETWORKDAYS(L39,M39,[1]Congés!$D$2:$D$26),NETWORKDAYS(L39,EOMONTH(L39,0),[1]Congés!$D$2:$D$26)) -> 1 | Q39: =IF(O39-N39=0,0,IF(O39-N39=1,NETWORKDAYS(L39,M39,[1]Congés!$D$2:$D$160)-P39,IF(O39-N39=2,NETWORKDAYS(L39,EOMONTH(L39,1),[1]Congés!$D$2:$D$160)-P39,IF(O39-N39=3,NETWORKDAYS(L39,EOMONTH(L39,1),[1]Congés!$D$2:$D$160)-P39)))) -> 0 | R39: =IF(O39-N39<2,0,IF(O39-N39=2,NETWORKDAYS(L39,M39,[1]Congés!$D$2:$D$160)-Q39-P39,IF(O39-N39=3,NETWORKDAYS(L39,EOMONTH(L39,2),[1]Congés!$D$2:$D$160)-Q39-P39))) -> 0 | S39: =IF(O39-N39<3,0,NETWORKDAYS(L39,M39,[1]Congés!$D$2:$D$160)-R39-Q39-P39) -> 0 | T39: =NETWORKDAYS(L39,M39,[1]Congés!C$2:C$160) -> 1 | U39: Arrêt Maladie | V39: 42410 | W39: =IF(T39<3,"1) 1 à 2 jours",IF(T39<5,"2) 3 à 4 jours",IF(T39=5,"3) 5 jours",IF(T39<=10,"4) 6 à 10 jours",IF(T39>10,"5) plus de 10 jours"))))) -> 1) 1 à 2 jours | X39: prol | Z39: =M39-L39+1 -> 1
A40: 81189 | C40: =VLOOKUP(A40,'[1]BDD RH'!$A$9:$W$453,16,FALSE) -> Evercalf | D40: =VLOOKUP(A40,'[1]BDD RH'!$A$9:$W$453,4,FALSE) -> t | E40: =VLOOKUP(A40,'[1]BDD RH'!$A$9:$W$453,3,FALSE) -> F | F40: =DATEDIF((VLOOKUP(A40,'[1]BDD RH'!$A$2:$W$485,7,FALSE)),L40,"y") -> 29 | G40: =IF(F40<=20,"<=20",IF(F40<=30,"21/30",IF(F40<=40,"31/40",IF(F40<=50,"41/50",IF(F40<=60,"51/60",IF(F40>60,"61 et plus",FALSE)))))) -> 21/30 | H40: =DATEDIF((VLOOKUP(A40,'[1]BDD RH'!$A$2:$W$485,11,FALSE)),L40,"y") -> 3 | I40: =IF(H40<2,"<2",IF(H40<6,"2/5",IF(H40<11,"6/10",IF(H40<16,"11/15",IF(H40<21,"16/20",IF(H40<26,"21/25",IF(H40>25,"26 et plus",FALSE))))))) -> 2/5 | J40: ARS01 | K40: =IF($N$19:$N$585<=3,1,IF($N$19:$N$585<=6,2,IF($N$19:$N$585<=9,3,IF($N$19:$N$585>9,4,FALSE)))) -> 1 | L40: 42415 | M40: 42416 | N40: =MONTH(L40) -> 2 | O40: =MONTH(M40) -> 2 | P40: =IF(O40-N40=0,NETWORKDAYS(L40,M40,[1]Congés!$D$2:$D$26),NETWORKDAYS(L40,EOMONTH(L40,0),[1]Congés!$D$2:$D$26)) -> 2 | Q40: =IF(O40-N40=0,0,IF(O40-N40=1,NETWORKDAYS(L40,M40,[1]Congés!$D$2:$D$160)-P40,IF(O40-N40=2,NETWORKDAYS(L40,EOMONTH(L40,1),[1]Congés!$D$2:$D$160)-P40,IF(O40-N40=3,NETWORKDAYS(L40,EOMONTH(L40,1),[1]Congés!$D$2:$D$160)-P40)))) -> 0 | R40: =IF(O40-N40<2,0,IF(O40-N40=2,NETWORKDAYS(L40,M40,[1]Congés!$D$2:$D$160)-Q40-P40,IF(O40-N40=3,NETWORKDAYS(L40,EOMONTH(L40,2),[1]Congés!$D$2:$D$160)-Q40-P40))) -> 0 | S40: =IF(O40-N40<3,0,NETWORKDAYS(L40,M40,[1]Congés!$D$2:$D$160)-R40-Q40-P40) -> 0 | T40: =NETWORKDAYS(L40,M40,[1]Congés!C$2:C$160) -> 2 | U40: Arrêt Maladie | V40: 42410 | W40: =IF(T40<3,"1) 1 à 2 jours",IF(T40<5,"2) 3 à 4 jours",IF(T40=5,"3) 5 jours",IF(T40<=10,"4) 6 à 10 jours",IF(T40>10,"5) plus de 10 jours"))))) -> 1) 1 à 2 jours | X40: * | Z40: =M40-L40+1 -> 2
A41: 9084 | C41: =VLOOKUP(A41,'[1]BDD RH'!$A$9:$W$453,16,FALSE) -> Gulliver | D41: =VLOOKUP(A41,'[1]BDD RH'!$A$9:$W$453,4,FALSE) -> t | E41: =VLOOKUP(A41,'[1]BDD RH'!$A$9:$W$453,3,FALSE) -> H | F41: =DATEDIF((VLOOKUP(A41,'[1]BDD RH'!$A$2:$W$485,7,FALSE)),L41,"y") -> 49 | G41: =IF(F41<=20,"<=20",IF(F41<=30,"21/30",IF(F41<=40,"31/40",IF(F41<=50,"41/50",IF(F41<=60,"51/60",IF(F41>60,"61 et plus",FALSE)))))) -> 41/50 | H41: =DATEDIF((VLOOKUP(A41,'[1]BDD RH'!$A$2:$W$485,11,FALSE)),L41,"y") -> 19 | I41: =IF(H41<2,"<2",IF(H41<6,"2/5",IF(H41<11,"6/10",IF(H41<16,"11/15",IF(H41<21,"16/20",IF(H41<26,"21/25",IF(H41>25,"26 et plus",FALSE))))))) -> 16/20 | J41: ARF01 | K41: =IF($N$19:$N$585<=3,1,IF($N$19:$N$585<=6,2,IF($N$19:$N$585<=9,3,IF($N$19:$N$585>9,4,FALSE)))) -> 2 | L41: 42477 | M41: 42480 | N41: =MONTH(L41) -> 4 | O41: =MONTH(M41) -> 4 | P41: =IF(O41-N41=0,NETWORKDAYS(L41,M41,[1]Congés!$D$2:$D$26),NETWORKDAYS(L41,EOMONTH(L41,0),[1]Congés!$D$2:$D$26)) -> 3 | Q41: =IF(O41-N41=0,0,IF(O41-N41=1,NETWORKDAYS(L41,M41,[1]Congés!$D$2:$D$160)-P41,IF(O41-N41=2,NETWORKDAYS(L41,EOMONTH(L41,1),[1]Congés!$D$2:$D$160)-P41,IF(O41-N41=3,NETWORKDAYS(L41,EOMONTH(L41,1),[1]Congés!$D$2:$D$160)-P41)))) -> 0 | R41: =IF(O41-N41<2,0,IF(O41-N41=2,NETWORKDAYS(L41,M41,[1]Congés!$D$2:$D$160)-Q41-P41,IF(O41-N41=3,NETWORKDAYS(L41,EOMONTH(L41,2),[1]Congés!$D$2:$D$160)-Q41-P41))) -> 0 | S41: =IF(O41-N41<3,0,NETWORKDAYS(L41,M41,[1]Congés!$D$2:$D$160)-R41-Q41-P41) -> 0 | T41: =NETWORKDAYS(L41,M41,[1]Congés!C$2:C$160) -> 3 | U41: Arrêt Maladie | W41: =IF(T41<3,"1) 1 à 2 jours",IF(T41<5,"2) 3 à 4 jours",IF(T41=5,"3) 5 jours",IF(T41<=10,"4) 6 à 10 jours",IF(T41>10,"5) plus de 10 jours"))))) -> 2) 3 à 4 jours | X41: * | Z41: =M41-L41+1 -> 4
A42: 11437 | C42: =VLOOKUP(A42,'[1]BDD RH'!$A$9:$W$453,16,FALSE) -> Gulliver | D42: =VLOOKUP(A42,'[1]BDD RH'!$A$9:$W$453,4,FALSE) -> t | E42: =VLOOKUP(A42,'[1]BDD RH'!$A$9:$W$453,3,FALSE) -> F | F42: =DATEDIF((VLOOKUP(A42,'[1]BDD RH'!$A$2:$W$485,7,FALSE)),L42,"y") -> 45 | G42: =IF(F42<=20,"<=20",IF(F42<=30,"21/30",IF(F42<=40,"31/40",IF(F42<=50,"41/50",IF(F42<=60,"51/60",IF(F42>60,"61 et plus",FALSE)))))) -> 41/50 | H42: =DATEDIF((VLOOKUP(A42,'[1]BDD RH'!$A$2:$W$485,11,FALSE)),L42,"y") -> 12 | I42: =IF(H42<2,"<2",IF(H42<6,"2/5",IF(H42<11,"6/10",IF(H42<16,"11/15",IF(H42<21,"16/20",IF(H42<26,"21/25",IF(H42>25,"26 et plus",FALSE))))))) -> 11/15 | J42: AVY01 | K42: =IF($N$19:$N$585<=3,1,IF($N$19:$N$585<=6,2,IF($N$19:$N$585<=9,3,IF($N$19:$N$585>9,4,FALSE)))) -> 1 | L42: 42380 | M42: 42387 | N42: =MONTH(L42) -> 1 | O42: =MONTH(M42) -> 1 | P42: =IF(O42-N42=0,NETWORKDAYS(L42,M42,[1]Congés!$D$2:$D$26),NETWORKDAYS(L42,EOMONTH(L42,0),[1]Congés!$D$2:$D$26)) -> 6 | Q42: =IF(O42-N42=0,0,IF(O42-N42=1,NETWORKDAYS(L42,M42,[1]Congés!$D$2:$D$160)-P42,IF(O42-N42=2,NETWORKDAYS(L42,EOMONTH(L42,1),[1]Congés!$D$2:$D$160)-P42,IF(O42-N42=3,NETWORKDAYS(L42,EOMONTH(L42,1),[1]Congés!$D$2:$D$160)-P42)))) -> 0 | R42: =IF(O42-N42<2,0,IF(O42-N42=2,NETWORKDAYS(L42,M42,[1]Congés!$D$2:$D$160)-Q42-P42,IF(O42-N42=3,NETWORKDAYS(L42,EOMONTH(L42,2),[1]Congés!$D$2:$D$160)-Q42-P42))) -> 0 | S42: =IF(O42-N42<3,0,NETWORKDAYS(L42,M42,[1]Congés!$D$2:$D$160)-R42-Q42-P42) -> 0 | T42: =NETWORKDAYS(L42,M42,[1]Congés!C$2:C$160) -> 6 | U42: Arrêt Maladie | W42: =IF(T42<3,"1) 1 à 2 jours",IF(T42<5,"2) 3 à 4 jours",IF(T42=5,"3) 5 jours",IF(T42<=10,"4) 6 à 10 jours",IF(T42>10,"5) plus de 10 jours"))))) -> 4) 6 à 10 jours | X42: * | Z42: =M42-L42+1 -> 8
A43: 11437 | C43: =VLOOKUP(A43,'[1]BDD RH'!$A$9:$W$453,16,FALSE) -> Gulliver | D43: =VLOOKUP(A43,'[1]BDD RH'!$A$9:$W$453,4,FALSE) -> t | E43: =VLOOKUP(A43,'[1]BDD RH'!$A$9:$W$453,3,FALSE) -> F | F43: =DATEDIF((VLOOKUP(A43,'[1]BDD RH'!$A$2:$W$485,7,FALSE)),L43,"y") -> 45 | G43: =IF(F43<=20,"<=20",IF(F43<=30,"21/30",IF(F43<=40,"31/40",IF(F43<=50,"41/50",IF(F43<=60,"51/60",IF(F43>60,"61 et plus",FALSE)))))) -> 41/50 | H43: =DATEDIF((VLOOKUP(A43,'[1]BDD RH'!$A$2:$W$485,11,FALSE)),L43,"y") -> 12 | I43: =IF(H43<2,"<2",IF(H43<6,"2/5",IF(H43<11,"6/10",IF(H43<16,"11/15",IF(H43<21,"16/20",IF(H43<26,"21/25",IF(H43>25,"26 et plus",FALSE))))))) -> 11/15 | J43: AVY02 | K43: =IF($N$19:$N$585<=3,1,IF($N$19:$N$585<=6,2,IF($N$19:$N$585<=9,3,IF($N$19:$N$585>9,4,FALSE)))) -> 1 | L43: 42419 | M43: 42419 | N43: =MONTH(L43) -> 2 | O43: =MONTH(M43) -> 2 | P43: =IF(O43-N43=0,NETWORKDAYS(L43,M43,[1]Congés!$D$2:$D$26),NETWORKDAYS(L43,EOMONTH(L43,0),[1]Congés!$D$2:$D$26)) -> 1 | Q43: =IF(O43-N43=0,0,IF(O43-N43=1,NETWORKDAYS(L43,M43,[1]Congés!$D$2:$D$160)-P43,IF(O43-N43=2,NETWORKDAYS(L43,EOMONTH(L43,1),[1]Congés!$D$2:$D$160)-P43,IF(O43-N43=3,NETWORKDAYS(L43,EOMONTH(L43,1),[1]Congés!$D$2:$D$160)-P43)))) -> 0 | R43: =IF(O43-N43<2,0,IF(O43-N43=2,NETWORKDAYS(L43,M43,[1]Congés!$D$2:$D$160)-Q43-P43,IF(O43-N43=3,NETWORKDAYS(L43,EOMONTH(L43,2),[1]Congés!$D$2:$D$160)-Q43-P43))) -> 0 | S43: =IF(O43-N43<3,0,NETWORKDAYS(L43,M43,[1]Congés!$D$2:$D$160)-R43-Q43-P43) -> 0 | T43: =NETWORKDAYS(L43,M43,[1]Congés!C$2:C$160) -> 1 | U43: Arrêt Maladie | W43: =IF(T43<3,"1) 1 à 2 jours",IF(T43<5,"2) 3 à 4 jours",IF(T43=5,"3) 5 jours",IF(T43<=10,"4) 6 à 10 jours",IF(T43>10,"5) plus de 10 jours"))))) -> 1) 1 à 2 jours | X43: * | Z43: =M43-L43+1 -> 1
A44: 17876 | C44: =VLOOKUP(A44,'[1]BDD RH'!$A$9:$W$453,16,FALSE) -> Iris | D44: =VLOOKUP(A44,'[1]BDD RH'!$A$9:$W$453,4,FALSE) -> c | E44: =VLOOKUP(A44,'[1]BDD RH'!$A$9:$W$453,3,FALSE) -> H | F44: =DATEDIF((VLOOKUP(A44,'[1]BDD RH'!$A$2:$W$485,7,FALSE)),L44,"y") -> 28 | G44: =IF(F44<=20,"<=20",IF(F44<=30,"21/30",IF(F44<=40,"31/40",IF(F44<=50,"41/50",IF(F44<=60,"51/60",IF(F44>60,"61 et plus",FALSE)))))) -> 21/30 | H44: =DATEDIF((VLOOKUP(A44,'[1]BDD RH'!$A$2:$W$485,11,FALSE)),L44,"y") -> 8 | I44: =IF(H44<2,"<2",IF(H44<6,"2/5",IF(H44<11,"6/10",IF(H44<16,"11/15",IF(H44<21,"16/20",IF(H44<26,"21/25",IF(H44>25,"26 et plus",FALSE))))))) -> 6/10 | J44: AVM01 | K44: =IF($N$19:$N$585<=3,1,IF($N$19:$N$585<=6,2,IF($N$19:$N$585<=9,3,IF($N$19:$N$585>9,4,FALSE)))) -> 1 | L44: 42370 | M44: 42373 | N44: =MONTH(L44) -> 1 | O44: =MONTH(M44) -> 1 | P44: =IF(O44-N44=0,NETWORKDAYS(L44,M44,[1]Congés!$D$2:$D$26),NETWORKDAYS(L44,EOMONTH(L44,0),[1]Congés!$D$2:$D$26)) -> 2 | Q44: =IF(O44-N44=0,0,IF(O44-N44=1,NETWORKDAYS(L44,M44,[1]Congés!$D$2:$D$160)-P44,IF(O44-N44=2,NETWORKDAYS(L44,EOMONTH(L44,1),[1]Congés!$D$2:$D$160)-P44,IF(O44-N44=3,NETWORKDAYS(L44,EOMONTH(L44,1),[1]Congés!$D$2:$D$160)-P44)))) -> 0 | R44: =IF(O44-N44<2,0,IF(O44-N44=2,NETWORKDAYS(L44,M44,[1]Congés!$D$2:$D$160)-Q44-P44,IF(O44-N44=3,NETWORKDAYS(L44,EOMONTH(L44,2),[1]Congés!$D$2:$D$160)-Q44-P44))) -> 0 | S44: =IF(O44-N44<3,0,NETWORKDAYS(L44,M44,[1]Congés!$D$2:$D$160)-R44-Q44-P44) -> 0 | T44: =NETWORKDAYS(L44,M44,[1]Congés!C$2:C$160) -> 1 | U44: AT 15 | V44: 42367 | W44: =IF(T44<3,"1) 1 à 2 jours",IF(T44<5,"2) 3 à 4 jours",IF(T44=5,"3) 5 jours",IF(T44<=10,"4) 6 à 10 jours",IF(T44>10,"5) plus de 10 jours"))))) -> 1) 1 à 2 jours | X44: prol | Z44: =M44-L44+1 -> 4
A45: 17876 | C45: =VLOOKUP(A45,'[1]BDD RH'!$A$9:$W$453,16,FALSE) -> Iris | D45: =VLOOKUP(A45,'[1]BDD RH'!$A$9:$W$453,4,FALSE) -> c | E45: =VLOOKUP(A45,'[1]BDD RH'!$A$9:$W$453,3,FALSE) -> H | F45: =DATEDIF((VLOOKUP(A45,'[1]BDD RH'!$A$2:$W$485,7,FALSE)),L45,"y") -> 28 | G45: =IF(F45<=20,"<=20",IF(F45<=30,"21/30",IF(F45<=40,"31/40",IF(F45<=50,"41/50",IF(F45<=60,"51/60",IF(F45>60,"61 et plus",FALSE)))))) -> 21/30 | H45: =DATEDIF((VLOOKUP(A45,'[1]BDD RH'!$A$2:$W$485,11,FALSE)),L45,"y") -> 8 | I45: =IF(H45<2,"<2",IF(H45<6,"2/5",IF(H45<11,"6/10",IF(H45<16,"11/15",IF(H45<21,"16/20",IF(H45<26,"21/25",IF(H45>25,"26 et plus",FALSE))))))) -> 6/10 | J45: AVM01 | K45: =IF($N$19:$N$585<=3,1,IF($N$19:$N$585<=6,2,IF($N$19:$N$585<=9,3,IF($N$19:$N$585>9,4,FALSE)))) -> 1 | L45: 42374 | M45: 42380 | N45: =MONTH(L45) -> 1 | O45: =MONTH(M45) -> 1 | P45: =IF(O45-N45=0,NETWORKDAYS(L45,M45,[1]Congés!$D$2:$D$26),NETWORKDAYS(L45,EOMONTH(L45,0),[1]Congés!$D$2:$D$26)) -> 5 | Q45: =IF(O45-N45=0,0,IF(O45-N45=1,NETWORKDAYS(L45,M45,[1]Congés!$D$2:$D$160)-P45,IF(O45-N45=2,NETWORKDAYS(L45,EOMONTH(L45,1),[1]Congés!$D$2:$D$160)-P45,IF(O45-N45=3,NETWORKDAYS(L45,EOMONTH(L45,1),[1]Congés!$D$2:$D$160)-P45)))) -> 0 | R45: =IF(O45-N45<2,0,IF(O45-N45=2,NETWORKDAYS(L45,M45,[1]Congés!$D$2:$D$160)-Q45-P45,IF(O45-N45=3,NETWORKDAYS(L45,EOMONTH(L45,2),[1]Congés!$D$2:$D$160)-Q45-P45))) -> 0 | S45: =IF(O45-N45<3,0,NETWORKDAYS(L45,M45,[1]Congés!$D$2:$D$160)-R45-Q45-P45) -> 0 | T45: =NETWORKDAYS(L45,M45,[1]Congés!C$2:C$160) -> 5 | U45: AT 15 | V45: 42367 | W45: =IF(T45<3,"1) 1 à 2 jours",IF(T45<5,"2) 3 à 4 jours",IF(T45=5,"3) 5 jours",IF(T45<=10,"4) 6 à 10 jours",IF(T45>10,"5) plus de 10 jours"))))) -> 3) 5 jours | X45: prol | Z45: =M45-L45+1 -> 7
A46: 17876 | C46: =VLOOKUP(A46,'[1]BDD RH'!$A$9:$W$453,16,FALSE) -> Iris | D46: =VLOOKUP(A46,'[1]BDD RH'!$A$9:$W$453,4,FALSE) -> c | E46: =VLOOKUP(A46,'[1]BDD RH'!$A$9:$W$453,3,FALSE) -> H | F46: =DATEDIF((VLOOKUP(A46,'[1]BDD RH'!$A$2:$W$485,7,FALSE)),L46,"y") -> 28 | G46: =IF(F46<=20,"<=20",IF(F46<=30,"21/30",IF(F46<=40,"31/40",IF(F46<=50,"41/50",IF(F46<=60,"51/60",IF(F46>60,"61 et plus",FALSE)))))) -> 21/30 | H46: =DATEDIF((VLOOKUP(A46,'[1]BDD RH'!$A$2:$W$485,11,FALSE)),L46,"y") -> 8 | I46: =IF(H46<2,"<2",IF(H46<6,"2/5",IF(H46<11,"6/10",IF(H46<16,"11/15",IF(H46<21,"16/20",IF(H46<26,"21/25",IF(H46>25,"26 et plus",FALSE))))))) -> 6/10 | J46: AVM01 | K46: =IF($N$19:$N$585<=3,1,IF($N$19:$N$585<=6,2,IF($N$19:$N$585<=9,3,IF($N$19:$N$585>9,4,FALSE)))) -> 1 | L46: 42381 | M46: 42387 | N46: =MONTH(L46) -> 1 | O46: =MONTH(M46) -> 1 | P46: =IF(O46-N46=0,NETWORKDAYS(L46,M46,[1]Congés!$D$2:$D$26),NETWORKDAYS(L46,EOMONTH(L46,0),[1]Congés!$D$2:$D$26)) -> 5 | Q46: =IF(O46-N46=0,0,IF(O46-N46=1,NETWORKDAYS(L46,M46,[1]Congés!$D$2:$D$160)-P46,IF(O46-N46=2,NETWORKDAYS(L46,EOMONTH(L46,1),[1]Congés!$D$2:$D$160)-P46,IF(O46-N46=3,NETWORKDAYS(L46,EOMONTH(L46,1),[1]Congés!$D$2:$D$160)-P46)))) -> 0 | R46: =IF(O46-N46<2,0,IF(O46-N46=2,NETWORKDAYS(L46,M46,[1]Congés!$D$2:$D$160)-Q46-P46,IF(O46-N46=3,NETWORKDAYS(L46,EOMONTH(L46,2),[1]Congés!$D$2:$D$160)-Q46-P46))) -> 0 | S46: =IF(O46-N46<3,0,NETWORKDAYS(L46,M46,[1]Congés!$D$2:$D$160)-R46-Q46-P46) -> 0 | T46: =NETWORKDAYS(L46,M46,[1]Congés!C$2:C$160) -> 5 | U46: AT 15 | V46: 42733 | W46: =IF(T46<3,"1) 1 à 2 jours",IF(T46<5,"2) 3 à 4 jours",IF(T46=5,"3) 5 jours",IF(T46<=10,"4) 6 à 10 jours",IF(T46>10,"5) plus de 10 jours"))))) -> 3) 5 jours | X46: * | Z46: =M46-L46+1 -> 7
A47: 16988 | C47: =VLOOKUP(A47,'[1]BDD RH'!$A$9:$W$453,16,FALSE) -> Tosca | D47: =VLOOKUP(A47,'[1]BDD RH'!$A$9:$W$453,4,FALSE) -> c | E47: =VLOOKUP(A47,'[1]BDD RH'!$A$9:$W$453,3,FALSE) -> F | F47: =DATEDIF((VLOOKUP(A47,'[1]BDD RH'!$A$2:$W$485,7,FALSE)),L47,"y") -> 42 | G47: =IF(F47<=20,"<=20",IF(F47<=30,"21/30",IF(F47<=40,"31/40",IF(F47<=50,"41/50",IF(F47<=60,"51/60",IF(F47>60,"61 et plus",FALSE)))))) -> 41/50 | H47: =DATEDIF((VLOOKUP(A47,'[1]BDD RH'!$A$2:$W$485,11,FALSE)),L47,"y") -> 9 | I47: =IF(H47<2,"<2",IF(H47<6,"2/5",IF(H47<11,"6/10",IF(H47<16,"11/15",IF(H47<21,"16/20",IF(H47<26,"21/25",IF(H47>25,"26 et plus",FALSE))))))) -> 6/10 | J47: AYS01 | K47: =IF($N$19:$N$585<=3,1,IF($N$19:$N$585<=6,2,IF($N$19:$N$585<=9,3,IF($N$19:$N$585>9,4,FALSE)))) -> 1 | L47: 42426 | M47: 42431 | N47: =MONTH(L47) -> 2 | O47: =MONTH(M47) -> 3 | P47: =IF(O47-N47=0,NETWORKDAYS(L47,M47,[1]Congés!$D$2:$D$26),NETWORKDAYS(L47,EOMONTH(L47,0),[1]Congés!$D$2:$D$26)) -> 2 | Q47: =IF(O47-N47=0,0,IF(O47-N47=1,NETWORKDAYS(L47,M47,[1]Congés!$D$2:$D$160)-P47,IF(O47-N47=2,NETWORKDAYS(L47,EOMONTH(L47,1),[1]Congés!$D$2:$D$160)-P47,IF(O47-N47=3,NETWORKDAYS(L47,EOMONTH(L47,1),[1]Congés!$D$2:$D$160)-P47)))) -> 2 | R47: =IF(O47-N47<2,0,IF(O47-N47=2,NETWORKDAYS(L47,M47,[1]Congés!$D$2:$D$160)-Q47-P47,IF(O47-N47=3,NETWORKDAYS(L47,EOMONTH(L47,2),[1]Congés!$D$2:$D$160)-Q47-P47))) -> 0 | S47: =IF(O47-N47<3,0,NETWORKDAYS(L47,M47,[1]Congés!$D$2:$D$160)-R47-Q47-P47) -> 0 | T47: =NETWORKDAYS(L47,M47,[1]Congés!C$2:C$160) -> 4 | U47: Arrêt Maladie | W47: =IF(T47<3,"1) 1 à 2 jours",IF(T47<5,"2) 3 à 4 jours",IF(T47=5,"3) 5 jours",IF(T47<=10,"4) 6 à 10 jours",IF(T47>10,"5) plus de 10 jours"))))) -> 2) 3 à 4 jours | X47: * | Z47: =M47-L47+1 -> 6
A48: 3279 | C48: =VLOOKUP(A48,'[1]BDD RH'!$A$9:$W$453,16,FALSE) -> Evercalf | D48: =VLOOKUP(A48,'[1]BDD RH'!$A$9:$W$453,4,FALSE) -> t | E48: =VLOOKUP(A48,'[1]BDD RH'!$A$9:$W$453,3,FALSE) -> F | F48: =DATEDIF((VLOOKUP(A48,'[1]BDD RH'!$A$2:$W$485,7,FALSE)),L48,"y") -> 38 | G48: =IF(F48<=20,"<=20",IF(F48<=30,"21/30",IF(F48<=40,"31/40",IF(F48<=50,"41/50",IF(F48<=60,"51/60",IF(F48>60,"61 et plus",FALSE)))))) -> 31/40 | H48: =DATEDIF((VLOOKUP(A48,'[1]BDD RH'!$A$2:$W$485,11,FALSE)),L48,"y") -> 18 | I48: =IF(H48<2,"<2",IF(H48<6,"2/5",IF(H48<11,"6/10",IF(H48<16,"11/15",IF(H48<21,"16/20",IF(H48<26,"21/25",IF(H48>25,"26 et plus",FALSE))))))) -> 16/20 | J48: BAH01 | K48: =IF($N$19:$N$585<=3,1,IF($N$19:$N$585<=6,2,IF($N$19:$N$585<=9,3,IF($N$19:$N$585>9,4,FALSE)))) -> 2 | L48: 42485 | M48: 42487 | N48: =MONTH(L48) -> 4 | O48: =MONTH(M48) -> 4 | P48: =IF(O48-N48=0,NETWORKDAYS(L48,M48,[1]Congés!$D$2:$D$26),NETWORKDAYS(L48,EOMONTH(L48,0),[1]Congés!$D$2:$D$26)) -> 3 | Q48: =IF(O48-N48=0,0,IF(O48-N48=1,NETWORKDAYS(L48,M48,[1]Congés!$D$2:$D$160)-P48,IF(O48-N48=2,NETWORKDAYS(L48,EOMONTH(L48,1),[1]Congés!$D$2:$D$160)-P48,IF(O48-N48=3,NETWORKDAYS(L48,EOMONTH(L48,1),[1]Congés!$D$2:$D$160)-P48)))) -> 0 | R48: =IF(O48-N48<2,0,IF(O48-N48=2,NETWORKDAYS(L48,M48,[1]Congés!$D$2:$D$160)-Q48-P48,IF(O48-N48=3,NETWORKDAYS(L48,EOMONTH(L48,2),[1]Congés!$D$2:$D$160)-Q48-P48))) -> 0 | S48: =IF(O48-N48<3,0,NETWORKDAYS(L48,M48,[1]Congés!$D$2:$D$160)-R48-Q48-P48) -> 0 | T48: =NETWORKDAYS(L48,M48,[1]Congés!C$2:C$160) -> 3 | U48: Arrêt Maladie | W48: =IF(T48<3,"1) 1 à 2 jours",IF(T48<5,"2) 3 à 4 jours",IF(T48=5,"3) 5 jours",IF(T48<=10,"4) 6 à 10 jours",IF(T48>10,"5) plus de 10 jours"))))) -> 2) 3 à 4 jours | X48: * | Z48: =M48-L48+1 -> 3
A49: 15969 | C49: =VLOOKUP(A49,'[1]BDD RH'!$A$9:$W$453,16,FALSE) -> Tosca | D49: =VLOOKUP(A49,'[1]BDD RH'!$A$9:$W$453,4,FALSE) -> c | E49: =VLOOKUP(A49,'[1]BDD RH'!$A$9:$W$453,3,FALSE) -> F | F49: =DATEDIF((VLOOKUP(A49,'[1]BDD RH'!$A$2:$W$485,7,FALSE)),L49,"y") -> 30 | G49: =IF(F49<=20,"<=20",IF(F49<=30,"21/30",IF(F49<=40,"31/40",IF(F49<=50,"41/50",IF(F49<=60,"51/60",IF(F49>60,"61 et plus",FALSE)))))) -> 21/30 | H49: =DATEDIF((VLOOKUP(A49,'[1]BDD RH'!$A$2:$W$485,11,FALSE)),L49,"y") -> 10 | I49: =IF(H49<2,"<2",IF(H49<6,"2/5",IF(H49<11,"6/10",IF(H49<16,"11/15",IF(H49<21,"16/20",IF(H49<26,"21/25",IF(H49>25,"26 et plus",FALSE))))))) -> 6/10 | J49: BEE01 | K49: =IF($N$19:$N$585<=3,1,IF($N$19:$N$585<=6,2,IF($N$19:$N$585<=9,3,IF($N$19:$N$585>9,4,FALSE)))) -> 1 | L49: 42452 | M49: 42453 | N49: =MONTH(L49) -> 3 | O49: =MONTH(M49) -> 3 | P49: =IF(O49-N49=0,NETWORKDAYS(L49,M49,[1]Congés!$D$2:$D$26),NETWORKDAYS(L49,EOMONTH(L49,0),[1]Congés!$D$2:$D$26)) -> 2 | Q49: =IF(O49-N49=0,0,IF(O49-N49=1,NETWORKDAYS(L49,M49,[1]Congés!$D$2:$D$160)-P49,IF(O49-N49=2,NETWORKDAYS(L49,EOMONTH(L49,1),[1]Congés!$D$2:$D$160)-P49,IF(O49-N49=3,NETWORKDAYS(L49,EOMONTH(L49,1),[1]Congés!$D$2:$D$160)-P49)))) -> 0 | R49: =IF(O49-N49<2,0,IF(O49-N49=2,NETWORKDAYS(L49,M49,[1]Congés!$D$2:$D$160)-Q49-P49,IF(O49-N49=3,NETWORKDAYS(L49,EOMONTH(L49,2),[1]Congés!$D$2:$D$160)-Q49-P49))) -> 0 | S49: =IF(O49-N49<3,0,NETWORKDAYS(L49,M49,[1]Congés!$D$2:$D$160)-R49-Q49-P49) -> 0 | T49: =NETWORKDAYS(L49,M49,[1]Congés!C$2:C$160) -> 2 | U49: Arrêt Maladie | W49: =IF(T49<3,"1) 1 à 2 jours",IF(T49<5,"2) 3 à 4 jours",IF(T49=5,"3) 5 jours",IF(T49<=10,"4) 6 à 10 jours",IF(T49>10,"5) plus de 10 jours"))))) -> 1) 1 à 2 jours | X49: * | Z49: =M49-L49+1 -> 2
A50: 9313 | C50: =VLOOKUP(A50,'[1]BDD RH'!$A$9:$W$453,16,FALSE) -> Iris | D50: =VLOOKUP(A50,'[1]BDD RH'!$A$9:$W$453,4,FALSE) -> c | E50: =VLOOKUP(A50,'[1]BDD RH'!$A$9:$W$453,3,FALSE) -> H | F50: =DATEDIF((VLOOKUP(A50,'[1]BDD RH'!$A$2:$W$485,7,FALSE)),L50,"y") -> 42 | G50: =IF(F50<=20,"<=20",IF(F50<=30,"21/30",IF(F50<=40,"31/40",IF(F50<=50,"41/50",IF(F50<=60,"51/60",IF(F50>60,"61 et plus",FALSE)))))) -> 41/50 | H50: =DATEDIF((VLOOKUP(A50,'[1]BDD RH'!$A$2:$W$485,11,FALSE)),L50,"y") -> 17 | I50: =IF(H50<2,"<2",IF(H50<6,"2/5",IF(H50<11,"6/10",IF(H50<16,"11/15",IF(H50<21,"16/20",IF(H50<26,"21/25",IF(H50>25,"26 et plus",FALSE))))))) -> 16/20 | J50: BER01 | K50: =IF($N$19:$N$585<=3,1,IF($N$19:$N$585<=6,2,IF($N$19:$N$585<=9,3,IF($N$19:$N$585>9,4,FALSE)))) -> 1 | L50: 42370 | M50: 42409 | N50: =MONTH(L50) -> 1 | O50: =MONTH(M50) -> 2 | P50: =IF(O50-N50=0,NETWORKDAYS(L50,M50,[1]Congés!$D$2:$D$26),NETWORKDAYS(L50,EOMONTH(L50,0),[1]Congés!$D$2:$D$26)) -> 21 | Q50: =IF(O50-N50=0,0,IF(O50-N50=1,NETWORKDAYS(L50,M50,[1]Congés!$D$2:$D$160)-P50,IF(O50-N50=2,NETWORKDAYS(L50,EOMONTH(L50,1),[1]Congés!$D$2:$D$160)-P50,IF(O50-N50=3,NETWORKDAYS(L50,EOMONTH(L50,1),[1]Congés!$D$2:$D$160)-P50)))) -> 7 | R50: =IF(O50-N50<2,0,IF(O50-N50=2,NETWORKDAYS(L50,M50,[1]Congés!$D$2:$D$160)-Q50-P50,IF(O50-N50=3,NETWORKDAYS(L50,EOMONTH(L50,2),[1]Congés!$D$2:$D$160)-Q50-P50))) -> 0 | S50: =IF(O50-N50<3,0,NETWORKDAYS(L50,M50,[1]Congés!$D$2:$D$160)-R50-Q50-P50) -> 0 | T50: =NETWORKDAYS(L50,M50,[1]Congés!C$2:C$160) -> 27 | U50: LM | V50: 42156 | W50: =IF(T50<3,"1) 1 à 2 jours",IF(T50<5,"2) 3 à 4 jours",IF(T50=5,"3) 5 jours",IF(T50<=10,"4) 6 à 10 jours",IF(T50>10,"5) plus de 10 jours"))))) -> 5) plus de 10 jours | X50: prol | Z50: =M50-L50+1 -> 40
A51: 9313 | C51: =VLOOKUP(A51,'[1]BDD RH'!$A$9:$W$453,16,FALSE) -> Iris | D51: =VLOOKUP(A51,'[1]BDD RH'!$A$9:$W$453,4,FALSE) -> c | E51: =VLOOKUP(A51,'[1]BDD RH'!$A$9:$W$453,3,FALSE) -> H | F51: =DATEDIF((VLOOKUP(A51,'[1]BDD RH'!$A$2:$W$485,7,FALSE)),L51,"y") -> 42 | G51: =IF(F51<=20,"<=20",IF(F51<=30,"21/30",IF(F51<=40,"31/40",IF(F51<=50,"41/50",IF(F51<=60,"51/60",IF(F51>60,"61 et plus",FALSE)))))) -> 41/50 | H51: =DATEDIF((VLOOKUP(A51,'[1]BDD RH'!$A$2:$W$485,11,FALSE)),L51,"y") -> 17 | I51: =IF(H51<2,"<2",IF(H51<6,"2/5",IF(H51<11,"6/10",IF(H51<16,"11/15",IF(H51<21,"16/20",IF(H51<26,"21/25",IF(H51>25,"26 et plus",FALSE))))))) -> 16/20 | J51: BER01 | K51: =IF($N$19:$N$585<=3,1,IF($N$19:$N$585<=6,2,IF($N$19:$N$585<=9,3,IF($N$19:$N$585>9,4,FALSE)))) -> 1 | L51: 42410 | M51: 42430 | N51: =MONTH(L51) -> 2 | O51: =MONTH(M51) -> 3 | P51: =IF(O51-N51=0,NETWORKDAYS(L51,M51,[1]Congés!$D$2:$D$26),NETWORKDAYS(L51,EOMONTH(L51,0),[1]Congés!$D$2:$D$26)) -> 14 | Q51: =IF(O51-N51=0,0,IF(O51-N51=1,NETWORKDAYS(L51,M51,[1]Congés!$D$2:$D$160)-P51,IF(O51-N51=2,NETWORKDAYS(L51,EOMONTH(L51,1),[1]Congés!$D$2:$D$160)-P51,IF(O51-N51=3,NETWORKDAYS(L51,EOMONTH(L51,1),[1]Congés!$D$2:$D$160)-P51)))) -> 1 | R51: =IF(O51-N51<2,0,IF(O51-N51=2,NETWORKDAYS(L51,M51,[1]Congés!$D$2:$D$160)-Q51-P51,IF(O51-N51=3,NETWORKDAYS(L51,EOMONTH(L51,2),[1]Congés!$D$2:$D$160)-Q51-P51))) -> 0 | S51: =IF(O51-N51<3,0,NETWORKDAYS(L51,M51,[1]Congés!$D$2:$D$160)-R51-Q51-P51) -> 0 | T51: =NETWORKDAYS(L51,M51,[1]Congés!C$2:C$160) -> 15 | U51: LM | V51: 42156 | W51: =IF(T51<3,"1) 1 à 2 jours",IF(T51<5,"2) 3 à 4 jours",IF(T51=5,"3) 5 jours",IF(T51<=10,"4) 6 à 10 jours",IF(T51>10,"5) plus de 10 jours"))))) -> 5) plus de 10 jours | X51: fin de contrat | Z51: =M51-L51+1 -> 21
A52: 7741 | C52: =VLOOKUP(A52,'[1]BDD RH'!$A$9:$W$453,16,FALSE) -> Saphir | D52: =VLOOKUP(A52,'[1]BDD RH'!$A$9:$W$453,4,FALSE) -> s | E52: =VLOOKUP(A52,'[1]BDD RH'!$A$9:$W$453,3,FALSE) -> F | F52: =DATEDIF((VLOOKUP(A52,'[1]BDD RH'!$A$2:$W$485,7,FALSE)),L52,"y") -> 44 | G52: =IF(F52<=20,"<=20",IF(F52<=30,"21/30",IF(F52<=40,"31/40",IF(F52<=50,"41/50",IF(F52<=60,"51/60",IF(F52>60,"61 et plus",FALSE)))))) -> 41/50 | H52: =DATEDIF((VLOOKUP(A52,'[1]BDD RH'!$A$2:$W$485,11,FALSE)),L52,"y") -> 23 | I52: =IF(H52<2,"<2",IF(H52<6,"2/5",IF(H52<11,"6/10",IF(H52<16,"11/15",IF(H52<21,"16/20",IF(H52<26,"21/25",IF(H52>25,"26 et plus",FALSE))))))) -> 21/25 | J52: BES01 | K52: =IF($N$19:$N$585<=3,1,IF($N$19:$N$585<=6,2,IF($N$19:$N$585<=9,3,IF($N$19:$N$585>9,4,FALSE)))) -> 1 | L52: 42373 | M52: 42377 | N52: =MONTH(L52) -> 1 | O52: =MONTH(M52) -> 1 | P52: =IF(O52-N52=0,NETWORKDAYS(L52,M52,[1]Congés!$D$2:$D$26),NETWORKDAYS(L52,EOMONTH(L52,0),[1]Congés!$D$2:$D$26)) -> 5 | Q52: =IF(O52-N52=0,0,IF(O52-N52=1,NETWORKDAYS(L52,M52,[1]Congés!$D$2:$D$160)-P52,IF(O52-N52=2,NETWORKDAYS(L52,EOMONTH(L52,1),[1]Congés!$D$2:$D$160)-P52,IF(O52-N52=3,NETWORKDAYS(L52,EOMONTH(L52,1),[1]Congés!$D$2:$D$160)-P52)))) -> 0 | R52: =IF(O52-N52<2,0,IF(O52-N52=2,NETWORKDAYS(L52,M52,[1]Congés!$D$2:$D$160)-Q52-P52,IF(O52-N52=3,NETWORKDAYS(L52,EOMONTH(L52,2),[1]Congés!$D$2:$D$160)-Q52-P52))) -> 0 | S52: =IF(O52-N52<3,0,NETWORKDAYS(L52,M52,[1]Congés!$D$2:$D$160)-R52-Q52-P52) -> 0 | T52: =NETWORKDAYS(L52,M52,[1]Congés!C$2:C$160) -> 5 | U52: Arrêt Maladie | V52: 42373 | W52: =IF(T52<3,"1) 1 à 2 jours",IF(T52<5,"2) 3 à 4 jours",IF(T52=5,"3) 5 jours",IF(T52<=10,"4) 6 à 10 jours",IF(T52>10,"5) plus de 10 jours"))))) -> 3) 5 jours | X52: prol | Z52: =M52-L52+1 -> 5
A53: 7741 | C53: =VLOOKUP(A53,'[1]BDD RH'!$A$9:$W$453,16,FALSE) -> Saphir | D53: =VLOOKUP(A53,'[1]BDD RH'!$A$9:$W$453,4,FALSE) -> s | E53: =VLOOKUP(A53,'[1]BDD RH'!$A$9:$W$453,3,FALSE) -> F | F53: =DATEDIF((VLOOKUP(A53,'[1]BDD RH'!$A$2:$W$485,7,FALSE)),L53,"y") -> 44 | G53: =IF(F53<=20,"<=20",IF(F53<=30,"21/30",IF(F53<=40,"31/40",IF(F53<=50,"41/50",IF(F53<=60,"51/60",IF(F53>60,"61 et plus",FALSE)))))) -> 41/50 | H53: =DATEDIF((VLOOKUP(A53,'[1]BDD RH'!$A$2:$W$485,11,FALSE)),L53,"y") -> 23 | I53: =IF(H53<2,"<2",IF(H53<6,"2/5",IF(H53<11,"6/10",IF(H53<16,"11/15",IF(H53<21,"16/20",IF(H53<26,"21/25",IF(H53>25,"26 et plus",FALSE))))))) -> 21/25 | J53: BES01 | K53: =IF($N$19:$N$585<=3,1,IF($N$19:$N$585<=6,2,IF($N$19:$N$585<=9,3,IF($N$19:$N$585>9,4,FALSE)))) -> 1 | L53: 42378 | M53: 42384 | N53: =MONTH(L53) -> 1 | O53: =MONTH(M53) -> 1 | P53: =IF(O53-N53=0,NETWORKDAYS(L53,M53,[1]Congés!$D$2:$D$26),NETWORKDAYS(L53,EOMONTH(L53,0),[1]Congés!$D$2:$D$26)) -> 5 | Q53: =IF(O53-N53=0,0,IF(O53-N53=1,NETWORKDAYS(L53,M53,[1]Congés!$D$2:$D$160)-P53,IF(O53-N53=2,NETWORKDAYS(L53,EOMONTH(L53,1),[1]Congés!$D$2:$D$160)-P53,IF(O53-N53=3,NETWORKDAYS(L53,EOMONTH(L53,1),[1]Congés!$D$2:$D$160)-P53)))) -> 0 | R53: =IF(O53-N53<2,0,IF(O53-N53=2,NETWORKDAYS(L53,M53,[1]Congés!$D$2:$D$160)-Q53-P53,IF(O53-N53=3,NETWORKDAYS(L53,EOMONTH(L53,2),[1]Congés!$D$2:$D$160)-Q53-P53))) -> 0 | S53: =IF(O53-N53<3,0,NETWORKDAYS(L53,M53,[1]Congés!$D$2:$D$160)-R53-Q53-P53) -> 0 | T53: =NETWORKDAYS(L53,M53,[1]Congés!C$2:C$160) -> 5 | U53: Arrêt Maladie | V53: 42373 | W53: =IF(T53<3,"1) 1 à 2 jours",IF(T53<5,"2) 3 à 4 jours",IF(T53=5,"3) 5 jours",IF(T53<=10,"4) 6 à 10 jours",IF(T53>10,"5) plus de 10 jours"))))) -> 3) 5 jours | X53: * | Z53: =M53-L53+1 -> 7
A54: 7741 | C54: =VLOOKUP(A54,'[1]BDD RH'!$A$9:$W$453,16,FALSE) -> Saphir | D54: =VLOOKUP(A54,'[1]BDD RH'!$A$9:$W$453,4,FALSE) -> s | E54: =VLOOKUP(A54,'[1]BDD RH'!$A$9:$W$453,3,FALSE) -> F | F54: =DATEDIF((VLOOKUP(A54,'[1]BDD RH'!$A$2:$W$485,7,FALSE)),L54,"y") -> 44 | G54: =IF(F54<=20,"<=20",IF(F54<=30,"21/30",IF(F54<=40,"31/40",IF(F54<=50,"41/50",IF(F54<=60,"51/60",IF(F54>60,"61 et plus",FALSE)))))) -> 41/50 | H54: =DATEDIF((VLOOKUP(A54,'[1]BDD RH'!$A$2:$W$485,11,FALSE)),L54,"y") -> 23 | I54: =IF(H54<2,"<2",IF(H54<6,"2/5",IF(H54<11,"6/10",IF(H54<16,"11/15",IF(H54<21,"16/20",IF(H54<26,"21/25",IF(H54>25,"26 et plus",FALSE))))))) -> 21/25 | J54: BES02 | K54: =IF($N$19:$N$585<=3,1,IF($N$19:$N$585<=6,2,IF($N$19:$N$585<=9,3,IF($N$19:$N$585>9,4,FALSE)))) -> 1 | L54: 42389 | M54: 42391 | N54: =MONTH(L54) -> 1 | O54: =MONTH(M54) -> 1 | P54: =IF(O54-N54=0,NETWORKDAYS(L54,M54,[1]Congés!$D$2:$D$26),NETWORKDAYS(L54,EOMONTH(L54,0),[1]Congés!$D$2:$D$26)) -> 3 | Q54: =IF(O54-N54=0,0,IF(O54-N54=1,NETWORKDAYS(L54,M54,[1]Congés!$D$2:$D$160)-P54,IF(O54-N54=2,NETWORKDAYS(L54,EOMONTH(L54,1),[1]Congés!$D$2:$D$160)-P54,IF(O54-N54=3,NETWORKDAYS(L54,EOMONTH(L54,1),[1]Congés!$D$2:$D$160)-P54)))) -> 0 | R54: =IF(O54-N54<2,0,IF(O54-N54=2,NETWORKDAYS(L54,M54,[1]Congés!$D$2:$D$160)-Q54-P54,IF(O54-N54=3,NETWORKDAYS(L54,EOMONTH(L54,2),[1]Congés!$D$2:$D$160)-Q54-P54))) -> 0 | S54: =IF(O54-N54<3,0,NETWORKDAYS(L54,M54,[1]Congés!$D$2:$D$160)-R54-Q54-P54) -> 0 | T54: =NETWORKDAYS(L54,M54,[1]Congés!C$2:C$160) -> 3 | U54: Arrêt Maladie | W54: =IF(T54<3,"1) 1 à 2 jours",IF(T54<5,"2) 3 à 4 jours",IF(T54=5,"3) 5 jours",IF(T54<=10,"4) 6 à 10 jours",IF(T54>10,"5) plus de 10 jours"))))) -> 2) 3 à 4 jours | X54: * | Z54: =M54-L54+1 -> 3
A55: 7741 | C55: =VLOOKUP(A55,'[1]BDD RH'!$A$9:$W$453,16,FALSE) -> Saphir | D55: =VLOOKUP(A55,'[1]BDD RH'!$A$9:$W$453,4,FALSE) -> s | E55: =VLOOKUP(A55,'[1]BDD RH'!$A$9:$W$453,3,FALSE) -> F | F55: =DATEDIF((VLOOKUP(A55,'[1]BDD RH'!$A$2:$W$485,7,FALSE)),L55,"y") -> 44 | G55: =IF(F55<=20,"<=20",IF(F55<=30,"21/30",IF(F55<=40,"31/40",IF(F55<=50,"41/50",IF(F55<=60,"51/60",IF(F55>60,"61 et plus",FALSE)))))) -> 41/50 | H55: =DATEDIF((VLOOKUP(A55,'[1]BDD RH'!$A$2:$W$485,11,FALSE)),L55,"y") -> 24 | I55: =IF(H55<2,"<2",IF(H55<6,"2/5",IF(H55<11,"6/10",IF(H55<16,"11/15",IF(H55<21,"16/20",IF(H55<26,"21/25",IF(H55>25,"26 et plus",FALSE))))))) -> 21/25 | J55: BES03 | K55: =IF($N$19:$N$585<=3,1,IF($N$19:$N$585<=6,2,IF($N$19:$N$585<=9,3,IF($N$19:$N$585>9,4,FALSE)))) -> 1 | L55: 42437 | M55: 42437 | N55: =MONTH(L55) -> 3 | O55: =MONTH(M55) -> 3 | P55: =IF(O55-N55=0,NETWORKDAYS(L55,M55,[1]Congés!$D$2:$D$26),NETWORKDAYS(L55,EOMONTH(L55,0),[1]Congés!$D$2:$D$26)) -> 1 | Q55: =IF(O55-N55=0,0,IF(O55-N55=1,NETWORKDAYS(L55,M55,[1]Congés!$D$2:$D$160)-P55,IF(O55-N55=2,NETWORKDAYS(L55,EOMONTH(L55,1),[1]Congés!$D$2:$D$160)-P55,IF(O55-N55=3,NETWORKDAYS(L55,EOMONTH(L55,1),[1]Congés!$D$2:$D$160)-P55)))) -> 0 | R55: =IF(O55-N55<2,0,IF(O55-N55=2,NETWORKDAYS(L55,M55,[1]Congés!$D$2:$D$160)-Q55-P55,IF(O55-N55=3,NETWORKDAYS(L55,EOMONTH(L55,2),[1]Congés!$D$2:$D$160)-Q55-P55))) -> 0 | S55: =IF(O55-N55<3,0,NETWORKDAYS(L55,M55,[1]Congés!$D$2:$D$160)-R55-Q55-P55) -> 0 | T55: =NETWORKDAYS(L55,M55,[1]Congés!C$2:C$160) -> 1 | U55: Arrêt Maladie | W55: =IF(T55<3,"1) 1 à 2 jours",IF(T55<5,"2) 3 à 4 jours",IF(T55=5,"3) 5 jours",IF(T55<=10,"4) 6 à 10 jours",IF(T55>10,"5) plus de 10 jours"))))) -> 1) 1 à 2 jours | X55: * | Z55: =M55-L55+1 -> 1
A56: 7741 | C56: =VLOOKUP(A56,'[1]BDD RH'!$A$9:$W$453,16,FALSE) -> Saphir | D56: =VLOOKUP(A56,'[1]BDD RH'!$A$9:$W$453,4,FALSE) -> s | E56: =VLOOKUP(A56,'[1]BDD RH'!$A$9:$W$453,3,FALSE) -> F | F56: =DATEDIF((VLOOKUP(A56,'[1]BDD RH'!$A$2:$W$485,7,FALSE)),L56,"y") -> 44 | G56: =IF(F56<=20,"<=20",IF(F56<=30,"21/30",IF(F56<=40,"31/40",IF(F56<=50,"41/50",IF(F56<=60,"51/60",IF(F56>60,"61 et plus",FALSE)))))) -> 41/50 | H56: =DATEDIF((VLOOKUP(A56,'[1]BDD RH'!$A$2:$W$485,11,FALSE)),L56,"y") -> 24 | I56: =IF(H56<2,"<2",IF(H56<6,"2/5",IF(H56<11,"6/10",IF(H56<16,"11/15",IF(H56<21,"16/20",IF(H56<26,"21/25",IF(H56>25,"26 et plus",FALSE))))))) -> 21/25 | J56: BES04 | K56: =IF($N$19:$N$585<=3,1,IF($N$19:$N$585<=6,2,IF($N$19:$N$585<=9,3,IF($N$19:$N$585>9,4,FALSE)))) -> 1 | L56: 42453 | M56: 42454 | N56: =MONTH(L56) -> 3 | O56: =MONTH(M56) -> 3 | P56: =IF(O56-N56=0,NETWORKDAYS(L56,M56,[1]Congés!$D$2:$D$26),NETWORKDAYS(L56,EOMONTH(L56,0),[1]Congés!$D$2:$D$26)) -> 2 | Q56: =IF(O56-N56=0,0,IF(O56-N56=1,NETWORKDAYS(L56,M56,[1]Congés!$D$2:$D$160)-P56,IF(O56-N56=2,NETWORKDAYS(L56,EOMONTH(L56,1),[1]Congés!$D$2:$D$160)-P56,IF(O56-N56=3,NETWORKDAYS(L56,EOMONTH(L56,1),[1]Congés!$D$2:$D$160)-P56)))) -> 0 | R56: =IF(O56-N56<2,0,IF(O56-N56=2,NETWORKDAYS(L56,M56,[1]Congés!$D$2:$D$160)-Q56-P56,IF(O56-N56=3,NETWORKDAYS(L56,EOMONTH(L56,2),[1]Congés!$D$2:$D$160)-Q56-P56))) -> 0 | S56: =IF(O56-N56<3,0,NETWORKDAYS(L56,M56,[1]Congés!$D$2:$D$160)-R56-Q56-P56) -> 0 | T56: =NETWORKDAYS(L56,M56,[1]Congés!C$2:C$160) -> 2 | U56: Arrêt Maladie | W56: =IF(T56<3,"1) 1 à 2 jours",IF(T56<5,"2) 3 à 4 jours",IF(T56=5,"3) 5 jours",IF(T56<=10,"4) 6 à 10 jours",IF(T56>10,"5) plus de 10 jours"))))) -> 1) 1 à 2 jours | X56: * | Z56: =M56-L56+1 -> 2
A57: 7741 | C57: =VLOOKUP(A57,'[1]BDD RH'!$A$9:$W$453,16,FALSE) -> Saphir | D57: =VLOOKUP(A57,'[1]BDD RH'!$A$9:$W$453,4,FALSE) -> s | E57: =VLOOKUP(A57,'[1]BDD RH'!$A$9:$W$453,3,FALSE) -> F | F57: =DATEDIF((VLOOKUP(A57,'[1]BDD RH'!$A$2:$W$485,7,FALSE)),L57,"y") -> 44 | G57: =IF(F57<=20,"<=20",IF(F57<=30,"21/30",IF(F57<=40,"31/40",IF(F57<=50,"41/50",IF(F57<=60,"51/60",IF(F57>60,"61 et plus",FALSE)))))) -> 41/50 | H57: =DATEDIF((VLOOKUP(A57,'[1]BDD RH'!$A$2:$W$485,11,FALSE)),L57,"y") -> 24 | I57: =IF(H57<2,"<2",IF(H57<6,"2/5",IF(H57<11,"6/10",IF(H57<16,"11/15",IF(H57<21,"16/20",IF(H57<26,"21/25",IF(H57>25,"26 et plus",FALSE))))))) -> 21/25 | J57: BES05 | K57: =IF($N$19:$N$585<=3,1,IF($N$19:$N$585<=6,2,IF($N$19:$N$585<=9,3,IF($N$19:$N$585>9,4,FALSE)))) -> 1 | L57: 42458 | M57: 42461 | N57: =MONTH(L57) -> 3 | O57: =MONTH(M57) -> 4 | P57: =IF(O57-N57=0,NETWORKDAYS(L57,M57,[1]Congés!$D$2:$D$26),NETWORKDAYS(L57,EOMONTH(L57,0),[1]Congés!$D$2:$D$26)) -> 3 | Q57: =IF(O57-N57=0,0,IF(O57-N57=1,NETWORKDAYS(L57,M57,[1]Congés!$D$2:$D$160)-P57,IF(O57-N57=2,NETWORKDAYS(L57,EOMONTH(L57,1),[1]Congés!$D$2:$D$160)-P57,IF(O57-N57=3,NETWORKDAYS(L57,EOMONTH(L57,1),[1]Congés!$D$2:$D$160)-P57)))) -> 1 | R57: =IF(O57-N57<2,0,IF(O57-N57=2,NETWORKDAYS(L57,M57,[1]Congés!$D$2:$D$160)-Q57-P57,IF(O57-N57=3,NETWORKDAYS(L57,EOMONTH(L57,2),[1]Congés!$D$2:$D$160)-Q57-P57))) -> 0 | S57: =IF(O57-N57<3,0,NETWORKDAYS(L57,M57,[1]Congés!$D$2:$D$160)-R57-Q57-P57) -> 0 | T57: =NETWORKDAYS(L57,M57,[1]Congés!C$2:C$160) -> 4 | U57: Arrêt Maladie | W57: =IF(T57<3,"1) 1 à 2 jours",IF(T57<5,"2) 3 à 4 jours",IF(T57=5,"3) 5 jours",IF(T57<=10,"4) 6 à 10 jours",IF(T57>10,"5) plus de 10 jours"))))) -> 2) 3 à 4 jours | X57: * | Z57: =M57-L57+1 -> 4
A58: 15626 | C58: =VLOOKUP(A58,'[1]BDD RH'!$A$9:$W$453,16,FALSE) -> Saphir | D58: =VLOOKUP(A58,'[1]BDD RH'!$A$9:$W$453,4,FALSE) -> c | E58: =VLOOKUP(A58,'[1]BDD RH'!$A$9:$W$453,3,FALSE) -> H | F58: =DATEDIF((VLOOKUP(A58,'[1]BDD RH'!$A$2:$W$485,7,FALSE)),L58,"y") -> 42 | G58: =IF(F58<=20,"<=20",IF(F58<=30,"21/30",IF(F58<=40,"31/40",IF(F58<=50,"41/50",IF(F58<=60,"51/60",IF(F58>60,"61 et plus",FALSE)))))) -> 41/50 | H58: =DATEDIF((VLOOKUP(A58,'[1]BDD RH'!$A$2:$W$485,11,FALSE)),L58,"y") -> 11 | I58: =IF(H58<2,"<2",IF(H58<6,"2/5",IF(H58<11,"6/10",IF(H58<16,"11/15",IF(H58<21,"16/20",IF(H58<26,"21/25",IF(H58>25,"26 et plus",FALSE))))))) -> 11/15 | K58: =IF($N$19:$N$585<=3,1,IF($N$19:$N$585<=6,2,IF($N$19:$N$585<=9,3,IF($N$19:$N$585>9,4,FALSE)))) -> 1 | L58: 42370 | M58: 42374 | N58: =MONTH(L58) -> 1 | O58: =MONTH(M58) -> 1 | P58: =IF(O58-N58=0,NETWORKDAYS(L58,M58,[1]Congés!$D$2:$D$26),NETWORKDAYS(L58,EOMONTH(L58,0),[1]Congés!$D$2:$D$26)) -> 3 | Q58: =IF(O58-N58=0,0,IF(O58-N58=1,NETWORKDAYS(L58,M58,[1]Congés!$D$2:$D$160)-P58,IF(O58-N58=2,NETWORKDAYS(L58,EOMONTH(L58,1),[1]Congés!$D$2:$D$160)-P58,IF(O58-N58=3,NETWORKDAYS(L58,EOMONTH(L58,1),[1]Congés!$D$2:$D$160)-P58)))) -> 0 | R58: =IF(O58-N58<2,0,IF(O58-N58=2,NETWORKDAYS(L58,M58,[1]Congés!$D$2:$D$160)-Q58-P58,IF(O58-N58=3,NETWORKDAYS(L58,EOMONTH(L58,2),[1]Congés!$D$2:$D$160)-Q58-P58))) -> 0 | S58: =IF(O58-N58<3,0,NETWORKDAYS(L58,M58,[1]Congés!$D$2:$D$160)-R58-Q58-P58) -> 0 | T58: =NETWORKDAYS(L58,M58,[1]Congés!C$2:C$160) -> 2 | U58: Mi-temps | V58: 42282 | W58: =IF(T58<3,"1) 1 à 2 jours",IF(T58<5,"2) 3 à 4 jours",IF(T58=5,"3) 5 jours",IF(T58<=10,"4) 6 à 10 jours",IF(T58>10,"5) plus de 10 jours"))))) -> 1) 1 à 2 jours | Z58: =M58-L58+1 -> 5
A59: 15626 | C59: =VLOOKUP(A59,'[1]BDD RH'!$A$9:$W$453,16,FALSE) -> Saphir | D59: =VLOOKUP(A59,'[1]BDD RH'!$A$9:$W$453,4,FALSE) -> c | E59: =VLOOKUP(A59,'[1]BDD RH'!$A$9:$W$453,3,FALSE) -> H | F59: =DATEDIF((VLOOKUP(A59,'[1]BDD RH'!$A$2:$W$485,7,FALSE)),L59,"y") -> 42 | G59: =IF(F59<=20,"<=20",IF(F59<=30,"21/30",IF(F59<=40,"31/40",IF(F59<=50,"41/50",IF(F59<=60,"51/60",IF(F59>60,"61 et plus",FALSE)))))) -> 41/50 | H59: =DATEDIF((VLOOKUP(A59,'[1]BDD RH'!$A$2:$W$485,11,FALSE)),L59,"y") -> 11 | I59: =IF(H59<2,"<2",IF(H59<6,"2/5",IF(H59<11,"6/10",IF(H59<16,"11/15",IF(H59<21,"16/20",IF(H59<26,"21/25",IF(H59>25,"26 et plus",FALSE))))))) -> 11/15 | K59: =IF($N$19:$N$585<=3,1,IF($N$19:$N$585<=6,2,IF($N$19:$N$585<=9,3,IF($N$19:$N$585>9,4,FALSE)))) -> 1 | L59: 42373 | M59: 42402 | N59: =MONTH(L59) -> 1 | O59: =MONTH(M59) -> 2 | P59: =IF(O59-N59=0,NETWORKDAYS(L59,M59,[1]Congés!$D$2:$D$26),NETWORKDAYS(L59,EOMONTH(L59,0),[1]Congés!$D$2:$D$26)) -> 20 | Q59: =IF(O59-N59=0,0,IF(O59-N59=1,NETWORKDAYS(L59,M59,[1]Congés!$D$2:$D$160)-P59,IF(O59-N59=2,NETWORKDAYS(L59,EOMONTH(L59,1),[1]Congés!$D$2:$D$160)-P59,IF(O59-N59=3,NETWORKDAYS(L59,EOMONTH(L59,1),[1]Congés!$D$2:$D$160)-P59)))) -> 2 | R59: =IF(O59-N59<2,0,IF(O59-N59=2,NETWORKDAYS(L59,M59,[1]Congés!$D$2:$D$160)-Q59-P59,IF(O59-N59=3,NETWORKDAYS(L59,EOMONTH(L59,2),[1]Congés!$D$2:$D$160)-Q59-P59))) -> 0 | S59: =IF(O59-N59<3,0,NETWORKDAYS(L59,M59,[1]Congés!$D$2:$D$160)-R59-Q59-P59) -> 0 | T59: =NETWORKDAYS(L59,M59,[1]Congés!C$2:C$160) -> 22 | U59: Mi-temps | V59: 42282 | W59: =IF(T59<3,"1) 1 à 2 jours",IF(T59<5,"2) 3 à 4 jours",IF(T59=5,"3) 5 jours",IF(T59<=10,"4) 6 à 10 jours",IF(T59>10,"5) plus de 10 jours"))))) -> 5) plus de 10 jours | Z59: =M59-L59+1 -> 30
A60: 15626 | C60: =VLOOKUP(A60,'[1]BDD RH'!$A$9:$W$453,16,FALSE) -> Saphir | D60: =VLOOKUP(A60,'[1]BDD RH'!$A$9:$W$453,4,FALSE) -> c | E60: =VLOOKUP(A60,'[1]BDD RH'!$A$9:$W$453,3,FALSE) -> H | F60: =DATEDIF((VLOOKUP(A60,'[1]BDD RH'!$A$2:$W$485,7,FALSE)),L60,"y") -> 42 | G60: =IF(F60<=20,"<=20",IF(F60<=30,"21/30",IF(F60<=40,"31/40",IF(F60<=50,"41/50",IF(F60<=60,"51/60",IF(F60>60,"61 et plus",FALSE)))))) -> 41/50 | H60: =DATEDIF((VLOOKUP(A60,'[1]BDD RH'!$A$2:$W$485,11,FALSE)),L60,"y") -> 11 | I60: =IF(H60<2,"<2",IF(H60<6,"2/5",IF(H60<11,"6/10",IF(H60<16,"11/15",IF(H60<21,"16/20",IF(H60<26,"21/25",IF(H60>25,"26 et plus",FALSE))))))) -> 11/15 | K60: =IF($N$19:$N$585<=3,1,IF($N$19:$N$585<=6,2,IF($N$19:$N$585<=9,3,IF($N$19:$N$585>9,4,FALSE)))) -> 1 | L60: 42403 | M60: 42432 | N60: =MONTH(L60) -> 2 | O60: =MONTH(M60) -> 3 | P60: =IF(O60-N60=0,NETWORKDAYS(L60,M60,[1]Congés!$D$2:$D$26),NETWORKDAYS(L60,EOMONTH(L60,0),[1]Congés!$D$2:$D$26)) -> 19 | Q60: =IF(O60-N60=0,0,IF(O60-N60=1,NETWORKDAYS(L60,M60,[1]Congés!$D$2:$D$160)-P60,IF(O60-N60=2,NETWORKDAYS(L60,EOMONTH(L60,1),[1]Congés!$D$2:$D$160)-P60,IF(O60-N60=3,NETWORKDAYS(L60,EOMONTH(L60,1),[1]Congés!$D$2:$D$160)-P60)))) -> 3 | R60: =IF(O60-N60<2,0,IF(O60-N60=2,NETWORKDAYS(L60,M60,[1]Congés!$D$2:$D$160)-Q60-P60,IF(O60-N60=3,NETWORKDAYS(L60,EOMONTH(L60,2),[1]Congés!$D$2:$D$160)-Q60-P60))) -> 0 | S60: =IF(O60-N60<3,0,NETWORKDAYS(L60,M60,[1]Congés!$D$2:$D$160)-R60-Q60-P60) -> 0 | T60: =NETWORKDAYS(L60,M60,[1]Congés!C$2:C$160) -> 22 | U60: Mi-temps | V60: 42282 | W60: =IF(T60<3,"1) 1 à 2 jours",IF(T60<5,"2) 3 à 4 jours",IF(T60=5,"3) 5 jours",IF(T60<=10,"4) 6 à 10 jours",IF(T60>10,"5) plus de 10 jours"))))) -> 5) plus de 10 jours | Z60: =M60-L60+1 -> 30
A61: 15626 | C61: =VLOOKUP(A61,'[1]BDD RH'!$A$9:$W$453,16,FALSE) -> Saphir | D61: =VLOOKUP(A61,'[1]BDD RH'!$A$9:$W$453,4,FALSE) -> c | E61: =VLOOKUP(A61,'[1]BDD RH'!$A$9:$W$453,3,FALSE) -> H | F61: =DATEDIF((VLOOKUP(A61,'[1]BDD RH'!$A$2:$W$485,7,FALSE)),L61,"y") -> 43 | G61: =IF(F61<=20,"<=20",IF(F61<=30,"21/30",IF(F61<=40,"31/40",IF(F61<=50,"41/50",IF(F61<=60,"51/60",IF(F61>60,"61 et plus",FALSE)))))) -> 41/50 | H61: =DATEDIF((VLOOKUP(A61,'[1]BDD RH'!$A$2:$W$485,11,FALSE)),L61,"y") -> 11 | I61: =IF(H61<2,"<2",IF(H61<6,"2/5",IF(H61<11,"6/10",IF(H61<16,"11/15",IF(H61<21,"16/20",IF(H61<26,"21/25",IF(H61>25,"26 et plus",FALSE))))))) -> 11/15 | K61: =IF($N$19:$N$585<=3,1,IF($N$19:$N$585<=6,2,IF($N$19:$N$585<=9,3,IF($N$19:$N$585>9,4,FALSE)))) -> 1 | L61: 42430 | M61: 42460 | N61: =MONTH(L61) -> 3 | O61: =MONTH(M61) -> 3 | P61: =IF(O61-N61=0,NETWORKDAYS(L61,M61,[1]Congés!$D$2:$D$26),NETWORKDAYS(L61,EOMONTH(L61,0),[1]Congés!$D$2:$D$26)) -> 23 | Q61: =IF(O61-N61=0,0,IF(O61-N61=1,NETWORKDAYS(L61,M61,[1]Congés!$D$2:$D$160)-P61,IF(O61-N61=2,NETWORKDAYS(L61,EOMONTH(L61,1),[1]Congés!$D$2:$D$160)-P61,IF(O61-N61=3,NETWORKDAYS(L61,EOMONTH(L61,1),[1]Congés!$D$2:$D$160)-P61)))) -> 0 | R61: =IF(O61-N61<2,0,IF(O61-N61=2,NETWORKDAYS(L61,M61,[1]Congés!$D$2:$D$160)-Q61-P61,IF(O61-N61=3,NETWORKDAYS(L61,EOMONTH(L61,2),[1]Congés!$D$2:$D$160)-Q61-P61))) -> 0 | S61: =IF(O61-N61<3,0,NETWORKDAYS(L61,M61,[1]Congés!$D$2:$D$160)-R61-Q61-P61) -> 0 | T61: =NETWORKDAYS(L61,M61,[1]Congés!C$2:C$160) -> 22 | U61: Mi-temps | V61: 42282 | W61: =IF(T61<3,"1) 1 à 2 jours",IF(T61<5,"2) 3 à 4 jours",IF(T61=5,"3) 5 jours",IF(T61<=10,"4) 6 à 10 jours",IF(T61>10,"5) plus de 10 jours"))))) -> 5) plus de 10 jours | Z61: =M61-L61+1 -> 31
A62: 15626 | C62: =VLOOKUP(A62,'[1]BDD RH'!$A$9:$W$453,16,FALSE) -> Saphir | D62: =VLOOKUP(A62,'[1]BDD RH'!$A$9:$W$453,4,FALSE) -> c | E62: =VLOOKUP(A62,'[1]BDD RH'!$A$9:$W$453,3,FALSE) -> H | F62: =DATEDIF((VLOOKUP(A62,'[1]BDD RH'!$A$2:$W$485,7,FALSE)),L62,"y") -> 43 | G62: =IF(F62<=20,"<=20",IF(F62<=30,"21/30",IF(F62<=40,"31/40",IF(F62<=50,"41/50",IF(F62<=60,"51/60",IF(F62>60,"61 et plus",FALSE)))))) -> 41/50 | H62: =DATEDIF((VLOOKUP(A62,'[1]BDD RH'!$A$2:$W$485,11,FALSE)),L62,"y") -> 11 | I62: =IF(H62<2,"<2",IF(H62<6,"2/5",IF(H62<11,"6/10",IF(H62<16,"11/15",IF(H62<21,"16/20",IF(H62<26,"21/25",IF(H62>25,"26 et plus",FALSE))))))) -> 11/15 | K62: =IF($N$19:$N$585<=3,1,IF($N$19:$N$585<=6,2,IF($N$19:$N$585<=9,3,IF($N$19:$N$585>9,4,FALSE)))) -> 2 | L62: 42485 | M62: 42485 | N62: =MONTH(L62) -> 4 | O62: =MONTH(M62) -> 4 | P62: =IF(O62-N62=0,NETWORKDAYS(L62,M62,[1]Congés!$D$2:$D$26),NETWORKDAYS(L62,EOMONTH(L62,0),[1]Congés!$D$2:$D$26)) -> 1 | Q62: =IF(O62-N62=0,0,IF(O62-N62=1,NETWORKDAYS(L62,M62,[1]Congés!$D$2:$D$160)-P62,IF(O62-N62=2,NETWORKDAYS(L62,EOMONTH(L62,1),[1]Congés!$D$2:$D$160)-P62,IF(O62-N62=3,NETWORKDAYS(L62,EOMONTH(L62,1),[1]Congés!$D$2:$D$160)-P62)))) -> 0 | R62: =IF(O62-N62<2,0,IF(O62-N62=2,NETWORKDAYS(L62,M62,[1]Congés!$D$2:$D$160)-Q62-P62,IF(O62-N62=3,NETWORKDAYS(L62,EOMONTH(L62,2),[1]Congés!$D$2:$D$160)-Q62-P62))) -> 0 | S62: =IF(O62-N62<3,0,NETWORKDAYS(L62,M62,[1]Congés!$D$2:$D$160)-R62-Q62-P62) -> 0 | T62: =NETWORKDAYS(L62,M62,[1]Congés!C$2:C$160) -> 1 | U62: Arrêt Maladie | W62: =IF(T62<3,"1) 1 à 2 jours",IF(T62<5,"2) 3 à 4 jours",IF(T62=5,"3) 5 jours",IF(T62<=10,"4) 6 à 10 jours",IF(T62>10,"5) plus de 10 jours"))))) -> 1) 1 à 2 jours | X62: * | Z62: =M62-L62+1 -> 1
A63: 2403 | C63: =VLOOKUP(A63,'[1]BDD RH'!$A$9:$W$453,16,FALSE) -> Support table | D63: =VLOOKUP(A63,'[1]BDD RH'!$A$9:$W$453,4,FALSE) -> s | E63: =VLOOKUP(A63,'[1]BDD RH'!$A$9:$W$453,3,FALSE) -> F | F63: =DATEDIF((VLOOKUP(A63,'[1]BDD RH'!$A$2:$W$485,7,FALSE)),L63,"y") -> 44 | G63: =IF(F63<=20,"<=20",IF(F63<=30,"21/30",IF(F63<=40,"31/40",IF(F63<=50,"41/50",IF(F63<=60,"51/60",IF(F63>60,"61 et plus",FALSE)))))) -> 41/50 | H63: =DATEDIF((VLOOKUP(A63,'[1]BDD RH'!$A$2:$W$485,11,FALSE)),L63,"y") -> 23 | I63: =IF(H63<2,"<2",IF(H63<6,"2/5",IF(H63<11,"6/10",IF(H63<16,"11/15",IF(H63<21,"16/20",IF(H63<26,"21/25",IF(H63>25,"26 et plus",FALSE))))))) -> 21/25 | J63: BIB01 | K63: =IF($N$19:$N$585<=3,1,IF($N$19:$N$585<=6,2,IF($N$19:$N$585<=9,3,IF($N$19:$N$585>9,4,FALSE)))) -> 1 | L63: 42411 | M63: 42412 | N63: =MONTH(L63) -> 2 | O63: =MONTH(M63) -> 2 | P63: =IF(O63-N63=0,NETWORKDAYS(L63,M63,[1]Congés!$D$2:$D$26),NETWORKDAYS(L63,EOMONTH(L63,0),[1]Congés!$D$2:$D$26)) -> 2 | Q63: =IF(O63-N63=0,0,IF(O63-N63=1,NETWORKDAYS(L63,M63,[1]Congés!$D$2:$D$160)-P63,IF(O63-N63=2,NETWORKDAYS(L63,EOMONTH(L63,1),[1]Congés!$D$2:$D$160)-P63,IF(O63-N63=3,NETWORKDAYS(L63,EOMONTH(L63,1),[1]Congés!$D$2:$D$160)-P63)))) -> 0 | R63: =IF(O63-N63<2,0,IF(O63-N63=2,NETWORKDAYS(L63,M63,[1]Congés!$D$2:$D$160)-Q63-P63,IF(O63-N63=3,NETWORKDAYS(L63,EOMONTH(L63,2),[1]Congés!$D$2:$D$160)-Q63-P63))) -> 0 | S63: =IF(O63-N63<3,0,NETWORKDAYS(L63,M63,[1]Congés!$D$2:$D$160)-R63-Q63-P63) -> 0 | T63: =NETWORKDAYS(L63,M63,[1]Congés!C$2:C$160) -> 2 | U63: Arrêt Maladie | W63: =IF(T63<3,"1) 1 à 2 jours",IF(T63<5,"2) 3 à 4 jours",IF(T63=5,"3) 5 jours",IF(T63<=10,"4) 6 à 10 jours",IF(T63>10,"5) plus de 10 jours"))))) -> 1) 1 à 2 jours | X63: * | Z63: =M63-L63+1 -> 2
A64: 2906 | C64: =VLOOKUP(A64,'[1]BDD RH'!$A$9:$W$453,16,FALSE) -> Fjord | D64: =VLOOKUP(A64,'[1]BDD RH'!$A$9:$W$453,4,FALSE) -> t | E64: =VLOOKUP(A64,'[1]BDD RH'!$A$9:$W$453,3,FALSE) -> F | F64: =DATEDIF((VLOOKUP(A64,'[1]BDD RH'!$A$2:$W$485,7,FALSE)),L64,"y") -> 45 | G64: =IF(F64<=20,"<=20",IF(F64<=30,"21/30",IF(F64<=40,"31/40",IF(F64<=50,"41/50",IF(F64<=60,"51/60",IF(F64>60,"61 et plus",FALSE)))))) -> 41/50 | H64: =DATEDIF((VLOOKUP(A64,'[1]BDD RH'!$A$2:$W$485,11,FALSE)),L64,"y") -> 24 | I64: =IF(H64<2,"<2",IF(H64<6,"2/5",IF(H64<11,"6/10",IF(H64<16,"11/15",IF(H64<21,"16/20",IF(H64<26,"21/25",IF(H64>25,"26 et plus",FALSE))))))) -> 21/25 | J64: BLS01 | K64: =IF($N$19:$N$585<=3,1,IF($N$19:$N$585<=6,2,IF($N$19:$N$585<=9,3,IF($N$19:$N$585>9,4,FALSE)))) -> 2 | L64: 42464 | M64: 42466 | N64: =MONTH(L64) -> 4 | O64: =MONTH(M64) -> 4 | P64: =IF(O64-N64=0,NETWORKDAYS(L64,M64,[1]Congés!$D$2:$D$26),NETWORKDAYS(L64,EOMONTH(L64,0),[1]Congés!$D$2:$D$26)) -> 3 | Q64: =IF(O64-N64=0,0,IF(O64-N64=1,NETWORKDAYS(L64,M64,[1]Congés!$D$2:$D$160)-P64,IF(O64-N64=2,NETWORKDAYS(L64,EOMONTH(L64,1),[1]Congés!$D$2:$D$160)-P64,IF(O64-N64=3,NETWORKDAYS(L64,EOMONTH(L64,1),[1]Congés!$D$2:$D$160)-P64)))) -> 0 | R64: =IF(O64-N64<2,0,IF(O64-N64=2,NETWORKDAYS(L64,M64,[1]Congés!$D$2:$D$160)-Q64-P64,IF(O64-N64=3,NETWORKDAYS(L64,EOMONTH(L64,2),[1]Congés!$D$2:$D$160)-Q64-P64))) -> 0 | S64: =IF(O64-N64<3,0,NETWORKDAYS(L64,M64,[1]Congés!$D$2:$D$160)-R64-Q64-P64) -> 0 | T64: =NETWORKDAYS(L64,M64,[1]Congés!C$2:C$160) -> 3 | U64: Arrêt Maladie | V64: 42464 | W64: =IF(T64<3,"1) 1 à 2 jours",IF(T64<5,"2) 3 à 4 jours",IF(T64=5,"3) 5 jours",IF(T64<=10,"4) 6 à 10 jours",IF(T64>10,"5) plus de 10 jours"))))) -> 2) 3 à 4 jours | X64: prol | Z64: =M64-L64+1 -> 3
A65: 2906 | C65: =VLOOKUP(A65,'[1]BDD RH'!$A$9:$W$453,16,FALSE) -> Fjord | D65: =VLOOKUP(A65,'[1]BDD RH'!$A$9:$W$453,4,FALSE) -> t | E65: =VLOOKUP(A65,'[1]BDD RH'!$A$9:$W$453,3,FALSE) -> F | F65: =DATEDIF((VLOOKUP(A65,'[1]BDD RH'!$A$2:$W$485,7,FALSE)),L65,"y") -> 45 | G65: =IF(F65<=20,"<=20",IF(F65<=30,"21/30",IF(F65<=40,"31/40",IF(F65<=50,"41/50",IF(F65<=60,"51/60",IF(F65>60,"61 et plus",FALSE)))))) -> 41/50 | H65: =DATEDIF((VLOOKUP(A65,'[1]BDD RH'!$A$2:$W$485,11,FALSE)),L65,"y") -> 24 | I65: =IF(H65<2,"<2",IF(H65<6,"2/5",IF(H65<11,"6/10",IF(H65<16,"11/15",IF(H65<21,"16/20",IF(H65<26,"21/25",IF(H65>25,"26 et plus",FALSE))))))) -> 21/25 | J65: BLS01 | K65: =IF($N$19:$N$585<=3,1,IF($N$19:$N$585<=6,2,IF($N$19:$N$585<=9,3,IF($N$19:$N$585>9,4,FALSE)))) -> 2 | L65: 42467 | M65: 42473 | N65: =MONTH(L65) -> 4 | O65: =MONTH(M65) -> 4 | P65: =IF(O65-N65=0,NETWORKDAYS(L65,M65,[1]Congés!$D$2:$D$26),NETWORKDAYS(L65,EOMONTH(L65,0),[1]Congés!$D$2:$D$26)) -> 5 | Q65: =IF(O65-N65=0,0,IF(O65-N65=1,NETWORKDAYS(L65,M65,[1]Congés!$D$2:$D$160)-P65,IF(O65-N65=2,NETWORKDAYS(L65,EOMONTH(L65,1),[1]Congés!$D$2:$D$160)-P65,IF(O65-N65=3,NETWORKDAYS(L65,EOMONTH(L65,1),[1]Congés!$D$2:$D$160)-P65)))) -> 0 | R65: =IF(O65-N65<2,0,IF(O65-N65=2,NETWORKDAYS(L65,M65,[1]Congés!$D$2:$D$160)-Q65-P65,IF(O65-N65=3,NETWORKDAYS(L65,EOMONTH(L65,2),[1]Congés!$D$2:$D$160)-Q65-P65))) -> 0 | S65: =IF(O65-N65<3,0,NETWORKDAYS(L65,M65,[1]Congés!$D$2:$D$160)-R65-Q65-P65) -> 0 | T65: =NETWORKDAYS(L65,M65,[1]Congés!C$2:C$160) -> 5 | U65: Arrêt Maladie | V65: 42464 | W65: =IF(T65<3,"1) 1 à 2 jours",IF(T65<5,"2) 3 à 4 jours",IF(T65=5,"3) 5 jours",IF(T65<=10,"4) 6 à 10 jours",IF(T65>10,"5) plus de 10 jours"))))) -> 3) 5 jours | X65: * | Z65: =M65-L65+1 -> 7
A66: 20945 | C66: =VLOOKUP(A66,'[1]BDD RH'!$A$9:$W$453,16,FALSE) -> Swift | D66: =VLOOKUP(A66,'[1]BDD RH'!$A$9:$W$453,4,FALSE) -> t | E66: =VLOOKUP(A66,'[1]BDD RH'!$A$9:$W$453,3,FALSE) -> F | F66: =DATEDIF((VLOOKUP(A66,'[1]BDD RH'!$A$2:$W$485,7,FALSE)),L66,"y") -> 39 | G66: =IF(F66<=20,"<=20",IF(F66<=30,"21/30",IF(F66<=40,"31/40",IF(F66<=50,"41/50",IF(F66<=60,"51/60",IF(F66>60,"61 et plus",FALSE)))))) -> 31/40 | H66: =DATEDIF((VLOOKUP(A66,'[1]BDD RH'!$A$2:$W$485,11,FALSE)),L66,"y") -> 4 | I66: =IF(H66<2,"<2",IF(H66<6,"2/5",IF(H66<11,"6/10",IF(H66<16,"11/15",IF(H66<21,"16/20",IF(H66<26,"21/25",IF(H66>25,"26 et plus",FALSE))))))) -> 2/5 | J66: BLL01 | K66: =IF($N$19:$N$585<=3,1,IF($N$19:$N$585<=6,2,IF($N$19:$N$585<=9,3,IF($N$19:$N$585>9,4,FALSE)))) -> 1 | L66: 42370 | M66: 42386 | N66: =MONTH(L66) -> 1 | O66: =MONTH(M66) -> 1 | P66: =IF(O66-N66=0,NETWORKDAYS(L66,M66,[1]Congés!$D$2:$D$26),NETWORKDAYS(L66,EOMONTH(L66,0),[1]Congés!$D$2:$D$26)) -> 11 | Q66: =IF(O66-N66=0,0,IF(O66-N66=1,NETWORKDAYS(L66,M66,[1]Congés!$D$2:$D$160)-P66,IF(O66-N66=2,NETWORKDAYS(L66,EOMONTH(L66,1),[1]Congés!$D$2:$D$160)-P66,IF(O66-N66=3,NETWORKDAYS(L66,EOMONTH(L66,1),[1]Congés!$D$2:$D$160)-P66)))) -> 0 | R66: =IF(O66-N66<2,0,IF(O66-N66=2,NETWORKDAYS(L66,M66,[1]Congés!$D$2:$D$160)-Q66-P66,IF(O66-N66=3,NETWORKDAYS(L66,EOMONTH(L66,2),[1]Congés!$D$2:$D$160)-Q66-P66))) -> 0 | S66: =IF(O66-N66<3,0,NETWORKDAYS(L66,M66,[1]Congés!$D$2:$D$160)-R66-Q66-P66) -> 0 | T66: =NETWORKDAYS(L66,M66,[1]Congés!C$2:C$160) -> 10 | U66: AT 15 | V66: 42263 | W66: =IF(T66<3,"1) 1 à 2 jours",IF(T66<5,"2) 3 à 4 jours",IF(T66=5,"3) 5 jours",IF(T66<=10,"4) 6 à 10 jours",IF(T66>10,"5) plus de 10 jours"))))) -> 4) 6 à 10 jours | X66: prol | Z66: =M66-L66+1 -> 17
A67: 20945 | C67: =VLOOKUP(A67,'[1]BDD RH'!$A$9:$W$453,16,FALSE) -> Swift | D67: =VLOOKUP(A67,'[1]BDD RH'!$A$9:$W$453,4,FALSE) -> t | E67: =VLOOKUP(A67,'[1]BDD RH'!$A$9:$W$453,3,FALSE) -> F | F67: =DATEDIF((VLOOKUP(A67,'[1]BDD RH'!$A$2:$W$485,7,FALSE)),L67,"y") -> 39 | G67: =IF(F67<=20,"<=20",IF(F67<=30,"21/30",IF(F67<=40,"31/40",IF(F67<=50,"41/50",IF(F67<=60,"51/60",IF(F67>60,"61 et plus",FALSE)))))) -> 31/40 | H67: =DATEDIF((VLOOKUP(A67,'[1]BDD RH'!$A$2:$W$485,11,FALSE)),L67,"y") -> 4 | I67: =IF(H67<2,"<2",IF(H67<6,"2/5",IF(H67<11,"6/10",IF(H67<16,"11/15",IF(H67<21,"16/20",IF(H67<26,"21/25",IF(H67>25,"26 et plus",FALSE))))))) -> 2/5 | J67: BLL01 | K67: =IF($N$19:$N$585<=3,1,IF($N$19:$N$585<=6,2,IF($N$19:$N$585<=9,3,IF($N$19:$N$585>9,4,FALSE)))) -> 1 | L67: 42387 | M67: 42400 | N67: =MONTH(L67) -> 1 | O67: =MONTH(M67) -> 1 | P67: =IF(O67-N67=0,NETWORKDAYS(L67,M67,[1]Congés!$D$2:$D$26),NETWORKDAYS(L67,EOMONTH(L67,0),[1]Congés!$D$2:$D$26)) -> 10 | Q67: =IF(O67-N67=0,0,IF(O67-N67=1,NETWORKDAYS(L67,M67,[1]Congés!$D$2:$D$160)-P67,IF(O67-N67=2,NETWORKDAYS(L67,EOMONTH(L67,1),[1]Congés!$D$2:$D$160)-P67,IF(O67-N67=3,NETWORKDAYS(L67,EOMONTH(L67,1),[1]Congés!$D$2:$D$160)-P67)))) -> 0 | R67: =IF(O67-N67<2,0,IF(O67-N67=2,NETWORKDAYS(L67,M67,[1]Congés!$D$2:$D$160)-Q67-P67,IF(O67-N67=3,NETWORKDAYS(L67,EOMONTH(L67,2),[1]Congés!$D$2:$D$160)-Q67-P67))) -> 0 | S67: =IF(O67-N67<3,0,NETWORKDAYS(L67,M67,[1]Congés!$D$2:$D$160)-R67-Q67-P67) -> 0 | T67: =NETWORKDAYS(L67,M67,[1]Congés!C$2:C$160) -> 10 | U67: AT 15 | V67: 42629 | W67: =IF(T67<3,"1) 1 à 2 jours",IF(T67<5,"2) 3 à 4 jours",IF(T67=5,"3) 5 jours",IF(T67<=10,"4) 6 à 10 jours",IF(T67>10,"5) plus de 10 jours"))))) -> 4) 6 à 10 jours | X67: prol | Z67: =M67-L67+1 -> 14
A68: 20945 | C68: =VLOOKUP(A68,'[1]BDD RH'!$A$9:$W$453,16,FALSE) -> Swift | D68: =VLOOKUP(A68,'[1]BDD RH'!$A$9:$W$453,4,FALSE) -> t | E68: =VLOOKUP(A68,'[1]BDD RH'!$A$9:$W$453,3,FALSE) -> F | F68: =DATEDIF((VLOOKUP(A68,'[1]BDD RH'!$A$2:$W$485,7,FALSE)),L68,"y") -> 39 | G68: =IF(F68<=20,"<=20",IF(F68<=30,"21/30",IF(F68<=40,"31/40",IF(F68<=50,"41/50",IF(F68<=60,"51/60",IF(F68>60,"61 et plus",FALSE)))))) -> 31/40 | H68: =DATEDIF((VLOOKUP(A68,'[1]BDD RH'!$A$2:$W$485,11,FALSE)),L68,"y") -> 4 | I68: =IF(H68<2,"<2",IF(H68<6,"2/5",IF(H68<11,"6/10",IF(H68<16,"11/15",IF(H68<21,"16/20",IF(H68<26,"21/25",IF(H68>25,"26 et plus",FALSE))))))) -> 2/5 | J68: BLL01 | K68: =IF($N$19:$N$585<=3,1,IF($N$19:$N$585<=6,2,IF($N$19:$N$585<=9,3,IF($N$19:$N$585>9,4,FALSE)))) -> 1 | L68: 42401 | M68: 42408 | N68: =MONTH(L68) -> 2 | O68: =MONTH(M68) -> 2 | P68: =IF(O68-N68=0,NETWORKDAYS(L68,M68,[1]Congés!$D$2:$D$26),NETWORKDAYS(L68,EOMONTH(L68,0),[1]Congés!$D$2:$D$26)) -> 6 | Q68: =IF(O68-N68=0,0,IF(O68-N68=1,NETWORKDAYS(L68,M68,[1]Congés!$D$2:$D$160)-P68,IF(O68-N68=2,NETWORKDAYS(L68,EOMONTH(L68,1),[1]Congés!$D$2:$D$160)-P68,IF(O68-N68=3,NETWORKDAYS(L68,EOMONTH(L68,1),[1]Congés!$D$2:$D$160)-P68)))) -> 0 | R68: =IF(O68-N68<2,0,IF(O68-N68=2,NETWORKDAYS(L68,M68,[1]Congés!$D$2:$D$160)-Q68-P68,IF(O68-N68=3,NETWORKDAYS(L68,EOMONTH(L68,2),[1]Congés!$D$2:$D$160)-Q68-P68))) -> 0 | S68: =IF(O68-N68<3,0,NETWORKDAYS(L68,M68,[1]Congés!$D$2:$D$160)-R68-Q68-P68) -> 0 | T68: =NETWORKDAYS(L68,M68,[1]Congés!C$2:C$160) -> 6 | U68: AT 15 | V68: 42263 | W68: =IF(T68<3,"1) 1 à 2 jours",IF(T68<5,"2) 3 à 4 jours",IF(T68=5,"3) 5 jours",IF(T68<=10,"4) 6 à 10 jours",IF(T68>10,"5) plus de 10 jours"))))) -> 4) 6 à 10 jours | X68: prol | Z68: =M68-L68+1 -> 8
A69: 20945 | C69: =VLOOKUP(A69,'[1]BDD RH'!$A$9:$W$453,16,FALSE) -> Swift | D69: =VLOOKUP(A69,'[1]BDD RH'!$A$9:$W$453,4,FALSE) -> t | E69: =VLOOKUP(A69,'[1]BDD RH'!$A$9:$W$453,3,FALSE) -> F | F69: =DATEDIF((VLOOKUP(A69,'[1]BDD RH'!$A$2:$W$485,7,FALSE)),L69,"y") -> 39 | G69: =IF(F69<=20,"<=20",IF(F69<=30,"21/30",IF(F69<=40,"31/40",IF(F69<=50,"41/50",IF(F69<=60,"51/60",IF(F69>60,"61 et plus",FALSE)))))) -> 31/40 | H69: =DATEDIF((VLOOKUP(A69,'[1]BDD RH'!$A$2:$W$485,11,FALSE)),L69,"y") -> 4 | I69: =IF(H69<2,"<2",IF(H69<6,"2/5",IF(H69<11,"6/10",IF(H69<16,"11/15",IF(H69<21,"16/20",IF(H69<26,"21/25",IF(H69>25,"26 et plus",FALSE))))))) -> 2/5 | J69: BLL01 | K69: =IF($N$19:$N$585<=3,1,IF($N$19:$N$585<=6,2,IF($N$19:$N$585<=9,3,IF($N$19:$N$585>9,4,FALSE)))) -> 1 | L69: 42409 | M69: 42429 | N69: =MONTH(L69) -> 2 | O69: =MONTH(M69) -> 2 | P69: =IF(O69-N69=0,NETWORKDAYS(L69,M69,[1]Congés!$D$2:$D$26),NETWORKDAYS(L69,EOMONTH(L69,0),[1]Congés!$D$2:$D$26)) -> 15 | Q69: =IF(O69-N69=0,0,IF(O69-N69=1,NETWORKDAYS(L69,M69,[1]Congés!$D$2:$D$160)-P69,IF(O69-N69=2,NETWORKDAYS(L69,EOMONTH(L69,1),[1]Congés!$D$2:$D$160)-P69,IF(O69-N69=3,NETWORKDAYS(L69,EOMONTH(L69,1),[1]Congés!$D$2:$D$160)-P69)))) -> 0 | R69: =IF(O69-N69<2,0,IF(O69-N69=2,NETWORKDAYS(L69,M69,[1]Congés!$D$2:$D$160)-Q69-P69,IF(O69-N69=3,NETWORKDAYS(L69,EOMONTH(L69,2),[1]Congés!$D$2:$D$160)-Q69-P69))) -> 0 | S69: =IF(O69-N69<3,0,NETWORKDAYS(L69,M69,[1]Congés!$D$2:$D$160)-R69-Q69-P69) -> 0 | T69: =NETWORKDAYS(L69,M69,[1]Congés!C$2:C$160) -> 15 | U69: AT 15 | V69: 42263 | W69: =IF(T69<3,"1) 1 à 2 jours",IF(T69<5,"2) 3 à 4 jours",IF(T69=5,"3) 5 jours",IF(T69<=10,"4) 6 à 10 jours",IF(T69>10,"5) plus de 10 jours"))))) -> 5) plus de 10 jours | X69: prol | Z69: =M69-L69+1 -> 21
A70: 20945 | C70: =VLOOKUP(A70,'[1]BDD RH'!$A$9:$W$453,16,FALSE) -> Swift | D70: =VLOOKUP(A70,'[1]BDD RH'!$A$9:$W$453,4,FALSE) -> t | E70: =VLOOKUP(A70,'[1]BDD RH'!$A$9:$W$453,3,FALSE) -> F | F70: =DATEDIF((VLOOKUP(A70,'[1]BDD RH'!$A$2:$W$485,7,FALSE)),L70,"y") -> 39 | G70: =IF(F70<=20,"<=20",IF(F70<=30,"21/30",IF(F70<=40,"31/40",IF(F70<=50,"41/50",IF(F70<=60,"51/60",IF(F70>60,"61 et plus",FALSE)))))) -> 31/40 | H70: =DATEDIF((VLOOKUP(A70,'[1]BDD RH'!$A$2:$W$485,11,FALSE)),L70,"y") -> 4 | I70: =IF(H70<2,"<2",IF(H70<6,"2/5",IF(H70<11,"6/10",IF(H70<16,"11/15",IF(H70<21,"16/20",IF(H70<26,"21/25",IF(H70>25,"26 et plus",FALSE))))))) -> 2/5 | J70: BLL01 | K70: =IF($N$19:$N$585<=3,1,IF($N$19:$N$585<=6,2,IF($N$19:$N$585<=9,3,IF($N$19:$N$585>9,4,FALSE)))) -> 1 | L70: 42429 | M70: 42464 | N70: =MONTH(L70) -> 2 | O70: =MONTH(M70) -> 4 | P70: =IF(O70-N70=0,NETWORKDAYS(L70,M70,[1]Congés!$D$2:$D$26),NETWORKDAYS(L70,EOMONTH(L70,0),[1]Congés!$D$2:$D$26)) -> 1 | Q70: =IF(O70-N70=0,0,IF(O70-N70=1,NETWORKDAYS(L70,M70,[1]Congés!$D$2:$D$160)-P70,IF(O70-N70=2,NETWORKDAYS(L70,EOMONTH(L70,1),[1]Congés!$D$2:$D$160)-P70,IF(O70-N70=3,NETWORKDAYS(L70,EOMONTH(L70,1),[1]Congés!$D$2:$D$160)-P70)))) -> 23 | R70: =IF(O70-N70<2,0,IF(O70-N70=2,NETWORKDAYS(L70,M70,[1]Congés!$D$2:$D$160)-Q70-P70,IF(O70-N70=3,NETWORKDAYS(L70,EOMONTH(L70,2),[1]Congés!$D$2:$D$160)-Q70-P70))) -> 2 | S70: =IF(O70-N70<3,0,NETWORKDAYS(L70,M70,[1]Congés!$D$2:$D$160)-R70-Q70-P70) -> 0 | T70: =NETWORKDAYS(L70,M70,[1]Congés!C$2:C$160) -> 25 | U70: AT 15 | V70: 42629 | W70: =IF(T70<3,"1) 1 à 2 jours",IF(T70<5,"2) 3 à 4 jours",IF(T70=5,"3) 5 jours",IF(T70<=10,"4) 6 à 10 jours",IF(T70>10,"5) plus de 10 jours"))))) -> 5) plus de 10 jours | X70: vm faite | Y70: 42467 | Z70: =M70-L70+1 -> 36
A71: 20945 | C71: =VLOOKUP(A71,'[1]BDD RH'!$A$9:$W$453,16,FALSE) -> Swift | D71: =VLOOKUP(A71,'[1]BDD RH'!$A$9:$W$453,4,FALSE) -> t | E71: =VLOOKUP(A71,'[1]BDD RH'!$A$9:$W$453,3,FALSE) -> F | F71: =DATEDIF((VLOOKUP(A71,'[1]BDD RH'!$A$2:$W$485,7,FALSE)),L71,"y") -> 39 | G71: =IF(F71<=20,"<=20",IF(F71<=30,"21/30",IF(F71<=40,"31/40",IF(F71<=50,"41/50",IF(F71<=60,"51/60",IF(F71>60,"61 et plus",FALSE)))))) -> 31/40 | H71: =DATEDIF((VLOOKUP(A71,'[1]BDD RH'!$A$2:$W$485,11,FALSE)),L71,"y") -> 4 | I71: =IF(H71<2,"<2",IF(H71<6,"2/5",IF(H71<11,"6/10",IF(H71<16,"11/15",IF(H71<21,"16/20",IF(H71<26,"21/25",IF(H71>25,"26 et plus",FALSE))))))) -> 2/5 | J71: bll02 | K71: =IF($N$19:$N$585<=3,1,IF($N$19:$N$585<=6,2,IF($N$19:$N$585<=9,3,IF($N$19:$N$585>9,4,FALSE)))) -> 2 | L71: 42471 | M71: 42510 | N71: =MONTH(L71) -> 4 | O71: =MONTH(M71) -> 5 | P71: =IF(O71-N71=0,NETWORKDAYS(L71,M71,[1]Congés!$D$2:$D$26),NETWORKDAYS(L71,EOMONTH(L71,0),[1]Congés!$D$2:$D$26)) -> 15 | Q71: =IF(O71-N71=0,0,IF(O71-N71=1,NETWORKDAYS(L71,M71,[1]Congés!$D$2:$D$160)-P71,IF(O71-N71=2,NETWORKDAYS(L71,EOMONTH(L71,1),[1]Congés!$D$2:$D$160)-P71,IF(O71-N71=3,NETWORKDAYS(L71,EOMONTH(L71,1),[1]Congés!$D$2:$D$160)-P71)))) -> 15 | R71: =IF(O71-N71<2,0,IF(O71-N71=2,NETWORKDAYS(L71,M71,[1]Congés!$D$2:$D$160)-Q71-P71,IF(O71-N71=3,NETWORKDAYS(L71,EOMONTH(L71,2),[1]Congés!$D$2:$D$160)-Q71-P71))) -> 0 | S71: =IF(O71-N71<3,0,NETWORKDAYS(L71,M71,[1]Congés!$D$2:$D$160)-R71-Q71-P71) -> 0 | T71: =NETWORKDAYS(L71,M71,[1]Congés!C$2:C$160) -> 27 | U71: AT 15 | V71: 42471 | W71: =IF(T71<3,"1) 1 à 2 jours",IF(T71<5,"2) 3 à 4 jours",IF(T71=5,"3) 5 jours",IF(T71<=10,"4) 6 à 10 jours",IF(T71>10,"5) plus de 10 jours"))))) -> 5) plus de 10 jours | X71: vm à prévoir | Z71: =M71-L71+1 -> 40
A72: 17399 | C72: =VLOOKUP(A72,'[1]BDD RH'!$A$9:$W$453,16,FALSE) -> Evercalf | D72: =VLOOKUP(A72,'[1]BDD RH'!$A$9:$W$453,4,FALSE) -> t | E72: =VLOOKUP(A72,'[1]BDD RH'!$A$9:$W$453,3,FALSE) -> F | F72: =DATEDIF((VLOOKUP(A72,'[1]BDD RH'!$A$2:$W$485,7,FALSE)),L72,"y") -> 29 | G72: =IF(F72<=20,"<=20",IF(F72<=30,"21/30",IF(F72<=40,"31/40",IF(F72<=50,"41/50",IF(F72<=60,"51/60",IF(F72>60,"61 et plus",FALSE)))))) -> 21/30 | H72: =DATEDIF((VLOOKUP(A72,'[1]BDD RH'!$A$2:$W$485,11,FALSE)),L72,"y") -> 8 | I72: =IF(H72<2,"<2",IF(H72<6,"2/5",IF(H72<11,"6/10",IF(H72<16,"11/15",IF(H72<21,"16/20",IF(H72<26,"21/25",IF(H72>25,"26 et plus",FALSE))))))) -> 6/10 | J72: BLH01 | K72: =IF($N$19:$N$585<=3,1,IF($N$19:$N$585<=6,2,IF($N$19:$N$585<=9,3,IF($N$19:$N$585>9,4,FALSE)))) -> 1 | L72: 42412 | M72: 42412 | N72: =MONTH(L72) -> 2 | O72: =MONTH(M72) -> 2 | P72: =IF(O72-N72=0,NETWORKDAYS(L72,M72,[1]Congés!$D$2:$D$26),NETWORKDAYS(L72,EOMONTH(L72,0),[1]Congés!$D$2:$D$26)) -> 1 | Q72: =IF(O72-N72=0,0,IF(O72-N72=1,NETWORKDAYS(L72,M72,[1]Congés!$D$2:$D$160)-P72,IF(O72-N72=2,NETWORKDAYS(L72,EOMONTH(L72,1),[1]Congés!$D$2:$D$160)-P72,IF(O72-N72=3,NETWORKDAYS(L72,EOMONTH(L72,1),[1]Congés!$D$2:$D$160)-P72)))) -> 0 | R72: =IF(O72-N72<2,0,IF(O72-N72=2,NETWORKDAYS(L72,M72,[1]Congés!$D$2:$D$160)-Q72-P72,IF(O72-N72=3,NETWORKDAYS(L72,EOMONTH(L72,2),[1]Congés!$D$2:$D$160)-Q72-P72))) -> 0 | S72: =IF(O72-N72<3,0,NETWORKDAYS(L72,M72,[1]Congés!$D$2:$D$160)-R72-Q72-P72) -> 0 | T72: =NETWORKDAYS(L72,M72,[1]Congés!C$2:C$160) -> 1 | U72: Arrêt Maladie | W72: =IF(T72<3,"1) 1 à 2 jours",IF(T72<5,"2) 3 à 4 jours",IF(T72=5,"3) 5 jours",IF(T72<=10,"4) 6 à 10 jours",IF(T72>10,"5) plus de 10 jours"))))) -> 1) 1 à 2 jours | X72: * | Z72: =M72-L72+1 -> 1
A73: 17399 | C73: =VLOOKUP(A73,'[1]BDD RH'!$A$9:$W$453,16,FALSE) -> Evercalf | D73: =VLOOKUP(A73,'[1]BDD RH'!$A$9:$W$453,4,FALSE) -> t | E73: =VLOOKUP(A73,'[1]BDD RH'!$A$9:$W$453,3,FALSE) -> F | F73: =DATEDIF((VLOOKUP(A73,'[1]BDD RH'!$A$2:$W$485,7,FALSE)),L73,"y") -> 29 | G73: =IF(F73<=20,"<=20",IF(F73<=30,"21/30",IF(F73<=40,"31/40",IF(F73<=50,"41/50",IF(F73<=60,"51/60",IF(F73>60,"61 et plus",FALSE)))))) -> 21/30 | H73: =DATEDIF((VLOOKUP(A73,'[1]BDD RH'!$A$2:$W$485,11,FALSE)),L73,"y") -> 8 | I73: =IF(H73<2,"<2",IF(H73<6,"2/5",IF(H73<11,"6/10",IF(H73<16,"11/15",IF(H73<21,"16/20",IF(H73<26,"21/25",IF(H73>25,"26 et plus",FALSE))))))) -> 6/10 | J73: BLH02 | K73: =IF($N$19:$N$585<=3,1,IF($N$19:$N$585<=6,2,IF($N$19:$N$585<=9,3,IF($N$19:$N$585>9,4,FALSE)))) -> 1 | L73: 42419 | M73: 42419 | N73: =MONTH(L73) -> 2 | O73: =MONTH(M73) -> 2 | P73: =IF(O73-N73=0,NETWORKDAYS(L73,M73,[1]Congés!$D$2:$D$26),NETWORKDAYS(L73,EOMONTH(L73,0),[1]Congés!$D$2:$D$26)) -> 1 | Q73: =IF(O73-N73=0,0,IF(O73-N73=1,NETWORKDAYS(L73,M73,[1]Congés!$D$2:$D$160)-P73,IF(O73-N73=2,NETWORKDAYS(L73,EOMONTH(L73,1),[1]Congés!$D$2:$D$160)-P73,IF(O73-N73=3,NETWORKDAYS(L73,EOMONTH(L73,1),[1]Congés!$D$2:$D$160)-P73)))) -> 0 | R73: =IF(O73-N73<2,0,IF(O73-N73=2,NETWORKDAYS(L73,M73,[1]Congés!$D$2:$D$160)-Q73-P73,IF(O73-N73=3,NETWORKDAYS(L73,EOMONTH(L73,2),[1]Congés!$D$2:$D$160)-Q73-P73))) -> 0 | S73: =IF(O73-N73<3,0,NETWORKDAYS(L73,M73,[1]Congés!$D$2:$D$160)-R73-Q73-P73) -> 0 | T73: =NETWORKDAYS(L73,M73,[1]Congés!C$2:C$160) -> 1 | U73: Arrêt Maladie | W73: =IF(T73<3,"1) 1 à 2 jours",IF(T73<5,"2) 3 à 4 jours",IF(T73=5,"3) 5 jours",IF(T73<=10,"4) 6 à 10 jours",IF(T73>10,"5) plus de 10 jours"))))) -> 1) 1 à 2 jours | X73: * | Z73: =M73-L73+1 -> 1
A74: 3232 | C74: =VLOOKUP(A74,'[1]BDD RH'!$A$9:$W$453,16,FALSE) -> Croco | D74: =VLOOKUP(A74,'[1]BDD RH'!$A$9:$W$453,4,FALSE) -> t | E74: =VLOOKUP(A74,'[1]BDD RH'!$A$9:$W$453,3,FALSE) -> F | F74: =DATEDIF((VLOOKUP(A74,'[1]BDD RH'!$A$2:$W$485,7,FALSE)),L74,"y") -> 48 | G74: =IF(F74<=20,"<=20",IF(F74<=30,"21/30",IF(F74<=40,"31/40",IF(F74<=50,"41/50",IF(F74<=60,"51/60",IF(F74>60,"61 et plus",FALSE)))))) -> 41/50 | H74: =DATEDIF((VLOOKUP(A74,'[1]BDD RH'!$A$2:$W$485,11,FALSE)),L74,"y") -> 26 | I74: =IF(H74<2,"<2",IF(H74<6,"2/5",IF(H74<11,"6/10",IF(H74<16,"11/15",IF(H74<21,"16/20",IF(H74<26,"21/25",IF(H74>25,"26 et plus",FALSE))))))) -> 26 et plus | J74: BON01 | K74: =IF($N$19:$N$585<=3,1,IF($N$19:$N$585<=6,2,IF($N$19:$N$585<=9,3,IF($N$19:$N$585>9,4,FALSE)))) -> 2 | L74: 42465 | M74: 42494 | N74: =MONTH(L74) -> 4 | O74: =MONTH(M74) -> 5 | P74: =IF(O74-N74=0,NETWORKDAYS(L74,M74,[1]Congés!$D$2:$D$26),NETWORKDAYS(L74,EOMONTH(L74,0),[1]Congés!$D$2:$D$26)) -> 19 | Q74: =IF(O74-N74=0,0,IF(O74-N74=1,NETWORKDAYS(L74,M74,[1]Congés!$D$2:$D$160)-P74,IF(O74-N74=2,NETWORKDAYS(L74,EOMONTH(L74,1),[1]Congés!$D$2:$D$160)-P74,IF(O74-N74=3,NETWORKDAYS(L74,EOMONTH(L74,1),[1]Congés!$D$2:$D$160)-P74)))) -> 3 | R74: =IF(O74-N74<2,0,IF(O74-N74=2,NETWORKDAYS(L74,M74,[1]Congés!$D$2:$D$160)-Q74-P74,IF(O74-N74=3,NETWORKDAYS(L74,EOMONTH(L74,2),[1]Congés!$D$2:$D$160)-Q74-P74))) -> 0 | S74: =IF(O74-N74<3,0,NETWORKDAYS(L74,M74,[1]Congés!$D$2:$D$160)-R74-Q74-P74) -> 0 | T74: =NETWORKDAYS(L74,M74,[1]Congés!C$2:C$160) -> 22 | U74: Arrêt Maladie | W74: =IF(T74<3,"1) 1 à 2 jours",IF(T74<5,"2) 3 à 4 jours",IF(T74=5,"3) 5 jours",IF(T74<=10,"4) 6 à 10 jours",IF(T74>10,"5) plus de 10 jours"))))) -> 5) plus de 10 jours | X74: vm à prévoir | Z74: =M74-L74+1 -> 30
A75: 723 | C75: =VLOOKUP(A75,'[1]BDD RH'!$A$9:$W$453,16,FALSE) -> Gulliver | D75: =VLOOKUP(A75,'[1]BDD RH'!$A$9:$W$453,4,FALSE) -> t | E75: =VLOOKUP(A75,'[1]BDD RH'!$A$9:$W$453,3,FALSE) -> F | F75: =DATEDIF((VLOOKUP(A75,'[1]BDD RH'!$A$2:$W$485,7,FALSE)),L75,"y") -> 47 | G75: =IF(F75<=20,"<=20",IF(F75<=30,"21/30",IF(F75<=40,"31/40",IF(F75<=50,"41/50",IF(F75<=60,"51/60",IF(F75>60,"61 et plus",FALSE)))))) -> 41/50 | H75: =DATEDIF((VLOOKUP(A75,'[1]BDD RH'!$A$2:$W$485,11,FALSE)),L75,"y") -> 16 | I75: =IF(H75<2,"<2",IF(H75<6,"2/5",IF(H75<11,"6/10",IF(H75<16,"11/15",IF(H75<21,"16/20",IF(H75<26,"21/25",IF(H75>25,"26 et plus",FALSE))))))) -> 16/20 | K75: =IF($N$19:$N$585<=3,1,IF($N$19:$N$585<=6,2,IF($N$19:$N$585<=9,3,IF($N$19:$N$585>9,4,FALSE)))) -> 1 | L75: 42442 | M75: 42445 | N75: =MONTH(L75) -> 3 | O75: =MONTH(M75) -> 3 | P75: =IF(O75-N75=0,NETWORKDAYS(L75,M75,[1]Congés!$D$2:$D$26),NETWORKDAYS(L75,EOMONTH(L75,0),[1]Congés!$D$2:$D$26)) -> 3 | Q75: =IF(O75-N75=0,0,IF(O75-N75=1,NETWORKDAYS(L75,M75,[1]Congés!$D$2:$D$160)-P75,IF(O75-N75=2,NETWORKDAYS(L75,EOMONTH(L75,1),[1]Congés!$D$2:$D$160)-P75,IF(O75-N75=3,NETWORKDAYS(L75,EOMONTH(L75,1),[1]Congés!$D$2:$D$160)-P75)))) -> 0 | R75: =IF(O75-N75<2,0,IF(O75-N75=2,NETWORKDAYS(L75,M75,[1]Congés!$D$2:$D$160)-Q75-P75,IF(O75-N75=3,NETWORKDAYS(L75,EOMONTH(L75,2),[1]Congés!$D$2:$D$160)-Q75-P75))) -> 0 | S75: =IF(O75-N75<3,0,NETWORKDAYS(L75,M75,[1]Congés!$D$2:$D$160)-R75-Q75-P75) -> 0 | T75: =NETWORKDAYS(L75,M75,[1]Congés!C$2:C$160) -> 3 | U75: Arrêt Maladie | V75: 42442 | W75: =IF(T75<3,"1) 1 à 2 jours",IF(T75<5,"2) 3 à 4 jours",IF(T75=5,"3) 5 jours",IF(T75<=10,"4) 6 à 10 jours",IF(T75>10,"5) plus de 10 jours"))))) -> 2) 3 à 4 jours | X75: prol | Z75: =M75-L75+1 -> 4
A76: 723 | C76: =VLOOKUP(A76,'[1]BDD RH'!$A$9:$W$453,16,FALSE) -> Gulliver | D76: =VLOOKUP(A76,'[1]BDD RH'!$A$9:$W$453,4,FALSE) -> t | E76: =VLOOKUP(A76,'[1]BDD RH'!$A$9:$W$453,3,FALSE) -> F | F76: =DATEDIF((VLOOKUP(A76,'[1]BDD RH'!$A$2:$W$485,7,FALSE)),L76,"y") -> 47 | G76: =IF(F76<=20,"<=20",IF(F76<=30,"21/30",IF(F76<=40,"31/40",IF(F76<=50,"41/50",IF(F76<=60,"51/60",IF(F76>60,"61 et plus",FALSE)))))) -> 41/50 | H76: =DATEDIF((VLOOKUP(A76,'[1]BDD RH'!$A$2:$W$485,11,FALSE)),L76,"y") -> 16 | I76: =IF(H76<2,"<2",IF(H76<6,"2/5",IF(H76<11,"6/10",IF(H76<16,"11/15",IF(H76<21,"16/20",IF(H76<26,"21/25",IF(H76>25,"26 et plus",FALSE))))))) -> 16/20 | K76: =IF($N$19:$N$585<=3,1,IF($N$19:$N$585<=6,2,IF($N$19:$N$585<=9,3,IF($N$19:$N$585>9,4,FALSE)))) -> 1 | L76: 42446 | M76: 42505 | N76: =MONTH(L76) -> 3 | O76: =MONTH(M76) -> 5 | P76: =IF(O76-N76=0,NETWORKDAYS(L76,M76,[1]Congés!$D$2:$D$26),NETWORKDAYS(L76,EOMONTH(L76,0),[1]Congés!$D$2:$D$26)) -> 11 | Q76: =IF(O76-N76=0,0,IF(O76-N76=1,NETWORKDAYS(L76,M76,[1]Congés!$D$2:$D$160)-P76,IF(O76-N76=2,NETWORKDAYS(L76,EOMONTH(L76,1),[1]Congés!$D$2:$D$160)-P76,IF(O76-N76=3,NETWORKDAYS(L76,EOMONTH(L76,1),[1]Congés!$D$2:$D$160)-P76)))) -> 21 | R76: =IF(O76-N76<2,0,IF(O76-N76=2,NETWORKDAYS(L76,M76,[1]Congés!$D$2:$D$160)-Q76-P76,IF(O76-N76=3,NETWORKDAYS(L76,EOMONTH(L76,2),[1]Congés!$D$2:$D$160)-Q76-P76))) -> 10 | S76: =IF(O76-N76<3,0,NETWORKDAYS(L76,M76,[1]Congés!$D$2:$D$160)-R76-Q76-P76) -> 0 | T76: =NETWORKDAYS(L76,M76,[1]Congés!C$2:C$160) -> 39 | U76: Arrêt Maladie | V76: 42442 | W76: =IF(T76<3,"1) 1 à 2 jours",IF(T76<5,"2) 3 à 4 jours",IF(T76=5,"3) 5 jours",IF(T76<=10,"4) 6 à 10 jours",IF(T76>10,"5) plus de 10 jours"))))) -> 5) plus de 10 jours | X76: vm à prévoir | Z76: =M76-L76+1 -> 60
A77: 15851 | C77: =VLOOKUP(A77,'[1]BDD RH'!$A$9:$W$453,16,FALSE) -> Evercalf | D77: =VLOOKUP(A77,'[1]BDD RH'!$A$9:$W$453,4,FALSE) -> t | E77: =VLOOKUP(A77,'[1]BDD RH'!$A$9:$W$453,3,FALSE) -> F | F77: =DATEDIF((VLOOKUP(A77,'[1]BDD RH'!$A$2:$W$485,7,FALSE)),L77,"y") -> 34 | G77: =IF(F77<=20,"<=20",IF(F77<=30,"21/30",IF(F77<=40,"31/40",IF(F77<=50,"41/50",IF(F77<=60,"51/60",IF(F77>60,"61 et plus",FALSE)))))) -> 31/40 | H77: =DATEDIF((VLOOKUP(A77,'[1]BDD RH'!$A$2:$W$485,11,FALSE)),L77,"y") -> 11 | I77: =IF(H77<2,"<2",IF(H77<6,"2/5",IF(H77<11,"6/10",IF(H77<16,"11/15",IF(H77<21,"16/20",IF(H77<26,"21/25",IF(H77>25,"26 et plus",FALSE))))))) -> 11/15 | J77: BRE01 | K77: =IF($N$19:$N$585<=3,1,IF($N$19:$N$585<=6,2,IF($N$19:$N$585<=9,3,IF($N$19:$N$585>9,4,FALSE)))) -> 2 | L77: 42485 | M77: 42496 | N77: =MONTH(L77) -> 4 | O77: =MONTH(M77) -> 5 | P77: =IF(O77-N77=0,NETWORKDAYS(L77,M77,[1]Congés!$D$2:$D$26),NETWORKDAYS(L77,EOMONTH(L77,0),[1]Congés!$D$2:$D$26)) -> 5 | Q77: =IF(O77-N77=0,0,IF(O77-N77=1,NETWORKDAYS(L77,M77,[1]Congés!$D$2:$D$160)-P77,IF(O77-N77=2,NETWORKDAYS(L77,EOMONTH(L77,1),[1]Congés!$D$2:$D$160)-P77,IF(O77-N77=3,NETWORKDAYS(L77,EOMONTH(L77,1),[1]Congés!$D$2:$D$160)-P77)))) -> 5 | R77: =IF(O77-N77<2,0,IF(O77-N77=2,NETWORKDAYS(L77,M77,[1]Congés!$D$2:$D$160)-Q77-P77,IF(O77-N77=3,NETWORKDAYS(L77,EOMONTH(L77,2),[1]Congés!$D$2:$D$160)-Q77-P77))) -> 0 | S77: =IF(O77-N77<3,0,NETWORKDAYS(L77,M77,[1]Congés!$D$2:$D$160)-R77-Q77-P77) -> 0 | T77: =NETWORKDAYS(L77,M77,[1]Congés!C$2:C$160) -> 8 | U77: Arrêt Maladie | W77: =IF(T77<3,"1) 1 à 2 jours",IF(T77<5,"2) 3 à 4 jours",IF(T77=5,"3) 5 jours",IF(T77<=10,"4) 6 à 10 jours",IF(T77>10,"5) plus de 10 jours"))))) -> 4) 6 à 10 jours | X77: * | Z77: =M77-L77+1 -> 12
A78: 82327 | C78: =VLOOKUP(A78,'[1]BDD RH'!$A$9:$W$453,16,FALSE) -> Formation G 25 | D78: =VLOOKUP(A78,'[1]BDD RH'!$A$9:$W$453,4,FALSE) -> 0 | E78: =VLOOKUP(A78,'[1]BDD RH'!$A$9:$W$453,3,FALSE) -> F | F78: =DATEDIF((VLOOKUP(A78,'[1]BDD RH'!$A$2:$W$485,7,FALSE)),L78,"y") -> 22 | G78: =IF(F78<=20,"<=20",IF(F78<=30,"21/30",IF(F78<=40,"31/40",IF(F78<=50,"41/50",IF(F78<=60,"51/60",IF(F78>60,"61 et plus",FALSE)))))) -> 21/30 | H78: =DATEDIF((VLOOKUP(A78,'[1]BDD RH'!$A$2:$W$485,11,FALSE)),L78,"y") -> 3 | I78: =IF(H78<2,"<2",IF(H78<6,"2/5",IF(H78<11,"6/10",IF(H78<16,"11/15",IF(H78<21,"16/20",IF(H78<26,"21/25",IF(H78>25,"26 et plus",FALSE))))))) -> 2/5 | K78: =IF($N$19:$N$585<=3,1,IF($N$19:$N$585<=6,2,IF($N$19:$N$585<=9,3,IF($N$19:$N$585>9,4,FALSE)))) -> 2 | L78: 42470 | M78: 42477 | N78: =MONTH(L78) -> 4 | O78: =MONTH(M78) -> 4 | P78: =IF(O78-N78=0,NETWORKDAYS(L78,M78,[1]Congés!$D$2:$D$26),NETWORKDAYS(L78,EOMONTH(L78,0),[1]Congés!$D$2:$D$26)) -> 5 | Q78: =IF(O78-N78=0,0,IF(O78-N78=1,NETWORKDAYS(L78,M78,[1]Congés!$D$2:$D$160)-P78,IF(O78-N78=2,NETWORKDAYS(L78,EOMONTH(L78,1),[1]Congés!$D$2:$D$160)-P78,IF(O78-N78=3,NETWORKDAYS(L78,EOMONTH(L78,1),[1]Congés!$D$2:$D$160)-P78)))) -> 0 | R78: =IF(O78-N78<2,0,IF(O78-N78=2,NETWORKDAYS(L78,M78,[1]Congés!$D$2:$D$160)-Q78-P78,IF(O78-N78=3,NETWORKDAYS(L78,EOMONTH(L78,2),[1]Congés!$D$2:$D$160)-Q78-P78))) -> 0 | S78: =IF(O78-N78<3,0,NETWORKDAYS(L78,M78,[1]Congés!$D$2:$D$160)-R78-Q78-P78) -> 0 | T78: =NETWORKDAYS(L78,M78,[1]Congés!C$2:C$160) -> 5 | U78: Arrêt Maladie | W78: =IF(T78<3,"1) 1 à 2 jours",IF(T78<5,"2) 3 à 4 jours",IF(T78=5,"3) 5 jours",IF(T78<=10,"4) 6 à 10 jours",IF(T78>10,"5) plus de 10 jours"))))) -> 3) 5 jours | X78: * | Z78: =M78-L78+1 -> 8
A79: 17355 | C79: =VLOOKUP(A79,'[1]BDD RH'!$A$9:$W$453,16,FALSE) -> Barénia | D79: =VLOOKUP(A79,'[1]BDD RH'!$A$9:$W$453,4,FALSE) -> t | E79: =VLOOKUP(A79,'[1]BDD RH'!$A$9:$W$453,3,FALSE) -> F | F79: =DATEDIF((VLOOKUP(A79,'[1]BDD RH'!$A$2:$W$485,7,FALSE)),L79,"y") -> 44 | G79: =IF(F79<=20,"<=20",IF(F79<=30,"21/30",IF(F79<=40,"31/40",IF(F79<=50,"41/50",IF(F79<=60,"51/60",IF(F79>60,"61 et plus",FALSE)))))) -> 41/50 | H79: =DATEDIF((VLOOKUP(A79,'[1]BDD RH'!$A$2:$W$485,11,FALSE)),L79,"y") -> 8 | I79: =IF(H79<2,"<2",IF(H79<6,"2/5",IF(H79<11,"6/10",IF(H79<16,"11/15",IF(H79<21,"16/20",IF(H79<26,"21/25",IF(H79>25,"26 et plus",FALSE))))))) -> 6/10 | J79: BUS01 | K79: =IF($N$19:$N$585<=3,1,IF($N$19:$N$585<=6,2,IF($N$19:$N$585<=9,3,IF($N$19:$N$585>9,4,FALSE)))) -> 1 | L79: 42383 | M79: 42384 | N79: =MONTH(L79) -> 1 | O79: =MONTH(M79) -> 1 | P79: =IF(O79-N79=0,NETWORKDAYS(L79,M79,[1]Congés!$D$2:$D$26),NETWORKDAYS(L79,EOMONTH(L79,0),[1]Congés!$D$2:$D$26)) -> 2 | Q79: =IF(O79-N79=0,0,IF(O79-N79=1,NETWORKDAYS(L79,M79,[1]Congés!$D$2:$D$160)-P79,IF(O79-N79=2,NETWORKDAYS(L79,EOMONTH(L79,1),[1]Congés!$D$2:$D$160)-P79,IF(O79-N79=3,NETWORKDAYS(L79,EOMONTH(L79,1),[1]Congés!$D$2:$D$160)-P79)))) -> 0 | R79: =IF(O79-N79<2,0,IF(O79-N79=2,NETWORKDAYS(L79,M79,[1]Congés!$D$2:$D$160)-Q79-P79,IF(O79-N79=3,NETWORKDAYS(L79,EOMONTH(L79,2),[1]Congés!$D$2:$D$160)-Q79-P79))) -> 0 | S79: =IF(O79-N79<3,0,NETWORKDAYS(L79,M79,[1]Congés!$D$2:$D$160)-R79-Q79-P79) -> 0 | T79: =NETWORKDAYS(L79,M79,[1]Congés!C$2:C$160) -> 2 | U79: Arrêt Maladie | V79: 42383 | W79: =IF(T79<3,"1) 1 à 2 jours",IF(T79<5,"2) 3 à 4 jours",IF(T79=5,"3) 5 jours",IF(T79<=10,"4) 6 à 10 jours",IF(T79>10,"5) plus de 10 jours"))))) -> 1) 1 à 2 jours | X79: prol | Z79: =M79-L79+1 -> 2
A80: 17355 | C80: =VLOOKUP(A80,'[1]BDD RH'!$A$9:$W$453,16,FALSE) -> Barénia | D80: =VLOOKUP(A80,'[1]BDD RH'!$A$9:$W$453,4,FALSE) -> t | E80: =VLOOKUP(A80,'[1]BDD RH'!$A$9:$W$453,3,FALSE) -> F | F80: =DATEDIF((VLOOKUP(A80,'[1]BDD RH'!$A$2:$W$485,7,FALSE)),L80,"y") -> 44 | G80: =IF(F80<=20,"<=20",IF(F80<=30,"21/30",IF(F80<=40,"31/40",IF(F80<=50,"41/50",IF(F80<=60,"51/60",IF(F80>60,"61 et plus",FALSE)))))) -> 41/50 | H80: =DATEDIF((VLOOKUP(A80,'[1]BDD RH'!$A$2:$W$485,11,FALSE)),L80,"y") -> 8 | I80: =IF(H80<2,"<2",IF(H80<6,"2/5",IF(H80<11,"6/10",IF(H80<16,"11/15",IF(H80<21,"16/20",IF(H80<26,"21/25",IF(H80>25,"26 et plus",FALSE))))))) -> 6/10 | J80: BUS01 | K80: =IF($N$19:$N$585<=3,1,IF($N$19:$N$585<=6,2,IF($N$19:$N$585<=9,3,IF($N$19:$N$585>9,4,FALSE)))) -> 1 | L80: 42387 | M80: 42388 | N80: =MONTH(L80) -> 1 | O80: =MONTH(M80) -> 1 | P80: =IF(O80-N80=0,NETWORKDAYS(L80,M80,[1]Congés!$D$2:$D$26),NETWORKDAYS(L80,EOMONTH(L80,0),[1]Congés!$D$2:$D$26)) -> 2 | Q80: =IF(O80-N80=0,0,IF(O80-N80=1,NETWORKDAYS(L80,M80,[1]Congés!$D$2:$D$160)-P80,IF(O80-N80=2,NETWORKDAYS(L80,EOMONTH(L80,1),[1]Congés!$D$2:$D$160)-P80,IF(O80-N80=3,NETWORKDAYS(L80,EOMONTH(L80,1),[1]Congés!$D$2:$D$160)-P80)))) -> 0 | R80: =IF(O80-N80<2,0,IF(O80-N80=2,NETWORKDAYS(L80,M80,[1]Congés!$D$2:$D$160)-Q80-P80,IF(O80-N80=3,NETWORKDAYS(L80,EOMONTH(L80,2),[1]Congés!$D$2:$D$160)-Q80-P80))) -> 0 | S80: =IF(O80-N80<3,0,NETWORKDAYS(L80,M80,[1]Congés!$D$2:$D$160)-R80-Q80-P80) -> 0 | T80: =NETWORKDAYS(L80,M80,[1]Congés!C$2:C$160) -> 2 | U80: Arrêt Maladie | V80: 42383 | W80: =IF(T80<3,"1) 1 à 2 jours",IF(T80<5,"2) 3 à 4 jours",IF(T80=5,"3) 5 jours",IF(T80<=10,"4) 6 à 10 jours",IF(T80>10,"5) plus de 10 jours"))))) -> 1) 1 à 2 jours | X80: * | Z80: =M80-L80+1 -> 2
A81: 16164 | C81: =VLOOKUP(A81,'[1]BDD RH'!$A$9:$W$453,16,FALSE) -> Chamonix | D81: =VLOOKUP(A81,'[1]BDD RH'!$A$9:$W$453,4,FALSE) -> t | E81: =VLOOKUP(A81,'[1]BDD RH'!$A$9:$W$453,3,FALSE) -> F | F81: =DATEDIF((VLOOKUP(A81,'[1]BDD RH'!$A$2:$W$485,7,FALSE)),L81,"y") -> 39 | G81: =IF(F81<=20,"<=20",IF(F81<=30,"21/30",IF(F81<=40,"31/40",IF(F81<=50,"41/50",IF(F81<=60,"51/60",IF(F81>60,"61 et plus",FALSE)))))) -> 31/40 | H81: =DATEDIF((VLOOKUP(A81,'[1]BDD RH'!$A$2:$W$485,11,FALSE)),L81,"y") -> 10 | I81: =IF(H81<2,"<2",IF(H81<6,"2/5",IF(H81<11,"6/10",IF(H81<16,"11/15",IF(H81<21,"16/20",IF(H81<26,"21/25",IF(H81>25,"26 et plus",FALSE))))))) -> 6/10 | J81: CAM01 | K81: =IF($N$19:$N$585<=3,1,IF($N$19:$N$585<=6,2,IF($N$19:$N$585<=9,3,IF($N$19:$N$585>9,4,FALSE)))) -> 1 | L81: 42370 | M81: 42391 | N81: =MONTH(L81) -> 1 | O81: =MONTH(M81) -> 1 | P81: =IF(O81-N81=0,NETWORKDAYS(L81,M81,[1]Congés!$D$2:$D$26),NETWORKDAYS(L81,EOMONTH(L81,0),[1]Congés!$D$2:$D$26)) -> 16 | Q81: =IF(O81-N81=0,0,IF(O81-N81=1,NETWORKDAYS(L81,M81,[1]Congés!$D$2:$D$160)-P81,IF(O81-N81=2,NETWORKDAYS(L81,EOMONTH(L81,1),[1]Congés!$D$2:$D$160)-P81,IF(O81-N81=3,NETWORKDAYS(L81,EOMONTH(L81,1),[1]Congés!$D$2:$D$160)-P81)))) -> 0 | R81: =IF(O81-N81<2,0,IF(O81-N81=2,NETWORKDAYS(L81,M81,[1]Congés!$D$2:$D$160)-Q81-P81,IF(O81-N81=3,NETWORKDAYS(L81,EOMONTH(L81,2),[1]Congés!$D$2:$D$160)-Q81-P81))) -> 0 | S81: =IF(O81-N81<3,0,NETWORKDAYS(L81,M81,[1]Congés!$D$2:$D$160)-R81-Q81-P81) -> 0 | T81: =NETWORKDAYS(L81,M81,[1]Congés!C$2:C$160) -> 15 | U81: LM | V81: 42104 | W81: =IF(T81<3,"1) 1 à 2 jours",IF(T81<5,"2) 3 à 4 jours",IF(T81=5,"3) 5 jours",IF(T81<=10,"4) 6 à 10 jours",IF(T81>10,"5) plus de 10 jours"))))) -> 5) plus de 10 jours | X81: prol | Z81: =M81-L81+1 -> 22
A82: 16164 | C82: =VLOOKUP(A82,'[1]BDD RH'!$A$9:$W$453,16,FALSE) -> Chamonix | D82: =VLOOKUP(A82,'[1]BDD RH'!$A$9:$W$453,4,FALSE) -> t | E82: =VLOOKUP(A82,'[1]BDD RH'!$A$9:$W$453,3,FALSE) -> F | F82: =DATEDIF((VLOOKUP(A82,'[1]BDD RH'!$A$2:$W$485,7,FALSE)),L82,"y") -> 39 | G82: =IF(F82<=20,"<=20",IF(F82<=30,"21/30",IF(F82<=40,"31/40",IF(F82<=50,"41/50",IF(F82<=60,"51/60",IF(F82>60,"61 et plus",FALSE)))))) -> 31/40 | H82: =DATEDIF((VLOOKUP(A82,'[1]BDD RH'!$A$2:$W$485,11,FALSE)),L82,"y") -> 10 | I82: =IF(H82<2,"<2",IF(H82<6,"2/5",IF(H82<11,"6/10",IF(H82<16,"11/15",IF(H82<21,"16/20",IF(H82<26,"21/25",IF(H82>25,"26 et plus",FALSE))))))) -> 6/10 | J82: CAM01 | K82: =IF($N$19:$N$585<=3,1,IF($N$19:$N$585<=6,2,IF($N$19:$N$585<=9,3,IF($N$19:$N$585>9,4,FALSE)))) -> 1 | L82: 42392 | M82: 42419 | N82: =MONTH(L82) -> 1 | O82: =MONTH(M82) -> 2 | P82: =IF(O82-N82=0,NETWORKDAYS(L82,M82,[1]Congés!$D$2:$D$26),NETWORKDAYS(L82,EOMONTH(L82,0),[1]Congés!$D$2:$D$26)) -> 5 | Q82: =IF(O82-N82=0,0,IF(O82-N82=1,NETWORKDAYS(L82,M82,[1]Congés!$D$2:$D$160)-P82,IF(O82-N82=2,NETWORKDAYS(L82,EOMONTH(L82,1),[1]Congés!$D$2:$D$160)-P82,IF(O82-N82=3,NETWORKDAYS(L82,EOMONTH(L82,1),[1]Congés!$D$2:$D$160)-P82)))) -> 15 | R82: =IF(O82-N82<2,0,IF(O82-N82=2,NETWORKDAYS(L82,M82,[1]Congés!$D$2:$D$160)-Q82-P82,IF(O82-N82=3,NETWORKDAYS(L82,EOMONTH(L82,2),[1]Congés!$D$2:$D$160)-Q82-P82))) -> 0 | S82: =IF(O82-N82<3,0,NETWORKDAYS(L82,M82,[1]Congés!$D$2:$D$160)-R82-Q82-P82) -> 0 | T82: =NETWORKDAYS(L82,M82,[1]Congés!C$2:C$160) -> 20 | U82: LM | V82: 42104 | W82: =IF(T82<3,"1) 1 à 2 jours",IF(T82<5,"2) 3 à 4 jours",IF(T82=5,"3) 5 jours",IF(T82<=10,"4) 6 à 10 jours",IF(T82>10,"5) plus de 10 jours"))))) -> 5) plus de 10 jours | X82: prol | Z82: =M82-L82+1 -> 28
A83: 16164 | C83: =VLOOKUP(A83,'[1]BDD RH'!$A$9:$W$453,16,FALSE) -> Chamonix | D83: =VLOOKUP(A83,'[1]BDD RH'!$A$9:$W$453,4,FALSE) -> t | E83: =VLOOKUP(A83,'[1]BDD RH'!$A$9:$W$453,3,FALSE) -> F | F83: =DATEDIF((VLOOKUP(A83,'[1]BDD RH'!$A$2:$W$485,7,FALSE)),L83,"y") -> 39 | G83: =IF(F83<=20,"<=20",IF(F83<=30,"21/30",IF(F83<=40,"31/40",IF(F83<=50,"41/50",IF(F83<=60,"51/60",IF(F83>60,"61 et plus",FALSE)))))) -> 31/40 | H83: =DATEDIF((VLOOKUP(A83,'[1]BDD RH'!$A$2:$W$485,11,FALSE)),L83,"y") -> 10 | I83: =IF(H83<2,"<2",IF(H83<6,"2/5",IF(H83<11,"6/10",IF(H83<16,"11/15",IF(H83<21,"16/20",IF(H83<26,"21/25",IF(H83>25,"26 et plus",FALSE))))))) -> 6/10 | J83: CAM01 | K83: =IF($N$19:$N$585<=3,1,IF($N$19:$N$585<=6,2,IF($N$19:$N$585<=9,3,IF($N$19:$N$585>9,4,FALSE)))) -> 1 | L83: 42420 | M83: 42447 | N83: =MONTH(L83) -> 2 | O83: =MONTH(M83) -> 3 | P83: =IF(O83-N83=0,NETWORKDAYS(L83,M83,[1]Congés!$D$2:$D$26),NETWORKDAYS(L83,EOMONTH(L83,0),[1]Congés!$D$2:$D$26)) -> 6 | Q83: =IF(O83-N83=0,0,IF(O83-N83=1,NETWORKDAYS(L83,M83,[1]Congés!$D$2:$D$160)-P83,IF(O83-N83=2,NETWORKDAYS(L83,EOMONTH(L83,1),[1]Congés!$D$2:$D$160)-P83,IF(O83-N83=3,NETWORKDAYS(L83,EOMONTH(L83,1),[1]Congés!$D$2:$D$160)-P83)))) -> 14 | R83: =IF(O83-N83<2,0,IF(O83-N83=2,NETWORKDAYS(L83,M83,[1]Congés!$D$2:$D$160)-Q83-P83,IF(O83-N83=3,NETWORKDAYS(L83,EOMONTH(L83,2),[1]Congés!$D$2:$D$160)-Q83-P83))) -> 0 | S83: =IF(O83-N83<3,0,NETWORKDAYS(L83,M83,[1]Congés!$D$2:$D$160)-R83-Q83-P83) -> 0 | T83: =NETWORKDAYS(L83,M83,[1]Congés!C$2:C$160) -> 20 | U83: LM | V83: 42104 | W83: =IF(T83<3,"1) 1 à 2 jours",IF(T83<5,"2) 3 à 4 jours",IF(T83=5,"3) 5 jours",IF(T83<=10,"4) 6 à 10 jours",IF(T83>10,"5) plus de 10 jours"))))) -> 5) plus de 10 jours | X83: prol | Z83: =M83-L83+1 -> 28
A84: 16164 | C84: =VLOOKUP(A84,'[1]BDD RH'!$A$9:$W$453,16,FALSE) -> Chamonix | D84: =VLOOKUP(A84,'[1]BDD RH'!$A$9:$W$453,4,FALSE) -> t | E84: =VLOOKUP(A84,'[1]BDD RH'!$A$9:$W$453,3,FALSE) -> F | F84: =DATEDIF((VLOOKUP(A84,'[1]BDD RH'!$A$2:$W$485,7,FALSE)),L84,"y") -> 40 | G84: =IF(F84<=20,"<=20",IF(F84<=30,"21/30",IF(F84<=40,"31/40",IF(F84<=50,"41/50",IF(F84<=60,"51/60",IF(F84>60,"61 et plus",FALSE)))))) -> 31/40 | H84: =DATEDIF((VLOOKUP(A84,'[1]BDD RH'!$A$2:$W$485,11,FALSE)),L84,"y") -> 10 | I84: =IF(H84<2,"<2",IF(H84<6,"2/5",IF(H84<11,"6/10",IF(H84<16,"11/15",IF(H84<21,"16/20",IF(H84<26,"21/25",IF(H84>25,"26 et plus",FALSE))))))) -> 6/10 | J84: CAM01 | K84: =IF($N$19:$N$585<=3,1,IF($N$19:$N$585<=6,2,IF($N$19:$N$585<=9,3,IF($N$19:$N$585>9,4,FALSE)))) -> 1 | L84: 42447 | M84: 42475 | N84: =MONTH(L84) -> 3 | O84: =MONTH(M84) -> 4 | P84: =IF(O84-N84=0,NETWORKDAYS(L84,M84,[1]Congés!$D$2:$D$26),NETWORKDAYS(L84,EOMONTH(L84,0),[1]Congés!$D$2:$D$26)) -> 10 | Q84: =IF(O84-N84=0,0,IF(O84-N84=1,NETWORKDAYS(L84,M84,[1]Congés!$D$2:$D$160)-P84,IF(O84-N84=2,NETWORKDAYS(L84,EOMONTH(L84,1),[1]Congés!$D$2:$D$160)-P84,IF(O84-N84=3,NETWORKDAYS(L84,EOMONTH(L84,1),[1]Congés!$D$2:$D$160)-P84)))) -> 11 | R84: =IF(O84-N84<2,0,IF(O84-N84=2,NETWORKDAYS(L84,M84,[1]Congés!$D$2:$D$160)-Q84-P84,IF(O84-N84=3,NETWORKDAYS(L84,EOMONTH(L84,2),[1]Congés!$D$2:$D$160)-Q84-P84))) -> 0 | S84: =IF(O84-N84<3,0,NETWORKDAYS(L84,M84,[1]Congés!$D$2:$D$160)-R84-Q84-P84) -> 0 | T84: =NETWORKDAYS(L84,M84,[1]Congés!C$2:C$160) -> 20 | U84: LM | V84: 42104 | W84: =IF(T84<3,"1) 1 à 2 jours",IF(T84<5,"2) 3 à 4 jours",IF(T84=5,"3) 5 jours",IF(T84<=10,"4) 6 à 10 jours",IF(T84>10,"5) plus de 10 jours"))))) -> 5) plus de 10 jours | X84: prol | Z84: =M84-L84+1 -> 29
A85: 16164 | C85: =VLOOKUP(A85,'[1]BDD RH'!$A$9:$W$453,16,FALSE) -> Chamonix | D85: =VLOOKUP(A85,'[1]BDD RH'!$A$9:$W$453,4,FALSE) -> t | E85: =VLOOKUP(A85,'[1]BDD RH'!$A$9:$W$453,3,FALSE) -> F | F85: =DATEDIF((VLOOKUP(A85,'[1]BDD RH'!$A$2:$W$485,7,FALSE)),L85,"y") -> 40 | G85: =IF(F85<=20,"<=20",IF(F85<=30,"21/30",IF(F85<=40,"31/40",IF(F85<=50,"41/50",IF(F85<=60,"51/60",IF(F85>60,"61 et plus",FALSE)))))) -> 31/40 | H85: =DATEDIF((VLOOKUP(A85,'[1]BDD RH'!$A$2:$W$485,11,FALSE)),L85,"y") -> 10 | I85: =IF(H85<2,"<2",IF(H85<6,"2/5",IF(H85<11,"6/10",IF(H85<16,"11/15",IF(H85<21,"16/20",IF(H85<26,"21/25",IF(H85>25,"26 et plus",FALSE))))))) -> 6/10 | J85: CAM01 | K85: =IF($N$19:$N$585<=3,1,IF($N$19:$N$585<=6,2,IF($N$19:$N$585<=9,3,IF($N$19:$N$585>9,4,FALSE)))) -> 2 | L85: 42476 | M85: 42503 | N85: =MONTH(L85) -> 4 | O85: =MONTH(M85) -> 5 | P85: =IF(O85-N85=0,NETWORKDAYS(L85,M85,[1]Congés!$D$2:$D$26),NETWORKDAYS(L85,EOMONTH(L85,0),[1]Congés!$D$2:$D$26)) -> 10 | Q85: =IF(O85-N85=0,0,IF(O85-N85=1,NETWORKDAYS(L85,M85,[1]Congés!$D$2:$D$160)-P85,IF(O85-N85=2,NETWORKDAYS(L85,EOMONTH(L85,1),[1]Congés!$D$2:$D$160)-P85,IF(O85-N85=3,NETWORKDAYS(L85,EOMONTH(L85,1),[1]Congés!$D$2:$D$160)-P85)))) -> 10 | R85: =IF(O85-N85<2,0,IF(O85-N85=2,NETWORKDAYS(L85,M85,[1]Congés!$D$2:$D$160)-Q85-P85,IF(O85-N85=3,NETWORKDAYS(L85,EOMONTH(L85,2),[1]Congés!$D$2:$D$160)-Q85-P85))) -> 0 | S85: =IF(O85-N85<3,0,NETWORKDAYS(L85,M85,[1]Congés!$D$2:$D$160)-R85-Q85-P85) -> 0 | T85: =NETWORKDAYS(L85,M85,[1]Congés!C$2:C$160) -> 18 | U85: LM | V85: 42095 | W85: =IF(T85<3,"1) 1 à 2 jours",IF(T85<5,"2) 3 à 4 jours",IF(T85=5,"3) 5 jours",IF(T85<=10,"4) 6 à 10 jours",IF(T85>10,"5) plus de 10 jours"))))) -> 5) plus de 10 jours | X85: vm à prévoir | Z85: =M85-L85+1 -> 28
A86: 17192 | C86: =VLOOKUP(A86,'[1]BDD RH'!$A$9:$W$453,16,FALSE) -> Saphir | D86: =VLOOKUP(A86,'[1]BDD RH'!$A$9:$W$453,4,FALSE) -> c | E86: =VLOOKUP(A86,'[1]BDD RH'!$A$9:$W$453,3,FALSE) -> H | F86: =DATEDIF((VLOOKUP(A86,'[1]BDD RH'!$A$2:$W$485,7,FALSE)),L86,"y") -> 33 | G86: =IF(F86<=20,"<=20",IF(F86<=30,"21/30",IF(F86<=40,"31/40",IF(F86<=50,"41/50",IF(F86<=60,"51/60",IF(F86>60,"61 et plus",FALSE)))))) -> 31/40 | H86: =DATEDIF((VLOOKUP(A86,'[1]BDD RH'!$A$2:$W$485,11,FALSE)),L86,"y") -> 9 | I86: =IF(H86<2,"<2",IF(H86<6,"2/5",IF(H86<11,"6/10",IF(H86<16,"11/15",IF(H86<21,"16/20",IF(H86<26,"21/25",IF(H86>25,"26 et plus",FALSE))))))) -> 6/10 | J86: CAA01 | K86: =IF($N$19:$N$585<=3,1,IF($N$19:$N$585<=6,2,IF($N$19:$N$585<=9,3,IF($N$19:$N$585>9,4,FALSE)))) -> 1 | L86: 42395 | M86: 42399 | N86: =MONTH(L86) -> 1 | O86: =MONTH(M86) -> 1 | P86: =IF(O86-N86=0,NETWORKDAYS(L86,M86,[1]Congés!$D$2:$D$26),NETWORKDAYS(L86,EOMONTH(L86,0),[1]Congés!$D$2:$D$26)) -> 4 | Q86: =IF(O86-N86=0,0,IF(O86-N86=1,NETWORKDAYS(L86,M86,[1]Congés!$D$2:$D$160)-P86,IF(O86-N86=2,NETWORKDAYS(L86,EOMONTH(L86,1),[1]Congés!$D$2:$D$160)-P86,IF(O86-N86=3,NETWORKDAYS(L86,EOMONTH(L86,1),[1]Congés!$D$2:$D$160)-P86)))) -> 0 | R86: =IF(O86-N86<2,0,IF(O86-N86=2,NETWORKDAYS(L86,M86,[1]Congés!$D$2:$D$160)-Q86-P86,IF(O86-N86=3,NETWORKDAYS(L86,EOMONTH(L86,2),[1]Congés!$D$2:$D$160)-Q86-P86))) -> 0 | S86: =IF(O86-N86<3,0,NETWORKDAYS(L86,M86,[1]Congés!$D$2:$D$160)-R86-Q86-P86) -> 0 | T86: =NETWORKDAYS(L86,M86,[1]Congés!C$2:C$160) -> 4 | U86: AT 15 | V86: 42395 | W86: =IF(T86<3,"1) 1 à 2 jours",IF(T86<5,"2) 3 à 4 jours",IF(T86=5,"3) 5 jours",IF(T86<=10,"4) 6 à 10 jours",IF(T86>10,"5) plus de 10 jours"))))) -> 2) 3 à 4 jours | X86: prol | Z86: =M86-L86+1 -> 5
A87: 17192 | C87: =VLOOKUP(A87,'[1]BDD RH'!$A$9:$W$453,16,FALSE) -> Saphir | D87: =VLOOKUP(A87,'[1]BDD RH'!$A$9:$W$453,4,FALSE) -> c | E87: =VLOOKUP(A87,'[1]BDD RH'!$A$9:$W$453,3,FALSE) -> H | F87: =DATEDIF((VLOOKUP(A87,'[1]BDD RH'!$A$2:$W$485,7,FALSE)),L87,"y") -> 33 | G87: =IF(F87<=20,"<=20",IF(F87<=30,"21/30",IF(F87<=40,"31/40",IF(F87<=50,"41/50",IF(F87<=60,"51/60",IF(F87>60,"61 et plus",FALSE)))))) -> 31/40 | H87: =DATEDIF((VLOOKUP(A87,'[1]BDD RH'!$A$2:$W$485,11,FALSE)),L87,"y") -> 9 | I87: =IF(H87<2,"<2",IF(H87<6,"2/5",IF(H87<11,"6/10",IF(H87<16,"11/15",IF(H87<21,"16/20",IF(H87<26,"21/25",IF(H87>25,"26 et plus",FALSE))))))) -> 6/10 | J87: CAA01 | K87: =IF($N$19:$N$585<=3,1,IF($N$19:$N$585<=6,2,IF($N$19:$N$585<=9,3,IF($N$19:$N$585>9,4,FALSE)))) -> 1 | L87: 42401 | M87: 42412 | N87: =MONTH(L87) -> 2 | O87: =MONTH(M87) -> 2 | P87: =IF(O87-N87=0,NETWORKDAYS(L87,M87,[1]Congés!$D$2:$D$26),NETWORKDAYS(L87,EOMONTH(L87,0),[1]Congés!$D$2:$D$26)) -> 10 | Q87: =IF(O87-N87=0,0,IF(O87-N87=1,NETWORKDAYS(L87,M87,[1]Congés!$D$2:$D$160)-P87,IF(O87-N87=2,NETWORKDAYS(L87,EOMONTH(L87,1),[1]Congés!$D$2:$D$160)-P87,IF(O87-N87=3,NETWORKDAYS(L87,EOMONTH(L87,1),[1]Congés!$D$2:$D$160)-P87)))) -> 0 | R87: =IF(O87-N87<2,0,IF(O87-N87=2,NETWORKDAYS(L87,M87,[1]Congés!$D$2:$D$160)-Q87-P87,IF(O87-N87=3,NETWORKDAYS(L87,EOMONTH(L87,2),[1]Congés!$D$2:$D$160)-Q87-P87))) -> 0 | S87: =IF(O87-N87<3,0,NETWORKDAYS(L87,M87,[1]Congés!$D$2:$D$160)-R87-Q87-P87) -> 0 | T87: =NETWORKDAYS(L87,M87,[1]Congés!C$2:C$160) -> 10 | U87: AT 15 | V87: 42395 | W87: =IF(T87<3,"1) 1 à 2 jours",IF(T87<5,"2) 3 à 4 jours",IF(T87=5,"3) 5 jours",IF(T87<=10,"4) 6 à 10 jours",IF(T87>10,"5) plus de 10 jours"))))) -> 4) 6 à 10 jours | X87: prol | Z87: =M87-L87+1 -> 12
A88: 17192 | C88: =VLOOKUP(A88,'[1]BDD RH'!$A$9:$W$453,16,FALSE) -> Saphir | D88: =VLOOKUP(A88,'[1]BDD RH'!$A$9:$W$453,4,FALSE) -> c | E88: =VLOOKUP(A88,'[1]BDD RH'!$A$9:$W$453,3,FALSE) -> H | F88: =DATEDIF((VLOOKUP(A88,'[1]BDD RH'!$A$2:$W$485,7,FALSE)),L88,"y") -> 33 | G88: =IF(F88<=20,"<=20",IF(F88<=30,"21/30",IF(F88<=40,"31/40",IF(F88<=50,"41/50",IF(F88<=60,"51/60",IF(F88>60,"61 et plus",FALSE)))))) -> 31/40 | H88: =DATEDIF((VLOOKUP(A88,'[1]BDD RH'!$A$2:$W$485,11,FALSE)),L88,"y") -> 9 | I88: =IF(H88<2,"<2",IF(H88<6,"2/5",IF(H88<11,"6/10",IF(H88<16,"11/15",IF(H88<21,"16/20",IF(H88<26,"21/25",IF(H88>25,"26 et plus",FALSE))))))) -> 6/10 | J88: CAA01 | K88: =IF($N$19:$N$585<=3,1,IF($N$19:$N$585<=6,2,IF($N$19:$N$585<=9,3,IF($N$19:$N$585>9,4,FALSE)))) -> 1 | L88: 42413 | M88: 42425 | N88: =MONTH(L88) -> 2 | O88: =MONTH(M88) -> 2 | P88: =IF(O88-N88=0,NETWORKDAYS(L88,M88,[1]Congés!$D$2:$D$26),NETWORKDAYS(L88,EOMONTH(L88,0),[1]Congés!$D$2:$D$26)) -> 9 | Q88: =IF(O88-N88=0,0,IF(O88-N88=1,NETWORKDAYS(L88,M88,[1]Congés!$D$2:$D$160)-P88,IF(O88-N88=2,NETWORKDAYS(L88,EOMONTH(L88,1),[1]Congés!$D$2:$D$160)-P88,IF(O88-N88=3,NETWORKDAYS(L88,EOMONTH(L88,1),[1]Congés!$D$2:$D$160)-P88)))) -> 0 | R88: =IF(O88-N88<2,0,IF(O88-N88=2,NETWORKDAYS(L88,M88,[1]Congés!$D$2:$D$160)-Q88-P88,IF(O88-N88=3,NETWORKDAYS(L88,EOMONTH(L88,2),[1]Congés!$D$2:$D$160)-Q88-P88))) -> 0 | S88: =IF(O88-N88<3,0,NETWORKDAYS(L88,M88,[1]Congés!$D$2:$D$160)-R88-Q88-P88) -> 0 | T88: =NETWORKDAYS(L88,M88,[1]Congés!C$2:C$160) -> 9 | U88: AT 15 | V88: 42395 | W88: =IF(T88<3,"1) 1 à 2 jours",IF(T88<5,"2) 3 à 4 jours",IF(T88=5,"3) 5 jours",IF(T88<=10,"4) 6 à 10 jours",IF(T88>10,"5) plus de 10 jours"))))) -> 4) 6 à 10 jours | X88: prol | Z88: =M88-L88+1 -> 13
A89: 17192 | C89: =VLOOKUP(A89,'[1]BDD RH'!$A$9:$W$453,16,FALSE) -> Saphir | D89: =VLOOKUP(A89,'[1]BDD RH'!$A$9:$W$453,4,FALSE) -> c | E89: =VLOOKUP(A89,'[1]BDD RH'!$A$9:$W$453,3,FALSE) -> H | F89: =DATEDIF((VLOOKUP(A89,'[1]BDD RH'!$A$2:$W$485,7,FALSE)),L89,"y") -> 33 | G89: =IF(F89<=20,"<=20",IF(F89<=30,"21/30",IF(F89<=40,"31/40",IF(F89<=50,"41/50",IF(F89<=60,"51/60",IF(F89>60,"61 et plus",FALSE)))))) -> 31/40 | H89: =DATEDIF((VLOOKUP(A89,'[1]BDD RH'!$A$2:$W$485,11,FALSE)),L89,"y") -> 9 | I89: =IF(H89<2,"<2",IF(H89<6,"2/5",IF(H89<11,"6/10",IF(H89<16,"11/15",IF(H89<21,"16/20",IF(H89<26,"21/25",IF(H89>25,"26 et plus",FALSE))))))) -> 6/10 | J89: CAA01 | K89: =IF($N$19:$N$585<=3,1,IF($N$19:$N$585<=6,2,IF($N$19:$N$585<=9,3,IF($N$19:$N$585>9,4,FALSE)))) -> 1 | L89: 42426 | M89: 42426 | N89: =MONTH(L89) -> 2 | O89: =MONTH(M89) -> 2 | P89: =IF(O89-N89=0,NETWORKDAYS(L89,M89,[1]Congés!$D$2:$D$26),NETWORKDAYS(L89,EOMONTH(L89,0),[1]Congés!$D$2:$D$26)) -> 1 | Q89: =IF(O89-N89=0,0,IF(O89-N89=1,NETWORKDAYS(L89,M89,[1]Congés!$D$2:$D$160)-P89,IF(O89-N89=2,NETWORKDAYS(L89,EOMONTH(L89,1),[1]Congés!$D$2:$D$160)-P89,IF(O89-N89=3,NETWORKDAYS(L89,EOMONTH(L89,1),[1]Congés!$D$2:$D$160)-P89)))) -> 0 | R89: =IF(O89-N89<2,0,IF(O89-N89=2,NETWORKDAYS(L89,M89,[1]Congés!$D$2:$D$160)-Q89-P89,IF(O89-N89=3,NETWORKDAYS(L89,EOMONTH(L89,2),[1]Congés!$D$2:$D$160)-Q89-P89))) -> 0 | S89: =IF(O89-N89<3,0,NETWORKDAYS(L89,M89,[1]Congés!$D$2:$D$160)-R89-Q89-P89) -> 0 | T89: =NETWORKDAYS(L89,M89,[1]Congés!C$2:C$160) -> 1 | U89: AT 15 | V89: 42395 | W89: =IF(T89<3,"1) 1 à 2 jours",IF(T89<5,"2) 3 à 4 jours",IF(T89=5,"3) 5 jours",IF(T89<=10,"4) 6 à 10 jours",IF(T89>10,"5) plus de 10 jours"))))) -> 1) 1 à 2 jours | X89: vm faite | Y89: 42432 | Z89: =M89-L89+1 -> 1
A90: 17192 | C90: =VLOOKUP(A90,'[1]BDD RH'!$A$9:$W$453,16,FALSE) -> Saphir | D90: =VLOOKUP(A90,'[1]BDD RH'!$A$9:$W$453,4,FALSE) -> c | E90: =VLOOKUP(A90,'[1]BDD RH'!$A$9:$W$453,3,FALSE) -> H | F90: =DATEDIF((VLOOKUP(A90,'[1]BDD RH'!$A$2:$W$485,7,FALSE)),L90,"y") -> 33 | G90: =IF(F90<=20,"<=20",IF(F90<=30,"21/30",IF(F90<=40,"31/40",IF(F90<=50,"41/50",IF(F90<=60,"51/60",IF(F90>60,"61 et plus",FALSE)))))) -> 31/40 | H90: =DATEDIF((VLOOKUP(A90,'[1]BDD RH'!$A$2:$W$485,11,FALSE)),L90,"y") -> 9 | I90: =IF(H90<2,"<2",IF(H90<6,"2/5",IF(H90<11,"6/10",IF(H90<16,"11/15",IF(H90<21,"16/20",IF(H90<26,"21/25",IF(H90>25,"26 et plus",FALSE))))))) -> 6/10 | K90: =IF($N$19:$N$585<=3,1,IF($N$19:$N$585<=6,2,IF($N$19:$N$585<=9,3,IF($N$19:$N$585>9,4,FALSE)))) -> 1 | L90: 42427 | M90: 42490 | N90: =MONTH(L90) -> 2 | O90: =MONTH(M90) -> 4 | P90: =IF(O90-N90=0,NETWORKDAYS(L90,M90,[1]Congés!$D$2:$D$26),NETWORKDAYS(L90,EOMONTH(L90,0),[1]Congés!$D$2:$D$26)) -> 1 | Q90: =IF(O90-N90=0,0,IF(O90-N90=1,NETWORKDAYS(L90,M90,[1]Congés!$D$2:$D$160)-P90,IF(O90-N90=2,NETWORKDAYS(L90,EOMONTH(L90,1),[1]Congés!$D$2:$D$160)-P90,IF(O90-N90=3,NETWORKDAYS(L90,EOMONTH(L90,1),[1]Congés!$D$2:$D$160)-P90)))) -> 23 | R90: =IF(O90-N90<2,0,IF(O90-N90=2,NETWORKDAYS(L90,M90,[1]Congés!$D$2:$D$160)-Q90-P90,IF(O90-N90=3,NETWORKDAYS(L90,EOMONTH(L90,2),[1]Congés!$D$2:$D$160)-Q90-P90))) -> 21 | S90: =IF(O90-N90<3,0,NETWORKDAYS(L90,M90,[1]Congés!$D$2:$D$160)-R90-Q90-P90) -> 0 | T90: =NETWORKDAYS(L90,M90,[1]Congés!C$2:C$160) -> 44 | U90: Mi-temps | V90: 42396 | W90: =IF(T90<3,"1) 1 à 2 jours",IF(T90<5,"2) 3 à 4 jours",IF(T90=5,"3) 5 jours",IF(T90<=10,"4) 6 à 10 jours",IF(T90>10,"5) plus de 10 jours"))))) -> 5) plus de 10 jours | Z90: =M90-L90+1 -> 64
A91: 17192 | C91: =VLOOKUP(A91,'[1]BDD RH'!$A$9:$W$453,16,FALSE) -> Saphir | D91: =VLOOKUP(A91,'[1]BDD RH'!$A$9:$W$453,4,FALSE) -> c | E91: =VLOOKUP(A91,'[1]BDD RH'!$A$9:$W$453,3,FALSE) -> H | F91: =DATEDIF((VLOOKUP(A91,'[1]BDD RH'!$A$2:$W$485,7,FALSE)),L91,"y") -> 33 | G91: =IF(F91<=20,"<=20",IF(F91<=30,"21/30",IF(F91<=40,"31/40",IF(F91<=50,"41/50",IF(F91<=60,"51/60",IF(F91>60,"61 et plus",FALSE)))))) -> 31/40 | H91: =DATEDIF((VLOOKUP(A91,'[1]BDD RH'!$A$2:$W$485,11,FALSE)),L91,"y") -> 9 | I91: =IF(H91<2,"<2",IF(H91<6,"2/5",IF(H91<11,"6/10",IF(H91<16,"11/15",IF(H91<21,"16/20",IF(H91<26,"21/25",IF(H91>25,"26 et plus",FALSE))))))) -> 6/10 | K91: =IF($N$19:$N$585<=3,1,IF($N$19:$N$585<=6,2,IF($N$19:$N$585<=9,3,IF($N$19:$N$585>9,4,FALSE)))) -> 2 | L91: 42491 | M91: 42567 | N91: =MONTH(L91) -> 5 | O91: =MONTH(M91) -> 7 | P91: =IF(O91-N91=0,NETWORKDAYS(L91,M91,[1]Congés!$D$2:$D$26),NETWORKDAYS(L91,EOMONTH(L91,0),[1]Congés!$D$2:$D$26)) -> 22 | Q91: =IF(O91-N91=0,0,IF(O91-N91=1,NETWORKDAYS(L91,M91,[1]Congés!$D$2:$D$160)-P91,IF(O91-N91=2,NETWORKDAYS(L91,EOMONTH(L91,1),[1]Congés!$D$2:$D$160)-P91,IF(O91-N91=3,NETWORKDAYS(L91,EOMONTH(L91,1),[1]Congés!$D$2:$D$160)-P91)))) -> 22 | R91: =IF(O91-N91<2,0,IF(O91-N91=2,NETWORKDAYS(L91,M91,[1]Congés!$D$2:$D$160)-Q91-P91,IF(O91-N91=3,NETWORKDAYS(L91,EOMONTH(L91,2),[1]Congés!$D$2:$D$160)-Q91-P91))) -> 11 | S91: =IF(O91-N91<3,0,NETWORKDAYS(L91,M91,[1]Congés!$D$2:$D$160)-R91-Q91-P91) -> 0 | T91: =NETWORKDAYS(L91,M91,[1]Congés!C$2:C$160) -> 50 | U91: Mi-temps | V91: 42396 | W91: =IF(T91<3,"1) 1 à 2 jours",IF(T91<5,"2) 3 à 4 jours",IF(T91=5,"3) 5 jours",IF(T91<=10,"4) 6 à 10 jours",IF(T91>10,"5) plus de 10 jours"))))) -> 5) plus de 10 jours | X91: TPT Vm à prévoir | Z91: =M91-L91+1 -> 77
A92: 919 | C92: =VLOOKUP(A92,'[1]BDD RH'!$A$9:$W$453,16,FALSE) -> Chamonix | D92: =VLOOKUP(A92,'[1]BDD RH'!$A$9:$W$453,4,FALSE) -> t | E92: =VLOOKUP(A92,'[1]BDD RH'!$A$9:$W$453,3,FALSE) -> F | F92: =DATEDIF((VLOOKUP(A92,'[1]BDD RH'!$A$2:$W$485,7,FALSE)),L92,"y") -> 40 | G92: =IF(F92<=20,"<=20",IF(F92<=30,"21/30",IF(F92<=40,"31/40",IF(F92<=50,"41/50",IF(F92<=60,"51/60",IF(F92>60,"61 et plus",FALSE)))))) -> 31/40 | H92: =DATEDIF((VLOOKUP(A92,'[1]BDD RH'!$A$2:$W$485,11,FALSE)),L92,"y") -> 17 | I92: =IF(H92<2,"<2",IF(H92<6,"2/5",IF(H92<11,"6/10",IF(H92<16,"11/15",IF(H92<21,"16/20",IF(H92<26,"21/25",IF(H92>25,"26 et plus",FALSE))))))) -> 16/20 | J92: CES01 | K92: =IF($N$19:$N$585<=3,1,IF($N$19:$N$585<=6,2,IF($N$19:$N$585<=9,3,IF($N$19:$N$585>9,4,FALSE)))) -> 1 | L92: 42375 | M92: 42377 | N92: =MONTH(L92) -> 1 | O92: =MONTH(M92) -> 1 | P92: =IF(O92-N92=0,NETWORKDAYS(L92,M92,[1]Congés!$D$2:$D$26),NETWORKDAYS(L92,EOMONTH(L92,0),[1]Congés!$D$2:$D$26)) -> 3 | Q92: =IF(O92-N92=0,0,IF(O92-N92=1,NETWORKDAYS(L92,M92,[1]Congés!$D$2:$D$160)-P92,IF(O92-N92=2,NETWORKDAYS(L92,EOMONTH(L92,1),[1]Congés!$D$2:$D$160)-P92,IF(O92-N92=3,NETWORKDAYS(L92,EOMONTH(L92,1),[1]Congés!$D$2:$D$160)-P92)))) -> 0 | R92: =IF(O92-N92<2,0,IF(O92-N92=2,NETWORKDAYS(L92,M92,[1]Congés!$D$2:$D$160)-Q92-P92,IF(O92-N92=3,NETWORKDAYS(L92,EOMONTH(L92,2),[1]Congés!$D$2:$D$160)-Q92-P92))) -> 0 | S92: =IF(O92-N92<3,0,NETWORKDAYS(L92,M92,[1]Congés!$D$2:$D$160)-R92-Q92-P92) -> 0 | T92: =NETWORKDAYS(L92,M92,[1]Congés!C$2:C$160) -> 3 | U92: Arrêt Maladie | W92: =IF(T92<3,"1) 1 à 2 jours",IF(T92<5,"2) 3 à 4 jours",IF(T92=5,"3) 5 jours",IF(T92<=10,"4) 6 à 10 jours",IF(T92>10,"5) plus de 10 jours"))))) -> 2) 3 à 4 jours | X92: * | Z92: =M92-L92+1 -> 3
A93: 919 | C93: =VLOOKUP(A93,'[1]BDD RH'!$A$9:$W$453,16,FALSE) -> Chamonix | D93: =VLOOKUP(A93,'[1]BDD RH'!$A$9:$W$453,4,FALSE) -> t | E93: =VLOOKUP(A93,'[1]BDD RH'!$A$9:$W$453,3,FALSE) -> F | F93: =DATEDIF((VLOOKUP(A93,'[1]BDD RH'!$A$2:$W$485,7,FALSE)),L93,"y") -> 40 | G93: =IF(F93<=20,"<=20",IF(F93<=30,"21/30",IF(F93<=40,"31/40",IF(F93<=50,"41/50",IF(F93<=60,"51/60",IF(F93>60,"61 et plus",FALSE)))))) -> 31/40 | H93: =DATEDIF((VLOOKUP(A93,'[1]BDD RH'!$A$2:$W$485,11,FALSE)),L93,"y") -> 17 | I93: =IF(H93<2,"<2",IF(H93<6,"2/5",IF(H93<11,"6/10",IF(H93<16,"11/15",IF(H93<21,"16/20",IF(H93<26,"21/25",IF(H93>25,"26 et plus",FALSE))))))) -> 16/20 | J93: PRS01 | K93: =IF($N$19:$N$585<=3,1,IF($N$19:$N$585<=6,2,IF($N$19:$N$585<=9,3,IF($N$19:$N$585>9,4,FALSE)))) -> 1 | L93: 42375 | M93: 42376 | N93: =MONTH(L93) -> 1 | O93: =MONTH(M93) -> 1 | P93: =IF(O93-N93=0,NETWORKDAYS(L93,M93,[1]Congés!$D$2:$D$26),NETWORKDAYS(L93,EOMONTH(L93,0),[1]Congés!$D$2:$D$26)) -> 2 | Q93: =IF(O93-N93=0,0,IF(O93-N93=1,NETWORKDAYS(L93,M93,[1]Congés!$D$2:$D$160)-P93,IF(O93-N93=2,NETWORKDAYS(L93,EOMONTH(L93,1),[1]Congés!$D$2:$D$160)-P93,IF(O93-N93=3,NETWORKDAYS(L93,EOMONTH(L93,1),[1]Congés!$D$2:$D$160)-P93)))) -> 0 | R93: =IF(O93-N93<2,0,IF(O93-N93=2,NETWORKDAYS(L93,M93,[1]Congés!$D$2:$D$160)-Q93-P93,IF(O93-N93=3,NETWORKDAYS(L93,EOMONTH(L93,2),[1]Congés!$D$2:$D$160)-Q93-P93))) -> 0 | S93: =IF(O93-N93<3,0,NETWORKDAYS(L93,M93,[1]Congés!$D$2:$D$160)-R93-Q93-P93) -> 0 | T93: =NETWORKDAYS(L93,M93,[1]Congés!C$2:C$160) -> 2 | U93: Arrêt Maladie | W93: =IF(T93<3,"1) 1 à 2 jours",IF(T93<5,"2) 3 à 4 jours",IF(T93=5,"3) 5 jours",IF(T93<=10,"4) 6 à 10 jours",IF(T93>10,"5) plus de 10 jours"))))) -> 1) 1 à 2 jours | X93: * | Z93: =M93-L93+1 -> 2
A94: 18706 | C94: =VLOOKUP(A94,'[1]BDD RH'!$A$9:$W$453,16,FALSE) -> Barenia | D94: =VLOOKUP(A94,'[1]BDD RH'!$A$9:$W$453,4,FALSE) -> c | E94: =VLOOKUP(A94,'[1]BDD RH'!$A$9:$W$453,3,FALSE) -> F | F94: =DATEDIF((VLOOKUP(A94,'[1]BDD RH'!$A$2:$W$485,7,FALSE)),L94,"y") -> 28 | G94: =IF(F94<=20,"<=20",IF(F94<=30,"21/30",IF(F94<=40,"31/40",IF(F94<=50,"41/50",IF(F94<=60,"51/60",IF(F94>60,"61 et plus",FALSE)))))) -> 21/30 | H94: =DATEDIF((VLOOKUP(A94,'[1]BDD RH'!$A$2:$W$485,11,FALSE)),L94,"y") -> 7 | I94: =IF(H94<2,"<2",IF(H94<6,"2/5",IF(H94<11,"6/10",IF(H94<16,"11/15",IF(H94<21,"16/20",IF(H94<26,"21/25",IF(H94>25,"26 et plus",FALSE))))))) -> 6/10 | J94: CHM01 | K94: =IF($N$19:$N$585<=3,1,IF($N$19:$N$585<=6,2,IF($N$19:$N$585<=9,3,IF($N$19:$N$585>9,4,FALSE)))) -> 1 | L94: 42387 | M94: 42391 | N94: =MONTH(L94) -> 1 | O94: =MONTH(M94) -> 1 | P94: =IF(O94-N94=0,NETWORKDAYS(L94,M94,[1]Congés!$D$2:$D$26),NETWORKDAYS(L94,EOMONTH(L94,0),[1]Congés!$D$2:$D$26)) -> 5 | Q94: =IF(O94-N94=0,0,IF(O94-N94=1,NETWORKDAYS(L94,M94,[1]Congés!$D$2:$D$160)-P94,IF(O94-N94=2,NETWORKDAYS(L94,EOMONTH(L94,1),[1]Congés!$D$2:$D$160)-P94,IF(O94-N94=3,NETWORKDAYS(L94,EOMONTH(L94,1),[1]Congés!$D$2:$D$160)-P94)))) -> 0 | R94: =IF(O94-N94<2,0,IF(O94-N94=2,NETWORKDAYS(L94,M94,[1]Congés!$D$2:$D$160)-Q94-P94,IF(O94-N94=3,NETWORKDAYS(L94,EOMONTH(L94,2),[1]Congés!$D$2:$D$160)-Q94-P94))) -> 0 | S94: =IF(O94-N94<3,0,NETWORKDAYS(L94,M94,[1]Congés!$D$2:$D$160)-R94-Q94-P94) -> 0 | T94: =NETWORKDAYS(L94,M94,[1]Congés!C$2:C$160) -> 5 | U94: Arrêt Maladie | W94: =IF(T94<3,"1) 1 à 2 jours",IF(T94<5,"2) 3 à 4 jours",IF(T94=5,"3) 5 jours",IF(T94<=10,"4) 6 à 10 jours",IF(T94>10,"5) plus de 10 jours"))))) -> 3) 5 jours | X94: * | Z94: =M94-L94+1 -> 5
A95: 18706 | C95: =VLOOKUP(A95,'[1]BDD RH'!$A$9:$W$453,16,FALSE) -> Barenia | D95: =VLOOKUP(A95,'[1]BDD RH'!$A$9:$W$453,4,FALSE) -> c | E95: =VLOOKUP(A95,'[1]BDD RH'!$A$9:$W$453,3,FALSE) -> F | F95: =DATEDIF((VLOOKUP(A95,'[1]BDD RH'!$A$2:$W$485,7,FALSE)),L95,"y") -> 28 | G95: =IF(F95<=20,"<=20",IF(F95<=30,"21/30",IF(F95<=40,"31/40",IF(F95<=50,"41/50",IF(F95<=60,"51/60",IF(F95>60,"61 et plus",FALSE)))))) -> 21/30 | H95: =DATEDIF((VLOOKUP(A95,'[1]BDD RH'!$A$2:$W$485,11,FALSE)),L95,"y") -> 7 | I95: =IF(H95<2,"<2",IF(H95<6,"2/5",IF(H95<11,"6/10",IF(H95<16,"11/15",IF(H95<21,"16/20",IF(H95<26,"21/25",IF(H95>25,"26 et plus",FALSE))))))) -> 6/10 | J95: CHM02 | K95: =IF($N$19:$N$585<=3,1,IF($N$19:$N$585<=6,2,IF($N$19:$N$585<=9,3,IF($N$19:$N$585>9,4,FALSE)))) -> 1 | L95: 42447 | M95: 42447 | N95: =MONTH(L95) -> 3 | O95: =MONTH(M95) -> 3 | P95: =IF(O95-N95=0,NETWORKDAYS(L95,M95,[1]Congés!$D$2:$D$26),NETWORKDAYS(L95,EOMONTH(L95,0),[1]Congés!$D$2:$D$26)) -> 1 | Q95: =IF(O95-N95=0,0,IF(O95-N95=1,NETWORKDAYS(L95,M95,[1]Congés!$D$2:$D$160)-P95,IF(O95-N95=2,NETWORKDAYS(L95,EOMONTH(L95,1),[1]Congés!$D$2:$D$160)-P95,IF(O95-N95=3,NETWORKDAYS(L95,EOMONTH(L95,1),[1]Congés!$D$2:$D$160)-P95)))) -> 0 | R95: =IF(O95-N95<2,0,IF(O95-N95=2,NETWORKDAYS(L95,M95,[1]Congés!$D$2:$D$160)-Q95-P95,IF(O95-N95=3,NETWORKDAYS(L95,EOMONTH(L95,2),[1]Congés!$D$2:$D$160)-Q95-P95))) -> 0 | S95: =IF(O95-N95<3,0,NETWORKDAYS(L95,M95,[1]Congés!$D$2:$D$160)-R95-Q95-P95) -> 0 | T95: =NETWORKDAYS(L95,M95,[1]Congés!C$2:C$160) -> 1 | U95: Arrêt Maladie | W95: =IF(T95<3,"1) 1 à 2 jours",IF(T95<5,"2) 3 à 4 jours",IF(T95=5,"3) 5 jours",IF(T95<=10,"4) 6 à 10 jours",IF(T95>10,"5) plus de 10 jours"))))) -> 1) 1 à 2 jours | X95: * | Z95: =M95-L95+1 -> 1
A96: 18706 | C96: =VLOOKUP(A96,'[1]BDD RH'!$A$9:$W$453,16,FALSE) -> Barenia | D96: =VLOOKUP(A96,'[1]BDD RH'!$A$9:$W$453,4,FALSE) -> c | E96: =VLOOKUP(A96,'[1]BDD RH'!$A$9:$W$453,3,FALSE) -> F | F96: =DATEDIF((VLOOKUP(A96,'[1]BDD RH'!$A$2:$W$485,7,FALSE)),L96,"y") -> 28 | G96: =IF(F96<=20,"<=20",IF(F96<=30,"21/30",IF(F96<=40,"31/40",IF(F96<=50,"41/50",IF(F96<=60,"51/60",IF(F96>60,"61 et plus",FALSE)))))) -> 21/30 | H96: =DATEDIF((VLOOKUP(A96,'[1]BDD RH'!$A$2:$W$485,11,FALSE)),L96,"y") -> 7 | I96: =IF(H96<2,"<2",IF(H96<6,"2/5",IF(H96<11,"6/10",IF(H96<16,"11/15",IF(H96<21,"16/20",IF(H96<26,"21/25",IF(H96>25,"26 et plus",FALSE))))))) -> 6/10 | J96: CHM03 | K96: =IF($N$19:$N$585<=3,1,IF($N$19:$N$585<=6,2,IF($N$19:$N$585<=9,3,IF($N$19:$N$585>9,4,FALSE)))) -> 1 | L96: 42458 | M96: 42497 | N96: =MONTH(L96) -> 3 | O96: =MONTH(M96) -> 5 | P96: =IF(O96-N96=0,NETWORKDAYS(L96,M96,[1]Congés!$D$2:$D$26),NETWORKDAYS(L96,EOMONTH(L96,0),[1]Congés!$D$2:$D$26)) -> 3 | Q96: =IF(O96-N96=0,0,IF(O96-N96=1,NETWORKDAYS(L96,M96,[1]Congés!$D$2:$D$160)-P96,IF(O96-N96=2,NETWORKDAYS(L96,EOMONTH(L96,1),[1]Congés!$D$2:$D$160)-P96,IF(O96-N96=3,NETWORKDAYS(L96,EOMONTH(L96,1),[1]Congés!$D$2:$D$160)-P96)))) -> 21 | R96: =IF(O96-N96<2,0,IF(O96-N96=2,NETWORKDAYS(L96,M96,[1]Congés!$D$2:$D$160)-Q96-P96,IF(O96-N96=3,NETWORKDAYS(L96,EOMONTH(L96,2),[1]Congés!$D$2:$D$160)-Q96-P96))) -> 5 | S96: =IF(O96-N96<3,0,NETWORKDAYS(L96,M96,[1]Congés!$D$2:$D$160)-R96-Q96-P96) -> 0 | T96: =NETWORKDAYS(L96,M96,[1]Congés!C$2:C$160) -> 27 | U96: Arrêt Maladie | W96: =IF(T96<3,"1) 1 à 2 jours",IF(T96<5,"2) 3 à 4 jours",IF(T96=5,"3) 5 jours",IF(T96<=10,"4) 6 à 10 jours",IF(T96>10,"5) plus de 10 jours"))))) -> 5) plus de 10 jours | X96: vm à prévoir | Z96: =M96-L96+1 -> 40
A97: 17362 | C97: =VLOOKUP(A97,'[1]BDD RH'!$A$9:$W$453,16,FALSE) -> Gulliver | D97: =VLOOKUP(A97,'[1]BDD RH'!$A$9:$W$453,4,FALSE) -> t | E97: =VLOOKUP(A97,'[1]BDD RH'!$A$9:$W$453,3,FALSE) -> F | F97: =DATEDIF((VLOOKUP(A97,'[1]BDD RH'!$A$2:$W$485,7,FALSE)),L97,"y") -> 41 | G97: =IF(F97<=20,"<=20",IF(F97<=30,"21/30",IF(F97<=40,"31/40",IF(F97<=50,"41/50",IF(F97<=60,"51/60",IF(F97>60,"61 et plus",FALSE)))))) -> 41/50 | H97: =DATEDIF((VLOOKUP(A97,'[1]BDD RH'!$A$2:$W$485,11,FALSE)),L97,"y") -> 8 | I97: =IF(H97<2,"<2",IF(H97<6,"2/5",IF(H97<11,"6/10",IF(H97<16,"11/15",IF(H97<21,"16/20",IF(H97<26,"21/25",IF(H97>25,"26 et plus",FALSE))))))) -> 6/10 | J97: CHS01 | K97: =IF($N$19:$N$585<=3,1,IF($N$19:$N$585<=6,2,IF($N$19:$N$585<=9,3,IF($N$19:$N$585>9,4,FALSE)))) -> 1 | L97: 42418 | M97: 42419 | N97: =MONTH(L97) -> 2 | O97: =MONTH(M97) -> 2 | P97: =IF(O97-N97=0,NETWORKDAYS(L97,M97,[1]Congés!$D$2:$D$26),NETWORKDAYS(L97,EOMONTH(L97,0),[1]Congés!$D$2:$D$26)) -> 2 | Q97: =IF(O97-N97=0,0,IF(O97-N97=1,NETWORKDAYS(L97,M97,[1]Congés!$D$2:$D$160)-P97,IF(O97-N97=2,NETWORKDAYS(L97,EOMONTH(L97,1),[1]Congés!$D$2:$D$160)-P97,IF(O97-N97=3,NETWORKDAYS(L97,EOMONTH(L97,1),[1]Congés!$D$2:$D$160)-P97)))) -> 0 | R97: =IF(O97-N97<2,0,IF(O97-N97=2,NETWORKDAYS(L97,M97,[1]Congés!$D$2:$D$160)-Q97-P97,IF(O97-N97=3,NETWORKDAYS(L97,EOMONTH(L97,2),[1]Congés!$D$2:$D$160)-Q97-P97))) -> 0 | S97: =IF(O97-N97<3,0,NETWORKDAYS(L97,M97,[1]Congés!$D$2:$D$160)-R97-Q97-P97) -> 0 | T97: =NETWORKDAYS(L97,M97,[1]Congés!C$2:C$160) -> 2 | U97: Arrêt Maladie | V97: 42418 | W97: =IF(T97<3,"1) 1 à 2 jours",IF(T97<5,"2) 3 à 4 jours",IF(T97=5,"3) 5 jours",IF(T97<=10,"4) 6 à 10 jours",IF(T97>10,"5) plus de 10 jours"))))) -> 1) 1 à 2 jours | X97: prol | Z97: =M97-L97+1 -> 2
A98: 17362 | C98: =VLOOKUP(A98,'[1]BDD RH'!$A$9:$W$453,16,FALSE) -> Gulliver | D98: =VLOOKUP(A98,'[1]BDD RH'!$A$9:$W$453,4,FALSE) -> t | E98: =VLOOKUP(A98,'[1]BDD RH'!$A$9:$W$453,3,FALSE) -> F | F98: =DATEDIF((VLOOKUP(A98,'[1]BDD RH'!$A$2:$W$485,7,FALSE)),L98,"y") -> 41 | G98: =IF(F98<=20,"<=20",IF(F98<=30,"21/30",IF(F98<=40,"31/40",IF(F98<=50,"41/50",IF(F98<=60,"51/60",IF(F98>60,"61 et plus",FALSE)))))) -> 41/50 | H98: =DATEDIF((VLOOKUP(A98,'[1]BDD RH'!$A$2:$W$485,11,FALSE)),L98,"y") -> 8 | I98: =IF(H98<2,"<2",IF(H98<6,"2/5",IF(H98<11,"6/10",IF(H98<16,"11/15",IF(H98<21,"16/20",IF(H98<26,"21/25",IF(H98>25,"26 et plus",FALSE))))))) -> 6/10 | J98: CHS01 | K98: =IF($N$19:$N$585<=3,1,IF($N$19:$N$585<=6,2,IF($N$19:$N$585<=9,3,IF($N$19:$N$585>9,4,FALSE)))) -> 1 | L98: 42420 | M98: 42424 | N98: =MONTH(L98) -> 2 | O98: =MONTH(M98) -> 2 | P98: =IF(O98-N98=0,NETWORKDAYS(L98,M98,[1]Congés!$D$2:$D$26),NETWORKDAYS(L98,EOMONTH(L98,0),[1]Congés!$D$2:$D$26)) -> 3 | Q98: =IF(O98-N98=0,0,IF(O98-N98=1,NETWORKDAYS(L98,M98,[1]Congés!$D$2:$D$160)-P98,IF(O98-N98=2,NETWORKDAYS(L98,EOMONTH(L98,1),[1]Congés!$D$2:$D$160)-P98,IF(O98-N98=3,NETWORKDAYS(L98,EOMONTH(L98,1),[1]Congés!$D$2:$D$160)-P98)))) -> 0 | R98: =IF(O98-N98<2,0,IF(O98-N98=2,NETWORKDAYS(L98,M98,[1]Congés!$D$2:$D$160)-Q98-P98,IF(O98-N98=3,NETWORKDAYS(L98,EOMONTH(L98,2),[1]Congés!$D$2:$D$160)-Q98-P98))) -> 0 | S98: =IF(O98-N98<3,0,NETWORKDAYS(L98,M98,[1]Congés!$D$2:$D$160)-R98-Q98-P98) -> 0 | T98: =NETWORKDAYS(L98,M98,[1]Congés!C$2:C$160) -> 3 | U98: Arrêt Maladie | V98: 42418 | W98: =IF(T98<3,"1) 1 à 2 jours",IF(T98<5,"2) 3 à 4 jours",IF(T98=5,"3) 5 jours",IF(T98<=10,"4) 6 à 10 jours",IF(T98>10,"5) plus de 10 jours"))))) -> 2) 3 à 4 jours | X98: prol | Z98: =M98-L98+1 -> 5
A99: 17362 | C99: =VLOOKUP(A99,'[1]BDD RH'!$A$9:$W$453,16,FALSE) -> Gulliver | D99: =VLOOKUP(A99,'[1]BDD RH'!$A$9:$W$453,4,FALSE) -> t | E99: =VLOOKUP(A99,'[1]BDD RH'!$A$9:$W$453,3,FALSE) -> F | F99: =DATEDIF((VLOOKUP(A99,'[1]BDD RH'!$A$2:$W$485,7,FALSE)),L99,"y") -> 41 | G99: =IF(F99<=20,"<=20",IF(F99<=30,"21/30",IF(F99<=40,"31/40",IF(F99<=50,"41/50",IF(F99<=60,"51/60",IF(F99>60,"61 et plus",FALSE)))))) -> 41/50 | H99: =DATEDIF((VLOOKUP(A99,'[1]BDD RH'!$A$2:$W$485,11,FALSE)),L99,"y") -> 8 | I99: =IF(H99<2,"<2",IF(H99<6,"2/5",IF(H99<11,"6/10",IF(H99<16,"11/15",IF(H99<21,"16/20",IF(H99<26,"21/25",IF(H99>25,"26 et plus",FALSE))))))) -> 6/10 | J99: CHS01 | K99: =IF($N$19:$N$585<=3,1,IF($N$19:$N$585<=6,2,IF($N$19:$N$585<=9,3,IF($N$19:$N$585>9,4,FALSE)))) -> 1 | L99: 42425 | M99: 42434 | N99: =MONTH(L99) -> 2 | O99: =MONTH(M99) -> 3 | P99: =IF(O99-N99=0,NETWORKDAYS(L99,M99,[1]Congés!$D$2:$D$26),NETWORKDAYS(L99,EOMONTH(L99,0),[1]Congés!$D$2:$D$26)) -> 3 | Q99: =IF(O99-N99=0,0,IF(O99-N99=1,NETWORKDAYS(L99,M99,[1]Congés!$D$2:$D$160)-P99,IF(O99-N99=2,NETWORKDAYS(L99,EOMONTH(L99,1),[1]Congés!$D$2:$D$160)-P99,IF(O99-N99=3,NETWORKDAYS(L99,EOMONTH(L99,1),[1]Congés!$D$2:$D$160)-P99)))) -> 4 | R99: =IF(O99-N99<2,0,IF(O99-N99=2,NETWORKDAYS(L99,M99,[1]Congés!$D$2:$D$160)-Q99-P99,IF(O99-N99=3,NETWORKDAYS(L99,EOMONTH(L99,2),[1]Congés!$D$2:$D$160)-Q99-P99))) -> 0 | S99: =IF(O99-N99<3,0,NETWORKDAYS(L99,M99,[1]Congés!$D$2:$D$160)-R99-Q99-P99) -> 0 | T99: =NETWORKDAYS(L99,M99,[1]Congés!C$2:C$160) -> 7 | U99: Arrêt Maladie | V99: 42418 | W99: =IF(T99<3,"1) 1 à 2 jours",IF(T99<5,"2) 3 à 4 jours",IF(T99=5,"3) 5 jours",IF(T99<=10,"4) 6 à 10 jours",IF(T99>10,"5) plus de 10 jours"))))) -> 4) 6 à 10 jours | X99: * | Z99: =M99-L99+1 -> 10
A100: 17362 | C100: =VLOOKUP(A100,'[1]BDD RH'!$A$9:$W$453,16,FALSE) -> Gulliver | D100: =VLOOKUP(A100,'[1]BDD RH'!$A$9:$W$453,4,FALSE) -> t | E100: =VLOOKUP(A100,'[1]BDD RH'!$A$9:$W$453,3,FALSE) -> F | F100: =DATEDIF((VLOOKUP(A100,'[1]BDD RH'!$A$2:$W$485,7,FALSE)),L100,"y") -> 42 | G100: =IF(F100<=20,"<=20",IF(F100<=30,"21/30",IF(F100<=40,"31/40",IF(F100<=50,"41/50",IF(F100<=60,"51/60",IF(F100>60,"61 et plus",FALSE)))))) -> 41/50 | H100: =DATEDIF((VLOOKUP(A100,'[1]BDD RH'!$A$2:$W$485,11,FALSE)),L100,"y") -> 9 | I100: =IF(H100<2,"<2",IF(H100<6,"2/5",IF(H100<11,"6/10",IF(H100<16,"11/15",IF(H100<21,"16/20",IF(H100<26,"21/25",IF(H100>25,"26 et plus",FALSE))))))) -> 6/10 | J100: CHS02 | K100: =IF($N$19:$N$585<=3,1,IF($N$19:$N$585<=6,2,IF($N$19:$N$585<=9,3,IF($N$19:$N$585>9,4,FALSE)))) -> 2 | L100: 42465 | M100: 42466 | N100: =MONTH(L100) -> 4 | O100: =MONTH(M100) -> 4 | P100: =IF(O100-N100=0,NETWORKDAYS(L100,M100,[1]Congés!$D$2:$D$26),NETWORKDAYS(L100,EOMONTH(L100,0),[1]Congés!$D$2:$D$26)) -> 2 | Q100: =IF(O100-N100=0,0,IF(O100-N100=1,NETWORKDAYS(L100,M100,[1]Congés!$D$2:$D$160)-P100,IF(O100-N100=2,NETWORKDAYS(L100,EOMONTH(L100,1),[1]Congés!$D$2:$D$160)-P100,IF(O100-N100=3,NETWORKDAYS(L100,EOMONTH(L100,1),[1]Congés!$D$2:$D$160)-P100)))) -> 0 | R100: =IF(O100-N100<2,0,IF(O100-N100=2,NETWORKDAYS(L100,M100,[1]Congés!$D$2:$D$160)-Q100-P100,IF(O100-N100=3,NETWORKDAYS(L100,EOMONTH(L100,2),[1]Congés!$D$2:$D$160)-Q100-P100))) -> 0 | S100: =IF(O100-N100<3,0,NETWORKDAYS(L100,M100,[1]Congés!$D$2:$D$160)-R100-Q100-P100) -> 0 | T100: =NETWORKDAYS(L100,M100,[1]Congés!C$2:C$160) -> 2 | U100: Arrêt Maladie | W100: =IF(T100<3,"1) 1 à 2 jours",IF(T100<5,"2) 3 à 4 jours",IF(T100=5,"3) 5 jours",IF(T100<=10,"4) 6 à 10 jours",IF(T100>10,"5) plus de 10 jours"))))) -> 1) 1 à 2 jours | X100: * | Z100: =M100-L100+1 -> 2
A101: 18395 | C101: =VLOOKUP(A101,'[1]BDD RH'!$A$9:$W$453,16,FALSE) -> Saphir | D101: =VLOOKUP(A101,'[1]BDD RH'!$A$9:$W$453,4,FALSE) -> c | E101: =VLOOKUP(A101,'[1]BDD RH'!$A$9:$W$453,3,FALSE) -> H | F101: =DATEDIF((VLOOKUP(A101,'[1]BDD RH'!$A$2:$W$485,7,FALSE)),L101,"y") -> 39 | G101: =IF(F101<=20,"<=20",IF(F101<=30,"21/30",IF(F101<=40,"31/40",IF(F101<=50,"41/50",IF(F101<=60,"51/60",IF(F101>60,"61 et plus",FALSE)))))) -> 31/40 | H101: =DATEDIF((VLOOKUP(A101,'[1]BDD RH'!$A$2:$W$485,11,FALSE)),L101,"y") -> 8 | I101: =IF(H101<2,"<2",IF(H101<6,"2/5",IF(H101<11,"6/10",IF(H101<16,"11/15",IF(H101<21,"16/20",IF(H101<26,"21/25",IF(H101>25,"26 et plus",FALSE))))))) -> 6/10 | J101: CHST01 | K101: =IF($N$19:$N$585<=3,1,IF($N$19:$N$585<=6,2,IF($N$19:$N$585<=9,3,IF($N$19:$N$585>9,4,FALSE)))) -> 1 | L101: 42436 | M101: 42437 | N101: =MONTH(L101) -> 3 | O101: =MONTH(M101) -> 3 | P101: =IF(O101-N101=0,NETWORKDAYS(L101,M101,[1]Congés!$D$2:$D$26),NETWORKDAYS(L101,EOMONTH(L101,0),[1]Congés!$D$2:$D$26)) -> 2 | Q101: =IF(O101-N101=0,0,IF(O101-N101=1,NETWORKDAYS(L101,M101,[1]Congés!$D$2:$D$160)-P101,IF(O101-N101=2,NETWORKDAYS(L101,EOMONTH(L101,1),[1]Congés!$D$2:$D$160)-P101,IF(O101-N101=3,NETWORKDAYS(L101,EOMONTH(L101,1),[1]Congés!$D$2:$D$160)-P101)))) -> 0 | R101: =IF(O101-N101<2,0,IF(O101-N101=2,NETWORKDAYS(L101,M101,[1]Congés!$D$2:$D$160)-Q101-P101,IF(O101-N101=3,NETWORKDAYS(L101,EOMONTH(L101,2),[1]Congés!$D$2:$D$160)-Q101-P101))) -> 0 | S101: =IF(O101-N101<3,0,NETWORKDAYS(L101,M101,[1]Congés!$D$2:$D$160)-R101-Q101-P101) -> 0 | T101: =NETWORKDAYS(L101,M101,[1]Congés!C$2:C$160) -> 2 | U101: Arrêt Maladie | W101: =IF(T101<3,"1) 1 à 2 jours",IF(T101<5,"2) 3 à 4 jours",IF(T101=5,"3) 5 jours",IF(T101<=10,"4) 6 à 10 jours",IF(T101>10,"5) plus de 10 jours"))))) -> 1) 1 à 2 jours | X101: * | Z101: =M101-L101+1 -> 2
...
