Workbook

Sheet 2016
B2: Cellule colonne B car le fichier est anonymisé.
B3: Par un système de recherche V dans d'autre onglets de mon fichier de base, les colonnes se mettent à jour automatiquement. | AD3: Vm
B4: Je ne saisie que le matricule, les dates de debut et de fin d'arrêt | AD4: 0
A5: Mat. | B5: Nom Prénom | C5: Atelier | D5: secteur | E5: sexe | F5: Age | G5: tranche d'âge | H5: Ancienneté | I5: Categorie ancienneté | J5: arret N° en 2016 | K5: Trimestre | L5: Début | M5: Fin | N5: Mois du début de l'arrêt | O5: Mois de fin de l'arrêt | P5: Nombre de jours M | Q5: Nombre de jours M+1 | R5: Nombre de jours M+2 | S5: Nombre de jours M+3 | T5: Nombre jours arrêts | U5: type d'arrêt | V5: Date de début de MT/LM/AM | W5: Classification arrêts | X5: suite | Y5: VM le | Z5: infos nbre jrs arret calendaire | AA5: Colonne1
A6: 1/12 | B6: 0 Ne pas effacer cette ligne !! | D6: =VLOOKUP(A6,'[1]BDD RH'!$A$9:$W$453,4,FALSE) -> #N/A | E6: =VLOOKUP(A6,'[1]BDD RH'!$A$9:$W$453,3,FALSE) -> #N/A | F6: =DATEDIF((VLOOKUP(A6,'[1]BDD RH'!$A$2:$W$485,7,FALSE)),L6,"y") -> #N/A | G6: SI(F4<=19;"<20";SI(F4<=24;"20-24";SI(F4<=29;"25-29";SI(F4<=34;"30-34";SI(F4<=39;"35-39";SI(F4<=44;"40-44";SI(F4<=49;"45-49";FAUX)))))))*OU(SI(F4<=54;"50-54";SI(F4<=59;"55-59";SI(F4<=64;60-64;SI(F4<=69;"65-69";SI(F4>=70;"70 et plus";FAUX)))))) | H6: =DATEDIF((VLOOKUP(A6,'[1]BDD RH'!$A$2:$W$485,11,FALSE)),L6,"y") -> #N/A | I6: =IF(H6<2,"<2",IF(H6<6,"2/5",IF(H6<11,"6/10",IF(H6<16,"11/15",IF(H6<21,"16/20",IF(H6<26,"21/25",IF(H6>25,"26 et plus",FALSE))))))) -> #N/A | K6: =IF($N$19:$N$585<=3,1,IF($N$19:$N$585<=6,2,IF($N$19:$N$585<=9,3,IF($N$19:$N$585>9,4,FALSE)))) -> #VALUE! | N6: 1 | O6: =MONTH(M6) -> 1 | P6: 0 | Q6: =IF(O6-N6=0,0,IF(O6-N6=1,NETWORKDAYS(L6,M6,[1]Congés!$D$2:$D$160)-P6,IF(O6-N6=2,NETWORKDAYS(L6,EOMONTH(L6,1),[1]Congés!$D$2:$D$160)-P6,IF(O6-N6=3,NETWORKDAYS(L6,EOMONTH(L6,1),[1]Congés!$D$2:$D$160)-P6)))) -> 0 | R6: =IF(O6-N6<2,0,IF(O6-N6=2,NETWORKDAYS(L6,M6,[1]Congés!$D$2:$D$160)-Q6-P6,IF(O6-N6=3,NETWORKDAYS(L6,EOMONTH(L6,2),[1]Congés!$D$2:$D$160)-Q6-P6))) -> 0 | S6: =IF(O6-N6<3,0,NETWORKDAYS(L6,M6,[1]Congés!$D$2:$D$160)-R6-Q6-P6) -> 0 | T6: =NETWORKDAYS(L6,M6,[1]Congés!C$2:C$160) -> 0 | U6: Arrêt Maladie | W6: =IF(T6<3,"1) 1 à 2 jours",IF(T6<5,"2) 3 à 4 jours",IF(T6=5,"3) 5 jours",IF(T6<=10,"4) 6 à 10 jours",IF(T6>10,"5) plus de 10 jours"))))) -> 1) 1 à 2 jours | Z6: =M6-L6+1 -> 1
A7: 2/12 | B7: 0 Ne pas effacer cette ligne !! | C7: =VLOOKUP(A7,'[1]BDD RH'!$A$9:$W$453,16,FALSE) -> #N/A | D7: =VLOOKUP(A7,'[1]BDD RH'!$A$9:$W$453,4,FALSE) -> #N/A | E7: =VLOOKUP(A7,'[1]BDD RH'!$A$9:$W$453,3,FALSE) -> #N/A | F7: =DATEDIF((VLOOKUP(A7,'[1]BDD RH'!$A$2:$W$485,7,FALSE)),L7,"y") -> #N/A | H7: =DATEDIF((VLOOKUP(A7,'[1]BDD RH'!$A$2:$W$485,11,FALSE)),L7,"y") -> #N/A | I7: =IF(H7<2,"<2",IF(H7<6,"2/5",IF(H7<11,"6/10",IF(H7<16,"11/15",IF(H7<21,"16/20",IF(H7<26,"21/25",IF(H7>25,"26 et plus",FALSE))))))) -> #N/A | K7: =IF($N$19:$N$585<=3,1,IF($N$19:$N$585<=6,2,IF($N$19:$N$585<=9,3,IF($N$19:$N$585>9,4,FALSE)))) -> #VALUE! | N7: 2 | O7: =MONTH(M7) -> 1 | P7: 0 | Q7: =IF(O7-N7=0,0,IF(O7-N7=1,NETWORKDAYS(L7,M7,[1]Congés!$D$2:$D$160)-P7,IF(O7-N7=2,NETWORKDAYS(L7,EOMONTH(L7,1),[1]Congés!$D$2:$D$160)-P7,IF(O7-N7=3,NETWORKDAYS(L7,EOMONTH(L7,1),[1]Congés!$D$2:$D$160)-P7)))) -> FALSE | R7: =IF(O7-N7<2,0,IF(O7-N7=2,NETWORKDAYS(L7,M7,[1]Congés!$D$2:$D$160)-Q7-P7,IF(O7-N7=3,NETWORKDAYS(L7,EOMONTH(L7,2),[1]Congés!$D$2:$D$160)-Q7-P7))) -> 0 | S7: =IF(O7-N7<3,0,NETWORKDAYS(L7,M7,[1]Congés!$D$2:$D$160)-R7-Q7-P7) -> 0 | T7: =NETWORKDAYS(L7,M7,[1]Congés!C$2:C$160) -> 0 | U7: Mi-temps | W7: =IF(T7<3,"1) 1 à 2 jours",IF(T7<5,"2) 3 à 4 jours",IF(T7=5,"3) 5 jours",IF(T7<=10,"4) 6 à 10 jours",IF(T7>10,"5) plus de 10 jours"))))) -> 1) 1 à 2 jours | Z7: =M7-L7+1 -> 1
A8: 3/12 | B8: 0 Ne pas effacer cette ligne !! | C8: =VLOOKUP(A8,'[1]BDD RH'!$A$9:$W$453,16,FALSE) -> #N/A | D8: =VLOOKUP(A8,'[1]BDD RH'!$A$9:$W$453,4,FALSE) -> #N/A | E8: =VLOOKUP(A8,'[1]BDD RH'!$A$9:$W$453,3,FALSE) -> #N/A | F8: =DATEDIF((VLOOKUP(A8,'[1]BDD RH'!$A$2:$W$485,7,FALSE)),L8,"y") -> #N/A | G8: =IF(F8<=19,"<20",IF(F8<=24,"20-24",IF(F8<=29,"25-29",IF(F8<=34,"30-34",IF(F8<=39,"35-39",IF(F8<=44,"40-44",IF(F8<=49,"45-49",FALSE)))))))*OR(IF(F8<=54,"50-54",IF(F8<=59,"55-59",IF(F8<=64,60-64,IF(F8<=69,"65-69",IF(F8>=70,"70 et plus",FALSE)))))) -> #N/A | H8: =DATEDIF((VLOOKUP(A8,'[1]BDD RH'!$A$2:$W$485,11,FALSE)),L8,"y") -> #N/A | I8: =IF(H8<2,"<2",IF(H8<6,"2/5",IF(H8<11,"6/10",IF(H8<16,"11/15",IF(H8<21,"16/20",IF(H8<26,"21/25",IF(H8>25,"26 et plus",FALSE))))))) -> #N/A | K8: =IF($N$19:$N$585<=3,1,IF($N$19:$N$585<=6,2,IF($N$19:$N$585<=9,3,IF($N$19:$N$585>9,4,FALSE)))) -> #VALUE! | N8: 3 | O8: =MONTH(M8) -> 1 | P8: 0 | Q8: =IF(O8-N8=0,0,IF(O8-N8=1,NETWORKDAYS(L8,M8,[1]Congés!$D$2:$D$160)-P8,IF(O8-N8=2,NETWORKDAYS(L8,EOMONTH(L8,1),[1]Congés!$D$2:$D$160)-P8,IF(O8-N8=3,NETWORKDAYS(L8,EOMONTH(L8,1),[1]Congés!$D$2:$D$160)-P8)))) -> FALSE | R8: =IF(O8-N8<2,0,IF(O8-N8=2,NETWORKDAYS(L8,M8,[1]Congés!$D$2:$D$160)-Q8-P8,IF(O8-N8=3,NETWORKDAYS(L8,EOMONTH(L8,2),[1]Congés!$D$2:$D$160)-Q8-P8))) -> 0 | S8: =IF(O8-N8<3,0,NETWORKDAYS(L8,M8,[1]Congés!$D$2:$D$160)-R8-Q8-P8) -> 0 | T8: =NETWORKDAYS(L8,M8,[1]Congés!C$2:C$160) -> 0 | U8: AT 16 | W8: =IF(T8<3,"1) 1 à 2 jours",IF(T8<5,"2) 3 à 4 jours",IF(T8=5,"3) 5 jours",IF(T8<=10,"4) 6 à 10 jours",IF(T8>10,"5) plus de 10 jours"))))) -> 1) 1 à 2 jours | Z8: =M8-L8+1 -> 1
A9: 4/12 | B9: 0 Ne pas effacer cette ligne !! | C9: =VLOOKUP(A9,'[1]BDD RH'!$A$9:$W$453,16,FALSE) -> #N/A | D9: =VLOOKUP(A9,'[1]BDD RH'!$A$9:$W$453,4,FALSE) -> #N/A | E9: =VLOOKUP(A9,'[1]BDD RH'!$A$9:$W$453,3,FALSE) -> #N/A | F9: =DATEDIF((VLOOKUP(A9,'[1]BDD RH'!$A$2:$W$485,7,FALSE)),L9,"y") -> #N/A | G9: =IF(F9<=19,"<20",IF(F9<=24,"20-24",IF(F9<=29,"25-29",IF(F9<=34,"30-34",IF(F9<=39,"35-39",IF(F9<=44,"40-44",IF(F9<=49,"45-49",FALSE)))))))*OR(IF(F9<=54,"50-54",IF(F9<=59,"55-59",IF(F9<=64,60-64,IF(F9<=69,"65-69",IF(F9>=70,"70 et plus",FALSE)))))) -> #N/A | H9: =DATEDIF((VLOOKUP(A9,'[1]BDD RH'!$A$2:$W$485,11,FALSE)),L9,"y") -> #N/A | I9: =IF(H9<2,"<2",IF(H9<6,"2/5",IF(H9<11,"6/10",IF(H9<16,"11/15",IF(H9<21,"16/20",IF(H9<26,"21/25",IF(H9>25,"26 et plus",FALSE))))))) -> #N/A | K9: =IF($N$19:$N$585<=3,1,IF($N$19:$N$585<=6,2,IF($N$19:$N$585<=9,3,IF($N$19:$N$585>9,4,FALSE)))) -> #VALUE! | N9: 4 | O9: =MONTH(M9) -> 1 | P9: 0 | Q9: =IF(O9-N9=0,0,IF(O9-N9=1,NETWORKDAYS(L9,M9,[1]Congés!$D$2:$D$160)-P9,IF(O9-N9=2,NETWORKDAYS(L9,EOMONTH(L9,1),[1]Congés!$D$2:$D$160)-P9,IF(O9-N9=3,NETWORKDAYS(L9,EOMONTH(L9,1),[1]Congés!$D$2:$D$160)-P9)))) -> FALSE | R9: =IF(O9-N9<2,0,IF(O9-N9=2,NETWORKDAYS(L9,M9,[1]Congés!$D$2:$D$160)-Q9-P9,IF(O9-N9=3,NETWORKDAYS(L9,EOMONTH(L9,2),[1]Congés!$D$2:$D$160)-Q9-P9))) -> 0 | S9: =IF(O9-N9<3,0,NETWORKDAYS(L9,M9,[1]Congés!$D$2:$D$160)-R9-Q9-P9) -> 0 | T9: =NETWORKDAYS(L9,M9,[1]Congés!C$2:C$160) -> 0 | U9: AT 16 SPEC | W9: =IF(T9<3,"1) 1 à 2 jours",IF(T9<5,"2) 3 à 4 jours",IF(T9=5,"3) 5 jours",IF(T9<=10,"4) 6 à 10 jours",IF(T9>10,"5) plus de 10 jours"))))) -> 1) 1 à 2 jours | Z9: =M9-L9+1 -> 1
A10: 4/12 | B10: 0 Ne pas effacer cette ligne !! | C10: =VLOOKUP(A10,'[1]BDD RH'!$A$9:$W$453,16,FALSE) -> #N/A | D10: =VLOOKUP(A10,'[1]BDD RH'!$A$9:$W$453,4,FALSE) -> #N/A | E10: =VLOOKUP(A10,'[1]BDD RH'!$A$9:$W$453,3,FALSE) -> #N/A | F10: =DATEDIF((VLOOKUP(A10,'[1]BDD RH'!$A$2:$W$485,7,FALSE)),L10,"y") -> #N/A | G10: =IF(F10<=19,"<20",IF(F10<=24,"20-24",IF(F10<=29,"25-29",IF(F10<=34,"30-34",IF(F10<=39,"35-39",IF(F10<=44,"40-44",IF(F10<=49,"45-49",FALSE)))))))*OR(IF(F10<=54,"50-54",IF(F10<=59,"55-59",IF(F10<=64,60-64,IF(F10<=69,"65-69",IF(F10>=70,"70 et plus",FALSE)))))) -> #N/A | H10: =DATEDIF((VLOOKUP(A10,'[1]BDD RH'!$A$2:$W$485,11,FALSE)),L10,"y") -> #N/A | I10: =IF(H10<2,"<2",IF(H10<6,"2/5",IF(H10<11,"6/10",IF(H10<16,"11/15",IF(H10<21,"16/20",IF(H10<26,"21/25",IF(H10>25,"26 et plus",FALSE))))))) -> #N/A | K10: =IF($N$19:$N$585<=3,1,IF($N$19:$N$585<=6,2,IF($N$19:$N$585<=9,3,IF($N$19:$N$585>9,4,FALSE)))) -> #VALUE! | N10: 5 | O10: =MONTH(M10) -> 1 | P10: 0 | Q10: =IF(O10-N10=0,0,IF(O10-N10=1,NETWORKDAYS(L10,M10,[1]Congés!$D$2:$D$160)-P10,IF(O10-N10=2,NETWORKDAYS(L10,EOMONTH(L10,1),[1]Congés!$D$2:$D$160)-P10,IF(O10-N10=3,NETWORKDAYS(L10,EOMONTH(L10,1),[1]Congés!$D$2:$D$160)-P10)))) -> FALSE | R10: =IF(O10-N10<2,0,IF(O10-N10=2,NETWORKDAYS(L10,M10,[1]Congés!$D$2:$D$160)-Q10-P10,IF(O10-N10=3,NETWORKDAYS(L10,EOMONTH(L10,2),[1]Congés!$D$2:$D$160)-Q10-P10))) -> 0 | S10: =IF(O10-N10<3,0,NETWORKDAYS(L10,M10,[1]Congés!$D$2:$D$160)-R10-Q10-P10) -> 0 | T10: =NETWORKDAYS(L10,M10,[1]Congés!C$2:C$160) -> 0 | U10: AT 15 SPEC | W10: =IF(T10<3,"1) 1 à 2 jours",IF(T10<5,"2) 3 à 4 jours",IF(T10=5,"3) 5 jours",IF(T10<=10,"4) 6 à 10 jours",IF(T10>10,"5) plus de 10 jours"))))) -> 1) 1 à 2 jours | Z10: =M10-L10+1 -> 1
A11: 5/12 | B11: 0 Ne pas effacer cette ligne !! | C11: =VLOOKUP(A11,'[1]BDD RH'!$A$9:$W$453,16,FALSE) -> #N/A | D11: =VLOOKUP(A11,'[1]BDD RH'!$A$9:$W$453,4,FALSE) -> #N/A | E11: =VLOOKUP(A11,'[1]BDD RH'!$A$9:$W$453,3,FALSE) -> #N/A | F11: =DATEDIF((VLOOKUP(A11,'[1]BDD RH'!$A$2:$W$485,7,FALSE)),L11,"y") -> #N/A | G11: =IF(F11<=19,"<20",IF(F11<=24,"20-24",IF(F11<=29,"25-29",IF(F11<=34,"30-34",IF(F11<=39,"35-39",IF(F11<=44,"40-44",IF(F11<=49,"45-49",FALSE)))))))*OR(IF(F11<=54,"50-54",IF(F11<=59,"55-59",IF(F11<=64,60-64,IF(F11<=69,"65-69",IF(F11>=70,"70 et plus",FALSE)))))) -> #N/A | H11: =DATEDIF((VLOOKUP(A11,'[1]BDD RH'!$A$2:$W$485,11,FALSE)),L11,"y") -> #N/A | I11: =IF(H11<2,"<2",IF(H11<6,"2/5",IF(H11<11,"6/10",IF(H11<16,"11/15",IF(H11<21,"16/20",IF(H11<26,"21/25",IF(H11>25,"26 et plus",FALSE))))))) -> #N/A | K11: =IF($N$19:$N$585<=3,1,IF($N$19:$N$585<=6,2,IF($N$19:$N$585<=9,3,IF($N$19:$N$585>9,4,FALSE)))) -> #VALUE! | N11: 5 | O11: =MONTH(M11) -> 1 | P11: 0 | Q11: =IF(O11-N11=0,0,IF(O11-N11=1,NETWORKDAYS(L11,M11,[1]Congés!$D$2:$D$160)-P11,IF(O11-N11=2,NETWORKDAYS(L11,EOMONTH(L11,1),[1]Congés!$D$2:$D$160)-P11,IF(O11-N11=3,NETWORKDAYS(L11,EOMONTH(L11,1),[1]Congés!$D$2:$D$160)-P11)))) -> FALSE | R11: =IF(O11-N11<2,0,IF(O11-N11=2,NETWORKDAYS(L11,M11,[1]Congés!$D$2:$D$160)-Q11-P11,IF(O11-N11=3,NETWORKDAYS(L11,EOMONTH(L11,2),[1]Congés!$D$2:$D$160)-Q11-P11))) -> 0 | S11: =IF(O11-N11<3,0,NETWORKDAYS(L11,M11,[1]Congés!$D$2:$D$160)-R11-Q11-P11) -> 0 | T11: =NETWORKDAYS(L11,M11,[1]Congés!C$2:C$160) -> 0 | U11: AT 15 | W11: =IF(T11<3,"1) 1 à 2 jours",IF(T11<5,"2) 3 à 4 jours",IF(T11=5,"3) 5 jours",IF(T11<=10,"4) 6 à 10 jours",IF(T11>10,"5) plus de 10 jours"))))) -> 1) 1 à 2 jours | Z11: =M11-L11+1 -> 1
A12: 6/12 | B12: 0 Ne pas effacer cette ligne !! | C12: =VLOOKUP(A12,'[1]BDD RH'!$A$9:$W$453,16,FALSE) -> #N/A | D12: =VLOOKUP(A12,'[1]BDD RH'!$A$9:$W$453,4,FALSE) -> #N/A | E12: =VLOOKUP(A12,'[1]BDD RH'!$A$9:$W$453,3,FALSE) -> #N/A | F12: =DATEDIF((VLOOKUP(A12,'[1]BDD RH'!$A$2:$W$485,7,FALSE)),L12,"y") -> #N/A | G12: =IF(F12<=19,"<20",IF(F12<=24,"20-24",IF(F12<=29,"25-29",IF(F12<=34,"30-34",IF(F12<=39,"35-39",IF(F12<=44,"40-44",IF(F12<=49,"45-49",FALSE)))))))*AND(IF(F12<=54,"50-54",IF(F12<=59,"55-59",IF(F12<=64,60-64,IF(F12<=69,"65-69",IF(F12>=70,"70 et plus",FALSE)))))) -> #N/A | H12: =DATEDIF((VLOOKUP(A12,'[1]BDD RH'!$A$2:$W$485,11,FALSE)),L12,"y") -> #N/A | I12: =IF(H12<2,"<2",IF(H12<6,"2/5",IF(H12<11,"6/10",IF(H12<16,"11/15",IF(H12<21,"16/20",IF(H12<26,"21/25",IF(H12>25,"26 et plus",FALSE))))))) -> #N/A | K12: =IF($N$19:$N$585<=3,1,IF($N$19:$N$585<=6,2,IF($N$19:$N$585<=9,3,IF($N$19:$N$585>9,4,FALSE)))) -> #VALUE! | N12: 6 | O12: =MONTH(M12) -> 1 | P12: 0 | Q12: =IF(O12-N12=0,0,IF(O12-N12=1,NETWORKDAYS(L12,M12,[1]Congés!$D$2:$D$160)-P12,IF(O12-N12=2,NETWORKDAYS(L12,EOMONTH(L12,1),[1]Congés!$D$2:$D$160)-P12,IF(O12-N12=3,NETWORKDAYS(L12,EOMONTH(L12,1),[1]Congés!$D$2:$D$160)-P12)))) -> FALSE | R12: =IF(O12-N12<2,0,IF(O12-N12=2,NETWORKDAYS(L12,M12,[1]Congés!$D$2:$D$160)-Q12-P12,IF(O12-N12=3,NETWORKDAYS(L12,EOMONTH(L12,2),[1]Congés!$D$2:$D$160)-Q12-P12))) -> 0 | S12: =IF(O12-N12<3,0,NETWORKDAYS(L12,M12,[1]Congés!$D$2:$D$160)-R12-Q12-P12) -> 0 | T12: =NETWORKDAYS(L12,M12,[1]Congés!C$2:C$160) -> 0 | U12: ATT 16 | W12: =IF(T12<3,"1) 1 à 2 jours",IF(T12<5,"2) 3 à 4 jours",IF(T12=5,"3) 5 jours",IF(T12<=10,"4) 6 à 10 jours",IF(T12>10,"5) plus de 10 jours"))))) -> 1) 1 à 2 jours | Z12: =M12-L12+1 -> 1
A13: 7/12 | B13: 0 Ne pas effacer cette ligne !! | C13: =VLOOKUP(A13,'[1]BDD RH'!$A$9:$W$453,16,FALSE) -> #N/A | D13: =VLOOKUP(A13,'[1]BDD RH'!$A$9:$W$453,4,FALSE) -> #N/A | E13: =VLOOKUP(A13,'[1]BDD RH'!$A$9:$W$453,3,FALSE) -> #N/A | F13: =DATEDIF((VLOOKUP(A13,'[1]BDD RH'!$A$2:$W$485,7,FALSE)),L13,"y") -> #N/A | G13: =IF(F13<=19,"<20",IF(F13<=24,"20-24",IF(F13<=29,"25-29",IF(F13<=34,"30-34",IF(F13<=39,"35-39",IF(F13<=44,"40-44",IF(F13<=49,"45-49",FALSE)))))))*OR(IF(F13<=54,"50-54",IF(F13<=59,"55-59",IF(F13<=64,60-64,IF(F13<=69,"65-69",IF(F13>=70,"70 et plus",FALSE)))))) -> #N/A | H13: =DATEDIF((VLOOKUP(A13,'[1]BDD RH'!$A$2:$W$485,11,FALSE)),L13,"y") -> #N/A | I13: =IF(H13<2,"<2",IF(H13<6,"2/5",IF(H13<11,"6/10",IF(H13<16,"11/15",IF(H13<21,"16/20",IF(H13<26,"21/25",IF(H13>25,"26 et plus",FALSE))))))) -> #N/A | K13: =IF($N$19:$N$585<=3,1,IF($N$19:$N$585<=6,2,IF($N$19:$N$585<=9,3,IF($N$19:$N$585>9,4,FALSE)))) -> #VALUE! | N13: 7 | O13: =MONTH(M13) -> 1 | P13: 0 | Q13: =IF(O13-N13=0,0,IF(O13-N13=1,NETWORKDAYS(L13,M13,[1]Congés!$D$2:$D$160)-P13,IF(O13-N13=2,NETWORKDAYS(L13,EOMONTH(L13,1),[1]Congés!$D$2:$D$160)-P13,IF(O13-N13=3,NETWORKDAYS(L13,EOMONTH(L13,1),[1]Congés!$D$2:$D$160)-P13)))) -> FALSE | R13: =IF(O13-N13<2,0,IF(O13-N13=2,NETWORKDAYS(L13,M13,[1]Congés!$D$2:$D$160)-Q13-P13,IF(O13-N13=3,NETWORKDAYS(L13,EOMONTH(L13,2),[1]Congés!$D$2:$D$160)-Q13-P13))) -> 0 | S13: =IF(O13-N13<3,0,NETWORKDAYS(L13,M13,[1]Congés!$D$2:$D$160)-R13-Q13-P13) -> 0 | T13: =NETWORKDAYS(L13,M13,[1]Congés!C$2:C$160) -> 0 | U13: ATT 16 SPEC | W13: =IF(T13<3,"1) 1 à 2 jours",IF(T13<5,"2) 3 à 4 jours",IF(T13=5,"3) 5 jours",IF(T13<=10,"4) 6 à 10 jours",IF(T13>10,"5) plus de 10 jours"))))) -> 1) 1 à 2 jours | Z13: =M13-L13+1 -> 1
A14: 8/12 | B14: 0 Ne pas effacer cette ligne !! | C14: =VLOOKUP(A14,'[1]BDD RH'!$A$9:$W$453,16,FALSE) -> #N/A | D14: =VLOOKUP(A14,'[1]BDD RH'!$A$9:$W$453,4,FALSE) -> #N/A | E14: =VLOOKUP(A14,'[1]BDD RH'!$A$9:$W$453,3,FALSE) -> #N/A | F14: =DATEDIF((VLOOKUP(A14,'[1]BDD RH'!$A$2:$W$485,7,FALSE)),L14,"y") -> #N/A | G14: =IF(F14<=19,"<20",IF(F14<=24,"20-24",IF(F14<=29,"25-29",IF(F14<=34,"30-34",IF(F14<=39,"35-39",IF(F14<=44,"40-44",IF(F14<=49,"45-49",FALSE)))))))*OR(IF(F14<=54,"50-54",IF(F14<=59,"55-59",IF(F14<=64,60-64,IF(F14<=69,"65-69",IF(F14>=70,"70 et plus",FALSE)))))) -> #N/A | H14: =DATEDIF((VLOOKUP(A14,'[1]BDD RH'!$A$2:$W$485,11,FALSE)),L14,"y") -> #N/A | I14: =IF(H14<2,"<2",IF(H14<6,"2/5",IF(H14<11,"6/10",IF(H14<16,"11/15",IF(H14<21,"16/20",IF(H14<26,"21/25",IF(H14>25,"26 et plus",FALSE))))))) -> #N/A | K14: =IF($N$19:$N$585<=3,1,IF($N$19:$N$585<=6,2,IF($N$19:$N$585<=9,3,IF($N$19:$N$585>9,4,FALSE)))) -> #VALUE! | N14: 8 | O14: =MONTH(M14) -> 1 | P14: 0 | Q14: =IF(O14-N14=0,0,IF(O14-N14=1,NETWORKDAYS(L14,M14,[1]Congés!$D$2:$D$160)-P14,IF(O14-N14=2,NETWORKDAYS(L14,EOMONTH(L14,1),[1]Congés!$D$2:$D$160)-P14,IF(O14-N14=3,NETWORKDAYS(L14,EOMONTH(L14,1),[1]Congés!$D$2:$D$160)-P14)))) -> FALSE | R14: =IF(O14-N14<2,0,IF(O14-N14=2,NETWORKDAYS(L14,M14,[1]Congés!$D$2:$D$160)-Q14-P14,IF(O14-N14=3,NETWORKDAYS(L14,EOMONTH(L14,2),[1]Congés!$D$2:$D$160)-Q14-P14))) -> 0 | S14: =IF(O14-N14<3,0,NETWORKDAYS(L14,M14,[1]Congés!$D$2:$D$160)-R14-Q14-P14) -> 0 | T14: =NETWORKDAYS(L14,M14,[1]Congés!C$2:C$160) -> 0 | U14: LM Pro | W14: =IF(T14<3,"1) 1 à 2 jours",IF(T14<5,"2) 3 à 4 jours",IF(T14=5,"3) 5 jours",IF(T14<=10,"4) 6 à 10 jours",IF(T14>10,"5) plus de 10 jours"))))) -> 1) 1 à 2 jours | Z14: =M14-L14+1 -> 1
A15: 9/12 | B15: 0 Ne pas effacer cette ligne !! | C15: =VLOOKUP(A15,'[1]BDD RH'!$A$9:$W$453,16,FALSE) -> #N/A | D15: =VLOOKUP(A15,'[1]BDD RH'!$A$9:$W$453,4,FALSE) -> #N/A | E15: =VLOOKUP(A15,'[1]BDD RH'!$A$9:$W$453,3,FALSE) -> #N/A | F15: =DATEDIF((VLOOKUP(A15,'[1]BDD RH'!$A$2:$W$485,7,FALSE)),L15,"y") -> #N/A | G15: =IF(F15<=19,"<20",IF(F15<=24,"20-24",IF(F15<=29,"25-29",IF(F15<=34,"30-34",IF(F15<=39,"35-39",IF(F15<=44,"40-44",IF(F15<=49,"45-49",FALSE)))))))*OR(IF(F15<=54,"50-54",IF(F15<=59,"55-59",IF(F15<=64,60-64,IF(F15<=69,"65-69",IF(F15>=70,"70 et plus",FALSE)))))) -> #N/A | H15: =DATEDIF((VLOOKUP(A15,'[1]BDD RH'!$A$2:$W$485,11,FALSE)),L15,"y") -> #N/A | I15: =IF(H15<2,"<2",IF(H15<6,"2/5",IF(H15<11,"6/10",IF(H15<16,"11/15",IF(H15<21,"16/20",IF(H15<26,"21/25",IF(H15>25,"26 et plus",FALSE))))))) -> #N/A | K15: =IF($N$19:$N$585<=3,1,IF($N$19:$N$585<=6,2,IF($N$19:$N$585<=9,3,IF($N$19:$N$585>9,4,FALSE)))) -> #VALUE! | N15: 9 | O15: =MONTH(M15) -> 1 | P15: 0 | Q15: =IF(O15-N15=0,0,IF(O15-N15=1,NETWORKDAYS(L15,M15,[1]Congés!$D$2:$D$160)-P15,IF(O15-N15=2,NETWORKDAYS(L15,EOMONTH(L15,1),[1]Congés!$D$2:$D$160)-P15,IF(O15-N15=3,NETWORKDAYS(L15,EOMONTH(L15,1),[1]Congés!$D$2:$D$160)-P15)))) -> FALSE | R15: =IF(O15-N15<2,0,IF(O15-N15=2,NETWORKDAYS(L15,M15,[1]Congés!$D$2:$D$160)-Q15-P15,IF(O15-N15=3,NETWORKDAYS(L15,EOMONTH(L15,2),[1]Congés!$D$2:$D$160)-Q15-P15))) -> 0 | S15: =IF(O15-N15<3,0,NETWORKDAYS(L15,M15,[1]Congés!$D$2:$D$160)-R15-Q15-P15) -> 0 | T15: =NETWORKDAYS(L15,M15,[1]Congés!C$2:C$160) -> 0 | U15: M Pro | W15: =IF(T15<3,"1) 1 à 2 jours",IF(T15<5,"2) 3 à 4 jours",IF(T15=5,"3) 5 jours",IF(T15<=10,"4) 6 à 10 jours",IF(T15>10,"5) plus de 10 jours"))))) -> 1) 1 à 2 jours | Z15: =M15-L15+1 -> 1
A16: 10/12 | B16: 0 Ne pas effacer cette ligne !! | C16: =VLOOKUP(A16,'[1]BDD RH'!$A$9:$W$453,16,FALSE) -> #N/A | D16: =VLOOKUP(A16,'[1]BDD RH'!$A$9:$W$453,4,FALSE) -> #N/A | E16: =VLOOKUP(A16,'[1]BDD RH'!$A$9:$W$453,3,FALSE) -> #N/A | F16: =DATEDIF((VLOOKUP(A16,'[1]BDD RH'!$A$2:$W$485,7,FALSE)),L16,"y") -> #N/A | G16: =IF(F16<=19,"<20",IF(F16<=24,"20-24",IF(F16<=29,"25-29",IF(F16<=34,"30-34",IF(F16<=39,"35-39",IF(F16<=44,"40-44",IF(F16<=49,"45-49",FALSE)))))))*OR(IF(F16<=54,"50-54",IF(F16<=59,"55-59",IF(F16<=64,60-64,IF(F16<=69,"65-69",IF(F16>=70,"70 et plus",FALSE)))))) -> #N/A | H16: =DATEDIF((VLOOKUP(A16,'[1]BDD RH'!$A$2:$W$485,11,FALSE)),L16,"y") -> #N/A | I16: =IF(H16<2,"<2",IF(H16<6,"2/5",IF(H16<11,"6/10",IF(H16<16,"11/15",IF(H16<21,"16/20",IF(H16<26,"21/25",IF(H16>25,"26 et plus",FALSE))))))) -> #N/A | K16: =IF($N$19:$N$585<=3,1,IF($N$19:$N$585<=6,2,IF($N$19:$N$585<=9,3,IF($N$19:$N$585>9,4,FALSE)))) -> #VALUE! | N16: 10 | O16: =MONTH(M16) -> 1 | P16: 0 | Q16: =IF(O16-N16=0,0,IF(O16-N16=1,NETWORKDAYS(L16,M16,[1]Congés!$D$2:$D$160)-P16,IF(O16-N16=2,NETWORKDAYS(L16,EOMONTH(L16,1),[1]Congés!$D$2:$D$160)-P16,IF(O16-N16=3,NETWORKDAYS(L16,EOMONTH(L16,1),[1]Congés!$D$2:$D$160)-P16)))) -> FALSE | R16: =IF(O16-N16<2,0,IF(O16-N16=2,NETWORKDAYS(L16,M16,[1]Congés!$D$2:$D$160)-Q16-P16,IF(O16-N16=3,NETWORKDAYS(L16,EOMONTH(L16,2),[1]Congés!$D$2:$D$160)-Q16-P16))) -> 0 | S16: =IF(O16-N16<3,0,NETWORKDAYS(L16,M16,[1]Congés!$D$2:$D$160)-R16-Q16-P16) -> 0 | T16: =NETWORKDAYS(L16,M16,[1]Congés!C$2:C$160) -> 0 | U16: LM | W16: =IF(T16<3,"1) 1 à 2 jours",IF(T16<5,"2) 3 à 4 jours",IF(T16=5,"3) 5 jours",IF(T16<=10,"4) 6 à 10 jours",IF(T16>10,"5) plus de 10 jours"))))) -> 1) 1 à 2 jours | Z16: =M16-L16+1 -> 1
A17: 11/12 | B17: 0 Ne pas effacer cette ligne !! | C17: =VLOOKUP(A17,'[1]BDD RH'!$A$9:$W$453,16,FALSE) -> #N/A | D17: =VLOOKUP(A17,'[1]BDD RH'!$A$9:$W$453,4,FALSE) -> #N/A | E17: =VLOOKUP(A17,'[1]BDD RH'!$A$9:$W$453,3,FALSE) -> #N/A | F17: =DATEDIF((VLOOKUP(A17,'[1]BDD RH'!$A$2:$W$485,7,FALSE)),L17,"y") -> #N/A | G17: =IF(F17<=19,"<20",IF(F17<=24,"20-24",IF(F17<=29,"25-29",IF(F17<=34,"30-34",IF(F17<=39,"35-39",IF(F17<=44,"40-44",IF(F17<=49,"45-49",FALSE)))))))*OR(IF(F17<=54,"50-54",IF(F17<=59,"55-59",IF(F17<=64,60-64,IF(F17<=69,"65-69",IF(F17>=70,"70 et plus",FALSE)))))) -> #N/A | H17: =DATEDIF((VLOOKUP(A17,'[1]BDD RH'!$A$2:$W$485,11,FALSE)),L17,"y") -> #N/A | I17: =IF(H17<2,"<2",IF(H17<6,"2/5",IF(H17<11,"6/10",IF(H17<16,"11/15",IF(H17<21,"16/20",IF(H17<26,"21/25",IF(H17>25,"26 et plus",FALSE))))))) -> #N/A | K17: =IF($N$19:$N$585<=3,1,IF($N$19:$N$585<=6,2,IF($N$19:$N$585<=9,3,IF($N$19:$N$585>9,4,FALSE)))) -> #VALUE! | N17: 11 | O17: =MONTH(M17) -> 1 | P17: 0 | Q17: =IF(O17-N17=0,0,IF(O17-N17=1,NETWORKDAYS(L17,M17,[1]Congés!$D$2:$D$160)-P17,IF(O17-N17=2,NETWORKDAYS(L17,EOMONTH(L17,1),[1]Congés!$D$2:$D$160)-P17,IF(O17-N17=3,NETWORKDAYS(L17,EOMONTH(L17,1),[1]Congés!$D$2:$D$160)-P17)))) -> FALSE | R17: =IF(O17-N17<2,0,IF(O17-N17=2,NETWORKDAYS(L17,M17,[1]Congés!$D$2:$D$160)-Q17-P17,IF(O17-N17=3,NETWORKDAYS(L17,EOMONTH(L17,2),[1]Congés!$D$2:$D$160)-Q17-P17))) -> 0 | S17: =IF(O17-N17<3,0,NETWORKDAYS(L17,M17,[1]Congés!$D$2:$D$160)-R17-Q17-P17) -> 0 | T17: =NETWORKDAYS(L17,M17,[1]Congés!C$2:C$160) -> 0 | U17: ATT 15 | W17: =IF(T17<3,"1) 1 à 2 jours",IF(T17<5,"2) 3 à 4 jours",IF(T17=5,"3) 5 jours",IF(T17<=10,"4) 6 à 10 jours",IF(T17>10,"5) plus de 10 jours"))))) -> 1) 1 à 2 jours | Z17: =M17-L17+1 -> 1
A18: 12/12 | B18: 0 Ne pas effacer cette ligne !! | C18: =VLOOKUP(A18,'[1]BDD RH'!$A$9:$W$453,16,FALSE) -> #N/A | D18: =VLOOKUP(A18,'[1]BDD RH'!$A$9:$W$453,4,FALSE) -> #N/A | E18: =VLOOKUP(A18,'[1]BDD RH'!$A$9:$W$453,3,FALSE) -> #N/A | F18: =DATEDIF((VLOOKUP(A18,'[1]BDD RH'!$A$2:$W$485,7,FALSE)),L18,"y") -> #N/A | G18: =IF(F18<=19,"<20",IF(F18<=24,"20-24",IF(F18<=29,"25-29",IF(F18<=34,"30-34",IF(F18<=39,"35-39",IF(F18<=44,"40-44",IF(F18<=49,"45-49",FALSE)))))))*OR(IF(F18<=54,"50-54",IF(F18<=59,"55-59",IF(F18<=64,60-64,IF(F18<=69,"65-69",IF(F18>=70,"70 et plus",FALSE)))))) -> #N/A | H18: =DATEDIF((VLOOKUP(A18,'[1]BDD RH'!$A$2:$W$485,11,FALSE)),L18,"y") -> #N/A | I18: =IF(H18<2,"<2",IF(H18<6,"2/5",IF(H18<11,"6/10",IF(H18<16,"11/15",IF(H18<21,"16/20",IF(H18<26,"21/25",IF(H18>25,"26 et plus",FALSE))))))) -> #N/A | K18: =IF($N$19:$N$585<=3,1,IF($N$19:$N$585<=6,2,IF($N$19:$N$585<=9,3,IF($N$19:$N$585>9,4,FALSE)))) -> #VALUE! | N18: 12 | O18: =MONTH(M18) -> 1 | P18: 0 | Q18: =IF(O18-N18=0,0,IF(O18-N18=1,NETWORKDAYS(L18,M18,[1]Congés!$D$2:$D$160)-P18,IF(O18-N18=2,NETWORKDAYS(L18,EOMONTH(L18,1),[1]Congés!$D$2:$D$160)-P18,IF(O18-N18=3,NETWORKDAYS(L18,EOMONTH(L18,1),[1]Congés!$D$2:$D$160)-P18)))) -> FALSE | R18: =IF(O18-N18<2,0,IF(O18-N18=2,NETWORKDAYS(L18,M18,[1]Congés!$D$2:$D$160)-Q18-P18,IF(O18-N18=3,NETWORKDAYS(L18,EOMONTH(L18,2),[1]Congés!$D$2:$D$160)-Q18-P18))) -> 0 | S18: =IF(O18-N18<3,0,NETWORKDAYS(L18,M18,[1]Congés!$D$2:$D$160)-R18-Q18-P18) -> 0 | T18: =NETWORKDAYS(L18,M18,[1]Congés!C$2:C$160) -> 0 | U18: Arrêt Maladie | W18: =IF(T18<3,"1) 1 à 2 jours",IF(T18<5,"2) 3 à 4 jours",IF(T18=5,"3) 5 jours",IF(T18<=10,"4) 6 à 10 jours",IF(T18>10,"5) plus de 10 jours"))))) -> 1) 1 à 2 jours | Z18: =M18-L18+1 -> 1
A19: 16737 | C19: =VLOOKUP(A19,'[1]BDD RH'!$A$9:$W$453,16,FALSE) -> Evercalf | D19: =VLOOKUP(A19,'[1]BDD RH'!$A$9:$W$453,4,FALSE) -> t | E19: =VLOOKUP(A19,'[1]BDD RH'!$A$9:$W$453,3,FALSE) -> F | F19: =DATEDIF((VLOOKUP(A19,'[1]BDD RH'!$A$2:$W$485,7,FALSE)),L19,"y") -> 41 | G19: =IF(F19<=20,"<=20",IF(F19<=30,"21/30",IF(F19<=40,"31/40",IF(F19<=50,"41/50",IF(F19<=60,"51/60",IF(F19>60,"61 et plus",FALSE)))))) -> 41/50 | H19: =DATEDIF((VLOOKUP(A19,'[1]BDD RH'!$A$2:$W$485,11,FALSE)),L19,"y") -> 9 | I19: =IF(H19<2,"<2",IF(H19<6,"2/5",IF(H19<11,"6/10",IF(H19<16,"11/15",IF(H19<21,"16/20",IF(H19<26,"21/25",IF(H19>25,"26 et plus",FALSE))))))) -> 6/10 | J19: ABA00 | K19: =IF($N$19:$N$585<=3,1,IF($N$19:$N$585<=6,2,IF($N$19:$N$585<=9,3,IF($N$19:$N$585>9,4,FALSE)))) -> 1 | L19: 42370 | M19: 42372 | N19: =MONTH(L19) -> 1 | O19: =MONTH(M19) -> 1 | P19: =IF(O19-N19=0,NETWORKDAYS(L19,M19,[1]Congés!$D$2:$D$26),NETWORKDAYS(L19,EOMONTH(L19,0),[1]Congés!$D$2:$D$26)) -> 1 | Q19: =IF(O19-N19=0,0,IF(O19-N19=1,NETWORKDAYS(L19,M19,[1]Congés!$D$2:$D$160)-P19,IF(O19-N19=2,NETWORKDAYS(L19,EOMONTH(L19,1),[1]Congés!$D$2:$D$160)-P19,IF(O19-N19=3,NETWORKDAYS(L19,EOMONTH(L19,1),[1]Congés!$D$2:$D$160)-P19)))) -> 0 | R19: =IF(O19-N19<2,0,IF(O19-N19=2,NETWORKDAYS(L19,M19,[1]Congés!$D$2:$D$160)-Q19-P19,IF(O19-N19=3,NETWORKDAYS(L19,EOMONTH(L19,2),[1]Congés!$D$2:$D$160)-Q19-P19))) -> 0 | S19: =IF(O19-N19<3,0,NETWORKDAYS(L19,M19,[1]Congés!$D$2:$D$160)-R19-Q19-P19) -> 0 | T19: =NETWORKDAYS(L19,M19,[1]Congés!C$2:C$160) -> 0 | U19: LM | V19: 42254 | W19: =IF(T19<3,"1) 1 à 2 jours",IF(T19<5,"2) 3 à 4 jours",IF(T19=5,"3) 5 jours",IF(T19<=10,"4) 6 à 10 jours",IF(T19>10,"5) plus de 10 jours"))))) -> 1) 1 à 2 jours | X19: vm faite | Y19: 42402 | Z19: =M19-L19+1 -> 3
A20: 16737 | C20: =VLOOKUP(A20,'[1]BDD RH'!$A$9:$W$453,16,FALSE) -> Evercalf | D20: =VLOOKUP(A20,'[1]BDD RH'!$A$9:$W$453,4,FALSE) -> t | E20: =VLOOKUP(A20,'[1]BDD RH'!$A$9:$W$453,3,FALSE) -> F | F20: =DATEDIF((VLOOKUP(A20,'[1]BDD RH'!$A$2:$W$485,7,FALSE)),L20,"y") -> 41 | G20: =IF(F20<=20,"<=20",IF(F20<=30,"21/30",IF(F20<=40,"31/40",IF(F20<=50,"41/50",IF(F20<=60,"51/60",IF(F20>60,"61 et plus",FALSE)))))) -> 41/50 | H20: =DATEDIF((VLOOKUP(A20,'[1]BDD RH'!$A$2:$W$485,11,FALSE)),L20,"y") -> 9 | I20: =IF(H20<2,"<2",IF(H20<6,"2/5",IF(H20<11,"6/10",IF(H20<16,"11/15",IF(H20<21,"16/20",IF(H20<26,"21/25",IF(H20>25,"26 et plus",FALSE))))))) -> 6/10 | K20: =IF($N$19:$N$585<=3,1,IF($N$19:$N$585<=6,2,IF($N$19:$N$585<=9,3,IF($N$19:$N$585>9,4,FALSE)))) -> 1 | L20: 42373 | M20: 42433 | N20: =MONTH(L20) -> 1 | O20: =MONTH(M20) -> 3 | P20: =IF(O20-N20=0,NETWORKDAYS(L20,M20,[1]Congés!$D$2:$D$26),NETWORKDAYS(L20,EOMONTH(L20,0),[1]Congés!$D$2:$D$26)) -> 20 | Q20: =IF(O20-N20=0,0,IF(O20-N20=1,NETWORKDAYS(L20,M20,[1]Congés!$D$2:$D$160)-P20,IF(O20-N20=2,NETWORKDAYS(L20,EOMONTH(L20,1),[1]Congés!$D$2:$D$160)-P20,IF(O20-N20=3,NETWORKDAYS(L20,EOMONTH(L20,1),[1]Congés!$D$2:$D$160)-P20)))) -> 21 | R20: =IF(O20-N20<2,0,IF(O20-N20=2,NETWORKDAYS(L20,M20,[1]Congés!$D$2:$D$160)-Q20-P20,IF(O20-N20=3,NETWORKDAYS(L20,EOMONTH(L20,2),[1]Congés!$D$2:$D$160)-Q20-P20))) -> 4 | S20: =IF(O20-N20<3,0,NETWORKDAYS(L20,M20,[1]Congés!$D$2:$D$160)-R20-Q20-P20) -> 0 | T20: =NETWORKDAYS(L20,M20,[1]Congés!C$2:C$160) -> 45 | U20: Mi-temps | V20: 42373 | W20: =IF(T20<3,"1) 1 à 2 jours",IF(T20<5,"2) 3 à 4 jours",IF(T20=5,"3) 5 jours",IF(T20<=10,"4) 6 à 10 jours",IF(T20>10,"5) plus de 10 jours"))))) -> 5) plus de 10 jours | Z20: =M20-L20+1 -> 61
A21: 16737 | C21: =VLOOKUP(A21,'[1]BDD RH'!$A$9:$W$453,16,FALSE) -> Evercalf | D21: =VLOOKUP(A21,'[1]BDD RH'!$A$9:$W$453,4,FALSE) -> t | E21: =VLOOKUP(A21,'[1]BDD RH'!$A$9:$W$453,3,FALSE) -> F | F21: =DATEDIF((VLOOKUP(A21,'[1]BDD RH'!$A$2:$W$485,7,FALSE)),L21,"y") -> 41 | G21: =IF(F21<=20,"<=20",IF(F21<=30,"21/30",IF(F21<=40,"31/40",IF(F21<=50,"41/50",IF(F21<=60,"51/60",IF(F21>60,"61 et plus",FALSE)))))) -> 41/50 | H21: =DATEDIF((VLOOKUP(A21,'[1]BDD RH'!$A$2:$W$485,11,FALSE)),L21,"y") -> 9 | I21: =IF(H21<2,"<2",IF(H21<6,"2/5",IF(H21<11,"6/10",IF(H21<16,"11/15",IF(H21<21,"16/20",IF(H21<26,"21/25",IF(H21>25,"26 et plus",FALSE))))))) -> 6/10 | K21: =IF($N$19:$N$585<=3,1,IF($N$19:$N$585<=6,2,IF($N$19:$N$585<=9,3,IF($N$19:$N$585>9,4,FALSE)))) -> 1 | L21: 42436 | M21: 42517 | N21: =MONTH(L21) -> 3 | O21: =MONTH(M21) -> 5 | P21: =IF(O21-N21=0,NETWORKDAYS(L21,M21,[1]Congés!$D$2:$D$26),NETWORKDAYS(L21,EOMONTH(L21,0),[1]Congés!$D$2:$D$26)) -> 19 | Q21: =IF(O21-N21=0,0,IF(O21-N21=1,NETWORKDAYS(L21,M21,[1]Congés!$D$2:$D$160)-P21,IF(O21-N21=2,NETWORKDAYS(L21,EOMONTH(L21,1),[1]Congés!$D$2:$D$160)-P21,IF(O21-N21=3,NETWORKDAYS(L21,EOMONTH(L21,1),[1]Congés!$D$2:$D$160)-P21)))) -> 21 | R21: =IF(O21-N21<2,0,IF(O21-N21=2,NETWORKDAYS(L21,M21,[1]Congés!$D$2:$D$160)-Q21-P21,IF(O21-N21=3,NETWORKDAYS(L21,EOMONTH(L21,2),[1]Congés!$D$2:$D$160)-Q21-P21))) -> 20 | S21: =IF(O21-N21<3,0,NETWORKDAYS(L21,M21,[1]Congés!$D$2:$D$160)-R21-Q21-P21) -> 0 | T21: =NETWORKDAYS(L21,M21,[1]Congés!C$2:C$160) -> 56 | U21: Mi-temps | W21: =IF(T21<3,"1) 1 à 2 jours",IF(T21<5,"2) 3 à 4 jours",IF(T21=5,"3) 5 jours",IF(T21<=10,"4) 6 à 10 jours",IF(T21>10,"5) plus de 10 jours"))))) -> 5) plus de 10 jours | X21: TPT Vm à prévoir | Z21: =M21-L21+1 -> 82
A22: 17354 | C22: =VLOOKUP(A22,'[1]BDD RH'!$A$9:$W$453,16,FALSE) -> Courchevel | D22: =VLOOKUP(A22,'[1]BDD RH'!$A$9:$W$453,4,FALSE) -> t | E22: =VLOOKUP(A22,'[1]BDD RH'!$A$9:$W$453,3,FALSE) -> F | F22: =DATEDIF((VLOOKUP(A22,'[1]BDD RH'!$A$2:$W$485,7,FALSE)),L22,"y") -> 29 | G22: =IF(F22<=20,"<=20",IF(F22<=30,"21/30",IF(F22<=40,"31/40",IF(F22<=50,"41/50",IF(F22<=60,"51/60",IF(F22>60,"61 et plus",FALSE)))))) -> 21/30 | H22: =DATEDIF((VLOOKUP(A22,'[1]BDD RH'!$A$2:$W$485,11,FALSE)),L22,"y") -> 8 | I22: =IF(H22<2,"<2",IF(H22<6,"2/5",IF(H22<11,"6/10",IF(H22<16,"11/15",IF(H22<21,"16/20",IF(H22<26,"21/25",IF(H22>25,"26 et plus",FALSE))))))) -> 6/10 | J22: ACE01 | K22: =IF($N$19:$N$585<=3,1,IF($N$19:$N$585<=6,2,IF($N$19:$N$585<=9,3,IF($N$19:$N$585>9,4,FALSE)))) -> 1 | L22: 42376 | M22: 42408 | N22: =MONTH(L22) -> 1 | O22: =MONTH(M22) -> 2 | P22: =IF(O22-N22=0,NETWORKDAYS(L22,M22,[1]Congés!$D$2:$D$26),NETWORKDAYS(L22,EOMONTH(L22,0),[1]Congés!$D$2:$D$26)) -> 17 | Q22: =IF(O22-N22=0,0,IF(O22-N22=1,NETWORKDAYS(L22,M22,[1]Congés!$D$2:$D$160)-P22,IF(O22-N22=2,NETWORKDAYS(L22,EOMONTH(L22,1),[1]Congés!$D$2:$D$160)-P22,IF(O22-N22=3,NETWORKDAYS(L22,EOMONTH(L22,1),[1]Congés!$D$2:$D$160)-P22)))) -> 6 | R22: =IF(O22-N22<2,0,IF(O22-N22=2,NETWORKDAYS(L22,M22,[1]Congés!$D$2:$D$160)-Q22-P22,IF(O22-N22=3,NETWORKDAYS(L22,EOMONTH(L22,2),[1]Congés!$D$2:$D$160)-Q22-P22))) -> 0 | S22: =IF(O22-N22<3,0,NETWORKDAYS(L22,M22,[1]Congés!$D$2:$D$160)-R22-Q22-P22) -> 0 | T22: =NETWORKDAYS(L22,M22,[1]Congés!C$2:C$160) -> 23 | U22: Arrêt Maladie | V22: 42376 | W22: =IF(T22<3,"1) 1 à 2 jours",IF(T22<5,"2) 3 à 4 jours",IF(T22=5,"3) 5 jours",IF(T22<=10,"4) 6 à 10 jours",IF(T22>10,"5) plus de 10 jours"))))) -> 5) plus de 10 jours | X22: prol | Z22: =M22-L22+1 -> 33
A23: 17354 | C23: =VLOOKUP(A23,'[1]BDD RH'!$A$9:$W$453,16,FALSE) -> Courchevel | D23: =VLOOKUP(A23,'[1]BDD RH'!$A$9:$W$453,4,FALSE) -> t | E23: =VLOOKUP(A23,'[1]BDD RH'!$A$9:$W$453,3,FALSE) -> F | F23: =DATEDIF((VLOOKUP(A23,'[1]BDD RH'!$A$2:$W$485,7,FALSE)),L23,"y") -> 29 | G23: =IF(F23<=20,"<=20",IF(F23<=30,"21/30",IF(F23<=40,"31/40",IF(F23<=50,"41/50",IF(F23<=60,"51/60",IF(F23>60,"61 et plus",FALSE)))))) -> 21/30 | H23: =DATEDIF((VLOOKUP(A23,'[1]BDD RH'!$A$2:$W$485,11,FALSE)),L23,"y") -> 8 | I23: =IF(H23<2,"<2",IF(H23<6,"2/5",IF(H23<11,"6/10",IF(H23<16,"11/15",IF(H23<21,"16/20",IF(H23<26,"21/25",IF(H23>25,"26 et plus",FALSE))))))) -> 6/10 | J23: ACE01 | K23: =IF($N$19:$N$585<=3,1,IF($N$19:$N$585<=6,2,IF($N$19:$N$585<=9,3,IF($N$19:$N$585>9,4,FALSE)))) -> 1 | L23: 42409 | M23: 42422 | N23: =MONTH(L23) -> 2 | O23: =MONTH(M23) -> 2 | P23: =IF(O23-N23=0,NETWORKDAYS(L23,M23,[1]Congés!$D$2:$D$26),NETWORKDAYS(L23,EOMONTH(L23,0),[1]Congés!$D$2:$D$26)) -> 10 | Q23: =IF(O23-N23=0,0,IF(O23-N23=1,NETWORKDAYS(L23,M23,[1]Congés!$D$2:$D$160)-P23,IF(O23-N23=2,NETWORKDAYS(L23,EOMONTH(L23,1),[1]Congés!$D$2:$D$160)-P23,IF(O23-N23=3,NETWORKDAYS(L23,EOMONTH(L23,1),[1]Congés!$D$2:$D$160)-P23)))) -> 0 | R23: =IF(O23-N23<2,0,IF(O23-N23=2,NETWORKDAYS(L23,M23,[1]Congés!$D$2:$D$160)-Q23-P23,IF(O23-N23=3,NETWORKDAYS(L23,EOMONTH(L23,2),[1]Congés!$D$2:$D$160)-Q23-P23))) -> 0 | S23: =IF(O23-N23<3,0,NETWORKDAYS(L23,M23,[1]Congés!$D$2:$D$160)-R23-Q23-P23) -> 0 | T23: =NETWORKDAYS(L23,M23,[1]Congés!C$2:C$160) -> 10 | U23: Arrêt Maladie | V23: 42376 | W23: =IF(T23<3,"1) 1 à 2 jours",IF(T23<5,"2) 3 à 4 jours",IF(T23=5,"3) 5 jours",IF(T23<=10,"4) 6 à 10 jours",IF(T23>10,"5) plus de 10 jours"))))) -> 4) 6 à 10 jours | X23: vm à prévoir | Z23: =M23-L23+1 -> 14
A24: 11205 | C24: =VLOOKUP(A24,'[1]BDD RH'!$A$9:$W$453,16,FALSE) -> Gulliver | D24: =VLOOKUP(A24,'[1]BDD RH'!$A$9:$W$453,4,FALSE) -> t | E24: =VLOOKUP(A24,'[1]BDD RH'!$A$9:$W$453,3,FALSE) -> F | F24: =DATEDIF((VLOOKUP(A24,'[1]BDD RH'!$A$2:$W$485,7,FALSE)),L24,"y") -> 32 | G24: =IF(F24<=20,"<=20",IF(F24<=30,"21/30",IF(F24<=40,"31/40",IF(F24<=50,"41/50",IF(F24<=60,"51/60",IF(F24>60,"61 et plus",FALSE)))))) -> 31/40 | H24: =DATEDIF((VLOOKUP(A24,'[1]BDD RH'!$A$2:$W$485,11,FALSE)),L24,"y") -> 13 | I24: =IF(H24<2,"<2",IF(H24<6,"2/5",IF(H24<11,"6/10",IF(H24<16,"11/15",IF(H24<21,"16/20",IF(H24<26,"21/25",IF(H24>25,"26 et plus",FALSE))))))) -> 11/15 | J24: ALD01 | K24: =IF($N$19:$N$585<=3,1,IF($N$19:$N$585<=6,2,IF($N$19:$N$585<=9,3,IF($N$19:$N$585>9,4,FALSE)))) -> 1 | L24: 42444 | M24: 42449 | N24: =MONTH(L24) -> 3 | O24: =MONTH(M24) -> 3 | P24: =IF(O24-N24=0,NETWORKDAYS(L24,M24,[1]Congés!$D$2:$D$26),NETWORKDAYS(L24,EOMONTH(L24,0),[1]Congés!$D$2:$D$26)) -> 4 | Q24: =IF(O24-N24=0,0,IF(O24-N24=1,NETWORKDAYS(L24,M24,[1]Congés!$D$2:$D$160)-P24,IF(O24-N24=2,NETWORKDAYS(L24,EOMONTH(L24,1),[1]Congés!$D$2:$D$160)-P24,IF(O24-N24=3,NETWORKDAYS(L24,EOMONTH(L24,1),[1]Congés!$D$2:$D$160)-P24)))) -> 0 | R24: =IF(O24-N24<2,0,IF(O24-N24=2,NETWORKDAYS(L24,M24,[1]Congés!$D$2:$D$160)-Q24-P24,IF(O24-N24=3,NETWORKDAYS(L24,EOMONTH(L24,2),[1]Congés!$D$2:$D$160)-Q24-P24))) -> 0 | S24: =IF(O24-N24<3,0,NETWORKDAYS(L24,M24,[1]Congés!$D$2:$D$160)-R24-Q24-P24) -> 0 | T24: =NETWORKDAYS(L24,M24,[1]Congés!C$2:C$160) -> 4 | U24: Arrêt Maladie | V24: 42444 | W24: =IF(T24<3,"1) 1 à 2 jours",IF(T24<5,"2) 3 à 4 jours",IF(T24=5,"3) 5 jours",IF(T24<=10,"4) 6 à 10 jours",IF(T24>10,"5) plus de 10 jours"))))) -> 2) 3 à 4 jours | X24: prol | Z24: =M24-L24+1 -> 6
A25: 11205 | C25: =VLOOKUP(A25,'[1]BDD RH'!$A$9:$W$453,16,FALSE) -> Gulliver | D25: =VLOOKUP(A25,'[1]BDD RH'!$A$9:$W$453,4,FALSE) -> t | E25: =VLOOKUP(A25,'[1]BDD RH'!$A$9:$W$453,3,FALSE) -> F | F25: =DATEDIF((VLOOKUP(A25,'[1]BDD RH'!$A$2:$W$485,7,FALSE)),L25,"y") -> 32 | G25: =IF(F25<=20,"<=20",IF(F25<=30,"21/30",IF(F25<=40,"31/40",IF(F25<=50,"41/50",IF(F25<=60,"51/60",IF(F25>60,"61 et plus",FALSE)))))) -> 31/40 | H25: =DATEDIF((VLOOKUP(A25,'[1]BDD RH'!$A$2:$W$485,11,FALSE)),L25,"y") -> 13 | I25: =IF(H25<2,"<2",IF(H25<6,"2/5",IF(H25<11,"6/10",IF(H25<16,"11/15",IF(H25<21,"16/20",IF(H25<26,"21/25",IF(H25>25,"26 et plus",FALSE))))))) -> 11/15 | K25: =IF($N$19:$N$585<=3,1,IF($N$19:$N$585<=6,2,IF($N$19:$N$585<=9,3,IF($N$19:$N$585>9,4,FALSE)))) -> 1 | L25: 42450 | M25: 42456 | N25: =MONTH(L25) -> 3 | O25: =MONTH(M25) -> 3 | P25: =IF(O25-N25=0,NETWORKDAYS(L25,M25,[1]Congés!$D$2:$D$26),NETWORKDAYS(L25,EOMONTH(L25,0),[1]Congés!$D$2:$D$26)) -> 5 | Q25: =IF(O25-N25=0,0,IF(O25-N25=1,NETWORKDAYS(L25,M25,[1]Congés!$D$2:$D$160)-P25,IF(O25-N25=2,NETWORKDAYS(L25,EOMONTH(L25,1),[1]Congés!$D$2:$D$160)-P25,IF(O25-N25=3,NETWORKDAYS(L25,EOMONTH(L25,1),[1]Congés!$D$2:$D$160)-P25)))) -> 0 | R25: =IF(O25-N25<2,0,IF(O25-N25=2,NETWORKDAYS(L25,M25,[1]Congés!$D$2:$D$160)-Q25-P25,IF(O25-N25=3,NETWORKDAYS(L25,EOMONTH(L25,2),[1]Congés!$D$2:$D$160)-Q25-P25))) -> 0 | S25: =IF(O25-N25<3,0,NETWORKDAYS(L25,M25,[1]Congés!$D$2:$D$160)-R25-Q25-P25) -> 0 | T25: =NETWORKDAYS(L25,M25,[1]Congés!C$2:C$160) -> 5 | U25: Arrêt Maladie | V25: 42444 | W25: =IF(T25<3,"1) 1 à 2 jours",IF(T25<5,"2) 3 à 4 jours",IF(T25=5,"3) 5 jours",IF(T25<=10,"4) 6 à 10 jours",IF(T25>10,"5) plus de 10 jours"))))) -> 3) 5 jours | X25: * | Z25: =M25-L25+1 -> 7
A26: 4300 | C26: =VLOOKUP(A26,'[1]BDD RH'!$A$9:$W$453,16,FALSE) -> GEODIS | D26: =VLOOKUP(A26,'[1]BDD RH'!$A$9:$W$453,4,FALSE) -> s | E26: =VLOOKUP(A26,'[1]BDD RH'!$A$9:$W$453,3,FALSE) -> F | F26: =DATEDIF((VLOOKUP(A26,'[1]BDD RH'!$A$2:$W$485,7,FALSE)),L26,"y") -> 46 | G26: =IF(F26<=20,"<=20",IF(F26<=30,"21/30",IF(F26<=40,"31/40",IF(F26<=50,"41/50",IF(F26<=60,"51/60",IF(F26>60,"61 et plus",FALSE)))))) -> 41/50 | H26: =DATEDIF((VLOOKUP(A26,'[1]BDD RH'!$A$2:$W$485,11,FALSE)),L26,"y") -> 24 | I26: =IF(H26<2,"<2",IF(H26<6,"2/5",IF(H26<11,"6/10",IF(H26<16,"11/15",IF(H26<21,"16/20",IF(H26<26,"21/25",IF(H26>25,"26 et plus",FALSE))))))) -> 21/25 | J26: ALM01 | K26: =IF($N$19:$N$585<=3,1,IF($N$19:$N$585<=6,2,IF($N$19:$N$585<=9,3,IF($N$19:$N$585>9,4,FALSE)))) -> 1 | L26: 42370 | M26: 42380 | N26: =MONTH(L26) -> 1 | O26: =MONTH(M26) -> 1 | P26: =IF(O26-N26=0,NETWORKDAYS(L26,M26,[1]Congés!$D$2:$D$26),NETWORKDAYS(L26,EOMONTH(L26,0),[1]Congés!$D$2:$D$26)) -> 7 | Q26: =IF(O26-N26=0,0,IF(O26-N26=1,NETWORKDAYS(L26,M26,[1]Congés!$D$2:$D$160)-P26,IF(O26-N26=2,NETWORKDAYS(L26,EOMONTH(L26,1),[1]Congés!$D$2:$D$160)-P26,IF(O26-N26=3,NETWORKDAYS(L26,EOMONTH(L26,1),[1]Congés!$D$2:$D$160)-P26)))) -> 0 | R26: =IF(O26-N26<2,0,IF(O26-N26=2,NETWORKDAYS(L26,M26,[1]Congés!$D$2:$D$160)-Q26-P26,IF(O26-N26=3,NETWORKDAYS(L26,EOMONTH(L26,2),[1]Congés!$D$2:$D$160)-Q26-P26))) -> 0 | S26: =IF(O26-N26<3,0,NETWORKDAYS(L26,M26,[1]Congés!$D$2:$D$160)-R26-Q26-P26) -> 0 | T26: =NETWORKDAYS(L26,M26,[1]Congés!C$2:C$160) -> 6 | U26: LM | V26: 42032 | W26: =IF(T26<3,"1) 1 à 2 jours",IF(T26<5,"2) 3 à 4 jours",IF(T26=5,"3) 5 jours",IF(T26<=10,"4) 6 à 10 jours",IF(T26>10,"5) plus de 10 jours"))))) -> 4) 6 à 10 jours | X26: prol | Z26: =M26-L26+1 -> 11
A27: 4300 | C27: =VLOOKUP(A27,'[1]BDD RH'!$A$9:$W$453,16,FALSE) -> GEODIS | D27: =VLOOKUP(A27,'[1]BDD RH'!$A$9:$W$453,4,FALSE) -> s | E27: =VLOOKUP(A27,'[1]BDD RH'!$A$9:$W$453,3,FALSE) -> F | F27: =DATEDIF((VLOOKUP(A27,'[1]BDD RH'!$A$2:$W$485,7,FALSE)),L27,"y") -> 46 | G27: =IF(F27<=20,"<=20",IF(F27<=30,"21/30",IF(F27<=40,"31/40",IF(F27<=50,"41/50",IF(F27<=60,"51/60",IF(F27>60,"61 et plus",FALSE)))))) -> 41/50 | H27: =DATEDIF((VLOOKUP(A27,'[1]BDD RH'!$A$2:$W$485,11,FALSE)),L27,"y") -> 24 | I27: =IF(H27<2,"<2",IF(H27<6,"2/5",IF(H27<11,"6/10",IF(H27<16,"11/15",IF(H27<21,"16/20",IF(H27<26,"21/25",IF(H27>25,"26 et plus",FALSE))))))) -> 21/25 | J27: ALM01 | K27: =IF($N$19:$N$585<=3,1,IF($N$19:$N$585<=6,2,IF($N$19:$N$585<=9,3,IF($N$19:$N$585>9,4,FALSE)))) -> 1 | L27: 42381 | M27: 42464 | N27: =MONTH(L27) -> 1 | O27: =MONTH(M27) -> 4 | P27: =IF(O27-N27=0,NETWORKDAYS(L27,M27,[1]Congés!$D$2:$D$26),NETWORKDAYS(L27,EOMONTH(L27,0),[1]Congés!$D$2:$D$26)) -> 14 | Q27: =IF(O27-N27=0,0,IF(O27-N27=1,NETWORKDAYS(L27,M27,[1]Congés!$D$2:$D$160)-P27,IF(O27-N27=2,NETWORKDAYS(L27,EOMONTH(L27,1),[1]Congés!$D$2:$D$160)-P27,IF(O27-N27=3,NETWORKDAYS(L27,EOMONTH(L27,1),[1]Congés!$D$2:$D$160)-P27)))) -> 21 | R27: =IF(O27-N27<2,0,IF(O27-N27=2,NETWORKDAYS(L27,M27,[1]Congés!$D$2:$D$160)-Q27-P27,IF(O27-N27=3,NETWORKDAYS(L27,EOMONTH(L27,2),[1]Congés!$D$2:$D$160)-Q27-P27))) -> 23 | S27: =IF(O27-N27<3,0,NETWORKDAYS(L27,M27,[1]Congés!$D$2:$D$160)-R27-Q27-P27) -> 2 | T27: =NETWORKDAYS(L27,M27,[1]Congés!C$2:C$160) -> 59 | U27: LM | V27: 42032 | W27: =IF(T27<3,"1) 1 à 2 jours",IF(T27<5,"2) 3 à 4 jours",IF(T27=5,"3) 5 jours",IF(T27<=10,"4) 6 à 10 jours",IF(T27>10,"5) plus de 10 jours"))))) -> 5) plus de 10 jours | X27: prol | Z27: =M27-L27+1 -> 84
A28: 4300 | C28: =VLOOKUP(A28,'[1]BDD RH'!$A$9:$W$453,16,FALSE) -> GEODIS | D28: =VLOOKUP(A28,'[1]BDD RH'!$A$9:$W$453,4,FALSE) -> s | E28: =VLOOKUP(A28,'[1]BDD RH'!$A$9:$W$453,3,FALSE) -> F | F28: =DATEDIF((VLOOKUP(A28,'[1]BDD RH'!$A$2:$W$485,7,FALSE)),L28,"y") -> 46 | G28: =IF(F28<=20,"<=20",IF(F28<=30,"21/30",IF(F28<=40,"31/40",IF(F28<=50,"41/50",IF(F28<=60,"51/60",IF(F28>60,"61 et plus",FALSE)))))) -> 41/50 | H28: =DATEDIF((VLOOKUP(A28,'[1]BDD RH'!$A$2:$W$485,11,FALSE)),L28,"y") -> 25 | I28: =IF(H28<2,"<2",IF(H28<6,"2/5",IF(H28<11,"6/10",IF(H28<16,"11/15",IF(H28<21,"16/20",IF(H28<26,"21/25",IF(H28>25,"26 et plus",FALSE))))))) -> 21/25 | J28: ALM01 | K28: =IF($N$19:$N$585<=3,1,IF($N$19:$N$585<=6,2,IF($N$19:$N$585<=9,3,IF($N$19:$N$585>9,4,FALSE)))) -> 2 | L28: 42465 | M28: 42496 | N28: =MONTH(L28) -> 4 | O28: =MONTH(M28) -> 5 | P28: =IF(O28-N28=0,NETWORKDAYS(L28,M28,[1]Congés!$D$2:$D$26),NETWORKDAYS(L28,EOMONTH(L28,0),[1]Congés!$D$2:$D$26)) -> 19 | Q28: =IF(O28-N28=0,0,IF(O28-N28=1,NETWORKDAYS(L28,M28,[1]Congés!$D$2:$D$160)-P28,IF(O28-N28=2,NETWORKDAYS(L28,EOMONTH(L28,1),[1]Congés!$D$2:$D$160)-P28,IF(O28-N28=3,NETWORKDAYS(L28,EOMONTH(L28,1),[1]Congés!$D$2:$D$160)-P28)))) -> 5 | R28: =IF(O28-N28<2,0,IF(O28-N28=2,NETWORKDAYS(L28,M28,[1]Congés!$D$2:$D$160)-Q28-P28,IF(O28-N28=3,NETWORKDAYS(L28,EOMONTH(L28,2),[1]Congés!$D$2:$D$160)-Q28-P28))) -> 0 | S28: =IF(O28-N28<3,0,NETWORKDAYS(L28,M28,[1]Congés!$D$2:$D$160)-R28-Q28-P28) -> 0 | T28: =NETWORKDAYS(L28,M28,[1]Congés!C$2:C$160) -> 22 | U28: LM | V28: 42032 | W28: =IF(T28<3,"1) 1 à 2 jours",IF(T28<5,"2) 3 à 4 jours",IF(T28=5,"3) 5 jours",IF(T28<=10,"4) 6 à 10 jours",IF(T28>10,"5) plus de 10 jours"))))) -> 5) plus de 10 jours | X28: prol | Z28: =M28-L28+1 -> 32
A29: 4300 | C29: =VLOOKUP(A29,'[1]BDD RH'!$A$9:$W$453,16,FALSE) -> GEODIS | D29: =VLOOKUP(A29,'[1]BDD RH'!$A$9:$W$453,4,FALSE) -> s | E29: =VLOOKUP(A29,'[1]BDD RH'!$A$9:$W$453,3,FALSE) -> F | F29: =DATEDIF((VLOOKUP(A29,'[1]BDD RH'!$A$2:$W$485,7,FALSE)),L29,"y") -> 46 | G29: =IF(F29<=20,"<=20",IF(F29<=30,"21/30",IF(F29<=40,"31/40",IF(F29<=50,"41/50",IF(F29<=60,"51/60",IF(F29>60,"61 et plus",FALSE)))))) -> 41/50 | H29: =DATEDIF((VLOOKUP(A29,'[1]BDD RH'!$A$2:$W$485,11,FALSE)),L29,"y") -> 25 | I29: =IF(H29<2,"<2",IF(H29<6,"2/5",IF(H29<11,"6/10",IF(H29<16,"11/15",IF(H29<21,"16/20",IF(H29<26,"21/25",IF(H29>25,"26 et plus",FALSE))))))) -> 21/25 | J29: ALM01 | K29: =IF($N$19:$N$585<=3,1,IF($N$19:$N$585<=6,2,IF($N$19:$N$585<=9,3,IF($N$19:$N$585>9,4,FALSE)))) -> 2 | L29: 42497 | M29: 42588 | N29: =MONTH(L29) -> 5 | O29: =MONTH(M29) -> 8 | P29: =IF(O29-N29=0,NETWORKDAYS(L29,M29,[1]Congés!$D$2:$D$26),NETWORKDAYS(L29,EOMONTH(L29,0),[1]Congés!$D$2:$D$26)) -> 17 | Q29: =IF(O29-N29=0,0,IF(O29-N29=1,NETWORKDAYS(L29,M29,[1]Congés!$D$2:$D$160)-P29,IF(O29-N29=2,NETWORKDAYS(L29,EOMONTH(L29,1),[1]Congés!$D$2:$D$160)-P29,IF(O29-N29=3,NETWORKDAYS(L29,EOMONTH(L29,1),[1]Congés!$D$2:$D$160)-P29)))) -> 22 | R29: =IF(O29-N29<2,0,IF(O29-N29=2,NETWORKDAYS(L29,M29,[1]Congés!$D$2:$D$160)-Q29-P29,IF(O29-N29=3,NETWORKDAYS(L29,EOMONTH(L29,2),[1]Congés!$D$2:$D$160)-Q29-P29))) -> 21 | S29: =IF(O29-N29<3,0,NETWORKDAYS(L29,M29,[1]Congés!$D$2:$D$160)-R29-Q29-P29) -> 5 | T29: =NETWORKDAYS(L29,M29,[1]Congés!C$2:C$160) -> 57 | U29: LM | V29: 42032 | W29: =IF(T29<3,"1) 1 à 2 jours",IF(T29<5,"2) 3 à 4 jours",IF(T29=5,"3) 5 jours",IF(T29<=10,"4) 6 à 10 jours",IF(T29>10,"5) plus de 10 jours"))))) -> 5) plus de 10 jours | X29: prol | Z29: =M29-L29+1 -> 92
A30: 4300 | C30: =VLOOKUP(A30,'[1]BDD RH'!$A$9:$W$453,16,FALSE) -> GEODIS | D30: =VLOOKUP(A30,'[1]BDD RH'!$A$9:$W$453,4,FALSE) -> s | E30: =VLOOKUP(A30,'[1]BDD RH'!$A$9:$W$453,3,FALSE) -> F | F30: =DATEDIF((VLOOKUP(A30,'[1]BDD RH'!$A$2:$W$485,7,FALSE)),L30,"y") -> 46 | G30: =IF(F30<=20,"<=20",IF(F30<=30,"21/30",IF(F30<=40,"31/40",IF(F30<=50,"41/50",IF(F30<=60,"51/60",IF(F30>60,"61 et plus",FALSE)))))) -> 41/50 | H30: =DATEDIF((VLOOKUP(A30,'[1]BDD RH'!$A$2:$W$485,11,FALSE)),L30,"y") -> 25 | I30: =IF(H30<2,"<2",IF(H30<6,"2/5",IF(H30<11,"6/10",IF(H30<16,"11/15",IF(H30<21,"16/20",IF(H30<26,"21/25",IF(H30>25,"26 et plus",FALSE))))))) -> 21/25 | J30: ALM01 | K30: =IF($N$19:$N$585<=3,1,IF($N$19:$N$585<=6,2,IF($N$19:$N$585<=9,3,IF($N$19:$N$585>9,4,FALSE)))) -> 3 | L30: 42589 | M30: 42617 | N30: =MONTH(L30) -> 8 | O30: =MONTH(M30) -> 9 | P30: =IF(O30-N30=0,NETWORKDAYS(L30,M30,[1]Congés!$D$2:$D$26),NETWORKDAYS(L30,EOMONTH(L30,0),[1]Congés!$D$2:$D$26)) -> 18 | Q30: =IF(O30-N30=0,0,IF(O30-N30=1,NETWORKDAYS(L30,M30,[1]Congés!$D$2:$D$160)-P30,IF(O30-N30=2,NETWORKDAYS(L30,EOMONTH(L30,1),[1]Congés!$D$2:$D$160)-P30,IF(O30-N30=3,NETWORKDAYS(L30,EOMONTH(L30,1),[1]Congés!$D$2:$D$160)-P30)))) -> 2 | R30: =IF(O30-N30<2,0,IF(O30-N30=2,NETWORKDAYS(L30,M30,[1]Congés!$D$2:$D$160)-Q30-P30,IF(O30-N30=3,NETWORKDAYS(L30,EOMONTH(L30,2),[1]Congés!$D$2:$D$160)-Q30-P30))) -> 0 | S30: =IF(O30-N30<3,0,NETWORKDAYS(L30,M30,[1]Congés!$D$2:$D$160)-R30-Q30-P30) -> 0 | T30: =NETWORKDAYS(L30,M30,[1]Congés!C$2:C$160) -> 10 | U30: LM | V30: 42032 | W30: =IF(T30<3,"1) 1 à 2 jours",IF(T30<5,"2) 3 à 4 jours",IF(T30=5,"3) 5 jours",IF(T30<=10,"4) 6 à 10 jours",IF(T30>10,"5) plus de 10 jours"))))) -> 4) 6 à 10 jours | X30: vm à prévoir | Z30: =M30-L30+1 -> 29
A31: 18326 | C31: =VLOOKUP(A31,'[1]BDD RH'!$A$9:$W$453,16,FALSE) -> LOG | D31: =VLOOKUP(A31,'[1]BDD RH'!$A$9:$W$453,4,FALSE) -> c | E31: =VLOOKUP(A31,'[1]BDD RH'!$A$9:$W$453,3,FALSE) -> H | F31: =DATEDIF((VLOOKUP(A31,'[1]BDD RH'!$A$2:$W$485,7,FALSE)),L31,"y") -> 37 | G31: =IF(F31<=20,"<=20",IF(F31<=30,"21/30",IF(F31<=40,"31/40",IF(F31<=50,"41/50",IF(F31<=60,"51/60",IF(F31>60,"61 et plus",FALSE)))))) -> 31/40 | H31: =DATEDIF((VLOOKUP(A31,'[1]BDD RH'!$A$2:$W$485,11,FALSE)),L31,"y") -> 7 | I31: =IF(H31<2,"<2",IF(H31<6,"2/5",IF(H31<11,"6/10",IF(H31<16,"11/15",IF(H31<21,"16/20",IF(H31<26,"21/25",IF(H31>25,"26 et plus",FALSE))))))) -> 6/10 | J31: AMT01 | K31: =IF($N$19:$N$585<=3,1,IF($N$19:$N$585<=6,2,IF($N$19:$N$585<=9,3,IF($N$19:$N$585>9,4,FALSE)))) -> 2 | L31: 42471 | M31: 42473 | N31: =MONTH(L31) -> 4 | O31: =MONTH(M31) -> 4 | P31: =IF(O31-N31=0,NETWORKDAYS(L31,M31,[1]Congés!$D$2:$D$26),NETWORKDAYS(L31,EOMONTH(L31,0),[1]Congés!$D$2:$D$26)) -> 3 | Q31: =IF(O31-N31=0,0,IF(O31-N31=1,NETWORKDAYS(L31,M31,[1]Congés!$D$2:$D$160)-P31,IF(O31-N31=2,NETWORKDAYS(L31,EOMONTH(L31,1),[1]Congés!$D$2:$D$160)-P31,IF(O31-N31=3,NETWORKDAYS(L31,EOMONTH(L31,1),[1]Congés!$D$2:$D$160)-P31)))) -> 0 | R31: =IF(O31-N31<2,0,IF(O31-N31=2,NETWORKDAYS(L31,M31,[1]Congés!$D$2:$D$160)-Q31-P31,IF(O31-N31=3,NETWORKDAYS(L31,EOMONTH(L31,2),[1]Congés!$D$2:$D$160)-Q31-P31))) -> 0 | S31: =IF(O31-N31<3,0,NETWORKDAYS(L31,M31,[1]Congés!$D$2:$D$160)-R31-Q31-P31) -> 0 | T31: =NETWORKDAYS(L31,M31,[1]Congés!C$2:C$160) -> 3 | U31: Arrêt Maladie | W31: =IF(T31<3,"1) 1 à 2 jours",IF(T31<5,"2) 3 à 4 jours",IF(T31=5,"3) 5 jours",IF(T31<=10,"4) 6 à 10 jours",IF(T31>10,"5) plus de 10 jours"))))) -> 2) 3 à 4 jours | X31: * | Z31: =M31-L31+1 -> 3
A32: 20944 | C32: =VLOOKUP(A32,'[1]BDD RH'!$A$9:$W$453,16,FALSE) -> Evercalf | D32: =VLOOKUP(A32,'[1]BDD RH'!$A$9:$W$453,4,FALSE) -> t | E32: =VLOOKUP(A32,'[1]BDD RH'!$A$9:$W$453,3,FALSE) -> F | F32: =DATEDIF((VLOOKUP(A32,'[1]BDD RH'!$A$2:$W$485,7,FALSE)),L32,"y") -> 25 | G32: =IF(F32<=20,"<=20",IF(F32<=30,"21/30",IF(F32<=40,"31/40",IF(F32<=50,"41/50",IF(F32<=60,"51/60",IF(F32>60,"61 et plus",FALSE)))))) -> 21/30 | H32: =DATEDIF((VLOOKUP(A32,'[1]BDD RH'!$A$2:$W$485,11,FALSE)),L32,"y") -> 4 | I32: =IF(H32<2,"<2",IF(H32<6,"2/5",IF(H32<11,"6/10",IF(H32<16,"11/15",IF(H32<21,"16/20",IF(H32<26,"21/25",IF(H32>25,"26 et plus",FALSE))))))) -> 2/5 | J32: AML01 | K32: =IF($N$19:$N$585<=3,1,IF($N$19:$N$585<=6,2,IF($N$19:$N$585<=9,3,IF($N$19:$N$585>9,4,FALSE)))) -> 1 | L32: 42381 | M32: 42382 | N32: =MONTH(L32) -> 1 | O32: =MONTH(M32) -> 1 | P32: =IF(O32-N32=0,NETWORKDAYS(L32,M32,[1]Congés!$D$2:$D$26),NETWORKDAYS(L32,EOMONTH(L32,0),[1]Congés!$D$2:$D$26)) -> 2 | Q32: =IF(O32-N32=0,0,IF(O32-N32=1,NETWORKDAYS(L32,M32,[1]Congés!$D$2:$D$160)-P32,IF(O32-N32=2,NETWORKDAYS(L32,EOMONTH(L32,1),[1]Congés!$D$2:$D$160)-P32,IF(O32-N32=3,NETWORKDAYS(L32,EOMONTH(L32,1),[1]Congés!$D$2:$D$160)-P32)))) -> 0 | R32: =IF(O32-N32<2,0,IF(O32-N32=2,NETWORKDAYS(L32,M32,[1]Congés!$D$2:$D$160)-Q32-P32,IF(O32-N32=3,NETWORKDAYS(L32,EOMONTH(L32,2),[1]Congés!$D$2:$D$160)-Q32-P32))) -> 0 | S32: =IF(O32-N32<3,0,NETWORKDAYS(L32,M32,[1]Congés!$D$2:$D$160)-R32-Q32-P32) -> 0 | T32: =NETWORKDAYS(L32,M32,[1]Congés!C$2:C$160) -> 2 | U32: Arrêt Maladie | V32: 42381 | W32: =IF(T32<3,"1) 1 à 2 jours",IF(T32<5,"2) 3 à 4 jours",IF(T32=5,"3) 5 jours",IF(T32<=10,"4) 6 à 10 jours",IF(T32>10,"5) plus de 10 jours"))))) -> 1) 1 à 2 jours | X32: prol | Z32: =M32-L32+1 -> 2
A33: 20944 | C33: =VLOOKUP(A33,'[1]BDD RH'!$A$9:$W$453,16,FALSE) -> Evercalf | D33: =VLOOKUP(A33,'[1]BDD RH'!$A$9:$W$453,4,FALSE) -> t | E33: =VLOOKUP(A33,'[1]BDD RH'!$A$9:$W$453,3,FALSE) -> F | F33: =DATEDIF((VLOOKUP(A33,'[1]BDD RH'!$A$2:$W$485,7,FALSE)),L33,"y") -> 25 | G33: =IF(F33<=20,"<=20",IF(F33<=30,"21/30",IF(F33<=40,"31/40",IF(F33<=50,"41/50",IF(F33<=60,"51/60",IF(F33>60,"61 et plus",FALSE)))))) -> 21/30 | H33: =DATEDIF((VLOOKUP(A33,'[1]BDD RH'!$A$2:$W$485,11,FALSE)),L33,"y") -> 4 | I33: =IF(H33<2,"<2",IF(H33<6,"2/5",IF(H33<11,"6/10",IF(H33<16,"11/15",IF(H33<21,"16/20",IF(H33<26,"21/25",IF(H33>25,"26 et plus",FALSE))))))) -> 2/5 | J33: AML01 | K33: =IF($N$19:$N$585<=3,1,IF($N$19:$N$585<=6,2,IF($N$19:$N$585<=9,3,IF($N$19:$N$585>9,4,FALSE)))) -> 1 | L33: 42383 | M33: 42384 | N33: =MONTH(L33) -> 1 | O33: =MONTH(M33) -> 1 | P33: =IF(O33-N33=0,NETWORKDAYS(L33,M33,[1]Congés!$D$2:$D$26),NETWORKDAYS(L33,EOMONTH(L33,0),[1]Congés!$D$2:$D$26)) -> 2 | Q33: =IF(O33-N33=0,0,IF(O33-N33=1,NETWORKDAYS(L33,M33,[1]Congés!$D$2:$D$160)-P33,IF(O33-N33=2,NETWORKDAYS(L33,EOMONTH(L33,1),[1]Congés!$D$2:$D$160)-P33,IF(O33-N33=3,NETWORKDAYS(L33,EOMONTH(L33,1),[1]Congés!$D$2:$D$160)-P33)))) -> 0 | R33: =IF(O33-N33<2,0,IF(O33-N33=2,NETWORKDAYS(L33,M33,[1]Congés!$D$2:$D$160)-Q33-P33,IF(O33-N33=3,NETWORKDAYS(L33,EOMONTH(L33,2),[1]Congés!$D$2:$D$160)-Q33-P33))) -> 0 | S33: =IF(O33-N33<3,0,NETWORKDAYS(L33,M33,[1]Congés!$D$2:$D$160)-R33-Q33-P33) -> 0 | T33: =NETWORKDAYS(L33,M33,[1]Congés!C$2:C$160) -> 2 | U33: Arrêt Maladie | V33: 42381 | W33: =IF(T33<3,"1) 1 à 2 jours",IF(T33<5,"2) 3 à 4 jours",IF(T33=5,"3) 5 jours",IF(T33<=10,"4) 6 à 10 jours",IF(T33>10,"5) plus de 10 jours"))))) -> 1) 1 à 2 jours | X33: * | Z33: =M33-L33+1 -> 2
A34: 20944 | C34: =VLOOKUP(A34,'[1]BDD RH'!$A$9:$W$453,16,FALSE) -> Evercalf | D34: =VLOOKUP(A34,'[1]BDD RH'!$A$9:$W$453,4,FALSE) -> t | E34: =VLOOKUP(A34,'[1]BDD RH'!$A$9:$W$453,3,FALSE) -> F | F34: =DATEDIF((VLOOKUP(A34,'[1]BDD RH'!$A$2:$W$485,7,FALSE)),L34,"y") -> 26 | G34: =IF(F34<=20,"<=20",IF(F34<=30,"21/30",IF(F34<=40,"31/40",IF(F34<=50,"41/50",IF(F34<=60,"51/60",IF(F34>60,"61 et plus",FALSE)))))) -> 21/30 | H34: =DATEDIF((VLOOKUP(A34,'[1]BDD RH'!$A$2:$W$485,11,FALSE)),L34,"y") -> 4 | I34: =IF(H34<2,"<2",IF(H34<6,"2/5",IF(H34<11,"6/10",IF(H34<16,"11/15",IF(H34<21,"16/20",IF(H34<26,"21/25",IF(H34>25,"26 et plus",FALSE))))))) -> 2/5 | J34: AML02 | K34: =IF($N$19:$N$585<=3,1,IF($N$19:$N$585<=6,2,IF($N$19:$N$585<=9,3,IF($N$19:$N$585>9,4,FALSE)))) -> 1 | L34: 42450 | M34: 42451 | N34: =MONTH(L34) -> 3 | O34: =MONTH(M34) -> 3 | P34: =IF(O34-N34=0,NETWORKDAYS(L34,M34,[1]Congés!$D$2:$D$26),NETWORKDAYS(L34,EOMONTH(L34,0),[1]Congés!$D$2:$D$26)) -> 2 | Q34: =IF(O34-N34=0,0,IF(O34-N34=1,NETWORKDAYS(L34,M34,[1]Congés!$D$2:$D$160)-P34,IF(O34-N34=2,NETWORKDAYS(L34,EOMONTH(L34,1),[1]Congés!$D$2:$D$160)-P34,IF(O34-N34=3,NETWORKDAYS(L34,EOMONTH(L34,1),[1]Congés!$D$2:$D$160)-P34)))) -> 0 | R34: =IF(O34-N34<2,0,IF(O34-N34=2,NETWORKDAYS(L34,M34,[1]Congés!$D$2:$D$160)-Q34-P34,IF(O34-N34=3,NETWORKDAYS(L34,EOMONTH(L34,2),[1]Congés!$D$2:$D$160)-Q34-P34))) -> 0 | S34: =IF(O34-N34<3,0,NETWORKDAYS(L34,M34,[1]Congés!$D$2:$D$160)-R34-Q34-P34) -> 0 | T34: =NETWORKDAYS(L34,M34,[1]Congés!C$2:C$160) -> 2 | U34: Arrêt Maladie | V34: 42450 | W34: =IF(T34<3,"1) 1 à 2 jours",IF(T34<5,"2) 3 à 4 jours",IF(T34=5,"3) 5 jours",IF(T34<=10,"4) 6 à 10 jours",IF(T34>10,"5) plus de 10 jours"))))) -> 1) 1 à 2 jours | X34: prol | Z34: =M34-L34+1 -> 2
A35: 20944 | C35: =VLOOKUP(A35,'[1]BDD RH'!$A$9:$W$453,16,FALSE) -> Evercalf | D35: =VLOOKUP(A35,'[1]BDD RH'!$A$9:$W$453,4,FALSE) -> t | E35: =VLOOKUP(A35,'[1]BDD RH'!$A$9:$W$453,3,FALSE) -> F | F35: =DATEDIF((VLOOKUP(A35,'[1]BDD RH'!$A$2:$W$485,7,FALSE)),L35,"y") -> 26 | G35: =IF(F35<=20,"<=20",IF(F35<=30,"21/30",IF(F35<=40,"31/40",IF(F35<=50,"41/50",IF(F35<=60,"51/60",IF(F35>60,"61 et plus",FALSE)))))) -> 21/30 | H35: =DATEDIF((VLOOKUP(A35,'[1]BDD RH'!$A$2:$W$485,11,FALSE)),L35,"y") -> 4 | I35: =IF(H35<2,"<2",IF(H35<6,"2/5",IF(H35<11,"6/10",IF(H35<16,"11/15",IF(H35<21,"16/20",IF(H35<26,"21/25",IF(H35>25,"26 et plus",FALSE))))))) -> 2/5 | J35: AML02 | K35: =IF($N$19:$N$585<=3,1,IF($N$19:$N$585<=6,2,IF($N$19:$N$585<=9,3,IF($N$19:$N$585>9,4,FALSE)))) -> 1 | L35: 42452 | M35: 42454 | N35: =MONTH(L35) -> 3 | O35: =MONTH(M35) -> 3 | P35: =IF(O35-N35=0,NETWORKDAYS(L35,M35,[1]Congés!$D$2:$D$26),NETWORKDAYS(L35,EOMONTH(L35,0),[1]Congés!$D$2:$D$26)) -> 3 | Q35: =IF(O35-N35=0,0,IF(O35-N35=1,NETWORKDAYS(L35,M35,[1]Congés!$D$2:$D$160)-P35,IF(O35-N35=2,NETWORKDAYS(L35,EOMONTH(L35,1),[1]Congés!$D$2:$D$160)-P35,IF(O35-N35=3,NETWORKDAYS(L35,EOMONTH(L35,1),[1]Congés!$D$2:$D$160)-P35)))) -> 0 | R35: =IF(O35-N35<2,0,IF(O35-N35=2,NETWORKDAYS(L35,M35,[1]Congés!$D$2:$D$160)-Q35-P35,IF(O35-N35=3,NETWORKDAYS(L35,EOMONTH(L35,2),[1]Congés!$D$2:$D$160)-Q35-P35))) -> 0 | S35: =IF(O35-N35<3,0,NETWORKDAYS(L35,M35,[1]Congés!$D$2:$D$160)-R35-Q35-P35) -> 0 | T35: =NETWORKDAYS(L35,M35,[1]Congés!C$2:C$160) -> 3 | U35: Arrêt Maladie | V35: 42450 | W35: =IF(T35<3,"1) 1 à 2 jours",IF(T35<5,"2) 3 à 4 jours",IF(T35=5,"3) 5 jours",IF(T35<=10,"4) 6 à 10 jours",IF(T35>10,"5) plus de 10 jours"))))) -> 2) 3 à 4 jours | X35: * | Z35: =M35-L35+1 -> 3
A36: 16614 | C36: =VLOOKUP(A36,'[1]BDD RH'!$A$9:$W$453,16,FALSE) -> Courchevel | D36: =VLOOKUP(A36,'[1]BDD RH'!$A$9:$W$453,4,FALSE) -> t | E36: =VLOOKUP(A36,'[1]BDD RH'!$A$9:$W$453,3,FALSE) -> F | F36: =DATEDIF((VLOOKUP(A36,'[1]BDD RH'!$A$2:$W$485,7,FALSE)),L36,"y") -> 41 | G36: =IF(F36<=20,"<=20",IF(F36<=30,"21/30",IF(F36<=40,"31/40",IF(F36<=50,"41/50",IF(F36<=60,"51/60",IF(F36>60,"61 et plus",FALSE)))))) -> 41/50 | H36: =DATEDIF((VLOOKUP(A36,'[1]BDD RH'!$A$2:$W$485,11,FALSE)),L36,"y") -> 9 | I36: =IF(H36<2,"<2",IF(H36<6,"2/5",IF(H36<11,"6/10",IF(H36<16,"11/15",IF(H36<21,"16/20",IF(H36<26,"21/25",IF(H36>25,"26 et plus",FALSE))))))) -> 6/10 | J36: ABL01 | K36: =IF($N$19:$N$585<=3,1,IF($N$19:$N$585<=6,2,IF($N$19:$N$585<=9,3,IF($N$19:$N$585>9,4,FALSE)))) -> 1 | L36: 42374 | M36: 42375 | N36: =MONTH(L36) -> 1 | O36: =MONTH(M36) -> 1 | P36: =IF(O36-N36=0,NETWORKDAYS(L36,M36,[1]Congés!$D$2:$D$26),NETWORKDAYS(L36,EOMONTH(L36,0),[1]Congés!$D$2:$D$26)) -> 2 | Q36: =IF(O36-N36=0,0,IF(O36-N36=1,NETWORKDAYS(L36,M36,[1]Congés!$D$2:$D$160)-P36,IF(O36-N36=2,NETWORKDAYS(L36,EOMONTH(L36,1),[1]Congés!$D$2:$D$160)-P36,IF(O36-N36=3,NETWORKDAYS(L36,EOMONTH(L36,1),[1]Congés!$D$2:$D$160)-P36)))) -> 0 | R36: =IF(O36-N36<2,0,IF(O36-N36=2,NETWORKDAYS(L36,M36,[1]Congés!$D$2:$D$160)-Q36-P36,IF(O36-N36=3,NETWORKDAYS(L36,EOMONTH(L36,2),[1]Congés!$D$2:$D$160)-Q36-P36))) -> 0 | S36: =IF(O36-N36<3,0,NETWORKDAYS(L36,M36,[1]Congés!$D$2:$D$160)-R36-Q36-P36) -> 0 | T36: =NETWORKDAYS(L36,M36,[1]Congés!C$2:C$160) -> 2 | U36: Arrêt Maladie | W36: =IF(T36<3,"1) 1 à 2 jours",IF(T36<5,"2) 3 à 4 jours",IF(T36=5,"3) 5 jours",IF(T36<=10,"4) 6 à 10 jours",IF(T36>10,"5) plus de 10 jours"))))) -> 1) 1 à 2 jours | X36: * | Z36: =M36-L36+1 -> 2
A37: 16614 | C37: =VLOOKUP(A37,'[1]BDD RH'!$A$9:$W$453,16,FALSE) -> Courchevel | D37: =VLOOKUP(A37,'[1]BDD RH'!$A$9:$W$453,4,FALSE) -> t | E37: =VLOOKUP(A37,'[1]BDD RH'!$A$9:$W$453,3,FALSE) -> F | F37: =DATEDIF((VLOOKUP(A37,'[1]BDD RH'!$A$2:$W$485,7,FALSE)),L37,"y") -> 41 | G37: =IF(F37<=20,"<=20",IF(F37<=30,"21/30",IF(F37<=40,"31/40",IF(F37<=50,"41/50",IF(F37<=60,"51/60",IF(F37>60,"61 et plus",FALSE)))))) -> 41/50 | H37: =DATEDIF((VLOOKUP(A37,'[1]BDD RH'!$A$2:$W$485,11,FALSE)),L37,"y") -> 10 | I37: =IF(H37<2,"<2",IF(H37<6,"2/5",IF(H37<11,"6/10",IF(H37<16,"11/15",IF(H37<21,"16/20",IF(H37<26,"21/25",IF(H37>25,"26 et plus",FALSE))))))) -> 6/10 | J37: ABl02 | K37: =IF($N$19:$N$585<=3,1,IF($N$19:$N$585<=6,2,IF($N$19:$N$585<=9,3,IF($N$19:$N$585>9,4,FALSE)))) -> 1 | L37: 42450 | M37: 42451 | N37: =MONTH(L37) -> 3 | O37: =MONTH(M37) -> 3 | P37: =IF(O37-N37=0,NETWORKDAYS(L37,M37,[1]Congés!$D$2:$D$26),NETWORKDAYS(L37,EOMONTH(L37,0),[1]Congés!$D$2:$D$26)) -> 2 | Q37: =IF(O37-N37=0,0,IF(O37-N37=1,NETWORKDAYS(L37,M37,[1]Congés!$D$2:$D$160)-P37,IF(O37-N37=2,NETWORKDAYS(L37,EOMONTH(L37,1),[1]Congés!$D$2:$D$160)-P37,IF(O37-N37=3,NETWORKDAYS(L37,EOMONTH(L37,1),[1]Congés!$D$2:$D$160)-P37)))) -> 0 | R37: =IF(O37-N37<2,0,IF(O37-N37=2,NETWORKDAYS(L37,M37,[1]Congés!$D$2:$D$160)-Q37-P37,IF(O37-N37=3,NETWORKDAYS(L37,EOMONTH(L37,2),[1]Congés!$D$2:$D$160)-Q37-P37))) -> 0 | S37: =IF(O37-N37<3,0,NETWORKDAYS(L37,M37,[1]Congés!$D$2:$D$160)-R37-Q37-P37) -> 0 | T37: =NETWORKDAYS(L37,M37,[1]Congés!C$2:C$160) -> 2 | U37: Arrêt Maladie | W37: =IF(T37<3,"1) 1 à 2 jours",IF(T37<5,"2) 3 à 4 jours",IF(T37=5,"3) 5 jours",IF(T37<=10,"4) 6 à 10 jours",IF(T37>10,"5) plus de 10 jours"))))) -> 1) 1 à 2 jours | X37: * | Z37: =M37-L37+1 -> 2
A38: 81189 | C38: =VLOOKUP(A38,'[1]BDD RH'!$A$9:$W$453,16,FALSE) -> Evercalf | D38: =VLOOKUP(A38,'[1]BDD RH'!$A$9:$W$453,4,FALSE) -> t | E38: =VLOOKUP(A38,'[1]BDD RH'!$A$9:$W$453,3,FALSE) -> F | F38: =DATEDIF((VLOOKUP(A38,'[1]BDD RH'!$A$2:$W$485,7,FALSE)),L38,"y") -> 29 | G38: =IF(F38<=20,"<=20",IF(F38<=30,"21/30",IF(F38<=40,"31/40",IF(F38<=50,"41/50",IF(F38<=60,"51/60",IF(F38>60,"61 et plus",FALSE)))))) -> 21/30 | H38: =DATEDIF((VLOOKUP(A38,'[1]BDD RH'!$A$2:$W$485,11,FALSE)),L38,"y") -> 3 | I38: =IF(H38<2,"<2",IF(H38<6,"2/5",IF(H38<11,"6/10",IF(H38<16,"11/15",IF(H38<21,"16/20",IF(H38<26,"21/25",IF(H38>25,"26 et plus",FALSE))))))) -> 2/5 | J38: ARS01 | K38: =IF($N$19:$N$585<=3,1,IF($N$19:$N$585<=6,2,IF($N$19:$N$585<=9,3,IF($N$19:$N$585>9,4,FALSE)))) -> 1 | L38: 42410 | M38: 42411 | N38: =MONTH(L38) -> 2 | O38: =MONTH(M38) -> 2 | P38: =IF(O38-N38=0,NETWORKDAYS(L38,M38,[1]Congés!$D$2:$D$26),NETWORKDAYS(L38,EOMONTH(L38,0),[1]Congés!$D$2:$D$26)) -> 2 | Q38: =IF(O38-N38=0,0,IF(O38-N38=1,NETWORKDAYS(L38,M38,[1]Congés!$D$2:$D$160)-P38,IF(O38-N38=2,NETWORKDAYS(L38,EOMONTH(L38,1),[1]Congés!$D$2:$D$160)-P38,IF(O38-N38=3,NETWORKDAYS(L38,EOMONTH(L38,1),[1]Congés!$D$2:$D$160)-P38)))) -> 0 | R38: =IF(O38-N38<2,0,IF(O38-N38=2,NETWORKDAYS(L38,M38,[1]Congés!$D$2:$D$160)-Q38-P38,IF(O38-N38=3,NETWORKDAYS(L38,EOMONTH(L38,2),[1]Congés!$D$2:$D$160)-Q38-P38))) -> 0 | S38: =IF(O38-N38<3,0,NETWORKDAYS(L38,M38,[1]Congés!$D$2:$D$160)-R38-Q38-P38) -> 0 | T38: =NETWORKDAYS(L38,M38,[1]Congés!C$2:C$160) -> 2 | U38: Arrêt Maladie | V38: 42410 | W38: =IF(T38<3,"1) 1 à 2 jours",IF(T38<5,"2) 3 à 4 jours",IF(T38=5,"3) 5 jours",IF(T38<=10,"4) 6 à 10 jours",IF(T38>10,"5) plus de 10 jours"))))) -> 1) 1 à 2 jours | X38: prol | Z38: =M38-L38+1 -> 2
A39: 81189 | C39: =VLOOKUP(A39,'[1]BDD RH'!$A$9:$W$453,16,FALSE) -> Evercalf | D39: =VLOOKUP(A39,'[1]BDD RH'!$A$9:$W$453,4,FALSE) -> t | E39: =VLOOKUP(A39,'[1]BDD RH'!$A$9:$W$453,3,FALSE) -> F | F39: =DATEDIF((VLOOKUP(A39,'[1]BDD RH'!$A$2:$W$485,7,FALSE)),L39,"y") -> 29 | G39: =IF(F39<=20,"<=20",IF(F39<=30,"21/30",IF(F39<=40,"31/40",IF(F39<=50,"41/50",IF(F39<=60,"51/60",IF(F39>60,"61 et plus",FALSE)))))) -> 21/30 | H39: =DATEDIF((VLOOKUP(A39,'[1]BDD RH'!$A$2:$W$485,11,FALSE)),L39,"y") -> 3 | I39: =IF(H39<2,"<2",IF(H39<6,"2/5",IF(H39<11,"6/10",IF(H39<16,"11/15",IF(H39<21,"16/20",IF(H39<26,"21/25",IF(H39>25,"26 et plus",FALSE))))))) -> 2/5 | J39: ARS01 | K39: =IF($N$19:$N$585<=3,1,IF($N$19:$N$585<=6,2,IF($N$19:$N$585<=9,3,IF($N$19:$N$585>9,4,FALSE)))) -> 1 | L39: 42412 | M39: 42412 | N39: =MONTH(L39) -> 2 | O39: =MONTH(M39) -> 2 | P39: =IF(O39-N39=0,NETWORKDAYS(L39,M39,[1]Congés!$D$2:$D$26),NETWORKDAYS(L39,EOMONTH(L39,0),[1]Congés!$D$2:$D$26)) -> 1 | Q39: =IF(O39-N39=0,0,IF(O39-N39=1,NETWORKDAYS(L39,M39,[1]Congés!$D$2:$D$160)-P39,IF(O39-N39=2,NETWORKDAYS(L39,EOMONTH(L39,1),[1]Congés!$D$2:$D$160)-P39,IF(O39-N39=3,NETWORKDAYS(L39,EOMONTH(L39,1),[1]Congés!$D$2:$D$160)-P39)))) -> 0 | R39: =IF(O39-N39<2,0,IF(O39-N39=2,NETWORKDAYS(L39,M39,[1]Congés!$D$2:$D$160)-Q39-P39,IF(O39-N39=3,NETWORKDAYS(L39,EOMONTH(L39,2),[1]Congés!$D$2:$D$160)-Q39-P39))) -> 0 | S39: =IF(O39-N39<3,0,NETWORKDAYS(L39,M39,[1]Congés!$D$2:$D$160)-R39-Q39-P39) -> 0 | T39: =NETWORKDAYS(L39,M39,[1]Congés!C$2:C$160) -> 1 | U39: Arrêt Maladie | V39: 42410 | W39: =IF(T39<3,"1) 1 à 2 jours",IF(T39<5,"2) 3 à 4 jours",IF(T39=5,"3) 5 jours",IF(T39<=10,"4) 6 à 10 jours",IF(T39>10,"5) plus de 10 jours"))))) -> 1) 1 à 2 jours | X39: prol | Z39: =M39-L39+1 -> 1
